{"text_format":"1","workbook":"xlsx","n_sheets":12,"sheets":["A - Introduction","B - Detailed instructions","C - Documentation","1 - Application","2 - Schedule A","3 - Schedule A worksheet","4 - Payroll reduction","5 - FTE reduction","6 - Input sheet - Employee data","7 - Input sheet - Other Forgiva","7 - Forgiveness estimate-check","3 - FTE Analysis"],"not_rendered":{"charts":0,"images":2,"macros":1,"external_links":0,"defined_names":12,"comments":0,"pivot_tables":0},"unopened":[],"bounds":{"document_bytes":16777216,"sheet_cells":100000,"rows_first":2000,"rows_last":500,"rows_between":2000,"halvings":0,"cell_chars":16384,"cell_head_chars":4096},"cells_cut":0,"cells_raw":0,"read":"whole","date_system":"1900"}

{"sheet":"A - Introduction","index":0,"n_rows":41,"n_cols":2,"rows_kept":41,"cut":false,"hidden":false,"merged":[]}
["Paycheck Protection Program                                                                                              Sasserath & Zoraian, LLP "]
["Forgiveness Calculation - Introduction                                                                            (631) 368-3110"]
["                                                                                                                                                          www.sz-cpas.com"]
[]
[]
[]
["In response to the economic impact of the COVID-19 pandemic, there have been several bills passed in order to assist"]
["small businesses, primarily the Coronavirus Aid, Relief and Economic Security (CARES) Act.  The CARES Act introduced a"]
["a loan program available to small businesses called the Paycheck Protection Program, where businesses receive loans"]
["and in turn receive a benefit for retaining employees in form of possible forgiveness of the loans."]
[]
["This loan is technically an SBA 7(a) loan; however, commercial banks will be the front lines in terms of originating these"]
["loans.  On the next worksheet is a listing of information you will need in order to estimate the amount of forgiveness that can be expected."]
["For questions about this workbook and the applicability of these loans to your business, please call us at (631) 368-3110. For complimentary "]
["guidance on any legal inquiries about the impact of the COVID-19 pandemic on your business, please call our friends at Campolo,"]
["Middleton & McCormick, LLP, who have set up a hotline for the business community: (631) 738-6781 or coronarelief@cmmllp.com."]
[]
["The purpose of this workbook is to assist with the forgiveness calculation of the amount of the Paycheck Protection Program Loan"]
["for a non-seasonal applicant (the \"Loan\").  Once Companies have been approved and funded through the program, the next step is "]
["to project the anticipated loan forgiveness and how the decisions to retain, rehire, or reduce full-time equivalents (\"FTE's\") or payroll"]
["impacts this calculation."]
[]
["Before proceeding, please be aware that authoritative guidance related to the CARES Act,  the Paycheck Protection Program (\"PPP\"),"]
["and the related calculations surrounding the loan forgiveness is constantly being updated.  While the information contained within this calculator "]
["is periodically updated, no guarantee is given that the information provided in this workbook is correct, complete and up-to-date."]
[]
["On the following worksheets, please note the assumptions that are made in the calculations.  These assumptions, along with the "]
["calculations put forth on this spreadsheet are subject to change as additional guidance on the PPP is released."]
[]
[]
["This workbook is provided by Sasserath & Zoraian, LLP and is intended solely for general information and educational purposes.  It is"]
["not intended in any way as financial, securities, insurance, tax or legal advice or services, or as a solicitation for any financial, securities,"]
["insurance, tax or legal advice or services, or as a solicitation for any financial, securities, insurance, tax or legal product or service.  Please"]
["consult with your financial, securities, insurance, tax and/or legal advisors for advice regarding your specific circumstances.  The "]
["calculations herein are estimates based on our interpretation of the CARES Act and subsequent guidance from authoritative sources."]
[]
["If you have any questions on this spreadsheet tool, please feel free to contact us:"]
[]
[null,"Alan Sasserath (alan@sz-cpas.com)"]
[null,"George Batas (georgeb@sz-cpas.com)"]
[null,"Fred Rook (fredr@sz-cpas.com)"]

{"sheet":"B - Detailed instructions","index":1,"n_rows":61,"n_cols":2,"rows_kept":61,"cut":false,"hidden":false,"merged":[]}
["Paycheck Protection Program                                                                                           Sasserath & Zoraian, LLP "]
["Forgiveness Calculation - Detailed Instructions                                                             (631) 368-3110"]
["                                                                                                                                               www.sz-cpas.com"]
[]
[]
[]
["The purpose of this workbook is to assist with the forgiveness calculation of the amount of the Paycheck Protection Program Loan"]
["for a non-seasonal applicant (the \"Loan\").  Once Companies have been approved and funded through the program, the next step is "]
["to project the anticipated loan forgiveness and how the decisions to retain, rehire, or reduce FTE's or payroll impacts "]
["this calculation.  This tool can be used to project the forgiveness amount under the Loan, broken down in several steps, as follows:"]
[]
["Tab 1 Application","The tab represents the forgiveness application released by the SBA. All the information flows through from"]
[null,"the other tabs. There is no data input required for this tab"]
[]
["Tab 2 Schedule A","This tab represents Schedule A attachment to the forgiveness application released by the SBA."]
[null,"There is no data input required for this tab."]
[]
["Tab 3 Schedule A Worksheet","This tab represents the worksheet to complete information on Schedule A. Anytime you update information on "]
[null,"any of the other tabs, you will need to click the yellow button at the top of this tab. This will automatically "]
[null,"recalculate the numbers to make sure everything flows through accordingly to Tabs 1 & 2"]
[]
["Tab 4 Payroll Reduction","This tab will calculate the necessary reduction in the total forgiveness amount based on the reduction in employees'"]
[null,"salaries and wages. This tab will automatically calculate based on the data entered on Tab 6"]
[]
["Tab 5 FTE Reduction","This tab will calculate the necessary reduction in the total forgiveness amount based on the reduction in full-time"]
[null,"equivalents. This tab will automatically calculate based on the data entered on Tab 6"]
[]
["Tab 6 Input Sheet - ","This tab will be used to enter all information for all employees. The information from this tab will automatically"]
["    Employee Data","transfer to the appropriate tabs. The data needed to be input in this tab includes:"]
[null,"1. Employee name and identifier number"]
[null,"2. Whether the employee earned over $100,000 in 2019"]
[null,"3. Type of employee - Salaried-Other, Salaried-No Reduction, and Hourly. If a salaried employee had a reduction"]
[null,"  a. Salaried Other - salaried employee that does not fit under the Salaried-No Reduction Category"]
[null,"  b. Salaried No Reduction - salaried employee that never had a salary reduction during their tenure with the company and has been with the company since 2/15/19"]
[null,"  c. Hourly - an employee paid by the hour"]
[null,"4. Not employed in 2020 - yes or no dropdown. This will black out certain boxes depending on the information"]
[null,"    needed for that employee .  You will still need to choose yes or no for each period in the FTE data section."]
[null,"5. Pay period type - weekly, bi-weekly, semi-monthly, and monthly"]
[null,"6. FTE Simplified Calculation - if you enter yes here, all part-time employees will count as 0.5 if they worked less"]
[null,"    than 40 hours per week"]
[null,"7. Row 24 includes a dropdown on whether an employee's reduction in salary was eliminated by 6/30/20, employee"]
[null,"    was fired for cause, employee voluntarily resigned, or employee voluntarily requested a reduction in hours"]
[null,"8. FTE Data - here you will enter the hours worked for each employee during the different time periods required"]
[null,"    to complete the different calculations. If a box is blacked out, no data entry is needed based on responses to "]
[null,"    other questions above"]
[null,"9. Compensation Data - here you will enter the pay period by pay period wages earned by each employee"]
[null,"10. Compensation for Full Quarter prior to Loan - you will need to enter the total compensation for each employee"]
[null,"     for 1Q of 2020"]
[null,"11. Total hours worked in 1Q 2020 for each employee"]
[null,"12. Annual salary/hourly wages for each employee for each of the 3 different time periods requested"]
[]
["Tab 7 Input Sheet - ","All expenses not related to salary or wages will be entered on this tab. That includes payments for health insurance,"]
["     Other Forgivable and Owner ","employer state & local payroll taxes, retirement benefits, utilities, rent, interest, owners' salary, etc. Please also "]
["     Compensation","enter the total PPP loan amount on this tab"]
[]
[]
["***Limitations of spreadsheet","1. The spreadsheet is limited to one pay-period type by employer. If you have multiple pay-periods you will need to  use multiple spreadsheets and combine the totals"]
[null,"2. For calculations of average hourly wages, the spreadsheet is using 8 weeks as the total weeks worked for the covered period. "]
[null,"3. With regards to FTE data, no option is included for salaried employees who worked partial periods during any of the covered periods"]
[null,"4. With regards to restoring an employees hours and wages/salary by 6/30/2020, the spreadsheet will only calculate if you restore both the hours and wages. If you only restore one or the other, there will be a further limitation"]
[null,"5. If there is an FTE reduction, their will be no salary/wage reduction for that employee on the spreadsheet. In certain instances, there might be a reduction for salary/wages even though there was an FTE reduction as well. "]

{"sheet":"C - Documentation","index":2,"n_rows":34,"n_cols":3,"rows_kept":34,"cut":false,"hidden":false,"merged":[]}
["Paycheck Protection Program                                                                                           Sasserath & Zoraian, LLP "]
["Forgiveness Calculation - Documentation                                                                       (631) 368-3110"]
["                                                                                                                                                www.sz-cpas.com"]
[]
[]
[]
["In order to execute the forgiveness portion of the PPP loan, it is expected that the banks will request certain documentation."]
["We recommend that you start gathering this documentation now, so that you can expedite the forgiveness.  The anticipated "]
["documentation request list is the following:"]
[]
[1,null,"Payroll summaries by pay period for the following periods"]
[null,"a","February 15, 2019 through June 30, 2019"]
[null,"b","January 1, 2020 through February 29, 2020"]
[null,"c","February 15, 2020 through April 26, 2020"]
[null,"d","8 week period subsequent to the date of the PPP Loan"]
[null,"e","List of non-US resident employees that do not qualify, if applicable"]
[]
[2,null,"All quarterly payroll reports (941/940/state) for Quarter End March 31, 2020"]
[]
[3,null,"For the 8 week period subsequent to the date of the PPP Loan:"]
[null,"a","Total health insurance premiums paid and the amounts reimbursed by employees"]
[null,"b","401(k) payments and any pension"]
[null,"c","Utilities (See Forgiveness Estimate Tab) incurred and paid."]
[null,"d","Rent"]
[null,"e","Interest on mortgage obligations"]
[]
[4,null,"Documentation regarding any employee job offers and refusals, firings for cause, voluntary resignations, and written requests"]
[null,null,"by any employee for reductions in work schedule"]
[]
["This workbook is provided by Sasserath & Zoraian, LLP and is intended solely for general information and educational purposes.  It is"]
["not intended in any way as financial, securities, insurance, tax or legal advice or services, or as a solicitation for any financial, securities,"]
["insurance, tax or legal advice or services, or as a solicitation for any financial, securities, insurance, tax or legal product or service.  Please"]
["consult with your financial, securities, insurance, tax and/or legal advisors for advice regarding your specific circumstances.  The "]
["calculations herein are estimates based on our interpretation of the CARES Act and subsequent guidance from authoritative sources."]

{"sheet":"1 - Application","index":3,"n_rows":41,"n_cols":3,"rows_kept":41,"cut":false,"hidden":false,"merged":[[42,0,42,3],[31,0,31,1],[35,0,35,1],[36,0,36,1],[37,0,37,1],[38,0,38,1],[40,0,40,1],[30,0,30,1],[16,0,16,2],[17,0,17,2],[18,0,18,2],[19,0,19,1],[21,0,21,2],[23,0,23,2],[24,0,24,1],[25,0,25,1],[26,0,26,1],[27,0,27,1],[29,0,29,2],[15,0,15,2],[0,0,0,3],[1,0,1,3],[2,0,2,3],[3,1,3,2],[4,1,4,2],[7,0,8,0],[10,1,10,2],[11,1,11,2],[12,0,12,2],[13,0,13,2],[14,1,14,2]]}
["Paycheck Protection Program                                  OMB Control Number 3245-0407\nLoan Forgiveness Application                                                Expiration Date: 10/31/2020"]
[]
["PPP Loan Forgiveness Calculation Form"]
["Business Legal Name (“Borrower”)","DBA or Tradename, if applicable"]
[]
["Business Address","Business TIN (EIN, SSN)","Business Phone"]
[null,null,"(          )            -"]
[null,"Primary Contact","E-mail Address"]
[]
[]
["SBA PPP Loan Number:                                                     ","Lender PPP Loan Number:   "]
["PPP Loan Amount:","PPP Loan Disbursement Date:"]
["Employees at Times of Loan Application:"]
["Employees at Time of Loan Forgiveness:"]
["EIDL Advance Amount:                                                                             ","EIDL Application Number:"]
["Payroll Schedule: The frequency with which payroll is paid to employee is:"]
["☐ Weekly          ☐  Biweekly (every other week)              ☐  Twice a month            ☐ Monthly        ☐  Other: "]
["Covered Period:    XX/XX/2020  to  XX/XX/2020"]
["Alternative Payroll Covered Period, if applicable: XX/XX/20XX  to  XX/XX/20XX"]
["If Borrower (together with affiliates, if applicable) received PPP loans in excess of $2 million, check here:",null,"☐"]
[]
["Forgiveness Amount Calculation:"]
[]
["Payroll and Nonpayroll Costs"]
["Line 1. Payroll Costs (enter the amount from PPP Schedule A, line 10):",null,{"$f":"'2 - Schedule A'!C25","v":0}]
["Line 2. Business Mortgage Interest Payments:",null,{"$f":"'7 - Input sheet - Other Forgiva'!C29","v":0}]
["Line 3. Business Rent or Lease Payments:",null,{"$f":"'7 - Input sheet - Other Forgiva'!C28","v":0}]
["Line 4. Business Utility Payments:",null,{"$f":"'7 - Input sheet - Other Forgiva'!C21+'7 - Input sheet - Other Forgiva'!C22+'7 - Input sheet - Other Forgiva'!C23+'7 - Input sheet - Other Forgiva'!C24+'7 - Input sheet - Other Forgiva'!C25+'7 - Input sheet - Other Forgiva'!C26+'7 - Input sheet - Other Forgiva'!C27","v":0}]
[]
["Adjustments for Full-Time Equivalency (FTE) and Salary/Hourly Wage Reductions"]
["Line 5. Total Salary/Hourly Wage Reduction (enter the amount from PPP Schedule A, line 3):",null,{"$f":"'2 - Schedule A'!C8","v":0}]
["Line 6. Add the amounts on lines 1, 2, 3, and 4, then subtract the amount entered in line 5:",null,{"$f":"(C25+C26+C27+C28)-C31","v":0}]
["Line 7. FTE Reduction Quotient (enter the number from PPP Schedule A, line 13):  ",null,{"$f":"'2 - Schedule A'!C31","v":1}]
[]
["Potential Forgiveness Amounts"]
["Line 8. Modified Total (multiply line 6 by line 7):",null,{"$f":"C32*C33","v":0}]
["Line 9. PPP Loan Amount:",null,{"$f":"'7 - Input sheet - Other Forgiva'!D6","v":0}]
["Line 10. Payroll Cost 75% Requirement (divide line 1 by 0.75):",null,{"$f":"C25/0.75","v":0}]
[]
["Forgiveness Amount"]
["Line 11. Forgiveness Amount (enter the smallest of lines 8 ,9, and 10):",null,{"$f":"MIN(C36,C37,C38)","v":0}]

{"sheet":"2 - Schedule A","index":4,"n_rows":31,"n_cols":3,"rows_kept":31,"cut":false,"hidden":false,"merged":[[30,0,30,1],[23,0,23,2],[24,0,24,1],[26,0,26,2],[27,0,27,2],[28,0,28,1],[29,0,29,1],[21,0,21,1],[7,0,7,1],[8,0,8,1],[10,0,10,2],[11,0,11,1],[12,0,12,1],[14,0,14,2],[15,0,15,1],[16,0,16,1],[17,0,17,1],[19,0,19,2],[20,0,20,1],[6,0,6,1],[0,0,0,3],[1,0,1,3],[2,0,2,3],[4,0,4,2],[5,0,5,1]]}
["Paycheck Protection Program                                  OMB Control Number 3245-0407\nLoan Forgiveness Application                                                Expiration Date: 10/31/2020"]
[]
["PPP Schedule A"]
[]
["PPP Schedule A Worksheet, Table 1 Totals"]
["Line 1. Enter Cash Compensation (Box 1) from PPP Schedule A Worksheet, Table 1:",null,{"$f":"'3 - Schedule A worksheet'!C510","v":0}]
["Line 2. Enter Average FTE (Box 2) from PPP Schedule A Worksheet, Table 1:",null,{"$f":"'3 - Schedule A worksheet'!D510","v":0}]
["Line 3. Enter Salary/Hourly Wage Reduction (Box 3) from PPP Schedule A Worksheet, Table 1:",null,{"$f":"-'3 - Schedule A worksheet'!E510","v":0}]
["If the average annual salary or hourly wage for each employee listed on the PPP Schedule A Worksheet, Table 1 during the Covered Period or the Alternative Payroll Covered Period was at least 75% of such employee’s average annual salary or hourly wage between January 1, 2020 and March 31, 2020, check here ☐ and enter 0 on line 3."]
[]
["PPP Schedule A Worksheet, Table 2 Totals"]
["Line 4. Enter Cash Compensation (Box 4) from PPP Schedule A Worksheet, Table 2:",null,{"$f":"'3 - Schedule A worksheet'!C1015","v":0}]
["Line 5. Enter Average FTE (Box 5) from PPP Schedule A Worksheet, Table 2:",null,{"$f":"'3 - Schedule A worksheet'!D1015","v":0}]
[]
["Non-Cash Compensation Payroll Costs During the Covered Period or the Alternative Payroll Covered Period"]
["Line 6. Total amount paid by Borrower for employer contributions for employee health insurance:",null,{"$f":"'7 - Input sheet - Other Forgiva'!C12","v":0}]
["Line 7. Total amount paid by Borrower for employer contributions to employee retirement plans:",null,{"$f":"'7 - Input sheet - Other Forgiva'!C14+'7 - Input sheet - Other Forgiva'!C15","v":0}]
["Line 8. Total amount paid by Borrower for employer state and local taxes assessed on employee compensation:",null,{"$f":"'7 - Input sheet - Other Forgiva'!C13","v":0}]
[]
["Compensation to Owners"]
["Line 9. Total amount paid to owner-employees/self-employed individual/general partners:",null,{"$f":"'7 - Input sheet - Other Forgiva'!C11","v":0}]
["This amount may not be included in PPP Schedule A Worksheet, Table 1 or 2.  If there is more than one individual included, attach a separate table that lists the names of and payments to each."]
[]
["Total Payroll Costs"]
["Line 10. Payroll Costs (add lines 1, 4, 6, 7, 8, and 9):",null,{"$f":"C21+C18+C17+C16+C12+C6","v":0}]
[]
["Full-Time Equivalency (FTE) Reduction Calculation"]
["If you have not reduced the number of employees or the average paid hours of your employees between January 1, 2020 and the end of the Covered Period, check here ☐, skip lines 11 and 12 and enter 1.0 on line 13."]
["Line 11. Average FTE during the Borrower’s chosen reference period:",null,{"$f":"'5 - FTE reduction'!B33","v":0}]
["Line 12. Total Average FTE (add lines 2 and 5):",null,{"$f":"C7+C13","v":0}]
["Line 13. FTE Reduction Quotient (divide line 12 by line 11) or enter 1.0 if FTE Safe Harbor is met\"",null,{"$f":"IF('5 - FTE reduction'!B84=\"NO\",IF((C30/C29)>1,1,C30/C29),1)","v":1}]

{"sheet":"3 - Schedule A worksheet","index":5,"n_rows":1025,"n_cols":6,"rows_kept":1025,"cut":false,"hidden":false,"merged":[[1022,0,1022,3],[1023,0,1023,3],[1024,0,1024,3],[1025,0,1025,5],[1017,0,1017,5],[1019,0,1019,5],[1020,0,1020,3],[1021,0,1021,3],[7,0,7,5],[512,0,512,5],[0,0,0,5],[1,0,1,5],[2,0,2,5],[4,0,4,5],[5,0,5,5],[6,0,6,5]]}
["Paycheck Protection Program                                  OMB Control Number 3245-0407\nLoan Forgiveness Application                                                Expiration Date: 10/31/2020"]
[]
["PPP Schedule A Worksheet"]
[]
["Table 1: List Employees who:"]
["∙ Were employed by the Borrower at any point during the Covered Period or the Alternative Payroll Covered Period whose principal place of residence is in the United States; and"]
["∙ Received compensation from the Borrower at an annualized rate of less than or equal to $100,000 for all pay periods in 2019 or were not employed by the Borrower at any point in 2019."]
[]
["Employee's Name","Employee\nIdentifier","Cash Compensation","Average FTE","Salary / Hourly Wage Reduction"]
[{"$f":"IF('4 - Payroll reduction'!C91=\"Name\",\"\",IF('4 - Payroll reduction'!H91=\"Table 2\",\"\",'4 - Payroll reduction'!C91))","v":""},{"$f":"IF('4 - Payroll reduction'!C91=\"Name\",\"\",IF('4 - Payroll reduction'!H91=\"Table 2\",\"\",'4 - Payroll reduction'!D91))","v":""},{"$f":"IF('4 - Payroll reduction'!C91=\"Name\",\"\",IF('4 - Payroll reduction'!H91=\"Table 2\",\"\",'4 - Payroll reduction'!E91))","v":""},{"$f":"IF('4 - Payroll reduction'!C91=\"Name\",\"\",IF('4 - Payroll reduction'!H91=\"Table 2\",\"\",'4 - Payroll reduction'!G91))","v":""},{"$f":"IF('4 - Payroll reduction'!C91=\"Name\",\"\",IF('4 - Payroll reduction'!H91=\"Table 2\",\"\",'4 - Payroll reduction'!F91))","v":""},1]
[{"$f":"IF('4 - Payroll reduction'!C92=\"Name\",\"\",IF('4 - Payroll reduction'!H92=\"Table 2\",\"\",'4 - Payroll reduction'!C92))","v":""},{"$f":"IF('4 - Payroll reduction'!C92=\"Name\",\"\",IF('4 - Payroll reduction'!H92=\"Table 2\",\"\",'4 - Payroll reduction'!D92))","v":""},{"$f":"IF('4 - Payroll reduction'!C92=\"Name\",\"\",IF('4 - Payroll reduction'!H92=\"Table 2\",\"\",'4 - Payroll reduction'!E92))","v":""},{"$f":"IF('4 - Payroll reduction'!C92=\"Name\",\"\",IF('4 - Payroll reduction'!H92=\"Table 2\",\"\",'4 - Payroll reduction'!G92))","v":""},{"$f":"IF('4 - Payroll reduction'!C92=\"Name\",\"\",IF('4 - Payroll reduction'!H92=\"Table 2\",\"\",'4 - Payroll reduction'!F92))","v":""},{"$f":"F10+1","v":2}]
[{"$f":"IF('4 - Payroll reduction'!C93=\"Name\",\"\",IF('4 - Payroll reduction'!H93=\"Table 2\",\"\",'4 - Payroll reduction'!C93))","v":""},{"$f":"IF('4 - Payroll reduction'!C93=\"Name\",\"\",IF('4 - Payroll reduction'!H93=\"Table 2\",\"\",'4 - Payroll reduction'!D93))","v":""},{"$f":"IF('4 - Payroll reduction'!C93=\"Name\",\"\",IF('4 - Payroll reduction'!H93=\"Table 2\",\"\",'4 - Payroll reduction'!E93))","v":""},{"$f":"IF('4 - Payroll reduction'!C93=\"Name\",\"\",IF('4 - Payroll reduction'!H93=\"Table 2\",\"\",'4 - Payroll reduction'!G93))","v":""},{"$f":"IF('4 - Payroll reduction'!C93=\"Name\",\"\",IF('4 - Payroll reduction'!H93=\"Table 2\",\"\",'4 - Payroll reduction'!F93))","v":""},{"$f":"F11+1","v":3}]
[{"$f":"IF('4 - Payroll reduction'!C94=\"Name\",\"\",IF('4 - Payroll reduction'!H94=\"Table 2\",\"\",'4 - Payroll reduction'!C94))","v":""},{"$f":"IF('4 - Payroll reduction'!C94=\"Name\",\"\",IF('4 - Payroll reduction'!H94=\"Table 2\",\"\",'4 - Payroll reduction'!D94))","v":""},{"$f":"IF('4 - Payroll reduction'!C94=\"Name\",\"\",IF('4 - Payroll reduction'!H94=\"Table 2\",\"\",'4 - Payroll reduction'!E94))","v":""},{"$f":"IF('4 - Payroll reduction'!C94=\"Name\",\"\",IF('4 - Payroll reduction'!H94=\"Table 2\",\"\",'4 - Payroll reduction'!G94))","v":""},{"$f":"IF('4 - Payroll reduction'!C94=\"Name\",\"\",IF('4 - Payroll reduction'!H94=\"Table 2\",\"\",'4 - Payroll reduction'!F94))","v":""},4]
[{"$f":"IF('4 - Payroll reduction'!C95=\"Name\",\"\",IF('4 - Payroll reduction'!H95=\"Table 2\",\"\",'4 - Payroll reduction'!C95))","v":""},{"$f":"IF('4 - Payroll reduction'!C95=\"Name\",\"\",IF('4 - Payroll reduction'!H95=\"Table 2\",\"\",'4 - Payroll reduction'!D95))","v":""},{"$f":"IF('4 - Payroll reduction'!C95=\"Name\",\"\",IF('4 - Payroll reduction'!H95=\"Table 2\",\"\",'4 - Payroll reduction'!E95))","v":""},{"$f":"IF('4 - Payroll reduction'!C95=\"Name\",\"\",IF('4 - Payroll reduction'!H95=\"Table 2\",\"\",'4 - Payroll reduction'!G95))","v":""},{"$f":"IF('4 - Payroll reduction'!C95=\"Name\",\"\",IF('4 - Payroll reduction'!H95=\"Table 2\",\"\",'4 - Payroll reduction'!F95))","v":""},5]
[{"$f":"IF('4 - Payroll reduction'!C96=\"Name\",\"\",IF('4 - Payroll reduction'!H96=\"Table 2\",\"\",'4 - Payroll reduction'!C96))","v":""},{"$f":"IF('4 - Payroll reduction'!C96=\"Name\",\"\",IF('4 - Payroll reduction'!H96=\"Table 2\",\"\",'4 - Payroll reduction'!D96))","v":""},{"$f":"IF('4 - Payroll reduction'!C96=\"Name\",\"\",IF('4 - Payroll reduction'!H96=\"Table 2\",\"\",'4 - Payroll reduction'!E96))","v":""},{"$f":"IF('4 - Payroll reduction'!C96=\"Name\",\"\",IF('4 - Payroll reduction'!H96=\"Table 2\",\"\",'4 - Payroll reduction'!G96))","v":""},{"$f":"IF('4 - Payroll reduction'!C96=\"Name\",\"\",IF('4 - Payroll reduction'!H96=\"Table 2\",\"\",'4 - Payroll reduction'!F96))","v":""},6]
[{"$f":"IF('4 - Payroll reduction'!C97=\"Name\",\"\",IF('4 - Payroll reduction'!H97=\"Table 2\",\"\",'4 - Payroll reduction'!C97))","v":""},{"$f":"IF('4 - Payroll reduction'!C97=\"Name\",\"\",IF('4 - Payroll reduction'!H97=\"Table 2\",\"\",'4 - Payroll reduction'!D97))","v":""},{"$f":"IF('4 - Payroll reduction'!C97=\"Name\",\"\",IF('4 - Payroll reduction'!H97=\"Table 2\",\"\",'4 - Payroll reduction'!E97))","v":""},{"$f":"IF('4 - Payroll reduction'!C97=\"Name\",\"\",IF('4 - Payroll reduction'!H97=\"Table 2\",\"\",'4 - Payroll reduction'!G97))","v":""},{"$f":"IF('4 - Payroll reduction'!C97=\"Name\",\"\",IF('4 - Payroll reduction'!H97=\"Table 2\",\"\",'4 - Payroll reduction'!F97))","v":""},7]
[{"$f":"IF('4 - Payroll reduction'!C98=\"Name\",\"\",IF('4 - Payroll reduction'!H98=\"Table 2\",\"\",'4 - Payroll reduction'!C98))","v":""},{"$f":"IF('4 - Payroll reduction'!C98=\"Name\",\"\",IF('4 - Payroll reduction'!H98=\"Table 2\",\"\",'4 - Payroll reduction'!D98))","v":""},{"$f":"IF('4 - Payroll reduction'!C98=\"Name\",\"\",IF('4 - Payroll reduction'!H98=\"Table 2\",\"\",'4 - Payroll reduction'!E98))","v":""},{"$f":"IF('4 - Payroll reduction'!C98=\"Name\",\"\",IF('4 - Payroll reduction'!H98=\"Table 2\",\"\",'4 - Payroll reduction'!G98))","v":""},{"$f":"IF('4 - Payroll reduction'!C98=\"Name\",\"\",IF('4 - Payroll reduction'!H98=\"Table 2\",\"\",'4 - Payroll reduction'!F98))","v":""},8]
[{"$f":"IF('4 - Payroll reduction'!C99=\"Name\",\"\",IF('4 - Payroll reduction'!H99=\"Table 2\",\"\",'4 - Payroll reduction'!C99))","v":""},{"$f":"IF('4 - Payroll reduction'!C99=\"Name\",\"\",IF('4 - Payroll reduction'!H99=\"Table 2\",\"\",'4 - Payroll reduction'!D99))","v":""},{"$f":"IF('4 - Payroll reduction'!C99=\"Name\",\"\",IF('4 - Payroll reduction'!H99=\"Table 2\",\"\",'4 - Payroll reduction'!E99))","v":""},{"$f":"IF('4 - Payroll reduction'!C99=\"Name\",\"\",IF('4 - Payroll reduction'!H99=\"Table 2\",\"\",'4 - Payroll reduction'!G99))","v":""},{"$f":"IF('4 - Payroll reduction'!C99=\"Name\",\"\",IF('4 - Payroll reduction'!H99=\"Table 2\",\"\",'4 - Payroll reduction'!F99))","v":""},9]
[{"$f":"IF('4 - Payroll reduction'!C100=\"Name\",\"\",IF('4 - Payroll reduction'!H100=\"Table 2\",\"\",'4 - Payroll reduction'!C100))","v":""},{"$f":"IF('4 - Payroll reduction'!C100=\"Name\",\"\",IF('4 - Payroll reduction'!H100=\"Table 2\",\"\",'4 - Payroll reduction'!D100))","v":""},{"$f":"IF('4 - Payroll reduction'!C100=\"Name\",\"\",IF('4 - Payroll reduction'!H100=\"Table 2\",\"\",'4 - Payroll reduction'!E100))","v":""},{"$f":"IF('4 - Payroll reduction'!C100=\"Name\",\"\",IF('4 - Payroll reduction'!H100=\"Table 2\",\"\",'4 - Payroll reduction'!G100))","v":""},{"$f":"IF('4 - Payroll reduction'!C100=\"Name\",\"\",IF('4 - Payroll reduction'!H100=\"Table 2\",\"\",'4 - Payroll reduction'!F100))","v":""},10]
[{"$f":"IF('4 - Payroll reduction'!C101=\"Name\",\"\",IF('4 - Payroll reduction'!H101=\"Table 2\",\"\",'4 - Payroll reduction'!C101))","v":""},{"$f":"IF('4 - Payroll reduction'!C101=\"Name\",\"\",IF('4 - Payroll reduction'!H101=\"Table 2\",\"\",'4 - Payroll reduction'!D101))","v":""},{"$f":"IF('4 - Payroll reduction'!C101=\"Name\",\"\",IF('4 - Payroll reduction'!H101=\"Table 2\",\"\",'4 - Payroll reduction'!E101))","v":""},{"$f":"IF('4 - Payroll reduction'!C101=\"Name\",\"\",IF('4 - Payroll reduction'!H101=\"Table 2\",\"\",'4 - Payroll reduction'!G101))","v":""},{"$f":"IF('4 - Payroll reduction'!C101=\"Name\",\"\",IF('4 - Payroll reduction'!H101=\"Table 2\",\"\",'4 - Payroll reduction'!F101))","v":""},11]
[{"$f":"IF('4 - Payroll reduction'!C102=\"Name\",\"\",IF('4 - Payroll reduction'!H102=\"Table 2\",\"\",'4 - Payroll reduction'!C102))","v":""},{"$f":"IF('4 - Payroll reduction'!C102=\"Name\",\"\",IF('4 - Payroll reduction'!H102=\"Table 2\",\"\",'4 - Payroll reduction'!D102))","v":""},{"$f":"IF('4 - Payroll reduction'!C102=\"Name\",\"\",IF('4 - Payroll reduction'!H102=\"Table 2\",\"\",'4 - Payroll reduction'!E102))","v":""},{"$f":"IF('4 - Payroll reduction'!C102=\"Name\",\"\",IF('4 - Payroll reduction'!H102=\"Table 2\",\"\",'4 - Payroll reduction'!G102))","v":""},{"$f":"IF('4 - Payroll reduction'!C102=\"Name\",\"\",IF('4 - Payroll reduction'!H102=\"Table 2\",\"\",'4 - Payroll reduction'!F102))","v":""},12]
[{"$f":"IF('4 - Payroll reduction'!C103=\"Name\",\"\",IF('4 - Payroll reduction'!H103=\"Table 2\",\"\",'4 - Payroll reduction'!C103))","v":""},{"$f":"IF('4 - Payroll reduction'!C103=\"Name\",\"\",IF('4 - Payroll reduction'!H103=\"Table 2\",\"\",'4 - Payroll reduction'!D103))","v":""},{"$f":"IF('4 - Payroll reduction'!C103=\"Name\",\"\",IF('4 - Payroll reduction'!H103=\"Table 2\",\"\",'4 - Payroll reduction'!E103))","v":""},{"$f":"IF('4 - Payroll reduction'!C103=\"Name\",\"\",IF('4 - Payroll reduction'!H103=\"Table 2\",\"\",'4 - Payroll reduction'!G103))","v":""},{"$f":"IF('4 - Payroll reduction'!C103=\"Name\",\"\",IF('4 - Payroll reduction'!H103=\"Table 2\",\"\",'4 - Payroll reduction'!F103))","v":""},13]
[{"$f":"IF('4 - Payroll reduction'!C104=\"Name\",\"\",IF('4 - Payroll reduction'!H104=\"Table 2\",\"\",'4 - Payroll reduction'!C104))","v":""},{"$f":"IF('4 - Payroll reduction'!C104=\"Name\",\"\",IF('4 - Payroll reduction'!H104=\"Table 2\",\"\",'4 - Payroll reduction'!D104))","v":""},{"$f":"IF('4 - Payroll reduction'!C104=\"Name\",\"\",IF('4 - Payroll reduction'!H104=\"Table 2\",\"\",'4 - Payroll reduction'!E104))","v":""},{"$f":"IF('4 - Payroll reduction'!C104=\"Name\",\"\",IF('4 - Payroll reduction'!H104=\"Table 2\",\"\",'4 - Payroll reduction'!G104))","v":""},{"$f":"IF('4 - Payroll reduction'!C104=\"Name\",\"\",IF('4 - Payroll reduction'!H104=\"Table 2\",\"\",'4 - Payroll reduction'!F104))","v":""},14]
[{"$f":"IF('4 - Payroll reduction'!C105=\"Name\",\"\",IF('4 - Payroll reduction'!H105=\"Table 2\",\"\",'4 - Payroll reduction'!C105))","v":""},{"$f":"IF('4 - Payroll reduction'!C105=\"Name\",\"\",IF('4 - Payroll reduction'!H105=\"Table 2\",\"\",'4 - Payroll reduction'!D105))","v":""},{"$f":"IF('4 - Payroll reduction'!C105=\"Name\",\"\",IF('4 - Payroll reduction'!H105=\"Table 2\",\"\",'4 - Payroll reduction'!E105))","v":""},{"$f":"IF('4 - Payroll reduction'!C105=\"Name\",\"\",IF('4 - Payroll reduction'!H105=\"Table 2\",\"\",'4 - Payroll reduction'!G105))","v":""},{"$f":"IF('4 - Payroll reduction'!C105=\"Name\",\"\",IF('4 - Payroll reduction'!H105=\"Table 2\",\"\",'4 - Payroll reduction'!F105))","v":""},15]
[{"$f":"IF('4 - Payroll reduction'!C106=\"Name\",\"\",IF('4 - Payroll reduction'!H106=\"Table 2\",\"\",'4 - Payroll reduction'!C106))","v":""},{"$f":"IF('4 - Payroll reduction'!C106=\"Name\",\"\",IF('4 - Payroll reduction'!H106=\"Table 2\",\"\",'4 - Payroll reduction'!D106))","v":""},{"$f":"IF('4 - Payroll reduction'!C106=\"Name\",\"\",IF('4 - Payroll reduction'!H106=\"Table 2\",\"\",'4 - Payroll reduction'!E106))","v":""},{"$f":"IF('4 - Payroll reduction'!C106=\"Name\",\"\",IF('4 - Payroll reduction'!H106=\"Table 2\",\"\",'4 - Payroll reduction'!G106))","v":""},{"$f":"IF('4 - Payroll reduction'!C106=\"Name\",\"\",IF('4 - Payroll reduction'!H106=\"Table 2\",\"\",'4 - Payroll reduction'!F106))","v":""},16]
[{"$f":"IF('4 - Payroll reduction'!C107=\"Name\",\"\",IF('4 - Payroll reduction'!H107=\"Table 2\",\"\",'4 - Payroll reduction'!C107))","v":""},{"$f":"IF('4 - Payroll reduction'!C107=\"Name\",\"\",IF('4 - Payroll reduction'!H107=\"Table 2\",\"\",'4 - Payroll reduction'!D107))","v":""},{"$f":"IF('4 - Payroll reduction'!C107=\"Name\",\"\",IF('4 - Payroll reduction'!H107=\"Table 2\",\"\",'4 - Payroll reduction'!E107))","v":""},{"$f":"IF('4 - Payroll reduction'!C107=\"Name\",\"\",IF('4 - Payroll reduction'!H107=\"Table 2\",\"\",'4 - Payroll reduction'!G107))","v":""},{"$f":"IF('4 - Payroll reduction'!C107=\"Name\",\"\",IF('4 - Payroll reduction'!H107=\"Table 2\",\"\",'4 - Payroll reduction'!F107))","v":""},17]
[{"$f":"IF('4 - Payroll reduction'!C108=\"Name\",\"\",IF('4 - Payroll reduction'!H108=\"Table 2\",\"\",'4 - Payroll reduction'!C108))","v":""},{"$f":"IF('4 - Payroll reduction'!C108=\"Name\",\"\",IF('4 - Payroll reduction'!H108=\"Table 2\",\"\",'4 - Payroll reduction'!D108))","v":""},{"$f":"IF('4 - Payroll reduction'!C108=\"Name\",\"\",IF('4 - Payroll reduction'!H108=\"Table 2\",\"\",'4 - Payroll reduction'!E108))","v":""},{"$f":"IF('4 - Payroll reduction'!C108=\"Name\",\"\",IF('4 - Payroll reduction'!H108=\"Table 2\",\"\",'4 - Payroll reduction'!G108))","v":""},{"$f":"IF('4 - Payroll reduction'!C108=\"Name\",\"\",IF('4 - Payroll reduction'!H108=\"Table 2\",\"\",'4 - Payroll reduction'!F108))","v":""},18]
[{"$f":"IF('4 - Payroll reduction'!C109=\"Name\",\"\",IF('4 - Payroll reduction'!H109=\"Table 2\",\"\",'4 - Payroll reduction'!C109))","v":""},{"$f":"IF('4 - Payroll reduction'!C109=\"Name\",\"\",IF('4 - Payroll reduction'!H109=\"Table 2\",\"\",'4 - Payroll reduction'!D109))","v":""},{"$f":"IF('4 - Payroll reduction'!C109=\"Name\",\"\",IF('4 - Payroll reduction'!H109=\"Table 2\",\"\",'4 - Payroll reduction'!E109))","v":""},{"$f":"IF('4 - Payroll reduction'!C109=\"Name\",\"\",IF('4 - Payroll reduction'!H109=\"Table 2\",\"\",'4 - Payroll reduction'!G109))","v":""},{"$f":"IF('4 - Payroll reduction'!C109=\"Name\",\"\",IF('4 - Payroll reduction'!H109=\"Table 2\",\"\",'4 - Payroll reduction'!F109))","v":""},19]
[{"$f":"IF('4 - Payroll reduction'!C110=\"Name\",\"\",IF('4 - Payroll reduction'!H110=\"Table 2\",\"\",'4 - Payroll reduction'!C110))","v":""},{"$f":"IF('4 - Payroll reduction'!C110=\"Name\",\"\",IF('4 - Payroll reduction'!H110=\"Table 2\",\"\",'4 - Payroll reduction'!D110))","v":""},{"$f":"IF('4 - Payroll reduction'!C110=\"Name\",\"\",IF('4 - Payroll reduction'!H110=\"Table 2\",\"\",'4 - Payroll reduction'!E110))","v":""},{"$f":"IF('4 - Payroll reduction'!C110=\"Name\",\"\",IF('4 - Payroll reduction'!H110=\"Table 2\",\"\",'4 - Payroll reduction'!G110))","v":""},{"$f":"IF('4 - Payroll reduction'!C110=\"Name\",\"\",IF('4 - Payroll reduction'!H110=\"Table 2\",\"\",'4 - Payroll reduction'!F110))","v":""},20]
[{"$f":"IF('4 - Payroll reduction'!C111=\"Name\",\"\",IF('4 - Payroll reduction'!H111=\"Table 2\",\"\",'4 - Payroll reduction'!C111))","v":""},{"$f":"IF('4 - Payroll reduction'!C111=\"Name\",\"\",IF('4 - Payroll reduction'!H111=\"Table 2\",\"\",'4 - Payroll reduction'!D111))","v":""},{"$f":"IF('4 - Payroll reduction'!C111=\"Name\",\"\",IF('4 - Payroll reduction'!H111=\"Table 2\",\"\",'4 - Payroll reduction'!E111))","v":""},{"$f":"IF('4 - Payroll reduction'!C111=\"Name\",\"\",IF('4 - Payroll reduction'!H111=\"Table 2\",\"\",'4 - Payroll reduction'!G111))","v":""},{"$f":"IF('4 - Payroll reduction'!C111=\"Name\",\"\",IF('4 - Payroll reduction'!H111=\"Table 2\",\"\",'4 - Payroll reduction'!F111))","v":""},21]
[{"$f":"IF('4 - Payroll reduction'!C112=\"Name\",\"\",IF('4 - Payroll reduction'!H112=\"Table 2\",\"\",'4 - Payroll reduction'!C112))","v":""},{"$f":"IF('4 - Payroll reduction'!C112=\"Name\",\"\",IF('4 - Payroll reduction'!H112=\"Table 2\",\"\",'4 - Payroll reduction'!D112))","v":""},{"$f":"IF('4 - Payroll reduction'!C112=\"Name\",\"\",IF('4 - Payroll reduction'!H112=\"Table 2\",\"\",'4 - Payroll reduction'!E112))","v":""},{"$f":"IF('4 - Payroll reduction'!C112=\"Name\",\"\",IF('4 - Payroll reduction'!H112=\"Table 2\",\"\",'4 - Payroll reduction'!G112))","v":""},{"$f":"IF('4 - Payroll reduction'!C112=\"Name\",\"\",IF('4 - Payroll reduction'!H112=\"Table 2\",\"\",'4 - Payroll reduction'!F112))","v":""},22]
[{"$f":"IF('4 - Payroll reduction'!C113=\"Name\",\"\",IF('4 - Payroll reduction'!H113=\"Table 2\",\"\",'4 - Payroll reduction'!C113))","v":""},{"$f":"IF('4 - Payroll reduction'!C113=\"Name\",\"\",IF('4 - Payroll reduction'!H113=\"Table 2\",\"\",'4 - Payroll reduction'!D113))","v":""},{"$f":"IF('4 - Payroll reduction'!C113=\"Name\",\"\",IF('4 - Payroll reduction'!H113=\"Table 2\",\"\",'4 - Payroll reduction'!E113))","v":""},{"$f":"IF('4 - Payroll reduction'!C113=\"Name\",\"\",IF('4 - Payroll reduction'!H113=\"Table 2\",\"\",'4 - Payroll reduction'!G113))","v":""},{"$f":"IF('4 - Payroll reduction'!C113=\"Name\",\"\",IF('4 - Payroll reduction'!H113=\"Table 2\",\"\",'4 - Payroll reduction'!F113))","v":""},23]
[{"$f":"IF('4 - Payroll reduction'!C114=\"Name\",\"\",IF('4 - Payroll reduction'!H114=\"Table 2\",\"\",'4 - Payroll reduction'!C114))","v":""},{"$f":"IF('4 - Payroll reduction'!C114=\"Name\",\"\",IF('4 - Payroll reduction'!H114=\"Table 2\",\"\",'4 - Payroll reduction'!D114))","v":""},{"$f":"IF('4 - Payroll reduction'!C114=\"Name\",\"\",IF('4 - Payroll reduction'!H114=\"Table 2\",\"\",'4 - Payroll reduction'!E114))","v":""},{"$f":"IF('4 - Payroll reduction'!C114=\"Name\",\"\",IF('4 - Payroll reduction'!H114=\"Table 2\",\"\",'4 - Payroll reduction'!G114))","v":""},{"$f":"IF('4 - Payroll reduction'!C114=\"Name\",\"\",IF('4 - Payroll reduction'!H114=\"Table 2\",\"\",'4 - Payroll reduction'!F114))","v":""},24]
[{"$f":"IF('4 - Payroll reduction'!C115=\"Name\",\"\",IF('4 - Payroll reduction'!H115=\"Table 2\",\"\",'4 - Payroll reduction'!C115))","v":""},{"$f":"IF('4 - Payroll reduction'!C115=\"Name\",\"\",IF('4 - Payroll reduction'!H115=\"Table 2\",\"\",'4 - Payroll reduction'!D115))","v":""},{"$f":"IF('4 - Payroll reduction'!C115=\"Name\",\"\",IF('4 - Payroll reduction'!H115=\"Table 2\",\"\",'4 - Payroll reduction'!E115))","v":""},{"$f":"IF('4 - Payroll reduction'!C115=\"Name\",\"\",IF('4 - Payroll reduction'!H115=\"Table 2\",\"\",'4 - Payroll reduction'!G115))","v":""},{"$f":"IF('4 - Payroll reduction'!C115=\"Name\",\"\",IF('4 - Payroll reduction'!H115=\"Table 2\",\"\",'4 - Payroll reduction'!F115))","v":""},25]
[{"$f":"IF('4 - Payroll reduction'!C116=\"Name\",\"\",IF('4 - Payroll reduction'!H116=\"Table 2\",\"\",'4 - Payroll reduction'!C116))","v":""},{"$f":"IF('4 - Payroll reduction'!C116=\"Name\",\"\",IF('4 - Payroll reduction'!H116=\"Table 2\",\"\",'4 - Payroll reduction'!D116))","v":""},{"$f":"IF('4 - Payroll reduction'!C116=\"Name\",\"\",IF('4 - Payroll reduction'!H116=\"Table 2\",\"\",'4 - Payroll reduction'!E116))","v":""},{"$f":"IF('4 - Payroll reduction'!C116=\"Name\",\"\",IF('4 - Payroll reduction'!H116=\"Table 2\",\"\",'4 - Payroll reduction'!G116))","v":""},{"$f":"IF('4 - Payroll reduction'!C116=\"Name\",\"\",IF('4 - Payroll reduction'!H116=\"Table 2\",\"\",'4 - Payroll reduction'!F116))","v":""},26]
[{"$f":"IF('4 - Payroll reduction'!C117=\"Name\",\"\",IF('4 - Payroll reduction'!H117=\"Table 2\",\"\",'4 - Payroll reduction'!C117))","v":""},{"$f":"IF('4 - Payroll reduction'!C117=\"Name\",\"\",IF('4 - Payroll reduction'!H117=\"Table 2\",\"\",'4 - Payroll reduction'!D117))","v":""},{"$f":"IF('4 - Payroll reduction'!C117=\"Name\",\"\",IF('4 - Payroll reduction'!H117=\"Table 2\",\"\",'4 - Payroll reduction'!E117))","v":""},{"$f":"IF('4 - Payroll reduction'!C117=\"Name\",\"\",IF('4 - Payroll reduction'!H117=\"Table 2\",\"\",'4 - Payroll reduction'!G117))","v":""},{"$f":"IF('4 - Payroll reduction'!C117=\"Name\",\"\",IF('4 - Payroll reduction'!H117=\"Table 2\",\"\",'4 - Payroll reduction'!F117))","v":""},27]
[{"$f":"IF('4 - Payroll reduction'!C118=\"Name\",\"\",IF('4 - Payroll reduction'!H118=\"Table 2\",\"\",'4 - Payroll reduction'!C118))","v":""},{"$f":"IF('4 - Payroll reduction'!C118=\"Name\",\"\",IF('4 - Payroll reduction'!H118=\"Table 2\",\"\",'4 - Payroll reduction'!D118))","v":""},{"$f":"IF('4 - Payroll reduction'!C118=\"Name\",\"\",IF('4 - Payroll reduction'!H118=\"Table 2\",\"\",'4 - Payroll reduction'!E118))","v":""},{"$f":"IF('4 - Payroll reduction'!C118=\"Name\",\"\",IF('4 - Payroll reduction'!H118=\"Table 2\",\"\",'4 - Payroll reduction'!G118))","v":""},{"$f":"IF('4 - Payroll reduction'!C118=\"Name\",\"\",IF('4 - Payroll reduction'!H118=\"Table 2\",\"\",'4 - Payroll reduction'!F118))","v":""},28]
[{"$f":"IF('4 - Payroll reduction'!C119=\"Name\",\"\",IF('4 - Payroll reduction'!H119=\"Table 2\",\"\",'4 - Payroll reduction'!C119))","v":""},{"$f":"IF('4 - Payroll reduction'!C119=\"Name\",\"\",IF('4 - Payroll reduction'!H119=\"Table 2\",\"\",'4 - Payroll reduction'!D119))","v":""},{"$f":"IF('4 - Payroll reduction'!C119=\"Name\",\"\",IF('4 - Payroll reduction'!H119=\"Table 2\",\"\",'4 - Payroll reduction'!E119))","v":""},{"$f":"IF('4 - Payroll reduction'!C119=\"Name\",\"\",IF('4 - Payroll reduction'!H119=\"Table 2\",\"\",'4 - Payroll reduction'!G119))","v":""},{"$f":"IF('4 - Payroll reduction'!C119=\"Name\",\"\",IF('4 - Payroll reduction'!H119=\"Table 2\",\"\",'4 - Payroll reduction'!F119))","v":""},29]
[{"$f":"IF('4 - Payroll reduction'!C120=\"Name\",\"\",IF('4 - Payroll reduction'!H120=\"Table 2\",\"\",'4 - Payroll reduction'!C120))","v":""},{"$f":"IF('4 - Payroll reduction'!C120=\"Name\",\"\",IF('4 - Payroll reduction'!H120=\"Table 2\",\"\",'4 - Payroll reduction'!D120))","v":""},{"$f":"IF('4 - Payroll reduction'!C120=\"Name\",\"\",IF('4 - Payroll reduction'!H120=\"Table 2\",\"\",'4 - Payroll reduction'!E120))","v":""},{"$f":"IF('4 - Payroll reduction'!C120=\"Name\",\"\",IF('4 - Payroll reduction'!H120=\"Table 2\",\"\",'4 - Payroll reduction'!G120))","v":""},{"$f":"IF('4 - Payroll reduction'!C120=\"Name\",\"\",IF('4 - Payroll reduction'!H120=\"Table 2\",\"\",'4 - Payroll reduction'!F120))","v":""},30]
[{"$f":"IF('4 - Payroll reduction'!C121=\"Name\",\"\",IF('4 - Payroll reduction'!H121=\"Table 2\",\"\",'4 - Payroll reduction'!C121))","v":""},{"$f":"IF('4 - Payroll reduction'!C121=\"Name\",\"\",IF('4 - Payroll reduction'!H121=\"Table 2\",\"\",'4 - Payroll reduction'!D121))","v":""},{"$f":"IF('4 - Payroll reduction'!C121=\"Name\",\"\",IF('4 - Payroll reduction'!H121=\"Table 2\",\"\",'4 - Payroll reduction'!E121))","v":""},{"$f":"IF('4 - Payroll reduction'!C121=\"Name\",\"\",IF('4 - Payroll reduction'!H121=\"Table 2\",\"\",'4 - Payroll reduction'!G121))","v":""},{"$f":"IF('4 - Payroll reduction'!C121=\"Name\",\"\",IF('4 - Payroll reduction'!H121=\"Table 2\",\"\",'4 - Payroll reduction'!F121))","v":""},31]
[{"$f":"IF('4 - Payroll reduction'!C122=\"Name\",\"\",IF('4 - Payroll reduction'!H122=\"Table 2\",\"\",'4 - Payroll reduction'!C122))","v":""},{"$f":"IF('4 - Payroll reduction'!C122=\"Name\",\"\",IF('4 - Payroll reduction'!H122=\"Table 2\",\"\",'4 - Payroll reduction'!D122))","v":""},{"$f":"IF('4 - Payroll reduction'!C122=\"Name\",\"\",IF('4 - Payroll reduction'!H122=\"Table 2\",\"\",'4 - Payroll reduction'!E122))","v":""},{"$f":"IF('4 - Payroll reduction'!C122=\"Name\",\"\",IF('4 - Payroll reduction'!H122=\"Table 2\",\"\",'4 - Payroll reduction'!G122))","v":""},{"$f":"IF('4 - Payroll reduction'!C122=\"Name\",\"\",IF('4 - Payroll reduction'!H122=\"Table 2\",\"\",'4 - Payroll reduction'!F122))","v":""},32]
[{"$f":"IF('4 - Payroll reduction'!C123=\"Name\",\"\",IF('4 - Payroll reduction'!H123=\"Table 2\",\"\",'4 - Payroll reduction'!C123))","v":""},{"$f":"IF('4 - Payroll reduction'!C123=\"Name\",\"\",IF('4 - Payroll reduction'!H123=\"Table 2\",\"\",'4 - Payroll reduction'!D123))","v":""},{"$f":"IF('4 - Payroll reduction'!C123=\"Name\",\"\",IF('4 - Payroll reduction'!H123=\"Table 2\",\"\",'4 - Payroll reduction'!E123))","v":""},{"$f":"IF('4 - Payroll reduction'!C123=\"Name\",\"\",IF('4 - Payroll reduction'!H123=\"Table 2\",\"\",'4 - Payroll reduction'!G123))","v":""},{"$f":"IF('4 - Payroll reduction'!C123=\"Name\",\"\",IF('4 - Payroll reduction'!H123=\"Table 2\",\"\",'4 - Payroll reduction'!F123))","v":""},33]
[{"$f":"IF('4 - Payroll reduction'!C124=\"Name\",\"\",IF('4 - Payroll reduction'!H124=\"Table 2\",\"\",'4 - Payroll reduction'!C124))","v":""},{"$f":"IF('4 - Payroll reduction'!C124=\"Name\",\"\",IF('4 - Payroll reduction'!H124=\"Table 2\",\"\",'4 - Payroll reduction'!D124))","v":""},{"$f":"IF('4 - Payroll reduction'!C124=\"Name\",\"\",IF('4 - Payroll reduction'!H124=\"Table 2\",\"\",'4 - Payroll reduction'!E124))","v":""},{"$f":"IF('4 - Payroll reduction'!C124=\"Name\",\"\",IF('4 - Payroll reduction'!H124=\"Table 2\",\"\",'4 - Payroll reduction'!G124))","v":""},{"$f":"IF('4 - Payroll reduction'!C124=\"Name\",\"\",IF('4 - Payroll reduction'!H124=\"Table 2\",\"\",'4 - Payroll reduction'!F124))","v":""},34]
[{"$f":"IF('4 - Payroll reduction'!C125=\"Name\",\"\",IF('4 - Payroll reduction'!H125=\"Table 2\",\"\",'4 - Payroll reduction'!C125))","v":""},{"$f":"IF('4 - Payroll reduction'!C125=\"Name\",\"\",IF('4 - Payroll reduction'!H125=\"Table 2\",\"\",'4 - Payroll reduction'!D125))","v":""},{"$f":"IF('4 - Payroll reduction'!C125=\"Name\",\"\",IF('4 - Payroll reduction'!H125=\"Table 2\",\"\",'4 - Payroll reduction'!E125))","v":""},{"$f":"IF('4 - Payroll reduction'!C125=\"Name\",\"\",IF('4 - Payroll reduction'!H125=\"Table 2\",\"\",'4 - Payroll reduction'!G125))","v":""},{"$f":"IF('4 - Payroll reduction'!C125=\"Name\",\"\",IF('4 - Payroll reduction'!H125=\"Table 2\",\"\",'4 - Payroll reduction'!F125))","v":""},35]
[{"$f":"IF('4 - Payroll reduction'!C126=\"Name\",\"\",IF('4 - Payroll reduction'!H126=\"Table 2\",\"\",'4 - Payroll reduction'!C126))","v":""},{"$f":"IF('4 - Payroll reduction'!C126=\"Name\",\"\",IF('4 - Payroll reduction'!H126=\"Table 2\",\"\",'4 - Payroll reduction'!D126))","v":""},{"$f":"IF('4 - Payroll reduction'!C126=\"Name\",\"\",IF('4 - Payroll reduction'!H126=\"Table 2\",\"\",'4 - Payroll reduction'!E126))","v":""},{"$f":"IF('4 - Payroll reduction'!C126=\"Name\",\"\",IF('4 - Payroll reduction'!H126=\"Table 2\",\"\",'4 - Payroll reduction'!G126))","v":""},{"$f":"IF('4 - Payroll reduction'!C126=\"Name\",\"\",IF('4 - Payroll reduction'!H126=\"Table 2\",\"\",'4 - Payroll reduction'!F126))","v":""},36]
[{"$f":"IF('4 - Payroll reduction'!C127=\"Name\",\"\",IF('4 - Payroll reduction'!H127=\"Table 2\",\"\",'4 - Payroll reduction'!C127))","v":""},{"$f":"IF('4 - Payroll reduction'!C127=\"Name\",\"\",IF('4 - Payroll reduction'!H127=\"Table 2\",\"\",'4 - Payroll reduction'!D127))","v":""},{"$f":"IF('4 - Payroll reduction'!C127=\"Name\",\"\",IF('4 - Payroll reduction'!H127=\"Table 2\",\"\",'4 - Payroll reduction'!E127))","v":""},{"$f":"IF('4 - Payroll reduction'!C127=\"Name\",\"\",IF('4 - Payroll reduction'!H127=\"Table 2\",\"\",'4 - Payroll reduction'!G127))","v":""},{"$f":"IF('4 - Payroll reduction'!C127=\"Name\",\"\",IF('4 - Payroll reduction'!H127=\"Table 2\",\"\",'4 - Payroll reduction'!F127))","v":""},37]
[{"$f":"IF('4 - Payroll reduction'!C128=\"Name\",\"\",IF('4 - Payroll reduction'!H128=\"Table 2\",\"\",'4 - Payroll reduction'!C128))","v":""},{"$f":"IF('4 - Payroll reduction'!C128=\"Name\",\"\",IF('4 - Payroll reduction'!H128=\"Table 2\",\"\",'4 - Payroll reduction'!D128))","v":""},{"$f":"IF('4 - Payroll reduction'!C128=\"Name\",\"\",IF('4 - Payroll reduction'!H128=\"Table 2\",\"\",'4 - Payroll reduction'!E128))","v":""},{"$f":"IF('4 - Payroll reduction'!C128=\"Name\",\"\",IF('4 - Payroll reduction'!H128=\"Table 2\",\"\",'4 - Payroll reduction'!G128))","v":""},{"$f":"IF('4 - Payroll reduction'!C128=\"Name\",\"\",IF('4 - Payroll reduction'!H128=\"Table 2\",\"\",'4 - Payroll reduction'!F128))","v":""},38]
[{"$f":"IF('4 - Payroll reduction'!C129=\"Name\",\"\",IF('4 - Payroll reduction'!H129=\"Table 2\",\"\",'4 - Payroll reduction'!C129))","v":""},{"$f":"IF('4 - Payroll reduction'!C129=\"Name\",\"\",IF('4 - Payroll reduction'!H129=\"Table 2\",\"\",'4 - Payroll reduction'!D129))","v":""},{"$f":"IF('4 - Payroll reduction'!C129=\"Name\",\"\",IF('4 - Payroll reduction'!H129=\"Table 2\",\"\",'4 - Payroll reduction'!E129))","v":""},{"$f":"IF('4 - Payroll reduction'!C129=\"Name\",\"\",IF('4 - Payroll reduction'!H129=\"Table 2\",\"\",'4 - Payroll reduction'!G129))","v":""},{"$f":"IF('4 - Payroll reduction'!C129=\"Name\",\"\",IF('4 - Payroll reduction'!H129=\"Table 2\",\"\",'4 - Payroll reduction'!F129))","v":""},39]
[{"$f":"IF('4 - Payroll reduction'!C130=\"Name\",\"\",IF('4 - Payroll reduction'!H130=\"Table 2\",\"\",'4 - Payroll reduction'!C130))","v":""},{"$f":"IF('4 - Payroll reduction'!C130=\"Name\",\"\",IF('4 - Payroll reduction'!H130=\"Table 2\",\"\",'4 - Payroll reduction'!D130))","v":""},{"$f":"IF('4 - Payroll reduction'!C130=\"Name\",\"\",IF('4 - Payroll reduction'!H130=\"Table 2\",\"\",'4 - Payroll reduction'!E130))","v":""},{"$f":"IF('4 - Payroll reduction'!C130=\"Name\",\"\",IF('4 - Payroll reduction'!H130=\"Table 2\",\"\",'4 - Payroll reduction'!G130))","v":""},{"$f":"IF('4 - Payroll reduction'!C130=\"Name\",\"\",IF('4 - Payroll reduction'!H130=\"Table 2\",\"\",'4 - Payroll reduction'!F130))","v":""},40]
[{"$f":"IF('4 - Payroll reduction'!C131=\"Name\",\"\",IF('4 - Payroll reduction'!H131=\"Table 2\",\"\",'4 - Payroll reduction'!C131))","v":""},{"$f":"IF('4 - Payroll reduction'!C131=\"Name\",\"\",IF('4 - Payroll reduction'!H131=\"Table 2\",\"\",'4 - Payroll reduction'!D131))","v":""},{"$f":"IF('4 - Payroll reduction'!C131=\"Name\",\"\",IF('4 - Payroll reduction'!H131=\"Table 2\",\"\",'4 - Payroll reduction'!E131))","v":""},{"$f":"IF('4 - Payroll reduction'!C131=\"Name\",\"\",IF('4 - Payroll reduction'!H131=\"Table 2\",\"\",'4 - Payroll reduction'!G131))","v":""},{"$f":"IF('4 - Payroll reduction'!C131=\"Name\",\"\",IF('4 - Payroll reduction'!H131=\"Table 2\",\"\",'4 - Payroll reduction'!F131))","v":""},41]
[{"$f":"IF('4 - Payroll reduction'!C132=\"Name\",\"\",IF('4 - Payroll reduction'!H132=\"Table 2\",\"\",'4 - Payroll reduction'!C132))","v":""},{"$f":"IF('4 - Payroll reduction'!C132=\"Name\",\"\",IF('4 - Payroll reduction'!H132=\"Table 2\",\"\",'4 - Payroll reduction'!D132))","v":""},{"$f":"IF('4 - Payroll reduction'!C132=\"Name\",\"\",IF('4 - Payroll reduction'!H132=\"Table 2\",\"\",'4 - Payroll reduction'!E132))","v":""},{"$f":"IF('4 - Payroll reduction'!C132=\"Name\",\"\",IF('4 - Payroll reduction'!H132=\"Table 2\",\"\",'4 - Payroll reduction'!G132))","v":""},{"$f":"IF('4 - Payroll reduction'!C132=\"Name\",\"\",IF('4 - Payroll reduction'!H132=\"Table 2\",\"\",'4 - Payroll reduction'!F132))","v":""},42]
[{"$f":"IF('4 - Payroll reduction'!C133=\"Name\",\"\",IF('4 - Payroll reduction'!H133=\"Table 2\",\"\",'4 - Payroll reduction'!C133))","v":""},{"$f":"IF('4 - Payroll reduction'!C133=\"Name\",\"\",IF('4 - Payroll reduction'!H133=\"Table 2\",\"\",'4 - Payroll reduction'!D133))","v":""},{"$f":"IF('4 - Payroll reduction'!C133=\"Name\",\"\",IF('4 - Payroll reduction'!H133=\"Table 2\",\"\",'4 - Payroll reduction'!E133))","v":""},{"$f":"IF('4 - Payroll reduction'!C133=\"Name\",\"\",IF('4 - Payroll reduction'!H133=\"Table 2\",\"\",'4 - Payroll reduction'!G133))","v":""},{"$f":"IF('4 - Payroll reduction'!C133=\"Name\",\"\",IF('4 - Payroll reduction'!H133=\"Table 2\",\"\",'4 - Payroll reduction'!F133))","v":""},43]
[{"$f":"IF('4 - Payroll reduction'!C134=\"Name\",\"\",IF('4 - Payroll reduction'!H134=\"Table 2\",\"\",'4 - Payroll reduction'!C134))","v":""},{"$f":"IF('4 - Payroll reduction'!C134=\"Name\",\"\",IF('4 - Payroll reduction'!H134=\"Table 2\",\"\",'4 - Payroll reduction'!D134))","v":""},{"$f":"IF('4 - Payroll reduction'!C134=\"Name\",\"\",IF('4 - Payroll reduction'!H134=\"Table 2\",\"\",'4 - Payroll reduction'!E134))","v":""},{"$f":"IF('4 - Payroll reduction'!C134=\"Name\",\"\",IF('4 - Payroll reduction'!H134=\"Table 2\",\"\",'4 - Payroll reduction'!G134))","v":""},{"$f":"IF('4 - Payroll reduction'!C134=\"Name\",\"\",IF('4 - Payroll reduction'!H134=\"Table 2\",\"\",'4 - Payroll reduction'!F134))","v":""},44]
[{"$f":"IF('4 - Payroll reduction'!C135=\"Name\",\"\",IF('4 - Payroll reduction'!H135=\"Table 2\",\"\",'4 - Payroll reduction'!C135))","v":""},{"$f":"IF('4 - Payroll reduction'!C135=\"Name\",\"\",IF('4 - Payroll reduction'!H135=\"Table 2\",\"\",'4 - Payroll reduction'!D135))","v":""},{"$f":"IF('4 - Payroll reduction'!C135=\"Name\",\"\",IF('4 - Payroll reduction'!H135=\"Table 2\",\"\",'4 - Payroll reduction'!E135))","v":""},{"$f":"IF('4 - Payroll reduction'!C135=\"Name\",\"\",IF('4 - Payroll reduction'!H135=\"Table 2\",\"\",'4 - Payroll reduction'!G135))","v":""},{"$f":"IF('4 - Payroll reduction'!C135=\"Name\",\"\",IF('4 - Payroll reduction'!H135=\"Table 2\",\"\",'4 - Payroll reduction'!F135))","v":""},45]
[{"$f":"IF('4 - Payroll reduction'!C136=\"Name\",\"\",IF('4 - Payroll reduction'!H136=\"Table 2\",\"\",'4 - Payroll reduction'!C136))","v":""},{"$f":"IF('4 - Payroll reduction'!C136=\"Name\",\"\",IF('4 - Payroll reduction'!H136=\"Table 2\",\"\",'4 - Payroll reduction'!D136))","v":""},{"$f":"IF('4 - Payroll reduction'!C136=\"Name\",\"\",IF('4 - Payroll reduction'!H136=\"Table 2\",\"\",'4 - Payroll reduction'!E136))","v":""},{"$f":"IF('4 - Payroll reduction'!C136=\"Name\",\"\",IF('4 - Payroll reduction'!H136=\"Table 2\",\"\",'4 - Payroll reduction'!G136))","v":""},{"$f":"IF('4 - Payroll reduction'!C136=\"Name\",\"\",IF('4 - Payroll reduction'!H136=\"Table 2\",\"\",'4 - Payroll reduction'!F136))","v":""},46]
[{"$f":"IF('4 - Payroll reduction'!C137=\"Name\",\"\",IF('4 - Payroll reduction'!H137=\"Table 2\",\"\",'4 - Payroll reduction'!C137))","v":""},{"$f":"IF('4 - Payroll reduction'!C137=\"Name\",\"\",IF('4 - Payroll reduction'!H137=\"Table 2\",\"\",'4 - Payroll reduction'!D137))","v":""},{"$f":"IF('4 - Payroll reduction'!C137=\"Name\",\"\",IF('4 - Payroll reduction'!H137=\"Table 2\",\"\",'4 - Payroll reduction'!E137))","v":""},{"$f":"IF('4 - Payroll reduction'!C137=\"Name\",\"\",IF('4 - Payroll reduction'!H137=\"Table 2\",\"\",'4 - Payroll reduction'!G137))","v":""},{"$f":"IF('4 - Payroll reduction'!C137=\"Name\",\"\",IF('4 - Payroll reduction'!H137=\"Table 2\",\"\",'4 - Payroll reduction'!F137))","v":""},47]
[{"$f":"IF('4 - Payroll reduction'!C138=\"Name\",\"\",IF('4 - Payroll reduction'!H138=\"Table 2\",\"\",'4 - Payroll reduction'!C138))","v":""},{"$f":"IF('4 - Payroll reduction'!C138=\"Name\",\"\",IF('4 - Payroll reduction'!H138=\"Table 2\",\"\",'4 - Payroll reduction'!D138))","v":""},{"$f":"IF('4 - Payroll reduction'!C138=\"Name\",\"\",IF('4 - Payroll reduction'!H138=\"Table 2\",\"\",'4 - Payroll reduction'!E138))","v":""},{"$f":"IF('4 - Payroll reduction'!C138=\"Name\",\"\",IF('4 - Payroll reduction'!H138=\"Table 2\",\"\",'4 - Payroll reduction'!G138))","v":""},{"$f":"IF('4 - Payroll reduction'!C138=\"Name\",\"\",IF('4 - Payroll reduction'!H138=\"Table 2\",\"\",'4 - Payroll reduction'!F138))","v":""},48]
[{"$f":"IF('4 - Payroll reduction'!C139=\"Name\",\"\",IF('4 - Payroll reduction'!H139=\"Table 2\",\"\",'4 - Payroll reduction'!C139))","v":""},{"$f":"IF('4 - Payroll reduction'!C139=\"Name\",\"\",IF('4 - Payroll reduction'!H139=\"Table 2\",\"\",'4 - Payroll reduction'!D139))","v":""},{"$f":"IF('4 - Payroll reduction'!C139=\"Name\",\"\",IF('4 - Payroll reduction'!H139=\"Table 2\",\"\",'4 - Payroll reduction'!E139))","v":""},{"$f":"IF('4 - Payroll reduction'!C139=\"Name\",\"\",IF('4 - Payroll reduction'!H139=\"Table 2\",\"\",'4 - Payroll reduction'!G139))","v":""},{"$f":"IF('4 - Payroll reduction'!C139=\"Name\",\"\",IF('4 - Payroll reduction'!H139=\"Table 2\",\"\",'4 - Payroll reduction'!F139))","v":""},49]
[{"$f":"IF('4 - Payroll reduction'!C140=\"Name\",\"\",IF('4 - Payroll reduction'!H140=\"Table 2\",\"\",'4 - Payroll reduction'!C140))","v":""},{"$f":"IF('4 - Payroll reduction'!C140=\"Name\",\"\",IF('4 - Payroll reduction'!H140=\"Table 2\",\"\",'4 - Payroll reduction'!D140))","v":""},{"$f":"IF('4 - Payroll reduction'!C140=\"Name\",\"\",IF('4 - Payroll reduction'!H140=\"Table 2\",\"\",'4 - Payroll reduction'!E140))","v":""},{"$f":"IF('4 - Payroll reduction'!C140=\"Name\",\"\",IF('4 - Payroll reduction'!H140=\"Table 2\",\"\",'4 - Payroll reduction'!G140))","v":""},{"$f":"IF('4 - Payroll reduction'!C140=\"Name\",\"\",IF('4 - Payroll reduction'!H140=\"Table 2\",\"\",'4 - Payroll reduction'!F140))","v":""},50]
[{"$f":"IF('4 - Payroll reduction'!C141=\"Name\",\"\",IF('4 - Payroll reduction'!H141=\"Table 2\",\"\",'4 - Payroll reduction'!C141))","v":""},{"$f":"IF('4 - Payroll reduction'!C141=\"Name\",\"\",IF('4 - Payroll reduction'!H141=\"Table 2\",\"\",'4 - Payroll reduction'!D141))","v":""},{"$f":"IF('4 - Payroll reduction'!C141=\"Name\",\"\",IF('4 - Payroll reduction'!H141=\"Table 2\",\"\",'4 - Payroll reduction'!E141))","v":""},{"$f":"IF('4 - Payroll reduction'!C141=\"Name\",\"\",IF('4 - Payroll reduction'!H141=\"Table 2\",\"\",'4 - Payroll reduction'!G141))","v":""},{"$f":"IF('4 - Payroll reduction'!C141=\"Name\",\"\",IF('4 - Payroll reduction'!H141=\"Table 2\",\"\",'4 - Payroll reduction'!F141))","v":""},51]
[{"$f":"IF('4 - Payroll reduction'!C142=\"Name\",\"\",IF('4 - Payroll reduction'!H142=\"Table 2\",\"\",'4 - Payroll reduction'!C142))","v":""},{"$f":"IF('4 - Payroll reduction'!C142=\"Name\",\"\",IF('4 - Payroll reduction'!H142=\"Table 2\",\"\",'4 - Payroll reduction'!D142))","v":""},{"$f":"IF('4 - Payroll reduction'!C142=\"Name\",\"\",IF('4 - Payroll reduction'!H142=\"Table 2\",\"\",'4 - Payroll reduction'!E142))","v":""},{"$f":"IF('4 - Payroll reduction'!C142=\"Name\",\"\",IF('4 - Payroll reduction'!H142=\"Table 2\",\"\",'4 - Payroll reduction'!G142))","v":""},{"$f":"IF('4 - Payroll reduction'!C142=\"Name\",\"\",IF('4 - Payroll reduction'!H142=\"Table 2\",\"\",'4 - Payroll reduction'!F142))","v":""},52]
[{"$f":"IF('4 - Payroll reduction'!C143=\"Name\",\"\",IF('4 - Payroll reduction'!H143=\"Table 2\",\"\",'4 - Payroll reduction'!C143))","v":""},{"$f":"IF('4 - Payroll reduction'!C143=\"Name\",\"\",IF('4 - Payroll reduction'!H143=\"Table 2\",\"\",'4 - Payroll reduction'!D143))","v":""},{"$f":"IF('4 - Payroll reduction'!C143=\"Name\",\"\",IF('4 - Payroll reduction'!H143=\"Table 2\",\"\",'4 - Payroll reduction'!E143))","v":""},{"$f":"IF('4 - Payroll reduction'!C143=\"Name\",\"\",IF('4 - Payroll reduction'!H143=\"Table 2\",\"\",'4 - Payroll reduction'!G143))","v":""},{"$f":"IF('4 - Payroll reduction'!C143=\"Name\",\"\",IF('4 - Payroll reduction'!H143=\"Table 2\",\"\",'4 - Payroll reduction'!F143))","v":""},53]
[{"$f":"IF('4 - Payroll reduction'!C144=\"Name\",\"\",IF('4 - Payroll reduction'!H144=\"Table 2\",\"\",'4 - Payroll reduction'!C144))","v":""},{"$f":"IF('4 - Payroll reduction'!C144=\"Name\",\"\",IF('4 - Payroll reduction'!H144=\"Table 2\",\"\",'4 - Payroll reduction'!D144))","v":""},{"$f":"IF('4 - Payroll reduction'!C144=\"Name\",\"\",IF('4 - Payroll reduction'!H144=\"Table 2\",\"\",'4 - Payroll reduction'!E144))","v":""},{"$f":"IF('4 - Payroll reduction'!C144=\"Name\",\"\",IF('4 - Payroll reduction'!H144=\"Table 2\",\"\",'4 - Payroll reduction'!G144))","v":""},{"$f":"IF('4 - Payroll reduction'!C144=\"Name\",\"\",IF('4 - Payroll reduction'!H144=\"Table 2\",\"\",'4 - Payroll reduction'!F144))","v":""},54]
[{"$f":"IF('4 - Payroll reduction'!C145=\"Name\",\"\",IF('4 - Payroll reduction'!H145=\"Table 2\",\"\",'4 - Payroll reduction'!C145))","v":""},{"$f":"IF('4 - Payroll reduction'!C145=\"Name\",\"\",IF('4 - Payroll reduction'!H145=\"Table 2\",\"\",'4 - Payroll reduction'!D145))","v":""},{"$f":"IF('4 - Payroll reduction'!C145=\"Name\",\"\",IF('4 - Payroll reduction'!H145=\"Table 2\",\"\",'4 - Payroll reduction'!E145))","v":""},{"$f":"IF('4 - Payroll reduction'!C145=\"Name\",\"\",IF('4 - Payroll reduction'!H145=\"Table 2\",\"\",'4 - Payroll reduction'!G145))","v":""},{"$f":"IF('4 - Payroll reduction'!C145=\"Name\",\"\",IF('4 - Payroll reduction'!H145=\"Table 2\",\"\",'4 - Payroll reduction'!F145))","v":""},55]
[{"$f":"IF('4 - Payroll reduction'!C146=\"Name\",\"\",IF('4 - Payroll reduction'!H146=\"Table 2\",\"\",'4 - Payroll reduction'!C146))","v":""},{"$f":"IF('4 - Payroll reduction'!C146=\"Name\",\"\",IF('4 - Payroll reduction'!H146=\"Table 2\",\"\",'4 - Payroll reduction'!D146))","v":""},{"$f":"IF('4 - Payroll reduction'!C146=\"Name\",\"\",IF('4 - Payroll reduction'!H146=\"Table 2\",\"\",'4 - Payroll reduction'!E146))","v":""},{"$f":"IF('4 - Payroll reduction'!C146=\"Name\",\"\",IF('4 - Payroll reduction'!H146=\"Table 2\",\"\",'4 - Payroll reduction'!G146))","v":""},{"$f":"IF('4 - Payroll reduction'!C146=\"Name\",\"\",IF('4 - Payroll reduction'!H146=\"Table 2\",\"\",'4 - Payroll reduction'!F146))","v":""},56]
[{"$f":"IF('4 - Payroll reduction'!C147=\"Name\",\"\",IF('4 - Payroll reduction'!H147=\"Table 2\",\"\",'4 - Payroll reduction'!C147))","v":""},{"$f":"IF('4 - Payroll reduction'!C147=\"Name\",\"\",IF('4 - Payroll reduction'!H147=\"Table 2\",\"\",'4 - Payroll reduction'!D147))","v":""},{"$f":"IF('4 - Payroll reduction'!C147=\"Name\",\"\",IF('4 - Payroll reduction'!H147=\"Table 2\",\"\",'4 - Payroll reduction'!E147))","v":""},{"$f":"IF('4 - Payroll reduction'!C147=\"Name\",\"\",IF('4 - Payroll reduction'!H147=\"Table 2\",\"\",'4 - Payroll reduction'!G147))","v":""},{"$f":"IF('4 - Payroll reduction'!C147=\"Name\",\"\",IF('4 - Payroll reduction'!H147=\"Table 2\",\"\",'4 - Payroll reduction'!F147))","v":""},57]
[{"$f":"IF('4 - Payroll reduction'!C148=\"Name\",\"\",IF('4 - Payroll reduction'!H148=\"Table 2\",\"\",'4 - Payroll reduction'!C148))","v":""},{"$f":"IF('4 - Payroll reduction'!C148=\"Name\",\"\",IF('4 - Payroll reduction'!H148=\"Table 2\",\"\",'4 - Payroll reduction'!D148))","v":""},{"$f":"IF('4 - Payroll reduction'!C148=\"Name\",\"\",IF('4 - Payroll reduction'!H148=\"Table 2\",\"\",'4 - Payroll reduction'!E148))","v":""},{"$f":"IF('4 - Payroll reduction'!C148=\"Name\",\"\",IF('4 - Payroll reduction'!H148=\"Table 2\",\"\",'4 - Payroll reduction'!G148))","v":""},{"$f":"IF('4 - Payroll reduction'!C148=\"Name\",\"\",IF('4 - Payroll reduction'!H148=\"Table 2\",\"\",'4 - Payroll reduction'!F148))","v":""},58]
[{"$f":"IF('4 - Payroll reduction'!C149=\"Name\",\"\",IF('4 - Payroll reduction'!H149=\"Table 2\",\"\",'4 - Payroll reduction'!C149))","v":""},{"$f":"IF('4 - Payroll reduction'!C149=\"Name\",\"\",IF('4 - Payroll reduction'!H149=\"Table 2\",\"\",'4 - Payroll reduction'!D149))","v":""},{"$f":"IF('4 - Payroll reduction'!C149=\"Name\",\"\",IF('4 - Payroll reduction'!H149=\"Table 2\",\"\",'4 - Payroll reduction'!E149))","v":""},{"$f":"IF('4 - Payroll reduction'!C149=\"Name\",\"\",IF('4 - Payroll reduction'!H149=\"Table 2\",\"\",'4 - Payroll reduction'!G149))","v":""},{"$f":"IF('4 - Payroll reduction'!C149=\"Name\",\"\",IF('4 - Payroll reduction'!H149=\"Table 2\",\"\",'4 - Payroll reduction'!F149))","v":""},59]
[{"$f":"IF('4 - Payroll reduction'!C150=\"Name\",\"\",IF('4 - Payroll reduction'!H150=\"Table 2\",\"\",'4 - Payroll reduction'!C150))","v":""},{"$f":"IF('4 - Payroll reduction'!C150=\"Name\",\"\",IF('4 - Payroll reduction'!H150=\"Table 2\",\"\",'4 - Payroll reduction'!D150))","v":""},{"$f":"IF('4 - Payroll reduction'!C150=\"Name\",\"\",IF('4 - Payroll reduction'!H150=\"Table 2\",\"\",'4 - Payroll reduction'!E150))","v":""},{"$f":"IF('4 - Payroll reduction'!C150=\"Name\",\"\",IF('4 - Payroll reduction'!H150=\"Table 2\",\"\",'4 - Payroll reduction'!G150))","v":""},{"$f":"IF('4 - Payroll reduction'!C150=\"Name\",\"\",IF('4 - Payroll reduction'!H150=\"Table 2\",\"\",'4 - Payroll reduction'!F150))","v":""},60]
[{"$f":"IF('4 - Payroll reduction'!C151=\"Name\",\"\",IF('4 - Payroll reduction'!H151=\"Table 2\",\"\",'4 - Payroll reduction'!C151))","v":""},{"$f":"IF('4 - Payroll reduction'!C151=\"Name\",\"\",IF('4 - Payroll reduction'!H151=\"Table 2\",\"\",'4 - Payroll reduction'!D151))","v":""},{"$f":"IF('4 - Payroll reduction'!C151=\"Name\",\"\",IF('4 - Payroll reduction'!H151=\"Table 2\",\"\",'4 - Payroll reduction'!E151))","v":""},{"$f":"IF('4 - Payroll reduction'!C151=\"Name\",\"\",IF('4 - Payroll reduction'!H151=\"Table 2\",\"\",'4 - Payroll reduction'!G151))","v":""},{"$f":"IF('4 - Payroll reduction'!C151=\"Name\",\"\",IF('4 - Payroll reduction'!H151=\"Table 2\",\"\",'4 - Payroll reduction'!F151))","v":""},61]
[{"$f":"IF('4 - Payroll reduction'!C152=\"Name\",\"\",IF('4 - Payroll reduction'!H152=\"Table 2\",\"\",'4 - Payroll reduction'!C152))","v":""},{"$f":"IF('4 - Payroll reduction'!C152=\"Name\",\"\",IF('4 - Payroll reduction'!H152=\"Table 2\",\"\",'4 - Payroll reduction'!D152))","v":""},{"$f":"IF('4 - Payroll reduction'!C152=\"Name\",\"\",IF('4 - Payroll reduction'!H152=\"Table 2\",\"\",'4 - Payroll reduction'!E152))","v":""},{"$f":"IF('4 - Payroll reduction'!C152=\"Name\",\"\",IF('4 - Payroll reduction'!H152=\"Table 2\",\"\",'4 - Payroll reduction'!G152))","v":""},{"$f":"IF('4 - Payroll reduction'!C152=\"Name\",\"\",IF('4 - Payroll reduction'!H152=\"Table 2\",\"\",'4 - Payroll reduction'!F152))","v":""},62]
[{"$f":"IF('4 - Payroll reduction'!C153=\"Name\",\"\",IF('4 - Payroll reduction'!H153=\"Table 2\",\"\",'4 - Payroll reduction'!C153))","v":""},{"$f":"IF('4 - Payroll reduction'!C153=\"Name\",\"\",IF('4 - Payroll reduction'!H153=\"Table 2\",\"\",'4 - Payroll reduction'!D153))","v":""},{"$f":"IF('4 - Payroll reduction'!C153=\"Name\",\"\",IF('4 - Payroll reduction'!H153=\"Table 2\",\"\",'4 - Payroll reduction'!E153))","v":""},{"$f":"IF('4 - Payroll reduction'!C153=\"Name\",\"\",IF('4 - Payroll reduction'!H153=\"Table 2\",\"\",'4 - Payroll reduction'!G153))","v":""},{"$f":"IF('4 - Payroll reduction'!C153=\"Name\",\"\",IF('4 - Payroll reduction'!H153=\"Table 2\",\"\",'4 - Payroll reduction'!F153))","v":""},63]
[{"$f":"IF('4 - Payroll reduction'!C154=\"Name\",\"\",IF('4 - Payroll reduction'!H154=\"Table 2\",\"\",'4 - Payroll reduction'!C154))","v":""},{"$f":"IF('4 - Payroll reduction'!C154=\"Name\",\"\",IF('4 - Payroll reduction'!H154=\"Table 2\",\"\",'4 - Payroll reduction'!D154))","v":""},{"$f":"IF('4 - Payroll reduction'!C154=\"Name\",\"\",IF('4 - Payroll reduction'!H154=\"Table 2\",\"\",'4 - Payroll reduction'!E154))","v":""},{"$f":"IF('4 - Payroll reduction'!C154=\"Name\",\"\",IF('4 - Payroll reduction'!H154=\"Table 2\",\"\",'4 - Payroll reduction'!G154))","v":""},{"$f":"IF('4 - Payroll reduction'!C154=\"Name\",\"\",IF('4 - Payroll reduction'!H154=\"Table 2\",\"\",'4 - Payroll reduction'!F154))","v":""},64]
[{"$f":"IF('4 - Payroll reduction'!C155=\"Name\",\"\",IF('4 - Payroll reduction'!H155=\"Table 2\",\"\",'4 - Payroll reduction'!C155))","v":""},{"$f":"IF('4 - Payroll reduction'!C155=\"Name\",\"\",IF('4 - Payroll reduction'!H155=\"Table 2\",\"\",'4 - Payroll reduction'!D155))","v":""},{"$f":"IF('4 - Payroll reduction'!C155=\"Name\",\"\",IF('4 - Payroll reduction'!H155=\"Table 2\",\"\",'4 - Payroll reduction'!E155))","v":""},{"$f":"IF('4 - Payroll reduction'!C155=\"Name\",\"\",IF('4 - Payroll reduction'!H155=\"Table 2\",\"\",'4 - Payroll reduction'!G155))","v":""},{"$f":"IF('4 - Payroll reduction'!C155=\"Name\",\"\",IF('4 - Payroll reduction'!H155=\"Table 2\",\"\",'4 - Payroll reduction'!F155))","v":""},65]
[{"$f":"IF('4 - Payroll reduction'!C156=\"Name\",\"\",IF('4 - Payroll reduction'!H156=\"Table 2\",\"\",'4 - Payroll reduction'!C156))","v":""},{"$f":"IF('4 - Payroll reduction'!C156=\"Name\",\"\",IF('4 - Payroll reduction'!H156=\"Table 2\",\"\",'4 - Payroll reduction'!D156))","v":""},{"$f":"IF('4 - Payroll reduction'!C156=\"Name\",\"\",IF('4 - Payroll reduction'!H156=\"Table 2\",\"\",'4 - Payroll reduction'!E156))","v":""},{"$f":"IF('4 - Payroll reduction'!C156=\"Name\",\"\",IF('4 - Payroll reduction'!H156=\"Table 2\",\"\",'4 - Payroll reduction'!G156))","v":""},{"$f":"IF('4 - Payroll reduction'!C156=\"Name\",\"\",IF('4 - Payroll reduction'!H156=\"Table 2\",\"\",'4 - Payroll reduction'!F156))","v":""},66]
[{"$f":"IF('4 - Payroll reduction'!C157=\"Name\",\"\",IF('4 - Payroll reduction'!H157=\"Table 2\",\"\",'4 - Payroll reduction'!C157))","v":""},{"$f":"IF('4 - Payroll reduction'!C157=\"Name\",\"\",IF('4 - Payroll reduction'!H157=\"Table 2\",\"\",'4 - Payroll reduction'!D157))","v":""},{"$f":"IF('4 - Payroll reduction'!C157=\"Name\",\"\",IF('4 - Payroll reduction'!H157=\"Table 2\",\"\",'4 - Payroll reduction'!E157))","v":""},{"$f":"IF('4 - Payroll reduction'!C157=\"Name\",\"\",IF('4 - Payroll reduction'!H157=\"Table 2\",\"\",'4 - Payroll reduction'!G157))","v":""},{"$f":"IF('4 - Payroll reduction'!C157=\"Name\",\"\",IF('4 - Payroll reduction'!H157=\"Table 2\",\"\",'4 - Payroll reduction'!F157))","v":""},{"$f":"F75+1","v":67}]
[{"$f":"IF('4 - Payroll reduction'!C158=\"Name\",\"\",IF('4 - Payroll reduction'!H158=\"Table 2\",\"\",'4 - Payroll reduction'!C158))","v":""},{"$f":"IF('4 - Payroll reduction'!C158=\"Name\",\"\",IF('4 - Payroll reduction'!H158=\"Table 2\",\"\",'4 - Payroll reduction'!D158))","v":""},{"$f":"IF('4 - Payroll reduction'!C158=\"Name\",\"\",IF('4 - Payroll reduction'!H158=\"Table 2\",\"\",'4 - Payroll reduction'!E158))","v":""},{"$f":"IF('4 - Payroll reduction'!C158=\"Name\",\"\",IF('4 - Payroll reduction'!H158=\"Table 2\",\"\",'4 - Payroll reduction'!G158))","v":""},{"$f":"IF('4 - Payroll reduction'!C158=\"Name\",\"\",IF('4 - Payroll reduction'!H158=\"Table 2\",\"\",'4 - Payroll reduction'!F158))","v":""},68]
[{"$f":"IF('4 - Payroll reduction'!C159=\"Name\",\"\",IF('4 - Payroll reduction'!H159=\"Table 2\",\"\",'4 - Payroll reduction'!C159))","v":""},{"$f":"IF('4 - Payroll reduction'!C159=\"Name\",\"\",IF('4 - Payroll reduction'!H159=\"Table 2\",\"\",'4 - Payroll reduction'!D159))","v":""},{"$f":"IF('4 - Payroll reduction'!C159=\"Name\",\"\",IF('4 - Payroll reduction'!H159=\"Table 2\",\"\",'4 - Payroll reduction'!E159))","v":""},{"$f":"IF('4 - Payroll reduction'!C159=\"Name\",\"\",IF('4 - Payroll reduction'!H159=\"Table 2\",\"\",'4 - Payroll reduction'!G159))","v":""},{"$f":"IF('4 - Payroll reduction'!C159=\"Name\",\"\",IF('4 - Payroll reduction'!H159=\"Table 2\",\"\",'4 - Payroll reduction'!F159))","v":""},69]
[{"$f":"IF('4 - Payroll reduction'!C160=\"Name\",\"\",IF('4 - Payroll reduction'!H160=\"Table 2\",\"\",'4 - Payroll reduction'!C160))","v":""},{"$f":"IF('4 - Payroll reduction'!C160=\"Name\",\"\",IF('4 - Payroll reduction'!H160=\"Table 2\",\"\",'4 - Payroll reduction'!D160))","v":""},{"$f":"IF('4 - Payroll reduction'!C160=\"Name\",\"\",IF('4 - Payroll reduction'!H160=\"Table 2\",\"\",'4 - Payroll reduction'!E160))","v":""},{"$f":"IF('4 - Payroll reduction'!C160=\"Name\",\"\",IF('4 - Payroll reduction'!H160=\"Table 2\",\"\",'4 - Payroll reduction'!G160))","v":""},{"$f":"IF('4 - Payroll reduction'!C160=\"Name\",\"\",IF('4 - Payroll reduction'!H160=\"Table 2\",\"\",'4 - Payroll reduction'!F160))","v":""},70]
[{"$f":"IF('4 - Payroll reduction'!C161=\"Name\",\"\",IF('4 - Payroll reduction'!H161=\"Table 2\",\"\",'4 - Payroll reduction'!C161))","v":""},{"$f":"IF('4 - Payroll reduction'!C161=\"Name\",\"\",IF('4 - Payroll reduction'!H161=\"Table 2\",\"\",'4 - Payroll reduction'!D161))","v":""},{"$f":"IF('4 - Payroll reduction'!C161=\"Name\",\"\",IF('4 - Payroll reduction'!H161=\"Table 2\",\"\",'4 - Payroll reduction'!E161))","v":""},{"$f":"IF('4 - Payroll reduction'!C161=\"Name\",\"\",IF('4 - Payroll reduction'!H161=\"Table 2\",\"\",'4 - Payroll reduction'!G161))","v":""},{"$f":"IF('4 - Payroll reduction'!C161=\"Name\",\"\",IF('4 - Payroll reduction'!H161=\"Table 2\",\"\",'4 - Payroll reduction'!F161))","v":""},71]
[{"$f":"IF('4 - Payroll reduction'!C162=\"Name\",\"\",IF('4 - Payroll reduction'!H162=\"Table 2\",\"\",'4 - Payroll reduction'!C162))","v":""},{"$f":"IF('4 - Payroll reduction'!C162=\"Name\",\"\",IF('4 - Payroll reduction'!H162=\"Table 2\",\"\",'4 - Payroll reduction'!D162))","v":""},{"$f":"IF('4 - Payroll reduction'!C162=\"Name\",\"\",IF('4 - Payroll reduction'!H162=\"Table 2\",\"\",'4 - Payroll reduction'!E162))","v":""},{"$f":"IF('4 - Payroll reduction'!C162=\"Name\",\"\",IF('4 - Payroll reduction'!H162=\"Table 2\",\"\",'4 - Payroll reduction'!G162))","v":""},{"$f":"IF('4 - Payroll reduction'!C162=\"Name\",\"\",IF('4 - Payroll reduction'!H162=\"Table 2\",\"\",'4 - Payroll reduction'!F162))","v":""},72]
[{"$f":"IF('4 - Payroll reduction'!C163=\"Name\",\"\",IF('4 - Payroll reduction'!H163=\"Table 2\",\"\",'4 - Payroll reduction'!C163))","v":""},{"$f":"IF('4 - Payroll reduction'!C163=\"Name\",\"\",IF('4 - Payroll reduction'!H163=\"Table 2\",\"\",'4 - Payroll reduction'!D163))","v":""},{"$f":"IF('4 - Payroll reduction'!C163=\"Name\",\"\",IF('4 - Payroll reduction'!H163=\"Table 2\",\"\",'4 - Payroll reduction'!E163))","v":""},{"$f":"IF('4 - Payroll reduction'!C163=\"Name\",\"\",IF('4 - Payroll reduction'!H163=\"Table 2\",\"\",'4 - Payroll reduction'!G163))","v":""},{"$f":"IF('4 - Payroll reduction'!C163=\"Name\",\"\",IF('4 - Payroll reduction'!H163=\"Table 2\",\"\",'4 - Payroll reduction'!F163))","v":""},73]
[{"$f":"IF('4 - Payroll reduction'!C164=\"Name\",\"\",IF('4 - Payroll reduction'!H164=\"Table 2\",\"\",'4 - Payroll reduction'!C164))","v":""},{"$f":"IF('4 - Payroll reduction'!C164=\"Name\",\"\",IF('4 - Payroll reduction'!H164=\"Table 2\",\"\",'4 - Payroll reduction'!D164))","v":""},{"$f":"IF('4 - Payroll reduction'!C164=\"Name\",\"\",IF('4 - Payroll reduction'!H164=\"Table 2\",\"\",'4 - Payroll reduction'!E164))","v":""},{"$f":"IF('4 - Payroll reduction'!C164=\"Name\",\"\",IF('4 - Payroll reduction'!H164=\"Table 2\",\"\",'4 - Payroll reduction'!G164))","v":""},{"$f":"IF('4 - Payroll reduction'!C164=\"Name\",\"\",IF('4 - Payroll reduction'!H164=\"Table 2\",\"\",'4 - Payroll reduction'!F164))","v":""},74]
[{"$f":"IF('4 - Payroll reduction'!C165=\"Name\",\"\",IF('4 - Payroll reduction'!H165=\"Table 2\",\"\",'4 - Payroll reduction'!C165))","v":""},{"$f":"IF('4 - Payroll reduction'!C165=\"Name\",\"\",IF('4 - Payroll reduction'!H165=\"Table 2\",\"\",'4 - Payroll reduction'!D165))","v":""},{"$f":"IF('4 - Payroll reduction'!C165=\"Name\",\"\",IF('4 - Payroll reduction'!H165=\"Table 2\",\"\",'4 - Payroll reduction'!E165))","v":""},{"$f":"IF('4 - Payroll reduction'!C165=\"Name\",\"\",IF('4 - Payroll reduction'!H165=\"Table 2\",\"\",'4 - Payroll reduction'!G165))","v":""},{"$f":"IF('4 - Payroll reduction'!C165=\"Name\",\"\",IF('4 - Payroll reduction'!H165=\"Table 2\",\"\",'4 - Payroll reduction'!F165))","v":""},75]
[{"$f":"IF('4 - Payroll reduction'!C166=\"Name\",\"\",IF('4 - Payroll reduction'!H166=\"Table 2\",\"\",'4 - Payroll reduction'!C166))","v":""},{"$f":"IF('4 - Payroll reduction'!C166=\"Name\",\"\",IF('4 - Payroll reduction'!H166=\"Table 2\",\"\",'4 - Payroll reduction'!D166))","v":""},{"$f":"IF('4 - Payroll reduction'!C166=\"Name\",\"\",IF('4 - Payroll reduction'!H166=\"Table 2\",\"\",'4 - Payroll reduction'!E166))","v":""},{"$f":"IF('4 - Payroll reduction'!C166=\"Name\",\"\",IF('4 - Payroll reduction'!H166=\"Table 2\",\"\",'4 - Payroll reduction'!G166))","v":""},{"$f":"IF('4 - Payroll reduction'!C166=\"Name\",\"\",IF('4 - Payroll reduction'!H166=\"Table 2\",\"\",'4 - Payroll reduction'!F166))","v":""},76]
[{"$f":"IF('4 - Payroll reduction'!C167=\"Name\",\"\",IF('4 - Payroll reduction'!H167=\"Table 2\",\"\",'4 - Payroll reduction'!C167))","v":""},{"$f":"IF('4 - Payroll reduction'!C167=\"Name\",\"\",IF('4 - Payroll reduction'!H167=\"Table 2\",\"\",'4 - Payroll reduction'!D167))","v":""},{"$f":"IF('4 - Payroll reduction'!C167=\"Name\",\"\",IF('4 - Payroll reduction'!H167=\"Table 2\",\"\",'4 - Payroll reduction'!E167))","v":""},{"$f":"IF('4 - Payroll reduction'!C167=\"Name\",\"\",IF('4 - Payroll reduction'!H167=\"Table 2\",\"\",'4 - Payroll reduction'!G167))","v":""},{"$f":"IF('4 - Payroll reduction'!C167=\"Name\",\"\",IF('4 - Payroll reduction'!H167=\"Table 2\",\"\",'4 - Payroll reduction'!F167))","v":""},77]
[{"$f":"IF('4 - Payroll reduction'!C168=\"Name\",\"\",IF('4 - Payroll reduction'!H168=\"Table 2\",\"\",'4 - Payroll reduction'!C168))","v":""},{"$f":"IF('4 - Payroll reduction'!C168=\"Name\",\"\",IF('4 - Payroll reduction'!H168=\"Table 2\",\"\",'4 - Payroll reduction'!D168))","v":""},{"$f":"IF('4 - Payroll reduction'!C168=\"Name\",\"\",IF('4 - Payroll reduction'!H168=\"Table 2\",\"\",'4 - Payroll reduction'!E168))","v":""},{"$f":"IF('4 - Payroll reduction'!C168=\"Name\",\"\",IF('4 - Payroll reduction'!H168=\"Table 2\",\"\",'4 - Payroll reduction'!G168))","v":""},{"$f":"IF('4 - Payroll reduction'!C168=\"Name\",\"\",IF('4 - Payroll reduction'!H168=\"Table 2\",\"\",'4 - Payroll reduction'!F168))","v":""},78]
[{"$f":"IF('4 - Payroll reduction'!C169=\"Name\",\"\",IF('4 - Payroll reduction'!H169=\"Table 2\",\"\",'4 - Payroll reduction'!C169))","v":""},{"$f":"IF('4 - Payroll reduction'!C169=\"Name\",\"\",IF('4 - Payroll reduction'!H169=\"Table 2\",\"\",'4 - Payroll reduction'!D169))","v":""},{"$f":"IF('4 - Payroll reduction'!C169=\"Name\",\"\",IF('4 - Payroll reduction'!H169=\"Table 2\",\"\",'4 - Payroll reduction'!E169))","v":""},{"$f":"IF('4 - Payroll reduction'!C169=\"Name\",\"\",IF('4 - Payroll reduction'!H169=\"Table 2\",\"\",'4 - Payroll reduction'!G169))","v":""},{"$f":"IF('4 - Payroll reduction'!C169=\"Name\",\"\",IF('4 - Payroll reduction'!H169=\"Table 2\",\"\",'4 - Payroll reduction'!F169))","v":""},79]
[{"$f":"IF('4 - Payroll reduction'!C170=\"Name\",\"\",IF('4 - Payroll reduction'!H170=\"Table 2\",\"\",'4 - Payroll reduction'!C170))","v":""},{"$f":"IF('4 - Payroll reduction'!C170=\"Name\",\"\",IF('4 - Payroll reduction'!H170=\"Table 2\",\"\",'4 - Payroll reduction'!D170))","v":""},{"$f":"IF('4 - Payroll reduction'!C170=\"Name\",\"\",IF('4 - Payroll reduction'!H170=\"Table 2\",\"\",'4 - Payroll reduction'!E170))","v":""},{"$f":"IF('4 - Payroll reduction'!C170=\"Name\",\"\",IF('4 - Payroll reduction'!H170=\"Table 2\",\"\",'4 - Payroll reduction'!G170))","v":""},{"$f":"IF('4 - Payroll reduction'!C170=\"Name\",\"\",IF('4 - Payroll reduction'!H170=\"Table 2\",\"\",'4 - Payroll reduction'!F170))","v":""},80]
[{"$f":"IF('4 - Payroll reduction'!C171=\"Name\",\"\",IF('4 - Payroll reduction'!H171=\"Table 2\",\"\",'4 - Payroll reduction'!C171))","v":""},{"$f":"IF('4 - Payroll reduction'!C171=\"Name\",\"\",IF('4 - Payroll reduction'!H171=\"Table 2\",\"\",'4 - Payroll reduction'!D171))","v":""},{"$f":"IF('4 - Payroll reduction'!C171=\"Name\",\"\",IF('4 - Payroll reduction'!H171=\"Table 2\",\"\",'4 - Payroll reduction'!E171))","v":""},{"$f":"IF('4 - Payroll reduction'!C171=\"Name\",\"\",IF('4 - Payroll reduction'!H171=\"Table 2\",\"\",'4 - Payroll reduction'!G171))","v":""},{"$f":"IF('4 - Payroll reduction'!C171=\"Name\",\"\",IF('4 - Payroll reduction'!H171=\"Table 2\",\"\",'4 - Payroll reduction'!F171))","v":""},81]
[{"$f":"IF('4 - Payroll reduction'!C172=\"Name\",\"\",IF('4 - Payroll reduction'!H172=\"Table 2\",\"\",'4 - Payroll reduction'!C172))","v":""},{"$f":"IF('4 - Payroll reduction'!C172=\"Name\",\"\",IF('4 - Payroll reduction'!H172=\"Table 2\",\"\",'4 - Payroll reduction'!D172))","v":""},{"$f":"IF('4 - Payroll reduction'!C172=\"Name\",\"\",IF('4 - Payroll reduction'!H172=\"Table 2\",\"\",'4 - Payroll reduction'!E172))","v":""},{"$f":"IF('4 - Payroll reduction'!C172=\"Name\",\"\",IF('4 - Payroll reduction'!H172=\"Table 2\",\"\",'4 - Payroll reduction'!G172))","v":""},{"$f":"IF('4 - Payroll reduction'!C172=\"Name\",\"\",IF('4 - Payroll reduction'!H172=\"Table 2\",\"\",'4 - Payroll reduction'!F172))","v":""},82]
[{"$f":"IF('4 - Payroll reduction'!C173=\"Name\",\"\",IF('4 - Payroll reduction'!H173=\"Table 2\",\"\",'4 - Payroll reduction'!C173))","v":""},{"$f":"IF('4 - Payroll reduction'!C173=\"Name\",\"\",IF('4 - Payroll reduction'!H173=\"Table 2\",\"\",'4 - Payroll reduction'!D173))","v":""},{"$f":"IF('4 - Payroll reduction'!C173=\"Name\",\"\",IF('4 - Payroll reduction'!H173=\"Table 2\",\"\",'4 - Payroll reduction'!E173))","v":""},{"$f":"IF('4 - Payroll reduction'!C173=\"Name\",\"\",IF('4 - Payroll reduction'!H173=\"Table 2\",\"\",'4 - Payroll reduction'!G173))","v":""},{"$f":"IF('4 - Payroll reduction'!C173=\"Name\",\"\",IF('4 - Payroll reduction'!H173=\"Table 2\",\"\",'4 - Payroll reduction'!F173))","v":""},83]
[{"$f":"IF('4 - Payroll reduction'!C174=\"Name\",\"\",IF('4 - Payroll reduction'!H174=\"Table 2\",\"\",'4 - Payroll reduction'!C174))","v":""},{"$f":"IF('4 - Payroll reduction'!C174=\"Name\",\"\",IF('4 - Payroll reduction'!H174=\"Table 2\",\"\",'4 - Payroll reduction'!D174))","v":""},{"$f":"IF('4 - Payroll reduction'!C174=\"Name\",\"\",IF('4 - Payroll reduction'!H174=\"Table 2\",\"\",'4 - Payroll reduction'!E174))","v":""},{"$f":"IF('4 - Payroll reduction'!C174=\"Name\",\"\",IF('4 - Payroll reduction'!H174=\"Table 2\",\"\",'4 - Payroll reduction'!G174))","v":""},{"$f":"IF('4 - Payroll reduction'!C174=\"Name\",\"\",IF('4 - Payroll reduction'!H174=\"Table 2\",\"\",'4 - Payroll reduction'!F174))","v":""},84]
[{"$f":"IF('4 - Payroll reduction'!C175=\"Name\",\"\",IF('4 - Payroll reduction'!H175=\"Table 2\",\"\",'4 - Payroll reduction'!C175))","v":""},{"$f":"IF('4 - Payroll reduction'!C175=\"Name\",\"\",IF('4 - Payroll reduction'!H175=\"Table 2\",\"\",'4 - Payroll reduction'!D175))","v":""},{"$f":"IF('4 - Payroll reduction'!C175=\"Name\",\"\",IF('4 - Payroll reduction'!H175=\"Table 2\",\"\",'4 - Payroll reduction'!E175))","v":""},{"$f":"IF('4 - Payroll reduction'!C175=\"Name\",\"\",IF('4 - Payroll reduction'!H175=\"Table 2\",\"\",'4 - Payroll reduction'!G175))","v":""},{"$f":"IF('4 - Payroll reduction'!C175=\"Name\",\"\",IF('4 - Payroll reduction'!H175=\"Table 2\",\"\",'4 - Payroll reduction'!F175))","v":""},85]
[{"$f":"IF('4 - Payroll reduction'!C176=\"Name\",\"\",IF('4 - Payroll reduction'!H176=\"Table 2\",\"\",'4 - Payroll reduction'!C176))","v":""},{"$f":"IF('4 - Payroll reduction'!C176=\"Name\",\"\",IF('4 - Payroll reduction'!H176=\"Table 2\",\"\",'4 - Payroll reduction'!D176))","v":""},{"$f":"IF('4 - Payroll reduction'!C176=\"Name\",\"\",IF('4 - Payroll reduction'!H176=\"Table 2\",\"\",'4 - Payroll reduction'!E176))","v":""},{"$f":"IF('4 - Payroll reduction'!C176=\"Name\",\"\",IF('4 - Payroll reduction'!H176=\"Table 2\",\"\",'4 - Payroll reduction'!G176))","v":""},{"$f":"IF('4 - Payroll reduction'!C176=\"Name\",\"\",IF('4 - Payroll reduction'!H176=\"Table 2\",\"\",'4 - Payroll reduction'!F176))","v":""},86]
[{"$f":"IF('4 - Payroll reduction'!C177=\"Name\",\"\",IF('4 - Payroll reduction'!H177=\"Table 2\",\"\",'4 - Payroll reduction'!C177))","v":""},{"$f":"IF('4 - Payroll reduction'!C177=\"Name\",\"\",IF('4 - Payroll reduction'!H177=\"Table 2\",\"\",'4 - Payroll reduction'!D177))","v":""},{"$f":"IF('4 - Payroll reduction'!C177=\"Name\",\"\",IF('4 - Payroll reduction'!H177=\"Table 2\",\"\",'4 - Payroll reduction'!E177))","v":""},{"$f":"IF('4 - Payroll reduction'!C177=\"Name\",\"\",IF('4 - Payroll reduction'!H177=\"Table 2\",\"\",'4 - Payroll reduction'!G177))","v":""},{"$f":"IF('4 - Payroll reduction'!C177=\"Name\",\"\",IF('4 - Payroll reduction'!H177=\"Table 2\",\"\",'4 - Payroll reduction'!F177))","v":""},87]
[{"$f":"IF('4 - Payroll reduction'!C178=\"Name\",\"\",IF('4 - Payroll reduction'!H178=\"Table 2\",\"\",'4 - Payroll reduction'!C178))","v":""},{"$f":"IF('4 - Payroll reduction'!C178=\"Name\",\"\",IF('4 - Payroll reduction'!H178=\"Table 2\",\"\",'4 - Payroll reduction'!D178))","v":""},{"$f":"IF('4 - Payroll reduction'!C178=\"Name\",\"\",IF('4 - Payroll reduction'!H178=\"Table 2\",\"\",'4 - Payroll reduction'!E178))","v":""},{"$f":"IF('4 - Payroll reduction'!C178=\"Name\",\"\",IF('4 - Payroll reduction'!H178=\"Table 2\",\"\",'4 - Payroll reduction'!G178))","v":""},{"$f":"IF('4 - Payroll reduction'!C178=\"Name\",\"\",IF('4 - Payroll reduction'!H178=\"Table 2\",\"\",'4 - Payroll reduction'!F178))","v":""},88]
[{"$f":"IF('4 - Payroll reduction'!C179=\"Name\",\"\",IF('4 - Payroll reduction'!H179=\"Table 2\",\"\",'4 - Payroll reduction'!C179))","v":""},{"$f":"IF('4 - Payroll reduction'!C179=\"Name\",\"\",IF('4 - Payroll reduction'!H179=\"Table 2\",\"\",'4 - Payroll reduction'!D179))","v":""},{"$f":"IF('4 - Payroll reduction'!C179=\"Name\",\"\",IF('4 - Payroll reduction'!H179=\"Table 2\",\"\",'4 - Payroll reduction'!E179))","v":""},{"$f":"IF('4 - Payroll reduction'!C179=\"Name\",\"\",IF('4 - Payroll reduction'!H179=\"Table 2\",\"\",'4 - Payroll reduction'!G179))","v":""},{"$f":"IF('4 - Payroll reduction'!C179=\"Name\",\"\",IF('4 - Payroll reduction'!H179=\"Table 2\",\"\",'4 - Payroll reduction'!F179))","v":""},89]
[{"$f":"IF('4 - Payroll reduction'!C180=\"Name\",\"\",IF('4 - Payroll reduction'!H180=\"Table 2\",\"\",'4 - Payroll reduction'!C180))","v":""},{"$f":"IF('4 - Payroll reduction'!C180=\"Name\",\"\",IF('4 - Payroll reduction'!H180=\"Table 2\",\"\",'4 - Payroll reduction'!D180))","v":""},{"$f":"IF('4 - Payroll reduction'!C180=\"Name\",\"\",IF('4 - Payroll reduction'!H180=\"Table 2\",\"\",'4 - Payroll reduction'!E180))","v":""},{"$f":"IF('4 - Payroll reduction'!C180=\"Name\",\"\",IF('4 - Payroll reduction'!H180=\"Table 2\",\"\",'4 - Payroll reduction'!G180))","v":""},{"$f":"IF('4 - Payroll reduction'!C180=\"Name\",\"\",IF('4 - Payroll reduction'!H180=\"Table 2\",\"\",'4 - Payroll reduction'!F180))","v":""},90]
[{"$f":"IF('4 - Payroll reduction'!C181=\"Name\",\"\",IF('4 - Payroll reduction'!H181=\"Table 2\",\"\",'4 - Payroll reduction'!C181))","v":""},{"$f":"IF('4 - Payroll reduction'!C181=\"Name\",\"\",IF('4 - Payroll reduction'!H181=\"Table 2\",\"\",'4 - Payroll reduction'!D181))","v":""},{"$f":"IF('4 - Payroll reduction'!C181=\"Name\",\"\",IF('4 - Payroll reduction'!H181=\"Table 2\",\"\",'4 - Payroll reduction'!E181))","v":""},{"$f":"IF('4 - Payroll reduction'!C181=\"Name\",\"\",IF('4 - Payroll reduction'!H181=\"Table 2\",\"\",'4 - Payroll reduction'!G181))","v":""},{"$f":"IF('4 - Payroll reduction'!C181=\"Name\",\"\",IF('4 - Payroll reduction'!H181=\"Table 2\",\"\",'4 - Payroll reduction'!F181))","v":""},91]
[{"$f":"IF('4 - Payroll reduction'!C182=\"Name\",\"\",IF('4 - Payroll reduction'!H182=\"Table 2\",\"\",'4 - Payroll reduction'!C182))","v":""},{"$f":"IF('4 - Payroll reduction'!C182=\"Name\",\"\",IF('4 - Payroll reduction'!H182=\"Table 2\",\"\",'4 - Payroll reduction'!D182))","v":""},{"$f":"IF('4 - Payroll reduction'!C182=\"Name\",\"\",IF('4 - Payroll reduction'!H182=\"Table 2\",\"\",'4 - Payroll reduction'!E182))","v":""},{"$f":"IF('4 - Payroll reduction'!C182=\"Name\",\"\",IF('4 - Payroll reduction'!H182=\"Table 2\",\"\",'4 - Payroll reduction'!G182))","v":""},{"$f":"IF('4 - Payroll reduction'!C182=\"Name\",\"\",IF('4 - Payroll reduction'!H182=\"Table 2\",\"\",'4 - Payroll reduction'!F182))","v":""},92]
[{"$f":"IF('4 - Payroll reduction'!C183=\"Name\",\"\",IF('4 - Payroll reduction'!H183=\"Table 2\",\"\",'4 - Payroll reduction'!C183))","v":""},{"$f":"IF('4 - Payroll reduction'!C183=\"Name\",\"\",IF('4 - Payroll reduction'!H183=\"Table 2\",\"\",'4 - Payroll reduction'!D183))","v":""},{"$f":"IF('4 - Payroll reduction'!C183=\"Name\",\"\",IF('4 - Payroll reduction'!H183=\"Table 2\",\"\",'4 - Payroll reduction'!E183))","v":""},{"$f":"IF('4 - Payroll reduction'!C183=\"Name\",\"\",IF('4 - Payroll reduction'!H183=\"Table 2\",\"\",'4 - Payroll reduction'!G183))","v":""},{"$f":"IF('4 - Payroll reduction'!C183=\"Name\",\"\",IF('4 - Payroll reduction'!H183=\"Table 2\",\"\",'4 - Payroll reduction'!F183))","v":""},93]
[{"$f":"IF('4 - Payroll reduction'!C184=\"Name\",\"\",IF('4 - Payroll reduction'!H184=\"Table 2\",\"\",'4 - Payroll reduction'!C184))","v":""},{"$f":"IF('4 - Payroll reduction'!C184=\"Name\",\"\",IF('4 - Payroll reduction'!H184=\"Table 2\",\"\",'4 - Payroll reduction'!D184))","v":""},{"$f":"IF('4 - Payroll reduction'!C184=\"Name\",\"\",IF('4 - Payroll reduction'!H184=\"Table 2\",\"\",'4 - Payroll reduction'!E184))","v":""},{"$f":"IF('4 - Payroll reduction'!C184=\"Name\",\"\",IF('4 - Payroll reduction'!H184=\"Table 2\",\"\",'4 - Payroll reduction'!G184))","v":""},{"$f":"IF('4 - Payroll reduction'!C184=\"Name\",\"\",IF('4 - Payroll reduction'!H184=\"Table 2\",\"\",'4 - Payroll reduction'!F184))","v":""},94]
[{"$f":"IF('4 - Payroll reduction'!C185=\"Name\",\"\",IF('4 - Payroll reduction'!H185=\"Table 2\",\"\",'4 - Payroll reduction'!C185))","v":""},{"$f":"IF('4 - Payroll reduction'!C185=\"Name\",\"\",IF('4 - Payroll reduction'!H185=\"Table 2\",\"\",'4 - Payroll reduction'!D185))","v":""},{"$f":"IF('4 - Payroll reduction'!C185=\"Name\",\"\",IF('4 - Payroll reduction'!H185=\"Table 2\",\"\",'4 - Payroll reduction'!E185))","v":""},{"$f":"IF('4 - Payroll reduction'!C185=\"Name\",\"\",IF('4 - Payroll reduction'!H185=\"Table 2\",\"\",'4 - Payroll reduction'!G185))","v":""},{"$f":"IF('4 - Payroll reduction'!C185=\"Name\",\"\",IF('4 - Payroll reduction'!H185=\"Table 2\",\"\",'4 - Payroll reduction'!F185))","v":""},95]
[{"$f":"IF('4 - Payroll reduction'!C186=\"Name\",\"\",IF('4 - Payroll reduction'!H186=\"Table 2\",\"\",'4 - Payroll reduction'!C186))","v":""},{"$f":"IF('4 - Payroll reduction'!C186=\"Name\",\"\",IF('4 - Payroll reduction'!H186=\"Table 2\",\"\",'4 - Payroll reduction'!D186))","v":""},{"$f":"IF('4 - Payroll reduction'!C186=\"Name\",\"\",IF('4 - Payroll reduction'!H186=\"Table 2\",\"\",'4 - Payroll reduction'!E186))","v":""},{"$f":"IF('4 - Payroll reduction'!C186=\"Name\",\"\",IF('4 - Payroll reduction'!H186=\"Table 2\",\"\",'4 - Payroll reduction'!G186))","v":""},{"$f":"IF('4 - Payroll reduction'!C186=\"Name\",\"\",IF('4 - Payroll reduction'!H186=\"Table 2\",\"\",'4 - Payroll reduction'!F186))","v":""},96]
[{"$f":"IF('4 - Payroll reduction'!C187=\"Name\",\"\",IF('4 - Payroll reduction'!H187=\"Table 2\",\"\",'4 - Payroll reduction'!C187))","v":""},{"$f":"IF('4 - Payroll reduction'!C187=\"Name\",\"\",IF('4 - Payroll reduction'!H187=\"Table 2\",\"\",'4 - Payroll reduction'!D187))","v":""},{"$f":"IF('4 - Payroll reduction'!C187=\"Name\",\"\",IF('4 - Payroll reduction'!H187=\"Table 2\",\"\",'4 - Payroll reduction'!E187))","v":""},{"$f":"IF('4 - Payroll reduction'!C187=\"Name\",\"\",IF('4 - Payroll reduction'!H187=\"Table 2\",\"\",'4 - Payroll reduction'!G187))","v":""},{"$f":"IF('4 - Payroll reduction'!C187=\"Name\",\"\",IF('4 - Payroll reduction'!H187=\"Table 2\",\"\",'4 - Payroll reduction'!F187))","v":""},97]
[{"$f":"IF('4 - Payroll reduction'!C188=\"Name\",\"\",IF('4 - Payroll reduction'!H188=\"Table 2\",\"\",'4 - Payroll reduction'!C188))","v":""},{"$f":"IF('4 - Payroll reduction'!C188=\"Name\",\"\",IF('4 - Payroll reduction'!H188=\"Table 2\",\"\",'4 - Payroll reduction'!D188))","v":""},{"$f":"IF('4 - Payroll reduction'!C188=\"Name\",\"\",IF('4 - Payroll reduction'!H188=\"Table 2\",\"\",'4 - Payroll reduction'!E188))","v":""},{"$f":"IF('4 - Payroll reduction'!C188=\"Name\",\"\",IF('4 - Payroll reduction'!H188=\"Table 2\",\"\",'4 - Payroll reduction'!G188))","v":""},{"$f":"IF('4 - Payroll reduction'!C188=\"Name\",\"\",IF('4 - Payroll reduction'!H188=\"Table 2\",\"\",'4 - Payroll reduction'!F188))","v":""},98]
[{"$f":"IF('4 - Payroll reduction'!C189=\"Name\",\"\",IF('4 - Payroll reduction'!H189=\"Table 2\",\"\",'4 - Payroll reduction'!C189))","v":""},{"$f":"IF('4 - Payroll reduction'!C189=\"Name\",\"\",IF('4 - Payroll reduction'!H189=\"Table 2\",\"\",'4 - Payroll reduction'!D189))","v":""},{"$f":"IF('4 - Payroll reduction'!C189=\"Name\",\"\",IF('4 - Payroll reduction'!H189=\"Table 2\",\"\",'4 - Payroll reduction'!E189))","v":""},{"$f":"IF('4 - Payroll reduction'!C189=\"Name\",\"\",IF('4 - Payroll reduction'!H189=\"Table 2\",\"\",'4 - Payroll reduction'!G189))","v":""},{"$f":"IF('4 - Payroll reduction'!C189=\"Name\",\"\",IF('4 - Payroll reduction'!H189=\"Table 2\",\"\",'4 - Payroll reduction'!F189))","v":""},99]
[{"$f":"IF('4 - Payroll reduction'!C190=\"Name\",\"\",IF('4 - Payroll reduction'!H190=\"Table 2\",\"\",'4 - Payroll reduction'!C190))","v":""},{"$f":"IF('4 - Payroll reduction'!C190=\"Name\",\"\",IF('4 - Payroll reduction'!H190=\"Table 2\",\"\",'4 - Payroll reduction'!D190))","v":""},{"$f":"IF('4 - Payroll reduction'!C190=\"Name\",\"\",IF('4 - Payroll reduction'!H190=\"Table 2\",\"\",'4 - Payroll reduction'!E190))","v":""},{"$f":"IF('4 - Payroll reduction'!C190=\"Name\",\"\",IF('4 - Payroll reduction'!H190=\"Table 2\",\"\",'4 - Payroll reduction'!G190))","v":""},{"$f":"IF('4 - Payroll reduction'!C190=\"Name\",\"\",IF('4 - Payroll reduction'!H190=\"Table 2\",\"\",'4 - Payroll reduction'!F190))","v":""},100]
[{"$f":"IF('4 - Payroll reduction'!C191=\"Name\",\"\",IF('4 - Payroll reduction'!H191=\"Table 2\",\"\",'4 - Payroll reduction'!C191))","v":""},{"$f":"IF('4 - Payroll reduction'!C191=\"Name\",\"\",IF('4 - Payroll reduction'!H191=\"Table 2\",\"\",'4 - Payroll reduction'!D191))","v":""},{"$f":"IF('4 - Payroll reduction'!C191=\"Name\",\"\",IF('4 - Payroll reduction'!H191=\"Table 2\",\"\",'4 - Payroll reduction'!E191))","v":""},{"$f":"IF('4 - Payroll reduction'!C191=\"Name\",\"\",IF('4 - Payroll reduction'!H191=\"Table 2\",\"\",'4 - Payroll reduction'!G191))","v":""},{"$f":"IF('4 - Payroll reduction'!C191=\"Name\",\"\",IF('4 - Payroll reduction'!H191=\"Table 2\",\"\",'4 - Payroll reduction'!F191))","v":""},101]
[{"$f":"IF('4 - Payroll reduction'!C192=\"Name\",\"\",IF('4 - Payroll reduction'!H192=\"Table 2\",\"\",'4 - Payroll reduction'!C192))","v":""},{"$f":"IF('4 - Payroll reduction'!C192=\"Name\",\"\",IF('4 - Payroll reduction'!H192=\"Table 2\",\"\",'4 - Payroll reduction'!D192))","v":""},{"$f":"IF('4 - Payroll reduction'!C192=\"Name\",\"\",IF('4 - Payroll reduction'!H192=\"Table 2\",\"\",'4 - Payroll reduction'!E192))","v":""},{"$f":"IF('4 - Payroll reduction'!C192=\"Name\",\"\",IF('4 - Payroll reduction'!H192=\"Table 2\",\"\",'4 - Payroll reduction'!G192))","v":""},{"$f":"IF('4 - Payroll reduction'!C192=\"Name\",\"\",IF('4 - Payroll reduction'!H192=\"Table 2\",\"\",'4 - Payroll reduction'!F192))","v":""},102]
[{"$f":"IF('4 - Payroll reduction'!C193=\"Name\",\"\",IF('4 - Payroll reduction'!H193=\"Table 2\",\"\",'4 - Payroll reduction'!C193))","v":""},{"$f":"IF('4 - Payroll reduction'!C193=\"Name\",\"\",IF('4 - Payroll reduction'!H193=\"Table 2\",\"\",'4 - Payroll reduction'!D193))","v":""},{"$f":"IF('4 - Payroll reduction'!C193=\"Name\",\"\",IF('4 - Payroll reduction'!H193=\"Table 2\",\"\",'4 - Payroll reduction'!E193))","v":""},{"$f":"IF('4 - Payroll reduction'!C193=\"Name\",\"\",IF('4 - Payroll reduction'!H193=\"Table 2\",\"\",'4 - Payroll reduction'!G193))","v":""},{"$f":"IF('4 - Payroll reduction'!C193=\"Name\",\"\",IF('4 - Payroll reduction'!H193=\"Table 2\",\"\",'4 - Payroll reduction'!F193))","v":""},103]
[{"$f":"IF('4 - Payroll reduction'!C194=\"Name\",\"\",IF('4 - Payroll reduction'!H194=\"Table 2\",\"\",'4 - Payroll reduction'!C194))","v":""},{"$f":"IF('4 - Payroll reduction'!C194=\"Name\",\"\",IF('4 - Payroll reduction'!H194=\"Table 2\",\"\",'4 - Payroll reduction'!D194))","v":""},{"$f":"IF('4 - Payroll reduction'!C194=\"Name\",\"\",IF('4 - Payroll reduction'!H194=\"Table 2\",\"\",'4 - Payroll reduction'!E194))","v":""},{"$f":"IF('4 - Payroll reduction'!C194=\"Name\",\"\",IF('4 - Payroll reduction'!H194=\"Table 2\",\"\",'4 - Payroll reduction'!G194))","v":""},{"$f":"IF('4 - Payroll reduction'!C194=\"Name\",\"\",IF('4 - Payroll reduction'!H194=\"Table 2\",\"\",'4 - Payroll reduction'!F194))","v":""},104]
[{"$f":"IF('4 - Payroll reduction'!C195=\"Name\",\"\",IF('4 - Payroll reduction'!H195=\"Table 2\",\"\",'4 - Payroll reduction'!C195))","v":""},{"$f":"IF('4 - Payroll reduction'!C195=\"Name\",\"\",IF('4 - Payroll reduction'!H195=\"Table 2\",\"\",'4 - Payroll reduction'!D195))","v":""},{"$f":"IF('4 - Payroll reduction'!C195=\"Name\",\"\",IF('4 - Payroll reduction'!H195=\"Table 2\",\"\",'4 - Payroll reduction'!E195))","v":""},{"$f":"IF('4 - Payroll reduction'!C195=\"Name\",\"\",IF('4 - Payroll reduction'!H195=\"Table 2\",\"\",'4 - Payroll reduction'!G195))","v":""},{"$f":"IF('4 - Payroll reduction'!C195=\"Name\",\"\",IF('4 - Payroll reduction'!H195=\"Table 2\",\"\",'4 - Payroll reduction'!F195))","v":""},105]
[{"$f":"IF('4 - Payroll reduction'!C196=\"Name\",\"\",IF('4 - Payroll reduction'!H196=\"Table 2\",\"\",'4 - Payroll reduction'!C196))","v":""},{"$f":"IF('4 - Payroll reduction'!C196=\"Name\",\"\",IF('4 - Payroll reduction'!H196=\"Table 2\",\"\",'4 - Payroll reduction'!D196))","v":""},{"$f":"IF('4 - Payroll reduction'!C196=\"Name\",\"\",IF('4 - Payroll reduction'!H196=\"Table 2\",\"\",'4 - Payroll reduction'!E196))","v":""},{"$f":"IF('4 - Payroll reduction'!C196=\"Name\",\"\",IF('4 - Payroll reduction'!H196=\"Table 2\",\"\",'4 - Payroll reduction'!G196))","v":""},{"$f":"IF('4 - Payroll reduction'!C196=\"Name\",\"\",IF('4 - Payroll reduction'!H196=\"Table 2\",\"\",'4 - Payroll reduction'!F196))","v":""},106]
[{"$f":"IF('4 - Payroll reduction'!C197=\"Name\",\"\",IF('4 - Payroll reduction'!H197=\"Table 2\",\"\",'4 - Payroll reduction'!C197))","v":""},{"$f":"IF('4 - Payroll reduction'!C197=\"Name\",\"\",IF('4 - Payroll reduction'!H197=\"Table 2\",\"\",'4 - Payroll reduction'!D197))","v":""},{"$f":"IF('4 - Payroll reduction'!C197=\"Name\",\"\",IF('4 - Payroll reduction'!H197=\"Table 2\",\"\",'4 - Payroll reduction'!E197))","v":""},{"$f":"IF('4 - Payroll reduction'!C197=\"Name\",\"\",IF('4 - Payroll reduction'!H197=\"Table 2\",\"\",'4 - Payroll reduction'!G197))","v":""},{"$f":"IF('4 - Payroll reduction'!C197=\"Name\",\"\",IF('4 - Payroll reduction'!H197=\"Table 2\",\"\",'4 - Payroll reduction'!F197))","v":""},107]
[{"$f":"IF('4 - Payroll reduction'!C198=\"Name\",\"\",IF('4 - Payroll reduction'!H198=\"Table 2\",\"\",'4 - Payroll reduction'!C198))","v":""},{"$f":"IF('4 - Payroll reduction'!C198=\"Name\",\"\",IF('4 - Payroll reduction'!H198=\"Table 2\",\"\",'4 - Payroll reduction'!D198))","v":""},{"$f":"IF('4 - Payroll reduction'!C198=\"Name\",\"\",IF('4 - Payroll reduction'!H198=\"Table 2\",\"\",'4 - Payroll reduction'!E198))","v":""},{"$f":"IF('4 - Payroll reduction'!C198=\"Name\",\"\",IF('4 - Payroll reduction'!H198=\"Table 2\",\"\",'4 - Payroll reduction'!G198))","v":""},{"$f":"IF('4 - Payroll reduction'!C198=\"Name\",\"\",IF('4 - Payroll reduction'!H198=\"Table 2\",\"\",'4 - Payroll reduction'!F198))","v":""},108]
[{"$f":"IF('4 - Payroll reduction'!C199=\"Name\",\"\",IF('4 - Payroll reduction'!H199=\"Table 2\",\"\",'4 - Payroll reduction'!C199))","v":""},{"$f":"IF('4 - Payroll reduction'!C199=\"Name\",\"\",IF('4 - Payroll reduction'!H199=\"Table 2\",\"\",'4 - Payroll reduction'!D199))","v":""},{"$f":"IF('4 - Payroll reduction'!C199=\"Name\",\"\",IF('4 - Payroll reduction'!H199=\"Table 2\",\"\",'4 - Payroll reduction'!E199))","v":""},{"$f":"IF('4 - Payroll reduction'!C199=\"Name\",\"\",IF('4 - Payroll reduction'!H199=\"Table 2\",\"\",'4 - Payroll reduction'!G199))","v":""},{"$f":"IF('4 - Payroll reduction'!C199=\"Name\",\"\",IF('4 - Payroll reduction'!H199=\"Table 2\",\"\",'4 - Payroll reduction'!F199))","v":""},109]
[{"$f":"IF('4 - Payroll reduction'!C200=\"Name\",\"\",IF('4 - Payroll reduction'!H200=\"Table 2\",\"\",'4 - Payroll reduction'!C200))","v":""},{"$f":"IF('4 - Payroll reduction'!C200=\"Name\",\"\",IF('4 - Payroll reduction'!H200=\"Table 2\",\"\",'4 - Payroll reduction'!D200))","v":""},{"$f":"IF('4 - Payroll reduction'!C200=\"Name\",\"\",IF('4 - Payroll reduction'!H200=\"Table 2\",\"\",'4 - Payroll reduction'!E200))","v":""},{"$f":"IF('4 - Payroll reduction'!C200=\"Name\",\"\",IF('4 - Payroll reduction'!H200=\"Table 2\",\"\",'4 - Payroll reduction'!G200))","v":""},{"$f":"IF('4 - Payroll reduction'!C200=\"Name\",\"\",IF('4 - Payroll reduction'!H200=\"Table 2\",\"\",'4 - Payroll reduction'!F200))","v":""},110]
[{"$f":"IF('4 - Payroll reduction'!C201=\"Name\",\"\",IF('4 - Payroll reduction'!H201=\"Table 2\",\"\",'4 - Payroll reduction'!C201))","v":""},{"$f":"IF('4 - Payroll reduction'!C201=\"Name\",\"\",IF('4 - Payroll reduction'!H201=\"Table 2\",\"\",'4 - Payroll reduction'!D201))","v":""},{"$f":"IF('4 - Payroll reduction'!C201=\"Name\",\"\",IF('4 - Payroll reduction'!H201=\"Table 2\",\"\",'4 - Payroll reduction'!E201))","v":""},{"$f":"IF('4 - Payroll reduction'!C201=\"Name\",\"\",IF('4 - Payroll reduction'!H201=\"Table 2\",\"\",'4 - Payroll reduction'!G201))","v":""},{"$f":"IF('4 - Payroll reduction'!C201=\"Name\",\"\",IF('4 - Payroll reduction'!H201=\"Table 2\",\"\",'4 - Payroll reduction'!F201))","v":""},111]
[{"$f":"IF('4 - Payroll reduction'!C202=\"Name\",\"\",IF('4 - Payroll reduction'!H202=\"Table 2\",\"\",'4 - Payroll reduction'!C202))","v":""},{"$f":"IF('4 - Payroll reduction'!C202=\"Name\",\"\",IF('4 - Payroll reduction'!H202=\"Table 2\",\"\",'4 - Payroll reduction'!D202))","v":""},{"$f":"IF('4 - Payroll reduction'!C202=\"Name\",\"\",IF('4 - Payroll reduction'!H202=\"Table 2\",\"\",'4 - Payroll reduction'!E202))","v":""},{"$f":"IF('4 - Payroll reduction'!C202=\"Name\",\"\",IF('4 - Payroll reduction'!H202=\"Table 2\",\"\",'4 - Payroll reduction'!G202))","v":""},{"$f":"IF('4 - Payroll reduction'!C202=\"Name\",\"\",IF('4 - Payroll reduction'!H202=\"Table 2\",\"\",'4 - Payroll reduction'!F202))","v":""},112]
[{"$f":"IF('4 - Payroll reduction'!C203=\"Name\",\"\",IF('4 - Payroll reduction'!H203=\"Table 2\",\"\",'4 - Payroll reduction'!C203))","v":""},{"$f":"IF('4 - Payroll reduction'!C203=\"Name\",\"\",IF('4 - Payroll reduction'!H203=\"Table 2\",\"\",'4 - Payroll reduction'!D203))","v":""},{"$f":"IF('4 - Payroll reduction'!C203=\"Name\",\"\",IF('4 - Payroll reduction'!H203=\"Table 2\",\"\",'4 - Payroll reduction'!E203))","v":""},{"$f":"IF('4 - Payroll reduction'!C203=\"Name\",\"\",IF('4 - Payroll reduction'!H203=\"Table 2\",\"\",'4 - Payroll reduction'!G203))","v":""},{"$f":"IF('4 - Payroll reduction'!C203=\"Name\",\"\",IF('4 - Payroll reduction'!H203=\"Table 2\",\"\",'4 - Payroll reduction'!F203))","v":""},113]
[{"$f":"IF('4 - Payroll reduction'!C204=\"Name\",\"\",IF('4 - Payroll reduction'!H204=\"Table 2\",\"\",'4 - Payroll reduction'!C204))","v":""},{"$f":"IF('4 - Payroll reduction'!C204=\"Name\",\"\",IF('4 - Payroll reduction'!H204=\"Table 2\",\"\",'4 - Payroll reduction'!D204))","v":""},{"$f":"IF('4 - Payroll reduction'!C204=\"Name\",\"\",IF('4 - Payroll reduction'!H204=\"Table 2\",\"\",'4 - Payroll reduction'!E204))","v":""},{"$f":"IF('4 - Payroll reduction'!C204=\"Name\",\"\",IF('4 - Payroll reduction'!H204=\"Table 2\",\"\",'4 - Payroll reduction'!G204))","v":""},{"$f":"IF('4 - Payroll reduction'!C204=\"Name\",\"\",IF('4 - Payroll reduction'!H204=\"Table 2\",\"\",'4 - Payroll reduction'!F204))","v":""},114]
[{"$f":"IF('4 - Payroll reduction'!C205=\"Name\",\"\",IF('4 - Payroll reduction'!H205=\"Table 2\",\"\",'4 - Payroll reduction'!C205))","v":""},{"$f":"IF('4 - Payroll reduction'!C205=\"Name\",\"\",IF('4 - Payroll reduction'!H205=\"Table 2\",\"\",'4 - Payroll reduction'!D205))","v":""},{"$f":"IF('4 - Payroll reduction'!C205=\"Name\",\"\",IF('4 - Payroll reduction'!H205=\"Table 2\",\"\",'4 - Payroll reduction'!E205))","v":""},{"$f":"IF('4 - Payroll reduction'!C205=\"Name\",\"\",IF('4 - Payroll reduction'!H205=\"Table 2\",\"\",'4 - Payroll reduction'!G205))","v":""},{"$f":"IF('4 - Payroll reduction'!C205=\"Name\",\"\",IF('4 - Payroll reduction'!H205=\"Table 2\",\"\",'4 - Payroll reduction'!F205))","v":""},115]
[{"$f":"IF('4 - Payroll reduction'!C206=\"Name\",\"\",IF('4 - Payroll reduction'!H206=\"Table 2\",\"\",'4 - Payroll reduction'!C206))","v":""},{"$f":"IF('4 - Payroll reduction'!C206=\"Name\",\"\",IF('4 - Payroll reduction'!H206=\"Table 2\",\"\",'4 - Payroll reduction'!D206))","v":""},{"$f":"IF('4 - Payroll reduction'!C206=\"Name\",\"\",IF('4 - Payroll reduction'!H206=\"Table 2\",\"\",'4 - Payroll reduction'!E206))","v":""},{"$f":"IF('4 - Payroll reduction'!C206=\"Name\",\"\",IF('4 - Payroll reduction'!H206=\"Table 2\",\"\",'4 - Payroll reduction'!G206))","v":""},{"$f":"IF('4 - Payroll reduction'!C206=\"Name\",\"\",IF('4 - Payroll reduction'!H206=\"Table 2\",\"\",'4 - Payroll reduction'!F206))","v":""},116]
[{"$f":"IF('4 - Payroll reduction'!C207=\"Name\",\"\",IF('4 - Payroll reduction'!H207=\"Table 2\",\"\",'4 - Payroll reduction'!C207))","v":""},{"$f":"IF('4 - Payroll reduction'!C207=\"Name\",\"\",IF('4 - Payroll reduction'!H207=\"Table 2\",\"\",'4 - Payroll reduction'!D207))","v":""},{"$f":"IF('4 - Payroll reduction'!C207=\"Name\",\"\",IF('4 - Payroll reduction'!H207=\"Table 2\",\"\",'4 - Payroll reduction'!E207))","v":""},{"$f":"IF('4 - Payroll reduction'!C207=\"Name\",\"\",IF('4 - Payroll reduction'!H207=\"Table 2\",\"\",'4 - Payroll reduction'!G207))","v":""},{"$f":"IF('4 - Payroll reduction'!C207=\"Name\",\"\",IF('4 - Payroll reduction'!H207=\"Table 2\",\"\",'4 - Payroll reduction'!F207))","v":""},117]
[{"$f":"IF('4 - Payroll reduction'!C208=\"Name\",\"\",IF('4 - Payroll reduction'!H208=\"Table 2\",\"\",'4 - Payroll reduction'!C208))","v":""},{"$f":"IF('4 - Payroll reduction'!C208=\"Name\",\"\",IF('4 - Payroll reduction'!H208=\"Table 2\",\"\",'4 - Payroll reduction'!D208))","v":""},{"$f":"IF('4 - Payroll reduction'!C208=\"Name\",\"\",IF('4 - Payroll reduction'!H208=\"Table 2\",\"\",'4 - Payroll reduction'!E208))","v":""},{"$f":"IF('4 - Payroll reduction'!C208=\"Name\",\"\",IF('4 - Payroll reduction'!H208=\"Table 2\",\"\",'4 - Payroll reduction'!G208))","v":""},{"$f":"IF('4 - Payroll reduction'!C208=\"Name\",\"\",IF('4 - Payroll reduction'!H208=\"Table 2\",\"\",'4 - Payroll reduction'!F208))","v":""},118]
[{"$f":"IF('4 - Payroll reduction'!C209=\"Name\",\"\",IF('4 - Payroll reduction'!H209=\"Table 2\",\"\",'4 - Payroll reduction'!C209))","v":""},{"$f":"IF('4 - Payroll reduction'!C209=\"Name\",\"\",IF('4 - Payroll reduction'!H209=\"Table 2\",\"\",'4 - Payroll reduction'!D209))","v":""},{"$f":"IF('4 - Payroll reduction'!C209=\"Name\",\"\",IF('4 - Payroll reduction'!H209=\"Table 2\",\"\",'4 - Payroll reduction'!E209))","v":""},{"$f":"IF('4 - Payroll reduction'!C209=\"Name\",\"\",IF('4 - Payroll reduction'!H209=\"Table 2\",\"\",'4 - Payroll reduction'!G209))","v":""},{"$f":"IF('4 - Payroll reduction'!C209=\"Name\",\"\",IF('4 - Payroll reduction'!H209=\"Table 2\",\"\",'4 - Payroll reduction'!F209))","v":""},119]
[{"$f":"IF('4 - Payroll reduction'!C210=\"Name\",\"\",IF('4 - Payroll reduction'!H210=\"Table 2\",\"\",'4 - Payroll reduction'!C210))","v":""},{"$f":"IF('4 - Payroll reduction'!C210=\"Name\",\"\",IF('4 - Payroll reduction'!H210=\"Table 2\",\"\",'4 - Payroll reduction'!D210))","v":""},{"$f":"IF('4 - Payroll reduction'!C210=\"Name\",\"\",IF('4 - Payroll reduction'!H210=\"Table 2\",\"\",'4 - Payroll reduction'!E210))","v":""},{"$f":"IF('4 - Payroll reduction'!C210=\"Name\",\"\",IF('4 - Payroll reduction'!H210=\"Table 2\",\"\",'4 - Payroll reduction'!G210))","v":""},{"$f":"IF('4 - Payroll reduction'!C210=\"Name\",\"\",IF('4 - Payroll reduction'!H210=\"Table 2\",\"\",'4 - Payroll reduction'!F210))","v":""},120]
[{"$f":"IF('4 - Payroll reduction'!C211=\"Name\",\"\",IF('4 - Payroll reduction'!H211=\"Table 2\",\"\",'4 - Payroll reduction'!C211))","v":""},{"$f":"IF('4 - Payroll reduction'!C211=\"Name\",\"\",IF('4 - Payroll reduction'!H211=\"Table 2\",\"\",'4 - Payroll reduction'!D211))","v":""},{"$f":"IF('4 - Payroll reduction'!C211=\"Name\",\"\",IF('4 - Payroll reduction'!H211=\"Table 2\",\"\",'4 - Payroll reduction'!E211))","v":""},{"$f":"IF('4 - Payroll reduction'!C211=\"Name\",\"\",IF('4 - Payroll reduction'!H211=\"Table 2\",\"\",'4 - Payroll reduction'!G211))","v":""},{"$f":"IF('4 - Payroll reduction'!C211=\"Name\",\"\",IF('4 - Payroll reduction'!H211=\"Table 2\",\"\",'4 - Payroll reduction'!F211))","v":""},121]
[{"$f":"IF('4 - Payroll reduction'!C212=\"Name\",\"\",IF('4 - Payroll reduction'!H212=\"Table 2\",\"\",'4 - Payroll reduction'!C212))","v":""},{"$f":"IF('4 - Payroll reduction'!C212=\"Name\",\"\",IF('4 - Payroll reduction'!H212=\"Table 2\",\"\",'4 - Payroll reduction'!D212))","v":""},{"$f":"IF('4 - Payroll reduction'!C212=\"Name\",\"\",IF('4 - Payroll reduction'!H212=\"Table 2\",\"\",'4 - Payroll reduction'!E212))","v":""},{"$f":"IF('4 - Payroll reduction'!C212=\"Name\",\"\",IF('4 - Payroll reduction'!H212=\"Table 2\",\"\",'4 - Payroll reduction'!G212))","v":""},{"$f":"IF('4 - Payroll reduction'!C212=\"Name\",\"\",IF('4 - Payroll reduction'!H212=\"Table 2\",\"\",'4 - Payroll reduction'!F212))","v":""},122]
[{"$f":"IF('4 - Payroll reduction'!C213=\"Name\",\"\",IF('4 - Payroll reduction'!H213=\"Table 2\",\"\",'4 - Payroll reduction'!C213))","v":""},{"$f":"IF('4 - Payroll reduction'!C213=\"Name\",\"\",IF('4 - Payroll reduction'!H213=\"Table 2\",\"\",'4 - Payroll reduction'!D213))","v":""},{"$f":"IF('4 - Payroll reduction'!C213=\"Name\",\"\",IF('4 - Payroll reduction'!H213=\"Table 2\",\"\",'4 - Payroll reduction'!E213))","v":""},{"$f":"IF('4 - Payroll reduction'!C213=\"Name\",\"\",IF('4 - Payroll reduction'!H213=\"Table 2\",\"\",'4 - Payroll reduction'!G213))","v":""},{"$f":"IF('4 - Payroll reduction'!C213=\"Name\",\"\",IF('4 - Payroll reduction'!H213=\"Table 2\",\"\",'4 - Payroll reduction'!F213))","v":""},123]
[{"$f":"IF('4 - Payroll reduction'!C214=\"Name\",\"\",IF('4 - Payroll reduction'!H214=\"Table 2\",\"\",'4 - Payroll reduction'!C214))","v":""},{"$f":"IF('4 - Payroll reduction'!C214=\"Name\",\"\",IF('4 - Payroll reduction'!H214=\"Table 2\",\"\",'4 - Payroll reduction'!D214))","v":""},{"$f":"IF('4 - Payroll reduction'!C214=\"Name\",\"\",IF('4 - Payroll reduction'!H214=\"Table 2\",\"\",'4 - Payroll reduction'!E214))","v":""},{"$f":"IF('4 - Payroll reduction'!C214=\"Name\",\"\",IF('4 - Payroll reduction'!H214=\"Table 2\",\"\",'4 - Payroll reduction'!G214))","v":""},{"$f":"IF('4 - Payroll reduction'!C214=\"Name\",\"\",IF('4 - Payroll reduction'!H214=\"Table 2\",\"\",'4 - Payroll reduction'!F214))","v":""},124]
[{"$f":"IF('4 - Payroll reduction'!C215=\"Name\",\"\",IF('4 - Payroll reduction'!H215=\"Table 2\",\"\",'4 - Payroll reduction'!C215))","v":""},{"$f":"IF('4 - Payroll reduction'!C215=\"Name\",\"\",IF('4 - Payroll reduction'!H215=\"Table 2\",\"\",'4 - Payroll reduction'!D215))","v":""},{"$f":"IF('4 - Payroll reduction'!C215=\"Name\",\"\",IF('4 - Payroll reduction'!H215=\"Table 2\",\"\",'4 - Payroll reduction'!E215))","v":""},{"$f":"IF('4 - Payroll reduction'!C215=\"Name\",\"\",IF('4 - Payroll reduction'!H215=\"Table 2\",\"\",'4 - Payroll reduction'!G215))","v":""},{"$f":"IF('4 - Payroll reduction'!C215=\"Name\",\"\",IF('4 - Payroll reduction'!H215=\"Table 2\",\"\",'4 - Payroll reduction'!F215))","v":""},125]
[{"$f":"IF('4 - Payroll reduction'!C216=\"Name\",\"\",IF('4 - Payroll reduction'!H216=\"Table 2\",\"\",'4 - Payroll reduction'!C216))","v":""},{"$f":"IF('4 - Payroll reduction'!C216=\"Name\",\"\",IF('4 - Payroll reduction'!H216=\"Table 2\",\"\",'4 - Payroll reduction'!D216))","v":""},{"$f":"IF('4 - Payroll reduction'!C216=\"Name\",\"\",IF('4 - Payroll reduction'!H216=\"Table 2\",\"\",'4 - Payroll reduction'!E216))","v":""},{"$f":"IF('4 - Payroll reduction'!C216=\"Name\",\"\",IF('4 - Payroll reduction'!H216=\"Table 2\",\"\",'4 - Payroll reduction'!G216))","v":""},{"$f":"IF('4 - Payroll reduction'!C216=\"Name\",\"\",IF('4 - Payroll reduction'!H216=\"Table 2\",\"\",'4 - Payroll reduction'!F216))","v":""},126]
[{"$f":"IF('4 - Payroll reduction'!C217=\"Name\",\"\",IF('4 - Payroll reduction'!H217=\"Table 2\",\"\",'4 - Payroll reduction'!C217))","v":""},{"$f":"IF('4 - Payroll reduction'!C217=\"Name\",\"\",IF('4 - Payroll reduction'!H217=\"Table 2\",\"\",'4 - Payroll reduction'!D217))","v":""},{"$f":"IF('4 - Payroll reduction'!C217=\"Name\",\"\",IF('4 - Payroll reduction'!H217=\"Table 2\",\"\",'4 - Payroll reduction'!E217))","v":""},{"$f":"IF('4 - Payroll reduction'!C217=\"Name\",\"\",IF('4 - Payroll reduction'!H217=\"Table 2\",\"\",'4 - Payroll reduction'!G217))","v":""},{"$f":"IF('4 - Payroll reduction'!C217=\"Name\",\"\",IF('4 - Payroll reduction'!H217=\"Table 2\",\"\",'4 - Payroll reduction'!F217))","v":""},127]
[{"$f":"IF('4 - Payroll reduction'!C218=\"Name\",\"\",IF('4 - Payroll reduction'!H218=\"Table 2\",\"\",'4 - Payroll reduction'!C218))","v":""},{"$f":"IF('4 - Payroll reduction'!C218=\"Name\",\"\",IF('4 - Payroll reduction'!H218=\"Table 2\",\"\",'4 - Payroll reduction'!D218))","v":""},{"$f":"IF('4 - Payroll reduction'!C218=\"Name\",\"\",IF('4 - Payroll reduction'!H218=\"Table 2\",\"\",'4 - Payroll reduction'!E218))","v":""},{"$f":"IF('4 - Payroll reduction'!C218=\"Name\",\"\",IF('4 - Payroll reduction'!H218=\"Table 2\",\"\",'4 - Payroll reduction'!G218))","v":""},{"$f":"IF('4 - Payroll reduction'!C218=\"Name\",\"\",IF('4 - Payroll reduction'!H218=\"Table 2\",\"\",'4 - Payroll reduction'!F218))","v":""},128]
[{"$f":"IF('4 - Payroll reduction'!C219=\"Name\",\"\",IF('4 - Payroll reduction'!H219=\"Table 2\",\"\",'4 - Payroll reduction'!C219))","v":""},{"$f":"IF('4 - Payroll reduction'!C219=\"Name\",\"\",IF('4 - Payroll reduction'!H219=\"Table 2\",\"\",'4 - Payroll reduction'!D219))","v":""},{"$f":"IF('4 - Payroll reduction'!C219=\"Name\",\"\",IF('4 - Payroll reduction'!H219=\"Table 2\",\"\",'4 - Payroll reduction'!E219))","v":""},{"$f":"IF('4 - Payroll reduction'!C219=\"Name\",\"\",IF('4 - Payroll reduction'!H219=\"Table 2\",\"\",'4 - Payroll reduction'!G219))","v":""},{"$f":"IF('4 - Payroll reduction'!C219=\"Name\",\"\",IF('4 - Payroll reduction'!H219=\"Table 2\",\"\",'4 - Payroll reduction'!F219))","v":""},129]
[{"$f":"IF('4 - Payroll reduction'!C220=\"Name\",\"\",IF('4 - Payroll reduction'!H220=\"Table 2\",\"\",'4 - Payroll reduction'!C220))","v":""},{"$f":"IF('4 - Payroll reduction'!C220=\"Name\",\"\",IF('4 - Payroll reduction'!H220=\"Table 2\",\"\",'4 - Payroll reduction'!D220))","v":""},{"$f":"IF('4 - Payroll reduction'!C220=\"Name\",\"\",IF('4 - Payroll reduction'!H220=\"Table 2\",\"\",'4 - Payroll reduction'!E220))","v":""},{"$f":"IF('4 - Payroll reduction'!C220=\"Name\",\"\",IF('4 - Payroll reduction'!H220=\"Table 2\",\"\",'4 - Payroll reduction'!G220))","v":""},{"$f":"IF('4 - Payroll reduction'!C220=\"Name\",\"\",IF('4 - Payroll reduction'!H220=\"Table 2\",\"\",'4 - Payroll reduction'!F220))","v":""},130]
[{"$f":"IF('4 - Payroll reduction'!C221=\"Name\",\"\",IF('4 - Payroll reduction'!H221=\"Table 2\",\"\",'4 - Payroll reduction'!C221))","v":""},{"$f":"IF('4 - Payroll reduction'!C221=\"Name\",\"\",IF('4 - Payroll reduction'!H221=\"Table 2\",\"\",'4 - Payroll reduction'!D221))","v":""},{"$f":"IF('4 - Payroll reduction'!C221=\"Name\",\"\",IF('4 - Payroll reduction'!H221=\"Table 2\",\"\",'4 - Payroll reduction'!E221))","v":""},{"$f":"IF('4 - Payroll reduction'!C221=\"Name\",\"\",IF('4 - Payroll reduction'!H221=\"Table 2\",\"\",'4 - Payroll reduction'!G221))","v":""},{"$f":"IF('4 - Payroll reduction'!C221=\"Name\",\"\",IF('4 - Payroll reduction'!H221=\"Table 2\",\"\",'4 - Payroll reduction'!F221))","v":""},{"$f":"F139+1","v":131}]
[{"$f":"IF('4 - Payroll reduction'!C222=\"Name\",\"\",IF('4 - Payroll reduction'!H222=\"Table 2\",\"\",'4 - Payroll reduction'!C222))","v":""},{"$f":"IF('4 - Payroll reduction'!C222=\"Name\",\"\",IF('4 - Payroll reduction'!H222=\"Table 2\",\"\",'4 - Payroll reduction'!D222))","v":""},{"$f":"IF('4 - Payroll reduction'!C222=\"Name\",\"\",IF('4 - Payroll reduction'!H222=\"Table 2\",\"\",'4 - Payroll reduction'!E222))","v":""},{"$f":"IF('4 - Payroll reduction'!C222=\"Name\",\"\",IF('4 - Payroll reduction'!H222=\"Table 2\",\"\",'4 - Payroll reduction'!G222))","v":""},{"$f":"IF('4 - Payroll reduction'!C222=\"Name\",\"\",IF('4 - Payroll reduction'!H222=\"Table 2\",\"\",'4 - Payroll reduction'!F222))","v":""},132]
[{"$f":"IF('4 - Payroll reduction'!C223=\"Name\",\"\",IF('4 - Payroll reduction'!H223=\"Table 2\",\"\",'4 - Payroll reduction'!C223))","v":""},{"$f":"IF('4 - Payroll reduction'!C223=\"Name\",\"\",IF('4 - Payroll reduction'!H223=\"Table 2\",\"\",'4 - Payroll reduction'!D223))","v":""},{"$f":"IF('4 - Payroll reduction'!C223=\"Name\",\"\",IF('4 - Payroll reduction'!H223=\"Table 2\",\"\",'4 - Payroll reduction'!E223))","v":""},{"$f":"IF('4 - Payroll reduction'!C223=\"Name\",\"\",IF('4 - Payroll reduction'!H223=\"Table 2\",\"\",'4 - Payroll reduction'!G223))","v":""},{"$f":"IF('4 - Payroll reduction'!C223=\"Name\",\"\",IF('4 - Payroll reduction'!H223=\"Table 2\",\"\",'4 - Payroll reduction'!F223))","v":""},133]
[{"$f":"IF('4 - Payroll reduction'!C224=\"Name\",\"\",IF('4 - Payroll reduction'!H224=\"Table 2\",\"\",'4 - Payroll reduction'!C224))","v":""},{"$f":"IF('4 - Payroll reduction'!C224=\"Name\",\"\",IF('4 - Payroll reduction'!H224=\"Table 2\",\"\",'4 - Payroll reduction'!D224))","v":""},{"$f":"IF('4 - Payroll reduction'!C224=\"Name\",\"\",IF('4 - Payroll reduction'!H224=\"Table 2\",\"\",'4 - Payroll reduction'!E224))","v":""},{"$f":"IF('4 - Payroll reduction'!C224=\"Name\",\"\",IF('4 - Payroll reduction'!H224=\"Table 2\",\"\",'4 - Payroll reduction'!G224))","v":""},{"$f":"IF('4 - Payroll reduction'!C224=\"Name\",\"\",IF('4 - Payroll reduction'!H224=\"Table 2\",\"\",'4 - Payroll reduction'!F224))","v":""},134]
[{"$f":"IF('4 - Payroll reduction'!C225=\"Name\",\"\",IF('4 - Payroll reduction'!H225=\"Table 2\",\"\",'4 - Payroll reduction'!C225))","v":""},{"$f":"IF('4 - Payroll reduction'!C225=\"Name\",\"\",IF('4 - Payroll reduction'!H225=\"Table 2\",\"\",'4 - Payroll reduction'!D225))","v":""},{"$f":"IF('4 - Payroll reduction'!C225=\"Name\",\"\",IF('4 - Payroll reduction'!H225=\"Table 2\",\"\",'4 - Payroll reduction'!E225))","v":""},{"$f":"IF('4 - Payroll reduction'!C225=\"Name\",\"\",IF('4 - Payroll reduction'!H225=\"Table 2\",\"\",'4 - Payroll reduction'!G225))","v":""},{"$f":"IF('4 - Payroll reduction'!C225=\"Name\",\"\",IF('4 - Payroll reduction'!H225=\"Table 2\",\"\",'4 - Payroll reduction'!F225))","v":""},135]
[{"$f":"IF('4 - Payroll reduction'!C226=\"Name\",\"\",IF('4 - Payroll reduction'!H226=\"Table 2\",\"\",'4 - Payroll reduction'!C226))","v":""},{"$f":"IF('4 - Payroll reduction'!C226=\"Name\",\"\",IF('4 - Payroll reduction'!H226=\"Table 2\",\"\",'4 - Payroll reduction'!D226))","v":""},{"$f":"IF('4 - Payroll reduction'!C226=\"Name\",\"\",IF('4 - Payroll reduction'!H226=\"Table 2\",\"\",'4 - Payroll reduction'!E226))","v":""},{"$f":"IF('4 - Payroll reduction'!C226=\"Name\",\"\",IF('4 - Payroll reduction'!H226=\"Table 2\",\"\",'4 - Payroll reduction'!G226))","v":""},{"$f":"IF('4 - Payroll reduction'!C226=\"Name\",\"\",IF('4 - Payroll reduction'!H226=\"Table 2\",\"\",'4 - Payroll reduction'!F226))","v":""},136]
[{"$f":"IF('4 - Payroll reduction'!C227=\"Name\",\"\",IF('4 - Payroll reduction'!H227=\"Table 2\",\"\",'4 - Payroll reduction'!C227))","v":""},{"$f":"IF('4 - Payroll reduction'!C227=\"Name\",\"\",IF('4 - Payroll reduction'!H227=\"Table 2\",\"\",'4 - Payroll reduction'!D227))","v":""},{"$f":"IF('4 - Payroll reduction'!C227=\"Name\",\"\",IF('4 - Payroll reduction'!H227=\"Table 2\",\"\",'4 - Payroll reduction'!E227))","v":""},{"$f":"IF('4 - Payroll reduction'!C227=\"Name\",\"\",IF('4 - Payroll reduction'!H227=\"Table 2\",\"\",'4 - Payroll reduction'!G227))","v":""},{"$f":"IF('4 - Payroll reduction'!C227=\"Name\",\"\",IF('4 - Payroll reduction'!H227=\"Table 2\",\"\",'4 - Payroll reduction'!F227))","v":""},137]
[{"$f":"IF('4 - Payroll reduction'!C228=\"Name\",\"\",IF('4 - Payroll reduction'!H228=\"Table 2\",\"\",'4 - Payroll reduction'!C228))","v":""},{"$f":"IF('4 - Payroll reduction'!C228=\"Name\",\"\",IF('4 - Payroll reduction'!H228=\"Table 2\",\"\",'4 - Payroll reduction'!D228))","v":""},{"$f":"IF('4 - Payroll reduction'!C228=\"Name\",\"\",IF('4 - Payroll reduction'!H228=\"Table 2\",\"\",'4 - Payroll reduction'!E228))","v":""},{"$f":"IF('4 - Payroll reduction'!C228=\"Name\",\"\",IF('4 - Payroll reduction'!H228=\"Table 2\",\"\",'4 - Payroll reduction'!G228))","v":""},{"$f":"IF('4 - Payroll reduction'!C228=\"Name\",\"\",IF('4 - Payroll reduction'!H228=\"Table 2\",\"\",'4 - Payroll reduction'!F228))","v":""},138]
[{"$f":"IF('4 - Payroll reduction'!C229=\"Name\",\"\",IF('4 - Payroll reduction'!H229=\"Table 2\",\"\",'4 - Payroll reduction'!C229))","v":""},{"$f":"IF('4 - Payroll reduction'!C229=\"Name\",\"\",IF('4 - Payroll reduction'!H229=\"Table 2\",\"\",'4 - Payroll reduction'!D229))","v":""},{"$f":"IF('4 - Payroll reduction'!C229=\"Name\",\"\",IF('4 - Payroll reduction'!H229=\"Table 2\",\"\",'4 - Payroll reduction'!E229))","v":""},{"$f":"IF('4 - Payroll reduction'!C229=\"Name\",\"\",IF('4 - Payroll reduction'!H229=\"Table 2\",\"\",'4 - Payroll reduction'!G229))","v":""},{"$f":"IF('4 - Payroll reduction'!C229=\"Name\",\"\",IF('4 - Payroll reduction'!H229=\"Table 2\",\"\",'4 - Payroll reduction'!F229))","v":""},139]
[{"$f":"IF('4 - Payroll reduction'!C230=\"Name\",\"\",IF('4 - Payroll reduction'!H230=\"Table 2\",\"\",'4 - Payroll reduction'!C230))","v":""},{"$f":"IF('4 - Payroll reduction'!C230=\"Name\",\"\",IF('4 - Payroll reduction'!H230=\"Table 2\",\"\",'4 - Payroll reduction'!D230))","v":""},{"$f":"IF('4 - Payroll reduction'!C230=\"Name\",\"\",IF('4 - Payroll reduction'!H230=\"Table 2\",\"\",'4 - Payroll reduction'!E230))","v":""},{"$f":"IF('4 - Payroll reduction'!C230=\"Name\",\"\",IF('4 - Payroll reduction'!H230=\"Table 2\",\"\",'4 - Payroll reduction'!G230))","v":""},{"$f":"IF('4 - Payroll reduction'!C230=\"Name\",\"\",IF('4 - Payroll reduction'!H230=\"Table 2\",\"\",'4 - Payroll reduction'!F230))","v":""},140]
[{"$f":"IF('4 - Payroll reduction'!C231=\"Name\",\"\",IF('4 - Payroll reduction'!H231=\"Table 2\",\"\",'4 - Payroll reduction'!C231))","v":""},{"$f":"IF('4 - Payroll reduction'!C231=\"Name\",\"\",IF('4 - Payroll reduction'!H231=\"Table 2\",\"\",'4 - Payroll reduction'!D231))","v":""},{"$f":"IF('4 - Payroll reduction'!C231=\"Name\",\"\",IF('4 - Payroll reduction'!H231=\"Table 2\",\"\",'4 - Payroll reduction'!E231))","v":""},{"$f":"IF('4 - Payroll reduction'!C231=\"Name\",\"\",IF('4 - Payroll reduction'!H231=\"Table 2\",\"\",'4 - Payroll reduction'!G231))","v":""},{"$f":"IF('4 - Payroll reduction'!C231=\"Name\",\"\",IF('4 - Payroll reduction'!H231=\"Table 2\",\"\",'4 - Payroll reduction'!F231))","v":""},141]
[{"$f":"IF('4 - Payroll reduction'!C232=\"Name\",\"\",IF('4 - Payroll reduction'!H232=\"Table 2\",\"\",'4 - Payroll reduction'!C232))","v":""},{"$f":"IF('4 - Payroll reduction'!C232=\"Name\",\"\",IF('4 - Payroll reduction'!H232=\"Table 2\",\"\",'4 - Payroll reduction'!D232))","v":""},{"$f":"IF('4 - Payroll reduction'!C232=\"Name\",\"\",IF('4 - Payroll reduction'!H232=\"Table 2\",\"\",'4 - Payroll reduction'!E232))","v":""},{"$f":"IF('4 - Payroll reduction'!C232=\"Name\",\"\",IF('4 - Payroll reduction'!H232=\"Table 2\",\"\",'4 - Payroll reduction'!G232))","v":""},{"$f":"IF('4 - Payroll reduction'!C232=\"Name\",\"\",IF('4 - Payroll reduction'!H232=\"Table 2\",\"\",'4 - Payroll reduction'!F232))","v":""},142]
[{"$f":"IF('4 - Payroll reduction'!C233=\"Name\",\"\",IF('4 - Payroll reduction'!H233=\"Table 2\",\"\",'4 - Payroll reduction'!C233))","v":""},{"$f":"IF('4 - Payroll reduction'!C233=\"Name\",\"\",IF('4 - Payroll reduction'!H233=\"Table 2\",\"\",'4 - Payroll reduction'!D233))","v":""},{"$f":"IF('4 - Payroll reduction'!C233=\"Name\",\"\",IF('4 - Payroll reduction'!H233=\"Table 2\",\"\",'4 - Payroll reduction'!E233))","v":""},{"$f":"IF('4 - Payroll reduction'!C233=\"Name\",\"\",IF('4 - Payroll reduction'!H233=\"Table 2\",\"\",'4 - Payroll reduction'!G233))","v":""},{"$f":"IF('4 - Payroll reduction'!C233=\"Name\",\"\",IF('4 - Payroll reduction'!H233=\"Table 2\",\"\",'4 - Payroll reduction'!F233))","v":""},143]
[{"$f":"IF('4 - Payroll reduction'!C234=\"Name\",\"\",IF('4 - Payroll reduction'!H234=\"Table 2\",\"\",'4 - Payroll reduction'!C234))","v":""},{"$f":"IF('4 - Payroll reduction'!C234=\"Name\",\"\",IF('4 - Payroll reduction'!H234=\"Table 2\",\"\",'4 - Payroll reduction'!D234))","v":""},{"$f":"IF('4 - Payroll reduction'!C234=\"Name\",\"\",IF('4 - Payroll reduction'!H234=\"Table 2\",\"\",'4 - Payroll reduction'!E234))","v":""},{"$f":"IF('4 - Payroll reduction'!C234=\"Name\",\"\",IF('4 - Payroll reduction'!H234=\"Table 2\",\"\",'4 - Payroll reduction'!G234))","v":""},{"$f":"IF('4 - Payroll reduction'!C234=\"Name\",\"\",IF('4 - Payroll reduction'!H234=\"Table 2\",\"\",'4 - Payroll reduction'!F234))","v":""},144]
[{"$f":"IF('4 - Payroll reduction'!C235=\"Name\",\"\",IF('4 - Payroll reduction'!H235=\"Table 2\",\"\",'4 - Payroll reduction'!C235))","v":""},{"$f":"IF('4 - Payroll reduction'!C235=\"Name\",\"\",IF('4 - Payroll reduction'!H235=\"Table 2\",\"\",'4 - Payroll reduction'!D235))","v":""},{"$f":"IF('4 - Payroll reduction'!C235=\"Name\",\"\",IF('4 - Payroll reduction'!H235=\"Table 2\",\"\",'4 - Payroll reduction'!E235))","v":""},{"$f":"IF('4 - Payroll reduction'!C235=\"Name\",\"\",IF('4 - Payroll reduction'!H235=\"Table 2\",\"\",'4 - Payroll reduction'!G235))","v":""},{"$f":"IF('4 - Payroll reduction'!C235=\"Name\",\"\",IF('4 - Payroll reduction'!H235=\"Table 2\",\"\",'4 - Payroll reduction'!F235))","v":""},145]
[{"$f":"IF('4 - Payroll reduction'!C236=\"Name\",\"\",IF('4 - Payroll reduction'!H236=\"Table 2\",\"\",'4 - Payroll reduction'!C236))","v":""},{"$f":"IF('4 - Payroll reduction'!C236=\"Name\",\"\",IF('4 - Payroll reduction'!H236=\"Table 2\",\"\",'4 - Payroll reduction'!D236))","v":""},{"$f":"IF('4 - Payroll reduction'!C236=\"Name\",\"\",IF('4 - Payroll reduction'!H236=\"Table 2\",\"\",'4 - Payroll reduction'!E236))","v":""},{"$f":"IF('4 - Payroll reduction'!C236=\"Name\",\"\",IF('4 - Payroll reduction'!H236=\"Table 2\",\"\",'4 - Payroll reduction'!G236))","v":""},{"$f":"IF('4 - Payroll reduction'!C236=\"Name\",\"\",IF('4 - Payroll reduction'!H236=\"Table 2\",\"\",'4 - Payroll reduction'!F236))","v":""},146]
[{"$f":"IF('4 - Payroll reduction'!C237=\"Name\",\"\",IF('4 - Payroll reduction'!H237=\"Table 2\",\"\",'4 - Payroll reduction'!C237))","v":""},{"$f":"IF('4 - Payroll reduction'!C237=\"Name\",\"\",IF('4 - Payroll reduction'!H237=\"Table 2\",\"\",'4 - Payroll reduction'!D237))","v":""},{"$f":"IF('4 - Payroll reduction'!C237=\"Name\",\"\",IF('4 - Payroll reduction'!H237=\"Table 2\",\"\",'4 - Payroll reduction'!E237))","v":""},{"$f":"IF('4 - Payroll reduction'!C237=\"Name\",\"\",IF('4 - Payroll reduction'!H237=\"Table 2\",\"\",'4 - Payroll reduction'!G237))","v":""},{"$f":"IF('4 - Payroll reduction'!C237=\"Name\",\"\",IF('4 - Payroll reduction'!H237=\"Table 2\",\"\",'4 - Payroll reduction'!F237))","v":""},147]
[{"$f":"IF('4 - Payroll reduction'!C238=\"Name\",\"\",IF('4 - Payroll reduction'!H238=\"Table 2\",\"\",'4 - Payroll reduction'!C238))","v":""},{"$f":"IF('4 - Payroll reduction'!C238=\"Name\",\"\",IF('4 - Payroll reduction'!H238=\"Table 2\",\"\",'4 - Payroll reduction'!D238))","v":""},{"$f":"IF('4 - Payroll reduction'!C238=\"Name\",\"\",IF('4 - Payroll reduction'!H238=\"Table 2\",\"\",'4 - Payroll reduction'!E238))","v":""},{"$f":"IF('4 - Payroll reduction'!C238=\"Name\",\"\",IF('4 - Payroll reduction'!H238=\"Table 2\",\"\",'4 - Payroll reduction'!G238))","v":""},{"$f":"IF('4 - Payroll reduction'!C238=\"Name\",\"\",IF('4 - Payroll reduction'!H238=\"Table 2\",\"\",'4 - Payroll reduction'!F238))","v":""},148]
[{"$f":"IF('4 - Payroll reduction'!C239=\"Name\",\"\",IF('4 - Payroll reduction'!H239=\"Table 2\",\"\",'4 - Payroll reduction'!C239))","v":""},{"$f":"IF('4 - Payroll reduction'!C239=\"Name\",\"\",IF('4 - Payroll reduction'!H239=\"Table 2\",\"\",'4 - Payroll reduction'!D239))","v":""},{"$f":"IF('4 - Payroll reduction'!C239=\"Name\",\"\",IF('4 - Payroll reduction'!H239=\"Table 2\",\"\",'4 - Payroll reduction'!E239))","v":""},{"$f":"IF('4 - Payroll reduction'!C239=\"Name\",\"\",IF('4 - Payroll reduction'!H239=\"Table 2\",\"\",'4 - Payroll reduction'!G239))","v":""},{"$f":"IF('4 - Payroll reduction'!C239=\"Name\",\"\",IF('4 - Payroll reduction'!H239=\"Table 2\",\"\",'4 - Payroll reduction'!F239))","v":""},149]
[{"$f":"IF('4 - Payroll reduction'!C240=\"Name\",\"\",IF('4 - Payroll reduction'!H240=\"Table 2\",\"\",'4 - Payroll reduction'!C240))","v":""},{"$f":"IF('4 - Payroll reduction'!C240=\"Name\",\"\",IF('4 - Payroll reduction'!H240=\"Table 2\",\"\",'4 - Payroll reduction'!D240))","v":""},{"$f":"IF('4 - Payroll reduction'!C240=\"Name\",\"\",IF('4 - Payroll reduction'!H240=\"Table 2\",\"\",'4 - Payroll reduction'!E240))","v":""},{"$f":"IF('4 - Payroll reduction'!C240=\"Name\",\"\",IF('4 - Payroll reduction'!H240=\"Table 2\",\"\",'4 - Payroll reduction'!G240))","v":""},{"$f":"IF('4 - Payroll reduction'!C240=\"Name\",\"\",IF('4 - Payroll reduction'!H240=\"Table 2\",\"\",'4 - Payroll reduction'!F240))","v":""},150]
[{"$f":"IF('4 - Payroll reduction'!C241=\"Name\",\"\",IF('4 - Payroll reduction'!H241=\"Table 2\",\"\",'4 - Payroll reduction'!C241))","v":""},{"$f":"IF('4 - Payroll reduction'!C241=\"Name\",\"\",IF('4 - Payroll reduction'!H241=\"Table 2\",\"\",'4 - Payroll reduction'!D241))","v":""},{"$f":"IF('4 - Payroll reduction'!C241=\"Name\",\"\",IF('4 - Payroll reduction'!H241=\"Table 2\",\"\",'4 - Payroll reduction'!E241))","v":""},{"$f":"IF('4 - Payroll reduction'!C241=\"Name\",\"\",IF('4 - Payroll reduction'!H241=\"Table 2\",\"\",'4 - Payroll reduction'!G241))","v":""},{"$f":"IF('4 - Payroll reduction'!C241=\"Name\",\"\",IF('4 - Payroll reduction'!H241=\"Table 2\",\"\",'4 - Payroll reduction'!F241))","v":""},151]
[{"$f":"IF('4 - Payroll reduction'!C242=\"Name\",\"\",IF('4 - Payroll reduction'!H242=\"Table 2\",\"\",'4 - Payroll reduction'!C242))","v":""},{"$f":"IF('4 - Payroll reduction'!C242=\"Name\",\"\",IF('4 - Payroll reduction'!H242=\"Table 2\",\"\",'4 - Payroll reduction'!D242))","v":""},{"$f":"IF('4 - Payroll reduction'!C242=\"Name\",\"\",IF('4 - Payroll reduction'!H242=\"Table 2\",\"\",'4 - Payroll reduction'!E242))","v":""},{"$f":"IF('4 - Payroll reduction'!C242=\"Name\",\"\",IF('4 - Payroll reduction'!H242=\"Table 2\",\"\",'4 - Payroll reduction'!G242))","v":""},{"$f":"IF('4 - Payroll reduction'!C242=\"Name\",\"\",IF('4 - Payroll reduction'!H242=\"Table 2\",\"\",'4 - Payroll reduction'!F242))","v":""},152]
[{"$f":"IF('4 - Payroll reduction'!C243=\"Name\",\"\",IF('4 - Payroll reduction'!H243=\"Table 2\",\"\",'4 - Payroll reduction'!C243))","v":""},{"$f":"IF('4 - Payroll reduction'!C243=\"Name\",\"\",IF('4 - Payroll reduction'!H243=\"Table 2\",\"\",'4 - Payroll reduction'!D243))","v":""},{"$f":"IF('4 - Payroll reduction'!C243=\"Name\",\"\",IF('4 - Payroll reduction'!H243=\"Table 2\",\"\",'4 - Payroll reduction'!E243))","v":""},{"$f":"IF('4 - Payroll reduction'!C243=\"Name\",\"\",IF('4 - Payroll reduction'!H243=\"Table 2\",\"\",'4 - Payroll reduction'!G243))","v":""},{"$f":"IF('4 - Payroll reduction'!C243=\"Name\",\"\",IF('4 - Payroll reduction'!H243=\"Table 2\",\"\",'4 - Payroll reduction'!F243))","v":""},153]
[{"$f":"IF('4 - Payroll reduction'!C244=\"Name\",\"\",IF('4 - Payroll reduction'!H244=\"Table 2\",\"\",'4 - Payroll reduction'!C244))","v":""},{"$f":"IF('4 - Payroll reduction'!C244=\"Name\",\"\",IF('4 - Payroll reduction'!H244=\"Table 2\",\"\",'4 - Payroll reduction'!D244))","v":""},{"$f":"IF('4 - Payroll reduction'!C244=\"Name\",\"\",IF('4 - Payroll reduction'!H244=\"Table 2\",\"\",'4 - Payroll reduction'!E244))","v":""},{"$f":"IF('4 - Payroll reduction'!C244=\"Name\",\"\",IF('4 - Payroll reduction'!H244=\"Table 2\",\"\",'4 - Payroll reduction'!G244))","v":""},{"$f":"IF('4 - Payroll reduction'!C244=\"Name\",\"\",IF('4 - Payroll reduction'!H244=\"Table 2\",\"\",'4 - Payroll reduction'!F244))","v":""},154]
[{"$f":"IF('4 - Payroll reduction'!C245=\"Name\",\"\",IF('4 - Payroll reduction'!H245=\"Table 2\",\"\",'4 - Payroll reduction'!C245))","v":""},{"$f":"IF('4 - Payroll reduction'!C245=\"Name\",\"\",IF('4 - Payroll reduction'!H245=\"Table 2\",\"\",'4 - Payroll reduction'!D245))","v":""},{"$f":"IF('4 - Payroll reduction'!C245=\"Name\",\"\",IF('4 - Payroll reduction'!H245=\"Table 2\",\"\",'4 - Payroll reduction'!E245))","v":""},{"$f":"IF('4 - Payroll reduction'!C245=\"Name\",\"\",IF('4 - Payroll reduction'!H245=\"Table 2\",\"\",'4 - Payroll reduction'!G245))","v":""},{"$f":"IF('4 - Payroll reduction'!C245=\"Name\",\"\",IF('4 - Payroll reduction'!H245=\"Table 2\",\"\",'4 - Payroll reduction'!F245))","v":""},155]
[{"$f":"IF('4 - Payroll reduction'!C246=\"Name\",\"\",IF('4 - Payroll reduction'!H246=\"Table 2\",\"\",'4 - Payroll reduction'!C246))","v":""},{"$f":"IF('4 - Payroll reduction'!C246=\"Name\",\"\",IF('4 - Payroll reduction'!H246=\"Table 2\",\"\",'4 - Payroll reduction'!D246))","v":""},{"$f":"IF('4 - Payroll reduction'!C246=\"Name\",\"\",IF('4 - Payroll reduction'!H246=\"Table 2\",\"\",'4 - Payroll reduction'!E246))","v":""},{"$f":"IF('4 - Payroll reduction'!C246=\"Name\",\"\",IF('4 - Payroll reduction'!H246=\"Table 2\",\"\",'4 - Payroll reduction'!G246))","v":""},{"$f":"IF('4 - Payroll reduction'!C246=\"Name\",\"\",IF('4 - Payroll reduction'!H246=\"Table 2\",\"\",'4 - Payroll reduction'!F246))","v":""},156]
[{"$f":"IF('4 - Payroll reduction'!C247=\"Name\",\"\",IF('4 - Payroll reduction'!H247=\"Table 2\",\"\",'4 - Payroll reduction'!C247))","v":""},{"$f":"IF('4 - Payroll reduction'!C247=\"Name\",\"\",IF('4 - Payroll reduction'!H247=\"Table 2\",\"\",'4 - Payroll reduction'!D247))","v":""},{"$f":"IF('4 - Payroll reduction'!C247=\"Name\",\"\",IF('4 - Payroll reduction'!H247=\"Table 2\",\"\",'4 - Payroll reduction'!E247))","v":""},{"$f":"IF('4 - Payroll reduction'!C247=\"Name\",\"\",IF('4 - Payroll reduction'!H247=\"Table 2\",\"\",'4 - Payroll reduction'!G247))","v":""},{"$f":"IF('4 - Payroll reduction'!C247=\"Name\",\"\",IF('4 - Payroll reduction'!H247=\"Table 2\",\"\",'4 - Payroll reduction'!F247))","v":""},157]
[{"$f":"IF('4 - Payroll reduction'!C248=\"Name\",\"\",IF('4 - Payroll reduction'!H248=\"Table 2\",\"\",'4 - Payroll reduction'!C248))","v":""},{"$f":"IF('4 - Payroll reduction'!C248=\"Name\",\"\",IF('4 - Payroll reduction'!H248=\"Table 2\",\"\",'4 - Payroll reduction'!D248))","v":""},{"$f":"IF('4 - Payroll reduction'!C248=\"Name\",\"\",IF('4 - Payroll reduction'!H248=\"Table 2\",\"\",'4 - Payroll reduction'!E248))","v":""},{"$f":"IF('4 - Payroll reduction'!C248=\"Name\",\"\",IF('4 - Payroll reduction'!H248=\"Table 2\",\"\",'4 - Payroll reduction'!G248))","v":""},{"$f":"IF('4 - Payroll reduction'!C248=\"Name\",\"\",IF('4 - Payroll reduction'!H248=\"Table 2\",\"\",'4 - Payroll reduction'!F248))","v":""},158]
[{"$f":"IF('4 - Payroll reduction'!C249=\"Name\",\"\",IF('4 - Payroll reduction'!H249=\"Table 2\",\"\",'4 - Payroll reduction'!C249))","v":""},{"$f":"IF('4 - Payroll reduction'!C249=\"Name\",\"\",IF('4 - Payroll reduction'!H249=\"Table 2\",\"\",'4 - Payroll reduction'!D249))","v":""},{"$f":"IF('4 - Payroll reduction'!C249=\"Name\",\"\",IF('4 - Payroll reduction'!H249=\"Table 2\",\"\",'4 - Payroll reduction'!E249))","v":""},{"$f":"IF('4 - Payroll reduction'!C249=\"Name\",\"\",IF('4 - Payroll reduction'!H249=\"Table 2\",\"\",'4 - Payroll reduction'!G249))","v":""},{"$f":"IF('4 - Payroll reduction'!C249=\"Name\",\"\",IF('4 - Payroll reduction'!H249=\"Table 2\",\"\",'4 - Payroll reduction'!F249))","v":""},159]
[{"$f":"IF('4 - Payroll reduction'!C250=\"Name\",\"\",IF('4 - Payroll reduction'!H250=\"Table 2\",\"\",'4 - Payroll reduction'!C250))","v":""},{"$f":"IF('4 - Payroll reduction'!C250=\"Name\",\"\",IF('4 - Payroll reduction'!H250=\"Table 2\",\"\",'4 - Payroll reduction'!D250))","v":""},{"$f":"IF('4 - Payroll reduction'!C250=\"Name\",\"\",IF('4 - Payroll reduction'!H250=\"Table 2\",\"\",'4 - Payroll reduction'!E250))","v":""},{"$f":"IF('4 - Payroll reduction'!C250=\"Name\",\"\",IF('4 - Payroll reduction'!H250=\"Table 2\",\"\",'4 - Payroll reduction'!G250))","v":""},{"$f":"IF('4 - Payroll reduction'!C250=\"Name\",\"\",IF('4 - Payroll reduction'!H250=\"Table 2\",\"\",'4 - Payroll reduction'!F250))","v":""},160]
[{"$f":"IF('4 - Payroll reduction'!C251=\"Name\",\"\",IF('4 - Payroll reduction'!H251=\"Table 2\",\"\",'4 - Payroll reduction'!C251))","v":""},{"$f":"IF('4 - Payroll reduction'!C251=\"Name\",\"\",IF('4 - Payroll reduction'!H251=\"Table 2\",\"\",'4 - Payroll reduction'!D251))","v":""},{"$f":"IF('4 - Payroll reduction'!C251=\"Name\",\"\",IF('4 - Payroll reduction'!H251=\"Table 2\",\"\",'4 - Payroll reduction'!E251))","v":""},{"$f":"IF('4 - Payroll reduction'!C251=\"Name\",\"\",IF('4 - Payroll reduction'!H251=\"Table 2\",\"\",'4 - Payroll reduction'!G251))","v":""},{"$f":"IF('4 - Payroll reduction'!C251=\"Name\",\"\",IF('4 - Payroll reduction'!H251=\"Table 2\",\"\",'4 - Payroll reduction'!F251))","v":""},161]
[{"$f":"IF('4 - Payroll reduction'!C252=\"Name\",\"\",IF('4 - Payroll reduction'!H252=\"Table 2\",\"\",'4 - Payroll reduction'!C252))","v":""},{"$f":"IF('4 - Payroll reduction'!C252=\"Name\",\"\",IF('4 - Payroll reduction'!H252=\"Table 2\",\"\",'4 - Payroll reduction'!D252))","v":""},{"$f":"IF('4 - Payroll reduction'!C252=\"Name\",\"\",IF('4 - Payroll reduction'!H252=\"Table 2\",\"\",'4 - Payroll reduction'!E252))","v":""},{"$f":"IF('4 - Payroll reduction'!C252=\"Name\",\"\",IF('4 - Payroll reduction'!H252=\"Table 2\",\"\",'4 - Payroll reduction'!G252))","v":""},{"$f":"IF('4 - Payroll reduction'!C252=\"Name\",\"\",IF('4 - Payroll reduction'!H252=\"Table 2\",\"\",'4 - Payroll reduction'!F252))","v":""},162]
[{"$f":"IF('4 - Payroll reduction'!C253=\"Name\",\"\",IF('4 - Payroll reduction'!H253=\"Table 2\",\"\",'4 - Payroll reduction'!C253))","v":""},{"$f":"IF('4 - Payroll reduction'!C253=\"Name\",\"\",IF('4 - Payroll reduction'!H253=\"Table 2\",\"\",'4 - Payroll reduction'!D253))","v":""},{"$f":"IF('4 - Payroll reduction'!C253=\"Name\",\"\",IF('4 - Payroll reduction'!H253=\"Table 2\",\"\",'4 - Payroll reduction'!E253))","v":""},{"$f":"IF('4 - Payroll reduction'!C253=\"Name\",\"\",IF('4 - Payroll reduction'!H253=\"Table 2\",\"\",'4 - Payroll reduction'!G253))","v":""},{"$f":"IF('4 - Payroll reduction'!C253=\"Name\",\"\",IF('4 - Payroll reduction'!H253=\"Table 2\",\"\",'4 - Payroll reduction'!F253))","v":""},163]
[{"$f":"IF('4 - Payroll reduction'!C254=\"Name\",\"\",IF('4 - Payroll reduction'!H254=\"Table 2\",\"\",'4 - Payroll reduction'!C254))","v":""},{"$f":"IF('4 - Payroll reduction'!C254=\"Name\",\"\",IF('4 - Payroll reduction'!H254=\"Table 2\",\"\",'4 - Payroll reduction'!D254))","v":""},{"$f":"IF('4 - Payroll reduction'!C254=\"Name\",\"\",IF('4 - Payroll reduction'!H254=\"Table 2\",\"\",'4 - Payroll reduction'!E254))","v":""},{"$f":"IF('4 - Payroll reduction'!C254=\"Name\",\"\",IF('4 - Payroll reduction'!H254=\"Table 2\",\"\",'4 - Payroll reduction'!G254))","v":""},{"$f":"IF('4 - Payroll reduction'!C254=\"Name\",\"\",IF('4 - Payroll reduction'!H254=\"Table 2\",\"\",'4 - Payroll reduction'!F254))","v":""},164]
[{"$f":"IF('4 - Payroll reduction'!C255=\"Name\",\"\",IF('4 - Payroll reduction'!H255=\"Table 2\",\"\",'4 - Payroll reduction'!C255))","v":""},{"$f":"IF('4 - Payroll reduction'!C255=\"Name\",\"\",IF('4 - Payroll reduction'!H255=\"Table 2\",\"\",'4 - Payroll reduction'!D255))","v":""},{"$f":"IF('4 - Payroll reduction'!C255=\"Name\",\"\",IF('4 - Payroll reduction'!H255=\"Table 2\",\"\",'4 - Payroll reduction'!E255))","v":""},{"$f":"IF('4 - Payroll reduction'!C255=\"Name\",\"\",IF('4 - Payroll reduction'!H255=\"Table 2\",\"\",'4 - Payroll reduction'!G255))","v":""},{"$f":"IF('4 - Payroll reduction'!C255=\"Name\",\"\",IF('4 - Payroll reduction'!H255=\"Table 2\",\"\",'4 - Payroll reduction'!F255))","v":""},165]
[{"$f":"IF('4 - Payroll reduction'!C256=\"Name\",\"\",IF('4 - Payroll reduction'!H256=\"Table 2\",\"\",'4 - Payroll reduction'!C256))","v":""},{"$f":"IF('4 - Payroll reduction'!C256=\"Name\",\"\",IF('4 - Payroll reduction'!H256=\"Table 2\",\"\",'4 - Payroll reduction'!D256))","v":""},{"$f":"IF('4 - Payroll reduction'!C256=\"Name\",\"\",IF('4 - Payroll reduction'!H256=\"Table 2\",\"\",'4 - Payroll reduction'!E256))","v":""},{"$f":"IF('4 - Payroll reduction'!C256=\"Name\",\"\",IF('4 - Payroll reduction'!H256=\"Table 2\",\"\",'4 - Payroll reduction'!G256))","v":""},{"$f":"IF('4 - Payroll reduction'!C256=\"Name\",\"\",IF('4 - Payroll reduction'!H256=\"Table 2\",\"\",'4 - Payroll reduction'!F256))","v":""},166]
[{"$f":"IF('4 - Payroll reduction'!C257=\"Name\",\"\",IF('4 - Payroll reduction'!H257=\"Table 2\",\"\",'4 - Payroll reduction'!C257))","v":""},{"$f":"IF('4 - Payroll reduction'!C257=\"Name\",\"\",IF('4 - Payroll reduction'!H257=\"Table 2\",\"\",'4 - Payroll reduction'!D257))","v":""},{"$f":"IF('4 - Payroll reduction'!C257=\"Name\",\"\",IF('4 - Payroll reduction'!H257=\"Table 2\",\"\",'4 - Payroll reduction'!E257))","v":""},{"$f":"IF('4 - Payroll reduction'!C257=\"Name\",\"\",IF('4 - Payroll reduction'!H257=\"Table 2\",\"\",'4 - Payroll reduction'!G257))","v":""},{"$f":"IF('4 - Payroll reduction'!C257=\"Name\",\"\",IF('4 - Payroll reduction'!H257=\"Table 2\",\"\",'4 - Payroll reduction'!F257))","v":""},167]
[{"$f":"IF('4 - Payroll reduction'!C258=\"Name\",\"\",IF('4 - Payroll reduction'!H258=\"Table 2\",\"\",'4 - Payroll reduction'!C258))","v":""},{"$f":"IF('4 - Payroll reduction'!C258=\"Name\",\"\",IF('4 - Payroll reduction'!H258=\"Table 2\",\"\",'4 - Payroll reduction'!D258))","v":""},{"$f":"IF('4 - Payroll reduction'!C258=\"Name\",\"\",IF('4 - Payroll reduction'!H258=\"Table 2\",\"\",'4 - Payroll reduction'!E258))","v":""},{"$f":"IF('4 - Payroll reduction'!C258=\"Name\",\"\",IF('4 - Payroll reduction'!H258=\"Table 2\",\"\",'4 - Payroll reduction'!G258))","v":""},{"$f":"IF('4 - Payroll reduction'!C258=\"Name\",\"\",IF('4 - Payroll reduction'!H258=\"Table 2\",\"\",'4 - Payroll reduction'!F258))","v":""},168]
[{"$f":"IF('4 - Payroll reduction'!C259=\"Name\",\"\",IF('4 - Payroll reduction'!H259=\"Table 2\",\"\",'4 - Payroll reduction'!C259))","v":""},{"$f":"IF('4 - Payroll reduction'!C259=\"Name\",\"\",IF('4 - Payroll reduction'!H259=\"Table 2\",\"\",'4 - Payroll reduction'!D259))","v":""},{"$f":"IF('4 - Payroll reduction'!C259=\"Name\",\"\",IF('4 - Payroll reduction'!H259=\"Table 2\",\"\",'4 - Payroll reduction'!E259))","v":""},{"$f":"IF('4 - Payroll reduction'!C259=\"Name\",\"\",IF('4 - Payroll reduction'!H259=\"Table 2\",\"\",'4 - Payroll reduction'!G259))","v":""},{"$f":"IF('4 - Payroll reduction'!C259=\"Name\",\"\",IF('4 - Payroll reduction'!H259=\"Table 2\",\"\",'4 - Payroll reduction'!F259))","v":""},169]
[{"$f":"IF('4 - Payroll reduction'!C260=\"Name\",\"\",IF('4 - Payroll reduction'!H260=\"Table 2\",\"\",'4 - Payroll reduction'!C260))","v":""},{"$f":"IF('4 - Payroll reduction'!C260=\"Name\",\"\",IF('4 - Payroll reduction'!H260=\"Table 2\",\"\",'4 - Payroll reduction'!D260))","v":""},{"$f":"IF('4 - Payroll reduction'!C260=\"Name\",\"\",IF('4 - Payroll reduction'!H260=\"Table 2\",\"\",'4 - Payroll reduction'!E260))","v":""},{"$f":"IF('4 - Payroll reduction'!C260=\"Name\",\"\",IF('4 - Payroll reduction'!H260=\"Table 2\",\"\",'4 - Payroll reduction'!G260))","v":""},{"$f":"IF('4 - Payroll reduction'!C260=\"Name\",\"\",IF('4 - Payroll reduction'!H260=\"Table 2\",\"\",'4 - Payroll reduction'!F260))","v":""},170]
[{"$f":"IF('4 - Payroll reduction'!C261=\"Name\",\"\",IF('4 - Payroll reduction'!H261=\"Table 2\",\"\",'4 - Payroll reduction'!C261))","v":""},{"$f":"IF('4 - Payroll reduction'!C261=\"Name\",\"\",IF('4 - Payroll reduction'!H261=\"Table 2\",\"\",'4 - Payroll reduction'!D261))","v":""},{"$f":"IF('4 - Payroll reduction'!C261=\"Name\",\"\",IF('4 - Payroll reduction'!H261=\"Table 2\",\"\",'4 - Payroll reduction'!E261))","v":""},{"$f":"IF('4 - Payroll reduction'!C261=\"Name\",\"\",IF('4 - Payroll reduction'!H261=\"Table 2\",\"\",'4 - Payroll reduction'!G261))","v":""},{"$f":"IF('4 - Payroll reduction'!C261=\"Name\",\"\",IF('4 - Payroll reduction'!H261=\"Table 2\",\"\",'4 - Payroll reduction'!F261))","v":""},171]
[{"$f":"IF('4 - Payroll reduction'!C262=\"Name\",\"\",IF('4 - Payroll reduction'!H262=\"Table 2\",\"\",'4 - Payroll reduction'!C262))","v":""},{"$f":"IF('4 - Payroll reduction'!C262=\"Name\",\"\",IF('4 - Payroll reduction'!H262=\"Table 2\",\"\",'4 - Payroll reduction'!D262))","v":""},{"$f":"IF('4 - Payroll reduction'!C262=\"Name\",\"\",IF('4 - Payroll reduction'!H262=\"Table 2\",\"\",'4 - Payroll reduction'!E262))","v":""},{"$f":"IF('4 - Payroll reduction'!C262=\"Name\",\"\",IF('4 - Payroll reduction'!H262=\"Table 2\",\"\",'4 - Payroll reduction'!G262))","v":""},{"$f":"IF('4 - Payroll reduction'!C262=\"Name\",\"\",IF('4 - Payroll reduction'!H262=\"Table 2\",\"\",'4 - Payroll reduction'!F262))","v":""},172]
[{"$f":"IF('4 - Payroll reduction'!C263=\"Name\",\"\",IF('4 - Payroll reduction'!H263=\"Table 2\",\"\",'4 - Payroll reduction'!C263))","v":""},{"$f":"IF('4 - Payroll reduction'!C263=\"Name\",\"\",IF('4 - Payroll reduction'!H263=\"Table 2\",\"\",'4 - Payroll reduction'!D263))","v":""},{"$f":"IF('4 - Payroll reduction'!C263=\"Name\",\"\",IF('4 - Payroll reduction'!H263=\"Table 2\",\"\",'4 - Payroll reduction'!E263))","v":""},{"$f":"IF('4 - Payroll reduction'!C263=\"Name\",\"\",IF('4 - Payroll reduction'!H263=\"Table 2\",\"\",'4 - Payroll reduction'!G263))","v":""},{"$f":"IF('4 - Payroll reduction'!C263=\"Name\",\"\",IF('4 - Payroll reduction'!H263=\"Table 2\",\"\",'4 - Payroll reduction'!F263))","v":""},173]
[{"$f":"IF('4 - Payroll reduction'!C264=\"Name\",\"\",IF('4 - Payroll reduction'!H264=\"Table 2\",\"\",'4 - Payroll reduction'!C264))","v":""},{"$f":"IF('4 - Payroll reduction'!C264=\"Name\",\"\",IF('4 - Payroll reduction'!H264=\"Table 2\",\"\",'4 - Payroll reduction'!D264))","v":""},{"$f":"IF('4 - Payroll reduction'!C264=\"Name\",\"\",IF('4 - Payroll reduction'!H264=\"Table 2\",\"\",'4 - Payroll reduction'!E264))","v":""},{"$f":"IF('4 - Payroll reduction'!C264=\"Name\",\"\",IF('4 - Payroll reduction'!H264=\"Table 2\",\"\",'4 - Payroll reduction'!G264))","v":""},{"$f":"IF('4 - Payroll reduction'!C264=\"Name\",\"\",IF('4 - Payroll reduction'!H264=\"Table 2\",\"\",'4 - Payroll reduction'!F264))","v":""},174]
[{"$f":"IF('4 - Payroll reduction'!C265=\"Name\",\"\",IF('4 - Payroll reduction'!H265=\"Table 2\",\"\",'4 - Payroll reduction'!C265))","v":""},{"$f":"IF('4 - Payroll reduction'!C265=\"Name\",\"\",IF('4 - Payroll reduction'!H265=\"Table 2\",\"\",'4 - Payroll reduction'!D265))","v":""},{"$f":"IF('4 - Payroll reduction'!C265=\"Name\",\"\",IF('4 - Payroll reduction'!H265=\"Table 2\",\"\",'4 - Payroll reduction'!E265))","v":""},{"$f":"IF('4 - Payroll reduction'!C265=\"Name\",\"\",IF('4 - Payroll reduction'!H265=\"Table 2\",\"\",'4 - Payroll reduction'!G265))","v":""},{"$f":"IF('4 - Payroll reduction'!C265=\"Name\",\"\",IF('4 - Payroll reduction'!H265=\"Table 2\",\"\",'4 - Payroll reduction'!F265))","v":""},175]
[{"$f":"IF('4 - Payroll reduction'!C266=\"Name\",\"\",IF('4 - Payroll reduction'!H266=\"Table 2\",\"\",'4 - Payroll reduction'!C266))","v":""},{"$f":"IF('4 - Payroll reduction'!C266=\"Name\",\"\",IF('4 - Payroll reduction'!H266=\"Table 2\",\"\",'4 - Payroll reduction'!D266))","v":""},{"$f":"IF('4 - Payroll reduction'!C266=\"Name\",\"\",IF('4 - Payroll reduction'!H266=\"Table 2\",\"\",'4 - Payroll reduction'!E266))","v":""},{"$f":"IF('4 - Payroll reduction'!C266=\"Name\",\"\",IF('4 - Payroll reduction'!H266=\"Table 2\",\"\",'4 - Payroll reduction'!G266))","v":""},{"$f":"IF('4 - Payroll reduction'!C266=\"Name\",\"\",IF('4 - Payroll reduction'!H266=\"Table 2\",\"\",'4 - Payroll reduction'!F266))","v":""},176]
[{"$f":"IF('4 - Payroll reduction'!C267=\"Name\",\"\",IF('4 - Payroll reduction'!H267=\"Table 2\",\"\",'4 - Payroll reduction'!C267))","v":""},{"$f":"IF('4 - Payroll reduction'!C267=\"Name\",\"\",IF('4 - Payroll reduction'!H267=\"Table 2\",\"\",'4 - Payroll reduction'!D267))","v":""},{"$f":"IF('4 - Payroll reduction'!C267=\"Name\",\"\",IF('4 - Payroll reduction'!H267=\"Table 2\",\"\",'4 - Payroll reduction'!E267))","v":""},{"$f":"IF('4 - Payroll reduction'!C267=\"Name\",\"\",IF('4 - Payroll reduction'!H267=\"Table 2\",\"\",'4 - Payroll reduction'!G267))","v":""},{"$f":"IF('4 - Payroll reduction'!C267=\"Name\",\"\",IF('4 - Payroll reduction'!H267=\"Table 2\",\"\",'4 - Payroll reduction'!F267))","v":""},177]
[{"$f":"IF('4 - Payroll reduction'!C268=\"Name\",\"\",IF('4 - Payroll reduction'!H268=\"Table 2\",\"\",'4 - Payroll reduction'!C268))","v":""},{"$f":"IF('4 - Payroll reduction'!C268=\"Name\",\"\",IF('4 - Payroll reduction'!H268=\"Table 2\",\"\",'4 - Payroll reduction'!D268))","v":""},{"$f":"IF('4 - Payroll reduction'!C268=\"Name\",\"\",IF('4 - Payroll reduction'!H268=\"Table 2\",\"\",'4 - Payroll reduction'!E268))","v":""},{"$f":"IF('4 - Payroll reduction'!C268=\"Name\",\"\",IF('4 - Payroll reduction'!H268=\"Table 2\",\"\",'4 - Payroll reduction'!G268))","v":""},{"$f":"IF('4 - Payroll reduction'!C268=\"Name\",\"\",IF('4 - Payroll reduction'!H268=\"Table 2\",\"\",'4 - Payroll reduction'!F268))","v":""},178]
[{"$f":"IF('4 - Payroll reduction'!C269=\"Name\",\"\",IF('4 - Payroll reduction'!H269=\"Table 2\",\"\",'4 - Payroll reduction'!C269))","v":""},{"$f":"IF('4 - Payroll reduction'!C269=\"Name\",\"\",IF('4 - Payroll reduction'!H269=\"Table 2\",\"\",'4 - Payroll reduction'!D269))","v":""},{"$f":"IF('4 - Payroll reduction'!C269=\"Name\",\"\",IF('4 - Payroll reduction'!H269=\"Table 2\",\"\",'4 - Payroll reduction'!E269))","v":""},{"$f":"IF('4 - Payroll reduction'!C269=\"Name\",\"\",IF('4 - Payroll reduction'!H269=\"Table 2\",\"\",'4 - Payroll reduction'!G269))","v":""},{"$f":"IF('4 - Payroll reduction'!C269=\"Name\",\"\",IF('4 - Payroll reduction'!H269=\"Table 2\",\"\",'4 - Payroll reduction'!F269))","v":""},179]
[{"$f":"IF('4 - Payroll reduction'!C270=\"Name\",\"\",IF('4 - Payroll reduction'!H270=\"Table 2\",\"\",'4 - Payroll reduction'!C270))","v":""},{"$f":"IF('4 - Payroll reduction'!C270=\"Name\",\"\",IF('4 - Payroll reduction'!H270=\"Table 2\",\"\",'4 - Payroll reduction'!D270))","v":""},{"$f":"IF('4 - Payroll reduction'!C270=\"Name\",\"\",IF('4 - Payroll reduction'!H270=\"Table 2\",\"\",'4 - Payroll reduction'!E270))","v":""},{"$f":"IF('4 - Payroll reduction'!C270=\"Name\",\"\",IF('4 - Payroll reduction'!H270=\"Table 2\",\"\",'4 - Payroll reduction'!G270))","v":""},{"$f":"IF('4 - Payroll reduction'!C270=\"Name\",\"\",IF('4 - Payroll reduction'!H270=\"Table 2\",\"\",'4 - Payroll reduction'!F270))","v":""},180]
[{"$f":"IF('4 - Payroll reduction'!C271=\"Name\",\"\",IF('4 - Payroll reduction'!H271=\"Table 2\",\"\",'4 - Payroll reduction'!C271))","v":""},{"$f":"IF('4 - Payroll reduction'!C271=\"Name\",\"\",IF('4 - Payroll reduction'!H271=\"Table 2\",\"\",'4 - Payroll reduction'!D271))","v":""},{"$f":"IF('4 - Payroll reduction'!C271=\"Name\",\"\",IF('4 - Payroll reduction'!H271=\"Table 2\",\"\",'4 - Payroll reduction'!E271))","v":""},{"$f":"IF('4 - Payroll reduction'!C271=\"Name\",\"\",IF('4 - Payroll reduction'!H271=\"Table 2\",\"\",'4 - Payroll reduction'!G271))","v":""},{"$f":"IF('4 - Payroll reduction'!C271=\"Name\",\"\",IF('4 - Payroll reduction'!H271=\"Table 2\",\"\",'4 - Payroll reduction'!F271))","v":""},181]
[{"$f":"IF('4 - Payroll reduction'!C272=\"Name\",\"\",IF('4 - Payroll reduction'!H272=\"Table 2\",\"\",'4 - Payroll reduction'!C272))","v":""},{"$f":"IF('4 - Payroll reduction'!C272=\"Name\",\"\",IF('4 - Payroll reduction'!H272=\"Table 2\",\"\",'4 - Payroll reduction'!D272))","v":""},{"$f":"IF('4 - Payroll reduction'!C272=\"Name\",\"\",IF('4 - Payroll reduction'!H272=\"Table 2\",\"\",'4 - Payroll reduction'!E272))","v":""},{"$f":"IF('4 - Payroll reduction'!C272=\"Name\",\"\",IF('4 - Payroll reduction'!H272=\"Table 2\",\"\",'4 - Payroll reduction'!G272))","v":""},{"$f":"IF('4 - Payroll reduction'!C272=\"Name\",\"\",IF('4 - Payroll reduction'!H272=\"Table 2\",\"\",'4 - Payroll reduction'!F272))","v":""},182]
[{"$f":"IF('4 - Payroll reduction'!C273=\"Name\",\"\",IF('4 - Payroll reduction'!H273=\"Table 2\",\"\",'4 - Payroll reduction'!C273))","v":""},{"$f":"IF('4 - Payroll reduction'!C273=\"Name\",\"\",IF('4 - Payroll reduction'!H273=\"Table 2\",\"\",'4 - Payroll reduction'!D273))","v":""},{"$f":"IF('4 - Payroll reduction'!C273=\"Name\",\"\",IF('4 - Payroll reduction'!H273=\"Table 2\",\"\",'4 - Payroll reduction'!E273))","v":""},{"$f":"IF('4 - Payroll reduction'!C273=\"Name\",\"\",IF('4 - Payroll reduction'!H273=\"Table 2\",\"\",'4 - Payroll reduction'!G273))","v":""},{"$f":"IF('4 - Payroll reduction'!C273=\"Name\",\"\",IF('4 - Payroll reduction'!H273=\"Table 2\",\"\",'4 - Payroll reduction'!F273))","v":""},183]
[{"$f":"IF('4 - Payroll reduction'!C274=\"Name\",\"\",IF('4 - Payroll reduction'!H274=\"Table 2\",\"\",'4 - Payroll reduction'!C274))","v":""},{"$f":"IF('4 - Payroll reduction'!C274=\"Name\",\"\",IF('4 - Payroll reduction'!H274=\"Table 2\",\"\",'4 - Payroll reduction'!D274))","v":""},{"$f":"IF('4 - Payroll reduction'!C274=\"Name\",\"\",IF('4 - Payroll reduction'!H274=\"Table 2\",\"\",'4 - Payroll reduction'!E274))","v":""},{"$f":"IF('4 - Payroll reduction'!C274=\"Name\",\"\",IF('4 - Payroll reduction'!H274=\"Table 2\",\"\",'4 - Payroll reduction'!G274))","v":""},{"$f":"IF('4 - Payroll reduction'!C274=\"Name\",\"\",IF('4 - Payroll reduction'!H274=\"Table 2\",\"\",'4 - Payroll reduction'!F274))","v":""},184]
[{"$f":"IF('4 - Payroll reduction'!C275=\"Name\",\"\",IF('4 - Payroll reduction'!H275=\"Table 2\",\"\",'4 - Payroll reduction'!C275))","v":""},{"$f":"IF('4 - Payroll reduction'!C275=\"Name\",\"\",IF('4 - Payroll reduction'!H275=\"Table 2\",\"\",'4 - Payroll reduction'!D275))","v":""},{"$f":"IF('4 - Payroll reduction'!C275=\"Name\",\"\",IF('4 - Payroll reduction'!H275=\"Table 2\",\"\",'4 - Payroll reduction'!E275))","v":""},{"$f":"IF('4 - Payroll reduction'!C275=\"Name\",\"\",IF('4 - Payroll reduction'!H275=\"Table 2\",\"\",'4 - Payroll reduction'!G275))","v":""},{"$f":"IF('4 - Payroll reduction'!C275=\"Name\",\"\",IF('4 - Payroll reduction'!H275=\"Table 2\",\"\",'4 - Payroll reduction'!F275))","v":""},185]
[{"$f":"IF('4 - Payroll reduction'!C276=\"Name\",\"\",IF('4 - Payroll reduction'!H276=\"Table 2\",\"\",'4 - Payroll reduction'!C276))","v":""},{"$f":"IF('4 - Payroll reduction'!C276=\"Name\",\"\",IF('4 - Payroll reduction'!H276=\"Table 2\",\"\",'4 - Payroll reduction'!D276))","v":""},{"$f":"IF('4 - Payroll reduction'!C276=\"Name\",\"\",IF('4 - Payroll reduction'!H276=\"Table 2\",\"\",'4 - Payroll reduction'!E276))","v":""},{"$f":"IF('4 - Payroll reduction'!C276=\"Name\",\"\",IF('4 - Payroll reduction'!H276=\"Table 2\",\"\",'4 - Payroll reduction'!G276))","v":""},{"$f":"IF('4 - Payroll reduction'!C276=\"Name\",\"\",IF('4 - Payroll reduction'!H276=\"Table 2\",\"\",'4 - Payroll reduction'!F276))","v":""},186]
[{"$f":"IF('4 - Payroll reduction'!C277=\"Name\",\"\",IF('4 - Payroll reduction'!H277=\"Table 2\",\"\",'4 - Payroll reduction'!C277))","v":""},{"$f":"IF('4 - Payroll reduction'!C277=\"Name\",\"\",IF('4 - Payroll reduction'!H277=\"Table 2\",\"\",'4 - Payroll reduction'!D277))","v":""},{"$f":"IF('4 - Payroll reduction'!C277=\"Name\",\"\",IF('4 - Payroll reduction'!H277=\"Table 2\",\"\",'4 - Payroll reduction'!E277))","v":""},{"$f":"IF('4 - Payroll reduction'!C277=\"Name\",\"\",IF('4 - Payroll reduction'!H277=\"Table 2\",\"\",'4 - Payroll reduction'!G277))","v":""},{"$f":"IF('4 - Payroll reduction'!C277=\"Name\",\"\",IF('4 - Payroll reduction'!H277=\"Table 2\",\"\",'4 - Payroll reduction'!F277))","v":""},187]
[{"$f":"IF('4 - Payroll reduction'!C278=\"Name\",\"\",IF('4 - Payroll reduction'!H278=\"Table 2\",\"\",'4 - Payroll reduction'!C278))","v":""},{"$f":"IF('4 - Payroll reduction'!C278=\"Name\",\"\",IF('4 - Payroll reduction'!H278=\"Table 2\",\"\",'4 - Payroll reduction'!D278))","v":""},{"$f":"IF('4 - Payroll reduction'!C278=\"Name\",\"\",IF('4 - Payroll reduction'!H278=\"Table 2\",\"\",'4 - Payroll reduction'!E278))","v":""},{"$f":"IF('4 - Payroll reduction'!C278=\"Name\",\"\",IF('4 - Payroll reduction'!H278=\"Table 2\",\"\",'4 - Payroll reduction'!G278))","v":""},{"$f":"IF('4 - Payroll reduction'!C278=\"Name\",\"\",IF('4 - Payroll reduction'!H278=\"Table 2\",\"\",'4 - Payroll reduction'!F278))","v":""},188]
[{"$f":"IF('4 - Payroll reduction'!C279=\"Name\",\"\",IF('4 - Payroll reduction'!H279=\"Table 2\",\"\",'4 - Payroll reduction'!C279))","v":""},{"$f":"IF('4 - Payroll reduction'!C279=\"Name\",\"\",IF('4 - Payroll reduction'!H279=\"Table 2\",\"\",'4 - Payroll reduction'!D279))","v":""},{"$f":"IF('4 - Payroll reduction'!C279=\"Name\",\"\",IF('4 - Payroll reduction'!H279=\"Table 2\",\"\",'4 - Payroll reduction'!E279))","v":""},{"$f":"IF('4 - Payroll reduction'!C279=\"Name\",\"\",IF('4 - Payroll reduction'!H279=\"Table 2\",\"\",'4 - Payroll reduction'!G279))","v":""},{"$f":"IF('4 - Payroll reduction'!C279=\"Name\",\"\",IF('4 - Payroll reduction'!H279=\"Table 2\",\"\",'4 - Payroll reduction'!F279))","v":""},189]
[{"$f":"IF('4 - Payroll reduction'!C280=\"Name\",\"\",IF('4 - Payroll reduction'!H280=\"Table 2\",\"\",'4 - Payroll reduction'!C280))","v":""},{"$f":"IF('4 - Payroll reduction'!C280=\"Name\",\"\",IF('4 - Payroll reduction'!H280=\"Table 2\",\"\",'4 - Payroll reduction'!D280))","v":""},{"$f":"IF('4 - Payroll reduction'!C280=\"Name\",\"\",IF('4 - Payroll reduction'!H280=\"Table 2\",\"\",'4 - Payroll reduction'!E280))","v":""},{"$f":"IF('4 - Payroll reduction'!C280=\"Name\",\"\",IF('4 - Payroll reduction'!H280=\"Table 2\",\"\",'4 - Payroll reduction'!G280))","v":""},{"$f":"IF('4 - Payroll reduction'!C280=\"Name\",\"\",IF('4 - Payroll reduction'!H280=\"Table 2\",\"\",'4 - Payroll reduction'!F280))","v":""},190]
[{"$f":"IF('4 - Payroll reduction'!C281=\"Name\",\"\",IF('4 - Payroll reduction'!H281=\"Table 2\",\"\",'4 - Payroll reduction'!C281))","v":""},{"$f":"IF('4 - Payroll reduction'!C281=\"Name\",\"\",IF('4 - Payroll reduction'!H281=\"Table 2\",\"\",'4 - Payroll reduction'!D281))","v":""},{"$f":"IF('4 - Payroll reduction'!C281=\"Name\",\"\",IF('4 - Payroll reduction'!H281=\"Table 2\",\"\",'4 - Payroll reduction'!E281))","v":""},{"$f":"IF('4 - Payroll reduction'!C281=\"Name\",\"\",IF('4 - Payroll reduction'!H281=\"Table 2\",\"\",'4 - Payroll reduction'!G281))","v":""},{"$f":"IF('4 - Payroll reduction'!C281=\"Name\",\"\",IF('4 - Payroll reduction'!H281=\"Table 2\",\"\",'4 - Payroll reduction'!F281))","v":""},191]
[{"$f":"IF('4 - Payroll reduction'!C282=\"Name\",\"\",IF('4 - Payroll reduction'!H282=\"Table 2\",\"\",'4 - Payroll reduction'!C282))","v":""},{"$f":"IF('4 - Payroll reduction'!C282=\"Name\",\"\",IF('4 - Payroll reduction'!H282=\"Table 2\",\"\",'4 - Payroll reduction'!D282))","v":""},{"$f":"IF('4 - Payroll reduction'!C282=\"Name\",\"\",IF('4 - Payroll reduction'!H282=\"Table 2\",\"\",'4 - Payroll reduction'!E282))","v":""},{"$f":"IF('4 - Payroll reduction'!C282=\"Name\",\"\",IF('4 - Payroll reduction'!H282=\"Table 2\",\"\",'4 - Payroll reduction'!G282))","v":""},{"$f":"IF('4 - Payroll reduction'!C282=\"Name\",\"\",IF('4 - Payroll reduction'!H282=\"Table 2\",\"\",'4 - Payroll reduction'!F282))","v":""},192]
[{"$f":"IF('4 - Payroll reduction'!C283=\"Name\",\"\",IF('4 - Payroll reduction'!H283=\"Table 2\",\"\",'4 - Payroll reduction'!C283))","v":""},{"$f":"IF('4 - Payroll reduction'!C283=\"Name\",\"\",IF('4 - Payroll reduction'!H283=\"Table 2\",\"\",'4 - Payroll reduction'!D283))","v":""},{"$f":"IF('4 - Payroll reduction'!C283=\"Name\",\"\",IF('4 - Payroll reduction'!H283=\"Table 2\",\"\",'4 - Payroll reduction'!E283))","v":""},{"$f":"IF('4 - Payroll reduction'!C283=\"Name\",\"\",IF('4 - Payroll reduction'!H283=\"Table 2\",\"\",'4 - Payroll reduction'!G283))","v":""},{"$f":"IF('4 - Payroll reduction'!C283=\"Name\",\"\",IF('4 - Payroll reduction'!H283=\"Table 2\",\"\",'4 - Payroll reduction'!F283))","v":""},193]
[{"$f":"IF('4 - Payroll reduction'!C284=\"Name\",\"\",IF('4 - Payroll reduction'!H284=\"Table 2\",\"\",'4 - Payroll reduction'!C284))","v":""},{"$f":"IF('4 - Payroll reduction'!C284=\"Name\",\"\",IF('4 - Payroll reduction'!H284=\"Table 2\",\"\",'4 - Payroll reduction'!D284))","v":""},{"$f":"IF('4 - Payroll reduction'!C284=\"Name\",\"\",IF('4 - Payroll reduction'!H284=\"Table 2\",\"\",'4 - Payroll reduction'!E284))","v":""},{"$f":"IF('4 - Payroll reduction'!C284=\"Name\",\"\",IF('4 - Payroll reduction'!H284=\"Table 2\",\"\",'4 - Payroll reduction'!G284))","v":""},{"$f":"IF('4 - Payroll reduction'!C284=\"Name\",\"\",IF('4 - Payroll reduction'!H284=\"Table 2\",\"\",'4 - Payroll reduction'!F284))","v":""},194]
[{"$f":"IF('4 - Payroll reduction'!C285=\"Name\",\"\",IF('4 - Payroll reduction'!H285=\"Table 2\",\"\",'4 - Payroll reduction'!C285))","v":""},{"$f":"IF('4 - Payroll reduction'!C285=\"Name\",\"\",IF('4 - Payroll reduction'!H285=\"Table 2\",\"\",'4 - Payroll reduction'!D285))","v":""},{"$f":"IF('4 - Payroll reduction'!C285=\"Name\",\"\",IF('4 - Payroll reduction'!H285=\"Table 2\",\"\",'4 - Payroll reduction'!E285))","v":""},{"$f":"IF('4 - Payroll reduction'!C285=\"Name\",\"\",IF('4 - Payroll reduction'!H285=\"Table 2\",\"\",'4 - Payroll reduction'!G285))","v":""},{"$f":"IF('4 - Payroll reduction'!C285=\"Name\",\"\",IF('4 - Payroll reduction'!H285=\"Table 2\",\"\",'4 - Payroll reduction'!F285))","v":""},{"$f":"F203+1","v":195}]
[{"$f":"IF('4 - Payroll reduction'!C286=\"Name\",\"\",IF('4 - Payroll reduction'!H286=\"Table 2\",\"\",'4 - Payroll reduction'!C286))","v":""},{"$f":"IF('4 - Payroll reduction'!C286=\"Name\",\"\",IF('4 - Payroll reduction'!H286=\"Table 2\",\"\",'4 - Payroll reduction'!D286))","v":""},{"$f":"IF('4 - Payroll reduction'!C286=\"Name\",\"\",IF('4 - Payroll reduction'!H286=\"Table 2\",\"\",'4 - Payroll reduction'!E286))","v":""},{"$f":"IF('4 - Payroll reduction'!C286=\"Name\",\"\",IF('4 - Payroll reduction'!H286=\"Table 2\",\"\",'4 - Payroll reduction'!G286))","v":""},{"$f":"IF('4 - Payroll reduction'!C286=\"Name\",\"\",IF('4 - Payroll reduction'!H286=\"Table 2\",\"\",'4 - Payroll reduction'!F286))","v":""},196]
[{"$f":"IF('4 - Payroll reduction'!C287=\"Name\",\"\",IF('4 - Payroll reduction'!H287=\"Table 2\",\"\",'4 - Payroll reduction'!C287))","v":""},{"$f":"IF('4 - Payroll reduction'!C287=\"Name\",\"\",IF('4 - Payroll reduction'!H287=\"Table 2\",\"\",'4 - Payroll reduction'!D287))","v":""},{"$f":"IF('4 - Payroll reduction'!C287=\"Name\",\"\",IF('4 - Payroll reduction'!H287=\"Table 2\",\"\",'4 - Payroll reduction'!E287))","v":""},{"$f":"IF('4 - Payroll reduction'!C287=\"Name\",\"\",IF('4 - Payroll reduction'!H287=\"Table 2\",\"\",'4 - Payroll reduction'!G287))","v":""},{"$f":"IF('4 - Payroll reduction'!C287=\"Name\",\"\",IF('4 - Payroll reduction'!H287=\"Table 2\",\"\",'4 - Payroll reduction'!F287))","v":""},197]
[{"$f":"IF('4 - Payroll reduction'!C288=\"Name\",\"\",IF('4 - Payroll reduction'!H288=\"Table 2\",\"\",'4 - Payroll reduction'!C288))","v":""},{"$f":"IF('4 - Payroll reduction'!C288=\"Name\",\"\",IF('4 - Payroll reduction'!H288=\"Table 2\",\"\",'4 - Payroll reduction'!D288))","v":""},{"$f":"IF('4 - Payroll reduction'!C288=\"Name\",\"\",IF('4 - Payroll reduction'!H288=\"Table 2\",\"\",'4 - Payroll reduction'!E288))","v":""},{"$f":"IF('4 - Payroll reduction'!C288=\"Name\",\"\",IF('4 - Payroll reduction'!H288=\"Table 2\",\"\",'4 - Payroll reduction'!G288))","v":""},{"$f":"IF('4 - Payroll reduction'!C288=\"Name\",\"\",IF('4 - Payroll reduction'!H288=\"Table 2\",\"\",'4 - Payroll reduction'!F288))","v":""},198]
[{"$f":"IF('4 - Payroll reduction'!C289=\"Name\",\"\",IF('4 - Payroll reduction'!H289=\"Table 2\",\"\",'4 - Payroll reduction'!C289))","v":""},{"$f":"IF('4 - Payroll reduction'!C289=\"Name\",\"\",IF('4 - Payroll reduction'!H289=\"Table 2\",\"\",'4 - Payroll reduction'!D289))","v":""},{"$f":"IF('4 - Payroll reduction'!C289=\"Name\",\"\",IF('4 - Payroll reduction'!H289=\"Table 2\",\"\",'4 - Payroll reduction'!E289))","v":""},{"$f":"IF('4 - Payroll reduction'!C289=\"Name\",\"\",IF('4 - Payroll reduction'!H289=\"Table 2\",\"\",'4 - Payroll reduction'!G289))","v":""},{"$f":"IF('4 - Payroll reduction'!C289=\"Name\",\"\",IF('4 - Payroll reduction'!H289=\"Table 2\",\"\",'4 - Payroll reduction'!F289))","v":""},199]
[{"$f":"IF('4 - Payroll reduction'!C290=\"Name\",\"\",IF('4 - Payroll reduction'!H290=\"Table 2\",\"\",'4 - Payroll reduction'!C290))","v":""},{"$f":"IF('4 - Payroll reduction'!C290=\"Name\",\"\",IF('4 - Payroll reduction'!H290=\"Table 2\",\"\",'4 - Payroll reduction'!D290))","v":""},{"$f":"IF('4 - Payroll reduction'!C290=\"Name\",\"\",IF('4 - Payroll reduction'!H290=\"Table 2\",\"\",'4 - Payroll reduction'!E290))","v":""},{"$f":"IF('4 - Payroll reduction'!C290=\"Name\",\"\",IF('4 - Payroll reduction'!H290=\"Table 2\",\"\",'4 - Payroll reduction'!G290))","v":""},{"$f":"IF('4 - Payroll reduction'!C290=\"Name\",\"\",IF('4 - Payroll reduction'!H290=\"Table 2\",\"\",'4 - Payroll reduction'!F290))","v":""},200]
[{"$f":"IF('4 - Payroll reduction'!C291=\"Name\",\"\",IF('4 - Payroll reduction'!H291=\"Table 2\",\"\",'4 - Payroll reduction'!C291))","v":""},{"$f":"IF('4 - Payroll reduction'!C291=\"Name\",\"\",IF('4 - Payroll reduction'!H291=\"Table 2\",\"\",'4 - Payroll reduction'!D291))","v":""},{"$f":"IF('4 - Payroll reduction'!C291=\"Name\",\"\",IF('4 - Payroll reduction'!H291=\"Table 2\",\"\",'4 - Payroll reduction'!E291))","v":""},{"$f":"IF('4 - Payroll reduction'!C291=\"Name\",\"\",IF('4 - Payroll reduction'!H291=\"Table 2\",\"\",'4 - Payroll reduction'!G291))","v":""},{"$f":"IF('4 - Payroll reduction'!C291=\"Name\",\"\",IF('4 - Payroll reduction'!H291=\"Table 2\",\"\",'4 - Payroll reduction'!F291))","v":""},201]
[{"$f":"IF('4 - Payroll reduction'!C292=\"Name\",\"\",IF('4 - Payroll reduction'!H292=\"Table 2\",\"\",'4 - Payroll reduction'!C292))","v":""},{"$f":"IF('4 - Payroll reduction'!C292=\"Name\",\"\",IF('4 - Payroll reduction'!H292=\"Table 2\",\"\",'4 - Payroll reduction'!D292))","v":""},{"$f":"IF('4 - Payroll reduction'!C292=\"Name\",\"\",IF('4 - Payroll reduction'!H292=\"Table 2\",\"\",'4 - Payroll reduction'!E292))","v":""},{"$f":"IF('4 - Payroll reduction'!C292=\"Name\",\"\",IF('4 - Payroll reduction'!H292=\"Table 2\",\"\",'4 - Payroll reduction'!G292))","v":""},{"$f":"IF('4 - Payroll reduction'!C292=\"Name\",\"\",IF('4 - Payroll reduction'!H292=\"Table 2\",\"\",'4 - Payroll reduction'!F292))","v":""},202]
[{"$f":"IF('4 - Payroll reduction'!C293=\"Name\",\"\",IF('4 - Payroll reduction'!H293=\"Table 2\",\"\",'4 - Payroll reduction'!C293))","v":""},{"$f":"IF('4 - Payroll reduction'!C293=\"Name\",\"\",IF('4 - Payroll reduction'!H293=\"Table 2\",\"\",'4 - Payroll reduction'!D293))","v":""},{"$f":"IF('4 - Payroll reduction'!C293=\"Name\",\"\",IF('4 - Payroll reduction'!H293=\"Table 2\",\"\",'4 - Payroll reduction'!E293))","v":""},{"$f":"IF('4 - Payroll reduction'!C293=\"Name\",\"\",IF('4 - Payroll reduction'!H293=\"Table 2\",\"\",'4 - Payroll reduction'!G293))","v":""},{"$f":"IF('4 - Payroll reduction'!C293=\"Name\",\"\",IF('4 - Payroll reduction'!H293=\"Table 2\",\"\",'4 - Payroll reduction'!F293))","v":""},203]
[{"$f":"IF('4 - Payroll reduction'!C294=\"Name\",\"\",IF('4 - Payroll reduction'!H294=\"Table 2\",\"\",'4 - Payroll reduction'!C294))","v":""},{"$f":"IF('4 - Payroll reduction'!C294=\"Name\",\"\",IF('4 - Payroll reduction'!H294=\"Table 2\",\"\",'4 - Payroll reduction'!D294))","v":""},{"$f":"IF('4 - Payroll reduction'!C294=\"Name\",\"\",IF('4 - Payroll reduction'!H294=\"Table 2\",\"\",'4 - Payroll reduction'!E294))","v":""},{"$f":"IF('4 - Payroll reduction'!C294=\"Name\",\"\",IF('4 - Payroll reduction'!H294=\"Table 2\",\"\",'4 - Payroll reduction'!G294))","v":""},{"$f":"IF('4 - Payroll reduction'!C294=\"Name\",\"\",IF('4 - Payroll reduction'!H294=\"Table 2\",\"\",'4 - Payroll reduction'!F294))","v":""},204]
[{"$f":"IF('4 - Payroll reduction'!C295=\"Name\",\"\",IF('4 - Payroll reduction'!H295=\"Table 2\",\"\",'4 - Payroll reduction'!C295))","v":""},{"$f":"IF('4 - Payroll reduction'!C295=\"Name\",\"\",IF('4 - Payroll reduction'!H295=\"Table 2\",\"\",'4 - Payroll reduction'!D295))","v":""},{"$f":"IF('4 - Payroll reduction'!C295=\"Name\",\"\",IF('4 - Payroll reduction'!H295=\"Table 2\",\"\",'4 - Payroll reduction'!E295))","v":""},{"$f":"IF('4 - Payroll reduction'!C295=\"Name\",\"\",IF('4 - Payroll reduction'!H295=\"Table 2\",\"\",'4 - Payroll reduction'!G295))","v":""},{"$f":"IF('4 - Payroll reduction'!C295=\"Name\",\"\",IF('4 - Payroll reduction'!H295=\"Table 2\",\"\",'4 - Payroll reduction'!F295))","v":""},205]
[{"$f":"IF('4 - Payroll reduction'!C296=\"Name\",\"\",IF('4 - Payroll reduction'!H296=\"Table 2\",\"\",'4 - Payroll reduction'!C296))","v":""},{"$f":"IF('4 - Payroll reduction'!C296=\"Name\",\"\",IF('4 - Payroll reduction'!H296=\"Table 2\",\"\",'4 - Payroll reduction'!D296))","v":""},{"$f":"IF('4 - Payroll reduction'!C296=\"Name\",\"\",IF('4 - Payroll reduction'!H296=\"Table 2\",\"\",'4 - Payroll reduction'!E296))","v":""},{"$f":"IF('4 - Payroll reduction'!C296=\"Name\",\"\",IF('4 - Payroll reduction'!H296=\"Table 2\",\"\",'4 - Payroll reduction'!G296))","v":""},{"$f":"IF('4 - Payroll reduction'!C296=\"Name\",\"\",IF('4 - Payroll reduction'!H296=\"Table 2\",\"\",'4 - Payroll reduction'!F296))","v":""},206]
[{"$f":"IF('4 - Payroll reduction'!C297=\"Name\",\"\",IF('4 - Payroll reduction'!H297=\"Table 2\",\"\",'4 - Payroll reduction'!C297))","v":""},{"$f":"IF('4 - Payroll reduction'!C297=\"Name\",\"\",IF('4 - Payroll reduction'!H297=\"Table 2\",\"\",'4 - Payroll reduction'!D297))","v":""},{"$f":"IF('4 - Payroll reduction'!C297=\"Name\",\"\",IF('4 - Payroll reduction'!H297=\"Table 2\",\"\",'4 - Payroll reduction'!E297))","v":""},{"$f":"IF('4 - Payroll reduction'!C297=\"Name\",\"\",IF('4 - Payroll reduction'!H297=\"Table 2\",\"\",'4 - Payroll reduction'!G297))","v":""},{"$f":"IF('4 - Payroll reduction'!C297=\"Name\",\"\",IF('4 - Payroll reduction'!H297=\"Table 2\",\"\",'4 - Payroll reduction'!F297))","v":""},207]
[{"$f":"IF('4 - Payroll reduction'!C298=\"Name\",\"\",IF('4 - Payroll reduction'!H298=\"Table 2\",\"\",'4 - Payroll reduction'!C298))","v":""},{"$f":"IF('4 - Payroll reduction'!C298=\"Name\",\"\",IF('4 - Payroll reduction'!H298=\"Table 2\",\"\",'4 - Payroll reduction'!D298))","v":""},{"$f":"IF('4 - Payroll reduction'!C298=\"Name\",\"\",IF('4 - Payroll reduction'!H298=\"Table 2\",\"\",'4 - Payroll reduction'!E298))","v":""},{"$f":"IF('4 - Payroll reduction'!C298=\"Name\",\"\",IF('4 - Payroll reduction'!H298=\"Table 2\",\"\",'4 - Payroll reduction'!G298))","v":""},{"$f":"IF('4 - Payroll reduction'!C298=\"Name\",\"\",IF('4 - Payroll reduction'!H298=\"Table 2\",\"\",'4 - Payroll reduction'!F298))","v":""},208]
[{"$f":"IF('4 - Payroll reduction'!C299=\"Name\",\"\",IF('4 - Payroll reduction'!H299=\"Table 2\",\"\",'4 - Payroll reduction'!C299))","v":""},{"$f":"IF('4 - Payroll reduction'!C299=\"Name\",\"\",IF('4 - Payroll reduction'!H299=\"Table 2\",\"\",'4 - Payroll reduction'!D299))","v":""},{"$f":"IF('4 - Payroll reduction'!C299=\"Name\",\"\",IF('4 - Payroll reduction'!H299=\"Table 2\",\"\",'4 - Payroll reduction'!E299))","v":""},{"$f":"IF('4 - Payroll reduction'!C299=\"Name\",\"\",IF('4 - Payroll reduction'!H299=\"Table 2\",\"\",'4 - Payroll reduction'!G299))","v":""},{"$f":"IF('4 - Payroll reduction'!C299=\"Name\",\"\",IF('4 - Payroll reduction'!H299=\"Table 2\",\"\",'4 - Payroll reduction'!F299))","v":""},209]
[{"$f":"IF('4 - Payroll reduction'!C300=\"Name\",\"\",IF('4 - Payroll reduction'!H300=\"Table 2\",\"\",'4 - Payroll reduction'!C300))","v":""},{"$f":"IF('4 - Payroll reduction'!C300=\"Name\",\"\",IF('4 - Payroll reduction'!H300=\"Table 2\",\"\",'4 - Payroll reduction'!D300))","v":""},{"$f":"IF('4 - Payroll reduction'!C300=\"Name\",\"\",IF('4 - Payroll reduction'!H300=\"Table 2\",\"\",'4 - Payroll reduction'!E300))","v":""},{"$f":"IF('4 - Payroll reduction'!C300=\"Name\",\"\",IF('4 - Payroll reduction'!H300=\"Table 2\",\"\",'4 - Payroll reduction'!G300))","v":""},{"$f":"IF('4 - Payroll reduction'!C300=\"Name\",\"\",IF('4 - Payroll reduction'!H300=\"Table 2\",\"\",'4 - Payroll reduction'!F300))","v":""},210]
[{"$f":"IF('4 - Payroll reduction'!C301=\"Name\",\"\",IF('4 - Payroll reduction'!H301=\"Table 2\",\"\",'4 - Payroll reduction'!C301))","v":""},{"$f":"IF('4 - Payroll reduction'!C301=\"Name\",\"\",IF('4 - Payroll reduction'!H301=\"Table 2\",\"\",'4 - Payroll reduction'!D301))","v":""},{"$f":"IF('4 - Payroll reduction'!C301=\"Name\",\"\",IF('4 - Payroll reduction'!H301=\"Table 2\",\"\",'4 - Payroll reduction'!E301))","v":""},{"$f":"IF('4 - Payroll reduction'!C301=\"Name\",\"\",IF('4 - Payroll reduction'!H301=\"Table 2\",\"\",'4 - Payroll reduction'!G301))","v":""},{"$f":"IF('4 - Payroll reduction'!C301=\"Name\",\"\",IF('4 - Payroll reduction'!H301=\"Table 2\",\"\",'4 - Payroll reduction'!F301))","v":""},211]
[{"$f":"IF('4 - Payroll reduction'!C302=\"Name\",\"\",IF('4 - Payroll reduction'!H302=\"Table 2\",\"\",'4 - Payroll reduction'!C302))","v":""},{"$f":"IF('4 - Payroll reduction'!C302=\"Name\",\"\",IF('4 - Payroll reduction'!H302=\"Table 2\",\"\",'4 - Payroll reduction'!D302))","v":""},{"$f":"IF('4 - Payroll reduction'!C302=\"Name\",\"\",IF('4 - Payroll reduction'!H302=\"Table 2\",\"\",'4 - Payroll reduction'!E302))","v":""},{"$f":"IF('4 - Payroll reduction'!C302=\"Name\",\"\",IF('4 - Payroll reduction'!H302=\"Table 2\",\"\",'4 - Payroll reduction'!G302))","v":""},{"$f":"IF('4 - Payroll reduction'!C302=\"Name\",\"\",IF('4 - Payroll reduction'!H302=\"Table 2\",\"\",'4 - Payroll reduction'!F302))","v":""},212]
[{"$f":"IF('4 - Payroll reduction'!C303=\"Name\",\"\",IF('4 - Payroll reduction'!H303=\"Table 2\",\"\",'4 - Payroll reduction'!C303))","v":""},{"$f":"IF('4 - Payroll reduction'!C303=\"Name\",\"\",IF('4 - Payroll reduction'!H303=\"Table 2\",\"\",'4 - Payroll reduction'!D303))","v":""},{"$f":"IF('4 - Payroll reduction'!C303=\"Name\",\"\",IF('4 - Payroll reduction'!H303=\"Table 2\",\"\",'4 - Payroll reduction'!E303))","v":""},{"$f":"IF('4 - Payroll reduction'!C303=\"Name\",\"\",IF('4 - Payroll reduction'!H303=\"Table 2\",\"\",'4 - Payroll reduction'!G303))","v":""},{"$f":"IF('4 - Payroll reduction'!C303=\"Name\",\"\",IF('4 - Payroll reduction'!H303=\"Table 2\",\"\",'4 - Payroll reduction'!F303))","v":""},213]
[{"$f":"IF('4 - Payroll reduction'!C304=\"Name\",\"\",IF('4 - Payroll reduction'!H304=\"Table 2\",\"\",'4 - Payroll reduction'!C304))","v":""},{"$f":"IF('4 - Payroll reduction'!C304=\"Name\",\"\",IF('4 - Payroll reduction'!H304=\"Table 2\",\"\",'4 - Payroll reduction'!D304))","v":""},{"$f":"IF('4 - Payroll reduction'!C304=\"Name\",\"\",IF('4 - Payroll reduction'!H304=\"Table 2\",\"\",'4 - Payroll reduction'!E304))","v":""},{"$f":"IF('4 - Payroll reduction'!C304=\"Name\",\"\",IF('4 - Payroll reduction'!H304=\"Table 2\",\"\",'4 - Payroll reduction'!G304))","v":""},{"$f":"IF('4 - Payroll reduction'!C304=\"Name\",\"\",IF('4 - Payroll reduction'!H304=\"Table 2\",\"\",'4 - Payroll reduction'!F304))","v":""},214]
[{"$f":"IF('4 - Payroll reduction'!C305=\"Name\",\"\",IF('4 - Payroll reduction'!H305=\"Table 2\",\"\",'4 - Payroll reduction'!C305))","v":""},{"$f":"IF('4 - Payroll reduction'!C305=\"Name\",\"\",IF('4 - Payroll reduction'!H305=\"Table 2\",\"\",'4 - Payroll reduction'!D305))","v":""},{"$f":"IF('4 - Payroll reduction'!C305=\"Name\",\"\",IF('4 - Payroll reduction'!H305=\"Table 2\",\"\",'4 - Payroll reduction'!E305))","v":""},{"$f":"IF('4 - Payroll reduction'!C305=\"Name\",\"\",IF('4 - Payroll reduction'!H305=\"Table 2\",\"\",'4 - Payroll reduction'!G305))","v":""},{"$f":"IF('4 - Payroll reduction'!C305=\"Name\",\"\",IF('4 - Payroll reduction'!H305=\"Table 2\",\"\",'4 - Payroll reduction'!F305))","v":""},215]
[{"$f":"IF('4 - Payroll reduction'!C306=\"Name\",\"\",IF('4 - Payroll reduction'!H306=\"Table 2\",\"\",'4 - Payroll reduction'!C306))","v":""},{"$f":"IF('4 - Payroll reduction'!C306=\"Name\",\"\",IF('4 - Payroll reduction'!H306=\"Table 2\",\"\",'4 - Payroll reduction'!D306))","v":""},{"$f":"IF('4 - Payroll reduction'!C306=\"Name\",\"\",IF('4 - Payroll reduction'!H306=\"Table 2\",\"\",'4 - Payroll reduction'!E306))","v":""},{"$f":"IF('4 - Payroll reduction'!C306=\"Name\",\"\",IF('4 - Payroll reduction'!H306=\"Table 2\",\"\",'4 - Payroll reduction'!G306))","v":""},{"$f":"IF('4 - Payroll reduction'!C306=\"Name\",\"\",IF('4 - Payroll reduction'!H306=\"Table 2\",\"\",'4 - Payroll reduction'!F306))","v":""},216]
[{"$f":"IF('4 - Payroll reduction'!C307=\"Name\",\"\",IF('4 - Payroll reduction'!H307=\"Table 2\",\"\",'4 - Payroll reduction'!C307))","v":""},{"$f":"IF('4 - Payroll reduction'!C307=\"Name\",\"\",IF('4 - Payroll reduction'!H307=\"Table 2\",\"\",'4 - Payroll reduction'!D307))","v":""},{"$f":"IF('4 - Payroll reduction'!C307=\"Name\",\"\",IF('4 - Payroll reduction'!H307=\"Table 2\",\"\",'4 - Payroll reduction'!E307))","v":""},{"$f":"IF('4 - Payroll reduction'!C307=\"Name\",\"\",IF('4 - Payroll reduction'!H307=\"Table 2\",\"\",'4 - Payroll reduction'!G307))","v":""},{"$f":"IF('4 - Payroll reduction'!C307=\"Name\",\"\",IF('4 - Payroll reduction'!H307=\"Table 2\",\"\",'4 - Payroll reduction'!F307))","v":""},217]
[{"$f":"IF('4 - Payroll reduction'!C308=\"Name\",\"\",IF('4 - Payroll reduction'!H308=\"Table 2\",\"\",'4 - Payroll reduction'!C308))","v":""},{"$f":"IF('4 - Payroll reduction'!C308=\"Name\",\"\",IF('4 - Payroll reduction'!H308=\"Table 2\",\"\",'4 - Payroll reduction'!D308))","v":""},{"$f":"IF('4 - Payroll reduction'!C308=\"Name\",\"\",IF('4 - Payroll reduction'!H308=\"Table 2\",\"\",'4 - Payroll reduction'!E308))","v":""},{"$f":"IF('4 - Payroll reduction'!C308=\"Name\",\"\",IF('4 - Payroll reduction'!H308=\"Table 2\",\"\",'4 - Payroll reduction'!G308))","v":""},{"$f":"IF('4 - Payroll reduction'!C308=\"Name\",\"\",IF('4 - Payroll reduction'!H308=\"Table 2\",\"\",'4 - Payroll reduction'!F308))","v":""},218]
[{"$f":"IF('4 - Payroll reduction'!C309=\"Name\",\"\",IF('4 - Payroll reduction'!H309=\"Table 2\",\"\",'4 - Payroll reduction'!C309))","v":""},{"$f":"IF('4 - Payroll reduction'!C309=\"Name\",\"\",IF('4 - Payroll reduction'!H309=\"Table 2\",\"\",'4 - Payroll reduction'!D309))","v":""},{"$f":"IF('4 - Payroll reduction'!C309=\"Name\",\"\",IF('4 - Payroll reduction'!H309=\"Table 2\",\"\",'4 - Payroll reduction'!E309))","v":""},{"$f":"IF('4 - Payroll reduction'!C309=\"Name\",\"\",IF('4 - Payroll reduction'!H309=\"Table 2\",\"\",'4 - Payroll reduction'!G309))","v":""},{"$f":"IF('4 - Payroll reduction'!C309=\"Name\",\"\",IF('4 - Payroll reduction'!H309=\"Table 2\",\"\",'4 - Payroll reduction'!F309))","v":""},219]
[{"$f":"IF('4 - Payroll reduction'!C310=\"Name\",\"\",IF('4 - Payroll reduction'!H310=\"Table 2\",\"\",'4 - Payroll reduction'!C310))","v":""},{"$f":"IF('4 - Payroll reduction'!C310=\"Name\",\"\",IF('4 - Payroll reduction'!H310=\"Table 2\",\"\",'4 - Payroll reduction'!D310))","v":""},{"$f":"IF('4 - Payroll reduction'!C310=\"Name\",\"\",IF('4 - Payroll reduction'!H310=\"Table 2\",\"\",'4 - Payroll reduction'!E310))","v":""},{"$f":"IF('4 - Payroll reduction'!C310=\"Name\",\"\",IF('4 - Payroll reduction'!H310=\"Table 2\",\"\",'4 - Payroll reduction'!G310))","v":""},{"$f":"IF('4 - Payroll reduction'!C310=\"Name\",\"\",IF('4 - Payroll reduction'!H310=\"Table 2\",\"\",'4 - Payroll reduction'!F310))","v":""},220]
[{"$f":"IF('4 - Payroll reduction'!C311=\"Name\",\"\",IF('4 - Payroll reduction'!H311=\"Table 2\",\"\",'4 - Payroll reduction'!C311))","v":""},{"$f":"IF('4 - Payroll reduction'!C311=\"Name\",\"\",IF('4 - Payroll reduction'!H311=\"Table 2\",\"\",'4 - Payroll reduction'!D311))","v":""},{"$f":"IF('4 - Payroll reduction'!C311=\"Name\",\"\",IF('4 - Payroll reduction'!H311=\"Table 2\",\"\",'4 - Payroll reduction'!E311))","v":""},{"$f":"IF('4 - Payroll reduction'!C311=\"Name\",\"\",IF('4 - Payroll reduction'!H311=\"Table 2\",\"\",'4 - Payroll reduction'!G311))","v":""},{"$f":"IF('4 - Payroll reduction'!C311=\"Name\",\"\",IF('4 - Payroll reduction'!H311=\"Table 2\",\"\",'4 - Payroll reduction'!F311))","v":""},221]
[{"$f":"IF('4 - Payroll reduction'!C312=\"Name\",\"\",IF('4 - Payroll reduction'!H312=\"Table 2\",\"\",'4 - Payroll reduction'!C312))","v":""},{"$f":"IF('4 - Payroll reduction'!C312=\"Name\",\"\",IF('4 - Payroll reduction'!H312=\"Table 2\",\"\",'4 - Payroll reduction'!D312))","v":""},{"$f":"IF('4 - Payroll reduction'!C312=\"Name\",\"\",IF('4 - Payroll reduction'!H312=\"Table 2\",\"\",'4 - Payroll reduction'!E312))","v":""},{"$f":"IF('4 - Payroll reduction'!C312=\"Name\",\"\",IF('4 - Payroll reduction'!H312=\"Table 2\",\"\",'4 - Payroll reduction'!G312))","v":""},{"$f":"IF('4 - Payroll reduction'!C312=\"Name\",\"\",IF('4 - Payroll reduction'!H312=\"Table 2\",\"\",'4 - Payroll reduction'!F312))","v":""},222]
[{"$f":"IF('4 - Payroll reduction'!C313=\"Name\",\"\",IF('4 - Payroll reduction'!H313=\"Table 2\",\"\",'4 - Payroll reduction'!C313))","v":""},{"$f":"IF('4 - Payroll reduction'!C313=\"Name\",\"\",IF('4 - Payroll reduction'!H313=\"Table 2\",\"\",'4 - Payroll reduction'!D313))","v":""},{"$f":"IF('4 - Payroll reduction'!C313=\"Name\",\"\",IF('4 - Payroll reduction'!H313=\"Table 2\",\"\",'4 - Payroll reduction'!E313))","v":""},{"$f":"IF('4 - Payroll reduction'!C313=\"Name\",\"\",IF('4 - Payroll reduction'!H313=\"Table 2\",\"\",'4 - Payroll reduction'!G313))","v":""},{"$f":"IF('4 - Payroll reduction'!C313=\"Name\",\"\",IF('4 - Payroll reduction'!H313=\"Table 2\",\"\",'4 - Payroll reduction'!F313))","v":""},223]
[{"$f":"IF('4 - Payroll reduction'!C314=\"Name\",\"\",IF('4 - Payroll reduction'!H314=\"Table 2\",\"\",'4 - Payroll reduction'!C314))","v":""},{"$f":"IF('4 - Payroll reduction'!C314=\"Name\",\"\",IF('4 - Payroll reduction'!H314=\"Table 2\",\"\",'4 - Payroll reduction'!D314))","v":""},{"$f":"IF('4 - Payroll reduction'!C314=\"Name\",\"\",IF('4 - Payroll reduction'!H314=\"Table 2\",\"\",'4 - Payroll reduction'!E314))","v":""},{"$f":"IF('4 - Payroll reduction'!C314=\"Name\",\"\",IF('4 - Payroll reduction'!H314=\"Table 2\",\"\",'4 - Payroll reduction'!G314))","v":""},{"$f":"IF('4 - Payroll reduction'!C314=\"Name\",\"\",IF('4 - Payroll reduction'!H314=\"Table 2\",\"\",'4 - Payroll reduction'!F314))","v":""},224]
[{"$f":"IF('4 - Payroll reduction'!C315=\"Name\",\"\",IF('4 - Payroll reduction'!H315=\"Table 2\",\"\",'4 - Payroll reduction'!C315))","v":""},{"$f":"IF('4 - Payroll reduction'!C315=\"Name\",\"\",IF('4 - Payroll reduction'!H315=\"Table 2\",\"\",'4 - Payroll reduction'!D315))","v":""},{"$f":"IF('4 - Payroll reduction'!C315=\"Name\",\"\",IF('4 - Payroll reduction'!H315=\"Table 2\",\"\",'4 - Payroll reduction'!E315))","v":""},{"$f":"IF('4 - Payroll reduction'!C315=\"Name\",\"\",IF('4 - Payroll reduction'!H315=\"Table 2\",\"\",'4 - Payroll reduction'!G315))","v":""},{"$f":"IF('4 - Payroll reduction'!C315=\"Name\",\"\",IF('4 - Payroll reduction'!H315=\"Table 2\",\"\",'4 - Payroll reduction'!F315))","v":""},225]
[{"$f":"IF('4 - Payroll reduction'!C316=\"Name\",\"\",IF('4 - Payroll reduction'!H316=\"Table 2\",\"\",'4 - Payroll reduction'!C316))","v":""},{"$f":"IF('4 - Payroll reduction'!C316=\"Name\",\"\",IF('4 - Payroll reduction'!H316=\"Table 2\",\"\",'4 - Payroll reduction'!D316))","v":""},{"$f":"IF('4 - Payroll reduction'!C316=\"Name\",\"\",IF('4 - Payroll reduction'!H316=\"Table 2\",\"\",'4 - Payroll reduction'!E316))","v":""},{"$f":"IF('4 - Payroll reduction'!C316=\"Name\",\"\",IF('4 - Payroll reduction'!H316=\"Table 2\",\"\",'4 - Payroll reduction'!G316))","v":""},{"$f":"IF('4 - Payroll reduction'!C316=\"Name\",\"\",IF('4 - Payroll reduction'!H316=\"Table 2\",\"\",'4 - Payroll reduction'!F316))","v":""},226]
[{"$f":"IF('4 - Payroll reduction'!C317=\"Name\",\"\",IF('4 - Payroll reduction'!H317=\"Table 2\",\"\",'4 - Payroll reduction'!C317))","v":""},{"$f":"IF('4 - Payroll reduction'!C317=\"Name\",\"\",IF('4 - Payroll reduction'!H317=\"Table 2\",\"\",'4 - Payroll reduction'!D317))","v":""},{"$f":"IF('4 - Payroll reduction'!C317=\"Name\",\"\",IF('4 - Payroll reduction'!H317=\"Table 2\",\"\",'4 - Payroll reduction'!E317))","v":""},{"$f":"IF('4 - Payroll reduction'!C317=\"Name\",\"\",IF('4 - Payroll reduction'!H317=\"Table 2\",\"\",'4 - Payroll reduction'!G317))","v":""},{"$f":"IF('4 - Payroll reduction'!C317=\"Name\",\"\",IF('4 - Payroll reduction'!H317=\"Table 2\",\"\",'4 - Payroll reduction'!F317))","v":""},227]
[{"$f":"IF('4 - Payroll reduction'!C318=\"Name\",\"\",IF('4 - Payroll reduction'!H318=\"Table 2\",\"\",'4 - Payroll reduction'!C318))","v":""},{"$f":"IF('4 - Payroll reduction'!C318=\"Name\",\"\",IF('4 - Payroll reduction'!H318=\"Table 2\",\"\",'4 - Payroll reduction'!D318))","v":""},{"$f":"IF('4 - Payroll reduction'!C318=\"Name\",\"\",IF('4 - Payroll reduction'!H318=\"Table 2\",\"\",'4 - Payroll reduction'!E318))","v":""},{"$f":"IF('4 - Payroll reduction'!C318=\"Name\",\"\",IF('4 - Payroll reduction'!H318=\"Table 2\",\"\",'4 - Payroll reduction'!G318))","v":""},{"$f":"IF('4 - Payroll reduction'!C318=\"Name\",\"\",IF('4 - Payroll reduction'!H318=\"Table 2\",\"\",'4 - Payroll reduction'!F318))","v":""},228]
[{"$f":"IF('4 - Payroll reduction'!C319=\"Name\",\"\",IF('4 - Payroll reduction'!H319=\"Table 2\",\"\",'4 - Payroll reduction'!C319))","v":""},{"$f":"IF('4 - Payroll reduction'!C319=\"Name\",\"\",IF('4 - Payroll reduction'!H319=\"Table 2\",\"\",'4 - Payroll reduction'!D319))","v":""},{"$f":"IF('4 - Payroll reduction'!C319=\"Name\",\"\",IF('4 - Payroll reduction'!H319=\"Table 2\",\"\",'4 - Payroll reduction'!E319))","v":""},{"$f":"IF('4 - Payroll reduction'!C319=\"Name\",\"\",IF('4 - Payroll reduction'!H319=\"Table 2\",\"\",'4 - Payroll reduction'!G319))","v":""},{"$f":"IF('4 - Payroll reduction'!C319=\"Name\",\"\",IF('4 - Payroll reduction'!H319=\"Table 2\",\"\",'4 - Payroll reduction'!F319))","v":""},229]
[{"$f":"IF('4 - Payroll reduction'!C320=\"Name\",\"\",IF('4 - Payroll reduction'!H320=\"Table 2\",\"\",'4 - Payroll reduction'!C320))","v":""},{"$f":"IF('4 - Payroll reduction'!C320=\"Name\",\"\",IF('4 - Payroll reduction'!H320=\"Table 2\",\"\",'4 - Payroll reduction'!D320))","v":""},{"$f":"IF('4 - Payroll reduction'!C320=\"Name\",\"\",IF('4 - Payroll reduction'!H320=\"Table 2\",\"\",'4 - Payroll reduction'!E320))","v":""},{"$f":"IF('4 - Payroll reduction'!C320=\"Name\",\"\",IF('4 - Payroll reduction'!H320=\"Table 2\",\"\",'4 - Payroll reduction'!G320))","v":""},{"$f":"IF('4 - Payroll reduction'!C320=\"Name\",\"\",IF('4 - Payroll reduction'!H320=\"Table 2\",\"\",'4 - Payroll reduction'!F320))","v":""},230]
[{"$f":"IF('4 - Payroll reduction'!C321=\"Name\",\"\",IF('4 - Payroll reduction'!H321=\"Table 2\",\"\",'4 - Payroll reduction'!C321))","v":""},{"$f":"IF('4 - Payroll reduction'!C321=\"Name\",\"\",IF('4 - Payroll reduction'!H321=\"Table 2\",\"\",'4 - Payroll reduction'!D321))","v":""},{"$f":"IF('4 - Payroll reduction'!C321=\"Name\",\"\",IF('4 - Payroll reduction'!H321=\"Table 2\",\"\",'4 - Payroll reduction'!E321))","v":""},{"$f":"IF('4 - Payroll reduction'!C321=\"Name\",\"\",IF('4 - Payroll reduction'!H321=\"Table 2\",\"\",'4 - Payroll reduction'!G321))","v":""},{"$f":"IF('4 - Payroll reduction'!C321=\"Name\",\"\",IF('4 - Payroll reduction'!H321=\"Table 2\",\"\",'4 - Payroll reduction'!F321))","v":""},231]
[{"$f":"IF('4 - Payroll reduction'!C322=\"Name\",\"\",IF('4 - Payroll reduction'!H322=\"Table 2\",\"\",'4 - Payroll reduction'!C322))","v":""},{"$f":"IF('4 - Payroll reduction'!C322=\"Name\",\"\",IF('4 - Payroll reduction'!H322=\"Table 2\",\"\",'4 - Payroll reduction'!D322))","v":""},{"$f":"IF('4 - Payroll reduction'!C322=\"Name\",\"\",IF('4 - Payroll reduction'!H322=\"Table 2\",\"\",'4 - Payroll reduction'!E322))","v":""},{"$f":"IF('4 - Payroll reduction'!C322=\"Name\",\"\",IF('4 - Payroll reduction'!H322=\"Table 2\",\"\",'4 - Payroll reduction'!G322))","v":""},{"$f":"IF('4 - Payroll reduction'!C322=\"Name\",\"\",IF('4 - Payroll reduction'!H322=\"Table 2\",\"\",'4 - Payroll reduction'!F322))","v":""},232]
[{"$f":"IF('4 - Payroll reduction'!C323=\"Name\",\"\",IF('4 - Payroll reduction'!H323=\"Table 2\",\"\",'4 - Payroll reduction'!C323))","v":""},{"$f":"IF('4 - Payroll reduction'!C323=\"Name\",\"\",IF('4 - Payroll reduction'!H323=\"Table 2\",\"\",'4 - Payroll reduction'!D323))","v":""},{"$f":"IF('4 - Payroll reduction'!C323=\"Name\",\"\",IF('4 - Payroll reduction'!H323=\"Table 2\",\"\",'4 - Payroll reduction'!E323))","v":""},{"$f":"IF('4 - Payroll reduction'!C323=\"Name\",\"\",IF('4 - Payroll reduction'!H323=\"Table 2\",\"\",'4 - Payroll reduction'!G323))","v":""},{"$f":"IF('4 - Payroll reduction'!C323=\"Name\",\"\",IF('4 - Payroll reduction'!H323=\"Table 2\",\"\",'4 - Payroll reduction'!F323))","v":""},233]
[{"$f":"IF('4 - Payroll reduction'!C324=\"Name\",\"\",IF('4 - Payroll reduction'!H324=\"Table 2\",\"\",'4 - Payroll reduction'!C324))","v":""},{"$f":"IF('4 - Payroll reduction'!C324=\"Name\",\"\",IF('4 - Payroll reduction'!H324=\"Table 2\",\"\",'4 - Payroll reduction'!D324))","v":""},{"$f":"IF('4 - Payroll reduction'!C324=\"Name\",\"\",IF('4 - Payroll reduction'!H324=\"Table 2\",\"\",'4 - Payroll reduction'!E324))","v":""},{"$f":"IF('4 - Payroll reduction'!C324=\"Name\",\"\",IF('4 - Payroll reduction'!H324=\"Table 2\",\"\",'4 - Payroll reduction'!G324))","v":""},{"$f":"IF('4 - Payroll reduction'!C324=\"Name\",\"\",IF('4 - Payroll reduction'!H324=\"Table 2\",\"\",'4 - Payroll reduction'!F324))","v":""},234]
[{"$f":"IF('4 - Payroll reduction'!C325=\"Name\",\"\",IF('4 - Payroll reduction'!H325=\"Table 2\",\"\",'4 - Payroll reduction'!C325))","v":""},{"$f":"IF('4 - Payroll reduction'!C325=\"Name\",\"\",IF('4 - Payroll reduction'!H325=\"Table 2\",\"\",'4 - Payroll reduction'!D325))","v":""},{"$f":"IF('4 - Payroll reduction'!C325=\"Name\",\"\",IF('4 - Payroll reduction'!H325=\"Table 2\",\"\",'4 - Payroll reduction'!E325))","v":""},{"$f":"IF('4 - Payroll reduction'!C325=\"Name\",\"\",IF('4 - Payroll reduction'!H325=\"Table 2\",\"\",'4 - Payroll reduction'!G325))","v":""},{"$f":"IF('4 - Payroll reduction'!C325=\"Name\",\"\",IF('4 - Payroll reduction'!H325=\"Table 2\",\"\",'4 - Payroll reduction'!F325))","v":""},235]
[{"$f":"IF('4 - Payroll reduction'!C326=\"Name\",\"\",IF('4 - Payroll reduction'!H326=\"Table 2\",\"\",'4 - Payroll reduction'!C326))","v":""},{"$f":"IF('4 - Payroll reduction'!C326=\"Name\",\"\",IF('4 - Payroll reduction'!H326=\"Table 2\",\"\",'4 - Payroll reduction'!D326))","v":""},{"$f":"IF('4 - Payroll reduction'!C326=\"Name\",\"\",IF('4 - Payroll reduction'!H326=\"Table 2\",\"\",'4 - Payroll reduction'!E326))","v":""},{"$f":"IF('4 - Payroll reduction'!C326=\"Name\",\"\",IF('4 - Payroll reduction'!H326=\"Table 2\",\"\",'4 - Payroll reduction'!G326))","v":""},{"$f":"IF('4 - Payroll reduction'!C326=\"Name\",\"\",IF('4 - Payroll reduction'!H326=\"Table 2\",\"\",'4 - Payroll reduction'!F326))","v":""},236]
[{"$f":"IF('4 - Payroll reduction'!C327=\"Name\",\"\",IF('4 - Payroll reduction'!H327=\"Table 2\",\"\",'4 - Payroll reduction'!C327))","v":""},{"$f":"IF('4 - Payroll reduction'!C327=\"Name\",\"\",IF('4 - Payroll reduction'!H327=\"Table 2\",\"\",'4 - Payroll reduction'!D327))","v":""},{"$f":"IF('4 - Payroll reduction'!C327=\"Name\",\"\",IF('4 - Payroll reduction'!H327=\"Table 2\",\"\",'4 - Payroll reduction'!E327))","v":""},{"$f":"IF('4 - Payroll reduction'!C327=\"Name\",\"\",IF('4 - Payroll reduction'!H327=\"Table 2\",\"\",'4 - Payroll reduction'!G327))","v":""},{"$f":"IF('4 - Payroll reduction'!C327=\"Name\",\"\",IF('4 - Payroll reduction'!H327=\"Table 2\",\"\",'4 - Payroll reduction'!F327))","v":""},237]
[{"$f":"IF('4 - Payroll reduction'!C328=\"Name\",\"\",IF('4 - Payroll reduction'!H328=\"Table 2\",\"\",'4 - Payroll reduction'!C328))","v":""},{"$f":"IF('4 - Payroll reduction'!C328=\"Name\",\"\",IF('4 - Payroll reduction'!H328=\"Table 2\",\"\",'4 - Payroll reduction'!D328))","v":""},{"$f":"IF('4 - Payroll reduction'!C328=\"Name\",\"\",IF('4 - Payroll reduction'!H328=\"Table 2\",\"\",'4 - Payroll reduction'!E328))","v":""},{"$f":"IF('4 - Payroll reduction'!C328=\"Name\",\"\",IF('4 - Payroll reduction'!H328=\"Table 2\",\"\",'4 - Payroll reduction'!G328))","v":""},{"$f":"IF('4 - Payroll reduction'!C328=\"Name\",\"\",IF('4 - Payroll reduction'!H328=\"Table 2\",\"\",'4 - Payroll reduction'!F328))","v":""},238]
[{"$f":"IF('4 - Payroll reduction'!C329=\"Name\",\"\",IF('4 - Payroll reduction'!H329=\"Table 2\",\"\",'4 - Payroll reduction'!C329))","v":""},{"$f":"IF('4 - Payroll reduction'!C329=\"Name\",\"\",IF('4 - Payroll reduction'!H329=\"Table 2\",\"\",'4 - Payroll reduction'!D329))","v":""},{"$f":"IF('4 - Payroll reduction'!C329=\"Name\",\"\",IF('4 - Payroll reduction'!H329=\"Table 2\",\"\",'4 - Payroll reduction'!E329))","v":""},{"$f":"IF('4 - Payroll reduction'!C329=\"Name\",\"\",IF('4 - Payroll reduction'!H329=\"Table 2\",\"\",'4 - Payroll reduction'!G329))","v":""},{"$f":"IF('4 - Payroll reduction'!C329=\"Name\",\"\",IF('4 - Payroll reduction'!H329=\"Table 2\",\"\",'4 - Payroll reduction'!F329))","v":""},239]
[{"$f":"IF('4 - Payroll reduction'!C330=\"Name\",\"\",IF('4 - Payroll reduction'!H330=\"Table 2\",\"\",'4 - Payroll reduction'!C330))","v":""},{"$f":"IF('4 - Payroll reduction'!C330=\"Name\",\"\",IF('4 - Payroll reduction'!H330=\"Table 2\",\"\",'4 - Payroll reduction'!D330))","v":""},{"$f":"IF('4 - Payroll reduction'!C330=\"Name\",\"\",IF('4 - Payroll reduction'!H330=\"Table 2\",\"\",'4 - Payroll reduction'!E330))","v":""},{"$f":"IF('4 - Payroll reduction'!C330=\"Name\",\"\",IF('4 - Payroll reduction'!H330=\"Table 2\",\"\",'4 - Payroll reduction'!G330))","v":""},{"$f":"IF('4 - Payroll reduction'!C330=\"Name\",\"\",IF('4 - Payroll reduction'!H330=\"Table 2\",\"\",'4 - Payroll reduction'!F330))","v":""},240]
[{"$f":"IF('4 - Payroll reduction'!C331=\"Name\",\"\",IF('4 - Payroll reduction'!H331=\"Table 2\",\"\",'4 - Payroll reduction'!C331))","v":""},{"$f":"IF('4 - Payroll reduction'!C331=\"Name\",\"\",IF('4 - Payroll reduction'!H331=\"Table 2\",\"\",'4 - Payroll reduction'!D331))","v":""},{"$f":"IF('4 - Payroll reduction'!C331=\"Name\",\"\",IF('4 - Payroll reduction'!H331=\"Table 2\",\"\",'4 - Payroll reduction'!E331))","v":""},{"$f":"IF('4 - Payroll reduction'!C331=\"Name\",\"\",IF('4 - Payroll reduction'!H331=\"Table 2\",\"\",'4 - Payroll reduction'!G331))","v":""},{"$f":"IF('4 - Payroll reduction'!C331=\"Name\",\"\",IF('4 - Payroll reduction'!H331=\"Table 2\",\"\",'4 - Payroll reduction'!F331))","v":""},241]
[{"$f":"IF('4 - Payroll reduction'!C332=\"Name\",\"\",IF('4 - Payroll reduction'!H332=\"Table 2\",\"\",'4 - Payroll reduction'!C332))","v":""},{"$f":"IF('4 - Payroll reduction'!C332=\"Name\",\"\",IF('4 - Payroll reduction'!H332=\"Table 2\",\"\",'4 - Payroll reduction'!D332))","v":""},{"$f":"IF('4 - Payroll reduction'!C332=\"Name\",\"\",IF('4 - Payroll reduction'!H332=\"Table 2\",\"\",'4 - Payroll reduction'!E332))","v":""},{"$f":"IF('4 - Payroll reduction'!C332=\"Name\",\"\",IF('4 - Payroll reduction'!H332=\"Table 2\",\"\",'4 - Payroll reduction'!G332))","v":""},{"$f":"IF('4 - Payroll reduction'!C332=\"Name\",\"\",IF('4 - Payroll reduction'!H332=\"Table 2\",\"\",'4 - Payroll reduction'!F332))","v":""},242]
[{"$f":"IF('4 - Payroll reduction'!C333=\"Name\",\"\",IF('4 - Payroll reduction'!H333=\"Table 2\",\"\",'4 - Payroll reduction'!C333))","v":""},{"$f":"IF('4 - Payroll reduction'!C333=\"Name\",\"\",IF('4 - Payroll reduction'!H333=\"Table 2\",\"\",'4 - Payroll reduction'!D333))","v":""},{"$f":"IF('4 - Payroll reduction'!C333=\"Name\",\"\",IF('4 - Payroll reduction'!H333=\"Table 2\",\"\",'4 - Payroll reduction'!E333))","v":""},{"$f":"IF('4 - Payroll reduction'!C333=\"Name\",\"\",IF('4 - Payroll reduction'!H333=\"Table 2\",\"\",'4 - Payroll reduction'!G333))","v":""},{"$f":"IF('4 - Payroll reduction'!C333=\"Name\",\"\",IF('4 - Payroll reduction'!H333=\"Table 2\",\"\",'4 - Payroll reduction'!F333))","v":""},243]
[{"$f":"IF('4 - Payroll reduction'!C334=\"Name\",\"\",IF('4 - Payroll reduction'!H334=\"Table 2\",\"\",'4 - Payroll reduction'!C334))","v":""},{"$f":"IF('4 - Payroll reduction'!C334=\"Name\",\"\",IF('4 - Payroll reduction'!H334=\"Table 2\",\"\",'4 - Payroll reduction'!D334))","v":""},{"$f":"IF('4 - Payroll reduction'!C334=\"Name\",\"\",IF('4 - Payroll reduction'!H334=\"Table 2\",\"\",'4 - Payroll reduction'!E334))","v":""},{"$f":"IF('4 - Payroll reduction'!C334=\"Name\",\"\",IF('4 - Payroll reduction'!H334=\"Table 2\",\"\",'4 - Payroll reduction'!G334))","v":""},{"$f":"IF('4 - Payroll reduction'!C334=\"Name\",\"\",IF('4 - Payroll reduction'!H334=\"Table 2\",\"\",'4 - Payroll reduction'!F334))","v":""},244]
[{"$f":"IF('4 - Payroll reduction'!C335=\"Name\",\"\",IF('4 - Payroll reduction'!H335=\"Table 2\",\"\",'4 - Payroll reduction'!C335))","v":""},{"$f":"IF('4 - Payroll reduction'!C335=\"Name\",\"\",IF('4 - Payroll reduction'!H335=\"Table 2\",\"\",'4 - Payroll reduction'!D335))","v":""},{"$f":"IF('4 - Payroll reduction'!C335=\"Name\",\"\",IF('4 - Payroll reduction'!H335=\"Table 2\",\"\",'4 - Payroll reduction'!E335))","v":""},{"$f":"IF('4 - Payroll reduction'!C335=\"Name\",\"\",IF('4 - Payroll reduction'!H335=\"Table 2\",\"\",'4 - Payroll reduction'!G335))","v":""},{"$f":"IF('4 - Payroll reduction'!C335=\"Name\",\"\",IF('4 - Payroll reduction'!H335=\"Table 2\",\"\",'4 - Payroll reduction'!F335))","v":""},245]
[{"$f":"IF('4 - Payroll reduction'!C336=\"Name\",\"\",IF('4 - Payroll reduction'!H336=\"Table 2\",\"\",'4 - Payroll reduction'!C336))","v":""},{"$f":"IF('4 - Payroll reduction'!C336=\"Name\",\"\",IF('4 - Payroll reduction'!H336=\"Table 2\",\"\",'4 - Payroll reduction'!D336))","v":""},{"$f":"IF('4 - Payroll reduction'!C336=\"Name\",\"\",IF('4 - Payroll reduction'!H336=\"Table 2\",\"\",'4 - Payroll reduction'!E336))","v":""},{"$f":"IF('4 - Payroll reduction'!C336=\"Name\",\"\",IF('4 - Payroll reduction'!H336=\"Table 2\",\"\",'4 - Payroll reduction'!G336))","v":""},{"$f":"IF('4 - Payroll reduction'!C336=\"Name\",\"\",IF('4 - Payroll reduction'!H336=\"Table 2\",\"\",'4 - Payroll reduction'!F336))","v":""},246]
[{"$f":"IF('4 - Payroll reduction'!C337=\"Name\",\"\",IF('4 - Payroll reduction'!H337=\"Table 2\",\"\",'4 - Payroll reduction'!C337))","v":""},{"$f":"IF('4 - Payroll reduction'!C337=\"Name\",\"\",IF('4 - Payroll reduction'!H337=\"Table 2\",\"\",'4 - Payroll reduction'!D337))","v":""},{"$f":"IF('4 - Payroll reduction'!C337=\"Name\",\"\",IF('4 - Payroll reduction'!H337=\"Table 2\",\"\",'4 - Payroll reduction'!E337))","v":""},{"$f":"IF('4 - Payroll reduction'!C337=\"Name\",\"\",IF('4 - Payroll reduction'!H337=\"Table 2\",\"\",'4 - Payroll reduction'!G337))","v":""},{"$f":"IF('4 - Payroll reduction'!C337=\"Name\",\"\",IF('4 - Payroll reduction'!H337=\"Table 2\",\"\",'4 - Payroll reduction'!F337))","v":""},247]
[{"$f":"IF('4 - Payroll reduction'!C338=\"Name\",\"\",IF('4 - Payroll reduction'!H338=\"Table 2\",\"\",'4 - Payroll reduction'!C338))","v":""},{"$f":"IF('4 - Payroll reduction'!C338=\"Name\",\"\",IF('4 - Payroll reduction'!H338=\"Table 2\",\"\",'4 - Payroll reduction'!D338))","v":""},{"$f":"IF('4 - Payroll reduction'!C338=\"Name\",\"\",IF('4 - Payroll reduction'!H338=\"Table 2\",\"\",'4 - Payroll reduction'!E338))","v":""},{"$f":"IF('4 - Payroll reduction'!C338=\"Name\",\"\",IF('4 - Payroll reduction'!H338=\"Table 2\",\"\",'4 - Payroll reduction'!G338))","v":""},{"$f":"IF('4 - Payroll reduction'!C338=\"Name\",\"\",IF('4 - Payroll reduction'!H338=\"Table 2\",\"\",'4 - Payroll reduction'!F338))","v":""},248]
[{"$f":"IF('4 - Payroll reduction'!C339=\"Name\",\"\",IF('4 - Payroll reduction'!H339=\"Table 2\",\"\",'4 - Payroll reduction'!C339))","v":""},{"$f":"IF('4 - Payroll reduction'!C339=\"Name\",\"\",IF('4 - Payroll reduction'!H339=\"Table 2\",\"\",'4 - Payroll reduction'!D339))","v":""},{"$f":"IF('4 - Payroll reduction'!C339=\"Name\",\"\",IF('4 - Payroll reduction'!H339=\"Table 2\",\"\",'4 - Payroll reduction'!E339))","v":""},{"$f":"IF('4 - Payroll reduction'!C339=\"Name\",\"\",IF('4 - Payroll reduction'!H339=\"Table 2\",\"\",'4 - Payroll reduction'!G339))","v":""},{"$f":"IF('4 - Payroll reduction'!C339=\"Name\",\"\",IF('4 - Payroll reduction'!H339=\"Table 2\",\"\",'4 - Payroll reduction'!F339))","v":""},249]
[{"$f":"IF('4 - Payroll reduction'!C340=\"Name\",\"\",IF('4 - Payroll reduction'!H340=\"Table 2\",\"\",'4 - Payroll reduction'!C340))","v":""},{"$f":"IF('4 - Payroll reduction'!C340=\"Name\",\"\",IF('4 - Payroll reduction'!H340=\"Table 2\",\"\",'4 - Payroll reduction'!D340))","v":""},{"$f":"IF('4 - Payroll reduction'!C340=\"Name\",\"\",IF('4 - Payroll reduction'!H340=\"Table 2\",\"\",'4 - Payroll reduction'!E340))","v":""},{"$f":"IF('4 - Payroll reduction'!C340=\"Name\",\"\",IF('4 - Payroll reduction'!H340=\"Table 2\",\"\",'4 - Payroll reduction'!G340))","v":""},{"$f":"IF('4 - Payroll reduction'!C340=\"Name\",\"\",IF('4 - Payroll reduction'!H340=\"Table 2\",\"\",'4 - Payroll reduction'!F340))","v":""},250]
[{"$f":"IF('4 - Payroll reduction'!C341=\"Name\",\"\",IF('4 - Payroll reduction'!H341=\"Table 2\",\"\",'4 - Payroll reduction'!C341))","v":""},{"$f":"IF('4 - Payroll reduction'!C341=\"Name\",\"\",IF('4 - Payroll reduction'!H341=\"Table 2\",\"\",'4 - Payroll reduction'!D341))","v":""},{"$f":"IF('4 - Payroll reduction'!C341=\"Name\",\"\",IF('4 - Payroll reduction'!H341=\"Table 2\",\"\",'4 - Payroll reduction'!E341))","v":""},{"$f":"IF('4 - Payroll reduction'!C341=\"Name\",\"\",IF('4 - Payroll reduction'!H341=\"Table 2\",\"\",'4 - Payroll reduction'!G341))","v":""},{"$f":"IF('4 - Payroll reduction'!C341=\"Name\",\"\",IF('4 - Payroll reduction'!H341=\"Table 2\",\"\",'4 - Payroll reduction'!F341))","v":""},251]
[{"$f":"IF('4 - Payroll reduction'!C342=\"Name\",\"\",IF('4 - Payroll reduction'!H342=\"Table 2\",\"\",'4 - Payroll reduction'!C342))","v":""},{"$f":"IF('4 - Payroll reduction'!C342=\"Name\",\"\",IF('4 - Payroll reduction'!H342=\"Table 2\",\"\",'4 - Payroll reduction'!D342))","v":""},{"$f":"IF('4 - Payroll reduction'!C342=\"Name\",\"\",IF('4 - Payroll reduction'!H342=\"Table 2\",\"\",'4 - Payroll reduction'!E342))","v":""},{"$f":"IF('4 - Payroll reduction'!C342=\"Name\",\"\",IF('4 - Payroll reduction'!H342=\"Table 2\",\"\",'4 - Payroll reduction'!G342))","v":""},{"$f":"IF('4 - Payroll reduction'!C342=\"Name\",\"\",IF('4 - Payroll reduction'!H342=\"Table 2\",\"\",'4 - Payroll reduction'!F342))","v":""},252]
[{"$f":"IF('4 - Payroll reduction'!C343=\"Name\",\"\",IF('4 - Payroll reduction'!H343=\"Table 2\",\"\",'4 - Payroll reduction'!C343))","v":""},{"$f":"IF('4 - Payroll reduction'!C343=\"Name\",\"\",IF('4 - Payroll reduction'!H343=\"Table 2\",\"\",'4 - Payroll reduction'!D343))","v":""},{"$f":"IF('4 - Payroll reduction'!C343=\"Name\",\"\",IF('4 - Payroll reduction'!H343=\"Table 2\",\"\",'4 - Payroll reduction'!E343))","v":""},{"$f":"IF('4 - Payroll reduction'!C343=\"Name\",\"\",IF('4 - Payroll reduction'!H343=\"Table 2\",\"\",'4 - Payroll reduction'!G343))","v":""},{"$f":"IF('4 - Payroll reduction'!C343=\"Name\",\"\",IF('4 - Payroll reduction'!H343=\"Table 2\",\"\",'4 - Payroll reduction'!F343))","v":""},253]
[{"$f":"IF('4 - Payroll reduction'!C344=\"Name\",\"\",IF('4 - Payroll reduction'!H344=\"Table 2\",\"\",'4 - Payroll reduction'!C344))","v":""},{"$f":"IF('4 - Payroll reduction'!C344=\"Name\",\"\",IF('4 - Payroll reduction'!H344=\"Table 2\",\"\",'4 - Payroll reduction'!D344))","v":""},{"$f":"IF('4 - Payroll reduction'!C344=\"Name\",\"\",IF('4 - Payroll reduction'!H344=\"Table 2\",\"\",'4 - Payroll reduction'!E344))","v":""},{"$f":"IF('4 - Payroll reduction'!C344=\"Name\",\"\",IF('4 - Payroll reduction'!H344=\"Table 2\",\"\",'4 - Payroll reduction'!G344))","v":""},{"$f":"IF('4 - Payroll reduction'!C344=\"Name\",\"\",IF('4 - Payroll reduction'!H344=\"Table 2\",\"\",'4 - Payroll reduction'!F344))","v":""},254]
[{"$f":"IF('4 - Payroll reduction'!C345=\"Name\",\"\",IF('4 - Payroll reduction'!H345=\"Table 2\",\"\",'4 - Payroll reduction'!C345))","v":""},{"$f":"IF('4 - Payroll reduction'!C345=\"Name\",\"\",IF('4 - Payroll reduction'!H345=\"Table 2\",\"\",'4 - Payroll reduction'!D345))","v":""},{"$f":"IF('4 - Payroll reduction'!C345=\"Name\",\"\",IF('4 - Payroll reduction'!H345=\"Table 2\",\"\",'4 - Payroll reduction'!E345))","v":""},{"$f":"IF('4 - Payroll reduction'!C345=\"Name\",\"\",IF('4 - Payroll reduction'!H345=\"Table 2\",\"\",'4 - Payroll reduction'!G345))","v":""},{"$f":"IF('4 - Payroll reduction'!C345=\"Name\",\"\",IF('4 - Payroll reduction'!H345=\"Table 2\",\"\",'4 - Payroll reduction'!F345))","v":""},255]
[{"$f":"IF('4 - Payroll reduction'!C346=\"Name\",\"\",IF('4 - Payroll reduction'!H346=\"Table 2\",\"\",'4 - Payroll reduction'!C346))","v":""},{"$f":"IF('4 - Payroll reduction'!C346=\"Name\",\"\",IF('4 - Payroll reduction'!H346=\"Table 2\",\"\",'4 - Payroll reduction'!D346))","v":""},{"$f":"IF('4 - Payroll reduction'!C346=\"Name\",\"\",IF('4 - Payroll reduction'!H346=\"Table 2\",\"\",'4 - Payroll reduction'!E346))","v":""},{"$f":"IF('4 - Payroll reduction'!C346=\"Name\",\"\",IF('4 - Payroll reduction'!H346=\"Table 2\",\"\",'4 - Payroll reduction'!G346))","v":""},{"$f":"IF('4 - Payroll reduction'!C346=\"Name\",\"\",IF('4 - Payroll reduction'!H346=\"Table 2\",\"\",'4 - Payroll reduction'!F346))","v":""},256]
[{"$f":"IF('4 - Payroll reduction'!C347=\"Name\",\"\",IF('4 - Payroll reduction'!H347=\"Table 2\",\"\",'4 - Payroll reduction'!C347))","v":""},{"$f":"IF('4 - Payroll reduction'!C347=\"Name\",\"\",IF('4 - Payroll reduction'!H347=\"Table 2\",\"\",'4 - Payroll reduction'!D347))","v":""},{"$f":"IF('4 - Payroll reduction'!C347=\"Name\",\"\",IF('4 - Payroll reduction'!H347=\"Table 2\",\"\",'4 - Payroll reduction'!E347))","v":""},{"$f":"IF('4 - Payroll reduction'!C347=\"Name\",\"\",IF('4 - Payroll reduction'!H347=\"Table 2\",\"\",'4 - Payroll reduction'!G347))","v":""},{"$f":"IF('4 - Payroll reduction'!C347=\"Name\",\"\",IF('4 - Payroll reduction'!H347=\"Table 2\",\"\",'4 - Payroll reduction'!F347))","v":""},257]
[{"$f":"IF('4 - Payroll reduction'!C348=\"Name\",\"\",IF('4 - Payroll reduction'!H348=\"Table 2\",\"\",'4 - Payroll reduction'!C348))","v":""},{"$f":"IF('4 - Payroll reduction'!C348=\"Name\",\"\",IF('4 - Payroll reduction'!H348=\"Table 2\",\"\",'4 - Payroll reduction'!D348))","v":""},{"$f":"IF('4 - Payroll reduction'!C348=\"Name\",\"\",IF('4 - Payroll reduction'!H348=\"Table 2\",\"\",'4 - Payroll reduction'!E348))","v":""},{"$f":"IF('4 - Payroll reduction'!C348=\"Name\",\"\",IF('4 - Payroll reduction'!H348=\"Table 2\",\"\",'4 - Payroll reduction'!G348))","v":""},{"$f":"IF('4 - Payroll reduction'!C348=\"Name\",\"\",IF('4 - Payroll reduction'!H348=\"Table 2\",\"\",'4 - Payroll reduction'!F348))","v":""},258]
[{"$f":"IF('4 - Payroll reduction'!C349=\"Name\",\"\",IF('4 - Payroll reduction'!H349=\"Table 2\",\"\",'4 - Payroll reduction'!C349))","v":""},{"$f":"IF('4 - Payroll reduction'!C349=\"Name\",\"\",IF('4 - Payroll reduction'!H349=\"Table 2\",\"\",'4 - Payroll reduction'!D349))","v":""},{"$f":"IF('4 - Payroll reduction'!C349=\"Name\",\"\",IF('4 - Payroll reduction'!H349=\"Table 2\",\"\",'4 - Payroll reduction'!E349))","v":""},{"$f":"IF('4 - Payroll reduction'!C349=\"Name\",\"\",IF('4 - Payroll reduction'!H349=\"Table 2\",\"\",'4 - Payroll reduction'!G349))","v":""},{"$f":"IF('4 - Payroll reduction'!C349=\"Name\",\"\",IF('4 - Payroll reduction'!H349=\"Table 2\",\"\",'4 - Payroll reduction'!F349))","v":""},{"$f":"F267+1","v":259}]
[{"$f":"IF('4 - Payroll reduction'!C350=\"Name\",\"\",IF('4 - Payroll reduction'!H350=\"Table 2\",\"\",'4 - Payroll reduction'!C350))","v":""},{"$f":"IF('4 - Payroll reduction'!C350=\"Name\",\"\",IF('4 - Payroll reduction'!H350=\"Table 2\",\"\",'4 - Payroll reduction'!D350))","v":""},{"$f":"IF('4 - Payroll reduction'!C350=\"Name\",\"\",IF('4 - Payroll reduction'!H350=\"Table 2\",\"\",'4 - Payroll reduction'!E350))","v":""},{"$f":"IF('4 - Payroll reduction'!C350=\"Name\",\"\",IF('4 - Payroll reduction'!H350=\"Table 2\",\"\",'4 - Payroll reduction'!G350))","v":""},{"$f":"IF('4 - Payroll reduction'!C350=\"Name\",\"\",IF('4 - Payroll reduction'!H350=\"Table 2\",\"\",'4 - Payroll reduction'!F350))","v":""},260]
[{"$f":"IF('4 - Payroll reduction'!C351=\"Name\",\"\",IF('4 - Payroll reduction'!H351=\"Table 2\",\"\",'4 - Payroll reduction'!C351))","v":""},{"$f":"IF('4 - Payroll reduction'!C351=\"Name\",\"\",IF('4 - Payroll reduction'!H351=\"Table 2\",\"\",'4 - Payroll reduction'!D351))","v":""},{"$f":"IF('4 - Payroll reduction'!C351=\"Name\",\"\",IF('4 - Payroll reduction'!H351=\"Table 2\",\"\",'4 - Payroll reduction'!E351))","v":""},{"$f":"IF('4 - Payroll reduction'!C351=\"Name\",\"\",IF('4 - Payroll reduction'!H351=\"Table 2\",\"\",'4 - Payroll reduction'!G351))","v":""},{"$f":"IF('4 - Payroll reduction'!C351=\"Name\",\"\",IF('4 - Payroll reduction'!H351=\"Table 2\",\"\",'4 - Payroll reduction'!F351))","v":""},261]
[{"$f":"IF('4 - Payroll reduction'!C352=\"Name\",\"\",IF('4 - Payroll reduction'!H352=\"Table 2\",\"\",'4 - Payroll reduction'!C352))","v":""},{"$f":"IF('4 - Payroll reduction'!C352=\"Name\",\"\",IF('4 - Payroll reduction'!H352=\"Table 2\",\"\",'4 - Payroll reduction'!D352))","v":""},{"$f":"IF('4 - Payroll reduction'!C352=\"Name\",\"\",IF('4 - Payroll reduction'!H352=\"Table 2\",\"\",'4 - Payroll reduction'!E352))","v":""},{"$f":"IF('4 - Payroll reduction'!C352=\"Name\",\"\",IF('4 - Payroll reduction'!H352=\"Table 2\",\"\",'4 - Payroll reduction'!G352))","v":""},{"$f":"IF('4 - Payroll reduction'!C352=\"Name\",\"\",IF('4 - Payroll reduction'!H352=\"Table 2\",\"\",'4 - Payroll reduction'!F352))","v":""},262]
[{"$f":"IF('4 - Payroll reduction'!C353=\"Name\",\"\",IF('4 - Payroll reduction'!H353=\"Table 2\",\"\",'4 - Payroll reduction'!C353))","v":""},{"$f":"IF('4 - Payroll reduction'!C353=\"Name\",\"\",IF('4 - Payroll reduction'!H353=\"Table 2\",\"\",'4 - Payroll reduction'!D353))","v":""},{"$f":"IF('4 - Payroll reduction'!C353=\"Name\",\"\",IF('4 - Payroll reduction'!H353=\"Table 2\",\"\",'4 - Payroll reduction'!E353))","v":""},{"$f":"IF('4 - Payroll reduction'!C353=\"Name\",\"\",IF('4 - Payroll reduction'!H353=\"Table 2\",\"\",'4 - Payroll reduction'!G353))","v":""},{"$f":"IF('4 - Payroll reduction'!C353=\"Name\",\"\",IF('4 - Payroll reduction'!H353=\"Table 2\",\"\",'4 - Payroll reduction'!F353))","v":""},263]
[{"$f":"IF('4 - Payroll reduction'!C354=\"Name\",\"\",IF('4 - Payroll reduction'!H354=\"Table 2\",\"\",'4 - Payroll reduction'!C354))","v":""},{"$f":"IF('4 - Payroll reduction'!C354=\"Name\",\"\",IF('4 - Payroll reduction'!H354=\"Table 2\",\"\",'4 - Payroll reduction'!D354))","v":""},{"$f":"IF('4 - Payroll reduction'!C354=\"Name\",\"\",IF('4 - Payroll reduction'!H354=\"Table 2\",\"\",'4 - Payroll reduction'!E354))","v":""},{"$f":"IF('4 - Payroll reduction'!C354=\"Name\",\"\",IF('4 - Payroll reduction'!H354=\"Table 2\",\"\",'4 - Payroll reduction'!G354))","v":""},{"$f":"IF('4 - Payroll reduction'!C354=\"Name\",\"\",IF('4 - Payroll reduction'!H354=\"Table 2\",\"\",'4 - Payroll reduction'!F354))","v":""},264]
[{"$f":"IF('4 - Payroll reduction'!C355=\"Name\",\"\",IF('4 - Payroll reduction'!H355=\"Table 2\",\"\",'4 - Payroll reduction'!C355))","v":""},{"$f":"IF('4 - Payroll reduction'!C355=\"Name\",\"\",IF('4 - Payroll reduction'!H355=\"Table 2\",\"\",'4 - Payroll reduction'!D355))","v":""},{"$f":"IF('4 - Payroll reduction'!C355=\"Name\",\"\",IF('4 - Payroll reduction'!H355=\"Table 2\",\"\",'4 - Payroll reduction'!E355))","v":""},{"$f":"IF('4 - Payroll reduction'!C355=\"Name\",\"\",IF('4 - Payroll reduction'!H355=\"Table 2\",\"\",'4 - Payroll reduction'!G355))","v":""},{"$f":"IF('4 - Payroll reduction'!C355=\"Name\",\"\",IF('4 - Payroll reduction'!H355=\"Table 2\",\"\",'4 - Payroll reduction'!F355))","v":""},265]
[{"$f":"IF('4 - Payroll reduction'!C356=\"Name\",\"\",IF('4 - Payroll reduction'!H356=\"Table 2\",\"\",'4 - Payroll reduction'!C356))","v":""},{"$f":"IF('4 - Payroll reduction'!C356=\"Name\",\"\",IF('4 - Payroll reduction'!H356=\"Table 2\",\"\",'4 - Payroll reduction'!D356))","v":""},{"$f":"IF('4 - Payroll reduction'!C356=\"Name\",\"\",IF('4 - Payroll reduction'!H356=\"Table 2\",\"\",'4 - Payroll reduction'!E356))","v":""},{"$f":"IF('4 - Payroll reduction'!C356=\"Name\",\"\",IF('4 - Payroll reduction'!H356=\"Table 2\",\"\",'4 - Payroll reduction'!G356))","v":""},{"$f":"IF('4 - Payroll reduction'!C356=\"Name\",\"\",IF('4 - Payroll reduction'!H356=\"Table 2\",\"\",'4 - Payroll reduction'!F356))","v":""},266]
[{"$f":"IF('4 - Payroll reduction'!C357=\"Name\",\"\",IF('4 - Payroll reduction'!H357=\"Table 2\",\"\",'4 - Payroll reduction'!C357))","v":""},{"$f":"IF('4 - Payroll reduction'!C357=\"Name\",\"\",IF('4 - Payroll reduction'!H357=\"Table 2\",\"\",'4 - Payroll reduction'!D357))","v":""},{"$f":"IF('4 - Payroll reduction'!C357=\"Name\",\"\",IF('4 - Payroll reduction'!H357=\"Table 2\",\"\",'4 - Payroll reduction'!E357))","v":""},{"$f":"IF('4 - Payroll reduction'!C357=\"Name\",\"\",IF('4 - Payroll reduction'!H357=\"Table 2\",\"\",'4 - Payroll reduction'!G357))","v":""},{"$f":"IF('4 - Payroll reduction'!C357=\"Name\",\"\",IF('4 - Payroll reduction'!H357=\"Table 2\",\"\",'4 - Payroll reduction'!F357))","v":""},267]
[{"$f":"IF('4 - Payroll reduction'!C358=\"Name\",\"\",IF('4 - Payroll reduction'!H358=\"Table 2\",\"\",'4 - Payroll reduction'!C358))","v":""},{"$f":"IF('4 - Payroll reduction'!C358=\"Name\",\"\",IF('4 - Payroll reduction'!H358=\"Table 2\",\"\",'4 - Payroll reduction'!D358))","v":""},{"$f":"IF('4 - Payroll reduction'!C358=\"Name\",\"\",IF('4 - Payroll reduction'!H358=\"Table 2\",\"\",'4 - Payroll reduction'!E358))","v":""},{"$f":"IF('4 - Payroll reduction'!C358=\"Name\",\"\",IF('4 - Payroll reduction'!H358=\"Table 2\",\"\",'4 - Payroll reduction'!G358))","v":""},{"$f":"IF('4 - Payroll reduction'!C358=\"Name\",\"\",IF('4 - Payroll reduction'!H358=\"Table 2\",\"\",'4 - Payroll reduction'!F358))","v":""},268]
[{"$f":"IF('4 - Payroll reduction'!C359=\"Name\",\"\",IF('4 - Payroll reduction'!H359=\"Table 2\",\"\",'4 - Payroll reduction'!C359))","v":""},{"$f":"IF('4 - Payroll reduction'!C359=\"Name\",\"\",IF('4 - Payroll reduction'!H359=\"Table 2\",\"\",'4 - Payroll reduction'!D359))","v":""},{"$f":"IF('4 - Payroll reduction'!C359=\"Name\",\"\",IF('4 - Payroll reduction'!H359=\"Table 2\",\"\",'4 - Payroll reduction'!E359))","v":""},{"$f":"IF('4 - Payroll reduction'!C359=\"Name\",\"\",IF('4 - Payroll reduction'!H359=\"Table 2\",\"\",'4 - Payroll reduction'!G359))","v":""},{"$f":"IF('4 - Payroll reduction'!C359=\"Name\",\"\",IF('4 - Payroll reduction'!H359=\"Table 2\",\"\",'4 - Payroll reduction'!F359))","v":""},269]
[{"$f":"IF('4 - Payroll reduction'!C360=\"Name\",\"\",IF('4 - Payroll reduction'!H360=\"Table 2\",\"\",'4 - Payroll reduction'!C360))","v":""},{"$f":"IF('4 - Payroll reduction'!C360=\"Name\",\"\",IF('4 - Payroll reduction'!H360=\"Table 2\",\"\",'4 - Payroll reduction'!D360))","v":""},{"$f":"IF('4 - Payroll reduction'!C360=\"Name\",\"\",IF('4 - Payroll reduction'!H360=\"Table 2\",\"\",'4 - Payroll reduction'!E360))","v":""},{"$f":"IF('4 - Payroll reduction'!C360=\"Name\",\"\",IF('4 - Payroll reduction'!H360=\"Table 2\",\"\",'4 - Payroll reduction'!G360))","v":""},{"$f":"IF('4 - Payroll reduction'!C360=\"Name\",\"\",IF('4 - Payroll reduction'!H360=\"Table 2\",\"\",'4 - Payroll reduction'!F360))","v":""},270]
[{"$f":"IF('4 - Payroll reduction'!C361=\"Name\",\"\",IF('4 - Payroll reduction'!H361=\"Table 2\",\"\",'4 - Payroll reduction'!C361))","v":""},{"$f":"IF('4 - Payroll reduction'!C361=\"Name\",\"\",IF('4 - Payroll reduction'!H361=\"Table 2\",\"\",'4 - Payroll reduction'!D361))","v":""},{"$f":"IF('4 - Payroll reduction'!C361=\"Name\",\"\",IF('4 - Payroll reduction'!H361=\"Table 2\",\"\",'4 - Payroll reduction'!E361))","v":""},{"$f":"IF('4 - Payroll reduction'!C361=\"Name\",\"\",IF('4 - Payroll reduction'!H361=\"Table 2\",\"\",'4 - Payroll reduction'!G361))","v":""},{"$f":"IF('4 - Payroll reduction'!C361=\"Name\",\"\",IF('4 - Payroll reduction'!H361=\"Table 2\",\"\",'4 - Payroll reduction'!F361))","v":""},271]
[{"$f":"IF('4 - Payroll reduction'!C362=\"Name\",\"\",IF('4 - Payroll reduction'!H362=\"Table 2\",\"\",'4 - Payroll reduction'!C362))","v":""},{"$f":"IF('4 - Payroll reduction'!C362=\"Name\",\"\",IF('4 - Payroll reduction'!H362=\"Table 2\",\"\",'4 - Payroll reduction'!D362))","v":""},{"$f":"IF('4 - Payroll reduction'!C362=\"Name\",\"\",IF('4 - Payroll reduction'!H362=\"Table 2\",\"\",'4 - Payroll reduction'!E362))","v":""},{"$f":"IF('4 - Payroll reduction'!C362=\"Name\",\"\",IF('4 - Payroll reduction'!H362=\"Table 2\",\"\",'4 - Payroll reduction'!G362))","v":""},{"$f":"IF('4 - Payroll reduction'!C362=\"Name\",\"\",IF('4 - Payroll reduction'!H362=\"Table 2\",\"\",'4 - Payroll reduction'!F362))","v":""},272]
[{"$f":"IF('4 - Payroll reduction'!C363=\"Name\",\"\",IF('4 - Payroll reduction'!H363=\"Table 2\",\"\",'4 - Payroll reduction'!C363))","v":""},{"$f":"IF('4 - Payroll reduction'!C363=\"Name\",\"\",IF('4 - Payroll reduction'!H363=\"Table 2\",\"\",'4 - Payroll reduction'!D363))","v":""},{"$f":"IF('4 - Payroll reduction'!C363=\"Name\",\"\",IF('4 - Payroll reduction'!H363=\"Table 2\",\"\",'4 - Payroll reduction'!E363))","v":""},{"$f":"IF('4 - Payroll reduction'!C363=\"Name\",\"\",IF('4 - Payroll reduction'!H363=\"Table 2\",\"\",'4 - Payroll reduction'!G363))","v":""},{"$f":"IF('4 - Payroll reduction'!C363=\"Name\",\"\",IF('4 - Payroll reduction'!H363=\"Table 2\",\"\",'4 - Payroll reduction'!F363))","v":""},273]
[{"$f":"IF('4 - Payroll reduction'!C364=\"Name\",\"\",IF('4 - Payroll reduction'!H364=\"Table 2\",\"\",'4 - Payroll reduction'!C364))","v":""},{"$f":"IF('4 - Payroll reduction'!C364=\"Name\",\"\",IF('4 - Payroll reduction'!H364=\"Table 2\",\"\",'4 - Payroll reduction'!D364))","v":""},{"$f":"IF('4 - Payroll reduction'!C364=\"Name\",\"\",IF('4 - Payroll reduction'!H364=\"Table 2\",\"\",'4 - Payroll reduction'!E364))","v":""},{"$f":"IF('4 - Payroll reduction'!C364=\"Name\",\"\",IF('4 - Payroll reduction'!H364=\"Table 2\",\"\",'4 - Payroll reduction'!G364))","v":""},{"$f":"IF('4 - Payroll reduction'!C364=\"Name\",\"\",IF('4 - Payroll reduction'!H364=\"Table 2\",\"\",'4 - Payroll reduction'!F364))","v":""},274]
[{"$f":"IF('4 - Payroll reduction'!C365=\"Name\",\"\",IF('4 - Payroll reduction'!H365=\"Table 2\",\"\",'4 - Payroll reduction'!C365))","v":""},{"$f":"IF('4 - Payroll reduction'!C365=\"Name\",\"\",IF('4 - Payroll reduction'!H365=\"Table 2\",\"\",'4 - Payroll reduction'!D365))","v":""},{"$f":"IF('4 - Payroll reduction'!C365=\"Name\",\"\",IF('4 - Payroll reduction'!H365=\"Table 2\",\"\",'4 - Payroll reduction'!E365))","v":""},{"$f":"IF('4 - Payroll reduction'!C365=\"Name\",\"\",IF('4 - Payroll reduction'!H365=\"Table 2\",\"\",'4 - Payroll reduction'!G365))","v":""},{"$f":"IF('4 - Payroll reduction'!C365=\"Name\",\"\",IF('4 - Payroll reduction'!H365=\"Table 2\",\"\",'4 - Payroll reduction'!F365))","v":""},275]
[{"$f":"IF('4 - Payroll reduction'!C366=\"Name\",\"\",IF('4 - Payroll reduction'!H366=\"Table 2\",\"\",'4 - Payroll reduction'!C366))","v":""},{"$f":"IF('4 - Payroll reduction'!C366=\"Name\",\"\",IF('4 - Payroll reduction'!H366=\"Table 2\",\"\",'4 - Payroll reduction'!D366))","v":""},{"$f":"IF('4 - Payroll reduction'!C366=\"Name\",\"\",IF('4 - Payroll reduction'!H366=\"Table 2\",\"\",'4 - Payroll reduction'!E366))","v":""},{"$f":"IF('4 - Payroll reduction'!C366=\"Name\",\"\",IF('4 - Payroll reduction'!H366=\"Table 2\",\"\",'4 - Payroll reduction'!G366))","v":""},{"$f":"IF('4 - Payroll reduction'!C366=\"Name\",\"\",IF('4 - Payroll reduction'!H366=\"Table 2\",\"\",'4 - Payroll reduction'!F366))","v":""},276]
[{"$f":"IF('4 - Payroll reduction'!C367=\"Name\",\"\",IF('4 - Payroll reduction'!H367=\"Table 2\",\"\",'4 - Payroll reduction'!C367))","v":""},{"$f":"IF('4 - Payroll reduction'!C367=\"Name\",\"\",IF('4 - Payroll reduction'!H367=\"Table 2\",\"\",'4 - Payroll reduction'!D367))","v":""},{"$f":"IF('4 - Payroll reduction'!C367=\"Name\",\"\",IF('4 - Payroll reduction'!H367=\"Table 2\",\"\",'4 - Payroll reduction'!E367))","v":""},{"$f":"IF('4 - Payroll reduction'!C367=\"Name\",\"\",IF('4 - Payroll reduction'!H367=\"Table 2\",\"\",'4 - Payroll reduction'!G367))","v":""},{"$f":"IF('4 - Payroll reduction'!C367=\"Name\",\"\",IF('4 - Payroll reduction'!H367=\"Table 2\",\"\",'4 - Payroll reduction'!F367))","v":""},277]
[{"$f":"IF('4 - Payroll reduction'!C368=\"Name\",\"\",IF('4 - Payroll reduction'!H368=\"Table 2\",\"\",'4 - Payroll reduction'!C368))","v":""},{"$f":"IF('4 - Payroll reduction'!C368=\"Name\",\"\",IF('4 - Payroll reduction'!H368=\"Table 2\",\"\",'4 - Payroll reduction'!D368))","v":""},{"$f":"IF('4 - Payroll reduction'!C368=\"Name\",\"\",IF('4 - Payroll reduction'!H368=\"Table 2\",\"\",'4 - Payroll reduction'!E368))","v":""},{"$f":"IF('4 - Payroll reduction'!C368=\"Name\",\"\",IF('4 - Payroll reduction'!H368=\"Table 2\",\"\",'4 - Payroll reduction'!G368))","v":""},{"$f":"IF('4 - Payroll reduction'!C368=\"Name\",\"\",IF('4 - Payroll reduction'!H368=\"Table 2\",\"\",'4 - Payroll reduction'!F368))","v":""},278]
[{"$f":"IF('4 - Payroll reduction'!C369=\"Name\",\"\",IF('4 - Payroll reduction'!H369=\"Table 2\",\"\",'4 - Payroll reduction'!C369))","v":""},{"$f":"IF('4 - Payroll reduction'!C369=\"Name\",\"\",IF('4 - Payroll reduction'!H369=\"Table 2\",\"\",'4 - Payroll reduction'!D369))","v":""},{"$f":"IF('4 - Payroll reduction'!C369=\"Name\",\"\",IF('4 - Payroll reduction'!H369=\"Table 2\",\"\",'4 - Payroll reduction'!E369))","v":""},{"$f":"IF('4 - Payroll reduction'!C369=\"Name\",\"\",IF('4 - Payroll reduction'!H369=\"Table 2\",\"\",'4 - Payroll reduction'!G369))","v":""},{"$f":"IF('4 - Payroll reduction'!C369=\"Name\",\"\",IF('4 - Payroll reduction'!H369=\"Table 2\",\"\",'4 - Payroll reduction'!F369))","v":""},279]
[{"$f":"IF('4 - Payroll reduction'!C370=\"Name\",\"\",IF('4 - Payroll reduction'!H370=\"Table 2\",\"\",'4 - Payroll reduction'!C370))","v":""},{"$f":"IF('4 - Payroll reduction'!C370=\"Name\",\"\",IF('4 - Payroll reduction'!H370=\"Table 2\",\"\",'4 - Payroll reduction'!D370))","v":""},{"$f":"IF('4 - Payroll reduction'!C370=\"Name\",\"\",IF('4 - Payroll reduction'!H370=\"Table 2\",\"\",'4 - Payroll reduction'!E370))","v":""},{"$f":"IF('4 - Payroll reduction'!C370=\"Name\",\"\",IF('4 - Payroll reduction'!H370=\"Table 2\",\"\",'4 - Payroll reduction'!G370))","v":""},{"$f":"IF('4 - Payroll reduction'!C370=\"Name\",\"\",IF('4 - Payroll reduction'!H370=\"Table 2\",\"\",'4 - Payroll reduction'!F370))","v":""},280]
[{"$f":"IF('4 - Payroll reduction'!C371=\"Name\",\"\",IF('4 - Payroll reduction'!H371=\"Table 2\",\"\",'4 - Payroll reduction'!C371))","v":""},{"$f":"IF('4 - Payroll reduction'!C371=\"Name\",\"\",IF('4 - Payroll reduction'!H371=\"Table 2\",\"\",'4 - Payroll reduction'!D371))","v":""},{"$f":"IF('4 - Payroll reduction'!C371=\"Name\",\"\",IF('4 - Payroll reduction'!H371=\"Table 2\",\"\",'4 - Payroll reduction'!E371))","v":""},{"$f":"IF('4 - Payroll reduction'!C371=\"Name\",\"\",IF('4 - Payroll reduction'!H371=\"Table 2\",\"\",'4 - Payroll reduction'!G371))","v":""},{"$f":"IF('4 - Payroll reduction'!C371=\"Name\",\"\",IF('4 - Payroll reduction'!H371=\"Table 2\",\"\",'4 - Payroll reduction'!F371))","v":""},281]
[{"$f":"IF('4 - Payroll reduction'!C372=\"Name\",\"\",IF('4 - Payroll reduction'!H372=\"Table 2\",\"\",'4 - Payroll reduction'!C372))","v":""},{"$f":"IF('4 - Payroll reduction'!C372=\"Name\",\"\",IF('4 - Payroll reduction'!H372=\"Table 2\",\"\",'4 - Payroll reduction'!D372))","v":""},{"$f":"IF('4 - Payroll reduction'!C372=\"Name\",\"\",IF('4 - Payroll reduction'!H372=\"Table 2\",\"\",'4 - Payroll reduction'!E372))","v":""},{"$f":"IF('4 - Payroll reduction'!C372=\"Name\",\"\",IF('4 - Payroll reduction'!H372=\"Table 2\",\"\",'4 - Payroll reduction'!G372))","v":""},{"$f":"IF('4 - Payroll reduction'!C372=\"Name\",\"\",IF('4 - Payroll reduction'!H372=\"Table 2\",\"\",'4 - Payroll reduction'!F372))","v":""},282]
[{"$f":"IF('4 - Payroll reduction'!C373=\"Name\",\"\",IF('4 - Payroll reduction'!H373=\"Table 2\",\"\",'4 - Payroll reduction'!C373))","v":""},{"$f":"IF('4 - Payroll reduction'!C373=\"Name\",\"\",IF('4 - Payroll reduction'!H373=\"Table 2\",\"\",'4 - Payroll reduction'!D373))","v":""},{"$f":"IF('4 - Payroll reduction'!C373=\"Name\",\"\",IF('4 - Payroll reduction'!H373=\"Table 2\",\"\",'4 - Payroll reduction'!E373))","v":""},{"$f":"IF('4 - Payroll reduction'!C373=\"Name\",\"\",IF('4 - Payroll reduction'!H373=\"Table 2\",\"\",'4 - Payroll reduction'!G373))","v":""},{"$f":"IF('4 - Payroll reduction'!C373=\"Name\",\"\",IF('4 - Payroll reduction'!H373=\"Table 2\",\"\",'4 - Payroll reduction'!F373))","v":""},283]
[{"$f":"IF('4 - Payroll reduction'!C374=\"Name\",\"\",IF('4 - Payroll reduction'!H374=\"Table 2\",\"\",'4 - Payroll reduction'!C374))","v":""},{"$f":"IF('4 - Payroll reduction'!C374=\"Name\",\"\",IF('4 - Payroll reduction'!H374=\"Table 2\",\"\",'4 - Payroll reduction'!D374))","v":""},{"$f":"IF('4 - Payroll reduction'!C374=\"Name\",\"\",IF('4 - Payroll reduction'!H374=\"Table 2\",\"\",'4 - Payroll reduction'!E374))","v":""},{"$f":"IF('4 - Payroll reduction'!C374=\"Name\",\"\",IF('4 - Payroll reduction'!H374=\"Table 2\",\"\",'4 - Payroll reduction'!G374))","v":""},{"$f":"IF('4 - Payroll reduction'!C374=\"Name\",\"\",IF('4 - Payroll reduction'!H374=\"Table 2\",\"\",'4 - Payroll reduction'!F374))","v":""},284]
[{"$f":"IF('4 - Payroll reduction'!C375=\"Name\",\"\",IF('4 - Payroll reduction'!H375=\"Table 2\",\"\",'4 - Payroll reduction'!C375))","v":""},{"$f":"IF('4 - Payroll reduction'!C375=\"Name\",\"\",IF('4 - Payroll reduction'!H375=\"Table 2\",\"\",'4 - Payroll reduction'!D375))","v":""},{"$f":"IF('4 - Payroll reduction'!C375=\"Name\",\"\",IF('4 - Payroll reduction'!H375=\"Table 2\",\"\",'4 - Payroll reduction'!E375))","v":""},{"$f":"IF('4 - Payroll reduction'!C375=\"Name\",\"\",IF('4 - Payroll reduction'!H375=\"Table 2\",\"\",'4 - Payroll reduction'!G375))","v":""},{"$f":"IF('4 - Payroll reduction'!C375=\"Name\",\"\",IF('4 - Payroll reduction'!H375=\"Table 2\",\"\",'4 - Payroll reduction'!F375))","v":""},285]
[{"$f":"IF('4 - Payroll reduction'!C376=\"Name\",\"\",IF('4 - Payroll reduction'!H376=\"Table 2\",\"\",'4 - Payroll reduction'!C376))","v":""},{"$f":"IF('4 - Payroll reduction'!C376=\"Name\",\"\",IF('4 - Payroll reduction'!H376=\"Table 2\",\"\",'4 - Payroll reduction'!D376))","v":""},{"$f":"IF('4 - Payroll reduction'!C376=\"Name\",\"\",IF('4 - Payroll reduction'!H376=\"Table 2\",\"\",'4 - Payroll reduction'!E376))","v":""},{"$f":"IF('4 - Payroll reduction'!C376=\"Name\",\"\",IF('4 - Payroll reduction'!H376=\"Table 2\",\"\",'4 - Payroll reduction'!G376))","v":""},{"$f":"IF('4 - Payroll reduction'!C376=\"Name\",\"\",IF('4 - Payroll reduction'!H376=\"Table 2\",\"\",'4 - Payroll reduction'!F376))","v":""},286]
[{"$f":"IF('4 - Payroll reduction'!C377=\"Name\",\"\",IF('4 - Payroll reduction'!H377=\"Table 2\",\"\",'4 - Payroll reduction'!C377))","v":""},{"$f":"IF('4 - Payroll reduction'!C377=\"Name\",\"\",IF('4 - Payroll reduction'!H377=\"Table 2\",\"\",'4 - Payroll reduction'!D377))","v":""},{"$f":"IF('4 - Payroll reduction'!C377=\"Name\",\"\",IF('4 - Payroll reduction'!H377=\"Table 2\",\"\",'4 - Payroll reduction'!E377))","v":""},{"$f":"IF('4 - Payroll reduction'!C377=\"Name\",\"\",IF('4 - Payroll reduction'!H377=\"Table 2\",\"\",'4 - Payroll reduction'!G377))","v":""},{"$f":"IF('4 - Payroll reduction'!C377=\"Name\",\"\",IF('4 - Payroll reduction'!H377=\"Table 2\",\"\",'4 - Payroll reduction'!F377))","v":""},287]
[{"$f":"IF('4 - Payroll reduction'!C378=\"Name\",\"\",IF('4 - Payroll reduction'!H378=\"Table 2\",\"\",'4 - Payroll reduction'!C378))","v":""},{"$f":"IF('4 - Payroll reduction'!C378=\"Name\",\"\",IF('4 - Payroll reduction'!H378=\"Table 2\",\"\",'4 - Payroll reduction'!D378))","v":""},{"$f":"IF('4 - Payroll reduction'!C378=\"Name\",\"\",IF('4 - Payroll reduction'!H378=\"Table 2\",\"\",'4 - Payroll reduction'!E378))","v":""},{"$f":"IF('4 - Payroll reduction'!C378=\"Name\",\"\",IF('4 - Payroll reduction'!H378=\"Table 2\",\"\",'4 - Payroll reduction'!G378))","v":""},{"$f":"IF('4 - Payroll reduction'!C378=\"Name\",\"\",IF('4 - Payroll reduction'!H378=\"Table 2\",\"\",'4 - Payroll reduction'!F378))","v":""},288]
[{"$f":"IF('4 - Payroll reduction'!C379=\"Name\",\"\",IF('4 - Payroll reduction'!H379=\"Table 2\",\"\",'4 - Payroll reduction'!C379))","v":""},{"$f":"IF('4 - Payroll reduction'!C379=\"Name\",\"\",IF('4 - Payroll reduction'!H379=\"Table 2\",\"\",'4 - Payroll reduction'!D379))","v":""},{"$f":"IF('4 - Payroll reduction'!C379=\"Name\",\"\",IF('4 - Payroll reduction'!H379=\"Table 2\",\"\",'4 - Payroll reduction'!E379))","v":""},{"$f":"IF('4 - Payroll reduction'!C379=\"Name\",\"\",IF('4 - Payroll reduction'!H379=\"Table 2\",\"\",'4 - Payroll reduction'!G379))","v":""},{"$f":"IF('4 - Payroll reduction'!C379=\"Name\",\"\",IF('4 - Payroll reduction'!H379=\"Table 2\",\"\",'4 - Payroll reduction'!F379))","v":""},289]
[{"$f":"IF('4 - Payroll reduction'!C380=\"Name\",\"\",IF('4 - Payroll reduction'!H380=\"Table 2\",\"\",'4 - Payroll reduction'!C380))","v":""},{"$f":"IF('4 - Payroll reduction'!C380=\"Name\",\"\",IF('4 - Payroll reduction'!H380=\"Table 2\",\"\",'4 - Payroll reduction'!D380))","v":""},{"$f":"IF('4 - Payroll reduction'!C380=\"Name\",\"\",IF('4 - Payroll reduction'!H380=\"Table 2\",\"\",'4 - Payroll reduction'!E380))","v":""},{"$f":"IF('4 - Payroll reduction'!C380=\"Name\",\"\",IF('4 - Payroll reduction'!H380=\"Table 2\",\"\",'4 - Payroll reduction'!G380))","v":""},{"$f":"IF('4 - Payroll reduction'!C380=\"Name\",\"\",IF('4 - Payroll reduction'!H380=\"Table 2\",\"\",'4 - Payroll reduction'!F380))","v":""},290]
[{"$f":"IF('4 - Payroll reduction'!C381=\"Name\",\"\",IF('4 - Payroll reduction'!H381=\"Table 2\",\"\",'4 - Payroll reduction'!C381))","v":""},{"$f":"IF('4 - Payroll reduction'!C381=\"Name\",\"\",IF('4 - Payroll reduction'!H381=\"Table 2\",\"\",'4 - Payroll reduction'!D381))","v":""},{"$f":"IF('4 - Payroll reduction'!C381=\"Name\",\"\",IF('4 - Payroll reduction'!H381=\"Table 2\",\"\",'4 - Payroll reduction'!E381))","v":""},{"$f":"IF('4 - Payroll reduction'!C381=\"Name\",\"\",IF('4 - Payroll reduction'!H381=\"Table 2\",\"\",'4 - Payroll reduction'!G381))","v":""},{"$f":"IF('4 - Payroll reduction'!C381=\"Name\",\"\",IF('4 - Payroll reduction'!H381=\"Table 2\",\"\",'4 - Payroll reduction'!F381))","v":""},291]
[{"$f":"IF('4 - Payroll reduction'!C382=\"Name\",\"\",IF('4 - Payroll reduction'!H382=\"Table 2\",\"\",'4 - Payroll reduction'!C382))","v":""},{"$f":"IF('4 - Payroll reduction'!C382=\"Name\",\"\",IF('4 - Payroll reduction'!H382=\"Table 2\",\"\",'4 - Payroll reduction'!D382))","v":""},{"$f":"IF('4 - Payroll reduction'!C382=\"Name\",\"\",IF('4 - Payroll reduction'!H382=\"Table 2\",\"\",'4 - Payroll reduction'!E382))","v":""},{"$f":"IF('4 - Payroll reduction'!C382=\"Name\",\"\",IF('4 - Payroll reduction'!H382=\"Table 2\",\"\",'4 - Payroll reduction'!G382))","v":""},{"$f":"IF('4 - Payroll reduction'!C382=\"Name\",\"\",IF('4 - Payroll reduction'!H382=\"Table 2\",\"\",'4 - Payroll reduction'!F382))","v":""},292]
[{"$f":"IF('4 - Payroll reduction'!C383=\"Name\",\"\",IF('4 - Payroll reduction'!H383=\"Table 2\",\"\",'4 - Payroll reduction'!C383))","v":""},{"$f":"IF('4 - Payroll reduction'!C383=\"Name\",\"\",IF('4 - Payroll reduction'!H383=\"Table 2\",\"\",'4 - Payroll reduction'!D383))","v":""},{"$f":"IF('4 - Payroll reduction'!C383=\"Name\",\"\",IF('4 - Payroll reduction'!H383=\"Table 2\",\"\",'4 - Payroll reduction'!E383))","v":""},{"$f":"IF('4 - Payroll reduction'!C383=\"Name\",\"\",IF('4 - Payroll reduction'!H383=\"Table 2\",\"\",'4 - Payroll reduction'!G383))","v":""},{"$f":"IF('4 - Payroll reduction'!C383=\"Name\",\"\",IF('4 - Payroll reduction'!H383=\"Table 2\",\"\",'4 - Payroll reduction'!F383))","v":""},293]
[{"$f":"IF('4 - Payroll reduction'!C384=\"Name\",\"\",IF('4 - Payroll reduction'!H384=\"Table 2\",\"\",'4 - Payroll reduction'!C384))","v":""},{"$f":"IF('4 - Payroll reduction'!C384=\"Name\",\"\",IF('4 - Payroll reduction'!H384=\"Table 2\",\"\",'4 - Payroll reduction'!D384))","v":""},{"$f":"IF('4 - Payroll reduction'!C384=\"Name\",\"\",IF('4 - Payroll reduction'!H384=\"Table 2\",\"\",'4 - Payroll reduction'!E384))","v":""},{"$f":"IF('4 - Payroll reduction'!C384=\"Name\",\"\",IF('4 - Payroll reduction'!H384=\"Table 2\",\"\",'4 - Payroll reduction'!G384))","v":""},{"$f":"IF('4 - Payroll reduction'!C384=\"Name\",\"\",IF('4 - Payroll reduction'!H384=\"Table 2\",\"\",'4 - Payroll reduction'!F384))","v":""},294]
[{"$f":"IF('4 - Payroll reduction'!C385=\"Name\",\"\",IF('4 - Payroll reduction'!H385=\"Table 2\",\"\",'4 - Payroll reduction'!C385))","v":""},{"$f":"IF('4 - Payroll reduction'!C385=\"Name\",\"\",IF('4 - Payroll reduction'!H385=\"Table 2\",\"\",'4 - Payroll reduction'!D385))","v":""},{"$f":"IF('4 - Payroll reduction'!C385=\"Name\",\"\",IF('4 - Payroll reduction'!H385=\"Table 2\",\"\",'4 - Payroll reduction'!E385))","v":""},{"$f":"IF('4 - Payroll reduction'!C385=\"Name\",\"\",IF('4 - Payroll reduction'!H385=\"Table 2\",\"\",'4 - Payroll reduction'!G385))","v":""},{"$f":"IF('4 - Payroll reduction'!C385=\"Name\",\"\",IF('4 - Payroll reduction'!H385=\"Table 2\",\"\",'4 - Payroll reduction'!F385))","v":""},295]
[{"$f":"IF('4 - Payroll reduction'!C386=\"Name\",\"\",IF('4 - Payroll reduction'!H386=\"Table 2\",\"\",'4 - Payroll reduction'!C386))","v":""},{"$f":"IF('4 - Payroll reduction'!C386=\"Name\",\"\",IF('4 - Payroll reduction'!H386=\"Table 2\",\"\",'4 - Payroll reduction'!D386))","v":""},{"$f":"IF('4 - Payroll reduction'!C386=\"Name\",\"\",IF('4 - Payroll reduction'!H386=\"Table 2\",\"\",'4 - Payroll reduction'!E386))","v":""},{"$f":"IF('4 - Payroll reduction'!C386=\"Name\",\"\",IF('4 - Payroll reduction'!H386=\"Table 2\",\"\",'4 - Payroll reduction'!G386))","v":""},{"$f":"IF('4 - Payroll reduction'!C386=\"Name\",\"\",IF('4 - Payroll reduction'!H386=\"Table 2\",\"\",'4 - Payroll reduction'!F386))","v":""},296]
[{"$f":"IF('4 - Payroll reduction'!C387=\"Name\",\"\",IF('4 - Payroll reduction'!H387=\"Table 2\",\"\",'4 - Payroll reduction'!C387))","v":""},{"$f":"IF('4 - Payroll reduction'!C387=\"Name\",\"\",IF('4 - Payroll reduction'!H387=\"Table 2\",\"\",'4 - Payroll reduction'!D387))","v":""},{"$f":"IF('4 - Payroll reduction'!C387=\"Name\",\"\",IF('4 - Payroll reduction'!H387=\"Table 2\",\"\",'4 - Payroll reduction'!E387))","v":""},{"$f":"IF('4 - Payroll reduction'!C387=\"Name\",\"\",IF('4 - Payroll reduction'!H387=\"Table 2\",\"\",'4 - Payroll reduction'!G387))","v":""},{"$f":"IF('4 - Payroll reduction'!C387=\"Name\",\"\",IF('4 - Payroll reduction'!H387=\"Table 2\",\"\",'4 - Payroll reduction'!F387))","v":""},297]
[{"$f":"IF('4 - Payroll reduction'!C388=\"Name\",\"\",IF('4 - Payroll reduction'!H388=\"Table 2\",\"\",'4 - Payroll reduction'!C388))","v":""},{"$f":"IF('4 - Payroll reduction'!C388=\"Name\",\"\",IF('4 - Payroll reduction'!H388=\"Table 2\",\"\",'4 - Payroll reduction'!D388))","v":""},{"$f":"IF('4 - Payroll reduction'!C388=\"Name\",\"\",IF('4 - Payroll reduction'!H388=\"Table 2\",\"\",'4 - Payroll reduction'!E388))","v":""},{"$f":"IF('4 - Payroll reduction'!C388=\"Name\",\"\",IF('4 - Payroll reduction'!H388=\"Table 2\",\"\",'4 - Payroll reduction'!G388))","v":""},{"$f":"IF('4 - Payroll reduction'!C388=\"Name\",\"\",IF('4 - Payroll reduction'!H388=\"Table 2\",\"\",'4 - Payroll reduction'!F388))","v":""},298]
[{"$f":"IF('4 - Payroll reduction'!C389=\"Name\",\"\",IF('4 - Payroll reduction'!H389=\"Table 2\",\"\",'4 - Payroll reduction'!C389))","v":""},{"$f":"IF('4 - Payroll reduction'!C389=\"Name\",\"\",IF('4 - Payroll reduction'!H389=\"Table 2\",\"\",'4 - Payroll reduction'!D389))","v":""},{"$f":"IF('4 - Payroll reduction'!C389=\"Name\",\"\",IF('4 - Payroll reduction'!H389=\"Table 2\",\"\",'4 - Payroll reduction'!E389))","v":""},{"$f":"IF('4 - Payroll reduction'!C389=\"Name\",\"\",IF('4 - Payroll reduction'!H389=\"Table 2\",\"\",'4 - Payroll reduction'!G389))","v":""},{"$f":"IF('4 - Payroll reduction'!C389=\"Name\",\"\",IF('4 - Payroll reduction'!H389=\"Table 2\",\"\",'4 - Payroll reduction'!F389))","v":""},299]
[{"$f":"IF('4 - Payroll reduction'!C390=\"Name\",\"\",IF('4 - Payroll reduction'!H390=\"Table 2\",\"\",'4 - Payroll reduction'!C390))","v":""},{"$f":"IF('4 - Payroll reduction'!C390=\"Name\",\"\",IF('4 - Payroll reduction'!H390=\"Table 2\",\"\",'4 - Payroll reduction'!D390))","v":""},{"$f":"IF('4 - Payroll reduction'!C390=\"Name\",\"\",IF('4 - Payroll reduction'!H390=\"Table 2\",\"\",'4 - Payroll reduction'!E390))","v":""},{"$f":"IF('4 - Payroll reduction'!C390=\"Name\",\"\",IF('4 - Payroll reduction'!H390=\"Table 2\",\"\",'4 - Payroll reduction'!G390))","v":""},{"$f":"IF('4 - Payroll reduction'!C390=\"Name\",\"\",IF('4 - Payroll reduction'!H390=\"Table 2\",\"\",'4 - Payroll reduction'!F390))","v":""},300]
[{"$f":"IF('4 - Payroll reduction'!C391=\"Name\",\"\",IF('4 - Payroll reduction'!H391=\"Table 2\",\"\",'4 - Payroll reduction'!C391))","v":""},{"$f":"IF('4 - Payroll reduction'!C391=\"Name\",\"\",IF('4 - Payroll reduction'!H391=\"Table 2\",\"\",'4 - Payroll reduction'!D391))","v":""},{"$f":"IF('4 - Payroll reduction'!C391=\"Name\",\"\",IF('4 - Payroll reduction'!H391=\"Table 2\",\"\",'4 - Payroll reduction'!E391))","v":""},{"$f":"IF('4 - Payroll reduction'!C391=\"Name\",\"\",IF('4 - Payroll reduction'!H391=\"Table 2\",\"\",'4 - Payroll reduction'!G391))","v":""},{"$f":"IF('4 - Payroll reduction'!C391=\"Name\",\"\",IF('4 - Payroll reduction'!H391=\"Table 2\",\"\",'4 - Payroll reduction'!F391))","v":""},301]
[{"$f":"IF('4 - Payroll reduction'!C392=\"Name\",\"\",IF('4 - Payroll reduction'!H392=\"Table 2\",\"\",'4 - Payroll reduction'!C392))","v":""},{"$f":"IF('4 - Payroll reduction'!C392=\"Name\",\"\",IF('4 - Payroll reduction'!H392=\"Table 2\",\"\",'4 - Payroll reduction'!D392))","v":""},{"$f":"IF('4 - Payroll reduction'!C392=\"Name\",\"\",IF('4 - Payroll reduction'!H392=\"Table 2\",\"\",'4 - Payroll reduction'!E392))","v":""},{"$f":"IF('4 - Payroll reduction'!C392=\"Name\",\"\",IF('4 - Payroll reduction'!H392=\"Table 2\",\"\",'4 - Payroll reduction'!G392))","v":""},{"$f":"IF('4 - Payroll reduction'!C392=\"Name\",\"\",IF('4 - Payroll reduction'!H392=\"Table 2\",\"\",'4 - Payroll reduction'!F392))","v":""},302]
[{"$f":"IF('4 - Payroll reduction'!C393=\"Name\",\"\",IF('4 - Payroll reduction'!H393=\"Table 2\",\"\",'4 - Payroll reduction'!C393))","v":""},{"$f":"IF('4 - Payroll reduction'!C393=\"Name\",\"\",IF('4 - Payroll reduction'!H393=\"Table 2\",\"\",'4 - Payroll reduction'!D393))","v":""},{"$f":"IF('4 - Payroll reduction'!C393=\"Name\",\"\",IF('4 - Payroll reduction'!H393=\"Table 2\",\"\",'4 - Payroll reduction'!E393))","v":""},{"$f":"IF('4 - Payroll reduction'!C393=\"Name\",\"\",IF('4 - Payroll reduction'!H393=\"Table 2\",\"\",'4 - Payroll reduction'!G393))","v":""},{"$f":"IF('4 - Payroll reduction'!C393=\"Name\",\"\",IF('4 - Payroll reduction'!H393=\"Table 2\",\"\",'4 - Payroll reduction'!F393))","v":""},303]
[{"$f":"IF('4 - Payroll reduction'!C394=\"Name\",\"\",IF('4 - Payroll reduction'!H394=\"Table 2\",\"\",'4 - Payroll reduction'!C394))","v":""},{"$f":"IF('4 - Payroll reduction'!C394=\"Name\",\"\",IF('4 - Payroll reduction'!H394=\"Table 2\",\"\",'4 - Payroll reduction'!D394))","v":""},{"$f":"IF('4 - Payroll reduction'!C394=\"Name\",\"\",IF('4 - Payroll reduction'!H394=\"Table 2\",\"\",'4 - Payroll reduction'!E394))","v":""},{"$f":"IF('4 - Payroll reduction'!C394=\"Name\",\"\",IF('4 - Payroll reduction'!H394=\"Table 2\",\"\",'4 - Payroll reduction'!G394))","v":""},{"$f":"IF('4 - Payroll reduction'!C394=\"Name\",\"\",IF('4 - Payroll reduction'!H394=\"Table 2\",\"\",'4 - Payroll reduction'!F394))","v":""},304]
[{"$f":"IF('4 - Payroll reduction'!C395=\"Name\",\"\",IF('4 - Payroll reduction'!H395=\"Table 2\",\"\",'4 - Payroll reduction'!C395))","v":""},{"$f":"IF('4 - Payroll reduction'!C395=\"Name\",\"\",IF('4 - Payroll reduction'!H395=\"Table 2\",\"\",'4 - Payroll reduction'!D395))","v":""},{"$f":"IF('4 - Payroll reduction'!C395=\"Name\",\"\",IF('4 - Payroll reduction'!H395=\"Table 2\",\"\",'4 - Payroll reduction'!E395))","v":""},{"$f":"IF('4 - Payroll reduction'!C395=\"Name\",\"\",IF('4 - Payroll reduction'!H395=\"Table 2\",\"\",'4 - Payroll reduction'!G395))","v":""},{"$f":"IF('4 - Payroll reduction'!C395=\"Name\",\"\",IF('4 - Payroll reduction'!H395=\"Table 2\",\"\",'4 - Payroll reduction'!F395))","v":""},305]
[{"$f":"IF('4 - Payroll reduction'!C396=\"Name\",\"\",IF('4 - Payroll reduction'!H396=\"Table 2\",\"\",'4 - Payroll reduction'!C396))","v":""},{"$f":"IF('4 - Payroll reduction'!C396=\"Name\",\"\",IF('4 - Payroll reduction'!H396=\"Table 2\",\"\",'4 - Payroll reduction'!D396))","v":""},{"$f":"IF('4 - Payroll reduction'!C396=\"Name\",\"\",IF('4 - Payroll reduction'!H396=\"Table 2\",\"\",'4 - Payroll reduction'!E396))","v":""},{"$f":"IF('4 - Payroll reduction'!C396=\"Name\",\"\",IF('4 - Payroll reduction'!H396=\"Table 2\",\"\",'4 - Payroll reduction'!G396))","v":""},{"$f":"IF('4 - Payroll reduction'!C396=\"Name\",\"\",IF('4 - Payroll reduction'!H396=\"Table 2\",\"\",'4 - Payroll reduction'!F396))","v":""},306]
[{"$f":"IF('4 - Payroll reduction'!C397=\"Name\",\"\",IF('4 - Payroll reduction'!H397=\"Table 2\",\"\",'4 - Payroll reduction'!C397))","v":""},{"$f":"IF('4 - Payroll reduction'!C397=\"Name\",\"\",IF('4 - Payroll reduction'!H397=\"Table 2\",\"\",'4 - Payroll reduction'!D397))","v":""},{"$f":"IF('4 - Payroll reduction'!C397=\"Name\",\"\",IF('4 - Payroll reduction'!H397=\"Table 2\",\"\",'4 - Payroll reduction'!E397))","v":""},{"$f":"IF('4 - Payroll reduction'!C397=\"Name\",\"\",IF('4 - Payroll reduction'!H397=\"Table 2\",\"\",'4 - Payroll reduction'!G397))","v":""},{"$f":"IF('4 - Payroll reduction'!C397=\"Name\",\"\",IF('4 - Payroll reduction'!H397=\"Table 2\",\"\",'4 - Payroll reduction'!F397))","v":""},307]
[{"$f":"IF('4 - Payroll reduction'!C398=\"Name\",\"\",IF('4 - Payroll reduction'!H398=\"Table 2\",\"\",'4 - Payroll reduction'!C398))","v":""},{"$f":"IF('4 - Payroll reduction'!C398=\"Name\",\"\",IF('4 - Payroll reduction'!H398=\"Table 2\",\"\",'4 - Payroll reduction'!D398))","v":""},{"$f":"IF('4 - Payroll reduction'!C398=\"Name\",\"\",IF('4 - Payroll reduction'!H398=\"Table 2\",\"\",'4 - Payroll reduction'!E398))","v":""},{"$f":"IF('4 - Payroll reduction'!C398=\"Name\",\"\",IF('4 - Payroll reduction'!H398=\"Table 2\",\"\",'4 - Payroll reduction'!G398))","v":""},{"$f":"IF('4 - Payroll reduction'!C398=\"Name\",\"\",IF('4 - Payroll reduction'!H398=\"Table 2\",\"\",'4 - Payroll reduction'!F398))","v":""},308]
[{"$f":"IF('4 - Payroll reduction'!C399=\"Name\",\"\",IF('4 - Payroll reduction'!H399=\"Table 2\",\"\",'4 - Payroll reduction'!C399))","v":""},{"$f":"IF('4 - Payroll reduction'!C399=\"Name\",\"\",IF('4 - Payroll reduction'!H399=\"Table 2\",\"\",'4 - Payroll reduction'!D399))","v":""},{"$f":"IF('4 - Payroll reduction'!C399=\"Name\",\"\",IF('4 - Payroll reduction'!H399=\"Table 2\",\"\",'4 - Payroll reduction'!E399))","v":""},{"$f":"IF('4 - Payroll reduction'!C399=\"Name\",\"\",IF('4 - Payroll reduction'!H399=\"Table 2\",\"\",'4 - Payroll reduction'!G399))","v":""},{"$f":"IF('4 - Payroll reduction'!C399=\"Name\",\"\",IF('4 - Payroll reduction'!H399=\"Table 2\",\"\",'4 - Payroll reduction'!F399))","v":""},309]
[{"$f":"IF('4 - Payroll reduction'!C400=\"Name\",\"\",IF('4 - Payroll reduction'!H400=\"Table 2\",\"\",'4 - Payroll reduction'!C400))","v":""},{"$f":"IF('4 - Payroll reduction'!C400=\"Name\",\"\",IF('4 - Payroll reduction'!H400=\"Table 2\",\"\",'4 - Payroll reduction'!D400))","v":""},{"$f":"IF('4 - Payroll reduction'!C400=\"Name\",\"\",IF('4 - Payroll reduction'!H400=\"Table 2\",\"\",'4 - Payroll reduction'!E400))","v":""},{"$f":"IF('4 - Payroll reduction'!C400=\"Name\",\"\",IF('4 - Payroll reduction'!H400=\"Table 2\",\"\",'4 - Payroll reduction'!G400))","v":""},{"$f":"IF('4 - Payroll reduction'!C400=\"Name\",\"\",IF('4 - Payroll reduction'!H400=\"Table 2\",\"\",'4 - Payroll reduction'!F400))","v":""},310]
[{"$f":"IF('4 - Payroll reduction'!C401=\"Name\",\"\",IF('4 - Payroll reduction'!H401=\"Table 2\",\"\",'4 - Payroll reduction'!C401))","v":""},{"$f":"IF('4 - Payroll reduction'!C401=\"Name\",\"\",IF('4 - Payroll reduction'!H401=\"Table 2\",\"\",'4 - Payroll reduction'!D401))","v":""},{"$f":"IF('4 - Payroll reduction'!C401=\"Name\",\"\",IF('4 - Payroll reduction'!H401=\"Table 2\",\"\",'4 - Payroll reduction'!E401))","v":""},{"$f":"IF('4 - Payroll reduction'!C401=\"Name\",\"\",IF('4 - Payroll reduction'!H401=\"Table 2\",\"\",'4 - Payroll reduction'!G401))","v":""},{"$f":"IF('4 - Payroll reduction'!C401=\"Name\",\"\",IF('4 - Payroll reduction'!H401=\"Table 2\",\"\",'4 - Payroll reduction'!F401))","v":""},311]
[{"$f":"IF('4 - Payroll reduction'!C402=\"Name\",\"\",IF('4 - Payroll reduction'!H402=\"Table 2\",\"\",'4 - Payroll reduction'!C402))","v":""},{"$f":"IF('4 - Payroll reduction'!C402=\"Name\",\"\",IF('4 - Payroll reduction'!H402=\"Table 2\",\"\",'4 - Payroll reduction'!D402))","v":""},{"$f":"IF('4 - Payroll reduction'!C402=\"Name\",\"\",IF('4 - Payroll reduction'!H402=\"Table 2\",\"\",'4 - Payroll reduction'!E402))","v":""},{"$f":"IF('4 - Payroll reduction'!C402=\"Name\",\"\",IF('4 - Payroll reduction'!H402=\"Table 2\",\"\",'4 - Payroll reduction'!G402))","v":""},{"$f":"IF('4 - Payroll reduction'!C402=\"Name\",\"\",IF('4 - Payroll reduction'!H402=\"Table 2\",\"\",'4 - Payroll reduction'!F402))","v":""},312]
[{"$f":"IF('4 - Payroll reduction'!C403=\"Name\",\"\",IF('4 - Payroll reduction'!H403=\"Table 2\",\"\",'4 - Payroll reduction'!C403))","v":""},{"$f":"IF('4 - Payroll reduction'!C403=\"Name\",\"\",IF('4 - Payroll reduction'!H403=\"Table 2\",\"\",'4 - Payroll reduction'!D403))","v":""},{"$f":"IF('4 - Payroll reduction'!C403=\"Name\",\"\",IF('4 - Payroll reduction'!H403=\"Table 2\",\"\",'4 - Payroll reduction'!E403))","v":""},{"$f":"IF('4 - Payroll reduction'!C403=\"Name\",\"\",IF('4 - Payroll reduction'!H403=\"Table 2\",\"\",'4 - Payroll reduction'!G403))","v":""},{"$f":"IF('4 - Payroll reduction'!C403=\"Name\",\"\",IF('4 - Payroll reduction'!H403=\"Table 2\",\"\",'4 - Payroll reduction'!F403))","v":""},313]
[{"$f":"IF('4 - Payroll reduction'!C404=\"Name\",\"\",IF('4 - Payroll reduction'!H404=\"Table 2\",\"\",'4 - Payroll reduction'!C404))","v":""},{"$f":"IF('4 - Payroll reduction'!C404=\"Name\",\"\",IF('4 - Payroll reduction'!H404=\"Table 2\",\"\",'4 - Payroll reduction'!D404))","v":""},{"$f":"IF('4 - Payroll reduction'!C404=\"Name\",\"\",IF('4 - Payroll reduction'!H404=\"Table 2\",\"\",'4 - Payroll reduction'!E404))","v":""},{"$f":"IF('4 - Payroll reduction'!C404=\"Name\",\"\",IF('4 - Payroll reduction'!H404=\"Table 2\",\"\",'4 - Payroll reduction'!G404))","v":""},{"$f":"IF('4 - Payroll reduction'!C404=\"Name\",\"\",IF('4 - Payroll reduction'!H404=\"Table 2\",\"\",'4 - Payroll reduction'!F404))","v":""},314]
[{"$f":"IF('4 - Payroll reduction'!C405=\"Name\",\"\",IF('4 - Payroll reduction'!H405=\"Table 2\",\"\",'4 - Payroll reduction'!C405))","v":""},{"$f":"IF('4 - Payroll reduction'!C405=\"Name\",\"\",IF('4 - Payroll reduction'!H405=\"Table 2\",\"\",'4 - Payroll reduction'!D405))","v":""},{"$f":"IF('4 - Payroll reduction'!C405=\"Name\",\"\",IF('4 - Payroll reduction'!H405=\"Table 2\",\"\",'4 - Payroll reduction'!E405))","v":""},{"$f":"IF('4 - Payroll reduction'!C405=\"Name\",\"\",IF('4 - Payroll reduction'!H405=\"Table 2\",\"\",'4 - Payroll reduction'!G405))","v":""},{"$f":"IF('4 - Payroll reduction'!C405=\"Name\",\"\",IF('4 - Payroll reduction'!H405=\"Table 2\",\"\",'4 - Payroll reduction'!F405))","v":""},315]
[{"$f":"IF('4 - Payroll reduction'!C406=\"Name\",\"\",IF('4 - Payroll reduction'!H406=\"Table 2\",\"\",'4 - Payroll reduction'!C406))","v":""},{"$f":"IF('4 - Payroll reduction'!C406=\"Name\",\"\",IF('4 - Payroll reduction'!H406=\"Table 2\",\"\",'4 - Payroll reduction'!D406))","v":""},{"$f":"IF('4 - Payroll reduction'!C406=\"Name\",\"\",IF('4 - Payroll reduction'!H406=\"Table 2\",\"\",'4 - Payroll reduction'!E406))","v":""},{"$f":"IF('4 - Payroll reduction'!C406=\"Name\",\"\",IF('4 - Payroll reduction'!H406=\"Table 2\",\"\",'4 - Payroll reduction'!G406))","v":""},{"$f":"IF('4 - Payroll reduction'!C406=\"Name\",\"\",IF('4 - Payroll reduction'!H406=\"Table 2\",\"\",'4 - Payroll reduction'!F406))","v":""},316]
[{"$f":"IF('4 - Payroll reduction'!C407=\"Name\",\"\",IF('4 - Payroll reduction'!H407=\"Table 2\",\"\",'4 - Payroll reduction'!C407))","v":""},{"$f":"IF('4 - Payroll reduction'!C407=\"Name\",\"\",IF('4 - Payroll reduction'!H407=\"Table 2\",\"\",'4 - Payroll reduction'!D407))","v":""},{"$f":"IF('4 - Payroll reduction'!C407=\"Name\",\"\",IF('4 - Payroll reduction'!H407=\"Table 2\",\"\",'4 - Payroll reduction'!E407))","v":""},{"$f":"IF('4 - Payroll reduction'!C407=\"Name\",\"\",IF('4 - Payroll reduction'!H407=\"Table 2\",\"\",'4 - Payroll reduction'!G407))","v":""},{"$f":"IF('4 - Payroll reduction'!C407=\"Name\",\"\",IF('4 - Payroll reduction'!H407=\"Table 2\",\"\",'4 - Payroll reduction'!F407))","v":""},317]
[{"$f":"IF('4 - Payroll reduction'!C408=\"Name\",\"\",IF('4 - Payroll reduction'!H408=\"Table 2\",\"\",'4 - Payroll reduction'!C408))","v":""},{"$f":"IF('4 - Payroll reduction'!C408=\"Name\",\"\",IF('4 - Payroll reduction'!H408=\"Table 2\",\"\",'4 - Payroll reduction'!D408))","v":""},{"$f":"IF('4 - Payroll reduction'!C408=\"Name\",\"\",IF('4 - Payroll reduction'!H408=\"Table 2\",\"\",'4 - Payroll reduction'!E408))","v":""},{"$f":"IF('4 - Payroll reduction'!C408=\"Name\",\"\",IF('4 - Payroll reduction'!H408=\"Table 2\",\"\",'4 - Payroll reduction'!G408))","v":""},{"$f":"IF('4 - Payroll reduction'!C408=\"Name\",\"\",IF('4 - Payroll reduction'!H408=\"Table 2\",\"\",'4 - Payroll reduction'!F408))","v":""},318]
[{"$f":"IF('4 - Payroll reduction'!C409=\"Name\",\"\",IF('4 - Payroll reduction'!H409=\"Table 2\",\"\",'4 - Payroll reduction'!C409))","v":""},{"$f":"IF('4 - Payroll reduction'!C409=\"Name\",\"\",IF('4 - Payroll reduction'!H409=\"Table 2\",\"\",'4 - Payroll reduction'!D409))","v":""},{"$f":"IF('4 - Payroll reduction'!C409=\"Name\",\"\",IF('4 - Payroll reduction'!H409=\"Table 2\",\"\",'4 - Payroll reduction'!E409))","v":""},{"$f":"IF('4 - Payroll reduction'!C409=\"Name\",\"\",IF('4 - Payroll reduction'!H409=\"Table 2\",\"\",'4 - Payroll reduction'!G409))","v":""},{"$f":"IF('4 - Payroll reduction'!C409=\"Name\",\"\",IF('4 - Payroll reduction'!H409=\"Table 2\",\"\",'4 - Payroll reduction'!F409))","v":""},319]
[{"$f":"IF('4 - Payroll reduction'!C410=\"Name\",\"\",IF('4 - Payroll reduction'!H410=\"Table 2\",\"\",'4 - Payroll reduction'!C410))","v":""},{"$f":"IF('4 - Payroll reduction'!C410=\"Name\",\"\",IF('4 - Payroll reduction'!H410=\"Table 2\",\"\",'4 - Payroll reduction'!D410))","v":""},{"$f":"IF('4 - Payroll reduction'!C410=\"Name\",\"\",IF('4 - Payroll reduction'!H410=\"Table 2\",\"\",'4 - Payroll reduction'!E410))","v":""},{"$f":"IF('4 - Payroll reduction'!C410=\"Name\",\"\",IF('4 - Payroll reduction'!H410=\"Table 2\",\"\",'4 - Payroll reduction'!G410))","v":""},{"$f":"IF('4 - Payroll reduction'!C410=\"Name\",\"\",IF('4 - Payroll reduction'!H410=\"Table 2\",\"\",'4 - Payroll reduction'!F410))","v":""},320]
[{"$f":"IF('4 - Payroll reduction'!C411=\"Name\",\"\",IF('4 - Payroll reduction'!H411=\"Table 2\",\"\",'4 - Payroll reduction'!C411))","v":""},{"$f":"IF('4 - Payroll reduction'!C411=\"Name\",\"\",IF('4 - Payroll reduction'!H411=\"Table 2\",\"\",'4 - Payroll reduction'!D411))","v":""},{"$f":"IF('4 - Payroll reduction'!C411=\"Name\",\"\",IF('4 - Payroll reduction'!H411=\"Table 2\",\"\",'4 - Payroll reduction'!E411))","v":""},{"$f":"IF('4 - Payroll reduction'!C411=\"Name\",\"\",IF('4 - Payroll reduction'!H411=\"Table 2\",\"\",'4 - Payroll reduction'!G411))","v":""},{"$f":"IF('4 - Payroll reduction'!C411=\"Name\",\"\",IF('4 - Payroll reduction'!H411=\"Table 2\",\"\",'4 - Payroll reduction'!F411))","v":""},321]
[{"$f":"IF('4 - Payroll reduction'!C412=\"Name\",\"\",IF('4 - Payroll reduction'!H412=\"Table 2\",\"\",'4 - Payroll reduction'!C412))","v":""},{"$f":"IF('4 - Payroll reduction'!C412=\"Name\",\"\",IF('4 - Payroll reduction'!H412=\"Table 2\",\"\",'4 - Payroll reduction'!D412))","v":""},{"$f":"IF('4 - Payroll reduction'!C412=\"Name\",\"\",IF('4 - Payroll reduction'!H412=\"Table 2\",\"\",'4 - Payroll reduction'!E412))","v":""},{"$f":"IF('4 - Payroll reduction'!C412=\"Name\",\"\",IF('4 - Payroll reduction'!H412=\"Table 2\",\"\",'4 - Payroll reduction'!G412))","v":""},{"$f":"IF('4 - Payroll reduction'!C412=\"Name\",\"\",IF('4 - Payroll reduction'!H412=\"Table 2\",\"\",'4 - Payroll reduction'!F412))","v":""},322]
[{"$f":"IF('4 - Payroll reduction'!C413=\"Name\",\"\",IF('4 - Payroll reduction'!H413=\"Table 2\",\"\",'4 - Payroll reduction'!C413))","v":""},{"$f":"IF('4 - Payroll reduction'!C413=\"Name\",\"\",IF('4 - Payroll reduction'!H413=\"Table 2\",\"\",'4 - Payroll reduction'!D413))","v":""},{"$f":"IF('4 - Payroll reduction'!C413=\"Name\",\"\",IF('4 - Payroll reduction'!H413=\"Table 2\",\"\",'4 - Payroll reduction'!E413))","v":""},{"$f":"IF('4 - Payroll reduction'!C413=\"Name\",\"\",IF('4 - Payroll reduction'!H413=\"Table 2\",\"\",'4 - Payroll reduction'!G413))","v":""},{"$f":"IF('4 - Payroll reduction'!C413=\"Name\",\"\",IF('4 - Payroll reduction'!H413=\"Table 2\",\"\",'4 - Payroll reduction'!F413))","v":""},{"$f":"F331+1","v":323}]
[{"$f":"IF('4 - Payroll reduction'!C414=\"Name\",\"\",IF('4 - Payroll reduction'!H414=\"Table 2\",\"\",'4 - Payroll reduction'!C414))","v":""},{"$f":"IF('4 - Payroll reduction'!C414=\"Name\",\"\",IF('4 - Payroll reduction'!H414=\"Table 2\",\"\",'4 - Payroll reduction'!D414))","v":""},{"$f":"IF('4 - Payroll reduction'!C414=\"Name\",\"\",IF('4 - Payroll reduction'!H414=\"Table 2\",\"\",'4 - Payroll reduction'!E414))","v":""},{"$f":"IF('4 - Payroll reduction'!C414=\"Name\",\"\",IF('4 - Payroll reduction'!H414=\"Table 2\",\"\",'4 - Payroll reduction'!G414))","v":""},{"$f":"IF('4 - Payroll reduction'!C414=\"Name\",\"\",IF('4 - Payroll reduction'!H414=\"Table 2\",\"\",'4 - Payroll reduction'!F414))","v":""},324]
[{"$f":"IF('4 - Payroll reduction'!C415=\"Name\",\"\",IF('4 - Payroll reduction'!H415=\"Table 2\",\"\",'4 - Payroll reduction'!C415))","v":""},{"$f":"IF('4 - Payroll reduction'!C415=\"Name\",\"\",IF('4 - Payroll reduction'!H415=\"Table 2\",\"\",'4 - Payroll reduction'!D415))","v":""},{"$f":"IF('4 - Payroll reduction'!C415=\"Name\",\"\",IF('4 - Payroll reduction'!H415=\"Table 2\",\"\",'4 - Payroll reduction'!E415))","v":""},{"$f":"IF('4 - Payroll reduction'!C415=\"Name\",\"\",IF('4 - Payroll reduction'!H415=\"Table 2\",\"\",'4 - Payroll reduction'!G415))","v":""},{"$f":"IF('4 - Payroll reduction'!C415=\"Name\",\"\",IF('4 - Payroll reduction'!H415=\"Table 2\",\"\",'4 - Payroll reduction'!F415))","v":""},325]
[{"$f":"IF('4 - Payroll reduction'!C416=\"Name\",\"\",IF('4 - Payroll reduction'!H416=\"Table 2\",\"\",'4 - Payroll reduction'!C416))","v":""},{"$f":"IF('4 - Payroll reduction'!C416=\"Name\",\"\",IF('4 - Payroll reduction'!H416=\"Table 2\",\"\",'4 - Payroll reduction'!D416))","v":""},{"$f":"IF('4 - Payroll reduction'!C416=\"Name\",\"\",IF('4 - Payroll reduction'!H416=\"Table 2\",\"\",'4 - Payroll reduction'!E416))","v":""},{"$f":"IF('4 - Payroll reduction'!C416=\"Name\",\"\",IF('4 - Payroll reduction'!H416=\"Table 2\",\"\",'4 - Payroll reduction'!G416))","v":""},{"$f":"IF('4 - Payroll reduction'!C416=\"Name\",\"\",IF('4 - Payroll reduction'!H416=\"Table 2\",\"\",'4 - Payroll reduction'!F416))","v":""},326]
[{"$f":"IF('4 - Payroll reduction'!C417=\"Name\",\"\",IF('4 - Payroll reduction'!H417=\"Table 2\",\"\",'4 - Payroll reduction'!C417))","v":""},{"$f":"IF('4 - Payroll reduction'!C417=\"Name\",\"\",IF('4 - Payroll reduction'!H417=\"Table 2\",\"\",'4 - Payroll reduction'!D417))","v":""},{"$f":"IF('4 - Payroll reduction'!C417=\"Name\",\"\",IF('4 - Payroll reduction'!H417=\"Table 2\",\"\",'4 - Payroll reduction'!E417))","v":""},{"$f":"IF('4 - Payroll reduction'!C417=\"Name\",\"\",IF('4 - Payroll reduction'!H417=\"Table 2\",\"\",'4 - Payroll reduction'!G417))","v":""},{"$f":"IF('4 - Payroll reduction'!C417=\"Name\",\"\",IF('4 - Payroll reduction'!H417=\"Table 2\",\"\",'4 - Payroll reduction'!F417))","v":""},327]
[{"$f":"IF('4 - Payroll reduction'!C418=\"Name\",\"\",IF('4 - Payroll reduction'!H418=\"Table 2\",\"\",'4 - Payroll reduction'!C418))","v":""},{"$f":"IF('4 - Payroll reduction'!C418=\"Name\",\"\",IF('4 - Payroll reduction'!H418=\"Table 2\",\"\",'4 - Payroll reduction'!D418))","v":""},{"$f":"IF('4 - Payroll reduction'!C418=\"Name\",\"\",IF('4 - Payroll reduction'!H418=\"Table 2\",\"\",'4 - Payroll reduction'!E418))","v":""},{"$f":"IF('4 - Payroll reduction'!C418=\"Name\",\"\",IF('4 - Payroll reduction'!H418=\"Table 2\",\"\",'4 - Payroll reduction'!G418))","v":""},{"$f":"IF('4 - Payroll reduction'!C418=\"Name\",\"\",IF('4 - Payroll reduction'!H418=\"Table 2\",\"\",'4 - Payroll reduction'!F418))","v":""},328]
[{"$f":"IF('4 - Payroll reduction'!C419=\"Name\",\"\",IF('4 - Payroll reduction'!H419=\"Table 2\",\"\",'4 - Payroll reduction'!C419))","v":""},{"$f":"IF('4 - Payroll reduction'!C419=\"Name\",\"\",IF('4 - Payroll reduction'!H419=\"Table 2\",\"\",'4 - Payroll reduction'!D419))","v":""},{"$f":"IF('4 - Payroll reduction'!C419=\"Name\",\"\",IF('4 - Payroll reduction'!H419=\"Table 2\",\"\",'4 - Payroll reduction'!E419))","v":""},{"$f":"IF('4 - Payroll reduction'!C419=\"Name\",\"\",IF('4 - Payroll reduction'!H419=\"Table 2\",\"\",'4 - Payroll reduction'!G419))","v":""},{"$f":"IF('4 - Payroll reduction'!C419=\"Name\",\"\",IF('4 - Payroll reduction'!H419=\"Table 2\",\"\",'4 - Payroll reduction'!F419))","v":""},329]
[{"$f":"IF('4 - Payroll reduction'!C420=\"Name\",\"\",IF('4 - Payroll reduction'!H420=\"Table 2\",\"\",'4 - Payroll reduction'!C420))","v":""},{"$f":"IF('4 - Payroll reduction'!C420=\"Name\",\"\",IF('4 - Payroll reduction'!H420=\"Table 2\",\"\",'4 - Payroll reduction'!D420))","v":""},{"$f":"IF('4 - Payroll reduction'!C420=\"Name\",\"\",IF('4 - Payroll reduction'!H420=\"Table 2\",\"\",'4 - Payroll reduction'!E420))","v":""},{"$f":"IF('4 - Payroll reduction'!C420=\"Name\",\"\",IF('4 - Payroll reduction'!H420=\"Table 2\",\"\",'4 - Payroll reduction'!G420))","v":""},{"$f":"IF('4 - Payroll reduction'!C420=\"Name\",\"\",IF('4 - Payroll reduction'!H420=\"Table 2\",\"\",'4 - Payroll reduction'!F420))","v":""},330]
[{"$f":"IF('4 - Payroll reduction'!C421=\"Name\",\"\",IF('4 - Payroll reduction'!H421=\"Table 2\",\"\",'4 - Payroll reduction'!C421))","v":""},{"$f":"IF('4 - Payroll reduction'!C421=\"Name\",\"\",IF('4 - Payroll reduction'!H421=\"Table 2\",\"\",'4 - Payroll reduction'!D421))","v":""},{"$f":"IF('4 - Payroll reduction'!C421=\"Name\",\"\",IF('4 - Payroll reduction'!H421=\"Table 2\",\"\",'4 - Payroll reduction'!E421))","v":""},{"$f":"IF('4 - Payroll reduction'!C421=\"Name\",\"\",IF('4 - Payroll reduction'!H421=\"Table 2\",\"\",'4 - Payroll reduction'!G421))","v":""},{"$f":"IF('4 - Payroll reduction'!C421=\"Name\",\"\",IF('4 - Payroll reduction'!H421=\"Table 2\",\"\",'4 - Payroll reduction'!F421))","v":""},331]
[{"$f":"IF('4 - Payroll reduction'!C422=\"Name\",\"\",IF('4 - Payroll reduction'!H422=\"Table 2\",\"\",'4 - Payroll reduction'!C422))","v":""},{"$f":"IF('4 - Payroll reduction'!C422=\"Name\",\"\",IF('4 - Payroll reduction'!H422=\"Table 2\",\"\",'4 - Payroll reduction'!D422))","v":""},{"$f":"IF('4 - Payroll reduction'!C422=\"Name\",\"\",IF('4 - Payroll reduction'!H422=\"Table 2\",\"\",'4 - Payroll reduction'!E422))","v":""},{"$f":"IF('4 - Payroll reduction'!C422=\"Name\",\"\",IF('4 - Payroll reduction'!H422=\"Table 2\",\"\",'4 - Payroll reduction'!G422))","v":""},{"$f":"IF('4 - Payroll reduction'!C422=\"Name\",\"\",IF('4 - Payroll reduction'!H422=\"Table 2\",\"\",'4 - Payroll reduction'!F422))","v":""},332]
[{"$f":"IF('4 - Payroll reduction'!C423=\"Name\",\"\",IF('4 - Payroll reduction'!H423=\"Table 2\",\"\",'4 - Payroll reduction'!C423))","v":""},{"$f":"IF('4 - Payroll reduction'!C423=\"Name\",\"\",IF('4 - Payroll reduction'!H423=\"Table 2\",\"\",'4 - Payroll reduction'!D423))","v":""},{"$f":"IF('4 - Payroll reduction'!C423=\"Name\",\"\",IF('4 - Payroll reduction'!H423=\"Table 2\",\"\",'4 - Payroll reduction'!E423))","v":""},{"$f":"IF('4 - Payroll reduction'!C423=\"Name\",\"\",IF('4 - Payroll reduction'!H423=\"Table 2\",\"\",'4 - Payroll reduction'!G423))","v":""},{"$f":"IF('4 - Payroll reduction'!C423=\"Name\",\"\",IF('4 - Payroll reduction'!H423=\"Table 2\",\"\",'4 - Payroll reduction'!F423))","v":""},333]
[{"$f":"IF('4 - Payroll reduction'!C424=\"Name\",\"\",IF('4 - Payroll reduction'!H424=\"Table 2\",\"\",'4 - Payroll reduction'!C424))","v":""},{"$f":"IF('4 - Payroll reduction'!C424=\"Name\",\"\",IF('4 - Payroll reduction'!H424=\"Table 2\",\"\",'4 - Payroll reduction'!D424))","v":""},{"$f":"IF('4 - Payroll reduction'!C424=\"Name\",\"\",IF('4 - Payroll reduction'!H424=\"Table 2\",\"\",'4 - Payroll reduction'!E424))","v":""},{"$f":"IF('4 - Payroll reduction'!C424=\"Name\",\"\",IF('4 - Payroll reduction'!H424=\"Table 2\",\"\",'4 - Payroll reduction'!G424))","v":""},{"$f":"IF('4 - Payroll reduction'!C424=\"Name\",\"\",IF('4 - Payroll reduction'!H424=\"Table 2\",\"\",'4 - Payroll reduction'!F424))","v":""},334]
[{"$f":"IF('4 - Payroll reduction'!C425=\"Name\",\"\",IF('4 - Payroll reduction'!H425=\"Table 2\",\"\",'4 - Payroll reduction'!C425))","v":""},{"$f":"IF('4 - Payroll reduction'!C425=\"Name\",\"\",IF('4 - Payroll reduction'!H425=\"Table 2\",\"\",'4 - Payroll reduction'!D425))","v":""},{"$f":"IF('4 - Payroll reduction'!C425=\"Name\",\"\",IF('4 - Payroll reduction'!H425=\"Table 2\",\"\",'4 - Payroll reduction'!E425))","v":""},{"$f":"IF('4 - Payroll reduction'!C425=\"Name\",\"\",IF('4 - Payroll reduction'!H425=\"Table 2\",\"\",'4 - Payroll reduction'!G425))","v":""},{"$f":"IF('4 - Payroll reduction'!C425=\"Name\",\"\",IF('4 - Payroll reduction'!H425=\"Table 2\",\"\",'4 - Payroll reduction'!F425))","v":""},335]
[{"$f":"IF('4 - Payroll reduction'!C426=\"Name\",\"\",IF('4 - Payroll reduction'!H426=\"Table 2\",\"\",'4 - Payroll reduction'!C426))","v":""},{"$f":"IF('4 - Payroll reduction'!C426=\"Name\",\"\",IF('4 - Payroll reduction'!H426=\"Table 2\",\"\",'4 - Payroll reduction'!D426))","v":""},{"$f":"IF('4 - Payroll reduction'!C426=\"Name\",\"\",IF('4 - Payroll reduction'!H426=\"Table 2\",\"\",'4 - Payroll reduction'!E426))","v":""},{"$f":"IF('4 - Payroll reduction'!C426=\"Name\",\"\",IF('4 - Payroll reduction'!H426=\"Table 2\",\"\",'4 - Payroll reduction'!G426))","v":""},{"$f":"IF('4 - Payroll reduction'!C426=\"Name\",\"\",IF('4 - Payroll reduction'!H426=\"Table 2\",\"\",'4 - Payroll reduction'!F426))","v":""},336]
[{"$f":"IF('4 - Payroll reduction'!C427=\"Name\",\"\",IF('4 - Payroll reduction'!H427=\"Table 2\",\"\",'4 - Payroll reduction'!C427))","v":""},{"$f":"IF('4 - Payroll reduction'!C427=\"Name\",\"\",IF('4 - Payroll reduction'!H427=\"Table 2\",\"\",'4 - Payroll reduction'!D427))","v":""},{"$f":"IF('4 - Payroll reduction'!C427=\"Name\",\"\",IF('4 - Payroll reduction'!H427=\"Table 2\",\"\",'4 - Payroll reduction'!E427))","v":""},{"$f":"IF('4 - Payroll reduction'!C427=\"Name\",\"\",IF('4 - Payroll reduction'!H427=\"Table 2\",\"\",'4 - Payroll reduction'!G427))","v":""},{"$f":"IF('4 - Payroll reduction'!C427=\"Name\",\"\",IF('4 - Payroll reduction'!H427=\"Table 2\",\"\",'4 - Payroll reduction'!F427))","v":""},337]
[{"$f":"IF('4 - Payroll reduction'!C428=\"Name\",\"\",IF('4 - Payroll reduction'!H428=\"Table 2\",\"\",'4 - Payroll reduction'!C428))","v":""},{"$f":"IF('4 - Payroll reduction'!C428=\"Name\",\"\",IF('4 - Payroll reduction'!H428=\"Table 2\",\"\",'4 - Payroll reduction'!D428))","v":""},{"$f":"IF('4 - Payroll reduction'!C428=\"Name\",\"\",IF('4 - Payroll reduction'!H428=\"Table 2\",\"\",'4 - Payroll reduction'!E428))","v":""},{"$f":"IF('4 - Payroll reduction'!C428=\"Name\",\"\",IF('4 - Payroll reduction'!H428=\"Table 2\",\"\",'4 - Payroll reduction'!G428))","v":""},{"$f":"IF('4 - Payroll reduction'!C428=\"Name\",\"\",IF('4 - Payroll reduction'!H428=\"Table 2\",\"\",'4 - Payroll reduction'!F428))","v":""},338]
[{"$f":"IF('4 - Payroll reduction'!C429=\"Name\",\"\",IF('4 - Payroll reduction'!H429=\"Table 2\",\"\",'4 - Payroll reduction'!C429))","v":""},{"$f":"IF('4 - Payroll reduction'!C429=\"Name\",\"\",IF('4 - Payroll reduction'!H429=\"Table 2\",\"\",'4 - Payroll reduction'!D429))","v":""},{"$f":"IF('4 - Payroll reduction'!C429=\"Name\",\"\",IF('4 - Payroll reduction'!H429=\"Table 2\",\"\",'4 - Payroll reduction'!E429))","v":""},{"$f":"IF('4 - Payroll reduction'!C429=\"Name\",\"\",IF('4 - Payroll reduction'!H429=\"Table 2\",\"\",'4 - Payroll reduction'!G429))","v":""},{"$f":"IF('4 - Payroll reduction'!C429=\"Name\",\"\",IF('4 - Payroll reduction'!H429=\"Table 2\",\"\",'4 - Payroll reduction'!F429))","v":""},339]
[{"$f":"IF('4 - Payroll reduction'!C430=\"Name\",\"\",IF('4 - Payroll reduction'!H430=\"Table 2\",\"\",'4 - Payroll reduction'!C430))","v":""},{"$f":"IF('4 - Payroll reduction'!C430=\"Name\",\"\",IF('4 - Payroll reduction'!H430=\"Table 2\",\"\",'4 - Payroll reduction'!D430))","v":""},{"$f":"IF('4 - Payroll reduction'!C430=\"Name\",\"\",IF('4 - Payroll reduction'!H430=\"Table 2\",\"\",'4 - Payroll reduction'!E430))","v":""},{"$f":"IF('4 - Payroll reduction'!C430=\"Name\",\"\",IF('4 - Payroll reduction'!H430=\"Table 2\",\"\",'4 - Payroll reduction'!G430))","v":""},{"$f":"IF('4 - Payroll reduction'!C430=\"Name\",\"\",IF('4 - Payroll reduction'!H430=\"Table 2\",\"\",'4 - Payroll reduction'!F430))","v":""},340]
[{"$f":"IF('4 - Payroll reduction'!C431=\"Name\",\"\",IF('4 - Payroll reduction'!H431=\"Table 2\",\"\",'4 - Payroll reduction'!C431))","v":""},{"$f":"IF('4 - Payroll reduction'!C431=\"Name\",\"\",IF('4 - Payroll reduction'!H431=\"Table 2\",\"\",'4 - Payroll reduction'!D431))","v":""},{"$f":"IF('4 - Payroll reduction'!C431=\"Name\",\"\",IF('4 - Payroll reduction'!H431=\"Table 2\",\"\",'4 - Payroll reduction'!E431))","v":""},{"$f":"IF('4 - Payroll reduction'!C431=\"Name\",\"\",IF('4 - Payroll reduction'!H431=\"Table 2\",\"\",'4 - Payroll reduction'!G431))","v":""},{"$f":"IF('4 - Payroll reduction'!C431=\"Name\",\"\",IF('4 - Payroll reduction'!H431=\"Table 2\",\"\",'4 - Payroll reduction'!F431))","v":""},341]
[{"$f":"IF('4 - Payroll reduction'!C432=\"Name\",\"\",IF('4 - Payroll reduction'!H432=\"Table 2\",\"\",'4 - Payroll reduction'!C432))","v":""},{"$f":"IF('4 - Payroll reduction'!C432=\"Name\",\"\",IF('4 - Payroll reduction'!H432=\"Table 2\",\"\",'4 - Payroll reduction'!D432))","v":""},{"$f":"IF('4 - Payroll reduction'!C432=\"Name\",\"\",IF('4 - Payroll reduction'!H432=\"Table 2\",\"\",'4 - Payroll reduction'!E432))","v":""},{"$f":"IF('4 - Payroll reduction'!C432=\"Name\",\"\",IF('4 - Payroll reduction'!H432=\"Table 2\",\"\",'4 - Payroll reduction'!G432))","v":""},{"$f":"IF('4 - Payroll reduction'!C432=\"Name\",\"\",IF('4 - Payroll reduction'!H432=\"Table 2\",\"\",'4 - Payroll reduction'!F432))","v":""},342]
[{"$f":"IF('4 - Payroll reduction'!C433=\"Name\",\"\",IF('4 - Payroll reduction'!H433=\"Table 2\",\"\",'4 - Payroll reduction'!C433))","v":""},{"$f":"IF('4 - Payroll reduction'!C433=\"Name\",\"\",IF('4 - Payroll reduction'!H433=\"Table 2\",\"\",'4 - Payroll reduction'!D433))","v":""},{"$f":"IF('4 - Payroll reduction'!C433=\"Name\",\"\",IF('4 - Payroll reduction'!H433=\"Table 2\",\"\",'4 - Payroll reduction'!E433))","v":""},{"$f":"IF('4 - Payroll reduction'!C433=\"Name\",\"\",IF('4 - Payroll reduction'!H433=\"Table 2\",\"\",'4 - Payroll reduction'!G433))","v":""},{"$f":"IF('4 - Payroll reduction'!C433=\"Name\",\"\",IF('4 - Payroll reduction'!H433=\"Table 2\",\"\",'4 - Payroll reduction'!F433))","v":""},343]
[{"$f":"IF('4 - Payroll reduction'!C434=\"Name\",\"\",IF('4 - Payroll reduction'!H434=\"Table 2\",\"\",'4 - Payroll reduction'!C434))","v":""},{"$f":"IF('4 - Payroll reduction'!C434=\"Name\",\"\",IF('4 - Payroll reduction'!H434=\"Table 2\",\"\",'4 - Payroll reduction'!D434))","v":""},{"$f":"IF('4 - Payroll reduction'!C434=\"Name\",\"\",IF('4 - Payroll reduction'!H434=\"Table 2\",\"\",'4 - Payroll reduction'!E434))","v":""},{"$f":"IF('4 - Payroll reduction'!C434=\"Name\",\"\",IF('4 - Payroll reduction'!H434=\"Table 2\",\"\",'4 - Payroll reduction'!G434))","v":""},{"$f":"IF('4 - Payroll reduction'!C434=\"Name\",\"\",IF('4 - Payroll reduction'!H434=\"Table 2\",\"\",'4 - Payroll reduction'!F434))","v":""},344]
[{"$f":"IF('4 - Payroll reduction'!C435=\"Name\",\"\",IF('4 - Payroll reduction'!H435=\"Table 2\",\"\",'4 - Payroll reduction'!C435))","v":""},{"$f":"IF('4 - Payroll reduction'!C435=\"Name\",\"\",IF('4 - Payroll reduction'!H435=\"Table 2\",\"\",'4 - Payroll reduction'!D435))","v":""},{"$f":"IF('4 - Payroll reduction'!C435=\"Name\",\"\",IF('4 - Payroll reduction'!H435=\"Table 2\",\"\",'4 - Payroll reduction'!E435))","v":""},{"$f":"IF('4 - Payroll reduction'!C435=\"Name\",\"\",IF('4 - Payroll reduction'!H435=\"Table 2\",\"\",'4 - Payroll reduction'!G435))","v":""},{"$f":"IF('4 - Payroll reduction'!C435=\"Name\",\"\",IF('4 - Payroll reduction'!H435=\"Table 2\",\"\",'4 - Payroll reduction'!F435))","v":""},345]
[{"$f":"IF('4 - Payroll reduction'!C436=\"Name\",\"\",IF('4 - Payroll reduction'!H436=\"Table 2\",\"\",'4 - Payroll reduction'!C436))","v":""},{"$f":"IF('4 - Payroll reduction'!C436=\"Name\",\"\",IF('4 - Payroll reduction'!H436=\"Table 2\",\"\",'4 - Payroll reduction'!D436))","v":""},{"$f":"IF('4 - Payroll reduction'!C436=\"Name\",\"\",IF('4 - Payroll reduction'!H436=\"Table 2\",\"\",'4 - Payroll reduction'!E436))","v":""},{"$f":"IF('4 - Payroll reduction'!C436=\"Name\",\"\",IF('4 - Payroll reduction'!H436=\"Table 2\",\"\",'4 - Payroll reduction'!G436))","v":""},{"$f":"IF('4 - Payroll reduction'!C436=\"Name\",\"\",IF('4 - Payroll reduction'!H436=\"Table 2\",\"\",'4 - Payroll reduction'!F436))","v":""},346]
[{"$f":"IF('4 - Payroll reduction'!C437=\"Name\",\"\",IF('4 - Payroll reduction'!H437=\"Table 2\",\"\",'4 - Payroll reduction'!C437))","v":""},{"$f":"IF('4 - Payroll reduction'!C437=\"Name\",\"\",IF('4 - Payroll reduction'!H437=\"Table 2\",\"\",'4 - Payroll reduction'!D437))","v":""},{"$f":"IF('4 - Payroll reduction'!C437=\"Name\",\"\",IF('4 - Payroll reduction'!H437=\"Table 2\",\"\",'4 - Payroll reduction'!E437))","v":""},{"$f":"IF('4 - Payroll reduction'!C437=\"Name\",\"\",IF('4 - Payroll reduction'!H437=\"Table 2\",\"\",'4 - Payroll reduction'!G437))","v":""},{"$f":"IF('4 - Payroll reduction'!C437=\"Name\",\"\",IF('4 - Payroll reduction'!H437=\"Table 2\",\"\",'4 - Payroll reduction'!F437))","v":""},347]
[{"$f":"IF('4 - Payroll reduction'!C438=\"Name\",\"\",IF('4 - Payroll reduction'!H438=\"Table 2\",\"\",'4 - Payroll reduction'!C438))","v":""},{"$f":"IF('4 - Payroll reduction'!C438=\"Name\",\"\",IF('4 - Payroll reduction'!H438=\"Table 2\",\"\",'4 - Payroll reduction'!D438))","v":""},{"$f":"IF('4 - Payroll reduction'!C438=\"Name\",\"\",IF('4 - Payroll reduction'!H438=\"Table 2\",\"\",'4 - Payroll reduction'!E438))","v":""},{"$f":"IF('4 - Payroll reduction'!C438=\"Name\",\"\",IF('4 - Payroll reduction'!H438=\"Table 2\",\"\",'4 - Payroll reduction'!G438))","v":""},{"$f":"IF('4 - Payroll reduction'!C438=\"Name\",\"\",IF('4 - Payroll reduction'!H438=\"Table 2\",\"\",'4 - Payroll reduction'!F438))","v":""},348]
[{"$f":"IF('4 - Payroll reduction'!C439=\"Name\",\"\",IF('4 - Payroll reduction'!H439=\"Table 2\",\"\",'4 - Payroll reduction'!C439))","v":""},{"$f":"IF('4 - Payroll reduction'!C439=\"Name\",\"\",IF('4 - Payroll reduction'!H439=\"Table 2\",\"\",'4 - Payroll reduction'!D439))","v":""},{"$f":"IF('4 - Payroll reduction'!C439=\"Name\",\"\",IF('4 - Payroll reduction'!H439=\"Table 2\",\"\",'4 - Payroll reduction'!E439))","v":""},{"$f":"IF('4 - Payroll reduction'!C439=\"Name\",\"\",IF('4 - Payroll reduction'!H439=\"Table 2\",\"\",'4 - Payroll reduction'!G439))","v":""},{"$f":"IF('4 - Payroll reduction'!C439=\"Name\",\"\",IF('4 - Payroll reduction'!H439=\"Table 2\",\"\",'4 - Payroll reduction'!F439))","v":""},349]
[{"$f":"IF('4 - Payroll reduction'!C440=\"Name\",\"\",IF('4 - Payroll reduction'!H440=\"Table 2\",\"\",'4 - Payroll reduction'!C440))","v":""},{"$f":"IF('4 - Payroll reduction'!C440=\"Name\",\"\",IF('4 - Payroll reduction'!H440=\"Table 2\",\"\",'4 - Payroll reduction'!D440))","v":""},{"$f":"IF('4 - Payroll reduction'!C440=\"Name\",\"\",IF('4 - Payroll reduction'!H440=\"Table 2\",\"\",'4 - Payroll reduction'!E440))","v":""},{"$f":"IF('4 - Payroll reduction'!C440=\"Name\",\"\",IF('4 - Payroll reduction'!H440=\"Table 2\",\"\",'4 - Payroll reduction'!G440))","v":""},{"$f":"IF('4 - Payroll reduction'!C440=\"Name\",\"\",IF('4 - Payroll reduction'!H440=\"Table 2\",\"\",'4 - Payroll reduction'!F440))","v":""},350]
[{"$f":"IF('4 - Payroll reduction'!C441=\"Name\",\"\",IF('4 - Payroll reduction'!H441=\"Table 2\",\"\",'4 - Payroll reduction'!C441))","v":""},{"$f":"IF('4 - Payroll reduction'!C441=\"Name\",\"\",IF('4 - Payroll reduction'!H441=\"Table 2\",\"\",'4 - Payroll reduction'!D441))","v":""},{"$f":"IF('4 - Payroll reduction'!C441=\"Name\",\"\",IF('4 - Payroll reduction'!H441=\"Table 2\",\"\",'4 - Payroll reduction'!E441))","v":""},{"$f":"IF('4 - Payroll reduction'!C441=\"Name\",\"\",IF('4 - Payroll reduction'!H441=\"Table 2\",\"\",'4 - Payroll reduction'!G441))","v":""},{"$f":"IF('4 - Payroll reduction'!C441=\"Name\",\"\",IF('4 - Payroll reduction'!H441=\"Table 2\",\"\",'4 - Payroll reduction'!F441))","v":""},351]
[{"$f":"IF('4 - Payroll reduction'!C442=\"Name\",\"\",IF('4 - Payroll reduction'!H442=\"Table 2\",\"\",'4 - Payroll reduction'!C442))","v":""},{"$f":"IF('4 - Payroll reduction'!C442=\"Name\",\"\",IF('4 - Payroll reduction'!H442=\"Table 2\",\"\",'4 - Payroll reduction'!D442))","v":""},{"$f":"IF('4 - Payroll reduction'!C442=\"Name\",\"\",IF('4 - Payroll reduction'!H442=\"Table 2\",\"\",'4 - Payroll reduction'!E442))","v":""},{"$f":"IF('4 - Payroll reduction'!C442=\"Name\",\"\",IF('4 - Payroll reduction'!H442=\"Table 2\",\"\",'4 - Payroll reduction'!G442))","v":""},{"$f":"IF('4 - Payroll reduction'!C442=\"Name\",\"\",IF('4 - Payroll reduction'!H442=\"Table 2\",\"\",'4 - Payroll reduction'!F442))","v":""},352]
[{"$f":"IF('4 - Payroll reduction'!C443=\"Name\",\"\",IF('4 - Payroll reduction'!H443=\"Table 2\",\"\",'4 - Payroll reduction'!C443))","v":""},{"$f":"IF('4 - Payroll reduction'!C443=\"Name\",\"\",IF('4 - Payroll reduction'!H443=\"Table 2\",\"\",'4 - Payroll reduction'!D443))","v":""},{"$f":"IF('4 - Payroll reduction'!C443=\"Name\",\"\",IF('4 - Payroll reduction'!H443=\"Table 2\",\"\",'4 - Payroll reduction'!E443))","v":""},{"$f":"IF('4 - Payroll reduction'!C443=\"Name\",\"\",IF('4 - Payroll reduction'!H443=\"Table 2\",\"\",'4 - Payroll reduction'!G443))","v":""},{"$f":"IF('4 - Payroll reduction'!C443=\"Name\",\"\",IF('4 - Payroll reduction'!H443=\"Table 2\",\"\",'4 - Payroll reduction'!F443))","v":""},353]
[{"$f":"IF('4 - Payroll reduction'!C444=\"Name\",\"\",IF('4 - Payroll reduction'!H444=\"Table 2\",\"\",'4 - Payroll reduction'!C444))","v":""},{"$f":"IF('4 - Payroll reduction'!C444=\"Name\",\"\",IF('4 - Payroll reduction'!H444=\"Table 2\",\"\",'4 - Payroll reduction'!D444))","v":""},{"$f":"IF('4 - Payroll reduction'!C444=\"Name\",\"\",IF('4 - Payroll reduction'!H444=\"Table 2\",\"\",'4 - Payroll reduction'!E444))","v":""},{"$f":"IF('4 - Payroll reduction'!C444=\"Name\",\"\",IF('4 - Payroll reduction'!H444=\"Table 2\",\"\",'4 - Payroll reduction'!G444))","v":""},{"$f":"IF('4 - Payroll reduction'!C444=\"Name\",\"\",IF('4 - Payroll reduction'!H444=\"Table 2\",\"\",'4 - Payroll reduction'!F444))","v":""},354]
[{"$f":"IF('4 - Payroll reduction'!C445=\"Name\",\"\",IF('4 - Payroll reduction'!H445=\"Table 2\",\"\",'4 - Payroll reduction'!C445))","v":""},{"$f":"IF('4 - Payroll reduction'!C445=\"Name\",\"\",IF('4 - Payroll reduction'!H445=\"Table 2\",\"\",'4 - Payroll reduction'!D445))","v":""},{"$f":"IF('4 - Payroll reduction'!C445=\"Name\",\"\",IF('4 - Payroll reduction'!H445=\"Table 2\",\"\",'4 - Payroll reduction'!E445))","v":""},{"$f":"IF('4 - Payroll reduction'!C445=\"Name\",\"\",IF('4 - Payroll reduction'!H445=\"Table 2\",\"\",'4 - Payroll reduction'!G445))","v":""},{"$f":"IF('4 - Payroll reduction'!C445=\"Name\",\"\",IF('4 - Payroll reduction'!H445=\"Table 2\",\"\",'4 - Payroll reduction'!F445))","v":""},355]
[{"$f":"IF('4 - Payroll reduction'!C446=\"Name\",\"\",IF('4 - Payroll reduction'!H446=\"Table 2\",\"\",'4 - Payroll reduction'!C446))","v":""},{"$f":"IF('4 - Payroll reduction'!C446=\"Name\",\"\",IF('4 - Payroll reduction'!H446=\"Table 2\",\"\",'4 - Payroll reduction'!D446))","v":""},{"$f":"IF('4 - Payroll reduction'!C446=\"Name\",\"\",IF('4 - Payroll reduction'!H446=\"Table 2\",\"\",'4 - Payroll reduction'!E446))","v":""},{"$f":"IF('4 - Payroll reduction'!C446=\"Name\",\"\",IF('4 - Payroll reduction'!H446=\"Table 2\",\"\",'4 - Payroll reduction'!G446))","v":""},{"$f":"IF('4 - Payroll reduction'!C446=\"Name\",\"\",IF('4 - Payroll reduction'!H446=\"Table 2\",\"\",'4 - Payroll reduction'!F446))","v":""},356]
[{"$f":"IF('4 - Payroll reduction'!C447=\"Name\",\"\",IF('4 - Payroll reduction'!H447=\"Table 2\",\"\",'4 - Payroll reduction'!C447))","v":""},{"$f":"IF('4 - Payroll reduction'!C447=\"Name\",\"\",IF('4 - Payroll reduction'!H447=\"Table 2\",\"\",'4 - Payroll reduction'!D447))","v":""},{"$f":"IF('4 - Payroll reduction'!C447=\"Name\",\"\",IF('4 - Payroll reduction'!H447=\"Table 2\",\"\",'4 - Payroll reduction'!E447))","v":""},{"$f":"IF('4 - Payroll reduction'!C447=\"Name\",\"\",IF('4 - Payroll reduction'!H447=\"Table 2\",\"\",'4 - Payroll reduction'!G447))","v":""},{"$f":"IF('4 - Payroll reduction'!C447=\"Name\",\"\",IF('4 - Payroll reduction'!H447=\"Table 2\",\"\",'4 - Payroll reduction'!F447))","v":""},357]
[{"$f":"IF('4 - Payroll reduction'!C448=\"Name\",\"\",IF('4 - Payroll reduction'!H448=\"Table 2\",\"\",'4 - Payroll reduction'!C448))","v":""},{"$f":"IF('4 - Payroll reduction'!C448=\"Name\",\"\",IF('4 - Payroll reduction'!H448=\"Table 2\",\"\",'4 - Payroll reduction'!D448))","v":""},{"$f":"IF('4 - Payroll reduction'!C448=\"Name\",\"\",IF('4 - Payroll reduction'!H448=\"Table 2\",\"\",'4 - Payroll reduction'!E448))","v":""},{"$f":"IF('4 - Payroll reduction'!C448=\"Name\",\"\",IF('4 - Payroll reduction'!H448=\"Table 2\",\"\",'4 - Payroll reduction'!G448))","v":""},{"$f":"IF('4 - Payroll reduction'!C448=\"Name\",\"\",IF('4 - Payroll reduction'!H448=\"Table 2\",\"\",'4 - Payroll reduction'!F448))","v":""},358]
[{"$f":"IF('4 - Payroll reduction'!C449=\"Name\",\"\",IF('4 - Payroll reduction'!H449=\"Table 2\",\"\",'4 - Payroll reduction'!C449))","v":""},{"$f":"IF('4 - Payroll reduction'!C449=\"Name\",\"\",IF('4 - Payroll reduction'!H449=\"Table 2\",\"\",'4 - Payroll reduction'!D449))","v":""},{"$f":"IF('4 - Payroll reduction'!C449=\"Name\",\"\",IF('4 - Payroll reduction'!H449=\"Table 2\",\"\",'4 - Payroll reduction'!E449))","v":""},{"$f":"IF('4 - Payroll reduction'!C449=\"Name\",\"\",IF('4 - Payroll reduction'!H449=\"Table 2\",\"\",'4 - Payroll reduction'!G449))","v":""},{"$f":"IF('4 - Payroll reduction'!C449=\"Name\",\"\",IF('4 - Payroll reduction'!H449=\"Table 2\",\"\",'4 - Payroll reduction'!F449))","v":""},359]
[{"$f":"IF('4 - Payroll reduction'!C450=\"Name\",\"\",IF('4 - Payroll reduction'!H450=\"Table 2\",\"\",'4 - Payroll reduction'!C450))","v":""},{"$f":"IF('4 - Payroll reduction'!C450=\"Name\",\"\",IF('4 - Payroll reduction'!H450=\"Table 2\",\"\",'4 - Payroll reduction'!D450))","v":""},{"$f":"IF('4 - Payroll reduction'!C450=\"Name\",\"\",IF('4 - Payroll reduction'!H450=\"Table 2\",\"\",'4 - Payroll reduction'!E450))","v":""},{"$f":"IF('4 - Payroll reduction'!C450=\"Name\",\"\",IF('4 - Payroll reduction'!H450=\"Table 2\",\"\",'4 - Payroll reduction'!G450))","v":""},{"$f":"IF('4 - Payroll reduction'!C450=\"Name\",\"\",IF('4 - Payroll reduction'!H450=\"Table 2\",\"\",'4 - Payroll reduction'!F450))","v":""},360]
[{"$f":"IF('4 - Payroll reduction'!C451=\"Name\",\"\",IF('4 - Payroll reduction'!H451=\"Table 2\",\"\",'4 - Payroll reduction'!C451))","v":""},{"$f":"IF('4 - Payroll reduction'!C451=\"Name\",\"\",IF('4 - Payroll reduction'!H451=\"Table 2\",\"\",'4 - Payroll reduction'!D451))","v":""},{"$f":"IF('4 - Payroll reduction'!C451=\"Name\",\"\",IF('4 - Payroll reduction'!H451=\"Table 2\",\"\",'4 - Payroll reduction'!E451))","v":""},{"$f":"IF('4 - Payroll reduction'!C451=\"Name\",\"\",IF('4 - Payroll reduction'!H451=\"Table 2\",\"\",'4 - Payroll reduction'!G451))","v":""},{"$f":"IF('4 - Payroll reduction'!C451=\"Name\",\"\",IF('4 - Payroll reduction'!H451=\"Table 2\",\"\",'4 - Payroll reduction'!F451))","v":""},361]
[{"$f":"IF('4 - Payroll reduction'!C452=\"Name\",\"\",IF('4 - Payroll reduction'!H452=\"Table 2\",\"\",'4 - Payroll reduction'!C452))","v":""},{"$f":"IF('4 - Payroll reduction'!C452=\"Name\",\"\",IF('4 - Payroll reduction'!H452=\"Table 2\",\"\",'4 - Payroll reduction'!D452))","v":""},{"$f":"IF('4 - Payroll reduction'!C452=\"Name\",\"\",IF('4 - Payroll reduction'!H452=\"Table 2\",\"\",'4 - Payroll reduction'!E452))","v":""},{"$f":"IF('4 - Payroll reduction'!C452=\"Name\",\"\",IF('4 - Payroll reduction'!H452=\"Table 2\",\"\",'4 - Payroll reduction'!G452))","v":""},{"$f":"IF('4 - Payroll reduction'!C452=\"Name\",\"\",IF('4 - Payroll reduction'!H452=\"Table 2\",\"\",'4 - Payroll reduction'!F452))","v":""},362]
[{"$f":"IF('4 - Payroll reduction'!C453=\"Name\",\"\",IF('4 - Payroll reduction'!H453=\"Table 2\",\"\",'4 - Payroll reduction'!C453))","v":""},{"$f":"IF('4 - Payroll reduction'!C453=\"Name\",\"\",IF('4 - Payroll reduction'!H453=\"Table 2\",\"\",'4 - Payroll reduction'!D453))","v":""},{"$f":"IF('4 - Payroll reduction'!C453=\"Name\",\"\",IF('4 - Payroll reduction'!H453=\"Table 2\",\"\",'4 - Payroll reduction'!E453))","v":""},{"$f":"IF('4 - Payroll reduction'!C453=\"Name\",\"\",IF('4 - Payroll reduction'!H453=\"Table 2\",\"\",'4 - Payroll reduction'!G453))","v":""},{"$f":"IF('4 - Payroll reduction'!C453=\"Name\",\"\",IF('4 - Payroll reduction'!H453=\"Table 2\",\"\",'4 - Payroll reduction'!F453))","v":""},363]
[{"$f":"IF('4 - Payroll reduction'!C454=\"Name\",\"\",IF('4 - Payroll reduction'!H454=\"Table 2\",\"\",'4 - Payroll reduction'!C454))","v":""},{"$f":"IF('4 - Payroll reduction'!C454=\"Name\",\"\",IF('4 - Payroll reduction'!H454=\"Table 2\",\"\",'4 - Payroll reduction'!D454))","v":""},{"$f":"IF('4 - Payroll reduction'!C454=\"Name\",\"\",IF('4 - Payroll reduction'!H454=\"Table 2\",\"\",'4 - Payroll reduction'!E454))","v":""},{"$f":"IF('4 - Payroll reduction'!C454=\"Name\",\"\",IF('4 - Payroll reduction'!H454=\"Table 2\",\"\",'4 - Payroll reduction'!G454))","v":""},{"$f":"IF('4 - Payroll reduction'!C454=\"Name\",\"\",IF('4 - Payroll reduction'!H454=\"Table 2\",\"\",'4 - Payroll reduction'!F454))","v":""},364]
[{"$f":"IF('4 - Payroll reduction'!C455=\"Name\",\"\",IF('4 - Payroll reduction'!H455=\"Table 2\",\"\",'4 - Payroll reduction'!C455))","v":""},{"$f":"IF('4 - Payroll reduction'!C455=\"Name\",\"\",IF('4 - Payroll reduction'!H455=\"Table 2\",\"\",'4 - Payroll reduction'!D455))","v":""},{"$f":"IF('4 - Payroll reduction'!C455=\"Name\",\"\",IF('4 - Payroll reduction'!H455=\"Table 2\",\"\",'4 - Payroll reduction'!E455))","v":""},{"$f":"IF('4 - Payroll reduction'!C455=\"Name\",\"\",IF('4 - Payroll reduction'!H455=\"Table 2\",\"\",'4 - Payroll reduction'!G455))","v":""},{"$f":"IF('4 - Payroll reduction'!C455=\"Name\",\"\",IF('4 - Payroll reduction'!H455=\"Table 2\",\"\",'4 - Payroll reduction'!F455))","v":""},365]
[{"$f":"IF('4 - Payroll reduction'!C456=\"Name\",\"\",IF('4 - Payroll reduction'!H456=\"Table 2\",\"\",'4 - Payroll reduction'!C456))","v":""},{"$f":"IF('4 - Payroll reduction'!C456=\"Name\",\"\",IF('4 - Payroll reduction'!H456=\"Table 2\",\"\",'4 - Payroll reduction'!D456))","v":""},{"$f":"IF('4 - Payroll reduction'!C456=\"Name\",\"\",IF('4 - Payroll reduction'!H456=\"Table 2\",\"\",'4 - Payroll reduction'!E456))","v":""},{"$f":"IF('4 - Payroll reduction'!C456=\"Name\",\"\",IF('4 - Payroll reduction'!H456=\"Table 2\",\"\",'4 - Payroll reduction'!G456))","v":""},{"$f":"IF('4 - Payroll reduction'!C456=\"Name\",\"\",IF('4 - Payroll reduction'!H456=\"Table 2\",\"\",'4 - Payroll reduction'!F456))","v":""},366]
[{"$f":"IF('4 - Payroll reduction'!C457=\"Name\",\"\",IF('4 - Payroll reduction'!H457=\"Table 2\",\"\",'4 - Payroll reduction'!C457))","v":""},{"$f":"IF('4 - Payroll reduction'!C457=\"Name\",\"\",IF('4 - Payroll reduction'!H457=\"Table 2\",\"\",'4 - Payroll reduction'!D457))","v":""},{"$f":"IF('4 - Payroll reduction'!C457=\"Name\",\"\",IF('4 - Payroll reduction'!H457=\"Table 2\",\"\",'4 - Payroll reduction'!E457))","v":""},{"$f":"IF('4 - Payroll reduction'!C457=\"Name\",\"\",IF('4 - Payroll reduction'!H457=\"Table 2\",\"\",'4 - Payroll reduction'!G457))","v":""},{"$f":"IF('4 - Payroll reduction'!C457=\"Name\",\"\",IF('4 - Payroll reduction'!H457=\"Table 2\",\"\",'4 - Payroll reduction'!F457))","v":""},367]
[{"$f":"IF('4 - Payroll reduction'!C458=\"Name\",\"\",IF('4 - Payroll reduction'!H458=\"Table 2\",\"\",'4 - Payroll reduction'!C458))","v":""},{"$f":"IF('4 - Payroll reduction'!C458=\"Name\",\"\",IF('4 - Payroll reduction'!H458=\"Table 2\",\"\",'4 - Payroll reduction'!D458))","v":""},{"$f":"IF('4 - Payroll reduction'!C458=\"Name\",\"\",IF('4 - Payroll reduction'!H458=\"Table 2\",\"\",'4 - Payroll reduction'!E458))","v":""},{"$f":"IF('4 - Payroll reduction'!C458=\"Name\",\"\",IF('4 - Payroll reduction'!H458=\"Table 2\",\"\",'4 - Payroll reduction'!G458))","v":""},{"$f":"IF('4 - Payroll reduction'!C458=\"Name\",\"\",IF('4 - Payroll reduction'!H458=\"Table 2\",\"\",'4 - Payroll reduction'!F458))","v":""},368]
[{"$f":"IF('4 - Payroll reduction'!C459=\"Name\",\"\",IF('4 - Payroll reduction'!H459=\"Table 2\",\"\",'4 - Payroll reduction'!C459))","v":""},{"$f":"IF('4 - Payroll reduction'!C459=\"Name\",\"\",IF('4 - Payroll reduction'!H459=\"Table 2\",\"\",'4 - Payroll reduction'!D459))","v":""},{"$f":"IF('4 - Payroll reduction'!C459=\"Name\",\"\",IF('4 - Payroll reduction'!H459=\"Table 2\",\"\",'4 - Payroll reduction'!E459))","v":""},{"$f":"IF('4 - Payroll reduction'!C459=\"Name\",\"\",IF('4 - Payroll reduction'!H459=\"Table 2\",\"\",'4 - Payroll reduction'!G459))","v":""},{"$f":"IF('4 - Payroll reduction'!C459=\"Name\",\"\",IF('4 - Payroll reduction'!H459=\"Table 2\",\"\",'4 - Payroll reduction'!F459))","v":""},369]
[{"$f":"IF('4 - Payroll reduction'!C460=\"Name\",\"\",IF('4 - Payroll reduction'!H460=\"Table 2\",\"\",'4 - Payroll reduction'!C460))","v":""},{"$f":"IF('4 - Payroll reduction'!C460=\"Name\",\"\",IF('4 - Payroll reduction'!H460=\"Table 2\",\"\",'4 - Payroll reduction'!D460))","v":""},{"$f":"IF('4 - Payroll reduction'!C460=\"Name\",\"\",IF('4 - Payroll reduction'!H460=\"Table 2\",\"\",'4 - Payroll reduction'!E460))","v":""},{"$f":"IF('4 - Payroll reduction'!C460=\"Name\",\"\",IF('4 - Payroll reduction'!H460=\"Table 2\",\"\",'4 - Payroll reduction'!G460))","v":""},{"$f":"IF('4 - Payroll reduction'!C460=\"Name\",\"\",IF('4 - Payroll reduction'!H460=\"Table 2\",\"\",'4 - Payroll reduction'!F460))","v":""},370]
[{"$f":"IF('4 - Payroll reduction'!C461=\"Name\",\"\",IF('4 - Payroll reduction'!H461=\"Table 2\",\"\",'4 - Payroll reduction'!C461))","v":""},{"$f":"IF('4 - Payroll reduction'!C461=\"Name\",\"\",IF('4 - Payroll reduction'!H461=\"Table 2\",\"\",'4 - Payroll reduction'!D461))","v":""},{"$f":"IF('4 - Payroll reduction'!C461=\"Name\",\"\",IF('4 - Payroll reduction'!H461=\"Table 2\",\"\",'4 - Payroll reduction'!E461))","v":""},{"$f":"IF('4 - Payroll reduction'!C461=\"Name\",\"\",IF('4 - Payroll reduction'!H461=\"Table 2\",\"\",'4 - Payroll reduction'!G461))","v":""},{"$f":"IF('4 - Payroll reduction'!C461=\"Name\",\"\",IF('4 - Payroll reduction'!H461=\"Table 2\",\"\",'4 - Payroll reduction'!F461))","v":""},371]
[{"$f":"IF('4 - Payroll reduction'!C462=\"Name\",\"\",IF('4 - Payroll reduction'!H462=\"Table 2\",\"\",'4 - Payroll reduction'!C462))","v":""},{"$f":"IF('4 - Payroll reduction'!C462=\"Name\",\"\",IF('4 - Payroll reduction'!H462=\"Table 2\",\"\",'4 - Payroll reduction'!D462))","v":""},{"$f":"IF('4 - Payroll reduction'!C462=\"Name\",\"\",IF('4 - Payroll reduction'!H462=\"Table 2\",\"\",'4 - Payroll reduction'!E462))","v":""},{"$f":"IF('4 - Payroll reduction'!C462=\"Name\",\"\",IF('4 - Payroll reduction'!H462=\"Table 2\",\"\",'4 - Payroll reduction'!G462))","v":""},{"$f":"IF('4 - Payroll reduction'!C462=\"Name\",\"\",IF('4 - Payroll reduction'!H462=\"Table 2\",\"\",'4 - Payroll reduction'!F462))","v":""},372]
[{"$f":"IF('4 - Payroll reduction'!C463=\"Name\",\"\",IF('4 - Payroll reduction'!H463=\"Table 2\",\"\",'4 - Payroll reduction'!C463))","v":""},{"$f":"IF('4 - Payroll reduction'!C463=\"Name\",\"\",IF('4 - Payroll reduction'!H463=\"Table 2\",\"\",'4 - Payroll reduction'!D463))","v":""},{"$f":"IF('4 - Payroll reduction'!C463=\"Name\",\"\",IF('4 - Payroll reduction'!H463=\"Table 2\",\"\",'4 - Payroll reduction'!E463))","v":""},{"$f":"IF('4 - Payroll reduction'!C463=\"Name\",\"\",IF('4 - Payroll reduction'!H463=\"Table 2\",\"\",'4 - Payroll reduction'!G463))","v":""},{"$f":"IF('4 - Payroll reduction'!C463=\"Name\",\"\",IF('4 - Payroll reduction'!H463=\"Table 2\",\"\",'4 - Payroll reduction'!F463))","v":""},373]
[{"$f":"IF('4 - Payroll reduction'!C464=\"Name\",\"\",IF('4 - Payroll reduction'!H464=\"Table 2\",\"\",'4 - Payroll reduction'!C464))","v":""},{"$f":"IF('4 - Payroll reduction'!C464=\"Name\",\"\",IF('4 - Payroll reduction'!H464=\"Table 2\",\"\",'4 - Payroll reduction'!D464))","v":""},{"$f":"IF('4 - Payroll reduction'!C464=\"Name\",\"\",IF('4 - Payroll reduction'!H464=\"Table 2\",\"\",'4 - Payroll reduction'!E464))","v":""},{"$f":"IF('4 - Payroll reduction'!C464=\"Name\",\"\",IF('4 - Payroll reduction'!H464=\"Table 2\",\"\",'4 - Payroll reduction'!G464))","v":""},{"$f":"IF('4 - Payroll reduction'!C464=\"Name\",\"\",IF('4 - Payroll reduction'!H464=\"Table 2\",\"\",'4 - Payroll reduction'!F464))","v":""},374]
[{"$f":"IF('4 - Payroll reduction'!C465=\"Name\",\"\",IF('4 - Payroll reduction'!H465=\"Table 2\",\"\",'4 - Payroll reduction'!C465))","v":""},{"$f":"IF('4 - Payroll reduction'!C465=\"Name\",\"\",IF('4 - Payroll reduction'!H465=\"Table 2\",\"\",'4 - Payroll reduction'!D465))","v":""},{"$f":"IF('4 - Payroll reduction'!C465=\"Name\",\"\",IF('4 - Payroll reduction'!H465=\"Table 2\",\"\",'4 - Payroll reduction'!E465))","v":""},{"$f":"IF('4 - Payroll reduction'!C465=\"Name\",\"\",IF('4 - Payroll reduction'!H465=\"Table 2\",\"\",'4 - Payroll reduction'!G465))","v":""},{"$f":"IF('4 - Payroll reduction'!C465=\"Name\",\"\",IF('4 - Payroll reduction'!H465=\"Table 2\",\"\",'4 - Payroll reduction'!F465))","v":""},375]
[{"$f":"IF('4 - Payroll reduction'!C466=\"Name\",\"\",IF('4 - Payroll reduction'!H466=\"Table 2\",\"\",'4 - Payroll reduction'!C466))","v":""},{"$f":"IF('4 - Payroll reduction'!C466=\"Name\",\"\",IF('4 - Payroll reduction'!H466=\"Table 2\",\"\",'4 - Payroll reduction'!D466))","v":""},{"$f":"IF('4 - Payroll reduction'!C466=\"Name\",\"\",IF('4 - Payroll reduction'!H466=\"Table 2\",\"\",'4 - Payroll reduction'!E466))","v":""},{"$f":"IF('4 - Payroll reduction'!C466=\"Name\",\"\",IF('4 - Payroll reduction'!H466=\"Table 2\",\"\",'4 - Payroll reduction'!G466))","v":""},{"$f":"IF('4 - Payroll reduction'!C466=\"Name\",\"\",IF('4 - Payroll reduction'!H466=\"Table 2\",\"\",'4 - Payroll reduction'!F466))","v":""},376]
[{"$f":"IF('4 - Payroll reduction'!C467=\"Name\",\"\",IF('4 - Payroll reduction'!H467=\"Table 2\",\"\",'4 - Payroll reduction'!C467))","v":""},{"$f":"IF('4 - Payroll reduction'!C467=\"Name\",\"\",IF('4 - Payroll reduction'!H467=\"Table 2\",\"\",'4 - Payroll reduction'!D467))","v":""},{"$f":"IF('4 - Payroll reduction'!C467=\"Name\",\"\",IF('4 - Payroll reduction'!H467=\"Table 2\",\"\",'4 - Payroll reduction'!E467))","v":""},{"$f":"IF('4 - Payroll reduction'!C467=\"Name\",\"\",IF('4 - Payroll reduction'!H467=\"Table 2\",\"\",'4 - Payroll reduction'!G467))","v":""},{"$f":"IF('4 - Payroll reduction'!C467=\"Name\",\"\",IF('4 - Payroll reduction'!H467=\"Table 2\",\"\",'4 - Payroll reduction'!F467))","v":""},377]
[{"$f":"IF('4 - Payroll reduction'!C468=\"Name\",\"\",IF('4 - Payroll reduction'!H468=\"Table 2\",\"\",'4 - Payroll reduction'!C468))","v":""},{"$f":"IF('4 - Payroll reduction'!C468=\"Name\",\"\",IF('4 - Payroll reduction'!H468=\"Table 2\",\"\",'4 - Payroll reduction'!D468))","v":""},{"$f":"IF('4 - Payroll reduction'!C468=\"Name\",\"\",IF('4 - Payroll reduction'!H468=\"Table 2\",\"\",'4 - Payroll reduction'!E468))","v":""},{"$f":"IF('4 - Payroll reduction'!C468=\"Name\",\"\",IF('4 - Payroll reduction'!H468=\"Table 2\",\"\",'4 - Payroll reduction'!G468))","v":""},{"$f":"IF('4 - Payroll reduction'!C468=\"Name\",\"\",IF('4 - Payroll reduction'!H468=\"Table 2\",\"\",'4 - Payroll reduction'!F468))","v":""},378]
[{"$f":"IF('4 - Payroll reduction'!C469=\"Name\",\"\",IF('4 - Payroll reduction'!H469=\"Table 2\",\"\",'4 - Payroll reduction'!C469))","v":""},{"$f":"IF('4 - Payroll reduction'!C469=\"Name\",\"\",IF('4 - Payroll reduction'!H469=\"Table 2\",\"\",'4 - Payroll reduction'!D469))","v":""},{"$f":"IF('4 - Payroll reduction'!C469=\"Name\",\"\",IF('4 - Payroll reduction'!H469=\"Table 2\",\"\",'4 - Payroll reduction'!E469))","v":""},{"$f":"IF('4 - Payroll reduction'!C469=\"Name\",\"\",IF('4 - Payroll reduction'!H469=\"Table 2\",\"\",'4 - Payroll reduction'!G469))","v":""},{"$f":"IF('4 - Payroll reduction'!C469=\"Name\",\"\",IF('4 - Payroll reduction'!H469=\"Table 2\",\"\",'4 - Payroll reduction'!F469))","v":""},379]
[{"$f":"IF('4 - Payroll reduction'!C470=\"Name\",\"\",IF('4 - Payroll reduction'!H470=\"Table 2\",\"\",'4 - Payroll reduction'!C470))","v":""},{"$f":"IF('4 - Payroll reduction'!C470=\"Name\",\"\",IF('4 - Payroll reduction'!H470=\"Table 2\",\"\",'4 - Payroll reduction'!D470))","v":""},{"$f":"IF('4 - Payroll reduction'!C470=\"Name\",\"\",IF('4 - Payroll reduction'!H470=\"Table 2\",\"\",'4 - Payroll reduction'!E470))","v":""},{"$f":"IF('4 - Payroll reduction'!C470=\"Name\",\"\",IF('4 - Payroll reduction'!H470=\"Table 2\",\"\",'4 - Payroll reduction'!G470))","v":""},{"$f":"IF('4 - Payroll reduction'!C470=\"Name\",\"\",IF('4 - Payroll reduction'!H470=\"Table 2\",\"\",'4 - Payroll reduction'!F470))","v":""},380]
[{"$f":"IF('4 - Payroll reduction'!C471=\"Name\",\"\",IF('4 - Payroll reduction'!H471=\"Table 2\",\"\",'4 - Payroll reduction'!C471))","v":""},{"$f":"IF('4 - Payroll reduction'!C471=\"Name\",\"\",IF('4 - Payroll reduction'!H471=\"Table 2\",\"\",'4 - Payroll reduction'!D471))","v":""},{"$f":"IF('4 - Payroll reduction'!C471=\"Name\",\"\",IF('4 - Payroll reduction'!H471=\"Table 2\",\"\",'4 - Payroll reduction'!E471))","v":""},{"$f":"IF('4 - Payroll reduction'!C471=\"Name\",\"\",IF('4 - Payroll reduction'!H471=\"Table 2\",\"\",'4 - Payroll reduction'!G471))","v":""},{"$f":"IF('4 - Payroll reduction'!C471=\"Name\",\"\",IF('4 - Payroll reduction'!H471=\"Table 2\",\"\",'4 - Payroll reduction'!F471))","v":""},381]
[{"$f":"IF('4 - Payroll reduction'!C472=\"Name\",\"\",IF('4 - Payroll reduction'!H472=\"Table 2\",\"\",'4 - Payroll reduction'!C472))","v":""},{"$f":"IF('4 - Payroll reduction'!C472=\"Name\",\"\",IF('4 - Payroll reduction'!H472=\"Table 2\",\"\",'4 - Payroll reduction'!D472))","v":""},{"$f":"IF('4 - Payroll reduction'!C472=\"Name\",\"\",IF('4 - Payroll reduction'!H472=\"Table 2\",\"\",'4 - Payroll reduction'!E472))","v":""},{"$f":"IF('4 - Payroll reduction'!C472=\"Name\",\"\",IF('4 - Payroll reduction'!H472=\"Table 2\",\"\",'4 - Payroll reduction'!G472))","v":""},{"$f":"IF('4 - Payroll reduction'!C472=\"Name\",\"\",IF('4 - Payroll reduction'!H472=\"Table 2\",\"\",'4 - Payroll reduction'!F472))","v":""},382]
[{"$f":"IF('4 - Payroll reduction'!C473=\"Name\",\"\",IF('4 - Payroll reduction'!H473=\"Table 2\",\"\",'4 - Payroll reduction'!C473))","v":""},{"$f":"IF('4 - Payroll reduction'!C473=\"Name\",\"\",IF('4 - Payroll reduction'!H473=\"Table 2\",\"\",'4 - Payroll reduction'!D473))","v":""},{"$f":"IF('4 - Payroll reduction'!C473=\"Name\",\"\",IF('4 - Payroll reduction'!H473=\"Table 2\",\"\",'4 - Payroll reduction'!E473))","v":""},{"$f":"IF('4 - Payroll reduction'!C473=\"Name\",\"\",IF('4 - Payroll reduction'!H473=\"Table 2\",\"\",'4 - Payroll reduction'!G473))","v":""},{"$f":"IF('4 - Payroll reduction'!C473=\"Name\",\"\",IF('4 - Payroll reduction'!H473=\"Table 2\",\"\",'4 - Payroll reduction'!F473))","v":""},383]
[{"$f":"IF('4 - Payroll reduction'!C474=\"Name\",\"\",IF('4 - Payroll reduction'!H474=\"Table 2\",\"\",'4 - Payroll reduction'!C474))","v":""},{"$f":"IF('4 - Payroll reduction'!C474=\"Name\",\"\",IF('4 - Payroll reduction'!H474=\"Table 2\",\"\",'4 - Payroll reduction'!D474))","v":""},{"$f":"IF('4 - Payroll reduction'!C474=\"Name\",\"\",IF('4 - Payroll reduction'!H474=\"Table 2\",\"\",'4 - Payroll reduction'!E474))","v":""},{"$f":"IF('4 - Payroll reduction'!C474=\"Name\",\"\",IF('4 - Payroll reduction'!H474=\"Table 2\",\"\",'4 - Payroll reduction'!G474))","v":""},{"$f":"IF('4 - Payroll reduction'!C474=\"Name\",\"\",IF('4 - Payroll reduction'!H474=\"Table 2\",\"\",'4 - Payroll reduction'!F474))","v":""},384]
[{"$f":"IF('4 - Payroll reduction'!C475=\"Name\",\"\",IF('4 - Payroll reduction'!H475=\"Table 2\",\"\",'4 - Payroll reduction'!C475))","v":""},{"$f":"IF('4 - Payroll reduction'!C475=\"Name\",\"\",IF('4 - Payroll reduction'!H475=\"Table 2\",\"\",'4 - Payroll reduction'!D475))","v":""},{"$f":"IF('4 - Payroll reduction'!C475=\"Name\",\"\",IF('4 - Payroll reduction'!H475=\"Table 2\",\"\",'4 - Payroll reduction'!E475))","v":""},{"$f":"IF('4 - Payroll reduction'!C475=\"Name\",\"\",IF('4 - Payroll reduction'!H475=\"Table 2\",\"\",'4 - Payroll reduction'!G475))","v":""},{"$f":"IF('4 - Payroll reduction'!C475=\"Name\",\"\",IF('4 - Payroll reduction'!H475=\"Table 2\",\"\",'4 - Payroll reduction'!F475))","v":""},385]
[{"$f":"IF('4 - Payroll reduction'!C476=\"Name\",\"\",IF('4 - Payroll reduction'!H476=\"Table 2\",\"\",'4 - Payroll reduction'!C476))","v":""},{"$f":"IF('4 - Payroll reduction'!C476=\"Name\",\"\",IF('4 - Payroll reduction'!H476=\"Table 2\",\"\",'4 - Payroll reduction'!D476))","v":""},{"$f":"IF('4 - Payroll reduction'!C476=\"Name\",\"\",IF('4 - Payroll reduction'!H476=\"Table 2\",\"\",'4 - Payroll reduction'!E476))","v":""},{"$f":"IF('4 - Payroll reduction'!C476=\"Name\",\"\",IF('4 - Payroll reduction'!H476=\"Table 2\",\"\",'4 - Payroll reduction'!G476))","v":""},{"$f":"IF('4 - Payroll reduction'!C476=\"Name\",\"\",IF('4 - Payroll reduction'!H476=\"Table 2\",\"\",'4 - Payroll reduction'!F476))","v":""},386]
[{"$f":"IF('4 - Payroll reduction'!C477=\"Name\",\"\",IF('4 - Payroll reduction'!H477=\"Table 2\",\"\",'4 - Payroll reduction'!C477))","v":""},{"$f":"IF('4 - Payroll reduction'!C477=\"Name\",\"\",IF('4 - Payroll reduction'!H477=\"Table 2\",\"\",'4 - Payroll reduction'!D477))","v":""},{"$f":"IF('4 - Payroll reduction'!C477=\"Name\",\"\",IF('4 - Payroll reduction'!H477=\"Table 2\",\"\",'4 - Payroll reduction'!E477))","v":""},{"$f":"IF('4 - Payroll reduction'!C477=\"Name\",\"\",IF('4 - Payroll reduction'!H477=\"Table 2\",\"\",'4 - Payroll reduction'!G477))","v":""},{"$f":"IF('4 - Payroll reduction'!C477=\"Name\",\"\",IF('4 - Payroll reduction'!H477=\"Table 2\",\"\",'4 - Payroll reduction'!F477))","v":""},{"$f":"F395+1","v":387}]
[{"$f":"IF('4 - Payroll reduction'!C478=\"Name\",\"\",IF('4 - Payroll reduction'!H478=\"Table 2\",\"\",'4 - Payroll reduction'!C478))","v":""},{"$f":"IF('4 - Payroll reduction'!C478=\"Name\",\"\",IF('4 - Payroll reduction'!H478=\"Table 2\",\"\",'4 - Payroll reduction'!D478))","v":""},{"$f":"IF('4 - Payroll reduction'!C478=\"Name\",\"\",IF('4 - Payroll reduction'!H478=\"Table 2\",\"\",'4 - Payroll reduction'!E478))","v":""},{"$f":"IF('4 - Payroll reduction'!C478=\"Name\",\"\",IF('4 - Payroll reduction'!H478=\"Table 2\",\"\",'4 - Payroll reduction'!G478))","v":""},{"$f":"IF('4 - Payroll reduction'!C478=\"Name\",\"\",IF('4 - Payroll reduction'!H478=\"Table 2\",\"\",'4 - Payroll reduction'!F478))","v":""},388]
[{"$f":"IF('4 - Payroll reduction'!C479=\"Name\",\"\",IF('4 - Payroll reduction'!H479=\"Table 2\",\"\",'4 - Payroll reduction'!C479))","v":""},{"$f":"IF('4 - Payroll reduction'!C479=\"Name\",\"\",IF('4 - Payroll reduction'!H479=\"Table 2\",\"\",'4 - Payroll reduction'!D479))","v":""},{"$f":"IF('4 - Payroll reduction'!C479=\"Name\",\"\",IF('4 - Payroll reduction'!H479=\"Table 2\",\"\",'4 - Payroll reduction'!E479))","v":""},{"$f":"IF('4 - Payroll reduction'!C479=\"Name\",\"\",IF('4 - Payroll reduction'!H479=\"Table 2\",\"\",'4 - Payroll reduction'!G479))","v":""},{"$f":"IF('4 - Payroll reduction'!C479=\"Name\",\"\",IF('4 - Payroll reduction'!H479=\"Table 2\",\"\",'4 - Payroll reduction'!F479))","v":""},389]
[{"$f":"IF('4 - Payroll reduction'!C480=\"Name\",\"\",IF('4 - Payroll reduction'!H480=\"Table 2\",\"\",'4 - Payroll reduction'!C480))","v":""},{"$f":"IF('4 - Payroll reduction'!C480=\"Name\",\"\",IF('4 - Payroll reduction'!H480=\"Table 2\",\"\",'4 - Payroll reduction'!D480))","v":""},{"$f":"IF('4 - Payroll reduction'!C480=\"Name\",\"\",IF('4 - Payroll reduction'!H480=\"Table 2\",\"\",'4 - Payroll reduction'!E480))","v":""},{"$f":"IF('4 - Payroll reduction'!C480=\"Name\",\"\",IF('4 - Payroll reduction'!H480=\"Table 2\",\"\",'4 - Payroll reduction'!G480))","v":""},{"$f":"IF('4 - Payroll reduction'!C480=\"Name\",\"\",IF('4 - Payroll reduction'!H480=\"Table 2\",\"\",'4 - Payroll reduction'!F480))","v":""},390]
[{"$f":"IF('4 - Payroll reduction'!C481=\"Name\",\"\",IF('4 - Payroll reduction'!H481=\"Table 2\",\"\",'4 - Payroll reduction'!C481))","v":""},{"$f":"IF('4 - Payroll reduction'!C481=\"Name\",\"\",IF('4 - Payroll reduction'!H481=\"Table 2\",\"\",'4 - Payroll reduction'!D481))","v":""},{"$f":"IF('4 - Payroll reduction'!C481=\"Name\",\"\",IF('4 - Payroll reduction'!H481=\"Table 2\",\"\",'4 - Payroll reduction'!E481))","v":""},{"$f":"IF('4 - Payroll reduction'!C481=\"Name\",\"\",IF('4 - Payroll reduction'!H481=\"Table 2\",\"\",'4 - Payroll reduction'!G481))","v":""},{"$f":"IF('4 - Payroll reduction'!C481=\"Name\",\"\",IF('4 - Payroll reduction'!H481=\"Table 2\",\"\",'4 - Payroll reduction'!F481))","v":""},391]
[{"$f":"IF('4 - Payroll reduction'!C482=\"Name\",\"\",IF('4 - Payroll reduction'!H482=\"Table 2\",\"\",'4 - Payroll reduction'!C482))","v":""},{"$f":"IF('4 - Payroll reduction'!C482=\"Name\",\"\",IF('4 - Payroll reduction'!H482=\"Table 2\",\"\",'4 - Payroll reduction'!D482))","v":""},{"$f":"IF('4 - Payroll reduction'!C482=\"Name\",\"\",IF('4 - Payroll reduction'!H482=\"Table 2\",\"\",'4 - Payroll reduction'!E482))","v":""},{"$f":"IF('4 - Payroll reduction'!C482=\"Name\",\"\",IF('4 - Payroll reduction'!H482=\"Table 2\",\"\",'4 - Payroll reduction'!G482))","v":""},{"$f":"IF('4 - Payroll reduction'!C482=\"Name\",\"\",IF('4 - Payroll reduction'!H482=\"Table 2\",\"\",'4 - Payroll reduction'!F482))","v":""},392]
[{"$f":"IF('4 - Payroll reduction'!C483=\"Name\",\"\",IF('4 - Payroll reduction'!H483=\"Table 2\",\"\",'4 - Payroll reduction'!C483))","v":""},{"$f":"IF('4 - Payroll reduction'!C483=\"Name\",\"\",IF('4 - Payroll reduction'!H483=\"Table 2\",\"\",'4 - Payroll reduction'!D483))","v":""},{"$f":"IF('4 - Payroll reduction'!C483=\"Name\",\"\",IF('4 - Payroll reduction'!H483=\"Table 2\",\"\",'4 - Payroll reduction'!E483))","v":""},{"$f":"IF('4 - Payroll reduction'!C483=\"Name\",\"\",IF('4 - Payroll reduction'!H483=\"Table 2\",\"\",'4 - Payroll reduction'!G483))","v":""},{"$f":"IF('4 - Payroll reduction'!C483=\"Name\",\"\",IF('4 - Payroll reduction'!H483=\"Table 2\",\"\",'4 - Payroll reduction'!F483))","v":""},393]
[{"$f":"IF('4 - Payroll reduction'!C484=\"Name\",\"\",IF('4 - Payroll reduction'!H484=\"Table 2\",\"\",'4 - Payroll reduction'!C484))","v":""},{"$f":"IF('4 - Payroll reduction'!C484=\"Name\",\"\",IF('4 - Payroll reduction'!H484=\"Table 2\",\"\",'4 - Payroll reduction'!D484))","v":""},{"$f":"IF('4 - Payroll reduction'!C484=\"Name\",\"\",IF('4 - Payroll reduction'!H484=\"Table 2\",\"\",'4 - Payroll reduction'!E484))","v":""},{"$f":"IF('4 - Payroll reduction'!C484=\"Name\",\"\",IF('4 - Payroll reduction'!H484=\"Table 2\",\"\",'4 - Payroll reduction'!G484))","v":""},{"$f":"IF('4 - Payroll reduction'!C484=\"Name\",\"\",IF('4 - Payroll reduction'!H484=\"Table 2\",\"\",'4 - Payroll reduction'!F484))","v":""},394]
[{"$f":"IF('4 - Payroll reduction'!C485=\"Name\",\"\",IF('4 - Payroll reduction'!H485=\"Table 2\",\"\",'4 - Payroll reduction'!C485))","v":""},{"$f":"IF('4 - Payroll reduction'!C485=\"Name\",\"\",IF('4 - Payroll reduction'!H485=\"Table 2\",\"\",'4 - Payroll reduction'!D485))","v":""},{"$f":"IF('4 - Payroll reduction'!C485=\"Name\",\"\",IF('4 - Payroll reduction'!H485=\"Table 2\",\"\",'4 - Payroll reduction'!E485))","v":""},{"$f":"IF('4 - Payroll reduction'!C485=\"Name\",\"\",IF('4 - Payroll reduction'!H485=\"Table 2\",\"\",'4 - Payroll reduction'!G485))","v":""},{"$f":"IF('4 - Payroll reduction'!C485=\"Name\",\"\",IF('4 - Payroll reduction'!H485=\"Table 2\",\"\",'4 - Payroll reduction'!F485))","v":""},395]
[{"$f":"IF('4 - Payroll reduction'!C486=\"Name\",\"\",IF('4 - Payroll reduction'!H486=\"Table 2\",\"\",'4 - Payroll reduction'!C486))","v":""},{"$f":"IF('4 - Payroll reduction'!C486=\"Name\",\"\",IF('4 - Payroll reduction'!H486=\"Table 2\",\"\",'4 - Payroll reduction'!D486))","v":""},{"$f":"IF('4 - Payroll reduction'!C486=\"Name\",\"\",IF('4 - Payroll reduction'!H486=\"Table 2\",\"\",'4 - Payroll reduction'!E486))","v":""},{"$f":"IF('4 - Payroll reduction'!C486=\"Name\",\"\",IF('4 - Payroll reduction'!H486=\"Table 2\",\"\",'4 - Payroll reduction'!G486))","v":""},{"$f":"IF('4 - Payroll reduction'!C486=\"Name\",\"\",IF('4 - Payroll reduction'!H486=\"Table 2\",\"\",'4 - Payroll reduction'!F486))","v":""},396]
[{"$f":"IF('4 - Payroll reduction'!C487=\"Name\",\"\",IF('4 - Payroll reduction'!H487=\"Table 2\",\"\",'4 - Payroll reduction'!C487))","v":""},{"$f":"IF('4 - Payroll reduction'!C487=\"Name\",\"\",IF('4 - Payroll reduction'!H487=\"Table 2\",\"\",'4 - Payroll reduction'!D487))","v":""},{"$f":"IF('4 - Payroll reduction'!C487=\"Name\",\"\",IF('4 - Payroll reduction'!H487=\"Table 2\",\"\",'4 - Payroll reduction'!E487))","v":""},{"$f":"IF('4 - Payroll reduction'!C487=\"Name\",\"\",IF('4 - Payroll reduction'!H487=\"Table 2\",\"\",'4 - Payroll reduction'!G487))","v":""},{"$f":"IF('4 - Payroll reduction'!C487=\"Name\",\"\",IF('4 - Payroll reduction'!H487=\"Table 2\",\"\",'4 - Payroll reduction'!F487))","v":""},397]
[{"$f":"IF('4 - Payroll reduction'!C488=\"Name\",\"\",IF('4 - Payroll reduction'!H488=\"Table 2\",\"\",'4 - Payroll reduction'!C488))","v":""},{"$f":"IF('4 - Payroll reduction'!C488=\"Name\",\"\",IF('4 - Payroll reduction'!H488=\"Table 2\",\"\",'4 - Payroll reduction'!D488))","v":""},{"$f":"IF('4 - Payroll reduction'!C488=\"Name\",\"\",IF('4 - Payroll reduction'!H488=\"Table 2\",\"\",'4 - Payroll reduction'!E488))","v":""},{"$f":"IF('4 - Payroll reduction'!C488=\"Name\",\"\",IF('4 - Payroll reduction'!H488=\"Table 2\",\"\",'4 - Payroll reduction'!G488))","v":""},{"$f":"IF('4 - Payroll reduction'!C488=\"Name\",\"\",IF('4 - Payroll reduction'!H488=\"Table 2\",\"\",'4 - Payroll reduction'!F488))","v":""},398]
[{"$f":"IF('4 - Payroll reduction'!C489=\"Name\",\"\",IF('4 - Payroll reduction'!H489=\"Table 2\",\"\",'4 - Payroll reduction'!C489))","v":""},{"$f":"IF('4 - Payroll reduction'!C489=\"Name\",\"\",IF('4 - Payroll reduction'!H489=\"Table 2\",\"\",'4 - Payroll reduction'!D489))","v":""},{"$f":"IF('4 - Payroll reduction'!C489=\"Name\",\"\",IF('4 - Payroll reduction'!H489=\"Table 2\",\"\",'4 - Payroll reduction'!E489))","v":""},{"$f":"IF('4 - Payroll reduction'!C489=\"Name\",\"\",IF('4 - Payroll reduction'!H489=\"Table 2\",\"\",'4 - Payroll reduction'!G489))","v":""},{"$f":"IF('4 - Payroll reduction'!C489=\"Name\",\"\",IF('4 - Payroll reduction'!H489=\"Table 2\",\"\",'4 - Payroll reduction'!F489))","v":""},399]
[{"$f":"IF('4 - Payroll reduction'!C490=\"Name\",\"\",IF('4 - Payroll reduction'!H490=\"Table 2\",\"\",'4 - Payroll reduction'!C490))","v":""},{"$f":"IF('4 - Payroll reduction'!C490=\"Name\",\"\",IF('4 - Payroll reduction'!H490=\"Table 2\",\"\",'4 - Payroll reduction'!D490))","v":""},{"$f":"IF('4 - Payroll reduction'!C490=\"Name\",\"\",IF('4 - Payroll reduction'!H490=\"Table 2\",\"\",'4 - Payroll reduction'!E490))","v":""},{"$f":"IF('4 - Payroll reduction'!C490=\"Name\",\"\",IF('4 - Payroll reduction'!H490=\"Table 2\",\"\",'4 - Payroll reduction'!G490))","v":""},{"$f":"IF('4 - Payroll reduction'!C490=\"Name\",\"\",IF('4 - Payroll reduction'!H490=\"Table 2\",\"\",'4 - Payroll reduction'!F490))","v":""},400]
[{"$f":"IF('4 - Payroll reduction'!C491=\"Name\",\"\",IF('4 - Payroll reduction'!H491=\"Table 2\",\"\",'4 - Payroll reduction'!C491))","v":""},{"$f":"IF('4 - Payroll reduction'!C491=\"Name\",\"\",IF('4 - Payroll reduction'!H491=\"Table 2\",\"\",'4 - Payroll reduction'!D491))","v":""},{"$f":"IF('4 - Payroll reduction'!C491=\"Name\",\"\",IF('4 - Payroll reduction'!H491=\"Table 2\",\"\",'4 - Payroll reduction'!E491))","v":""},{"$f":"IF('4 - Payroll reduction'!C491=\"Name\",\"\",IF('4 - Payroll reduction'!H491=\"Table 2\",\"\",'4 - Payroll reduction'!G491))","v":""},{"$f":"IF('4 - Payroll reduction'!C491=\"Name\",\"\",IF('4 - Payroll reduction'!H491=\"Table 2\",\"\",'4 - Payroll reduction'!F491))","v":""},401]
[{"$f":"IF('4 - Payroll reduction'!C492=\"Name\",\"\",IF('4 - Payroll reduction'!H492=\"Table 2\",\"\",'4 - Payroll reduction'!C492))","v":""},{"$f":"IF('4 - Payroll reduction'!C492=\"Name\",\"\",IF('4 - Payroll reduction'!H492=\"Table 2\",\"\",'4 - Payroll reduction'!D492))","v":""},{"$f":"IF('4 - Payroll reduction'!C492=\"Name\",\"\",IF('4 - Payroll reduction'!H492=\"Table 2\",\"\",'4 - Payroll reduction'!E492))","v":""},{"$f":"IF('4 - Payroll reduction'!C492=\"Name\",\"\",IF('4 - Payroll reduction'!H492=\"Table 2\",\"\",'4 - Payroll reduction'!G492))","v":""},{"$f":"IF('4 - Payroll reduction'!C492=\"Name\",\"\",IF('4 - Payroll reduction'!H492=\"Table 2\",\"\",'4 - Payroll reduction'!F492))","v":""},402]
[{"$f":"IF('4 - Payroll reduction'!C493=\"Name\",\"\",IF('4 - Payroll reduction'!H493=\"Table 2\",\"\",'4 - Payroll reduction'!C493))","v":""},{"$f":"IF('4 - Payroll reduction'!C493=\"Name\",\"\",IF('4 - Payroll reduction'!H493=\"Table 2\",\"\",'4 - Payroll reduction'!D493))","v":""},{"$f":"IF('4 - Payroll reduction'!C493=\"Name\",\"\",IF('4 - Payroll reduction'!H493=\"Table 2\",\"\",'4 - Payroll reduction'!E493))","v":""},{"$f":"IF('4 - Payroll reduction'!C493=\"Name\",\"\",IF('4 - Payroll reduction'!H493=\"Table 2\",\"\",'4 - Payroll reduction'!G493))","v":""},{"$f":"IF('4 - Payroll reduction'!C493=\"Name\",\"\",IF('4 - Payroll reduction'!H493=\"Table 2\",\"\",'4 - Payroll reduction'!F493))","v":""},403]
[{"$f":"IF('4 - Payroll reduction'!C494=\"Name\",\"\",IF('4 - Payroll reduction'!H494=\"Table 2\",\"\",'4 - Payroll reduction'!C494))","v":""},{"$f":"IF('4 - Payroll reduction'!C494=\"Name\",\"\",IF('4 - Payroll reduction'!H494=\"Table 2\",\"\",'4 - Payroll reduction'!D494))","v":""},{"$f":"IF('4 - Payroll reduction'!C494=\"Name\",\"\",IF('4 - Payroll reduction'!H494=\"Table 2\",\"\",'4 - Payroll reduction'!E494))","v":""},{"$f":"IF('4 - Payroll reduction'!C494=\"Name\",\"\",IF('4 - Payroll reduction'!H494=\"Table 2\",\"\",'4 - Payroll reduction'!G494))","v":""},{"$f":"IF('4 - Payroll reduction'!C494=\"Name\",\"\",IF('4 - Payroll reduction'!H494=\"Table 2\",\"\",'4 - Payroll reduction'!F494))","v":""},404]
[{"$f":"IF('4 - Payroll reduction'!C495=\"Name\",\"\",IF('4 - Payroll reduction'!H495=\"Table 2\",\"\",'4 - Payroll reduction'!C495))","v":""},{"$f":"IF('4 - Payroll reduction'!C495=\"Name\",\"\",IF('4 - Payroll reduction'!H495=\"Table 2\",\"\",'4 - Payroll reduction'!D495))","v":""},{"$f":"IF('4 - Payroll reduction'!C495=\"Name\",\"\",IF('4 - Payroll reduction'!H495=\"Table 2\",\"\",'4 - Payroll reduction'!E495))","v":""},{"$f":"IF('4 - Payroll reduction'!C495=\"Name\",\"\",IF('4 - Payroll reduction'!H495=\"Table 2\",\"\",'4 - Payroll reduction'!G495))","v":""},{"$f":"IF('4 - Payroll reduction'!C495=\"Name\",\"\",IF('4 - Payroll reduction'!H495=\"Table 2\",\"\",'4 - Payroll reduction'!F495))","v":""},405]
[{"$f":"IF('4 - Payroll reduction'!C496=\"Name\",\"\",IF('4 - Payroll reduction'!H496=\"Table 2\",\"\",'4 - Payroll reduction'!C496))","v":""},{"$f":"IF('4 - Payroll reduction'!C496=\"Name\",\"\",IF('4 - Payroll reduction'!H496=\"Table 2\",\"\",'4 - Payroll reduction'!D496))","v":""},{"$f":"IF('4 - Payroll reduction'!C496=\"Name\",\"\",IF('4 - Payroll reduction'!H496=\"Table 2\",\"\",'4 - Payroll reduction'!E496))","v":""},{"$f":"IF('4 - Payroll reduction'!C496=\"Name\",\"\",IF('4 - Payroll reduction'!H496=\"Table 2\",\"\",'4 - Payroll reduction'!G496))","v":""},{"$f":"IF('4 - Payroll reduction'!C496=\"Name\",\"\",IF('4 - Payroll reduction'!H496=\"Table 2\",\"\",'4 - Payroll reduction'!F496))","v":""},406]
[{"$f":"IF('4 - Payroll reduction'!C497=\"Name\",\"\",IF('4 - Payroll reduction'!H497=\"Table 2\",\"\",'4 - Payroll reduction'!C497))","v":""},{"$f":"IF('4 - Payroll reduction'!C497=\"Name\",\"\",IF('4 - Payroll reduction'!H497=\"Table 2\",\"\",'4 - Payroll reduction'!D497))","v":""},{"$f":"IF('4 - Payroll reduction'!C497=\"Name\",\"\",IF('4 - Payroll reduction'!H497=\"Table 2\",\"\",'4 - Payroll reduction'!E497))","v":""},{"$f":"IF('4 - Payroll reduction'!C497=\"Name\",\"\",IF('4 - Payroll reduction'!H497=\"Table 2\",\"\",'4 - Payroll reduction'!G497))","v":""},{"$f":"IF('4 - Payroll reduction'!C497=\"Name\",\"\",IF('4 - Payroll reduction'!H497=\"Table 2\",\"\",'4 - Payroll reduction'!F497))","v":""},407]
[{"$f":"IF('4 - Payroll reduction'!C498=\"Name\",\"\",IF('4 - Payroll reduction'!H498=\"Table 2\",\"\",'4 - Payroll reduction'!C498))","v":""},{"$f":"IF('4 - Payroll reduction'!C498=\"Name\",\"\",IF('4 - Payroll reduction'!H498=\"Table 2\",\"\",'4 - Payroll reduction'!D498))","v":""},{"$f":"IF('4 - Payroll reduction'!C498=\"Name\",\"\",IF('4 - Payroll reduction'!H498=\"Table 2\",\"\",'4 - Payroll reduction'!E498))","v":""},{"$f":"IF('4 - Payroll reduction'!C498=\"Name\",\"\",IF('4 - Payroll reduction'!H498=\"Table 2\",\"\",'4 - Payroll reduction'!G498))","v":""},{"$f":"IF('4 - Payroll reduction'!C498=\"Name\",\"\",IF('4 - Payroll reduction'!H498=\"Table 2\",\"\",'4 - Payroll reduction'!F498))","v":""},408]
[{"$f":"IF('4 - Payroll reduction'!C499=\"Name\",\"\",IF('4 - Payroll reduction'!H499=\"Table 2\",\"\",'4 - Payroll reduction'!C499))","v":""},{"$f":"IF('4 - Payroll reduction'!C499=\"Name\",\"\",IF('4 - Payroll reduction'!H499=\"Table 2\",\"\",'4 - Payroll reduction'!D499))","v":""},{"$f":"IF('4 - Payroll reduction'!C499=\"Name\",\"\",IF('4 - Payroll reduction'!H499=\"Table 2\",\"\",'4 - Payroll reduction'!E499))","v":""},{"$f":"IF('4 - Payroll reduction'!C499=\"Name\",\"\",IF('4 - Payroll reduction'!H499=\"Table 2\",\"\",'4 - Payroll reduction'!G499))","v":""},{"$f":"IF('4 - Payroll reduction'!C499=\"Name\",\"\",IF('4 - Payroll reduction'!H499=\"Table 2\",\"\",'4 - Payroll reduction'!F499))","v":""},409]
[{"$f":"IF('4 - Payroll reduction'!C500=\"Name\",\"\",IF('4 - Payroll reduction'!H500=\"Table 2\",\"\",'4 - Payroll reduction'!C500))","v":""},{"$f":"IF('4 - Payroll reduction'!C500=\"Name\",\"\",IF('4 - Payroll reduction'!H500=\"Table 2\",\"\",'4 - Payroll reduction'!D500))","v":""},{"$f":"IF('4 - Payroll reduction'!C500=\"Name\",\"\",IF('4 - Payroll reduction'!H500=\"Table 2\",\"\",'4 - Payroll reduction'!E500))","v":""},{"$f":"IF('4 - Payroll reduction'!C500=\"Name\",\"\",IF('4 - Payroll reduction'!H500=\"Table 2\",\"\",'4 - Payroll reduction'!G500))","v":""},{"$f":"IF('4 - Payroll reduction'!C500=\"Name\",\"\",IF('4 - Payroll reduction'!H500=\"Table 2\",\"\",'4 - Payroll reduction'!F500))","v":""},410]
[{"$f":"IF('4 - Payroll reduction'!C501=\"Name\",\"\",IF('4 - Payroll reduction'!H501=\"Table 2\",\"\",'4 - Payroll reduction'!C501))","v":""},{"$f":"IF('4 - Payroll reduction'!C501=\"Name\",\"\",IF('4 - Payroll reduction'!H501=\"Table 2\",\"\",'4 - Payroll reduction'!D501))","v":""},{"$f":"IF('4 - Payroll reduction'!C501=\"Name\",\"\",IF('4 - Payroll reduction'!H501=\"Table 2\",\"\",'4 - Payroll reduction'!E501))","v":""},{"$f":"IF('4 - Payroll reduction'!C501=\"Name\",\"\",IF('4 - Payroll reduction'!H501=\"Table 2\",\"\",'4 - Payroll reduction'!G501))","v":""},{"$f":"IF('4 - Payroll reduction'!C501=\"Name\",\"\",IF('4 - Payroll reduction'!H501=\"Table 2\",\"\",'4 - Payroll reduction'!F501))","v":""},411]
[{"$f":"IF('4 - Payroll reduction'!C502=\"Name\",\"\",IF('4 - Payroll reduction'!H502=\"Table 2\",\"\",'4 - Payroll reduction'!C502))","v":""},{"$f":"IF('4 - Payroll reduction'!C502=\"Name\",\"\",IF('4 - Payroll reduction'!H502=\"Table 2\",\"\",'4 - Payroll reduction'!D502))","v":""},{"$f":"IF('4 - Payroll reduction'!C502=\"Name\",\"\",IF('4 - Payroll reduction'!H502=\"Table 2\",\"\",'4 - Payroll reduction'!E502))","v":""},{"$f":"IF('4 - Payroll reduction'!C502=\"Name\",\"\",IF('4 - Payroll reduction'!H502=\"Table 2\",\"\",'4 - Payroll reduction'!G502))","v":""},{"$f":"IF('4 - Payroll reduction'!C502=\"Name\",\"\",IF('4 - Payroll reduction'!H502=\"Table 2\",\"\",'4 - Payroll reduction'!F502))","v":""},412]
[{"$f":"IF('4 - Payroll reduction'!C503=\"Name\",\"\",IF('4 - Payroll reduction'!H503=\"Table 2\",\"\",'4 - Payroll reduction'!C503))","v":""},{"$f":"IF('4 - Payroll reduction'!C503=\"Name\",\"\",IF('4 - Payroll reduction'!H503=\"Table 2\",\"\",'4 - Payroll reduction'!D503))","v":""},{"$f":"IF('4 - Payroll reduction'!C503=\"Name\",\"\",IF('4 - Payroll reduction'!H503=\"Table 2\",\"\",'4 - Payroll reduction'!E503))","v":""},{"$f":"IF('4 - Payroll reduction'!C503=\"Name\",\"\",IF('4 - Payroll reduction'!H503=\"Table 2\",\"\",'4 - Payroll reduction'!G503))","v":""},{"$f":"IF('4 - Payroll reduction'!C503=\"Name\",\"\",IF('4 - Payroll reduction'!H503=\"Table 2\",\"\",'4 - Payroll reduction'!F503))","v":""},413]
[{"$f":"IF('4 - Payroll reduction'!C504=\"Name\",\"\",IF('4 - Payroll reduction'!H504=\"Table 2\",\"\",'4 - Payroll reduction'!C504))","v":""},{"$f":"IF('4 - Payroll reduction'!C504=\"Name\",\"\",IF('4 - Payroll reduction'!H504=\"Table 2\",\"\",'4 - Payroll reduction'!D504))","v":""},{"$f":"IF('4 - Payroll reduction'!C504=\"Name\",\"\",IF('4 - Payroll reduction'!H504=\"Table 2\",\"\",'4 - Payroll reduction'!E504))","v":""},{"$f":"IF('4 - Payroll reduction'!C504=\"Name\",\"\",IF('4 - Payroll reduction'!H504=\"Table 2\",\"\",'4 - Payroll reduction'!G504))","v":""},{"$f":"IF('4 - Payroll reduction'!C504=\"Name\",\"\",IF('4 - Payroll reduction'!H504=\"Table 2\",\"\",'4 - Payroll reduction'!F504))","v":""},414]
[{"$f":"IF('4 - Payroll reduction'!C505=\"Name\",\"\",IF('4 - Payroll reduction'!H505=\"Table 2\",\"\",'4 - Payroll reduction'!C505))","v":""},{"$f":"IF('4 - Payroll reduction'!C505=\"Name\",\"\",IF('4 - Payroll reduction'!H505=\"Table 2\",\"\",'4 - Payroll reduction'!D505))","v":""},{"$f":"IF('4 - Payroll reduction'!C505=\"Name\",\"\",IF('4 - Payroll reduction'!H505=\"Table 2\",\"\",'4 - Payroll reduction'!E505))","v":""},{"$f":"IF('4 - Payroll reduction'!C505=\"Name\",\"\",IF('4 - Payroll reduction'!H505=\"Table 2\",\"\",'4 - Payroll reduction'!G505))","v":""},{"$f":"IF('4 - Payroll reduction'!C505=\"Name\",\"\",IF('4 - Payroll reduction'!H505=\"Table 2\",\"\",'4 - Payroll reduction'!F505))","v":""},415]
[{"$f":"IF('4 - Payroll reduction'!C506=\"Name\",\"\",IF('4 - Payroll reduction'!H506=\"Table 2\",\"\",'4 - Payroll reduction'!C506))","v":""},{"$f":"IF('4 - Payroll reduction'!C506=\"Name\",\"\",IF('4 - Payroll reduction'!H506=\"Table 2\",\"\",'4 - Payroll reduction'!D506))","v":""},{"$f":"IF('4 - Payroll reduction'!C506=\"Name\",\"\",IF('4 - Payroll reduction'!H506=\"Table 2\",\"\",'4 - Payroll reduction'!E506))","v":""},{"$f":"IF('4 - Payroll reduction'!C506=\"Name\",\"\",IF('4 - Payroll reduction'!H506=\"Table 2\",\"\",'4 - Payroll reduction'!G506))","v":""},{"$f":"IF('4 - Payroll reduction'!C506=\"Name\",\"\",IF('4 - Payroll reduction'!H506=\"Table 2\",\"\",'4 - Payroll reduction'!F506))","v":""},416]
[{"$f":"IF('4 - Payroll reduction'!C507=\"Name\",\"\",IF('4 - Payroll reduction'!H507=\"Table 2\",\"\",'4 - Payroll reduction'!C507))","v":""},{"$f":"IF('4 - Payroll reduction'!C507=\"Name\",\"\",IF('4 - Payroll reduction'!H507=\"Table 2\",\"\",'4 - Payroll reduction'!D507))","v":""},{"$f":"IF('4 - Payroll reduction'!C507=\"Name\",\"\",IF('4 - Payroll reduction'!H507=\"Table 2\",\"\",'4 - Payroll reduction'!E507))","v":""},{"$f":"IF('4 - Payroll reduction'!C507=\"Name\",\"\",IF('4 - Payroll reduction'!H507=\"Table 2\",\"\",'4 - Payroll reduction'!G507))","v":""},{"$f":"IF('4 - Payroll reduction'!C507=\"Name\",\"\",IF('4 - Payroll reduction'!H507=\"Table 2\",\"\",'4 - Payroll reduction'!F507))","v":""},417]
[{"$f":"IF('4 - Payroll reduction'!C508=\"Name\",\"\",IF('4 - Payroll reduction'!H508=\"Table 2\",\"\",'4 - Payroll reduction'!C508))","v":""},{"$f":"IF('4 - Payroll reduction'!C508=\"Name\",\"\",IF('4 - Payroll reduction'!H508=\"Table 2\",\"\",'4 - Payroll reduction'!D508))","v":""},{"$f":"IF('4 - Payroll reduction'!C508=\"Name\",\"\",IF('4 - Payroll reduction'!H508=\"Table 2\",\"\",'4 - Payroll reduction'!E508))","v":""},{"$f":"IF('4 - Payroll reduction'!C508=\"Name\",\"\",IF('4 - Payroll reduction'!H508=\"Table 2\",\"\",'4 - Payroll reduction'!G508))","v":""},{"$f":"IF('4 - Payroll reduction'!C508=\"Name\",\"\",IF('4 - Payroll reduction'!H508=\"Table 2\",\"\",'4 - Payroll reduction'!F508))","v":""},418]
[{"$f":"IF('4 - Payroll reduction'!C509=\"Name\",\"\",IF('4 - Payroll reduction'!H509=\"Table 2\",\"\",'4 - Payroll reduction'!C509))","v":""},{"$f":"IF('4 - Payroll reduction'!C509=\"Name\",\"\",IF('4 - Payroll reduction'!H509=\"Table 2\",\"\",'4 - Payroll reduction'!D509))","v":""},{"$f":"IF('4 - Payroll reduction'!C509=\"Name\",\"\",IF('4 - Payroll reduction'!H509=\"Table 2\",\"\",'4 - Payroll reduction'!E509))","v":""},{"$f":"IF('4 - Payroll reduction'!C509=\"Name\",\"\",IF('4 - Payroll reduction'!H509=\"Table 2\",\"\",'4 - Payroll reduction'!G509))","v":""},{"$f":"IF('4 - Payroll reduction'!C509=\"Name\",\"\",IF('4 - Payroll reduction'!H509=\"Table 2\",\"\",'4 - Payroll reduction'!F509))","v":""},419]
[{"$f":"IF('4 - Payroll reduction'!C510=\"Name\",\"\",IF('4 - Payroll reduction'!H510=\"Table 2\",\"\",'4 - Payroll reduction'!C510))","v":""},{"$f":"IF('4 - Payroll reduction'!C510=\"Name\",\"\",IF('4 - Payroll reduction'!H510=\"Table 2\",\"\",'4 - Payroll reduction'!D510))","v":""},{"$f":"IF('4 - Payroll reduction'!C510=\"Name\",\"\",IF('4 - Payroll reduction'!H510=\"Table 2\",\"\",'4 - Payroll reduction'!E510))","v":""},{"$f":"IF('4 - Payroll reduction'!C510=\"Name\",\"\",IF('4 - Payroll reduction'!H510=\"Table 2\",\"\",'4 - Payroll reduction'!G510))","v":""},{"$f":"IF('4 - Payroll reduction'!C510=\"Name\",\"\",IF('4 - Payroll reduction'!H510=\"Table 2\",\"\",'4 - Payroll reduction'!F510))","v":""},420]
[{"$f":"IF('4 - Payroll reduction'!C511=\"Name\",\"\",IF('4 - Payroll reduction'!H511=\"Table 2\",\"\",'4 - Payroll reduction'!C511))","v":""},{"$f":"IF('4 - Payroll reduction'!C511=\"Name\",\"\",IF('4 - Payroll reduction'!H511=\"Table 2\",\"\",'4 - Payroll reduction'!D511))","v":""},{"$f":"IF('4 - Payroll reduction'!C511=\"Name\",\"\",IF('4 - Payroll reduction'!H511=\"Table 2\",\"\",'4 - Payroll reduction'!E511))","v":""},{"$f":"IF('4 - Payroll reduction'!C511=\"Name\",\"\",IF('4 - Payroll reduction'!H511=\"Table 2\",\"\",'4 - Payroll reduction'!G511))","v":""},{"$f":"IF('4 - Payroll reduction'!C511=\"Name\",\"\",IF('4 - Payroll reduction'!H511=\"Table 2\",\"\",'4 - Payroll reduction'!F511))","v":""},421]
[{"$f":"IF('4 - Payroll reduction'!C512=\"Name\",\"\",IF('4 - Payroll reduction'!H512=\"Table 2\",\"\",'4 - Payroll reduction'!C512))","v":""},{"$f":"IF('4 - Payroll reduction'!C512=\"Name\",\"\",IF('4 - Payroll reduction'!H512=\"Table 2\",\"\",'4 - Payroll reduction'!D512))","v":""},{"$f":"IF('4 - Payroll reduction'!C512=\"Name\",\"\",IF('4 - Payroll reduction'!H512=\"Table 2\",\"\",'4 - Payroll reduction'!E512))","v":""},{"$f":"IF('4 - Payroll reduction'!C512=\"Name\",\"\",IF('4 - Payroll reduction'!H512=\"Table 2\",\"\",'4 - Payroll reduction'!G512))","v":""},{"$f":"IF('4 - Payroll reduction'!C512=\"Name\",\"\",IF('4 - Payroll reduction'!H512=\"Table 2\",\"\",'4 - Payroll reduction'!F512))","v":""},422]
[{"$f":"IF('4 - Payroll reduction'!C513=\"Name\",\"\",IF('4 - Payroll reduction'!H513=\"Table 2\",\"\",'4 - Payroll reduction'!C513))","v":""},{"$f":"IF('4 - Payroll reduction'!C513=\"Name\",\"\",IF('4 - Payroll reduction'!H513=\"Table 2\",\"\",'4 - Payroll reduction'!D513))","v":""},{"$f":"IF('4 - Payroll reduction'!C513=\"Name\",\"\",IF('4 - Payroll reduction'!H513=\"Table 2\",\"\",'4 - Payroll reduction'!E513))","v":""},{"$f":"IF('4 - Payroll reduction'!C513=\"Name\",\"\",IF('4 - Payroll reduction'!H513=\"Table 2\",\"\",'4 - Payroll reduction'!G513))","v":""},{"$f":"IF('4 - Payroll reduction'!C513=\"Name\",\"\",IF('4 - Payroll reduction'!H513=\"Table 2\",\"\",'4 - Payroll reduction'!F513))","v":""},423]
[{"$f":"IF('4 - Payroll reduction'!C514=\"Name\",\"\",IF('4 - Payroll reduction'!H514=\"Table 2\",\"\",'4 - Payroll reduction'!C514))","v":""},{"$f":"IF('4 - Payroll reduction'!C514=\"Name\",\"\",IF('4 - Payroll reduction'!H514=\"Table 2\",\"\",'4 - Payroll reduction'!D514))","v":""},{"$f":"IF('4 - Payroll reduction'!C514=\"Name\",\"\",IF('4 - Payroll reduction'!H514=\"Table 2\",\"\",'4 - Payroll reduction'!E514))","v":""},{"$f":"IF('4 - Payroll reduction'!C514=\"Name\",\"\",IF('4 - Payroll reduction'!H514=\"Table 2\",\"\",'4 - Payroll reduction'!G514))","v":""},{"$f":"IF('4 - Payroll reduction'!C514=\"Name\",\"\",IF('4 - Payroll reduction'!H514=\"Table 2\",\"\",'4 - Payroll reduction'!F514))","v":""},424]
[{"$f":"IF('4 - Payroll reduction'!C515=\"Name\",\"\",IF('4 - Payroll reduction'!H515=\"Table 2\",\"\",'4 - Payroll reduction'!C515))","v":""},{"$f":"IF('4 - Payroll reduction'!C515=\"Name\",\"\",IF('4 - Payroll reduction'!H515=\"Table 2\",\"\",'4 - Payroll reduction'!D515))","v":""},{"$f":"IF('4 - Payroll reduction'!C515=\"Name\",\"\",IF('4 - Payroll reduction'!H515=\"Table 2\",\"\",'4 - Payroll reduction'!E515))","v":""},{"$f":"IF('4 - Payroll reduction'!C515=\"Name\",\"\",IF('4 - Payroll reduction'!H515=\"Table 2\",\"\",'4 - Payroll reduction'!G515))","v":""},{"$f":"IF('4 - Payroll reduction'!C515=\"Name\",\"\",IF('4 - Payroll reduction'!H515=\"Table 2\",\"\",'4 - Payroll reduction'!F515))","v":""},425]
[{"$f":"IF('4 - Payroll reduction'!C516=\"Name\",\"\",IF('4 - Payroll reduction'!H516=\"Table 2\",\"\",'4 - Payroll reduction'!C516))","v":""},{"$f":"IF('4 - Payroll reduction'!C516=\"Name\",\"\",IF('4 - Payroll reduction'!H516=\"Table 2\",\"\",'4 - Payroll reduction'!D516))","v":""},{"$f":"IF('4 - Payroll reduction'!C516=\"Name\",\"\",IF('4 - Payroll reduction'!H516=\"Table 2\",\"\",'4 - Payroll reduction'!E516))","v":""},{"$f":"IF('4 - Payroll reduction'!C516=\"Name\",\"\",IF('4 - Payroll reduction'!H516=\"Table 2\",\"\",'4 - Payroll reduction'!G516))","v":""},{"$f":"IF('4 - Payroll reduction'!C516=\"Name\",\"\",IF('4 - Payroll reduction'!H516=\"Table 2\",\"\",'4 - Payroll reduction'!F516))","v":""},426]
[{"$f":"IF('4 - Payroll reduction'!C517=\"Name\",\"\",IF('4 - Payroll reduction'!H517=\"Table 2\",\"\",'4 - Payroll reduction'!C517))","v":""},{"$f":"IF('4 - Payroll reduction'!C517=\"Name\",\"\",IF('4 - Payroll reduction'!H517=\"Table 2\",\"\",'4 - Payroll reduction'!D517))","v":""},{"$f":"IF('4 - Payroll reduction'!C517=\"Name\",\"\",IF('4 - Payroll reduction'!H517=\"Table 2\",\"\",'4 - Payroll reduction'!E517))","v":""},{"$f":"IF('4 - Payroll reduction'!C517=\"Name\",\"\",IF('4 - Payroll reduction'!H517=\"Table 2\",\"\",'4 - Payroll reduction'!G517))","v":""},{"$f":"IF('4 - Payroll reduction'!C517=\"Name\",\"\",IF('4 - Payroll reduction'!H517=\"Table 2\",\"\",'4 - Payroll reduction'!F517))","v":""},427]
[{"$f":"IF('4 - Payroll reduction'!C518=\"Name\",\"\",IF('4 - Payroll reduction'!H518=\"Table 2\",\"\",'4 - Payroll reduction'!C518))","v":""},{"$f":"IF('4 - Payroll reduction'!C518=\"Name\",\"\",IF('4 - Payroll reduction'!H518=\"Table 2\",\"\",'4 - Payroll reduction'!D518))","v":""},{"$f":"IF('4 - Payroll reduction'!C518=\"Name\",\"\",IF('4 - Payroll reduction'!H518=\"Table 2\",\"\",'4 - Payroll reduction'!E518))","v":""},{"$f":"IF('4 - Payroll reduction'!C518=\"Name\",\"\",IF('4 - Payroll reduction'!H518=\"Table 2\",\"\",'4 - Payroll reduction'!G518))","v":""},{"$f":"IF('4 - Payroll reduction'!C518=\"Name\",\"\",IF('4 - Payroll reduction'!H518=\"Table 2\",\"\",'4 - Payroll reduction'!F518))","v":""},428]
[{"$f":"IF('4 - Payroll reduction'!C519=\"Name\",\"\",IF('4 - Payroll reduction'!H519=\"Table 2\",\"\",'4 - Payroll reduction'!C519))","v":""},{"$f":"IF('4 - Payroll reduction'!C519=\"Name\",\"\",IF('4 - Payroll reduction'!H519=\"Table 2\",\"\",'4 - Payroll reduction'!D519))","v":""},{"$f":"IF('4 - Payroll reduction'!C519=\"Name\",\"\",IF('4 - Payroll reduction'!H519=\"Table 2\",\"\",'4 - Payroll reduction'!E519))","v":""},{"$f":"IF('4 - Payroll reduction'!C519=\"Name\",\"\",IF('4 - Payroll reduction'!H519=\"Table 2\",\"\",'4 - Payroll reduction'!G519))","v":""},{"$f":"IF('4 - Payroll reduction'!C519=\"Name\",\"\",IF('4 - Payroll reduction'!H519=\"Table 2\",\"\",'4 - Payroll reduction'!F519))","v":""},429]
[{"$f":"IF('4 - Payroll reduction'!C520=\"Name\",\"\",IF('4 - Payroll reduction'!H520=\"Table 2\",\"\",'4 - Payroll reduction'!C520))","v":""},{"$f":"IF('4 - Payroll reduction'!C520=\"Name\",\"\",IF('4 - Payroll reduction'!H520=\"Table 2\",\"\",'4 - Payroll reduction'!D520))","v":""},{"$f":"IF('4 - Payroll reduction'!C520=\"Name\",\"\",IF('4 - Payroll reduction'!H520=\"Table 2\",\"\",'4 - Payroll reduction'!E520))","v":""},{"$f":"IF('4 - Payroll reduction'!C520=\"Name\",\"\",IF('4 - Payroll reduction'!H520=\"Table 2\",\"\",'4 - Payroll reduction'!G520))","v":""},{"$f":"IF('4 - Payroll reduction'!C520=\"Name\",\"\",IF('4 - Payroll reduction'!H520=\"Table 2\",\"\",'4 - Payroll reduction'!F520))","v":""},430]
[{"$f":"IF('4 - Payroll reduction'!C521=\"Name\",\"\",IF('4 - Payroll reduction'!H521=\"Table 2\",\"\",'4 - Payroll reduction'!C521))","v":""},{"$f":"IF('4 - Payroll reduction'!C521=\"Name\",\"\",IF('4 - Payroll reduction'!H521=\"Table 2\",\"\",'4 - Payroll reduction'!D521))","v":""},{"$f":"IF('4 - Payroll reduction'!C521=\"Name\",\"\",IF('4 - Payroll reduction'!H521=\"Table 2\",\"\",'4 - Payroll reduction'!E521))","v":""},{"$f":"IF('4 - Payroll reduction'!C521=\"Name\",\"\",IF('4 - Payroll reduction'!H521=\"Table 2\",\"\",'4 - Payroll reduction'!G521))","v":""},{"$f":"IF('4 - Payroll reduction'!C521=\"Name\",\"\",IF('4 - Payroll reduction'!H521=\"Table 2\",\"\",'4 - Payroll reduction'!F521))","v":""},431]
[{"$f":"IF('4 - Payroll reduction'!C522=\"Name\",\"\",IF('4 - Payroll reduction'!H522=\"Table 2\",\"\",'4 - Payroll reduction'!C522))","v":""},{"$f":"IF('4 - Payroll reduction'!C522=\"Name\",\"\",IF('4 - Payroll reduction'!H522=\"Table 2\",\"\",'4 - Payroll reduction'!D522))","v":""},{"$f":"IF('4 - Payroll reduction'!C522=\"Name\",\"\",IF('4 - Payroll reduction'!H522=\"Table 2\",\"\",'4 - Payroll reduction'!E522))","v":""},{"$f":"IF('4 - Payroll reduction'!C522=\"Name\",\"\",IF('4 - Payroll reduction'!H522=\"Table 2\",\"\",'4 - Payroll reduction'!G522))","v":""},{"$f":"IF('4 - Payroll reduction'!C522=\"Name\",\"\",IF('4 - Payroll reduction'!H522=\"Table 2\",\"\",'4 - Payroll reduction'!F522))","v":""},432]
[{"$f":"IF('4 - Payroll reduction'!C523=\"Name\",\"\",IF('4 - Payroll reduction'!H523=\"Table 2\",\"\",'4 - Payroll reduction'!C523))","v":""},{"$f":"IF('4 - Payroll reduction'!C523=\"Name\",\"\",IF('4 - Payroll reduction'!H523=\"Table 2\",\"\",'4 - Payroll reduction'!D523))","v":""},{"$f":"IF('4 - Payroll reduction'!C523=\"Name\",\"\",IF('4 - Payroll reduction'!H523=\"Table 2\",\"\",'4 - Payroll reduction'!E523))","v":""},{"$f":"IF('4 - Payroll reduction'!C523=\"Name\",\"\",IF('4 - Payroll reduction'!H523=\"Table 2\",\"\",'4 - Payroll reduction'!G523))","v":""},{"$f":"IF('4 - Payroll reduction'!C523=\"Name\",\"\",IF('4 - Payroll reduction'!H523=\"Table 2\",\"\",'4 - Payroll reduction'!F523))","v":""},433]
[{"$f":"IF('4 - Payroll reduction'!C524=\"Name\",\"\",IF('4 - Payroll reduction'!H524=\"Table 2\",\"\",'4 - Payroll reduction'!C524))","v":""},{"$f":"IF('4 - Payroll reduction'!C524=\"Name\",\"\",IF('4 - Payroll reduction'!H524=\"Table 2\",\"\",'4 - Payroll reduction'!D524))","v":""},{"$f":"IF('4 - Payroll reduction'!C524=\"Name\",\"\",IF('4 - Payroll reduction'!H524=\"Table 2\",\"\",'4 - Payroll reduction'!E524))","v":""},{"$f":"IF('4 - Payroll reduction'!C524=\"Name\",\"\",IF('4 - Payroll reduction'!H524=\"Table 2\",\"\",'4 - Payroll reduction'!G524))","v":""},{"$f":"IF('4 - Payroll reduction'!C524=\"Name\",\"\",IF('4 - Payroll reduction'!H524=\"Table 2\",\"\",'4 - Payroll reduction'!F524))","v":""},434]
[{"$f":"IF('4 - Payroll reduction'!C525=\"Name\",\"\",IF('4 - Payroll reduction'!H525=\"Table 2\",\"\",'4 - Payroll reduction'!C525))","v":""},{"$f":"IF('4 - Payroll reduction'!C525=\"Name\",\"\",IF('4 - Payroll reduction'!H525=\"Table 2\",\"\",'4 - Payroll reduction'!D525))","v":""},{"$f":"IF('4 - Payroll reduction'!C525=\"Name\",\"\",IF('4 - Payroll reduction'!H525=\"Table 2\",\"\",'4 - Payroll reduction'!E525))","v":""},{"$f":"IF('4 - Payroll reduction'!C525=\"Name\",\"\",IF('4 - Payroll reduction'!H525=\"Table 2\",\"\",'4 - Payroll reduction'!G525))","v":""},{"$f":"IF('4 - Payroll reduction'!C525=\"Name\",\"\",IF('4 - Payroll reduction'!H525=\"Table 2\",\"\",'4 - Payroll reduction'!F525))","v":""},435]
[{"$f":"IF('4 - Payroll reduction'!C526=\"Name\",\"\",IF('4 - Payroll reduction'!H526=\"Table 2\",\"\",'4 - Payroll reduction'!C526))","v":""},{"$f":"IF('4 - Payroll reduction'!C526=\"Name\",\"\",IF('4 - Payroll reduction'!H526=\"Table 2\",\"\",'4 - Payroll reduction'!D526))","v":""},{"$f":"IF('4 - Payroll reduction'!C526=\"Name\",\"\",IF('4 - Payroll reduction'!H526=\"Table 2\",\"\",'4 - Payroll reduction'!E526))","v":""},{"$f":"IF('4 - Payroll reduction'!C526=\"Name\",\"\",IF('4 - Payroll reduction'!H526=\"Table 2\",\"\",'4 - Payroll reduction'!G526))","v":""},{"$f":"IF('4 - Payroll reduction'!C526=\"Name\",\"\",IF('4 - Payroll reduction'!H526=\"Table 2\",\"\",'4 - Payroll reduction'!F526))","v":""},436]
[{"$f":"IF('4 - Payroll reduction'!C527=\"Name\",\"\",IF('4 - Payroll reduction'!H527=\"Table 2\",\"\",'4 - Payroll reduction'!C527))","v":""},{"$f":"IF('4 - Payroll reduction'!C527=\"Name\",\"\",IF('4 - Payroll reduction'!H527=\"Table 2\",\"\",'4 - Payroll reduction'!D527))","v":""},{"$f":"IF('4 - Payroll reduction'!C527=\"Name\",\"\",IF('4 - Payroll reduction'!H527=\"Table 2\",\"\",'4 - Payroll reduction'!E527))","v":""},{"$f":"IF('4 - Payroll reduction'!C527=\"Name\",\"\",IF('4 - Payroll reduction'!H527=\"Table 2\",\"\",'4 - Payroll reduction'!G527))","v":""},{"$f":"IF('4 - Payroll reduction'!C527=\"Name\",\"\",IF('4 - Payroll reduction'!H527=\"Table 2\",\"\",'4 - Payroll reduction'!F527))","v":""},437]
[{"$f":"IF('4 - Payroll reduction'!C528=\"Name\",\"\",IF('4 - Payroll reduction'!H528=\"Table 2\",\"\",'4 - Payroll reduction'!C528))","v":""},{"$f":"IF('4 - Payroll reduction'!C528=\"Name\",\"\",IF('4 - Payroll reduction'!H528=\"Table 2\",\"\",'4 - Payroll reduction'!D528))","v":""},{"$f":"IF('4 - Payroll reduction'!C528=\"Name\",\"\",IF('4 - Payroll reduction'!H528=\"Table 2\",\"\",'4 - Payroll reduction'!E528))","v":""},{"$f":"IF('4 - Payroll reduction'!C528=\"Name\",\"\",IF('4 - Payroll reduction'!H528=\"Table 2\",\"\",'4 - Payroll reduction'!G528))","v":""},{"$f":"IF('4 - Payroll reduction'!C528=\"Name\",\"\",IF('4 - Payroll reduction'!H528=\"Table 2\",\"\",'4 - Payroll reduction'!F528))","v":""},438]
[{"$f":"IF('4 - Payroll reduction'!C529=\"Name\",\"\",IF('4 - Payroll reduction'!H529=\"Table 2\",\"\",'4 - Payroll reduction'!C529))","v":""},{"$f":"IF('4 - Payroll reduction'!C529=\"Name\",\"\",IF('4 - Payroll reduction'!H529=\"Table 2\",\"\",'4 - Payroll reduction'!D529))","v":""},{"$f":"IF('4 - Payroll reduction'!C529=\"Name\",\"\",IF('4 - Payroll reduction'!H529=\"Table 2\",\"\",'4 - Payroll reduction'!E529))","v":""},{"$f":"IF('4 - Payroll reduction'!C529=\"Name\",\"\",IF('4 - Payroll reduction'!H529=\"Table 2\",\"\",'4 - Payroll reduction'!G529))","v":""},{"$f":"IF('4 - Payroll reduction'!C529=\"Name\",\"\",IF('4 - Payroll reduction'!H529=\"Table 2\",\"\",'4 - Payroll reduction'!F529))","v":""},439]
[{"$f":"IF('4 - Payroll reduction'!C530=\"Name\",\"\",IF('4 - Payroll reduction'!H530=\"Table 2\",\"\",'4 - Payroll reduction'!C530))","v":""},{"$f":"IF('4 - Payroll reduction'!C530=\"Name\",\"\",IF('4 - Payroll reduction'!H530=\"Table 2\",\"\",'4 - Payroll reduction'!D530))","v":""},{"$f":"IF('4 - Payroll reduction'!C530=\"Name\",\"\",IF('4 - Payroll reduction'!H530=\"Table 2\",\"\",'4 - Payroll reduction'!E530))","v":""},{"$f":"IF('4 - Payroll reduction'!C530=\"Name\",\"\",IF('4 - Payroll reduction'!H530=\"Table 2\",\"\",'4 - Payroll reduction'!G530))","v":""},{"$f":"IF('4 - Payroll reduction'!C530=\"Name\",\"\",IF('4 - Payroll reduction'!H530=\"Table 2\",\"\",'4 - Payroll reduction'!F530))","v":""},440]
[{"$f":"IF('4 - Payroll reduction'!C531=\"Name\",\"\",IF('4 - Payroll reduction'!H531=\"Table 2\",\"\",'4 - Payroll reduction'!C531))","v":""},{"$f":"IF('4 - Payroll reduction'!C531=\"Name\",\"\",IF('4 - Payroll reduction'!H531=\"Table 2\",\"\",'4 - Payroll reduction'!D531))","v":""},{"$f":"IF('4 - Payroll reduction'!C531=\"Name\",\"\",IF('4 - Payroll reduction'!H531=\"Table 2\",\"\",'4 - Payroll reduction'!E531))","v":""},{"$f":"IF('4 - Payroll reduction'!C531=\"Name\",\"\",IF('4 - Payroll reduction'!H531=\"Table 2\",\"\",'4 - Payroll reduction'!G531))","v":""},{"$f":"IF('4 - Payroll reduction'!C531=\"Name\",\"\",IF('4 - Payroll reduction'!H531=\"Table 2\",\"\",'4 - Payroll reduction'!F531))","v":""},441]
[{"$f":"IF('4 - Payroll reduction'!C532=\"Name\",\"\",IF('4 - Payroll reduction'!H532=\"Table 2\",\"\",'4 - Payroll reduction'!C532))","v":""},{"$f":"IF('4 - Payroll reduction'!C532=\"Name\",\"\",IF('4 - Payroll reduction'!H532=\"Table 2\",\"\",'4 - Payroll reduction'!D532))","v":""},{"$f":"IF('4 - Payroll reduction'!C532=\"Name\",\"\",IF('4 - Payroll reduction'!H532=\"Table 2\",\"\",'4 - Payroll reduction'!E532))","v":""},{"$f":"IF('4 - Payroll reduction'!C532=\"Name\",\"\",IF('4 - Payroll reduction'!H532=\"Table 2\",\"\",'4 - Payroll reduction'!G532))","v":""},{"$f":"IF('4 - Payroll reduction'!C532=\"Name\",\"\",IF('4 - Payroll reduction'!H532=\"Table 2\",\"\",'4 - Payroll reduction'!F532))","v":""},442]
[{"$f":"IF('4 - Payroll reduction'!C533=\"Name\",\"\",IF('4 - Payroll reduction'!H533=\"Table 2\",\"\",'4 - Payroll reduction'!C533))","v":""},{"$f":"IF('4 - Payroll reduction'!C533=\"Name\",\"\",IF('4 - Payroll reduction'!H533=\"Table 2\",\"\",'4 - Payroll reduction'!D533))","v":""},{"$f":"IF('4 - Payroll reduction'!C533=\"Name\",\"\",IF('4 - Payroll reduction'!H533=\"Table 2\",\"\",'4 - Payroll reduction'!E533))","v":""},{"$f":"IF('4 - Payroll reduction'!C533=\"Name\",\"\",IF('4 - Payroll reduction'!H533=\"Table 2\",\"\",'4 - Payroll reduction'!G533))","v":""},{"$f":"IF('4 - Payroll reduction'!C533=\"Name\",\"\",IF('4 - Payroll reduction'!H533=\"Table 2\",\"\",'4 - Payroll reduction'!F533))","v":""},443]
[{"$f":"IF('4 - Payroll reduction'!C534=\"Name\",\"\",IF('4 - Payroll reduction'!H534=\"Table 2\",\"\",'4 - Payroll reduction'!C534))","v":""},{"$f":"IF('4 - Payroll reduction'!C534=\"Name\",\"\",IF('4 - Payroll reduction'!H534=\"Table 2\",\"\",'4 - Payroll reduction'!D534))","v":""},{"$f":"IF('4 - Payroll reduction'!C534=\"Name\",\"\",IF('4 - Payroll reduction'!H534=\"Table 2\",\"\",'4 - Payroll reduction'!E534))","v":""},{"$f":"IF('4 - Payroll reduction'!C534=\"Name\",\"\",IF('4 - Payroll reduction'!H534=\"Table 2\",\"\",'4 - Payroll reduction'!G534))","v":""},{"$f":"IF('4 - Payroll reduction'!C534=\"Name\",\"\",IF('4 - Payroll reduction'!H534=\"Table 2\",\"\",'4 - Payroll reduction'!F534))","v":""},444]
[{"$f":"IF('4 - Payroll reduction'!C535=\"Name\",\"\",IF('4 - Payroll reduction'!H535=\"Table 2\",\"\",'4 - Payroll reduction'!C535))","v":""},{"$f":"IF('4 - Payroll reduction'!C535=\"Name\",\"\",IF('4 - Payroll reduction'!H535=\"Table 2\",\"\",'4 - Payroll reduction'!D535))","v":""},{"$f":"IF('4 - Payroll reduction'!C535=\"Name\",\"\",IF('4 - Payroll reduction'!H535=\"Table 2\",\"\",'4 - Payroll reduction'!E535))","v":""},{"$f":"IF('4 - Payroll reduction'!C535=\"Name\",\"\",IF('4 - Payroll reduction'!H535=\"Table 2\",\"\",'4 - Payroll reduction'!G535))","v":""},{"$f":"IF('4 - Payroll reduction'!C535=\"Name\",\"\",IF('4 - Payroll reduction'!H535=\"Table 2\",\"\",'4 - Payroll reduction'!F535))","v":""},445]
[{"$f":"IF('4 - Payroll reduction'!C536=\"Name\",\"\",IF('4 - Payroll reduction'!H536=\"Table 2\",\"\",'4 - Payroll reduction'!C536))","v":""},{"$f":"IF('4 - Payroll reduction'!C536=\"Name\",\"\",IF('4 - Payroll reduction'!H536=\"Table 2\",\"\",'4 - Payroll reduction'!D536))","v":""},{"$f":"IF('4 - Payroll reduction'!C536=\"Name\",\"\",IF('4 - Payroll reduction'!H536=\"Table 2\",\"\",'4 - Payroll reduction'!E536))","v":""},{"$f":"IF('4 - Payroll reduction'!C536=\"Name\",\"\",IF('4 - Payroll reduction'!H536=\"Table 2\",\"\",'4 - Payroll reduction'!G536))","v":""},{"$f":"IF('4 - Payroll reduction'!C536=\"Name\",\"\",IF('4 - Payroll reduction'!H536=\"Table 2\",\"\",'4 - Payroll reduction'!F536))","v":""},446]
[{"$f":"IF('4 - Payroll reduction'!C537=\"Name\",\"\",IF('4 - Payroll reduction'!H537=\"Table 2\",\"\",'4 - Payroll reduction'!C537))","v":""},{"$f":"IF('4 - Payroll reduction'!C537=\"Name\",\"\",IF('4 - Payroll reduction'!H537=\"Table 2\",\"\",'4 - Payroll reduction'!D537))","v":""},{"$f":"IF('4 - Payroll reduction'!C537=\"Name\",\"\",IF('4 - Payroll reduction'!H537=\"Table 2\",\"\",'4 - Payroll reduction'!E537))","v":""},{"$f":"IF('4 - Payroll reduction'!C537=\"Name\",\"\",IF('4 - Payroll reduction'!H537=\"Table 2\",\"\",'4 - Payroll reduction'!G537))","v":""},{"$f":"IF('4 - Payroll reduction'!C537=\"Name\",\"\",IF('4 - Payroll reduction'!H537=\"Table 2\",\"\",'4 - Payroll reduction'!F537))","v":""},447]
[{"$f":"IF('4 - Payroll reduction'!C538=\"Name\",\"\",IF('4 - Payroll reduction'!H538=\"Table 2\",\"\",'4 - Payroll reduction'!C538))","v":""},{"$f":"IF('4 - Payroll reduction'!C538=\"Name\",\"\",IF('4 - Payroll reduction'!H538=\"Table 2\",\"\",'4 - Payroll reduction'!D538))","v":""},{"$f":"IF('4 - Payroll reduction'!C538=\"Name\",\"\",IF('4 - Payroll reduction'!H538=\"Table 2\",\"\",'4 - Payroll reduction'!E538))","v":""},{"$f":"IF('4 - Payroll reduction'!C538=\"Name\",\"\",IF('4 - Payroll reduction'!H538=\"Table 2\",\"\",'4 - Payroll reduction'!G538))","v":""},{"$f":"IF('4 - Payroll reduction'!C538=\"Name\",\"\",IF('4 - Payroll reduction'!H538=\"Table 2\",\"\",'4 - Payroll reduction'!F538))","v":""},448]
[{"$f":"IF('4 - Payroll reduction'!C539=\"Name\",\"\",IF('4 - Payroll reduction'!H539=\"Table 2\",\"\",'4 - Payroll reduction'!C539))","v":""},{"$f":"IF('4 - Payroll reduction'!C539=\"Name\",\"\",IF('4 - Payroll reduction'!H539=\"Table 2\",\"\",'4 - Payroll reduction'!D539))","v":""},{"$f":"IF('4 - Payroll reduction'!C539=\"Name\",\"\",IF('4 - Payroll reduction'!H539=\"Table 2\",\"\",'4 - Payroll reduction'!E539))","v":""},{"$f":"IF('4 - Payroll reduction'!C539=\"Name\",\"\",IF('4 - Payroll reduction'!H539=\"Table 2\",\"\",'4 - Payroll reduction'!G539))","v":""},{"$f":"IF('4 - Payroll reduction'!C539=\"Name\",\"\",IF('4 - Payroll reduction'!H539=\"Table 2\",\"\",'4 - Payroll reduction'!F539))","v":""},449]
[{"$f":"IF('4 - Payroll reduction'!C540=\"Name\",\"\",IF('4 - Payroll reduction'!H540=\"Table 2\",\"\",'4 - Payroll reduction'!C540))","v":""},{"$f":"IF('4 - Payroll reduction'!C540=\"Name\",\"\",IF('4 - Payroll reduction'!H540=\"Table 2\",\"\",'4 - Payroll reduction'!D540))","v":""},{"$f":"IF('4 - Payroll reduction'!C540=\"Name\",\"\",IF('4 - Payroll reduction'!H540=\"Table 2\",\"\",'4 - Payroll reduction'!E540))","v":""},{"$f":"IF('4 - Payroll reduction'!C540=\"Name\",\"\",IF('4 - Payroll reduction'!H540=\"Table 2\",\"\",'4 - Payroll reduction'!G540))","v":""},{"$f":"IF('4 - Payroll reduction'!C540=\"Name\",\"\",IF('4 - Payroll reduction'!H540=\"Table 2\",\"\",'4 - Payroll reduction'!F540))","v":""},450]
[{"$f":"IF('4 - Payroll reduction'!C541=\"Name\",\"\",IF('4 - Payroll reduction'!H541=\"Table 2\",\"\",'4 - Payroll reduction'!C541))","v":""},{"$f":"IF('4 - Payroll reduction'!C541=\"Name\",\"\",IF('4 - Payroll reduction'!H541=\"Table 2\",\"\",'4 - Payroll reduction'!D541))","v":""},{"$f":"IF('4 - Payroll reduction'!C541=\"Name\",\"\",IF('4 - Payroll reduction'!H541=\"Table 2\",\"\",'4 - Payroll reduction'!E541))","v":""},{"$f":"IF('4 - Payroll reduction'!C541=\"Name\",\"\",IF('4 - Payroll reduction'!H541=\"Table 2\",\"\",'4 - Payroll reduction'!G541))","v":""},{"$f":"IF('4 - Payroll reduction'!C541=\"Name\",\"\",IF('4 - Payroll reduction'!H541=\"Table 2\",\"\",'4 - Payroll reduction'!F541))","v":""},{"$f":"F459+1","v":451}]
[{"$f":"IF('4 - Payroll reduction'!C542=\"Name\",\"\",IF('4 - Payroll reduction'!H542=\"Table 2\",\"\",'4 - Payroll reduction'!C542))","v":""},{"$f":"IF('4 - Payroll reduction'!C542=\"Name\",\"\",IF('4 - Payroll reduction'!H542=\"Table 2\",\"\",'4 - Payroll reduction'!D542))","v":""},{"$f":"IF('4 - Payroll reduction'!C542=\"Name\",\"\",IF('4 - Payroll reduction'!H542=\"Table 2\",\"\",'4 - Payroll reduction'!E542))","v":""},{"$f":"IF('4 - Payroll reduction'!C542=\"Name\",\"\",IF('4 - Payroll reduction'!H542=\"Table 2\",\"\",'4 - Payroll reduction'!G542))","v":""},{"$f":"IF('4 - Payroll reduction'!C542=\"Name\",\"\",IF('4 - Payroll reduction'!H542=\"Table 2\",\"\",'4 - Payroll reduction'!F542))","v":""},452]
[{"$f":"IF('4 - Payroll reduction'!C543=\"Name\",\"\",IF('4 - Payroll reduction'!H543=\"Table 2\",\"\",'4 - Payroll reduction'!C543))","v":""},{"$f":"IF('4 - Payroll reduction'!C543=\"Name\",\"\",IF('4 - Payroll reduction'!H543=\"Table 2\",\"\",'4 - Payroll reduction'!D543))","v":""},{"$f":"IF('4 - Payroll reduction'!C543=\"Name\",\"\",IF('4 - Payroll reduction'!H543=\"Table 2\",\"\",'4 - Payroll reduction'!E543))","v":""},{"$f":"IF('4 - Payroll reduction'!C543=\"Name\",\"\",IF('4 - Payroll reduction'!H543=\"Table 2\",\"\",'4 - Payroll reduction'!G543))","v":""},{"$f":"IF('4 - Payroll reduction'!C543=\"Name\",\"\",IF('4 - Payroll reduction'!H543=\"Table 2\",\"\",'4 - Payroll reduction'!F543))","v":""},453]
[{"$f":"IF('4 - Payroll reduction'!C544=\"Name\",\"\",IF('4 - Payroll reduction'!H544=\"Table 2\",\"\",'4 - Payroll reduction'!C544))","v":""},{"$f":"IF('4 - Payroll reduction'!C544=\"Name\",\"\",IF('4 - Payroll reduction'!H544=\"Table 2\",\"\",'4 - Payroll reduction'!D544))","v":""},{"$f":"IF('4 - Payroll reduction'!C544=\"Name\",\"\",IF('4 - Payroll reduction'!H544=\"Table 2\",\"\",'4 - Payroll reduction'!E544))","v":""},{"$f":"IF('4 - Payroll reduction'!C544=\"Name\",\"\",IF('4 - Payroll reduction'!H544=\"Table 2\",\"\",'4 - Payroll reduction'!G544))","v":""},{"$f":"IF('4 - Payroll reduction'!C544=\"Name\",\"\",IF('4 - Payroll reduction'!H544=\"Table 2\",\"\",'4 - Payroll reduction'!F544))","v":""},454]
[{"$f":"IF('4 - Payroll reduction'!C545=\"Name\",\"\",IF('4 - Payroll reduction'!H545=\"Table 2\",\"\",'4 - Payroll reduction'!C545))","v":""},{"$f":"IF('4 - Payroll reduction'!C545=\"Name\",\"\",IF('4 - Payroll reduction'!H545=\"Table 2\",\"\",'4 - Payroll reduction'!D545))","v":""},{"$f":"IF('4 - Payroll reduction'!C545=\"Name\",\"\",IF('4 - Payroll reduction'!H545=\"Table 2\",\"\",'4 - Payroll reduction'!E545))","v":""},{"$f":"IF('4 - Payroll reduction'!C545=\"Name\",\"\",IF('4 - Payroll reduction'!H545=\"Table 2\",\"\",'4 - Payroll reduction'!G545))","v":""},{"$f":"IF('4 - Payroll reduction'!C545=\"Name\",\"\",IF('4 - Payroll reduction'!H545=\"Table 2\",\"\",'4 - Payroll reduction'!F545))","v":""},455]
[{"$f":"IF('4 - Payroll reduction'!C546=\"Name\",\"\",IF('4 - Payroll reduction'!H546=\"Table 2\",\"\",'4 - Payroll reduction'!C546))","v":""},{"$f":"IF('4 - Payroll reduction'!C546=\"Name\",\"\",IF('4 - Payroll reduction'!H546=\"Table 2\",\"\",'4 - Payroll reduction'!D546))","v":""},{"$f":"IF('4 - Payroll reduction'!C546=\"Name\",\"\",IF('4 - Payroll reduction'!H546=\"Table 2\",\"\",'4 - Payroll reduction'!E546))","v":""},{"$f":"IF('4 - Payroll reduction'!C546=\"Name\",\"\",IF('4 - Payroll reduction'!H546=\"Table 2\",\"\",'4 - Payroll reduction'!G546))","v":""},{"$f":"IF('4 - Payroll reduction'!C546=\"Name\",\"\",IF('4 - Payroll reduction'!H546=\"Table 2\",\"\",'4 - Payroll reduction'!F546))","v":""},456]
[{"$f":"IF('4 - Payroll reduction'!C547=\"Name\",\"\",IF('4 - Payroll reduction'!H547=\"Table 2\",\"\",'4 - Payroll reduction'!C547))","v":""},{"$f":"IF('4 - Payroll reduction'!C547=\"Name\",\"\",IF('4 - Payroll reduction'!H547=\"Table 2\",\"\",'4 - Payroll reduction'!D547))","v":""},{"$f":"IF('4 - Payroll reduction'!C547=\"Name\",\"\",IF('4 - Payroll reduction'!H547=\"Table 2\",\"\",'4 - Payroll reduction'!E547))","v":""},{"$f":"IF('4 - Payroll reduction'!C547=\"Name\",\"\",IF('4 - Payroll reduction'!H547=\"Table 2\",\"\",'4 - Payroll reduction'!G547))","v":""},{"$f":"IF('4 - Payroll reduction'!C547=\"Name\",\"\",IF('4 - Payroll reduction'!H547=\"Table 2\",\"\",'4 - Payroll reduction'!F547))","v":""},457]
[{"$f":"IF('4 - Payroll reduction'!C548=\"Name\",\"\",IF('4 - Payroll reduction'!H548=\"Table 2\",\"\",'4 - Payroll reduction'!C548))","v":""},{"$f":"IF('4 - Payroll reduction'!C548=\"Name\",\"\",IF('4 - Payroll reduction'!H548=\"Table 2\",\"\",'4 - Payroll reduction'!D548))","v":""},{"$f":"IF('4 - Payroll reduction'!C548=\"Name\",\"\",IF('4 - Payroll reduction'!H548=\"Table 2\",\"\",'4 - Payroll reduction'!E548))","v":""},{"$f":"IF('4 - Payroll reduction'!C548=\"Name\",\"\",IF('4 - Payroll reduction'!H548=\"Table 2\",\"\",'4 - Payroll reduction'!G548))","v":""},{"$f":"IF('4 - Payroll reduction'!C548=\"Name\",\"\",IF('4 - Payroll reduction'!H548=\"Table 2\",\"\",'4 - Payroll reduction'!F548))","v":""},458]
[{"$f":"IF('4 - Payroll reduction'!C549=\"Name\",\"\",IF('4 - Payroll reduction'!H549=\"Table 2\",\"\",'4 - Payroll reduction'!C549))","v":""},{"$f":"IF('4 - Payroll reduction'!C549=\"Name\",\"\",IF('4 - Payroll reduction'!H549=\"Table 2\",\"\",'4 - Payroll reduction'!D549))","v":""},{"$f":"IF('4 - Payroll reduction'!C549=\"Name\",\"\",IF('4 - Payroll reduction'!H549=\"Table 2\",\"\",'4 - Payroll reduction'!E549))","v":""},{"$f":"IF('4 - Payroll reduction'!C549=\"Name\",\"\",IF('4 - Payroll reduction'!H549=\"Table 2\",\"\",'4 - Payroll reduction'!G549))","v":""},{"$f":"IF('4 - Payroll reduction'!C549=\"Name\",\"\",IF('4 - Payroll reduction'!H549=\"Table 2\",\"\",'4 - Payroll reduction'!F549))","v":""},459]
[{"$f":"IF('4 - Payroll reduction'!C550=\"Name\",\"\",IF('4 - Payroll reduction'!H550=\"Table 2\",\"\",'4 - Payroll reduction'!C550))","v":""},{"$f":"IF('4 - Payroll reduction'!C550=\"Name\",\"\",IF('4 - Payroll reduction'!H550=\"Table 2\",\"\",'4 - Payroll reduction'!D550))","v":""},{"$f":"IF('4 - Payroll reduction'!C550=\"Name\",\"\",IF('4 - Payroll reduction'!H550=\"Table 2\",\"\",'4 - Payroll reduction'!E550))","v":""},{"$f":"IF('4 - Payroll reduction'!C550=\"Name\",\"\",IF('4 - Payroll reduction'!H550=\"Table 2\",\"\",'4 - Payroll reduction'!G550))","v":""},{"$f":"IF('4 - Payroll reduction'!C550=\"Name\",\"\",IF('4 - Payroll reduction'!H550=\"Table 2\",\"\",'4 - Payroll reduction'!F550))","v":""},460]
[{"$f":"IF('4 - Payroll reduction'!C551=\"Name\",\"\",IF('4 - Payroll reduction'!H551=\"Table 2\",\"\",'4 - Payroll reduction'!C551))","v":""},{"$f":"IF('4 - Payroll reduction'!C551=\"Name\",\"\",IF('4 - Payroll reduction'!H551=\"Table 2\",\"\",'4 - Payroll reduction'!D551))","v":""},{"$f":"IF('4 - Payroll reduction'!C551=\"Name\",\"\",IF('4 - Payroll reduction'!H551=\"Table 2\",\"\",'4 - Payroll reduction'!E551))","v":""},{"$f":"IF('4 - Payroll reduction'!C551=\"Name\",\"\",IF('4 - Payroll reduction'!H551=\"Table 2\",\"\",'4 - Payroll reduction'!G551))","v":""},{"$f":"IF('4 - Payroll reduction'!C551=\"Name\",\"\",IF('4 - Payroll reduction'!H551=\"Table 2\",\"\",'4 - Payroll reduction'!F551))","v":""},461]
[{"$f":"IF('4 - Payroll reduction'!C552=\"Name\",\"\",IF('4 - Payroll reduction'!H552=\"Table 2\",\"\",'4 - Payroll reduction'!C552))","v":""},{"$f":"IF('4 - Payroll reduction'!C552=\"Name\",\"\",IF('4 - Payroll reduction'!H552=\"Table 2\",\"\",'4 - Payroll reduction'!D552))","v":""},{"$f":"IF('4 - Payroll reduction'!C552=\"Name\",\"\",IF('4 - Payroll reduction'!H552=\"Table 2\",\"\",'4 - Payroll reduction'!E552))","v":""},{"$f":"IF('4 - Payroll reduction'!C552=\"Name\",\"\",IF('4 - Payroll reduction'!H552=\"Table 2\",\"\",'4 - Payroll reduction'!G552))","v":""},{"$f":"IF('4 - Payroll reduction'!C552=\"Name\",\"\",IF('4 - Payroll reduction'!H552=\"Table 2\",\"\",'4 - Payroll reduction'!F552))","v":""},462]
[{"$f":"IF('4 - Payroll reduction'!C553=\"Name\",\"\",IF('4 - Payroll reduction'!H553=\"Table 2\",\"\",'4 - Payroll reduction'!C553))","v":""},{"$f":"IF('4 - Payroll reduction'!C553=\"Name\",\"\",IF('4 - Payroll reduction'!H553=\"Table 2\",\"\",'4 - Payroll reduction'!D553))","v":""},{"$f":"IF('4 - Payroll reduction'!C553=\"Name\",\"\",IF('4 - Payroll reduction'!H553=\"Table 2\",\"\",'4 - Payroll reduction'!E553))","v":""},{"$f":"IF('4 - Payroll reduction'!C553=\"Name\",\"\",IF('4 - Payroll reduction'!H553=\"Table 2\",\"\",'4 - Payroll reduction'!G553))","v":""},{"$f":"IF('4 - Payroll reduction'!C553=\"Name\",\"\",IF('4 - Payroll reduction'!H553=\"Table 2\",\"\",'4 - Payroll reduction'!F553))","v":""},463]
[{"$f":"IF('4 - Payroll reduction'!C554=\"Name\",\"\",IF('4 - Payroll reduction'!H554=\"Table 2\",\"\",'4 - Payroll reduction'!C554))","v":""},{"$f":"IF('4 - Payroll reduction'!C554=\"Name\",\"\",IF('4 - Payroll reduction'!H554=\"Table 2\",\"\",'4 - Payroll reduction'!D554))","v":""},{"$f":"IF('4 - Payroll reduction'!C554=\"Name\",\"\",IF('4 - Payroll reduction'!H554=\"Table 2\",\"\",'4 - Payroll reduction'!E554))","v":""},{"$f":"IF('4 - Payroll reduction'!C554=\"Name\",\"\",IF('4 - Payroll reduction'!H554=\"Table 2\",\"\",'4 - Payroll reduction'!G554))","v":""},{"$f":"IF('4 - Payroll reduction'!C554=\"Name\",\"\",IF('4 - Payroll reduction'!H554=\"Table 2\",\"\",'4 - Payroll reduction'!F554))","v":""},464]
[{"$f":"IF('4 - Payroll reduction'!C555=\"Name\",\"\",IF('4 - Payroll reduction'!H555=\"Table 2\",\"\",'4 - Payroll reduction'!C555))","v":""},{"$f":"IF('4 - Payroll reduction'!C555=\"Name\",\"\",IF('4 - Payroll reduction'!H555=\"Table 2\",\"\",'4 - Payroll reduction'!D555))","v":""},{"$f":"IF('4 - Payroll reduction'!C555=\"Name\",\"\",IF('4 - Payroll reduction'!H555=\"Table 2\",\"\",'4 - Payroll reduction'!E555))","v":""},{"$f":"IF('4 - Payroll reduction'!C555=\"Name\",\"\",IF('4 - Payroll reduction'!H555=\"Table 2\",\"\",'4 - Payroll reduction'!G555))","v":""},{"$f":"IF('4 - Payroll reduction'!C555=\"Name\",\"\",IF('4 - Payroll reduction'!H555=\"Table 2\",\"\",'4 - Payroll reduction'!F555))","v":""},465]
[{"$f":"IF('4 - Payroll reduction'!C556=\"Name\",\"\",IF('4 - Payroll reduction'!H556=\"Table 2\",\"\",'4 - Payroll reduction'!C556))","v":""},{"$f":"IF('4 - Payroll reduction'!C556=\"Name\",\"\",IF('4 - Payroll reduction'!H556=\"Table 2\",\"\",'4 - Payroll reduction'!D556))","v":""},{"$f":"IF('4 - Payroll reduction'!C556=\"Name\",\"\",IF('4 - Payroll reduction'!H556=\"Table 2\",\"\",'4 - Payroll reduction'!E556))","v":""},{"$f":"IF('4 - Payroll reduction'!C556=\"Name\",\"\",IF('4 - Payroll reduction'!H556=\"Table 2\",\"\",'4 - Payroll reduction'!G556))","v":""},{"$f":"IF('4 - Payroll reduction'!C556=\"Name\",\"\",IF('4 - Payroll reduction'!H556=\"Table 2\",\"\",'4 - Payroll reduction'!F556))","v":""},466]
[{"$f":"IF('4 - Payroll reduction'!C557=\"Name\",\"\",IF('4 - Payroll reduction'!H557=\"Table 2\",\"\",'4 - Payroll reduction'!C557))","v":""},{"$f":"IF('4 - Payroll reduction'!C557=\"Name\",\"\",IF('4 - Payroll reduction'!H557=\"Table 2\",\"\",'4 - Payroll reduction'!D557))","v":""},{"$f":"IF('4 - Payroll reduction'!C557=\"Name\",\"\",IF('4 - Payroll reduction'!H557=\"Table 2\",\"\",'4 - Payroll reduction'!E557))","v":""},{"$f":"IF('4 - Payroll reduction'!C557=\"Name\",\"\",IF('4 - Payroll reduction'!H557=\"Table 2\",\"\",'4 - Payroll reduction'!G557))","v":""},{"$f":"IF('4 - Payroll reduction'!C557=\"Name\",\"\",IF('4 - Payroll reduction'!H557=\"Table 2\",\"\",'4 - Payroll reduction'!F557))","v":""},467]
[{"$f":"IF('4 - Payroll reduction'!C558=\"Name\",\"\",IF('4 - Payroll reduction'!H558=\"Table 2\",\"\",'4 - Payroll reduction'!C558))","v":""},{"$f":"IF('4 - Payroll reduction'!C558=\"Name\",\"\",IF('4 - Payroll reduction'!H558=\"Table 2\",\"\",'4 - Payroll reduction'!D558))","v":""},{"$f":"IF('4 - Payroll reduction'!C558=\"Name\",\"\",IF('4 - Payroll reduction'!H558=\"Table 2\",\"\",'4 - Payroll reduction'!E558))","v":""},{"$f":"IF('4 - Payroll reduction'!C558=\"Name\",\"\",IF('4 - Payroll reduction'!H558=\"Table 2\",\"\",'4 - Payroll reduction'!G558))","v":""},{"$f":"IF('4 - Payroll reduction'!C558=\"Name\",\"\",IF('4 - Payroll reduction'!H558=\"Table 2\",\"\",'4 - Payroll reduction'!F558))","v":""},468]
[{"$f":"IF('4 - Payroll reduction'!C559=\"Name\",\"\",IF('4 - Payroll reduction'!H559=\"Table 2\",\"\",'4 - Payroll reduction'!C559))","v":""},{"$f":"IF('4 - Payroll reduction'!C559=\"Name\",\"\",IF('4 - Payroll reduction'!H559=\"Table 2\",\"\",'4 - Payroll reduction'!D559))","v":""},{"$f":"IF('4 - Payroll reduction'!C559=\"Name\",\"\",IF('4 - Payroll reduction'!H559=\"Table 2\",\"\",'4 - Payroll reduction'!E559))","v":""},{"$f":"IF('4 - Payroll reduction'!C559=\"Name\",\"\",IF('4 - Payroll reduction'!H559=\"Table 2\",\"\",'4 - Payroll reduction'!G559))","v":""},{"$f":"IF('4 - Payroll reduction'!C559=\"Name\",\"\",IF('4 - Payroll reduction'!H559=\"Table 2\",\"\",'4 - Payroll reduction'!F559))","v":""},469]
[{"$f":"IF('4 - Payroll reduction'!C560=\"Name\",\"\",IF('4 - Payroll reduction'!H560=\"Table 2\",\"\",'4 - Payroll reduction'!C560))","v":""},{"$f":"IF('4 - Payroll reduction'!C560=\"Name\",\"\",IF('4 - Payroll reduction'!H560=\"Table 2\",\"\",'4 - Payroll reduction'!D560))","v":""},{"$f":"IF('4 - Payroll reduction'!C560=\"Name\",\"\",IF('4 - Payroll reduction'!H560=\"Table 2\",\"\",'4 - Payroll reduction'!E560))","v":""},{"$f":"IF('4 - Payroll reduction'!C560=\"Name\",\"\",IF('4 - Payroll reduction'!H560=\"Table 2\",\"\",'4 - Payroll reduction'!G560))","v":""},{"$f":"IF('4 - Payroll reduction'!C560=\"Name\",\"\",IF('4 - Payroll reduction'!H560=\"Table 2\",\"\",'4 - Payroll reduction'!F560))","v":""},470]
[{"$f":"IF('4 - Payroll reduction'!C561=\"Name\",\"\",IF('4 - Payroll reduction'!H561=\"Table 2\",\"\",'4 - Payroll reduction'!C561))","v":""},{"$f":"IF('4 - Payroll reduction'!C561=\"Name\",\"\",IF('4 - Payroll reduction'!H561=\"Table 2\",\"\",'4 - Payroll reduction'!D561))","v":""},{"$f":"IF('4 - Payroll reduction'!C561=\"Name\",\"\",IF('4 - Payroll reduction'!H561=\"Table 2\",\"\",'4 - Payroll reduction'!E561))","v":""},{"$f":"IF('4 - Payroll reduction'!C561=\"Name\",\"\",IF('4 - Payroll reduction'!H561=\"Table 2\",\"\",'4 - Payroll reduction'!G561))","v":""},{"$f":"IF('4 - Payroll reduction'!C561=\"Name\",\"\",IF('4 - Payroll reduction'!H561=\"Table 2\",\"\",'4 - Payroll reduction'!F561))","v":""},471]
[{"$f":"IF('4 - Payroll reduction'!C562=\"Name\",\"\",IF('4 - Payroll reduction'!H562=\"Table 2\",\"\",'4 - Payroll reduction'!C562))","v":""},{"$f":"IF('4 - Payroll reduction'!C562=\"Name\",\"\",IF('4 - Payroll reduction'!H562=\"Table 2\",\"\",'4 - Payroll reduction'!D562))","v":""},{"$f":"IF('4 - Payroll reduction'!C562=\"Name\",\"\",IF('4 - Payroll reduction'!H562=\"Table 2\",\"\",'4 - Payroll reduction'!E562))","v":""},{"$f":"IF('4 - Payroll reduction'!C562=\"Name\",\"\",IF('4 - Payroll reduction'!H562=\"Table 2\",\"\",'4 - Payroll reduction'!G562))","v":""},{"$f":"IF('4 - Payroll reduction'!C562=\"Name\",\"\",IF('4 - Payroll reduction'!H562=\"Table 2\",\"\",'4 - Payroll reduction'!F562))","v":""},472]
[{"$f":"IF('4 - Payroll reduction'!C563=\"Name\",\"\",IF('4 - Payroll reduction'!H563=\"Table 2\",\"\",'4 - Payroll reduction'!C563))","v":""},{"$f":"IF('4 - Payroll reduction'!C563=\"Name\",\"\",IF('4 - Payroll reduction'!H563=\"Table 2\",\"\",'4 - Payroll reduction'!D563))","v":""},{"$f":"IF('4 - Payroll reduction'!C563=\"Name\",\"\",IF('4 - Payroll reduction'!H563=\"Table 2\",\"\",'4 - Payroll reduction'!E563))","v":""},{"$f":"IF('4 - Payroll reduction'!C563=\"Name\",\"\",IF('4 - Payroll reduction'!H563=\"Table 2\",\"\",'4 - Payroll reduction'!G563))","v":""},{"$f":"IF('4 - Payroll reduction'!C563=\"Name\",\"\",IF('4 - Payroll reduction'!H563=\"Table 2\",\"\",'4 - Payroll reduction'!F563))","v":""},473]
[{"$f":"IF('4 - Payroll reduction'!C564=\"Name\",\"\",IF('4 - Payroll reduction'!H564=\"Table 2\",\"\",'4 - Payroll reduction'!C564))","v":""},{"$f":"IF('4 - Payroll reduction'!C564=\"Name\",\"\",IF('4 - Payroll reduction'!H564=\"Table 2\",\"\",'4 - Payroll reduction'!D564))","v":""},{"$f":"IF('4 - Payroll reduction'!C564=\"Name\",\"\",IF('4 - Payroll reduction'!H564=\"Table 2\",\"\",'4 - Payroll reduction'!E564))","v":""},{"$f":"IF('4 - Payroll reduction'!C564=\"Name\",\"\",IF('4 - Payroll reduction'!H564=\"Table 2\",\"\",'4 - Payroll reduction'!G564))","v":""},{"$f":"IF('4 - Payroll reduction'!C564=\"Name\",\"\",IF('4 - Payroll reduction'!H564=\"Table 2\",\"\",'4 - Payroll reduction'!F564))","v":""},474]
[{"$f":"IF('4 - Payroll reduction'!C565=\"Name\",\"\",IF('4 - Payroll reduction'!H565=\"Table 2\",\"\",'4 - Payroll reduction'!C565))","v":""},{"$f":"IF('4 - Payroll reduction'!C565=\"Name\",\"\",IF('4 - Payroll reduction'!H565=\"Table 2\",\"\",'4 - Payroll reduction'!D565))","v":""},{"$f":"IF('4 - Payroll reduction'!C565=\"Name\",\"\",IF('4 - Payroll reduction'!H565=\"Table 2\",\"\",'4 - Payroll reduction'!E565))","v":""},{"$f":"IF('4 - Payroll reduction'!C565=\"Name\",\"\",IF('4 - Payroll reduction'!H565=\"Table 2\",\"\",'4 - Payroll reduction'!G565))","v":""},{"$f":"IF('4 - Payroll reduction'!C565=\"Name\",\"\",IF('4 - Payroll reduction'!H565=\"Table 2\",\"\",'4 - Payroll reduction'!F565))","v":""},475]
[{"$f":"IF('4 - Payroll reduction'!C566=\"Name\",\"\",IF('4 - Payroll reduction'!H566=\"Table 2\",\"\",'4 - Payroll reduction'!C566))","v":""},{"$f":"IF('4 - Payroll reduction'!C566=\"Name\",\"\",IF('4 - Payroll reduction'!H566=\"Table 2\",\"\",'4 - Payroll reduction'!D566))","v":""},{"$f":"IF('4 - Payroll reduction'!C566=\"Name\",\"\",IF('4 - Payroll reduction'!H566=\"Table 2\",\"\",'4 - Payroll reduction'!E566))","v":""},{"$f":"IF('4 - Payroll reduction'!C566=\"Name\",\"\",IF('4 - Payroll reduction'!H566=\"Table 2\",\"\",'4 - Payroll reduction'!G566))","v":""},{"$f":"IF('4 - Payroll reduction'!C566=\"Name\",\"\",IF('4 - Payroll reduction'!H566=\"Table 2\",\"\",'4 - Payroll reduction'!F566))","v":""},476]
[{"$f":"IF('4 - Payroll reduction'!C567=\"Name\",\"\",IF('4 - Payroll reduction'!H567=\"Table 2\",\"\",'4 - Payroll reduction'!C567))","v":""},{"$f":"IF('4 - Payroll reduction'!C567=\"Name\",\"\",IF('4 - Payroll reduction'!H567=\"Table 2\",\"\",'4 - Payroll reduction'!D567))","v":""},{"$f":"IF('4 - Payroll reduction'!C567=\"Name\",\"\",IF('4 - Payroll reduction'!H567=\"Table 2\",\"\",'4 - Payroll reduction'!E567))","v":""},{"$f":"IF('4 - Payroll reduction'!C567=\"Name\",\"\",IF('4 - Payroll reduction'!H567=\"Table 2\",\"\",'4 - Payroll reduction'!G567))","v":""},{"$f":"IF('4 - Payroll reduction'!C567=\"Name\",\"\",IF('4 - Payroll reduction'!H567=\"Table 2\",\"\",'4 - Payroll reduction'!F567))","v":""},477]
[{"$f":"IF('4 - Payroll reduction'!C568=\"Name\",\"\",IF('4 - Payroll reduction'!H568=\"Table 2\",\"\",'4 - Payroll reduction'!C568))","v":""},{"$f":"IF('4 - Payroll reduction'!C568=\"Name\",\"\",IF('4 - Payroll reduction'!H568=\"Table 2\",\"\",'4 - Payroll reduction'!D568))","v":""},{"$f":"IF('4 - Payroll reduction'!C568=\"Name\",\"\",IF('4 - Payroll reduction'!H568=\"Table 2\",\"\",'4 - Payroll reduction'!E568))","v":""},{"$f":"IF('4 - Payroll reduction'!C568=\"Name\",\"\",IF('4 - Payroll reduction'!H568=\"Table 2\",\"\",'4 - Payroll reduction'!G568))","v":""},{"$f":"IF('4 - Payroll reduction'!C568=\"Name\",\"\",IF('4 - Payroll reduction'!H568=\"Table 2\",\"\",'4 - Payroll reduction'!F568))","v":""},478]
[{"$f":"IF('4 - Payroll reduction'!C569=\"Name\",\"\",IF('4 - Payroll reduction'!H569=\"Table 2\",\"\",'4 - Payroll reduction'!C569))","v":""},{"$f":"IF('4 - Payroll reduction'!C569=\"Name\",\"\",IF('4 - Payroll reduction'!H569=\"Table 2\",\"\",'4 - Payroll reduction'!D569))","v":""},{"$f":"IF('4 - Payroll reduction'!C569=\"Name\",\"\",IF('4 - Payroll reduction'!H569=\"Table 2\",\"\",'4 - Payroll reduction'!E569))","v":""},{"$f":"IF('4 - Payroll reduction'!C569=\"Name\",\"\",IF('4 - Payroll reduction'!H569=\"Table 2\",\"\",'4 - Payroll reduction'!G569))","v":""},{"$f":"IF('4 - Payroll reduction'!C569=\"Name\",\"\",IF('4 - Payroll reduction'!H569=\"Table 2\",\"\",'4 - Payroll reduction'!F569))","v":""},479]
[{"$f":"IF('4 - Payroll reduction'!C570=\"Name\",\"\",IF('4 - Payroll reduction'!H570=\"Table 2\",\"\",'4 - Payroll reduction'!C570))","v":""},{"$f":"IF('4 - Payroll reduction'!C570=\"Name\",\"\",IF('4 - Payroll reduction'!H570=\"Table 2\",\"\",'4 - Payroll reduction'!D570))","v":""},{"$f":"IF('4 - Payroll reduction'!C570=\"Name\",\"\",IF('4 - Payroll reduction'!H570=\"Table 2\",\"\",'4 - Payroll reduction'!E570))","v":""},{"$f":"IF('4 - Payroll reduction'!C570=\"Name\",\"\",IF('4 - Payroll reduction'!H570=\"Table 2\",\"\",'4 - Payroll reduction'!G570))","v":""},{"$f":"IF('4 - Payroll reduction'!C570=\"Name\",\"\",IF('4 - Payroll reduction'!H570=\"Table 2\",\"\",'4 - Payroll reduction'!F570))","v":""},480]
[{"$f":"IF('4 - Payroll reduction'!C571=\"Name\",\"\",IF('4 - Payroll reduction'!H571=\"Table 2\",\"\",'4 - Payroll reduction'!C571))","v":""},{"$f":"IF('4 - Payroll reduction'!C571=\"Name\",\"\",IF('4 - Payroll reduction'!H571=\"Table 2\",\"\",'4 - Payroll reduction'!D571))","v":""},{"$f":"IF('4 - Payroll reduction'!C571=\"Name\",\"\",IF('4 - Payroll reduction'!H571=\"Table 2\",\"\",'4 - Payroll reduction'!E571))","v":""},{"$f":"IF('4 - Payroll reduction'!C571=\"Name\",\"\",IF('4 - Payroll reduction'!H571=\"Table 2\",\"\",'4 - Payroll reduction'!G571))","v":""},{"$f":"IF('4 - Payroll reduction'!C571=\"Name\",\"\",IF('4 - Payroll reduction'!H571=\"Table 2\",\"\",'4 - Payroll reduction'!F571))","v":""},481]
[{"$f":"IF('4 - Payroll reduction'!C572=\"Name\",\"\",IF('4 - Payroll reduction'!H572=\"Table 2\",\"\",'4 - Payroll reduction'!C572))","v":""},{"$f":"IF('4 - Payroll reduction'!C572=\"Name\",\"\",IF('4 - Payroll reduction'!H572=\"Table 2\",\"\",'4 - Payroll reduction'!D572))","v":""},{"$f":"IF('4 - Payroll reduction'!C572=\"Name\",\"\",IF('4 - Payroll reduction'!H572=\"Table 2\",\"\",'4 - Payroll reduction'!E572))","v":""},{"$f":"IF('4 - Payroll reduction'!C572=\"Name\",\"\",IF('4 - Payroll reduction'!H572=\"Table 2\",\"\",'4 - Payroll reduction'!G572))","v":""},{"$f":"IF('4 - Payroll reduction'!C572=\"Name\",\"\",IF('4 - Payroll reduction'!H572=\"Table 2\",\"\",'4 - Payroll reduction'!F572))","v":""},482]
[{"$f":"IF('4 - Payroll reduction'!C573=\"Name\",\"\",IF('4 - Payroll reduction'!H573=\"Table 2\",\"\",'4 - Payroll reduction'!C573))","v":""},{"$f":"IF('4 - Payroll reduction'!C573=\"Name\",\"\",IF('4 - Payroll reduction'!H573=\"Table 2\",\"\",'4 - Payroll reduction'!D573))","v":""},{"$f":"IF('4 - Payroll reduction'!C573=\"Name\",\"\",IF('4 - Payroll reduction'!H573=\"Table 2\",\"\",'4 - Payroll reduction'!E573))","v":""},{"$f":"IF('4 - Payroll reduction'!C573=\"Name\",\"\",IF('4 - Payroll reduction'!H573=\"Table 2\",\"\",'4 - Payroll reduction'!G573))","v":""},{"$f":"IF('4 - Payroll reduction'!C573=\"Name\",\"\",IF('4 - Payroll reduction'!H573=\"Table 2\",\"\",'4 - Payroll reduction'!F573))","v":""},483]
[{"$f":"IF('4 - Payroll reduction'!C574=\"Name\",\"\",IF('4 - Payroll reduction'!H574=\"Table 2\",\"\",'4 - Payroll reduction'!C574))","v":""},{"$f":"IF('4 - Payroll reduction'!C574=\"Name\",\"\",IF('4 - Payroll reduction'!H574=\"Table 2\",\"\",'4 - Payroll reduction'!D574))","v":""},{"$f":"IF('4 - Payroll reduction'!C574=\"Name\",\"\",IF('4 - Payroll reduction'!H574=\"Table 2\",\"\",'4 - Payroll reduction'!E574))","v":""},{"$f":"IF('4 - Payroll reduction'!C574=\"Name\",\"\",IF('4 - Payroll reduction'!H574=\"Table 2\",\"\",'4 - Payroll reduction'!G574))","v":""},{"$f":"IF('4 - Payroll reduction'!C574=\"Name\",\"\",IF('4 - Payroll reduction'!H574=\"Table 2\",\"\",'4 - Payroll reduction'!F574))","v":""},484]
[{"$f":"IF('4 - Payroll reduction'!C575=\"Name\",\"\",IF('4 - Payroll reduction'!H575=\"Table 2\",\"\",'4 - Payroll reduction'!C575))","v":""},{"$f":"IF('4 - Payroll reduction'!C575=\"Name\",\"\",IF('4 - Payroll reduction'!H575=\"Table 2\",\"\",'4 - Payroll reduction'!D575))","v":""},{"$f":"IF('4 - Payroll reduction'!C575=\"Name\",\"\",IF('4 - Payroll reduction'!H575=\"Table 2\",\"\",'4 - Payroll reduction'!E575))","v":""},{"$f":"IF('4 - Payroll reduction'!C575=\"Name\",\"\",IF('4 - Payroll reduction'!H575=\"Table 2\",\"\",'4 - Payroll reduction'!G575))","v":""},{"$f":"IF('4 - Payroll reduction'!C575=\"Name\",\"\",IF('4 - Payroll reduction'!H575=\"Table 2\",\"\",'4 - Payroll reduction'!F575))","v":""},485]
[{"$f":"IF('4 - Payroll reduction'!C576=\"Name\",\"\",IF('4 - Payroll reduction'!H576=\"Table 2\",\"\",'4 - Payroll reduction'!C576))","v":""},{"$f":"IF('4 - Payroll reduction'!C576=\"Name\",\"\",IF('4 - Payroll reduction'!H576=\"Table 2\",\"\",'4 - Payroll reduction'!D576))","v":""},{"$f":"IF('4 - Payroll reduction'!C576=\"Name\",\"\",IF('4 - Payroll reduction'!H576=\"Table 2\",\"\",'4 - Payroll reduction'!E576))","v":""},{"$f":"IF('4 - Payroll reduction'!C576=\"Name\",\"\",IF('4 - Payroll reduction'!H576=\"Table 2\",\"\",'4 - Payroll reduction'!G576))","v":""},{"$f":"IF('4 - Payroll reduction'!C576=\"Name\",\"\",IF('4 - Payroll reduction'!H576=\"Table 2\",\"\",'4 - Payroll reduction'!F576))","v":""},486]
[{"$f":"IF('4 - Payroll reduction'!C577=\"Name\",\"\",IF('4 - Payroll reduction'!H577=\"Table 2\",\"\",'4 - Payroll reduction'!C577))","v":""},{"$f":"IF('4 - Payroll reduction'!C577=\"Name\",\"\",IF('4 - Payroll reduction'!H577=\"Table 2\",\"\",'4 - Payroll reduction'!D577))","v":""},{"$f":"IF('4 - Payroll reduction'!C577=\"Name\",\"\",IF('4 - Payroll reduction'!H577=\"Table 2\",\"\",'4 - Payroll reduction'!E577))","v":""},{"$f":"IF('4 - Payroll reduction'!C577=\"Name\",\"\",IF('4 - Payroll reduction'!H577=\"Table 2\",\"\",'4 - Payroll reduction'!G577))","v":""},{"$f":"IF('4 - Payroll reduction'!C577=\"Name\",\"\",IF('4 - Payroll reduction'!H577=\"Table 2\",\"\",'4 - Payroll reduction'!F577))","v":""},487]
[{"$f":"IF('4 - Payroll reduction'!C578=\"Name\",\"\",IF('4 - Payroll reduction'!H578=\"Table 2\",\"\",'4 - Payroll reduction'!C578))","v":""},{"$f":"IF('4 - Payroll reduction'!C578=\"Name\",\"\",IF('4 - Payroll reduction'!H578=\"Table 2\",\"\",'4 - Payroll reduction'!D578))","v":""},{"$f":"IF('4 - Payroll reduction'!C578=\"Name\",\"\",IF('4 - Payroll reduction'!H578=\"Table 2\",\"\",'4 - Payroll reduction'!E578))","v":""},{"$f":"IF('4 - Payroll reduction'!C578=\"Name\",\"\",IF('4 - Payroll reduction'!H578=\"Table 2\",\"\",'4 - Payroll reduction'!G578))","v":""},{"$f":"IF('4 - Payroll reduction'!C578=\"Name\",\"\",IF('4 - Payroll reduction'!H578=\"Table 2\",\"\",'4 - Payroll reduction'!F578))","v":""},488]
[{"$f":"IF('4 - Payroll reduction'!C579=\"Name\",\"\",IF('4 - Payroll reduction'!H579=\"Table 2\",\"\",'4 - Payroll reduction'!C579))","v":""},{"$f":"IF('4 - Payroll reduction'!C579=\"Name\",\"\",IF('4 - Payroll reduction'!H579=\"Table 2\",\"\",'4 - Payroll reduction'!D579))","v":""},{"$f":"IF('4 - Payroll reduction'!C579=\"Name\",\"\",IF('4 - Payroll reduction'!H579=\"Table 2\",\"\",'4 - Payroll reduction'!E579))","v":""},{"$f":"IF('4 - Payroll reduction'!C579=\"Name\",\"\",IF('4 - Payroll reduction'!H579=\"Table 2\",\"\",'4 - Payroll reduction'!G579))","v":""},{"$f":"IF('4 - Payroll reduction'!C579=\"Name\",\"\",IF('4 - Payroll reduction'!H579=\"Table 2\",\"\",'4 - Payroll reduction'!F579))","v":""},489]
[{"$f":"IF('4 - Payroll reduction'!C580=\"Name\",\"\",IF('4 - Payroll reduction'!H580=\"Table 2\",\"\",'4 - Payroll reduction'!C580))","v":""},{"$f":"IF('4 - Payroll reduction'!C580=\"Name\",\"\",IF('4 - Payroll reduction'!H580=\"Table 2\",\"\",'4 - Payroll reduction'!D580))","v":""},{"$f":"IF('4 - Payroll reduction'!C580=\"Name\",\"\",IF('4 - Payroll reduction'!H580=\"Table 2\",\"\",'4 - Payroll reduction'!E580))","v":""},{"$f":"IF('4 - Payroll reduction'!C580=\"Name\",\"\",IF('4 - Payroll reduction'!H580=\"Table 2\",\"\",'4 - Payroll reduction'!G580))","v":""},{"$f":"IF('4 - Payroll reduction'!C580=\"Name\",\"\",IF('4 - Payroll reduction'!H580=\"Table 2\",\"\",'4 - Payroll reduction'!F580))","v":""},490]
[{"$f":"IF('4 - Payroll reduction'!C581=\"Name\",\"\",IF('4 - Payroll reduction'!H581=\"Table 2\",\"\",'4 - Payroll reduction'!C581))","v":""},{"$f":"IF('4 - Payroll reduction'!C581=\"Name\",\"\",IF('4 - Payroll reduction'!H581=\"Table 2\",\"\",'4 - Payroll reduction'!D581))","v":""},{"$f":"IF('4 - Payroll reduction'!C581=\"Name\",\"\",IF('4 - Payroll reduction'!H581=\"Table 2\",\"\",'4 - Payroll reduction'!E581))","v":""},{"$f":"IF('4 - Payroll reduction'!C581=\"Name\",\"\",IF('4 - Payroll reduction'!H581=\"Table 2\",\"\",'4 - Payroll reduction'!G581))","v":""},{"$f":"IF('4 - Payroll reduction'!C581=\"Name\",\"\",IF('4 - Payroll reduction'!H581=\"Table 2\",\"\",'4 - Payroll reduction'!F581))","v":""},491]
[{"$f":"IF('4 - Payroll reduction'!C582=\"Name\",\"\",IF('4 - Payroll reduction'!H582=\"Table 2\",\"\",'4 - Payroll reduction'!C582))","v":""},{"$f":"IF('4 - Payroll reduction'!C582=\"Name\",\"\",IF('4 - Payroll reduction'!H582=\"Table 2\",\"\",'4 - Payroll reduction'!D582))","v":""},{"$f":"IF('4 - Payroll reduction'!C582=\"Name\",\"\",IF('4 - Payroll reduction'!H582=\"Table 2\",\"\",'4 - Payroll reduction'!E582))","v":""},{"$f":"IF('4 - Payroll reduction'!C582=\"Name\",\"\",IF('4 - Payroll reduction'!H582=\"Table 2\",\"\",'4 - Payroll reduction'!G582))","v":""},{"$f":"IF('4 - Payroll reduction'!C582=\"Name\",\"\",IF('4 - Payroll reduction'!H582=\"Table 2\",\"\",'4 - Payroll reduction'!F582))","v":""},492]
[{"$f":"IF('4 - Payroll reduction'!C583=\"Name\",\"\",IF('4 - Payroll reduction'!H583=\"Table 2\",\"\",'4 - Payroll reduction'!C583))","v":""},{"$f":"IF('4 - Payroll reduction'!C583=\"Name\",\"\",IF('4 - Payroll reduction'!H583=\"Table 2\",\"\",'4 - Payroll reduction'!D583))","v":""},{"$f":"IF('4 - Payroll reduction'!C583=\"Name\",\"\",IF('4 - Payroll reduction'!H583=\"Table 2\",\"\",'4 - Payroll reduction'!E583))","v":""},{"$f":"IF('4 - Payroll reduction'!C583=\"Name\",\"\",IF('4 - Payroll reduction'!H583=\"Table 2\",\"\",'4 - Payroll reduction'!G583))","v":""},{"$f":"IF('4 - Payroll reduction'!C583=\"Name\",\"\",IF('4 - Payroll reduction'!H583=\"Table 2\",\"\",'4 - Payroll reduction'!F583))","v":""},493]
[{"$f":"IF('4 - Payroll reduction'!C584=\"Name\",\"\",IF('4 - Payroll reduction'!H584=\"Table 2\",\"\",'4 - Payroll reduction'!C584))","v":""},{"$f":"IF('4 - Payroll reduction'!C584=\"Name\",\"\",IF('4 - Payroll reduction'!H584=\"Table 2\",\"\",'4 - Payroll reduction'!D584))","v":""},{"$f":"IF('4 - Payroll reduction'!C584=\"Name\",\"\",IF('4 - Payroll reduction'!H584=\"Table 2\",\"\",'4 - Payroll reduction'!E584))","v":""},{"$f":"IF('4 - Payroll reduction'!C584=\"Name\",\"\",IF('4 - Payroll reduction'!H584=\"Table 2\",\"\",'4 - Payroll reduction'!G584))","v":""},{"$f":"IF('4 - Payroll reduction'!C584=\"Name\",\"\",IF('4 - Payroll reduction'!H584=\"Table 2\",\"\",'4 - Payroll reduction'!F584))","v":""},494]
[{"$f":"IF('4 - Payroll reduction'!C585=\"Name\",\"\",IF('4 - Payroll reduction'!H585=\"Table 2\",\"\",'4 - Payroll reduction'!C585))","v":""},{"$f":"IF('4 - Payroll reduction'!C585=\"Name\",\"\",IF('4 - Payroll reduction'!H585=\"Table 2\",\"\",'4 - Payroll reduction'!D585))","v":""},{"$f":"IF('4 - Payroll reduction'!C585=\"Name\",\"\",IF('4 - Payroll reduction'!H585=\"Table 2\",\"\",'4 - Payroll reduction'!E585))","v":""},{"$f":"IF('4 - Payroll reduction'!C585=\"Name\",\"\",IF('4 - Payroll reduction'!H585=\"Table 2\",\"\",'4 - Payroll reduction'!G585))","v":""},{"$f":"IF('4 - Payroll reduction'!C585=\"Name\",\"\",IF('4 - Payroll reduction'!H585=\"Table 2\",\"\",'4 - Payroll reduction'!F585))","v":""},495]
[{"$f":"IF('4 - Payroll reduction'!C586=\"Name\",\"\",IF('4 - Payroll reduction'!H586=\"Table 2\",\"\",'4 - Payroll reduction'!C586))","v":""},{"$f":"IF('4 - Payroll reduction'!C586=\"Name\",\"\",IF('4 - Payroll reduction'!H586=\"Table 2\",\"\",'4 - Payroll reduction'!D586))","v":""},{"$f":"IF('4 - Payroll reduction'!C586=\"Name\",\"\",IF('4 - Payroll reduction'!H586=\"Table 2\",\"\",'4 - Payroll reduction'!E586))","v":""},{"$f":"IF('4 - Payroll reduction'!C586=\"Name\",\"\",IF('4 - Payroll reduction'!H586=\"Table 2\",\"\",'4 - Payroll reduction'!G586))","v":""},{"$f":"IF('4 - Payroll reduction'!C586=\"Name\",\"\",IF('4 - Payroll reduction'!H586=\"Table 2\",\"\",'4 - Payroll reduction'!F586))","v":""},496]
[{"$f":"IF('4 - Payroll reduction'!C587=\"Name\",\"\",IF('4 - Payroll reduction'!H587=\"Table 2\",\"\",'4 - Payroll reduction'!C587))","v":""},{"$f":"IF('4 - Payroll reduction'!C587=\"Name\",\"\",IF('4 - Payroll reduction'!H587=\"Table 2\",\"\",'4 - Payroll reduction'!D587))","v":""},{"$f":"IF('4 - Payroll reduction'!C587=\"Name\",\"\",IF('4 - Payroll reduction'!H587=\"Table 2\",\"\",'4 - Payroll reduction'!E587))","v":""},{"$f":"IF('4 - Payroll reduction'!C587=\"Name\",\"\",IF('4 - Payroll reduction'!H587=\"Table 2\",\"\",'4 - Payroll reduction'!G587))","v":""},{"$f":"IF('4 - Payroll reduction'!C587=\"Name\",\"\",IF('4 - Payroll reduction'!H587=\"Table 2\",\"\",'4 - Payroll reduction'!F587))","v":""},497]
[{"$f":"IF('4 - Payroll reduction'!C588=\"Name\",\"\",IF('4 - Payroll reduction'!H588=\"Table 2\",\"\",'4 - Payroll reduction'!C588))","v":""},{"$f":"IF('4 - Payroll reduction'!C588=\"Name\",\"\",IF('4 - Payroll reduction'!H588=\"Table 2\",\"\",'4 - Payroll reduction'!D588))","v":""},{"$f":"IF('4 - Payroll reduction'!C588=\"Name\",\"\",IF('4 - Payroll reduction'!H588=\"Table 2\",\"\",'4 - Payroll reduction'!E588))","v":""},{"$f":"IF('4 - Payroll reduction'!C588=\"Name\",\"\",IF('4 - Payroll reduction'!H588=\"Table 2\",\"\",'4 - Payroll reduction'!G588))","v":""},{"$f":"IF('4 - Payroll reduction'!C588=\"Name\",\"\",IF('4 - Payroll reduction'!H588=\"Table 2\",\"\",'4 - Payroll reduction'!F588))","v":""},498]
[{"$f":"IF('4 - Payroll reduction'!C589=\"Name\",\"\",IF('4 - Payroll reduction'!H589=\"Table 2\",\"\",'4 - Payroll reduction'!C589))","v":""},{"$f":"IF('4 - Payroll reduction'!C589=\"Name\",\"\",IF('4 - Payroll reduction'!H589=\"Table 2\",\"\",'4 - Payroll reduction'!D589))","v":""},{"$f":"IF('4 - Payroll reduction'!C589=\"Name\",\"\",IF('4 - Payroll reduction'!H589=\"Table 2\",\"\",'4 - Payroll reduction'!E589))","v":""},{"$f":"IF('4 - Payroll reduction'!C589=\"Name\",\"\",IF('4 - Payroll reduction'!H589=\"Table 2\",\"\",'4 - Payroll reduction'!G589))","v":""},{"$f":"IF('4 - Payroll reduction'!C589=\"Name\",\"\",IF('4 - Payroll reduction'!H589=\"Table 2\",\"\",'4 - Payroll reduction'!F589))","v":""},499]
[{"$f":"IF('4 - Payroll reduction'!C590=\"Name\",\"\",IF('4 - Payroll reduction'!H590=\"Table 2\",\"\",'4 - Payroll reduction'!C590))","v":""},{"$f":"IF('4 - Payroll reduction'!C590=\"Name\",\"\",IF('4 - Payroll reduction'!H590=\"Table 2\",\"\",'4 - Payroll reduction'!D590))","v":""},{"$f":"IF('4 - Payroll reduction'!C590=\"Name\",\"\",IF('4 - Payroll reduction'!H590=\"Table 2\",\"\",'4 - Payroll reduction'!E590))","v":""},{"$f":"IF('4 - Payroll reduction'!C590=\"Name\",\"\",IF('4 - Payroll reduction'!H590=\"Table 2\",\"\",'4 - Payroll reduction'!G590))","v":""},{"$f":"IF('4 - Payroll reduction'!C590=\"Name\",\"\",IF('4 - Payroll reduction'!H590=\"Table 2\",\"\",'4 - Payroll reduction'!F590))","v":""},500]
["FTE Reduction Exceptions:",null,{"$f":"SUM(C10:C509)","v":0},{"$f":"SUM(D10:D509)","v":0},{"$f":"SUM(E10:E509)","v":0}]
["Totals:",null,"Box 1","Box 2","Box 3"]
[]
["Table 2: List employees who:\n     Were employed by the Borrower at any point during the Covered Period or the Alternative Payroll Covered Period whose principal place of residence is in the United States; and\n     Received compensation from the Borrower at an annualized rate of more than $100,000 for any pay period in 2019."]
["Employee's Name","Employee Identifier","Cash Compensation","Average FTE"]
[{"$f":"IF('4 - Payroll reduction'!C91=\"Name\",\"\",IF('4 - Payroll reduction'!H91=\"Table 2\",'4 - Payroll reduction'!C91,\"\"))","v":""},{"$f":"IF('4 - Payroll reduction'!C91=\"Name\",\"\",IF('4 - Payroll reduction'!H91=\"Table 2\",'4 - Payroll reduction'!D91,\"\"))","v":""},{"$f":"IF('4 - Payroll reduction'!C91=\"Name\",\"\",IF('4 - Payroll reduction'!H91=\"Table 2\",'4 - Payroll reduction'!E91,\"\"))","v":""},{"$f":"IF('4 - Payroll reduction'!C91=\"Name\",\"\",IF('4 - Payroll reduction'!H91=\"Table 2\",'4 - Payroll reduction'!G91,\"\"))","v":""},null,1]
[{"$f":"IF('4 - Payroll reduction'!C92=\"Name\",\"\",IF('4 - Payroll reduction'!H92=\"Table 2\",'4 - Payroll reduction'!C92,\"\"))","v":""},{"$f":"IF('4 - Payroll reduction'!C92=\"Name\",\"\",IF('4 - Payroll reduction'!H92=\"Table 2\",'4 - Payroll reduction'!D92,\"\"))","v":""},{"$f":"IF('4 - Payroll reduction'!C92=\"Name\",\"\",IF('4 - Payroll reduction'!H92=\"Table 2\",'4 - Payroll reduction'!E92,\"\"))","v":""},{"$f":"IF('4 - Payroll reduction'!C92=\"Name\",\"\",IF('4 - Payroll reduction'!H92=\"Table 2\",'4 - Payroll reduction'!G92,\"\"))","v":""},null,{"$f":"F515+1","v":2}]
[{"$f":"IF('4 - Payroll reduction'!C93=\"Name\",\"\",IF('4 - Payroll reduction'!H93=\"Table 2\",'4 - Payroll reduction'!C93,\"\"))","v":""},{"$f":"IF('4 - Payroll reduction'!C93=\"Name\",\"\",IF('4 - Payroll reduction'!H93=\"Table 2\",'4 - Payroll reduction'!D93,\"\"))","v":""},{"$f":"IF('4 - Payroll reduction'!C93=\"Name\",\"\",IF('4 - Payroll reduction'!H93=\"Table 2\",'4 - Payroll reduction'!E93,\"\"))","v":""},{"$f":"IF('4 - Payroll reduction'!C93=\"Name\",\"\",IF('4 - Payroll reduction'!H93=\"Table 2\",'4 - Payroll reduction'!G93,\"\"))","v":""},null,{"$f":"F516+1","v":3}]
[{"$f":"IF('4 - Payroll reduction'!C94=\"Name\",\"\",IF('4 - Payroll reduction'!H94=\"Table 2\",'4 - Payroll reduction'!C94,\"\"))","v":""},{"$f":"IF('4 - Payroll reduction'!C94=\"Name\",\"\",IF('4 - Payroll reduction'!H94=\"Table 2\",'4 - Payroll reduction'!D94,\"\"))","v":""},{"$f":"IF('4 - Payroll reduction'!C94=\"Name\",\"\",IF('4 - Payroll reduction'!H94=\"Table 2\",'4 - Payroll reduction'!E94,\"\"))","v":""},{"$f":"IF('4 - Payroll reduction'!C94=\"Name\",\"\",IF('4 - Payroll reduction'!H94=\"Table 2\",'4 - Payroll reduction'!G94,\"\"))","v":""},null,{"$f":"F517+1","v":4}]
[{"$f":"IF('4 - Payroll reduction'!C95=\"Name\",\"\",IF('4 - Payroll reduction'!H95=\"Table 2\",'4 - Payroll reduction'!C95,\"\"))","v":""},{"$f":"IF('4 - Payroll reduction'!C95=\"Name\",\"\",IF('4 - Payroll reduction'!H95=\"Table 2\",'4 - Payroll reduction'!D95,\"\"))","v":""},{"$f":"IF('4 - Payroll reduction'!C95=\"Name\",\"\",IF('4 - Payroll reduction'!H95=\"Table 2\",'4 - Payroll reduction'!E95,\"\"))","v":""},{"$f":"IF('4 - Payroll reduction'!C95=\"Name\",\"\",IF('4 - Payroll reduction'!H95=\"Table 2\",'4 - Payroll reduction'!G95,\"\"))","v":""},null,5]
[{"$f":"IF('4 - Payroll reduction'!C96=\"Name\",\"\",IF('4 - Payroll reduction'!H96=\"Table 2\",'4 - Payroll reduction'!C96,\"\"))","v":""},{"$f":"IF('4 - Payroll reduction'!C96=\"Name\",\"\",IF('4 - Payroll reduction'!H96=\"Table 2\",'4 - Payroll reduction'!D96,\"\"))","v":""},{"$f":"IF('4 - Payroll reduction'!C96=\"Name\",\"\",IF('4 - Payroll reduction'!H96=\"Table 2\",'4 - Payroll reduction'!E96,\"\"))","v":""},{"$f":"IF('4 - Payroll reduction'!C96=\"Name\",\"\",IF('4 - Payroll reduction'!H96=\"Table 2\",'4 - Payroll reduction'!G96,\"\"))","v":""},null,6]
[{"$f":"IF('4 - Payroll reduction'!C97=\"Name\",\"\",IF('4 - Payroll reduction'!H97=\"Table 2\",'4 - Payroll reduction'!C97,\"\"))","v":""},{"$f":"IF('4 - Payroll reduction'!C97=\"Name\",\"\",IF('4 - Payroll reduction'!H97=\"Table 2\",'4 - Payroll reduction'!D97,\"\"))","v":""},{"$f":"IF('4 - Payroll reduction'!C97=\"Name\",\"\",IF('4 - Payroll reduction'!H97=\"Table 2\",'4 - Payroll reduction'!E97,\"\"))","v":""},{"$f":"IF('4 - Payroll reduction'!C97=\"Name\",\"\",IF('4 - Payroll reduction'!H97=\"Table 2\",'4 - Payroll reduction'!G97,\"\"))","v":""},null,7]
[{"$f":"IF('4 - Payroll reduction'!C98=\"Name\",\"\",IF('4 - Payroll reduction'!H98=\"Table 2\",'4 - Payroll reduction'!C98,\"\"))","v":""},{"$f":"IF('4 - Payroll reduction'!C98=\"Name\",\"\",IF('4 - Payroll reduction'!H98=\"Table 2\",'4 - Payroll reduction'!D98,\"\"))","v":""},{"$f":"IF('4 - Payroll reduction'!C98=\"Name\",\"\",IF('4 - Payroll reduction'!H98=\"Table 2\",'4 - Payroll reduction'!E98,\"\"))","v":""},{"$f":"IF('4 - Payroll reduction'!C98=\"Name\",\"\",IF('4 - Payroll reduction'!H98=\"Table 2\",'4 - Payroll reduction'!G98,\"\"))","v":""},null,8]
[{"$f":"IF('4 - Payroll reduction'!C99=\"Name\",\"\",IF('4 - Payroll reduction'!H99=\"Table 2\",'4 - Payroll reduction'!C99,\"\"))","v":""},{"$f":"IF('4 - Payroll reduction'!C99=\"Name\",\"\",IF('4 - Payroll reduction'!H99=\"Table 2\",'4 - Payroll reduction'!D99,\"\"))","v":""},{"$f":"IF('4 - Payroll reduction'!C99=\"Name\",\"\",IF('4 - Payroll reduction'!H99=\"Table 2\",'4 - Payroll reduction'!E99,\"\"))","v":""},{"$f":"IF('4 - Payroll reduction'!C99=\"Name\",\"\",IF('4 - Payroll reduction'!H99=\"Table 2\",'4 - Payroll reduction'!G99,\"\"))","v":""},null,9]
[{"$f":"IF('4 - Payroll reduction'!C100=\"Name\",\"\",IF('4 - Payroll reduction'!H100=\"Table 2\",'4 - Payroll reduction'!C100,\"\"))","v":""},{"$f":"IF('4 - Payroll reduction'!C100=\"Name\",\"\",IF('4 - Payroll reduction'!H100=\"Table 2\",'4 - Payroll reduction'!D100,\"\"))","v":""},{"$f":"IF('4 - Payroll reduction'!C100=\"Name\",\"\",IF('4 - Payroll reduction'!H100=\"Table 2\",'4 - Payroll reduction'!E100,\"\"))","v":""},{"$f":"IF('4 - Payroll reduction'!C100=\"Name\",\"\",IF('4 - Payroll reduction'!H100=\"Table 2\",'4 - Payroll reduction'!G100,\"\"))","v":""},null,10]
[{"$f":"IF('4 - Payroll reduction'!C101=\"Name\",\"\",IF('4 - Payroll reduction'!H101=\"Table 2\",'4 - Payroll reduction'!C101,\"\"))","v":""},{"$f":"IF('4 - Payroll reduction'!C101=\"Name\",\"\",IF('4 - Payroll reduction'!H101=\"Table 2\",'4 - Payroll reduction'!D101,\"\"))","v":""},{"$f":"IF('4 - Payroll reduction'!C101=\"Name\",\"\",IF('4 - Payroll reduction'!H101=\"Table 2\",'4 - Payroll reduction'!E101,\"\"))","v":""},{"$f":"IF('4 - Payroll reduction'!C101=\"Name\",\"\",IF('4 - Payroll reduction'!H101=\"Table 2\",'4 - Payroll reduction'!G101,\"\"))","v":""},null,11]
[{"$f":"IF('4 - Payroll reduction'!C102=\"Name\",\"\",IF('4 - Payroll reduction'!H102=\"Table 2\",'4 - Payroll reduction'!C102,\"\"))","v":""},{"$f":"IF('4 - Payroll reduction'!C102=\"Name\",\"\",IF('4 - Payroll reduction'!H102=\"Table 2\",'4 - Payroll reduction'!D102,\"\"))","v":""},{"$f":"IF('4 - Payroll reduction'!C102=\"Name\",\"\",IF('4 - Payroll reduction'!H102=\"Table 2\",'4 - Payroll reduction'!E102,\"\"))","v":""},{"$f":"IF('4 - Payroll reduction'!C102=\"Name\",\"\",IF('4 - Payroll reduction'!H102=\"Table 2\",'4 - Payroll reduction'!G102,\"\"))","v":""},null,12]
[{"$f":"IF('4 - Payroll reduction'!C103=\"Name\",\"\",IF('4 - Payroll reduction'!H103=\"Table 2\",'4 - Payroll reduction'!C103,\"\"))","v":""},{"$f":"IF('4 - Payroll reduction'!C103=\"Name\",\"\",IF('4 - Payroll reduction'!H103=\"Table 2\",'4 - Payroll reduction'!D103,\"\"))","v":""},{"$f":"IF('4 - Payroll reduction'!C103=\"Name\",\"\",IF('4 - Payroll reduction'!H103=\"Table 2\",'4 - Payroll reduction'!E103,\"\"))","v":""},{"$f":"IF('4 - Payroll reduction'!C103=\"Name\",\"\",IF('4 - Payroll reduction'!H103=\"Table 2\",'4 - Payroll reduction'!G103,\"\"))","v":""},null,13]
[{"$f":"IF('4 - Payroll reduction'!C104=\"Name\",\"\",IF('4 - Payroll reduction'!H104=\"Table 2\",'4 - Payroll reduction'!C104,\"\"))","v":""},{"$f":"IF('4 - Payroll reduction'!C104=\"Name\",\"\",IF('4 - Payroll reduction'!H104=\"Table 2\",'4 - Payroll reduction'!D104,\"\"))","v":""},{"$f":"IF('4 - Payroll reduction'!C104=\"Name\",\"\",IF('4 - Payroll reduction'!H104=\"Table 2\",'4 - Payroll reduction'!E104,\"\"))","v":""},{"$f":"IF('4 - Payroll reduction'!C104=\"Name\",\"\",IF('4 - Payroll reduction'!H104=\"Table 2\",'4 - Payroll reduction'!G104,\"\"))","v":""},null,14]
[{"$f":"IF('4 - Payroll reduction'!C105=\"Name\",\"\",IF('4 - Payroll reduction'!H105=\"Table 2\",'4 - Payroll reduction'!C105,\"\"))","v":""},{"$f":"IF('4 - Payroll reduction'!C105=\"Name\",\"\",IF('4 - Payroll reduction'!H105=\"Table 2\",'4 - Payroll reduction'!D105,\"\"))","v":""},{"$f":"IF('4 - Payroll reduction'!C105=\"Name\",\"\",IF('4 - Payroll reduction'!H105=\"Table 2\",'4 - Payroll reduction'!E105,\"\"))","v":""},{"$f":"IF('4 - Payroll reduction'!C105=\"Name\",\"\",IF('4 - Payroll reduction'!H105=\"Table 2\",'4 - Payroll reduction'!G105,\"\"))","v":""},null,15]
[{"$f":"IF('4 - Payroll reduction'!C106=\"Name\",\"\",IF('4 - Payroll reduction'!H106=\"Table 2\",'4 - Payroll reduction'!C106,\"\"))","v":""},{"$f":"IF('4 - Payroll reduction'!C106=\"Name\",\"\",IF('4 - Payroll reduction'!H106=\"Table 2\",'4 - Payroll reduction'!D106,\"\"))","v":""},{"$f":"IF('4 - Payroll reduction'!C106=\"Name\",\"\",IF('4 - Payroll reduction'!H106=\"Table 2\",'4 - Payroll reduction'!E106,\"\"))","v":""},{"$f":"IF('4 - Payroll reduction'!C106=\"Name\",\"\",IF('4 - Payroll reduction'!H106=\"Table 2\",'4 - Payroll reduction'!G106,\"\"))","v":""},null,16]
[{"$f":"IF('4 - Payroll reduction'!C107=\"Name\",\"\",IF('4 - Payroll reduction'!H107=\"Table 2\",'4 - Payroll reduction'!C107,\"\"))","v":""},{"$f":"IF('4 - Payroll reduction'!C107=\"Name\",\"\",IF('4 - Payroll reduction'!H107=\"Table 2\",'4 - Payroll reduction'!D107,\"\"))","v":""},{"$f":"IF('4 - Payroll reduction'!C107=\"Name\",\"\",IF('4 - Payroll reduction'!H107=\"Table 2\",'4 - Payroll reduction'!E107,\"\"))","v":""},{"$f":"IF('4 - Payroll reduction'!C107=\"Name\",\"\",IF('4 - Payroll reduction'!H107=\"Table 2\",'4 - Payroll reduction'!G107,\"\"))","v":""},null,17]
[{"$f":"IF('4 - Payroll reduction'!C108=\"Name\",\"\",IF('4 - Payroll reduction'!H108=\"Table 2\",'4 - Payroll reduction'!C108,\"\"))","v":""},{"$f":"IF('4 - Payroll reduction'!C108=\"Name\",\"\",IF('4 - Payroll reduction'!H108=\"Table 2\",'4 - Payroll reduction'!D108,\"\"))","v":""},{"$f":"IF('4 - Payroll reduction'!C108=\"Name\",\"\",IF('4 - Payroll reduction'!H108=\"Table 2\",'4 - Payroll reduction'!E108,\"\"))","v":""},{"$f":"IF('4 - Payroll reduction'!C108=\"Name\",\"\",IF('4 - Payroll reduction'!H108=\"Table 2\",'4 - Payroll reduction'!G108,\"\"))","v":""},null,18]
[{"$f":"IF('4 - Payroll reduction'!C109=\"Name\",\"\",IF('4 - Payroll reduction'!H109=\"Table 2\",'4 - Payroll reduction'!C109,\"\"))","v":""},{"$f":"IF('4 - Payroll reduction'!C109=\"Name\",\"\",IF('4 - Payroll reduction'!H109=\"Table 2\",'4 - Payroll reduction'!D109,\"\"))","v":""},{"$f":"IF('4 - Payroll reduction'!C109=\"Name\",\"\",IF('4 - Payroll reduction'!H109=\"Table 2\",'4 - Payroll reduction'!E109,\"\"))","v":""},{"$f":"IF('4 - Payroll reduction'!C109=\"Name\",\"\",IF('4 - Payroll reduction'!H109=\"Table 2\",'4 - Payroll reduction'!G109,\"\"))","v":""},null,19]
[{"$f":"IF('4 - Payroll reduction'!C110=\"Name\",\"\",IF('4 - Payroll reduction'!H110=\"Table 2\",'4 - Payroll reduction'!C110,\"\"))","v":""},{"$f":"IF('4 - Payroll reduction'!C110=\"Name\",\"\",IF('4 - Payroll reduction'!H110=\"Table 2\",'4 - Payroll reduction'!D110,\"\"))","v":""},{"$f":"IF('4 - Payroll reduction'!C110=\"Name\",\"\",IF('4 - Payroll reduction'!H110=\"Table 2\",'4 - Payroll reduction'!E110,\"\"))","v":""},{"$f":"IF('4 - Payroll reduction'!C110=\"Name\",\"\",IF('4 - Payroll reduction'!H110=\"Table 2\",'4 - Payroll reduction'!G110,\"\"))","v":""},null,20]
[{"$f":"IF('4 - Payroll reduction'!C111=\"Name\",\"\",IF('4 - Payroll reduction'!H111=\"Table 2\",'4 - Payroll reduction'!C111,\"\"))","v":""},{"$f":"IF('4 - Payroll reduction'!C111=\"Name\",\"\",IF('4 - Payroll reduction'!H111=\"Table 2\",'4 - Payroll reduction'!D111,\"\"))","v":""},{"$f":"IF('4 - Payroll reduction'!C111=\"Name\",\"\",IF('4 - Payroll reduction'!H111=\"Table 2\",'4 - Payroll reduction'!E111,\"\"))","v":""},{"$f":"IF('4 - Payroll reduction'!C111=\"Name\",\"\",IF('4 - Payroll reduction'!H111=\"Table 2\",'4 - Payroll reduction'!G111,\"\"))","v":""},null,21]
[{"$f":"IF('4 - Payroll reduction'!C112=\"Name\",\"\",IF('4 - Payroll reduction'!H112=\"Table 2\",'4 - Payroll reduction'!C112,\"\"))","v":""},{"$f":"IF('4 - Payroll reduction'!C112=\"Name\",\"\",IF('4 - Payroll reduction'!H112=\"Table 2\",'4 - Payroll reduction'!D112,\"\"))","v":""},{"$f":"IF('4 - Payroll reduction'!C112=\"Name\",\"\",IF('4 - Payroll reduction'!H112=\"Table 2\",'4 - Payroll reduction'!E112,\"\"))","v":""},{"$f":"IF('4 - Payroll reduction'!C112=\"Name\",\"\",IF('4 - Payroll reduction'!H112=\"Table 2\",'4 - Payroll reduction'!G112,\"\"))","v":""},null,22]
[{"$f":"IF('4 - Payroll reduction'!C113=\"Name\",\"\",IF('4 - Payroll reduction'!H113=\"Table 2\",'4 - Payroll reduction'!C113,\"\"))","v":""},{"$f":"IF('4 - Payroll reduction'!C113=\"Name\",\"\",IF('4 - Payroll reduction'!H113=\"Table 2\",'4 - Payroll reduction'!D113,\"\"))","v":""},{"$f":"IF('4 - Payroll reduction'!C113=\"Name\",\"\",IF('4 - Payroll reduction'!H113=\"Table 2\",'4 - Payroll reduction'!E113,\"\"))","v":""},{"$f":"IF('4 - Payroll reduction'!C113=\"Name\",\"\",IF('4 - Payroll reduction'!H113=\"Table 2\",'4 - Payroll reduction'!G113,\"\"))","v":""},null,23]
[{"$f":"IF('4 - Payroll reduction'!C114=\"Name\",\"\",IF('4 - Payroll reduction'!H114=\"Table 2\",'4 - Payroll reduction'!C114,\"\"))","v":""},{"$f":"IF('4 - Payroll reduction'!C114=\"Name\",\"\",IF('4 - Payroll reduction'!H114=\"Table 2\",'4 - Payroll reduction'!D114,\"\"))","v":""},{"$f":"IF('4 - Payroll reduction'!C114=\"Name\",\"\",IF('4 - Payroll reduction'!H114=\"Table 2\",'4 - Payroll reduction'!E114,\"\"))","v":""},{"$f":"IF('4 - Payroll reduction'!C114=\"Name\",\"\",IF('4 - Payroll reduction'!H114=\"Table 2\",'4 - Payroll reduction'!G114,\"\"))","v":""},null,24]
[{"$f":"IF('4 - Payroll reduction'!C115=\"Name\",\"\",IF('4 - Payroll reduction'!H115=\"Table 2\",'4 - Payroll reduction'!C115,\"\"))","v":""},{"$f":"IF('4 - Payroll reduction'!C115=\"Name\",\"\",IF('4 - Payroll reduction'!H115=\"Table 2\",'4 - Payroll reduction'!D115,\"\"))","v":""},{"$f":"IF('4 - Payroll reduction'!C115=\"Name\",\"\",IF('4 - Payroll reduction'!H115=\"Table 2\",'4 - Payroll reduction'!E115,\"\"))","v":""},{"$f":"IF('4 - Payroll reduction'!C115=\"Name\",\"\",IF('4 - Payroll reduction'!H115=\"Table 2\",'4 - Payroll reduction'!G115,\"\"))","v":""},null,25]
[{"$f":"IF('4 - Payroll reduction'!C116=\"Name\",\"\",IF('4 - Payroll reduction'!H116=\"Table 2\",'4 - Payroll reduction'!C116,\"\"))","v":""},{"$f":"IF('4 - Payroll reduction'!C116=\"Name\",\"\",IF('4 - Payroll reduction'!H116=\"Table 2\",'4 - Payroll reduction'!D116,\"\"))","v":""},{"$f":"IF('4 - Payroll reduction'!C116=\"Name\",\"\",IF('4 - Payroll reduction'!H116=\"Table 2\",'4 - Payroll reduction'!E116,\"\"))","v":""},{"$f":"IF('4 - Payroll reduction'!C116=\"Name\",\"\",IF('4 - Payroll reduction'!H116=\"Table 2\",'4 - Payroll reduction'!G116,\"\"))","v":""},null,26]
[{"$f":"IF('4 - Payroll reduction'!C117=\"Name\",\"\",IF('4 - Payroll reduction'!H117=\"Table 2\",'4 - Payroll reduction'!C117,\"\"))","v":""},{"$f":"IF('4 - Payroll reduction'!C117=\"Name\",\"\",IF('4 - Payroll reduction'!H117=\"Table 2\",'4 - Payroll reduction'!D117,\"\"))","v":""},{"$f":"IF('4 - Payroll reduction'!C117=\"Name\",\"\",IF('4 - Payroll reduction'!H117=\"Table 2\",'4 - Payroll reduction'!E117,\"\"))","v":""},{"$f":"IF('4 - Payroll reduction'!C117=\"Name\",\"\",IF('4 - Payroll reduction'!H117=\"Table 2\",'4 - Payroll reduction'!G117,\"\"))","v":""},null,27]
[{"$f":"IF('4 - Payroll reduction'!C118=\"Name\",\"\",IF('4 - Payroll reduction'!H118=\"Table 2\",'4 - Payroll reduction'!C118,\"\"))","v":""},{"$f":"IF('4 - Payroll reduction'!C118=\"Name\",\"\",IF('4 - Payroll reduction'!H118=\"Table 2\",'4 - Payroll reduction'!D118,\"\"))","v":""},{"$f":"IF('4 - Payroll reduction'!C118=\"Name\",\"\",IF('4 - Payroll reduction'!H118=\"Table 2\",'4 - Payroll reduction'!E118,\"\"))","v":""},{"$f":"IF('4 - Payroll reduction'!C118=\"Name\",\"\",IF('4 - Payroll reduction'!H118=\"Table 2\",'4 - Payroll reduction'!G118,\"\"))","v":""},null,28]
[{"$f":"IF('4 - Payroll reduction'!C119=\"Name\",\"\",IF('4 - Payroll reduction'!H119=\"Table 2\",'4 - Payroll reduction'!C119,\"\"))","v":""},{"$f":"IF('4 - Payroll reduction'!C119=\"Name\",\"\",IF('4 - Payroll reduction'!H119=\"Table 2\",'4 - Payroll reduction'!D119,\"\"))","v":""},{"$f":"IF('4 - Payroll reduction'!C119=\"Name\",\"\",IF('4 - Payroll reduction'!H119=\"Table 2\",'4 - Payroll reduction'!E119,\"\"))","v":""},{"$f":"IF('4 - Payroll reduction'!C119=\"Name\",\"\",IF('4 - Payroll reduction'!H119=\"Table 2\",'4 - Payroll reduction'!G119,\"\"))","v":""},null,29]
[{"$f":"IF('4 - Payroll reduction'!C120=\"Name\",\"\",IF('4 - Payroll reduction'!H120=\"Table 2\",'4 - Payroll reduction'!C120,\"\"))","v":""},{"$f":"IF('4 - Payroll reduction'!C120=\"Name\",\"\",IF('4 - Payroll reduction'!H120=\"Table 2\",'4 - Payroll reduction'!D120,\"\"))","v":""},{"$f":"IF('4 - Payroll reduction'!C120=\"Name\",\"\",IF('4 - Payroll reduction'!H120=\"Table 2\",'4 - Payroll reduction'!E120,\"\"))","v":""},{"$f":"IF('4 - Payroll reduction'!C120=\"Name\",\"\",IF('4 - Payroll reduction'!H120=\"Table 2\",'4 - Payroll reduction'!G120,\"\"))","v":""},null,30]
[{"$f":"IF('4 - Payroll reduction'!C121=\"Name\",\"\",IF('4 - Payroll reduction'!H121=\"Table 2\",'4 - Payroll reduction'!C121,\"\"))","v":""},{"$f":"IF('4 - Payroll reduction'!C121=\"Name\",\"\",IF('4 - Payroll reduction'!H121=\"Table 2\",'4 - Payroll reduction'!D121,\"\"))","v":""},{"$f":"IF('4 - Payroll reduction'!C121=\"Name\",\"\",IF('4 - Payroll reduction'!H121=\"Table 2\",'4 - Payroll reduction'!E121,\"\"))","v":""},{"$f":"IF('4 - Payroll reduction'!C121=\"Name\",\"\",IF('4 - Payroll reduction'!H121=\"Table 2\",'4 - Payroll reduction'!G121,\"\"))","v":""},null,31]
[{"$f":"IF('4 - Payroll reduction'!C122=\"Name\",\"\",IF('4 - Payroll reduction'!H122=\"Table 2\",'4 - Payroll reduction'!C122,\"\"))","v":""},{"$f":"IF('4 - Payroll reduction'!C122=\"Name\",\"\",IF('4 - Payroll reduction'!H122=\"Table 2\",'4 - Payroll reduction'!D122,\"\"))","v":""},{"$f":"IF('4 - Payroll reduction'!C122=\"Name\",\"\",IF('4 - Payroll reduction'!H122=\"Table 2\",'4 - Payroll reduction'!E122,\"\"))","v":""},{"$f":"IF('4 - Payroll reduction'!C122=\"Name\",\"\",IF('4 - Payroll reduction'!H122=\"Table 2\",'4 - Payroll reduction'!G122,\"\"))","v":""},null,32]
[{"$f":"IF('4 - Payroll reduction'!C123=\"Name\",\"\",IF('4 - Payroll reduction'!H123=\"Table 2\",'4 - Payroll reduction'!C123,\"\"))","v":""},{"$f":"IF('4 - Payroll reduction'!C123=\"Name\",\"\",IF('4 - Payroll reduction'!H123=\"Table 2\",'4 - Payroll reduction'!D123,\"\"))","v":""},{"$f":"IF('4 - Payroll reduction'!C123=\"Name\",\"\",IF('4 - Payroll reduction'!H123=\"Table 2\",'4 - Payroll reduction'!E123,\"\"))","v":""},{"$f":"IF('4 - Payroll reduction'!C123=\"Name\",\"\",IF('4 - Payroll reduction'!H123=\"Table 2\",'4 - Payroll reduction'!G123,\"\"))","v":""},null,33]
[{"$f":"IF('4 - Payroll reduction'!C124=\"Name\",\"\",IF('4 - Payroll reduction'!H124=\"Table 2\",'4 - Payroll reduction'!C124,\"\"))","v":""},{"$f":"IF('4 - Payroll reduction'!C124=\"Name\",\"\",IF('4 - Payroll reduction'!H124=\"Table 2\",'4 - Payroll reduction'!D124,\"\"))","v":""},{"$f":"IF('4 - Payroll reduction'!C124=\"Name\",\"\",IF('4 - Payroll reduction'!H124=\"Table 2\",'4 - Payroll reduction'!E124,\"\"))","v":""},{"$f":"IF('4 - Payroll reduction'!C124=\"Name\",\"\",IF('4 - Payroll reduction'!H124=\"Table 2\",'4 - Payroll reduction'!G124,\"\"))","v":""},null,34]
[{"$f":"IF('4 - Payroll reduction'!C125=\"Name\",\"\",IF('4 - Payroll reduction'!H125=\"Table 2\",'4 - Payroll reduction'!C125,\"\"))","v":""},{"$f":"IF('4 - Payroll reduction'!C125=\"Name\",\"\",IF('4 - Payroll reduction'!H125=\"Table 2\",'4 - Payroll reduction'!D125,\"\"))","v":""},{"$f":"IF('4 - Payroll reduction'!C125=\"Name\",\"\",IF('4 - Payroll reduction'!H125=\"Table 2\",'4 - Payroll reduction'!E125,\"\"))","v":""},{"$f":"IF('4 - Payroll reduction'!C125=\"Name\",\"\",IF('4 - Payroll reduction'!H125=\"Table 2\",'4 - Payroll reduction'!G125,\"\"))","v":""},null,35]
[{"$f":"IF('4 - Payroll reduction'!C126=\"Name\",\"\",IF('4 - Payroll reduction'!H126=\"Table 2\",'4 - Payroll reduction'!C126,\"\"))","v":""},{"$f":"IF('4 - Payroll reduction'!C126=\"Name\",\"\",IF('4 - Payroll reduction'!H126=\"Table 2\",'4 - Payroll reduction'!D126,\"\"))","v":""},{"$f":"IF('4 - Payroll reduction'!C126=\"Name\",\"\",IF('4 - Payroll reduction'!H126=\"Table 2\",'4 - Payroll reduction'!E126,\"\"))","v":""},{"$f":"IF('4 - Payroll reduction'!C126=\"Name\",\"\",IF('4 - Payroll reduction'!H126=\"Table 2\",'4 - Payroll reduction'!G126,\"\"))","v":""},null,36]
[{"$f":"IF('4 - Payroll reduction'!C127=\"Name\",\"\",IF('4 - Payroll reduction'!H127=\"Table 2\",'4 - Payroll reduction'!C127,\"\"))","v":""},{"$f":"IF('4 - Payroll reduction'!C127=\"Name\",\"\",IF('4 - Payroll reduction'!H127=\"Table 2\",'4 - Payroll reduction'!D127,\"\"))","v":""},{"$f":"IF('4 - Payroll reduction'!C127=\"Name\",\"\",IF('4 - Payroll reduction'!H127=\"Table 2\",'4 - Payroll reduction'!E127,\"\"))","v":""},{"$f":"IF('4 - Payroll reduction'!C127=\"Name\",\"\",IF('4 - Payroll reduction'!H127=\"Table 2\",'4 - Payroll reduction'!G127,\"\"))","v":""},null,37]
[{"$f":"IF('4 - Payroll reduction'!C128=\"Name\",\"\",IF('4 - Payroll reduction'!H128=\"Table 2\",'4 - Payroll reduction'!C128,\"\"))","v":""},{"$f":"IF('4 - Payroll reduction'!C128=\"Name\",\"\",IF('4 - Payroll reduction'!H128=\"Table 2\",'4 - Payroll reduction'!D128,\"\"))","v":""},{"$f":"IF('4 - Payroll reduction'!C128=\"Name\",\"\",IF('4 - Payroll reduction'!H128=\"Table 2\",'4 - Payroll reduction'!E128,\"\"))","v":""},{"$f":"IF('4 - Payroll reduction'!C128=\"Name\",\"\",IF('4 - Payroll reduction'!H128=\"Table 2\",'4 - Payroll reduction'!G128,\"\"))","v":""},null,38]
[{"$f":"IF('4 - Payroll reduction'!C129=\"Name\",\"\",IF('4 - Payroll reduction'!H129=\"Table 2\",'4 - Payroll reduction'!C129,\"\"))","v":""},{"$f":"IF('4 - Payroll reduction'!C129=\"Name\",\"\",IF('4 - Payroll reduction'!H129=\"Table 2\",'4 - Payroll reduction'!D129,\"\"))","v":""},{"$f":"IF('4 - Payroll reduction'!C129=\"Name\",\"\",IF('4 - Payroll reduction'!H129=\"Table 2\",'4 - Payroll reduction'!E129,\"\"))","v":""},{"$f":"IF('4 - Payroll reduction'!C129=\"Name\",\"\",IF('4 - Payroll reduction'!H129=\"Table 2\",'4 - Payroll reduction'!G129,\"\"))","v":""},null,39]
[{"$f":"IF('4 - Payroll reduction'!C130=\"Name\",\"\",IF('4 - Payroll reduction'!H130=\"Table 2\",'4 - Payroll reduction'!C130,\"\"))","v":""},{"$f":"IF('4 - Payroll reduction'!C130=\"Name\",\"\",IF('4 - Payroll reduction'!H130=\"Table 2\",'4 - Payroll reduction'!D130,\"\"))","v":""},{"$f":"IF('4 - Payroll reduction'!C130=\"Name\",\"\",IF('4 - Payroll reduction'!H130=\"Table 2\",'4 - Payroll reduction'!E130,\"\"))","v":""},{"$f":"IF('4 - Payroll reduction'!C130=\"Name\",\"\",IF('4 - Payroll reduction'!H130=\"Table 2\",'4 - Payroll reduction'!G130,\"\"))","v":""},null,40]
[{"$f":"IF('4 - Payroll reduction'!C131=\"Name\",\"\",IF('4 - Payroll reduction'!H131=\"Table 2\",'4 - Payroll reduction'!C131,\"\"))","v":""},{"$f":"IF('4 - Payroll reduction'!C131=\"Name\",\"\",IF('4 - Payroll reduction'!H131=\"Table 2\",'4 - Payroll reduction'!D131,\"\"))","v":""},{"$f":"IF('4 - Payroll reduction'!C131=\"Name\",\"\",IF('4 - Payroll reduction'!H131=\"Table 2\",'4 - Payroll reduction'!E131,\"\"))","v":""},{"$f":"IF('4 - Payroll reduction'!C131=\"Name\",\"\",IF('4 - Payroll reduction'!H131=\"Table 2\",'4 - Payroll reduction'!G131,\"\"))","v":""},null,41]
[{"$f":"IF('4 - Payroll reduction'!C132=\"Name\",\"\",IF('4 - Payroll reduction'!H132=\"Table 2\",'4 - Payroll reduction'!C132,\"\"))","v":""},{"$f":"IF('4 - Payroll reduction'!C132=\"Name\",\"\",IF('4 - Payroll reduction'!H132=\"Table 2\",'4 - Payroll reduction'!D132,\"\"))","v":""},{"$f":"IF('4 - Payroll reduction'!C132=\"Name\",\"\",IF('4 - Payroll reduction'!H132=\"Table 2\",'4 - Payroll reduction'!E132,\"\"))","v":""},{"$f":"IF('4 - Payroll reduction'!C132=\"Name\",\"\",IF('4 - Payroll reduction'!H132=\"Table 2\",'4 - Payroll reduction'!G132,\"\"))","v":""},null,42]
[{"$f":"IF('4 - Payroll reduction'!C133=\"Name\",\"\",IF('4 - Payroll reduction'!H133=\"Table 2\",'4 - Payroll reduction'!C133,\"\"))","v":""},{"$f":"IF('4 - Payroll reduction'!C133=\"Name\",\"\",IF('4 - Payroll reduction'!H133=\"Table 2\",'4 - Payroll reduction'!D133,\"\"))","v":""},{"$f":"IF('4 - Payroll reduction'!C133=\"Name\",\"\",IF('4 - Payroll reduction'!H133=\"Table 2\",'4 - Payroll reduction'!E133,\"\"))","v":""},{"$f":"IF('4 - Payroll reduction'!C133=\"Name\",\"\",IF('4 - Payroll reduction'!H133=\"Table 2\",'4 - Payroll reduction'!G133,\"\"))","v":""},null,43]
[{"$f":"IF('4 - Payroll reduction'!C134=\"Name\",\"\",IF('4 - Payroll reduction'!H134=\"Table 2\",'4 - Payroll reduction'!C134,\"\"))","v":""},{"$f":"IF('4 - Payroll reduction'!C134=\"Name\",\"\",IF('4 - Payroll reduction'!H134=\"Table 2\",'4 - Payroll reduction'!D134,\"\"))","v":""},{"$f":"IF('4 - Payroll reduction'!C134=\"Name\",\"\",IF('4 - Payroll reduction'!H134=\"Table 2\",'4 - Payroll reduction'!E134,\"\"))","v":""},{"$f":"IF('4 - Payroll reduction'!C134=\"Name\",\"\",IF('4 - Payroll reduction'!H134=\"Table 2\",'4 - Payroll reduction'!G134,\"\"))","v":""},null,44]
[{"$f":"IF('4 - Payroll reduction'!C135=\"Name\",\"\",IF('4 - Payroll reduction'!H135=\"Table 2\",'4 - Payroll reduction'!C135,\"\"))","v":""},{"$f":"IF('4 - Payroll reduction'!C135=\"Name\",\"\",IF('4 - Payroll reduction'!H135=\"Table 2\",'4 - Payroll reduction'!D135,\"\"))","v":""},{"$f":"IF('4 - Payroll reduction'!C135=\"Name\",\"\",IF('4 - Payroll reduction'!H135=\"Table 2\",'4 - Payroll reduction'!E135,\"\"))","v":""},{"$f":"IF('4 - Payroll reduction'!C135=\"Name\",\"\",IF('4 - Payroll reduction'!H135=\"Table 2\",'4 - Payroll reduction'!G135,\"\"))","v":""},null,45]
[{"$f":"IF('4 - Payroll reduction'!C136=\"Name\",\"\",IF('4 - Payroll reduction'!H136=\"Table 2\",'4 - Payroll reduction'!C136,\"\"))","v":""},{"$f":"IF('4 - Payroll reduction'!C136=\"Name\",\"\",IF('4 - Payroll reduction'!H136=\"Table 2\",'4 - Payroll reduction'!D136,\"\"))","v":""},{"$f":"IF('4 - Payroll reduction'!C136=\"Name\",\"\",IF('4 - Payroll reduction'!H136=\"Table 2\",'4 - Payroll reduction'!E136,\"\"))","v":""},{"$f":"IF('4 - Payroll reduction'!C136=\"Name\",\"\",IF('4 - Payroll reduction'!H136=\"Table 2\",'4 - Payroll reduction'!G136,\"\"))","v":""},null,46]
[{"$f":"IF('4 - Payroll reduction'!C137=\"Name\",\"\",IF('4 - Payroll reduction'!H137=\"Table 2\",'4 - Payroll reduction'!C137,\"\"))","v":""},{"$f":"IF('4 - Payroll reduction'!C137=\"Name\",\"\",IF('4 - Payroll reduction'!H137=\"Table 2\",'4 - Payroll reduction'!D137,\"\"))","v":""},{"$f":"IF('4 - Payroll reduction'!C137=\"Name\",\"\",IF('4 - Payroll reduction'!H137=\"Table 2\",'4 - Payroll reduction'!E137,\"\"))","v":""},{"$f":"IF('4 - Payroll reduction'!C137=\"Name\",\"\",IF('4 - Payroll reduction'!H137=\"Table 2\",'4 - Payroll reduction'!G137,\"\"))","v":""},null,47]
[{"$f":"IF('4 - Payroll reduction'!C138=\"Name\",\"\",IF('4 - Payroll reduction'!H138=\"Table 2\",'4 - Payroll reduction'!C138,\"\"))","v":""},{"$f":"IF('4 - Payroll reduction'!C138=\"Name\",\"\",IF('4 - Payroll reduction'!H138=\"Table 2\",'4 - Payroll reduction'!D138,\"\"))","v":""},{"$f":"IF('4 - Payroll reduction'!C138=\"Name\",\"\",IF('4 - Payroll reduction'!H138=\"Table 2\",'4 - Payroll reduction'!E138,\"\"))","v":""},{"$f":"IF('4 - Payroll reduction'!C138=\"Name\",\"\",IF('4 - Payroll reduction'!H138=\"Table 2\",'4 - Payroll reduction'!G138,\"\"))","v":""},null,48]
[{"$f":"IF('4 - Payroll reduction'!C139=\"Name\",\"\",IF('4 - Payroll reduction'!H139=\"Table 2\",'4 - Payroll reduction'!C139,\"\"))","v":""},{"$f":"IF('4 - Payroll reduction'!C139=\"Name\",\"\",IF('4 - Payroll reduction'!H139=\"Table 2\",'4 - Payroll reduction'!D139,\"\"))","v":""},{"$f":"IF('4 - Payroll reduction'!C139=\"Name\",\"\",IF('4 - Payroll reduction'!H139=\"Table 2\",'4 - Payroll reduction'!E139,\"\"))","v":""},{"$f":"IF('4 - Payroll reduction'!C139=\"Name\",\"\",IF('4 - Payroll reduction'!H139=\"Table 2\",'4 - Payroll reduction'!G139,\"\"))","v":""},null,49]
[{"$f":"IF('4 - Payroll reduction'!C140=\"Name\",\"\",IF('4 - Payroll reduction'!H140=\"Table 2\",'4 - Payroll reduction'!C140,\"\"))","v":""},{"$f":"IF('4 - Payroll reduction'!C140=\"Name\",\"\",IF('4 - Payroll reduction'!H140=\"Table 2\",'4 - Payroll reduction'!D140,\"\"))","v":""},{"$f":"IF('4 - Payroll reduction'!C140=\"Name\",\"\",IF('4 - Payroll reduction'!H140=\"Table 2\",'4 - Payroll reduction'!E140,\"\"))","v":""},{"$f":"IF('4 - Payroll reduction'!C140=\"Name\",\"\",IF('4 - Payroll reduction'!H140=\"Table 2\",'4 - Payroll reduction'!G140,\"\"))","v":""},null,50]
[{"$f":"IF('4 - Payroll reduction'!C141=\"Name\",\"\",IF('4 - Payroll reduction'!H141=\"Table 2\",'4 - Payroll reduction'!C141,\"\"))","v":""},{"$f":"IF('4 - Payroll reduction'!C141=\"Name\",\"\",IF('4 - Payroll reduction'!H141=\"Table 2\",'4 - Payroll reduction'!D141,\"\"))","v":""},{"$f":"IF('4 - Payroll reduction'!C141=\"Name\",\"\",IF('4 - Payroll reduction'!H141=\"Table 2\",'4 - Payroll reduction'!E141,\"\"))","v":""},{"$f":"IF('4 - Payroll reduction'!C141=\"Name\",\"\",IF('4 - Payroll reduction'!H141=\"Table 2\",'4 - Payroll reduction'!G141,\"\"))","v":""},null,51]
[{"$f":"IF('4 - Payroll reduction'!C142=\"Name\",\"\",IF('4 - Payroll reduction'!H142=\"Table 2\",'4 - Payroll reduction'!C142,\"\"))","v":""},{"$f":"IF('4 - Payroll reduction'!C142=\"Name\",\"\",IF('4 - Payroll reduction'!H142=\"Table 2\",'4 - Payroll reduction'!D142,\"\"))","v":""},{"$f":"IF('4 - Payroll reduction'!C142=\"Name\",\"\",IF('4 - Payroll reduction'!H142=\"Table 2\",'4 - Payroll reduction'!E142,\"\"))","v":""},{"$f":"IF('4 - Payroll reduction'!C142=\"Name\",\"\",IF('4 - Payroll reduction'!H142=\"Table 2\",'4 - Payroll reduction'!G142,\"\"))","v":""},null,52]
[{"$f":"IF('4 - Payroll reduction'!C143=\"Name\",\"\",IF('4 - Payroll reduction'!H143=\"Table 2\",'4 - Payroll reduction'!C143,\"\"))","v":""},{"$f":"IF('4 - Payroll reduction'!C143=\"Name\",\"\",IF('4 - Payroll reduction'!H143=\"Table 2\",'4 - Payroll reduction'!D143,\"\"))","v":""},{"$f":"IF('4 - Payroll reduction'!C143=\"Name\",\"\",IF('4 - Payroll reduction'!H143=\"Table 2\",'4 - Payroll reduction'!E143,\"\"))","v":""},{"$f":"IF('4 - Payroll reduction'!C143=\"Name\",\"\",IF('4 - Payroll reduction'!H143=\"Table 2\",'4 - Payroll reduction'!G143,\"\"))","v":""},null,53]
[{"$f":"IF('4 - Payroll reduction'!C144=\"Name\",\"\",IF('4 - Payroll reduction'!H144=\"Table 2\",'4 - Payroll reduction'!C144,\"\"))","v":""},{"$f":"IF('4 - Payroll reduction'!C144=\"Name\",\"\",IF('4 - Payroll reduction'!H144=\"Table 2\",'4 - Payroll reduction'!D144,\"\"))","v":""},{"$f":"IF('4 - Payroll reduction'!C144=\"Name\",\"\",IF('4 - Payroll reduction'!H144=\"Table 2\",'4 - Payroll reduction'!E144,\"\"))","v":""},{"$f":"IF('4 - Payroll reduction'!C144=\"Name\",\"\",IF('4 - Payroll reduction'!H144=\"Table 2\",'4 - Payroll reduction'!G144,\"\"))","v":""},null,54]
[{"$f":"IF('4 - Payroll reduction'!C145=\"Name\",\"\",IF('4 - Payroll reduction'!H145=\"Table 2\",'4 - Payroll reduction'!C145,\"\"))","v":""},{"$f":"IF('4 - Payroll reduction'!C145=\"Name\",\"\",IF('4 - Payroll reduction'!H145=\"Table 2\",'4 - Payroll reduction'!D145,\"\"))","v":""},{"$f":"IF('4 - Payroll reduction'!C145=\"Name\",\"\",IF('4 - Payroll reduction'!H145=\"Table 2\",'4 - Payroll reduction'!E145,\"\"))","v":""},{"$f":"IF('4 - Payroll reduction'!C145=\"Name\",\"\",IF('4 - Payroll reduction'!H145=\"Table 2\",'4 - Payroll reduction'!G145,\"\"))","v":""},null,55]
[{"$f":"IF('4 - Payroll reduction'!C146=\"Name\",\"\",IF('4 - Payroll reduction'!H146=\"Table 2\",'4 - Payroll reduction'!C146,\"\"))","v":""},{"$f":"IF('4 - Payroll reduction'!C146=\"Name\",\"\",IF('4 - Payroll reduction'!H146=\"Table 2\",'4 - Payroll reduction'!D146,\"\"))","v":""},{"$f":"IF('4 - Payroll reduction'!C146=\"Name\",\"\",IF('4 - Payroll reduction'!H146=\"Table 2\",'4 - Payroll reduction'!E146,\"\"))","v":""},{"$f":"IF('4 - Payroll reduction'!C146=\"Name\",\"\",IF('4 - Payroll reduction'!H146=\"Table 2\",'4 - Payroll reduction'!G146,\"\"))","v":""},null,56]
[{"$f":"IF('4 - Payroll reduction'!C147=\"Name\",\"\",IF('4 - Payroll reduction'!H147=\"Table 2\",'4 - Payroll reduction'!C147,\"\"))","v":""},{"$f":"IF('4 - Payroll reduction'!C147=\"Name\",\"\",IF('4 - Payroll reduction'!H147=\"Table 2\",'4 - Payroll reduction'!D147,\"\"))","v":""},{"$f":"IF('4 - Payroll reduction'!C147=\"Name\",\"\",IF('4 - Payroll reduction'!H147=\"Table 2\",'4 - Payroll reduction'!E147,\"\"))","v":""},{"$f":"IF('4 - Payroll reduction'!C147=\"Name\",\"\",IF('4 - Payroll reduction'!H147=\"Table 2\",'4 - Payroll reduction'!G147,\"\"))","v":""},null,57]
[{"$f":"IF('4 - Payroll reduction'!C148=\"Name\",\"\",IF('4 - Payroll reduction'!H148=\"Table 2\",'4 - Payroll reduction'!C148,\"\"))","v":""},{"$f":"IF('4 - Payroll reduction'!C148=\"Name\",\"\",IF('4 - Payroll reduction'!H148=\"Table 2\",'4 - Payroll reduction'!D148,\"\"))","v":""},{"$f":"IF('4 - Payroll reduction'!C148=\"Name\",\"\",IF('4 - Payroll reduction'!H148=\"Table 2\",'4 - Payroll reduction'!E148,\"\"))","v":""},{"$f":"IF('4 - Payroll reduction'!C148=\"Name\",\"\",IF('4 - Payroll reduction'!H148=\"Table 2\",'4 - Payroll reduction'!G148,\"\"))","v":""},null,58]
[{"$f":"IF('4 - Payroll reduction'!C149=\"Name\",\"\",IF('4 - Payroll reduction'!H149=\"Table 2\",'4 - Payroll reduction'!C149,\"\"))","v":""},{"$f":"IF('4 - Payroll reduction'!C149=\"Name\",\"\",IF('4 - Payroll reduction'!H149=\"Table 2\",'4 - Payroll reduction'!D149,\"\"))","v":""},{"$f":"IF('4 - Payroll reduction'!C149=\"Name\",\"\",IF('4 - Payroll reduction'!H149=\"Table 2\",'4 - Payroll reduction'!E149,\"\"))","v":""},{"$f":"IF('4 - Payroll reduction'!C149=\"Name\",\"\",IF('4 - Payroll reduction'!H149=\"Table 2\",'4 - Payroll reduction'!G149,\"\"))","v":""},null,59]
[{"$f":"IF('4 - Payroll reduction'!C150=\"Name\",\"\",IF('4 - Payroll reduction'!H150=\"Table 2\",'4 - Payroll reduction'!C150,\"\"))","v":""},{"$f":"IF('4 - Payroll reduction'!C150=\"Name\",\"\",IF('4 - Payroll reduction'!H150=\"Table 2\",'4 - Payroll reduction'!D150,\"\"))","v":""},{"$f":"IF('4 - Payroll reduction'!C150=\"Name\",\"\",IF('4 - Payroll reduction'!H150=\"Table 2\",'4 - Payroll reduction'!E150,\"\"))","v":""},{"$f":"IF('4 - Payroll reduction'!C150=\"Name\",\"\",IF('4 - Payroll reduction'!H150=\"Table 2\",'4 - Payroll reduction'!G150,\"\"))","v":""},null,60]
[{"$f":"IF('4 - Payroll reduction'!C151=\"Name\",\"\",IF('4 - Payroll reduction'!H151=\"Table 2\",'4 - Payroll reduction'!C151,\"\"))","v":""},{"$f":"IF('4 - Payroll reduction'!C151=\"Name\",\"\",IF('4 - Payroll reduction'!H151=\"Table 2\",'4 - Payroll reduction'!D151,\"\"))","v":""},{"$f":"IF('4 - Payroll reduction'!C151=\"Name\",\"\",IF('4 - Payroll reduction'!H151=\"Table 2\",'4 - Payroll reduction'!E151,\"\"))","v":""},{"$f":"IF('4 - Payroll reduction'!C151=\"Name\",\"\",IF('4 - Payroll reduction'!H151=\"Table 2\",'4 - Payroll reduction'!G151,\"\"))","v":""},null,61]
[{"$f":"IF('4 - Payroll reduction'!C152=\"Name\",\"\",IF('4 - Payroll reduction'!H152=\"Table 2\",'4 - Payroll reduction'!C152,\"\"))","v":""},{"$f":"IF('4 - Payroll reduction'!C152=\"Name\",\"\",IF('4 - Payroll reduction'!H152=\"Table 2\",'4 - Payroll reduction'!D152,\"\"))","v":""},{"$f":"IF('4 - Payroll reduction'!C152=\"Name\",\"\",IF('4 - Payroll reduction'!H152=\"Table 2\",'4 - Payroll reduction'!E152,\"\"))","v":""},{"$f":"IF('4 - Payroll reduction'!C152=\"Name\",\"\",IF('4 - Payroll reduction'!H152=\"Table 2\",'4 - Payroll reduction'!G152,\"\"))","v":""},null,62]
[{"$f":"IF('4 - Payroll reduction'!C153=\"Name\",\"\",IF('4 - Payroll reduction'!H153=\"Table 2\",'4 - Payroll reduction'!C153,\"\"))","v":""},{"$f":"IF('4 - Payroll reduction'!C153=\"Name\",\"\",IF('4 - Payroll reduction'!H153=\"Table 2\",'4 - Payroll reduction'!D153,\"\"))","v":""},{"$f":"IF('4 - Payroll reduction'!C153=\"Name\",\"\",IF('4 - Payroll reduction'!H153=\"Table 2\",'4 - Payroll reduction'!E153,\"\"))","v":""},{"$f":"IF('4 - Payroll reduction'!C153=\"Name\",\"\",IF('4 - Payroll reduction'!H153=\"Table 2\",'4 - Payroll reduction'!G153,\"\"))","v":""},null,63]
[{"$f":"IF('4 - Payroll reduction'!C154=\"Name\",\"\",IF('4 - Payroll reduction'!H154=\"Table 2\",'4 - Payroll reduction'!C154,\"\"))","v":""},{"$f":"IF('4 - Payroll reduction'!C154=\"Name\",\"\",IF('4 - Payroll reduction'!H154=\"Table 2\",'4 - Payroll reduction'!D154,\"\"))","v":""},{"$f":"IF('4 - Payroll reduction'!C154=\"Name\",\"\",IF('4 - Payroll reduction'!H154=\"Table 2\",'4 - Payroll reduction'!E154,\"\"))","v":""},{"$f":"IF('4 - Payroll reduction'!C154=\"Name\",\"\",IF('4 - Payroll reduction'!H154=\"Table 2\",'4 - Payroll reduction'!G154,\"\"))","v":""},null,64]
[{"$f":"IF('4 - Payroll reduction'!C155=\"Name\",\"\",IF('4 - Payroll reduction'!H155=\"Table 2\",'4 - Payroll reduction'!C155,\"\"))","v":""},{"$f":"IF('4 - Payroll reduction'!C155=\"Name\",\"\",IF('4 - Payroll reduction'!H155=\"Table 2\",'4 - Payroll reduction'!D155,\"\"))","v":""},{"$f":"IF('4 - Payroll reduction'!C155=\"Name\",\"\",IF('4 - Payroll reduction'!H155=\"Table 2\",'4 - Payroll reduction'!E155,\"\"))","v":""},{"$f":"IF('4 - Payroll reduction'!C155=\"Name\",\"\",IF('4 - Payroll reduction'!H155=\"Table 2\",'4 - Payroll reduction'!G155,\"\"))","v":""},null,65]
[{"$f":"IF('4 - Payroll reduction'!C156=\"Name\",\"\",IF('4 - Payroll reduction'!H156=\"Table 2\",'4 - Payroll reduction'!C156,\"\"))","v":""},{"$f":"IF('4 - Payroll reduction'!C156=\"Name\",\"\",IF('4 - Payroll reduction'!H156=\"Table 2\",'4 - Payroll reduction'!D156,\"\"))","v":""},{"$f":"IF('4 - Payroll reduction'!C156=\"Name\",\"\",IF('4 - Payroll reduction'!H156=\"Table 2\",'4 - Payroll reduction'!E156,\"\"))","v":""},{"$f":"IF('4 - Payroll reduction'!C156=\"Name\",\"\",IF('4 - Payroll reduction'!H156=\"Table 2\",'4 - Payroll reduction'!G156,\"\"))","v":""},null,66]
[{"$f":"IF('4 - Payroll reduction'!C157=\"Name\",\"\",IF('4 - Payroll reduction'!H157=\"Table 2\",'4 - Payroll reduction'!C157,\"\"))","v":""},{"$f":"IF('4 - Payroll reduction'!C157=\"Name\",\"\",IF('4 - Payroll reduction'!H157=\"Table 2\",'4 - Payroll reduction'!D157,\"\"))","v":""},{"$f":"IF('4 - Payroll reduction'!C157=\"Name\",\"\",IF('4 - Payroll reduction'!H157=\"Table 2\",'4 - Payroll reduction'!E157,\"\"))","v":""},{"$f":"IF('4 - Payroll reduction'!C157=\"Name\",\"\",IF('4 - Payroll reduction'!H157=\"Table 2\",'4 - Payroll reduction'!G157,\"\"))","v":""},null,67]
[{"$f":"IF('4 - Payroll reduction'!C158=\"Name\",\"\",IF('4 - Payroll reduction'!H158=\"Table 2\",'4 - Payroll reduction'!C158,\"\"))","v":""},{"$f":"IF('4 - Payroll reduction'!C158=\"Name\",\"\",IF('4 - Payroll reduction'!H158=\"Table 2\",'4 - Payroll reduction'!D158,\"\"))","v":""},{"$f":"IF('4 - Payroll reduction'!C158=\"Name\",\"\",IF('4 - Payroll reduction'!H158=\"Table 2\",'4 - Payroll reduction'!E158,\"\"))","v":""},{"$f":"IF('4 - Payroll reduction'!C158=\"Name\",\"\",IF('4 - Payroll reduction'!H158=\"Table 2\",'4 - Payroll reduction'!G158,\"\"))","v":""},null,{"$f":"F581+1","v":68}]
[{"$f":"IF('4 - Payroll reduction'!C159=\"Name\",\"\",IF('4 - Payroll reduction'!H159=\"Table 2\",'4 - Payroll reduction'!C159,\"\"))","v":""},{"$f":"IF('4 - Payroll reduction'!C159=\"Name\",\"\",IF('4 - Payroll reduction'!H159=\"Table 2\",'4 - Payroll reduction'!D159,\"\"))","v":""},{"$f":"IF('4 - Payroll reduction'!C159=\"Name\",\"\",IF('4 - Payroll reduction'!H159=\"Table 2\",'4 - Payroll reduction'!E159,\"\"))","v":""},{"$f":"IF('4 - Payroll reduction'!C159=\"Name\",\"\",IF('4 - Payroll reduction'!H159=\"Table 2\",'4 - Payroll reduction'!G159,\"\"))","v":""},null,69]
[{"$f":"IF('4 - Payroll reduction'!C160=\"Name\",\"\",IF('4 - Payroll reduction'!H160=\"Table 2\",'4 - Payroll reduction'!C160,\"\"))","v":""},{"$f":"IF('4 - Payroll reduction'!C160=\"Name\",\"\",IF('4 - Payroll reduction'!H160=\"Table 2\",'4 - Payroll reduction'!D160,\"\"))","v":""},{"$f":"IF('4 - Payroll reduction'!C160=\"Name\",\"\",IF('4 - Payroll reduction'!H160=\"Table 2\",'4 - Payroll reduction'!E160,\"\"))","v":""},{"$f":"IF('4 - Payroll reduction'!C160=\"Name\",\"\",IF('4 - Payroll reduction'!H160=\"Table 2\",'4 - Payroll reduction'!G160,\"\"))","v":""},null,70]
[{"$f":"IF('4 - Payroll reduction'!C161=\"Name\",\"\",IF('4 - Payroll reduction'!H161=\"Table 2\",'4 - Payroll reduction'!C161,\"\"))","v":""},{"$f":"IF('4 - Payroll reduction'!C161=\"Name\",\"\",IF('4 - Payroll reduction'!H161=\"Table 2\",'4 - Payroll reduction'!D161,\"\"))","v":""},{"$f":"IF('4 - Payroll reduction'!C161=\"Name\",\"\",IF('4 - Payroll reduction'!H161=\"Table 2\",'4 - Payroll reduction'!E161,\"\"))","v":""},{"$f":"IF('4 - Payroll reduction'!C161=\"Name\",\"\",IF('4 - Payroll reduction'!H161=\"Table 2\",'4 - Payroll reduction'!G161,\"\"))","v":""},null,71]
[{"$f":"IF('4 - Payroll reduction'!C162=\"Name\",\"\",IF('4 - Payroll reduction'!H162=\"Table 2\",'4 - Payroll reduction'!C162,\"\"))","v":""},{"$f":"IF('4 - Payroll reduction'!C162=\"Name\",\"\",IF('4 - Payroll reduction'!H162=\"Table 2\",'4 - Payroll reduction'!D162,\"\"))","v":""},{"$f":"IF('4 - Payroll reduction'!C162=\"Name\",\"\",IF('4 - Payroll reduction'!H162=\"Table 2\",'4 - Payroll reduction'!E162,\"\"))","v":""},{"$f":"IF('4 - Payroll reduction'!C162=\"Name\",\"\",IF('4 - Payroll reduction'!H162=\"Table 2\",'4 - Payroll reduction'!G162,\"\"))","v":""},null,72]
[{"$f":"IF('4 - Payroll reduction'!C163=\"Name\",\"\",IF('4 - Payroll reduction'!H163=\"Table 2\",'4 - Payroll reduction'!C163,\"\"))","v":""},{"$f":"IF('4 - Payroll reduction'!C163=\"Name\",\"\",IF('4 - Payroll reduction'!H163=\"Table 2\",'4 - Payroll reduction'!D163,\"\"))","v":""},{"$f":"IF('4 - Payroll reduction'!C163=\"Name\",\"\",IF('4 - Payroll reduction'!H163=\"Table 2\",'4 - Payroll reduction'!E163,\"\"))","v":""},{"$f":"IF('4 - Payroll reduction'!C163=\"Name\",\"\",IF('4 - Payroll reduction'!H163=\"Table 2\",'4 - Payroll reduction'!G163,\"\"))","v":""},null,73]
[{"$f":"IF('4 - Payroll reduction'!C164=\"Name\",\"\",IF('4 - Payroll reduction'!H164=\"Table 2\",'4 - Payroll reduction'!C164,\"\"))","v":""},{"$f":"IF('4 - Payroll reduction'!C164=\"Name\",\"\",IF('4 - Payroll reduction'!H164=\"Table 2\",'4 - Payroll reduction'!D164,\"\"))","v":""},{"$f":"IF('4 - Payroll reduction'!C164=\"Name\",\"\",IF('4 - Payroll reduction'!H164=\"Table 2\",'4 - Payroll reduction'!E164,\"\"))","v":""},{"$f":"IF('4 - Payroll reduction'!C164=\"Name\",\"\",IF('4 - Payroll reduction'!H164=\"Table 2\",'4 - Payroll reduction'!G164,\"\"))","v":""},null,74]
[{"$f":"IF('4 - Payroll reduction'!C165=\"Name\",\"\",IF('4 - Payroll reduction'!H165=\"Table 2\",'4 - Payroll reduction'!C165,\"\"))","v":""},{"$f":"IF('4 - Payroll reduction'!C165=\"Name\",\"\",IF('4 - Payroll reduction'!H165=\"Table 2\",'4 - Payroll reduction'!D165,\"\"))","v":""},{"$f":"IF('4 - Payroll reduction'!C165=\"Name\",\"\",IF('4 - Payroll reduction'!H165=\"Table 2\",'4 - Payroll reduction'!E165,\"\"))","v":""},{"$f":"IF('4 - Payroll reduction'!C165=\"Name\",\"\",IF('4 - Payroll reduction'!H165=\"Table 2\",'4 - Payroll reduction'!G165,\"\"))","v":""},null,75]
[{"$f":"IF('4 - Payroll reduction'!C166=\"Name\",\"\",IF('4 - Payroll reduction'!H166=\"Table 2\",'4 - Payroll reduction'!C166,\"\"))","v":""},{"$f":"IF('4 - Payroll reduction'!C166=\"Name\",\"\",IF('4 - Payroll reduction'!H166=\"Table 2\",'4 - Payroll reduction'!D166,\"\"))","v":""},{"$f":"IF('4 - Payroll reduction'!C166=\"Name\",\"\",IF('4 - Payroll reduction'!H166=\"Table 2\",'4 - Payroll reduction'!E166,\"\"))","v":""},{"$f":"IF('4 - Payroll reduction'!C166=\"Name\",\"\",IF('4 - Payroll reduction'!H166=\"Table 2\",'4 - Payroll reduction'!G166,\"\"))","v":""},null,76]
[{"$f":"IF('4 - Payroll reduction'!C167=\"Name\",\"\",IF('4 - Payroll reduction'!H167=\"Table 2\",'4 - Payroll reduction'!C167,\"\"))","v":""},{"$f":"IF('4 - Payroll reduction'!C167=\"Name\",\"\",IF('4 - Payroll reduction'!H167=\"Table 2\",'4 - Payroll reduction'!D167,\"\"))","v":""},{"$f":"IF('4 - Payroll reduction'!C167=\"Name\",\"\",IF('4 - Payroll reduction'!H167=\"Table 2\",'4 - Payroll reduction'!E167,\"\"))","v":""},{"$f":"IF('4 - Payroll reduction'!C167=\"Name\",\"\",IF('4 - Payroll reduction'!H167=\"Table 2\",'4 - Payroll reduction'!G167,\"\"))","v":""},null,77]
[{"$f":"IF('4 - Payroll reduction'!C168=\"Name\",\"\",IF('4 - Payroll reduction'!H168=\"Table 2\",'4 - Payroll reduction'!C168,\"\"))","v":""},{"$f":"IF('4 - Payroll reduction'!C168=\"Name\",\"\",IF('4 - Payroll reduction'!H168=\"Table 2\",'4 - Payroll reduction'!D168,\"\"))","v":""},{"$f":"IF('4 - Payroll reduction'!C168=\"Name\",\"\",IF('4 - Payroll reduction'!H168=\"Table 2\",'4 - Payroll reduction'!E168,\"\"))","v":""},{"$f":"IF('4 - Payroll reduction'!C168=\"Name\",\"\",IF('4 - Payroll reduction'!H168=\"Table 2\",'4 - Payroll reduction'!G168,\"\"))","v":""},null,78]
[{"$f":"IF('4 - Payroll reduction'!C169=\"Name\",\"\",IF('4 - Payroll reduction'!H169=\"Table 2\",'4 - Payroll reduction'!C169,\"\"))","v":""},{"$f":"IF('4 - Payroll reduction'!C169=\"Name\",\"\",IF('4 - Payroll reduction'!H169=\"Table 2\",'4 - Payroll reduction'!D169,\"\"))","v":""},{"$f":"IF('4 - Payroll reduction'!C169=\"Name\",\"\",IF('4 - Payroll reduction'!H169=\"Table 2\",'4 - Payroll reduction'!E169,\"\"))","v":""},{"$f":"IF('4 - Payroll reduction'!C169=\"Name\",\"\",IF('4 - Payroll reduction'!H169=\"Table 2\",'4 - Payroll reduction'!G169,\"\"))","v":""},null,79]
[{"$f":"IF('4 - Payroll reduction'!C170=\"Name\",\"\",IF('4 - Payroll reduction'!H170=\"Table 2\",'4 - Payroll reduction'!C170,\"\"))","v":""},{"$f":"IF('4 - Payroll reduction'!C170=\"Name\",\"\",IF('4 - Payroll reduction'!H170=\"Table 2\",'4 - Payroll reduction'!D170,\"\"))","v":""},{"$f":"IF('4 - Payroll reduction'!C170=\"Name\",\"\",IF('4 - Payroll reduction'!H170=\"Table 2\",'4 - Payroll reduction'!E170,\"\"))","v":""},{"$f":"IF('4 - Payroll reduction'!C170=\"Name\",\"\",IF('4 - Payroll reduction'!H170=\"Table 2\",'4 - Payroll reduction'!G170,\"\"))","v":""},null,80]
[{"$f":"IF('4 - Payroll reduction'!C171=\"Name\",\"\",IF('4 - Payroll reduction'!H171=\"Table 2\",'4 - Payroll reduction'!C171,\"\"))","v":""},{"$f":"IF('4 - Payroll reduction'!C171=\"Name\",\"\",IF('4 - Payroll reduction'!H171=\"Table 2\",'4 - Payroll reduction'!D171,\"\"))","v":""},{"$f":"IF('4 - Payroll reduction'!C171=\"Name\",\"\",IF('4 - Payroll reduction'!H171=\"Table 2\",'4 - Payroll reduction'!E171,\"\"))","v":""},{"$f":"IF('4 - Payroll reduction'!C171=\"Name\",\"\",IF('4 - Payroll reduction'!H171=\"Table 2\",'4 - Payroll reduction'!G171,\"\"))","v":""},null,81]
[{"$f":"IF('4 - Payroll reduction'!C172=\"Name\",\"\",IF('4 - Payroll reduction'!H172=\"Table 2\",'4 - Payroll reduction'!C172,\"\"))","v":""},{"$f":"IF('4 - Payroll reduction'!C172=\"Name\",\"\",IF('4 - Payroll reduction'!H172=\"Table 2\",'4 - Payroll reduction'!D172,\"\"))","v":""},{"$f":"IF('4 - Payroll reduction'!C172=\"Name\",\"\",IF('4 - Payroll reduction'!H172=\"Table 2\",'4 - Payroll reduction'!E172,\"\"))","v":""},{"$f":"IF('4 - Payroll reduction'!C172=\"Name\",\"\",IF('4 - Payroll reduction'!H172=\"Table 2\",'4 - Payroll reduction'!G172,\"\"))","v":""},null,82]
[{"$f":"IF('4 - Payroll reduction'!C173=\"Name\",\"\",IF('4 - Payroll reduction'!H173=\"Table 2\",'4 - Payroll reduction'!C173,\"\"))","v":""},{"$f":"IF('4 - Payroll reduction'!C173=\"Name\",\"\",IF('4 - Payroll reduction'!H173=\"Table 2\",'4 - Payroll reduction'!D173,\"\"))","v":""},{"$f":"IF('4 - Payroll reduction'!C173=\"Name\",\"\",IF('4 - Payroll reduction'!H173=\"Table 2\",'4 - Payroll reduction'!E173,\"\"))","v":""},{"$f":"IF('4 - Payroll reduction'!C173=\"Name\",\"\",IF('4 - Payroll reduction'!H173=\"Table 2\",'4 - Payroll reduction'!G173,\"\"))","v":""},null,83]
[{"$f":"IF('4 - Payroll reduction'!C174=\"Name\",\"\",IF('4 - Payroll reduction'!H174=\"Table 2\",'4 - Payroll reduction'!C174,\"\"))","v":""},{"$f":"IF('4 - Payroll reduction'!C174=\"Name\",\"\",IF('4 - Payroll reduction'!H174=\"Table 2\",'4 - Payroll reduction'!D174,\"\"))","v":""},{"$f":"IF('4 - Payroll reduction'!C174=\"Name\",\"\",IF('4 - Payroll reduction'!H174=\"Table 2\",'4 - Payroll reduction'!E174,\"\"))","v":""},{"$f":"IF('4 - Payroll reduction'!C174=\"Name\",\"\",IF('4 - Payroll reduction'!H174=\"Table 2\",'4 - Payroll reduction'!G174,\"\"))","v":""},null,84]
[{"$f":"IF('4 - Payroll reduction'!C175=\"Name\",\"\",IF('4 - Payroll reduction'!H175=\"Table 2\",'4 - Payroll reduction'!C175,\"\"))","v":""},{"$f":"IF('4 - Payroll reduction'!C175=\"Name\",\"\",IF('4 - Payroll reduction'!H175=\"Table 2\",'4 - Payroll reduction'!D175,\"\"))","v":""},{"$f":"IF('4 - Payroll reduction'!C175=\"Name\",\"\",IF('4 - Payroll reduction'!H175=\"Table 2\",'4 - Payroll reduction'!E175,\"\"))","v":""},{"$f":"IF('4 - Payroll reduction'!C175=\"Name\",\"\",IF('4 - Payroll reduction'!H175=\"Table 2\",'4 - Payroll reduction'!G175,\"\"))","v":""},null,85]
[{"$f":"IF('4 - Payroll reduction'!C176=\"Name\",\"\",IF('4 - Payroll reduction'!H176=\"Table 2\",'4 - Payroll reduction'!C176,\"\"))","v":""},{"$f":"IF('4 - Payroll reduction'!C176=\"Name\",\"\",IF('4 - Payroll reduction'!H176=\"Table 2\",'4 - Payroll reduction'!D176,\"\"))","v":""},{"$f":"IF('4 - Payroll reduction'!C176=\"Name\",\"\",IF('4 - Payroll reduction'!H176=\"Table 2\",'4 - Payroll reduction'!E176,\"\"))","v":""},{"$f":"IF('4 - Payroll reduction'!C176=\"Name\",\"\",IF('4 - Payroll reduction'!H176=\"Table 2\",'4 - Payroll reduction'!G176,\"\"))","v":""},null,86]
[{"$f":"IF('4 - Payroll reduction'!C177=\"Name\",\"\",IF('4 - Payroll reduction'!H177=\"Table 2\",'4 - Payroll reduction'!C177,\"\"))","v":""},{"$f":"IF('4 - Payroll reduction'!C177=\"Name\",\"\",IF('4 - Payroll reduction'!H177=\"Table 2\",'4 - Payroll reduction'!D177,\"\"))","v":""},{"$f":"IF('4 - Payroll reduction'!C177=\"Name\",\"\",IF('4 - Payroll reduction'!H177=\"Table 2\",'4 - Payroll reduction'!E177,\"\"))","v":""},{"$f":"IF('4 - Payroll reduction'!C177=\"Name\",\"\",IF('4 - Payroll reduction'!H177=\"Table 2\",'4 - Payroll reduction'!G177,\"\"))","v":""},null,87]
[{"$f":"IF('4 - Payroll reduction'!C178=\"Name\",\"\",IF('4 - Payroll reduction'!H178=\"Table 2\",'4 - Payroll reduction'!C178,\"\"))","v":""},{"$f":"IF('4 - Payroll reduction'!C178=\"Name\",\"\",IF('4 - Payroll reduction'!H178=\"Table 2\",'4 - Payroll reduction'!D178,\"\"))","v":""},{"$f":"IF('4 - Payroll reduction'!C178=\"Name\",\"\",IF('4 - Payroll reduction'!H178=\"Table 2\",'4 - Payroll reduction'!E178,\"\"))","v":""},{"$f":"IF('4 - Payroll reduction'!C178=\"Name\",\"\",IF('4 - Payroll reduction'!H178=\"Table 2\",'4 - Payroll reduction'!G178,\"\"))","v":""},null,88]
[{"$f":"IF('4 - Payroll reduction'!C179=\"Name\",\"\",IF('4 - Payroll reduction'!H179=\"Table 2\",'4 - Payroll reduction'!C179,\"\"))","v":""},{"$f":"IF('4 - Payroll reduction'!C179=\"Name\",\"\",IF('4 - Payroll reduction'!H179=\"Table 2\",'4 - Payroll reduction'!D179,\"\"))","v":""},{"$f":"IF('4 - Payroll reduction'!C179=\"Name\",\"\",IF('4 - Payroll reduction'!H179=\"Table 2\",'4 - Payroll reduction'!E179,\"\"))","v":""},{"$f":"IF('4 - Payroll reduction'!C179=\"Name\",\"\",IF('4 - Payroll reduction'!H179=\"Table 2\",'4 - Payroll reduction'!G179,\"\"))","v":""},null,89]
[{"$f":"IF('4 - Payroll reduction'!C180=\"Name\",\"\",IF('4 - Payroll reduction'!H180=\"Table 2\",'4 - Payroll reduction'!C180,\"\"))","v":""},{"$f":"IF('4 - Payroll reduction'!C180=\"Name\",\"\",IF('4 - Payroll reduction'!H180=\"Table 2\",'4 - Payroll reduction'!D180,\"\"))","v":""},{"$f":"IF('4 - Payroll reduction'!C180=\"Name\",\"\",IF('4 - Payroll reduction'!H180=\"Table 2\",'4 - Payroll reduction'!E180,\"\"))","v":""},{"$f":"IF('4 - Payroll reduction'!C180=\"Name\",\"\",IF('4 - Payroll reduction'!H180=\"Table 2\",'4 - Payroll reduction'!G180,\"\"))","v":""},null,90]
[{"$f":"IF('4 - Payroll reduction'!C181=\"Name\",\"\",IF('4 - Payroll reduction'!H181=\"Table 2\",'4 - Payroll reduction'!C181,\"\"))","v":""},{"$f":"IF('4 - Payroll reduction'!C181=\"Name\",\"\",IF('4 - Payroll reduction'!H181=\"Table 2\",'4 - Payroll reduction'!D181,\"\"))","v":""},{"$f":"IF('4 - Payroll reduction'!C181=\"Name\",\"\",IF('4 - Payroll reduction'!H181=\"Table 2\",'4 - Payroll reduction'!E181,\"\"))","v":""},{"$f":"IF('4 - Payroll reduction'!C181=\"Name\",\"\",IF('4 - Payroll reduction'!H181=\"Table 2\",'4 - Payroll reduction'!G181,\"\"))","v":""},null,91]
[{"$f":"IF('4 - Payroll reduction'!C182=\"Name\",\"\",IF('4 - Payroll reduction'!H182=\"Table 2\",'4 - Payroll reduction'!C182,\"\"))","v":""},{"$f":"IF('4 - Payroll reduction'!C182=\"Name\",\"\",IF('4 - Payroll reduction'!H182=\"Table 2\",'4 - Payroll reduction'!D182,\"\"))","v":""},{"$f":"IF('4 - Payroll reduction'!C182=\"Name\",\"\",IF('4 - Payroll reduction'!H182=\"Table 2\",'4 - Payroll reduction'!E182,\"\"))","v":""},{"$f":"IF('4 - Payroll reduction'!C182=\"Name\",\"\",IF('4 - Payroll reduction'!H182=\"Table 2\",'4 - Payroll reduction'!G182,\"\"))","v":""},null,92]
[{"$f":"IF('4 - Payroll reduction'!C183=\"Name\",\"\",IF('4 - Payroll reduction'!H183=\"Table 2\",'4 - Payroll reduction'!C183,\"\"))","v":""},{"$f":"IF('4 - Payroll reduction'!C183=\"Name\",\"\",IF('4 - Payroll reduction'!H183=\"Table 2\",'4 - Payroll reduction'!D183,\"\"))","v":""},{"$f":"IF('4 - Payroll reduction'!C183=\"Name\",\"\",IF('4 - Payroll reduction'!H183=\"Table 2\",'4 - Payroll reduction'!E183,\"\"))","v":""},{"$f":"IF('4 - Payroll reduction'!C183=\"Name\",\"\",IF('4 - Payroll reduction'!H183=\"Table 2\",'4 - Payroll reduction'!G183,\"\"))","v":""},null,93]
[{"$f":"IF('4 - Payroll reduction'!C184=\"Name\",\"\",IF('4 - Payroll reduction'!H184=\"Table 2\",'4 - Payroll reduction'!C184,\"\"))","v":""},{"$f":"IF('4 - Payroll reduction'!C184=\"Name\",\"\",IF('4 - Payroll reduction'!H184=\"Table 2\",'4 - Payroll reduction'!D184,\"\"))","v":""},{"$f":"IF('4 - Payroll reduction'!C184=\"Name\",\"\",IF('4 - Payroll reduction'!H184=\"Table 2\",'4 - Payroll reduction'!E184,\"\"))","v":""},{"$f":"IF('4 - Payroll reduction'!C184=\"Name\",\"\",IF('4 - Payroll reduction'!H184=\"Table 2\",'4 - Payroll reduction'!G184,\"\"))","v":""},null,94]
[{"$f":"IF('4 - Payroll reduction'!C185=\"Name\",\"\",IF('4 - Payroll reduction'!H185=\"Table 2\",'4 - Payroll reduction'!C185,\"\"))","v":""},{"$f":"IF('4 - Payroll reduction'!C185=\"Name\",\"\",IF('4 - Payroll reduction'!H185=\"Table 2\",'4 - Payroll reduction'!D185,\"\"))","v":""},{"$f":"IF('4 - Payroll reduction'!C185=\"Name\",\"\",IF('4 - Payroll reduction'!H185=\"Table 2\",'4 - Payroll reduction'!E185,\"\"))","v":""},{"$f":"IF('4 - Payroll reduction'!C185=\"Name\",\"\",IF('4 - Payroll reduction'!H185=\"Table 2\",'4 - Payroll reduction'!G185,\"\"))","v":""},null,95]
[{"$f":"IF('4 - Payroll reduction'!C186=\"Name\",\"\",IF('4 - Payroll reduction'!H186=\"Table 2\",'4 - Payroll reduction'!C186,\"\"))","v":""},{"$f":"IF('4 - Payroll reduction'!C186=\"Name\",\"\",IF('4 - Payroll reduction'!H186=\"Table 2\",'4 - Payroll reduction'!D186,\"\"))","v":""},{"$f":"IF('4 - Payroll reduction'!C186=\"Name\",\"\",IF('4 - Payroll reduction'!H186=\"Table 2\",'4 - Payroll reduction'!E186,\"\"))","v":""},{"$f":"IF('4 - Payroll reduction'!C186=\"Name\",\"\",IF('4 - Payroll reduction'!H186=\"Table 2\",'4 - Payroll reduction'!G186,\"\"))","v":""},null,96]
[{"$f":"IF('4 - Payroll reduction'!C187=\"Name\",\"\",IF('4 - Payroll reduction'!H187=\"Table 2\",'4 - Payroll reduction'!C187,\"\"))","v":""},{"$f":"IF('4 - Payroll reduction'!C187=\"Name\",\"\",IF('4 - Payroll reduction'!H187=\"Table 2\",'4 - Payroll reduction'!D187,\"\"))","v":""},{"$f":"IF('4 - Payroll reduction'!C187=\"Name\",\"\",IF('4 - Payroll reduction'!H187=\"Table 2\",'4 - Payroll reduction'!E187,\"\"))","v":""},{"$f":"IF('4 - Payroll reduction'!C187=\"Name\",\"\",IF('4 - Payroll reduction'!H187=\"Table 2\",'4 - Payroll reduction'!G187,\"\"))","v":""},null,97]
[{"$f":"IF('4 - Payroll reduction'!C188=\"Name\",\"\",IF('4 - Payroll reduction'!H188=\"Table 2\",'4 - Payroll reduction'!C188,\"\"))","v":""},{"$f":"IF('4 - Payroll reduction'!C188=\"Name\",\"\",IF('4 - Payroll reduction'!H188=\"Table 2\",'4 - Payroll reduction'!D188,\"\"))","v":""},{"$f":"IF('4 - Payroll reduction'!C188=\"Name\",\"\",IF('4 - Payroll reduction'!H188=\"Table 2\",'4 - Payroll reduction'!E188,\"\"))","v":""},{"$f":"IF('4 - Payroll reduction'!C188=\"Name\",\"\",IF('4 - Payroll reduction'!H188=\"Table 2\",'4 - Payroll reduction'!G188,\"\"))","v":""},null,98]
[{"$f":"IF('4 - Payroll reduction'!C189=\"Name\",\"\",IF('4 - Payroll reduction'!H189=\"Table 2\",'4 - Payroll reduction'!C189,\"\"))","v":""},{"$f":"IF('4 - Payroll reduction'!C189=\"Name\",\"\",IF('4 - Payroll reduction'!H189=\"Table 2\",'4 - Payroll reduction'!D189,\"\"))","v":""},{"$f":"IF('4 - Payroll reduction'!C189=\"Name\",\"\",IF('4 - Payroll reduction'!H189=\"Table 2\",'4 - Payroll reduction'!E189,\"\"))","v":""},{"$f":"IF('4 - Payroll reduction'!C189=\"Name\",\"\",IF('4 - Payroll reduction'!H189=\"Table 2\",'4 - Payroll reduction'!G189,\"\"))","v":""},null,99]
[{"$f":"IF('4 - Payroll reduction'!C190=\"Name\",\"\",IF('4 - Payroll reduction'!H190=\"Table 2\",'4 - Payroll reduction'!C190,\"\"))","v":""},{"$f":"IF('4 - Payroll reduction'!C190=\"Name\",\"\",IF('4 - Payroll reduction'!H190=\"Table 2\",'4 - Payroll reduction'!D190,\"\"))","v":""},{"$f":"IF('4 - Payroll reduction'!C190=\"Name\",\"\",IF('4 - Payroll reduction'!H190=\"Table 2\",'4 - Payroll reduction'!E190,\"\"))","v":""},{"$f":"IF('4 - Payroll reduction'!C190=\"Name\",\"\",IF('4 - Payroll reduction'!H190=\"Table 2\",'4 - Payroll reduction'!G190,\"\"))","v":""},null,100]
[{"$f":"IF('4 - Payroll reduction'!C191=\"Name\",\"\",IF('4 - Payroll reduction'!H191=\"Table 2\",'4 - Payroll reduction'!C191,\"\"))","v":""},{"$f":"IF('4 - Payroll reduction'!C191=\"Name\",\"\",IF('4 - Payroll reduction'!H191=\"Table 2\",'4 - Payroll reduction'!D191,\"\"))","v":""},{"$f":"IF('4 - Payroll reduction'!C191=\"Name\",\"\",IF('4 - Payroll reduction'!H191=\"Table 2\",'4 - Payroll reduction'!E191,\"\"))","v":""},{"$f":"IF('4 - Payroll reduction'!C191=\"Name\",\"\",IF('4 - Payroll reduction'!H191=\"Table 2\",'4 - Payroll reduction'!G191,\"\"))","v":""},null,101]
[{"$f":"IF('4 - Payroll reduction'!C192=\"Name\",\"\",IF('4 - Payroll reduction'!H192=\"Table 2\",'4 - Payroll reduction'!C192,\"\"))","v":""},{"$f":"IF('4 - Payroll reduction'!C192=\"Name\",\"\",IF('4 - Payroll reduction'!H192=\"Table 2\",'4 - Payroll reduction'!D192,\"\"))","v":""},{"$f":"IF('4 - Payroll reduction'!C192=\"Name\",\"\",IF('4 - Payroll reduction'!H192=\"Table 2\",'4 - Payroll reduction'!E192,\"\"))","v":""},{"$f":"IF('4 - Payroll reduction'!C192=\"Name\",\"\",IF('4 - Payroll reduction'!H192=\"Table 2\",'4 - Payroll reduction'!G192,\"\"))","v":""},null,102]
[{"$f":"IF('4 - Payroll reduction'!C193=\"Name\",\"\",IF('4 - Payroll reduction'!H193=\"Table 2\",'4 - Payroll reduction'!C193,\"\"))","v":""},{"$f":"IF('4 - Payroll reduction'!C193=\"Name\",\"\",IF('4 - Payroll reduction'!H193=\"Table 2\",'4 - Payroll reduction'!D193,\"\"))","v":""},{"$f":"IF('4 - Payroll reduction'!C193=\"Name\",\"\",IF('4 - Payroll reduction'!H193=\"Table 2\",'4 - Payroll reduction'!E193,\"\"))","v":""},{"$f":"IF('4 - Payroll reduction'!C193=\"Name\",\"\",IF('4 - Payroll reduction'!H193=\"Table 2\",'4 - Payroll reduction'!G193,\"\"))","v":""},null,103]
[{"$f":"IF('4 - Payroll reduction'!C194=\"Name\",\"\",IF('4 - Payroll reduction'!H194=\"Table 2\",'4 - Payroll reduction'!C194,\"\"))","v":""},{"$f":"IF('4 - Payroll reduction'!C194=\"Name\",\"\",IF('4 - Payroll reduction'!H194=\"Table 2\",'4 - Payroll reduction'!D194,\"\"))","v":""},{"$f":"IF('4 - Payroll reduction'!C194=\"Name\",\"\",IF('4 - Payroll reduction'!H194=\"Table 2\",'4 - Payroll reduction'!E194,\"\"))","v":""},{"$f":"IF('4 - Payroll reduction'!C194=\"Name\",\"\",IF('4 - Payroll reduction'!H194=\"Table 2\",'4 - Payroll reduction'!G194,\"\"))","v":""},null,104]
[{"$f":"IF('4 - Payroll reduction'!C195=\"Name\",\"\",IF('4 - Payroll reduction'!H195=\"Table 2\",'4 - Payroll reduction'!C195,\"\"))","v":""},{"$f":"IF('4 - Payroll reduction'!C195=\"Name\",\"\",IF('4 - Payroll reduction'!H195=\"Table 2\",'4 - Payroll reduction'!D195,\"\"))","v":""},{"$f":"IF('4 - Payroll reduction'!C195=\"Name\",\"\",IF('4 - Payroll reduction'!H195=\"Table 2\",'4 - Payroll reduction'!E195,\"\"))","v":""},{"$f":"IF('4 - Payroll reduction'!C195=\"Name\",\"\",IF('4 - Payroll reduction'!H195=\"Table 2\",'4 - Payroll reduction'!G195,\"\"))","v":""},null,105]
[{"$f":"IF('4 - Payroll reduction'!C196=\"Name\",\"\",IF('4 - Payroll reduction'!H196=\"Table 2\",'4 - Payroll reduction'!C196,\"\"))","v":""},{"$f":"IF('4 - Payroll reduction'!C196=\"Name\",\"\",IF('4 - Payroll reduction'!H196=\"Table 2\",'4 - Payroll reduction'!D196,\"\"))","v":""},{"$f":"IF('4 - Payroll reduction'!C196=\"Name\",\"\",IF('4 - Payroll reduction'!H196=\"Table 2\",'4 - Payroll reduction'!E196,\"\"))","v":""},{"$f":"IF('4 - Payroll reduction'!C196=\"Name\",\"\",IF('4 - Payroll reduction'!H196=\"Table 2\",'4 - Payroll reduction'!G196,\"\"))","v":""},null,106]
[{"$f":"IF('4 - Payroll reduction'!C197=\"Name\",\"\",IF('4 - Payroll reduction'!H197=\"Table 2\",'4 - Payroll reduction'!C197,\"\"))","v":""},{"$f":"IF('4 - Payroll reduction'!C197=\"Name\",\"\",IF('4 - Payroll reduction'!H197=\"Table 2\",'4 - Payroll reduction'!D197,\"\"))","v":""},{"$f":"IF('4 - Payroll reduction'!C197=\"Name\",\"\",IF('4 - Payroll reduction'!H197=\"Table 2\",'4 - Payroll reduction'!E197,\"\"))","v":""},{"$f":"IF('4 - Payroll reduction'!C197=\"Name\",\"\",IF('4 - Payroll reduction'!H197=\"Table 2\",'4 - Payroll reduction'!G197,\"\"))","v":""},null,107]
[{"$f":"IF('4 - Payroll reduction'!C198=\"Name\",\"\",IF('4 - Payroll reduction'!H198=\"Table 2\",'4 - Payroll reduction'!C198,\"\"))","v":""},{"$f":"IF('4 - Payroll reduction'!C198=\"Name\",\"\",IF('4 - Payroll reduction'!H198=\"Table 2\",'4 - Payroll reduction'!D198,\"\"))","v":""},{"$f":"IF('4 - Payroll reduction'!C198=\"Name\",\"\",IF('4 - Payroll reduction'!H198=\"Table 2\",'4 - Payroll reduction'!E198,\"\"))","v":""},{"$f":"IF('4 - Payroll reduction'!C198=\"Name\",\"\",IF('4 - Payroll reduction'!H198=\"Table 2\",'4 - Payroll reduction'!G198,\"\"))","v":""},null,108]
[{"$f":"IF('4 - Payroll reduction'!C199=\"Name\",\"\",IF('4 - Payroll reduction'!H199=\"Table 2\",'4 - Payroll reduction'!C199,\"\"))","v":""},{"$f":"IF('4 - Payroll reduction'!C199=\"Name\",\"\",IF('4 - Payroll reduction'!H199=\"Table 2\",'4 - Payroll reduction'!D199,\"\"))","v":""},{"$f":"IF('4 - Payroll reduction'!C199=\"Name\",\"\",IF('4 - Payroll reduction'!H199=\"Table 2\",'4 - Payroll reduction'!E199,\"\"))","v":""},{"$f":"IF('4 - Payroll reduction'!C199=\"Name\",\"\",IF('4 - Payroll reduction'!H199=\"Table 2\",'4 - Payroll reduction'!G199,\"\"))","v":""},null,109]
[{"$f":"IF('4 - Payroll reduction'!C200=\"Name\",\"\",IF('4 - Payroll reduction'!H200=\"Table 2\",'4 - Payroll reduction'!C200,\"\"))","v":""},{"$f":"IF('4 - Payroll reduction'!C200=\"Name\",\"\",IF('4 - Payroll reduction'!H200=\"Table 2\",'4 - Payroll reduction'!D200,\"\"))","v":""},{"$f":"IF('4 - Payroll reduction'!C200=\"Name\",\"\",IF('4 - Payroll reduction'!H200=\"Table 2\",'4 - Payroll reduction'!E200,\"\"))","v":""},{"$f":"IF('4 - Payroll reduction'!C200=\"Name\",\"\",IF('4 - Payroll reduction'!H200=\"Table 2\",'4 - Payroll reduction'!G200,\"\"))","v":""},null,110]
[{"$f":"IF('4 - Payroll reduction'!C201=\"Name\",\"\",IF('4 - Payroll reduction'!H201=\"Table 2\",'4 - Payroll reduction'!C201,\"\"))","v":""},{"$f":"IF('4 - Payroll reduction'!C201=\"Name\",\"\",IF('4 - Payroll reduction'!H201=\"Table 2\",'4 - Payroll reduction'!D201,\"\"))","v":""},{"$f":"IF('4 - Payroll reduction'!C201=\"Name\",\"\",IF('4 - Payroll reduction'!H201=\"Table 2\",'4 - Payroll reduction'!E201,\"\"))","v":""},{"$f":"IF('4 - Payroll reduction'!C201=\"Name\",\"\",IF('4 - Payroll reduction'!H201=\"Table 2\",'4 - Payroll reduction'!G201,\"\"))","v":""},null,111]
[{"$f":"IF('4 - Payroll reduction'!C202=\"Name\",\"\",IF('4 - Payroll reduction'!H202=\"Table 2\",'4 - Payroll reduction'!C202,\"\"))","v":""},{"$f":"IF('4 - Payroll reduction'!C202=\"Name\",\"\",IF('4 - Payroll reduction'!H202=\"Table 2\",'4 - Payroll reduction'!D202,\"\"))","v":""},{"$f":"IF('4 - Payroll reduction'!C202=\"Name\",\"\",IF('4 - Payroll reduction'!H202=\"Table 2\",'4 - Payroll reduction'!E202,\"\"))","v":""},{"$f":"IF('4 - Payroll reduction'!C202=\"Name\",\"\",IF('4 - Payroll reduction'!H202=\"Table 2\",'4 - Payroll reduction'!G202,\"\"))","v":""},null,112]
[{"$f":"IF('4 - Payroll reduction'!C203=\"Name\",\"\",IF('4 - Payroll reduction'!H203=\"Table 2\",'4 - Payroll reduction'!C203,\"\"))","v":""},{"$f":"IF('4 - Payroll reduction'!C203=\"Name\",\"\",IF('4 - Payroll reduction'!H203=\"Table 2\",'4 - Payroll reduction'!D203,\"\"))","v":""},{"$f":"IF('4 - Payroll reduction'!C203=\"Name\",\"\",IF('4 - Payroll reduction'!H203=\"Table 2\",'4 - Payroll reduction'!E203,\"\"))","v":""},{"$f":"IF('4 - Payroll reduction'!C203=\"Name\",\"\",IF('4 - Payroll reduction'!H203=\"Table 2\",'4 - Payroll reduction'!G203,\"\"))","v":""},null,113]
[{"$f":"IF('4 - Payroll reduction'!C204=\"Name\",\"\",IF('4 - Payroll reduction'!H204=\"Table 2\",'4 - Payroll reduction'!C204,\"\"))","v":""},{"$f":"IF('4 - Payroll reduction'!C204=\"Name\",\"\",IF('4 - Payroll reduction'!H204=\"Table 2\",'4 - Payroll reduction'!D204,\"\"))","v":""},{"$f":"IF('4 - Payroll reduction'!C204=\"Name\",\"\",IF('4 - Payroll reduction'!H204=\"Table 2\",'4 - Payroll reduction'!E204,\"\"))","v":""},{"$f":"IF('4 - Payroll reduction'!C204=\"Name\",\"\",IF('4 - Payroll reduction'!H204=\"Table 2\",'4 - Payroll reduction'!G204,\"\"))","v":""},null,114]
[{"$f":"IF('4 - Payroll reduction'!C205=\"Name\",\"\",IF('4 - Payroll reduction'!H205=\"Table 2\",'4 - Payroll reduction'!C205,\"\"))","v":""},{"$f":"IF('4 - Payroll reduction'!C205=\"Name\",\"\",IF('4 - Payroll reduction'!H205=\"Table 2\",'4 - Payroll reduction'!D205,\"\"))","v":""},{"$f":"IF('4 - Payroll reduction'!C205=\"Name\",\"\",IF('4 - Payroll reduction'!H205=\"Table 2\",'4 - Payroll reduction'!E205,\"\"))","v":""},{"$f":"IF('4 - Payroll reduction'!C205=\"Name\",\"\",IF('4 - Payroll reduction'!H205=\"Table 2\",'4 - Payroll reduction'!G205,\"\"))","v":""},null,115]
[{"$f":"IF('4 - Payroll reduction'!C206=\"Name\",\"\",IF('4 - Payroll reduction'!H206=\"Table 2\",'4 - Payroll reduction'!C206,\"\"))","v":""},{"$f":"IF('4 - Payroll reduction'!C206=\"Name\",\"\",IF('4 - Payroll reduction'!H206=\"Table 2\",'4 - Payroll reduction'!D206,\"\"))","v":""},{"$f":"IF('4 - Payroll reduction'!C206=\"Name\",\"\",IF('4 - Payroll reduction'!H206=\"Table 2\",'4 - Payroll reduction'!E206,\"\"))","v":""},{"$f":"IF('4 - Payroll reduction'!C206=\"Name\",\"\",IF('4 - Payroll reduction'!H206=\"Table 2\",'4 - Payroll reduction'!G206,\"\"))","v":""},null,116]
[{"$f":"IF('4 - Payroll reduction'!C207=\"Name\",\"\",IF('4 - Payroll reduction'!H207=\"Table 2\",'4 - Payroll reduction'!C207,\"\"))","v":""},{"$f":"IF('4 - Payroll reduction'!C207=\"Name\",\"\",IF('4 - Payroll reduction'!H207=\"Table 2\",'4 - Payroll reduction'!D207,\"\"))","v":""},{"$f":"IF('4 - Payroll reduction'!C207=\"Name\",\"\",IF('4 - Payroll reduction'!H207=\"Table 2\",'4 - Payroll reduction'!E207,\"\"))","v":""},{"$f":"IF('4 - Payroll reduction'!C207=\"Name\",\"\",IF('4 - Payroll reduction'!H207=\"Table 2\",'4 - Payroll reduction'!G207,\"\"))","v":""},null,117]
[{"$f":"IF('4 - Payroll reduction'!C208=\"Name\",\"\",IF('4 - Payroll reduction'!H208=\"Table 2\",'4 - Payroll reduction'!C208,\"\"))","v":""},{"$f":"IF('4 - Payroll reduction'!C208=\"Name\",\"\",IF('4 - Payroll reduction'!H208=\"Table 2\",'4 - Payroll reduction'!D208,\"\"))","v":""},{"$f":"IF('4 - Payroll reduction'!C208=\"Name\",\"\",IF('4 - Payroll reduction'!H208=\"Table 2\",'4 - Payroll reduction'!E208,\"\"))","v":""},{"$f":"IF('4 - Payroll reduction'!C208=\"Name\",\"\",IF('4 - Payroll reduction'!H208=\"Table 2\",'4 - Payroll reduction'!G208,\"\"))","v":""},null,118]
[{"$f":"IF('4 - Payroll reduction'!C209=\"Name\",\"\",IF('4 - Payroll reduction'!H209=\"Table 2\",'4 - Payroll reduction'!C209,\"\"))","v":""},{"$f":"IF('4 - Payroll reduction'!C209=\"Name\",\"\",IF('4 - Payroll reduction'!H209=\"Table 2\",'4 - Payroll reduction'!D209,\"\"))","v":""},{"$f":"IF('4 - Payroll reduction'!C209=\"Name\",\"\",IF('4 - Payroll reduction'!H209=\"Table 2\",'4 - Payroll reduction'!E209,\"\"))","v":""},{"$f":"IF('4 - Payroll reduction'!C209=\"Name\",\"\",IF('4 - Payroll reduction'!H209=\"Table 2\",'4 - Payroll reduction'!G209,\"\"))","v":""},null,119]
[{"$f":"IF('4 - Payroll reduction'!C210=\"Name\",\"\",IF('4 - Payroll reduction'!H210=\"Table 2\",'4 - Payroll reduction'!C210,\"\"))","v":""},{"$f":"IF('4 - Payroll reduction'!C210=\"Name\",\"\",IF('4 - Payroll reduction'!H210=\"Table 2\",'4 - Payroll reduction'!D210,\"\"))","v":""},{"$f":"IF('4 - Payroll reduction'!C210=\"Name\",\"\",IF('4 - Payroll reduction'!H210=\"Table 2\",'4 - Payroll reduction'!E210,\"\"))","v":""},{"$f":"IF('4 - Payroll reduction'!C210=\"Name\",\"\",IF('4 - Payroll reduction'!H210=\"Table 2\",'4 - Payroll reduction'!G210,\"\"))","v":""},null,120]
[{"$f":"IF('4 - Payroll reduction'!C211=\"Name\",\"\",IF('4 - Payroll reduction'!H211=\"Table 2\",'4 - Payroll reduction'!C211,\"\"))","v":""},{"$f":"IF('4 - Payroll reduction'!C211=\"Name\",\"\",IF('4 - Payroll reduction'!H211=\"Table 2\",'4 - Payroll reduction'!D211,\"\"))","v":""},{"$f":"IF('4 - Payroll reduction'!C211=\"Name\",\"\",IF('4 - Payroll reduction'!H211=\"Table 2\",'4 - Payroll reduction'!E211,\"\"))","v":""},{"$f":"IF('4 - Payroll reduction'!C211=\"Name\",\"\",IF('4 - Payroll reduction'!H211=\"Table 2\",'4 - Payroll reduction'!G211,\"\"))","v":""},null,121]
[{"$f":"IF('4 - Payroll reduction'!C212=\"Name\",\"\",IF('4 - Payroll reduction'!H212=\"Table 2\",'4 - Payroll reduction'!C212,\"\"))","v":""},{"$f":"IF('4 - Payroll reduction'!C212=\"Name\",\"\",IF('4 - Payroll reduction'!H212=\"Table 2\",'4 - Payroll reduction'!D212,\"\"))","v":""},{"$f":"IF('4 - Payroll reduction'!C212=\"Name\",\"\",IF('4 - Payroll reduction'!H212=\"Table 2\",'4 - Payroll reduction'!E212,\"\"))","v":""},{"$f":"IF('4 - Payroll reduction'!C212=\"Name\",\"\",IF('4 - Payroll reduction'!H212=\"Table 2\",'4 - Payroll reduction'!G212,\"\"))","v":""},null,122]
[{"$f":"IF('4 - Payroll reduction'!C213=\"Name\",\"\",IF('4 - Payroll reduction'!H213=\"Table 2\",'4 - Payroll reduction'!C213,\"\"))","v":""},{"$f":"IF('4 - Payroll reduction'!C213=\"Name\",\"\",IF('4 - Payroll reduction'!H213=\"Table 2\",'4 - Payroll reduction'!D213,\"\"))","v":""},{"$f":"IF('4 - Payroll reduction'!C213=\"Name\",\"\",IF('4 - Payroll reduction'!H213=\"Table 2\",'4 - Payroll reduction'!E213,\"\"))","v":""},{"$f":"IF('4 - Payroll reduction'!C213=\"Name\",\"\",IF('4 - Payroll reduction'!H213=\"Table 2\",'4 - Payroll reduction'!G213,\"\"))","v":""},null,123]
[{"$f":"IF('4 - Payroll reduction'!C214=\"Name\",\"\",IF('4 - Payroll reduction'!H214=\"Table 2\",'4 - Payroll reduction'!C214,\"\"))","v":""},{"$f":"IF('4 - Payroll reduction'!C214=\"Name\",\"\",IF('4 - Payroll reduction'!H214=\"Table 2\",'4 - Payroll reduction'!D214,\"\"))","v":""},{"$f":"IF('4 - Payroll reduction'!C214=\"Name\",\"\",IF('4 - Payroll reduction'!H214=\"Table 2\",'4 - Payroll reduction'!E214,\"\"))","v":""},{"$f":"IF('4 - Payroll reduction'!C214=\"Name\",\"\",IF('4 - Payroll reduction'!H214=\"Table 2\",'4 - Payroll reduction'!G214,\"\"))","v":""},null,124]
[{"$f":"IF('4 - Payroll reduction'!C215=\"Name\",\"\",IF('4 - Payroll reduction'!H215=\"Table 2\",'4 - Payroll reduction'!C215,\"\"))","v":""},{"$f":"IF('4 - Payroll reduction'!C215=\"Name\",\"\",IF('4 - Payroll reduction'!H215=\"Table 2\",'4 - Payroll reduction'!D215,\"\"))","v":""},{"$f":"IF('4 - Payroll reduction'!C215=\"Name\",\"\",IF('4 - Payroll reduction'!H215=\"Table 2\",'4 - Payroll reduction'!E215,\"\"))","v":""},{"$f":"IF('4 - Payroll reduction'!C215=\"Name\",\"\",IF('4 - Payroll reduction'!H215=\"Table 2\",'4 - Payroll reduction'!G215,\"\"))","v":""},null,125]
[{"$f":"IF('4 - Payroll reduction'!C216=\"Name\",\"\",IF('4 - Payroll reduction'!H216=\"Table 2\",'4 - Payroll reduction'!C216,\"\"))","v":""},{"$f":"IF('4 - Payroll reduction'!C216=\"Name\",\"\",IF('4 - Payroll reduction'!H216=\"Table 2\",'4 - Payroll reduction'!D216,\"\"))","v":""},{"$f":"IF('4 - Payroll reduction'!C216=\"Name\",\"\",IF('4 - Payroll reduction'!H216=\"Table 2\",'4 - Payroll reduction'!E216,\"\"))","v":""},{"$f":"IF('4 - Payroll reduction'!C216=\"Name\",\"\",IF('4 - Payroll reduction'!H216=\"Table 2\",'4 - Payroll reduction'!G216,\"\"))","v":""},null,126]
[{"$f":"IF('4 - Payroll reduction'!C217=\"Name\",\"\",IF('4 - Payroll reduction'!H217=\"Table 2\",'4 - Payroll reduction'!C217,\"\"))","v":""},{"$f":"IF('4 - Payroll reduction'!C217=\"Name\",\"\",IF('4 - Payroll reduction'!H217=\"Table 2\",'4 - Payroll reduction'!D217,\"\"))","v":""},{"$f":"IF('4 - Payroll reduction'!C217=\"Name\",\"\",IF('4 - Payroll reduction'!H217=\"Table 2\",'4 - Payroll reduction'!E217,\"\"))","v":""},{"$f":"IF('4 - Payroll reduction'!C217=\"Name\",\"\",IF('4 - Payroll reduction'!H217=\"Table 2\",'4 - Payroll reduction'!G217,\"\"))","v":""},null,127]
[{"$f":"IF('4 - Payroll reduction'!C218=\"Name\",\"\",IF('4 - Payroll reduction'!H218=\"Table 2\",'4 - Payroll reduction'!C218,\"\"))","v":""},{"$f":"IF('4 - Payroll reduction'!C218=\"Name\",\"\",IF('4 - Payroll reduction'!H218=\"Table 2\",'4 - Payroll reduction'!D218,\"\"))","v":""},{"$f":"IF('4 - Payroll reduction'!C218=\"Name\",\"\",IF('4 - Payroll reduction'!H218=\"Table 2\",'4 - Payroll reduction'!E218,\"\"))","v":""},{"$f":"IF('4 - Payroll reduction'!C218=\"Name\",\"\",IF('4 - Payroll reduction'!H218=\"Table 2\",'4 - Payroll reduction'!G218,\"\"))","v":""},null,128]
[{"$f":"IF('4 - Payroll reduction'!C219=\"Name\",\"\",IF('4 - Payroll reduction'!H219=\"Table 2\",'4 - Payroll reduction'!C219,\"\"))","v":""},{"$f":"IF('4 - Payroll reduction'!C219=\"Name\",\"\",IF('4 - Payroll reduction'!H219=\"Table 2\",'4 - Payroll reduction'!D219,\"\"))","v":""},{"$f":"IF('4 - Payroll reduction'!C219=\"Name\",\"\",IF('4 - Payroll reduction'!H219=\"Table 2\",'4 - Payroll reduction'!E219,\"\"))","v":""},{"$f":"IF('4 - Payroll reduction'!C219=\"Name\",\"\",IF('4 - Payroll reduction'!H219=\"Table 2\",'4 - Payroll reduction'!G219,\"\"))","v":""},null,129]
[{"$f":"IF('4 - Payroll reduction'!C220=\"Name\",\"\",IF('4 - Payroll reduction'!H220=\"Table 2\",'4 - Payroll reduction'!C220,\"\"))","v":""},{"$f":"IF('4 - Payroll reduction'!C220=\"Name\",\"\",IF('4 - Payroll reduction'!H220=\"Table 2\",'4 - Payroll reduction'!D220,\"\"))","v":""},{"$f":"IF('4 - Payroll reduction'!C220=\"Name\",\"\",IF('4 - Payroll reduction'!H220=\"Table 2\",'4 - Payroll reduction'!E220,\"\"))","v":""},{"$f":"IF('4 - Payroll reduction'!C220=\"Name\",\"\",IF('4 - Payroll reduction'!H220=\"Table 2\",'4 - Payroll reduction'!G220,\"\"))","v":""},null,130]
[{"$f":"IF('4 - Payroll reduction'!C221=\"Name\",\"\",IF('4 - Payroll reduction'!H221=\"Table 2\",'4 - Payroll reduction'!C221,\"\"))","v":""},{"$f":"IF('4 - Payroll reduction'!C221=\"Name\",\"\",IF('4 - Payroll reduction'!H221=\"Table 2\",'4 - Payroll reduction'!D221,\"\"))","v":""},{"$f":"IF('4 - Payroll reduction'!C221=\"Name\",\"\",IF('4 - Payroll reduction'!H221=\"Table 2\",'4 - Payroll reduction'!E221,\"\"))","v":""},{"$f":"IF('4 - Payroll reduction'!C221=\"Name\",\"\",IF('4 - Payroll reduction'!H221=\"Table 2\",'4 - Payroll reduction'!G221,\"\"))","v":""},null,131]
[{"$f":"IF('4 - Payroll reduction'!C222=\"Name\",\"\",IF('4 - Payroll reduction'!H222=\"Table 2\",'4 - Payroll reduction'!C222,\"\"))","v":""},{"$f":"IF('4 - Payroll reduction'!C222=\"Name\",\"\",IF('4 - Payroll reduction'!H222=\"Table 2\",'4 - Payroll reduction'!D222,\"\"))","v":""},{"$f":"IF('4 - Payroll reduction'!C222=\"Name\",\"\",IF('4 - Payroll reduction'!H222=\"Table 2\",'4 - Payroll reduction'!E222,\"\"))","v":""},{"$f":"IF('4 - Payroll reduction'!C222=\"Name\",\"\",IF('4 - Payroll reduction'!H222=\"Table 2\",'4 - Payroll reduction'!G222,\"\"))","v":""},null,{"$f":"F645+1","v":132}]
[{"$f":"IF('4 - Payroll reduction'!C223=\"Name\",\"\",IF('4 - Payroll reduction'!H223=\"Table 2\",'4 - Payroll reduction'!C223,\"\"))","v":""},{"$f":"IF('4 - Payroll reduction'!C223=\"Name\",\"\",IF('4 - Payroll reduction'!H223=\"Table 2\",'4 - Payroll reduction'!D223,\"\"))","v":""},{"$f":"IF('4 - Payroll reduction'!C223=\"Name\",\"\",IF('4 - Payroll reduction'!H223=\"Table 2\",'4 - Payroll reduction'!E223,\"\"))","v":""},{"$f":"IF('4 - Payroll reduction'!C223=\"Name\",\"\",IF('4 - Payroll reduction'!H223=\"Table 2\",'4 - Payroll reduction'!G223,\"\"))","v":""},null,133]
[{"$f":"IF('4 - Payroll reduction'!C224=\"Name\",\"\",IF('4 - Payroll reduction'!H224=\"Table 2\",'4 - Payroll reduction'!C224,\"\"))","v":""},{"$f":"IF('4 - Payroll reduction'!C224=\"Name\",\"\",IF('4 - Payroll reduction'!H224=\"Table 2\",'4 - Payroll reduction'!D224,\"\"))","v":""},{"$f":"IF('4 - Payroll reduction'!C224=\"Name\",\"\",IF('4 - Payroll reduction'!H224=\"Table 2\",'4 - Payroll reduction'!E224,\"\"))","v":""},{"$f":"IF('4 - Payroll reduction'!C224=\"Name\",\"\",IF('4 - Payroll reduction'!H224=\"Table 2\",'4 - Payroll reduction'!G224,\"\"))","v":""},null,134]
[{"$f":"IF('4 - Payroll reduction'!C225=\"Name\",\"\",IF('4 - Payroll reduction'!H225=\"Table 2\",'4 - Payroll reduction'!C225,\"\"))","v":""},{"$f":"IF('4 - Payroll reduction'!C225=\"Name\",\"\",IF('4 - Payroll reduction'!H225=\"Table 2\",'4 - Payroll reduction'!D225,\"\"))","v":""},{"$f":"IF('4 - Payroll reduction'!C225=\"Name\",\"\",IF('4 - Payroll reduction'!H225=\"Table 2\",'4 - Payroll reduction'!E225,\"\"))","v":""},{"$f":"IF('4 - Payroll reduction'!C225=\"Name\",\"\",IF('4 - Payroll reduction'!H225=\"Table 2\",'4 - Payroll reduction'!G225,\"\"))","v":""},null,135]
[{"$f":"IF('4 - Payroll reduction'!C226=\"Name\",\"\",IF('4 - Payroll reduction'!H226=\"Table 2\",'4 - Payroll reduction'!C226,\"\"))","v":""},{"$f":"IF('4 - Payroll reduction'!C226=\"Name\",\"\",IF('4 - Payroll reduction'!H226=\"Table 2\",'4 - Payroll reduction'!D226,\"\"))","v":""},{"$f":"IF('4 - Payroll reduction'!C226=\"Name\",\"\",IF('4 - Payroll reduction'!H226=\"Table 2\",'4 - Payroll reduction'!E226,\"\"))","v":""},{"$f":"IF('4 - Payroll reduction'!C226=\"Name\",\"\",IF('4 - Payroll reduction'!H226=\"Table 2\",'4 - Payroll reduction'!G226,\"\"))","v":""},null,136]
[{"$f":"IF('4 - Payroll reduction'!C227=\"Name\",\"\",IF('4 - Payroll reduction'!H227=\"Table 2\",'4 - Payroll reduction'!C227,\"\"))","v":""},{"$f":"IF('4 - Payroll reduction'!C227=\"Name\",\"\",IF('4 - Payroll reduction'!H227=\"Table 2\",'4 - Payroll reduction'!D227,\"\"))","v":""},{"$f":"IF('4 - Payroll reduction'!C227=\"Name\",\"\",IF('4 - Payroll reduction'!H227=\"Table 2\",'4 - Payroll reduction'!E227,\"\"))","v":""},{"$f":"IF('4 - Payroll reduction'!C227=\"Name\",\"\",IF('4 - Payroll reduction'!H227=\"Table 2\",'4 - Payroll reduction'!G227,\"\"))","v":""},null,137]
[{"$f":"IF('4 - Payroll reduction'!C228=\"Name\",\"\",IF('4 - Payroll reduction'!H228=\"Table 2\",'4 - Payroll reduction'!C228,\"\"))","v":""},{"$f":"IF('4 - Payroll reduction'!C228=\"Name\",\"\",IF('4 - Payroll reduction'!H228=\"Table 2\",'4 - Payroll reduction'!D228,\"\"))","v":""},{"$f":"IF('4 - Payroll reduction'!C228=\"Name\",\"\",IF('4 - Payroll reduction'!H228=\"Table 2\",'4 - Payroll reduction'!E228,\"\"))","v":""},{"$f":"IF('4 - Payroll reduction'!C228=\"Name\",\"\",IF('4 - Payroll reduction'!H228=\"Table 2\",'4 - Payroll reduction'!G228,\"\"))","v":""},null,138]
[{"$f":"IF('4 - Payroll reduction'!C229=\"Name\",\"\",IF('4 - Payroll reduction'!H229=\"Table 2\",'4 - Payroll reduction'!C229,\"\"))","v":""},{"$f":"IF('4 - Payroll reduction'!C229=\"Name\",\"\",IF('4 - Payroll reduction'!H229=\"Table 2\",'4 - Payroll reduction'!D229,\"\"))","v":""},{"$f":"IF('4 - Payroll reduction'!C229=\"Name\",\"\",IF('4 - Payroll reduction'!H229=\"Table 2\",'4 - Payroll reduction'!E229,\"\"))","v":""},{"$f":"IF('4 - Payroll reduction'!C229=\"Name\",\"\",IF('4 - Payroll reduction'!H229=\"Table 2\",'4 - Payroll reduction'!G229,\"\"))","v":""},null,139]
[{"$f":"IF('4 - Payroll reduction'!C230=\"Name\",\"\",IF('4 - Payroll reduction'!H230=\"Table 2\",'4 - Payroll reduction'!C230,\"\"))","v":""},{"$f":"IF('4 - Payroll reduction'!C230=\"Name\",\"\",IF('4 - Payroll reduction'!H230=\"Table 2\",'4 - Payroll reduction'!D230,\"\"))","v":""},{"$f":"IF('4 - Payroll reduction'!C230=\"Name\",\"\",IF('4 - Payroll reduction'!H230=\"Table 2\",'4 - Payroll reduction'!E230,\"\"))","v":""},{"$f":"IF('4 - Payroll reduction'!C230=\"Name\",\"\",IF('4 - Payroll reduction'!H230=\"Table 2\",'4 - Payroll reduction'!G230,\"\"))","v":""},null,140]
[{"$f":"IF('4 - Payroll reduction'!C231=\"Name\",\"\",IF('4 - Payroll reduction'!H231=\"Table 2\",'4 - Payroll reduction'!C231,\"\"))","v":""},{"$f":"IF('4 - Payroll reduction'!C231=\"Name\",\"\",IF('4 - Payroll reduction'!H231=\"Table 2\",'4 - Payroll reduction'!D231,\"\"))","v":""},{"$f":"IF('4 - Payroll reduction'!C231=\"Name\",\"\",IF('4 - Payroll reduction'!H231=\"Table 2\",'4 - Payroll reduction'!E231,\"\"))","v":""},{"$f":"IF('4 - Payroll reduction'!C231=\"Name\",\"\",IF('4 - Payroll reduction'!H231=\"Table 2\",'4 - Payroll reduction'!G231,\"\"))","v":""},null,141]
[{"$f":"IF('4 - Payroll reduction'!C232=\"Name\",\"\",IF('4 - Payroll reduction'!H232=\"Table 2\",'4 - Payroll reduction'!C232,\"\"))","v":""},{"$f":"IF('4 - Payroll reduction'!C232=\"Name\",\"\",IF('4 - Payroll reduction'!H232=\"Table 2\",'4 - Payroll reduction'!D232,\"\"))","v":""},{"$f":"IF('4 - Payroll reduction'!C232=\"Name\",\"\",IF('4 - Payroll reduction'!H232=\"Table 2\",'4 - Payroll reduction'!E232,\"\"))","v":""},{"$f":"IF('4 - Payroll reduction'!C232=\"Name\",\"\",IF('4 - Payroll reduction'!H232=\"Table 2\",'4 - Payroll reduction'!G232,\"\"))","v":""},null,142]
[{"$f":"IF('4 - Payroll reduction'!C233=\"Name\",\"\",IF('4 - Payroll reduction'!H233=\"Table 2\",'4 - Payroll reduction'!C233,\"\"))","v":""},{"$f":"IF('4 - Payroll reduction'!C233=\"Name\",\"\",IF('4 - Payroll reduction'!H233=\"Table 2\",'4 - Payroll reduction'!D233,\"\"))","v":""},{"$f":"IF('4 - Payroll reduction'!C233=\"Name\",\"\",IF('4 - Payroll reduction'!H233=\"Table 2\",'4 - Payroll reduction'!E233,\"\"))","v":""},{"$f":"IF('4 - Payroll reduction'!C233=\"Name\",\"\",IF('4 - Payroll reduction'!H233=\"Table 2\",'4 - Payroll reduction'!G233,\"\"))","v":""},null,143]
[{"$f":"IF('4 - Payroll reduction'!C234=\"Name\",\"\",IF('4 - Payroll reduction'!H234=\"Table 2\",'4 - Payroll reduction'!C234,\"\"))","v":""},{"$f":"IF('4 - Payroll reduction'!C234=\"Name\",\"\",IF('4 - Payroll reduction'!H234=\"Table 2\",'4 - Payroll reduction'!D234,\"\"))","v":""},{"$f":"IF('4 - Payroll reduction'!C234=\"Name\",\"\",IF('4 - Payroll reduction'!H234=\"Table 2\",'4 - Payroll reduction'!E234,\"\"))","v":""},{"$f":"IF('4 - Payroll reduction'!C234=\"Name\",\"\",IF('4 - Payroll reduction'!H234=\"Table 2\",'4 - Payroll reduction'!G234,\"\"))","v":""},null,144]
[{"$f":"IF('4 - Payroll reduction'!C235=\"Name\",\"\",IF('4 - Payroll reduction'!H235=\"Table 2\",'4 - Payroll reduction'!C235,\"\"))","v":""},{"$f":"IF('4 - Payroll reduction'!C235=\"Name\",\"\",IF('4 - Payroll reduction'!H235=\"Table 2\",'4 - Payroll reduction'!D235,\"\"))","v":""},{"$f":"IF('4 - Payroll reduction'!C235=\"Name\",\"\",IF('4 - Payroll reduction'!H235=\"Table 2\",'4 - Payroll reduction'!E235,\"\"))","v":""},{"$f":"IF('4 - Payroll reduction'!C235=\"Name\",\"\",IF('4 - Payroll reduction'!H235=\"Table 2\",'4 - Payroll reduction'!G235,\"\"))","v":""},null,145]
[{"$f":"IF('4 - Payroll reduction'!C236=\"Name\",\"\",IF('4 - Payroll reduction'!H236=\"Table 2\",'4 - Payroll reduction'!C236,\"\"))","v":""},{"$f":"IF('4 - Payroll reduction'!C236=\"Name\",\"\",IF('4 - Payroll reduction'!H236=\"Table 2\",'4 - Payroll reduction'!D236,\"\"))","v":""},{"$f":"IF('4 - Payroll reduction'!C236=\"Name\",\"\",IF('4 - Payroll reduction'!H236=\"Table 2\",'4 - Payroll reduction'!E236,\"\"))","v":""},{"$f":"IF('4 - Payroll reduction'!C236=\"Name\",\"\",IF('4 - Payroll reduction'!H236=\"Table 2\",'4 - Payroll reduction'!G236,\"\"))","v":""},null,146]
[{"$f":"IF('4 - Payroll reduction'!C237=\"Name\",\"\",IF('4 - Payroll reduction'!H237=\"Table 2\",'4 - Payroll reduction'!C237,\"\"))","v":""},{"$f":"IF('4 - Payroll reduction'!C237=\"Name\",\"\",IF('4 - Payroll reduction'!H237=\"Table 2\",'4 - Payroll reduction'!D237,\"\"))","v":""},{"$f":"IF('4 - Payroll reduction'!C237=\"Name\",\"\",IF('4 - Payroll reduction'!H237=\"Table 2\",'4 - Payroll reduction'!E237,\"\"))","v":""},{"$f":"IF('4 - Payroll reduction'!C237=\"Name\",\"\",IF('4 - Payroll reduction'!H237=\"Table 2\",'4 - Payroll reduction'!G237,\"\"))","v":""},null,147]
[{"$f":"IF('4 - Payroll reduction'!C238=\"Name\",\"\",IF('4 - Payroll reduction'!H238=\"Table 2\",'4 - Payroll reduction'!C238,\"\"))","v":""},{"$f":"IF('4 - Payroll reduction'!C238=\"Name\",\"\",IF('4 - Payroll reduction'!H238=\"Table 2\",'4 - Payroll reduction'!D238,\"\"))","v":""},{"$f":"IF('4 - Payroll reduction'!C238=\"Name\",\"\",IF('4 - Payroll reduction'!H238=\"Table 2\",'4 - Payroll reduction'!E238,\"\"))","v":""},{"$f":"IF('4 - Payroll reduction'!C238=\"Name\",\"\",IF('4 - Payroll reduction'!H238=\"Table 2\",'4 - Payroll reduction'!G238,\"\"))","v":""},null,148]
[{"$f":"IF('4 - Payroll reduction'!C239=\"Name\",\"\",IF('4 - Payroll reduction'!H239=\"Table 2\",'4 - Payroll reduction'!C239,\"\"))","v":""},{"$f":"IF('4 - Payroll reduction'!C239=\"Name\",\"\",IF('4 - Payroll reduction'!H239=\"Table 2\",'4 - Payroll reduction'!D239,\"\"))","v":""},{"$f":"IF('4 - Payroll reduction'!C239=\"Name\",\"\",IF('4 - Payroll reduction'!H239=\"Table 2\",'4 - Payroll reduction'!E239,\"\"))","v":""},{"$f":"IF('4 - Payroll reduction'!C239=\"Name\",\"\",IF('4 - Payroll reduction'!H239=\"Table 2\",'4 - Payroll reduction'!G239,\"\"))","v":""},null,149]
[{"$f":"IF('4 - Payroll reduction'!C240=\"Name\",\"\",IF('4 - Payroll reduction'!H240=\"Table 2\",'4 - Payroll reduction'!C240,\"\"))","v":""},{"$f":"IF('4 - Payroll reduction'!C240=\"Name\",\"\",IF('4 - Payroll reduction'!H240=\"Table 2\",'4 - Payroll reduction'!D240,\"\"))","v":""},{"$f":"IF('4 - Payroll reduction'!C240=\"Name\",\"\",IF('4 - Payroll reduction'!H240=\"Table 2\",'4 - Payroll reduction'!E240,\"\"))","v":""},{"$f":"IF('4 - Payroll reduction'!C240=\"Name\",\"\",IF('4 - Payroll reduction'!H240=\"Table 2\",'4 - Payroll reduction'!G240,\"\"))","v":""},null,150]
[{"$f":"IF('4 - Payroll reduction'!C241=\"Name\",\"\",IF('4 - Payroll reduction'!H241=\"Table 2\",'4 - Payroll reduction'!C241,\"\"))","v":""},{"$f":"IF('4 - Payroll reduction'!C241=\"Name\",\"\",IF('4 - Payroll reduction'!H241=\"Table 2\",'4 - Payroll reduction'!D241,\"\"))","v":""},{"$f":"IF('4 - Payroll reduction'!C241=\"Name\",\"\",IF('4 - Payroll reduction'!H241=\"Table 2\",'4 - Payroll reduction'!E241,\"\"))","v":""},{"$f":"IF('4 - Payroll reduction'!C241=\"Name\",\"\",IF('4 - Payroll reduction'!H241=\"Table 2\",'4 - Payroll reduction'!G241,\"\"))","v":""},null,151]
[{"$f":"IF('4 - Payroll reduction'!C242=\"Name\",\"\",IF('4 - Payroll reduction'!H242=\"Table 2\",'4 - Payroll reduction'!C242,\"\"))","v":""},{"$f":"IF('4 - Payroll reduction'!C242=\"Name\",\"\",IF('4 - Payroll reduction'!H242=\"Table 2\",'4 - Payroll reduction'!D242,\"\"))","v":""},{"$f":"IF('4 - Payroll reduction'!C242=\"Name\",\"\",IF('4 - Payroll reduction'!H242=\"Table 2\",'4 - Payroll reduction'!E242,\"\"))","v":""},{"$f":"IF('4 - Payroll reduction'!C242=\"Name\",\"\",IF('4 - Payroll reduction'!H242=\"Table 2\",'4 - Payroll reduction'!G242,\"\"))","v":""},null,152]
[{"$f":"IF('4 - Payroll reduction'!C243=\"Name\",\"\",IF('4 - Payroll reduction'!H243=\"Table 2\",'4 - Payroll reduction'!C243,\"\"))","v":""},{"$f":"IF('4 - Payroll reduction'!C243=\"Name\",\"\",IF('4 - Payroll reduction'!H243=\"Table 2\",'4 - Payroll reduction'!D243,\"\"))","v":""},{"$f":"IF('4 - Payroll reduction'!C243=\"Name\",\"\",IF('4 - Payroll reduction'!H243=\"Table 2\",'4 - Payroll reduction'!E243,\"\"))","v":""},{"$f":"IF('4 - Payroll reduction'!C243=\"Name\",\"\",IF('4 - Payroll reduction'!H243=\"Table 2\",'4 - Payroll reduction'!G243,\"\"))","v":""},null,153]
[{"$f":"IF('4 - Payroll reduction'!C244=\"Name\",\"\",IF('4 - Payroll reduction'!H244=\"Table 2\",'4 - Payroll reduction'!C244,\"\"))","v":""},{"$f":"IF('4 - Payroll reduction'!C244=\"Name\",\"\",IF('4 - Payroll reduction'!H244=\"Table 2\",'4 - Payroll reduction'!D244,\"\"))","v":""},{"$f":"IF('4 - Payroll reduction'!C244=\"Name\",\"\",IF('4 - Payroll reduction'!H244=\"Table 2\",'4 - Payroll reduction'!E244,\"\"))","v":""},{"$f":"IF('4 - Payroll reduction'!C244=\"Name\",\"\",IF('4 - Payroll reduction'!H244=\"Table 2\",'4 - Payroll reduction'!G244,\"\"))","v":""},null,154]
[{"$f":"IF('4 - Payroll reduction'!C245=\"Name\",\"\",IF('4 - Payroll reduction'!H245=\"Table 2\",'4 - Payroll reduction'!C245,\"\"))","v":""},{"$f":"IF('4 - Payroll reduction'!C245=\"Name\",\"\",IF('4 - Payroll reduction'!H245=\"Table 2\",'4 - Payroll reduction'!D245,\"\"))","v":""},{"$f":"IF('4 - Payroll reduction'!C245=\"Name\",\"\",IF('4 - Payroll reduction'!H245=\"Table 2\",'4 - Payroll reduction'!E245,\"\"))","v":""},{"$f":"IF('4 - Payroll reduction'!C245=\"Name\",\"\",IF('4 - Payroll reduction'!H245=\"Table 2\",'4 - Payroll reduction'!G245,\"\"))","v":""},null,155]
[{"$f":"IF('4 - Payroll reduction'!C246=\"Name\",\"\",IF('4 - Payroll reduction'!H246=\"Table 2\",'4 - Payroll reduction'!C246,\"\"))","v":""},{"$f":"IF('4 - Payroll reduction'!C246=\"Name\",\"\",IF('4 - Payroll reduction'!H246=\"Table 2\",'4 - Payroll reduction'!D246,\"\"))","v":""},{"$f":"IF('4 - Payroll reduction'!C246=\"Name\",\"\",IF('4 - Payroll reduction'!H246=\"Table 2\",'4 - Payroll reduction'!E246,\"\"))","v":""},{"$f":"IF('4 - Payroll reduction'!C246=\"Name\",\"\",IF('4 - Payroll reduction'!H246=\"Table 2\",'4 - Payroll reduction'!G246,\"\"))","v":""},null,156]
[{"$f":"IF('4 - Payroll reduction'!C247=\"Name\",\"\",IF('4 - Payroll reduction'!H247=\"Table 2\",'4 - Payroll reduction'!C247,\"\"))","v":""},{"$f":"IF('4 - Payroll reduction'!C247=\"Name\",\"\",IF('4 - Payroll reduction'!H247=\"Table 2\",'4 - Payroll reduction'!D247,\"\"))","v":""},{"$f":"IF('4 - Payroll reduction'!C247=\"Name\",\"\",IF('4 - Payroll reduction'!H247=\"Table 2\",'4 - Payroll reduction'!E247,\"\"))","v":""},{"$f":"IF('4 - Payroll reduction'!C247=\"Name\",\"\",IF('4 - Payroll reduction'!H247=\"Table 2\",'4 - Payroll reduction'!G247,\"\"))","v":""},null,157]
[{"$f":"IF('4 - Payroll reduction'!C248=\"Name\",\"\",IF('4 - Payroll reduction'!H248=\"Table 2\",'4 - Payroll reduction'!C248,\"\"))","v":""},{"$f":"IF('4 - Payroll reduction'!C248=\"Name\",\"\",IF('4 - Payroll reduction'!H248=\"Table 2\",'4 - Payroll reduction'!D248,\"\"))","v":""},{"$f":"IF('4 - Payroll reduction'!C248=\"Name\",\"\",IF('4 - Payroll reduction'!H248=\"Table 2\",'4 - Payroll reduction'!E248,\"\"))","v":""},{"$f":"IF('4 - Payroll reduction'!C248=\"Name\",\"\",IF('4 - Payroll reduction'!H248=\"Table 2\",'4 - Payroll reduction'!G248,\"\"))","v":""},null,158]
[{"$f":"IF('4 - Payroll reduction'!C249=\"Name\",\"\",IF('4 - Payroll reduction'!H249=\"Table 2\",'4 - Payroll reduction'!C249,\"\"))","v":""},{"$f":"IF('4 - Payroll reduction'!C249=\"Name\",\"\",IF('4 - Payroll reduction'!H249=\"Table 2\",'4 - Payroll reduction'!D249,\"\"))","v":""},{"$f":"IF('4 - Payroll reduction'!C249=\"Name\",\"\",IF('4 - Payroll reduction'!H249=\"Table 2\",'4 - Payroll reduction'!E249,\"\"))","v":""},{"$f":"IF('4 - Payroll reduction'!C249=\"Name\",\"\",IF('4 - Payroll reduction'!H249=\"Table 2\",'4 - Payroll reduction'!G249,\"\"))","v":""},null,159]
[{"$f":"IF('4 - Payroll reduction'!C250=\"Name\",\"\",IF('4 - Payroll reduction'!H250=\"Table 2\",'4 - Payroll reduction'!C250,\"\"))","v":""},{"$f":"IF('4 - Payroll reduction'!C250=\"Name\",\"\",IF('4 - Payroll reduction'!H250=\"Table 2\",'4 - Payroll reduction'!D250,\"\"))","v":""},{"$f":"IF('4 - Payroll reduction'!C250=\"Name\",\"\",IF('4 - Payroll reduction'!H250=\"Table 2\",'4 - Payroll reduction'!E250,\"\"))","v":""},{"$f":"IF('4 - Payroll reduction'!C250=\"Name\",\"\",IF('4 - Payroll reduction'!H250=\"Table 2\",'4 - Payroll reduction'!G250,\"\"))","v":""},null,160]
[{"$f":"IF('4 - Payroll reduction'!C251=\"Name\",\"\",IF('4 - Payroll reduction'!H251=\"Table 2\",'4 - Payroll reduction'!C251,\"\"))","v":""},{"$f":"IF('4 - Payroll reduction'!C251=\"Name\",\"\",IF('4 - Payroll reduction'!H251=\"Table 2\",'4 - Payroll reduction'!D251,\"\"))","v":""},{"$f":"IF('4 - Payroll reduction'!C251=\"Name\",\"\",IF('4 - Payroll reduction'!H251=\"Table 2\",'4 - Payroll reduction'!E251,\"\"))","v":""},{"$f":"IF('4 - Payroll reduction'!C251=\"Name\",\"\",IF('4 - Payroll reduction'!H251=\"Table 2\",'4 - Payroll reduction'!G251,\"\"))","v":""},null,161]
[{"$f":"IF('4 - Payroll reduction'!C252=\"Name\",\"\",IF('4 - Payroll reduction'!H252=\"Table 2\",'4 - Payroll reduction'!C252,\"\"))","v":""},{"$f":"IF('4 - Payroll reduction'!C252=\"Name\",\"\",IF('4 - Payroll reduction'!H252=\"Table 2\",'4 - Payroll reduction'!D252,\"\"))","v":""},{"$f":"IF('4 - Payroll reduction'!C252=\"Name\",\"\",IF('4 - Payroll reduction'!H252=\"Table 2\",'4 - Payroll reduction'!E252,\"\"))","v":""},{"$f":"IF('4 - Payroll reduction'!C252=\"Name\",\"\",IF('4 - Payroll reduction'!H252=\"Table 2\",'4 - Payroll reduction'!G252,\"\"))","v":""},null,162]
[{"$f":"IF('4 - Payroll reduction'!C253=\"Name\",\"\",IF('4 - Payroll reduction'!H253=\"Table 2\",'4 - Payroll reduction'!C253,\"\"))","v":""},{"$f":"IF('4 - Payroll reduction'!C253=\"Name\",\"\",IF('4 - Payroll reduction'!H253=\"Table 2\",'4 - Payroll reduction'!D253,\"\"))","v":""},{"$f":"IF('4 - Payroll reduction'!C253=\"Name\",\"\",IF('4 - Payroll reduction'!H253=\"Table 2\",'4 - Payroll reduction'!E253,\"\"))","v":""},{"$f":"IF('4 - Payroll reduction'!C253=\"Name\",\"\",IF('4 - Payroll reduction'!H253=\"Table 2\",'4 - Payroll reduction'!G253,\"\"))","v":""},null,163]
[{"$f":"IF('4 - Payroll reduction'!C254=\"Name\",\"\",IF('4 - Payroll reduction'!H254=\"Table 2\",'4 - Payroll reduction'!C254,\"\"))","v":""},{"$f":"IF('4 - Payroll reduction'!C254=\"Name\",\"\",IF('4 - Payroll reduction'!H254=\"Table 2\",'4 - Payroll reduction'!D254,\"\"))","v":""},{"$f":"IF('4 - Payroll reduction'!C254=\"Name\",\"\",IF('4 - Payroll reduction'!H254=\"Table 2\",'4 - Payroll reduction'!E254,\"\"))","v":""},{"$f":"IF('4 - Payroll reduction'!C254=\"Name\",\"\",IF('4 - Payroll reduction'!H254=\"Table 2\",'4 - Payroll reduction'!G254,\"\"))","v":""},null,164]
[{"$f":"IF('4 - Payroll reduction'!C255=\"Name\",\"\",IF('4 - Payroll reduction'!H255=\"Table 2\",'4 - Payroll reduction'!C255,\"\"))","v":""},{"$f":"IF('4 - Payroll reduction'!C255=\"Name\",\"\",IF('4 - Payroll reduction'!H255=\"Table 2\",'4 - Payroll reduction'!D255,\"\"))","v":""},{"$f":"IF('4 - Payroll reduction'!C255=\"Name\",\"\",IF('4 - Payroll reduction'!H255=\"Table 2\",'4 - Payroll reduction'!E255,\"\"))","v":""},{"$f":"IF('4 - Payroll reduction'!C255=\"Name\",\"\",IF('4 - Payroll reduction'!H255=\"Table 2\",'4 - Payroll reduction'!G255,\"\"))","v":""},null,165]
[{"$f":"IF('4 - Payroll reduction'!C256=\"Name\",\"\",IF('4 - Payroll reduction'!H256=\"Table 2\",'4 - Payroll reduction'!C256,\"\"))","v":""},{"$f":"IF('4 - Payroll reduction'!C256=\"Name\",\"\",IF('4 - Payroll reduction'!H256=\"Table 2\",'4 - Payroll reduction'!D256,\"\"))","v":""},{"$f":"IF('4 - Payroll reduction'!C256=\"Name\",\"\",IF('4 - Payroll reduction'!H256=\"Table 2\",'4 - Payroll reduction'!E256,\"\"))","v":""},{"$f":"IF('4 - Payroll reduction'!C256=\"Name\",\"\",IF('4 - Payroll reduction'!H256=\"Table 2\",'4 - Payroll reduction'!G256,\"\"))","v":""},null,166]
[{"$f":"IF('4 - Payroll reduction'!C257=\"Name\",\"\",IF('4 - Payroll reduction'!H257=\"Table 2\",'4 - Payroll reduction'!C257,\"\"))","v":""},{"$f":"IF('4 - Payroll reduction'!C257=\"Name\",\"\",IF('4 - Payroll reduction'!H257=\"Table 2\",'4 - Payroll reduction'!D257,\"\"))","v":""},{"$f":"IF('4 - Payroll reduction'!C257=\"Name\",\"\",IF('4 - Payroll reduction'!H257=\"Table 2\",'4 - Payroll reduction'!E257,\"\"))","v":""},{"$f":"IF('4 - Payroll reduction'!C257=\"Name\",\"\",IF('4 - Payroll reduction'!H257=\"Table 2\",'4 - Payroll reduction'!G257,\"\"))","v":""},null,167]
[{"$f":"IF('4 - Payroll reduction'!C258=\"Name\",\"\",IF('4 - Payroll reduction'!H258=\"Table 2\",'4 - Payroll reduction'!C258,\"\"))","v":""},{"$f":"IF('4 - Payroll reduction'!C258=\"Name\",\"\",IF('4 - Payroll reduction'!H258=\"Table 2\",'4 - Payroll reduction'!D258,\"\"))","v":""},{"$f":"IF('4 - Payroll reduction'!C258=\"Name\",\"\",IF('4 - Payroll reduction'!H258=\"Table 2\",'4 - Payroll reduction'!E258,\"\"))","v":""},{"$f":"IF('4 - Payroll reduction'!C258=\"Name\",\"\",IF('4 - Payroll reduction'!H258=\"Table 2\",'4 - Payroll reduction'!G258,\"\"))","v":""},null,168]
[{"$f":"IF('4 - Payroll reduction'!C259=\"Name\",\"\",IF('4 - Payroll reduction'!H259=\"Table 2\",'4 - Payroll reduction'!C259,\"\"))","v":""},{"$f":"IF('4 - Payroll reduction'!C259=\"Name\",\"\",IF('4 - Payroll reduction'!H259=\"Table 2\",'4 - Payroll reduction'!D259,\"\"))","v":""},{"$f":"IF('4 - Payroll reduction'!C259=\"Name\",\"\",IF('4 - Payroll reduction'!H259=\"Table 2\",'4 - Payroll reduction'!E259,\"\"))","v":""},{"$f":"IF('4 - Payroll reduction'!C259=\"Name\",\"\",IF('4 - Payroll reduction'!H259=\"Table 2\",'4 - Payroll reduction'!G259,\"\"))","v":""},null,169]
[{"$f":"IF('4 - Payroll reduction'!C260=\"Name\",\"\",IF('4 - Payroll reduction'!H260=\"Table 2\",'4 - Payroll reduction'!C260,\"\"))","v":""},{"$f":"IF('4 - Payroll reduction'!C260=\"Name\",\"\",IF('4 - Payroll reduction'!H260=\"Table 2\",'4 - Payroll reduction'!D260,\"\"))","v":""},{"$f":"IF('4 - Payroll reduction'!C260=\"Name\",\"\",IF('4 - Payroll reduction'!H260=\"Table 2\",'4 - Payroll reduction'!E260,\"\"))","v":""},{"$f":"IF('4 - Payroll reduction'!C260=\"Name\",\"\",IF('4 - Payroll reduction'!H260=\"Table 2\",'4 - Payroll reduction'!G260,\"\"))","v":""},null,170]
[{"$f":"IF('4 - Payroll reduction'!C261=\"Name\",\"\",IF('4 - Payroll reduction'!H261=\"Table 2\",'4 - Payroll reduction'!C261,\"\"))","v":""},{"$f":"IF('4 - Payroll reduction'!C261=\"Name\",\"\",IF('4 - Payroll reduction'!H261=\"Table 2\",'4 - Payroll reduction'!D261,\"\"))","v":""},{"$f":"IF('4 - Payroll reduction'!C261=\"Name\",\"\",IF('4 - Payroll reduction'!H261=\"Table 2\",'4 - Payroll reduction'!E261,\"\"))","v":""},{"$f":"IF('4 - Payroll reduction'!C261=\"Name\",\"\",IF('4 - Payroll reduction'!H261=\"Table 2\",'4 - Payroll reduction'!G261,\"\"))","v":""},null,171]
[{"$f":"IF('4 - Payroll reduction'!C262=\"Name\",\"\",IF('4 - Payroll reduction'!H262=\"Table 2\",'4 - Payroll reduction'!C262,\"\"))","v":""},{"$f":"IF('4 - Payroll reduction'!C262=\"Name\",\"\",IF('4 - Payroll reduction'!H262=\"Table 2\",'4 - Payroll reduction'!D262,\"\"))","v":""},{"$f":"IF('4 - Payroll reduction'!C262=\"Name\",\"\",IF('4 - Payroll reduction'!H262=\"Table 2\",'4 - Payroll reduction'!E262,\"\"))","v":""},{"$f":"IF('4 - Payroll reduction'!C262=\"Name\",\"\",IF('4 - Payroll reduction'!H262=\"Table 2\",'4 - Payroll reduction'!G262,\"\"))","v":""},null,172]
[{"$f":"IF('4 - Payroll reduction'!C263=\"Name\",\"\",IF('4 - Payroll reduction'!H263=\"Table 2\",'4 - Payroll reduction'!C263,\"\"))","v":""},{"$f":"IF('4 - Payroll reduction'!C263=\"Name\",\"\",IF('4 - Payroll reduction'!H263=\"Table 2\",'4 - Payroll reduction'!D263,\"\"))","v":""},{"$f":"IF('4 - Payroll reduction'!C263=\"Name\",\"\",IF('4 - Payroll reduction'!H263=\"Table 2\",'4 - Payroll reduction'!E263,\"\"))","v":""},{"$f":"IF('4 - Payroll reduction'!C263=\"Name\",\"\",IF('4 - Payroll reduction'!H263=\"Table 2\",'4 - Payroll reduction'!G263,\"\"))","v":""},null,173]
[{"$f":"IF('4 - Payroll reduction'!C264=\"Name\",\"\",IF('4 - Payroll reduction'!H264=\"Table 2\",'4 - Payroll reduction'!C264,\"\"))","v":""},{"$f":"IF('4 - Payroll reduction'!C264=\"Name\",\"\",IF('4 - Payroll reduction'!H264=\"Table 2\",'4 - Payroll reduction'!D264,\"\"))","v":""},{"$f":"IF('4 - Payroll reduction'!C264=\"Name\",\"\",IF('4 - Payroll reduction'!H264=\"Table 2\",'4 - Payroll reduction'!E264,\"\"))","v":""},{"$f":"IF('4 - Payroll reduction'!C264=\"Name\",\"\",IF('4 - Payroll reduction'!H264=\"Table 2\",'4 - Payroll reduction'!G264,\"\"))","v":""},null,174]
[{"$f":"IF('4 - Payroll reduction'!C265=\"Name\",\"\",IF('4 - Payroll reduction'!H265=\"Table 2\",'4 - Payroll reduction'!C265,\"\"))","v":""},{"$f":"IF('4 - Payroll reduction'!C265=\"Name\",\"\",IF('4 - Payroll reduction'!H265=\"Table 2\",'4 - Payroll reduction'!D265,\"\"))","v":""},{"$f":"IF('4 - Payroll reduction'!C265=\"Name\",\"\",IF('4 - Payroll reduction'!H265=\"Table 2\",'4 - Payroll reduction'!E265,\"\"))","v":""},{"$f":"IF('4 - Payroll reduction'!C265=\"Name\",\"\",IF('4 - Payroll reduction'!H265=\"Table 2\",'4 - Payroll reduction'!G265,\"\"))","v":""},null,175]
[{"$f":"IF('4 - Payroll reduction'!C266=\"Name\",\"\",IF('4 - Payroll reduction'!H266=\"Table 2\",'4 - Payroll reduction'!C266,\"\"))","v":""},{"$f":"IF('4 - Payroll reduction'!C266=\"Name\",\"\",IF('4 - Payroll reduction'!H266=\"Table 2\",'4 - Payroll reduction'!D266,\"\"))","v":""},{"$f":"IF('4 - Payroll reduction'!C266=\"Name\",\"\",IF('4 - Payroll reduction'!H266=\"Table 2\",'4 - Payroll reduction'!E266,\"\"))","v":""},{"$f":"IF('4 - Payroll reduction'!C266=\"Name\",\"\",IF('4 - Payroll reduction'!H266=\"Table 2\",'4 - Payroll reduction'!G266,\"\"))","v":""},null,176]
[{"$f":"IF('4 - Payroll reduction'!C267=\"Name\",\"\",IF('4 - Payroll reduction'!H267=\"Table 2\",'4 - Payroll reduction'!C267,\"\"))","v":""},{"$f":"IF('4 - Payroll reduction'!C267=\"Name\",\"\",IF('4 - Payroll reduction'!H267=\"Table 2\",'4 - Payroll reduction'!D267,\"\"))","v":""},{"$f":"IF('4 - Payroll reduction'!C267=\"Name\",\"\",IF('4 - Payroll reduction'!H267=\"Table 2\",'4 - Payroll reduction'!E267,\"\"))","v":""},{"$f":"IF('4 - Payroll reduction'!C267=\"Name\",\"\",IF('4 - Payroll reduction'!H267=\"Table 2\",'4 - Payroll reduction'!G267,\"\"))","v":""},null,177]
[{"$f":"IF('4 - Payroll reduction'!C268=\"Name\",\"\",IF('4 - Payroll reduction'!H268=\"Table 2\",'4 - Payroll reduction'!C268,\"\"))","v":""},{"$f":"IF('4 - Payroll reduction'!C268=\"Name\",\"\",IF('4 - Payroll reduction'!H268=\"Table 2\",'4 - Payroll reduction'!D268,\"\"))","v":""},{"$f":"IF('4 - Payroll reduction'!C268=\"Name\",\"\",IF('4 - Payroll reduction'!H268=\"Table 2\",'4 - Payroll reduction'!E268,\"\"))","v":""},{"$f":"IF('4 - Payroll reduction'!C268=\"Name\",\"\",IF('4 - Payroll reduction'!H268=\"Table 2\",'4 - Payroll reduction'!G268,\"\"))","v":""},null,178]
[{"$f":"IF('4 - Payroll reduction'!C269=\"Name\",\"\",IF('4 - Payroll reduction'!H269=\"Table 2\",'4 - Payroll reduction'!C269,\"\"))","v":""},{"$f":"IF('4 - Payroll reduction'!C269=\"Name\",\"\",IF('4 - Payroll reduction'!H269=\"Table 2\",'4 - Payroll reduction'!D269,\"\"))","v":""},{"$f":"IF('4 - Payroll reduction'!C269=\"Name\",\"\",IF('4 - Payroll reduction'!H269=\"Table 2\",'4 - Payroll reduction'!E269,\"\"))","v":""},{"$f":"IF('4 - Payroll reduction'!C269=\"Name\",\"\",IF('4 - Payroll reduction'!H269=\"Table 2\",'4 - Payroll reduction'!G269,\"\"))","v":""},null,179]
[{"$f":"IF('4 - Payroll reduction'!C270=\"Name\",\"\",IF('4 - Payroll reduction'!H270=\"Table 2\",'4 - Payroll reduction'!C270,\"\"))","v":""},{"$f":"IF('4 - Payroll reduction'!C270=\"Name\",\"\",IF('4 - Payroll reduction'!H270=\"Table 2\",'4 - Payroll reduction'!D270,\"\"))","v":""},{"$f":"IF('4 - Payroll reduction'!C270=\"Name\",\"\",IF('4 - Payroll reduction'!H270=\"Table 2\",'4 - Payroll reduction'!E270,\"\"))","v":""},{"$f":"IF('4 - Payroll reduction'!C270=\"Name\",\"\",IF('4 - Payroll reduction'!H270=\"Table 2\",'4 - Payroll reduction'!G270,\"\"))","v":""},null,180]
[{"$f":"IF('4 - Payroll reduction'!C271=\"Name\",\"\",IF('4 - Payroll reduction'!H271=\"Table 2\",'4 - Payroll reduction'!C271,\"\"))","v":""},{"$f":"IF('4 - Payroll reduction'!C271=\"Name\",\"\",IF('4 - Payroll reduction'!H271=\"Table 2\",'4 - Payroll reduction'!D271,\"\"))","v":""},{"$f":"IF('4 - Payroll reduction'!C271=\"Name\",\"\",IF('4 - Payroll reduction'!H271=\"Table 2\",'4 - Payroll reduction'!E271,\"\"))","v":""},{"$f":"IF('4 - Payroll reduction'!C271=\"Name\",\"\",IF('4 - Payroll reduction'!H271=\"Table 2\",'4 - Payroll reduction'!G271,\"\"))","v":""},null,181]
[{"$f":"IF('4 - Payroll reduction'!C272=\"Name\",\"\",IF('4 - Payroll reduction'!H272=\"Table 2\",'4 - Payroll reduction'!C272,\"\"))","v":""},{"$f":"IF('4 - Payroll reduction'!C272=\"Name\",\"\",IF('4 - Payroll reduction'!H272=\"Table 2\",'4 - Payroll reduction'!D272,\"\"))","v":""},{"$f":"IF('4 - Payroll reduction'!C272=\"Name\",\"\",IF('4 - Payroll reduction'!H272=\"Table 2\",'4 - Payroll reduction'!E272,\"\"))","v":""},{"$f":"IF('4 - Payroll reduction'!C272=\"Name\",\"\",IF('4 - Payroll reduction'!H272=\"Table 2\",'4 - Payroll reduction'!G272,\"\"))","v":""},null,182]
[{"$f":"IF('4 - Payroll reduction'!C273=\"Name\",\"\",IF('4 - Payroll reduction'!H273=\"Table 2\",'4 - Payroll reduction'!C273,\"\"))","v":""},{"$f":"IF('4 - Payroll reduction'!C273=\"Name\",\"\",IF('4 - Payroll reduction'!H273=\"Table 2\",'4 - Payroll reduction'!D273,\"\"))","v":""},{"$f":"IF('4 - Payroll reduction'!C273=\"Name\",\"\",IF('4 - Payroll reduction'!H273=\"Table 2\",'4 - Payroll reduction'!E273,\"\"))","v":""},{"$f":"IF('4 - Payroll reduction'!C273=\"Name\",\"\",IF('4 - Payroll reduction'!H273=\"Table 2\",'4 - Payroll reduction'!G273,\"\"))","v":""},null,183]
[{"$f":"IF('4 - Payroll reduction'!C274=\"Name\",\"\",IF('4 - Payroll reduction'!H274=\"Table 2\",'4 - Payroll reduction'!C274,\"\"))","v":""},{"$f":"IF('4 - Payroll reduction'!C274=\"Name\",\"\",IF('4 - Payroll reduction'!H274=\"Table 2\",'4 - Payroll reduction'!D274,\"\"))","v":""},{"$f":"IF('4 - Payroll reduction'!C274=\"Name\",\"\",IF('4 - Payroll reduction'!H274=\"Table 2\",'4 - Payroll reduction'!E274,\"\"))","v":""},{"$f":"IF('4 - Payroll reduction'!C274=\"Name\",\"\",IF('4 - Payroll reduction'!H274=\"Table 2\",'4 - Payroll reduction'!G274,\"\"))","v":""},null,184]
[{"$f":"IF('4 - Payroll reduction'!C275=\"Name\",\"\",IF('4 - Payroll reduction'!H275=\"Table 2\",'4 - Payroll reduction'!C275,\"\"))","v":""},{"$f":"IF('4 - Payroll reduction'!C275=\"Name\",\"\",IF('4 - Payroll reduction'!H275=\"Table 2\",'4 - Payroll reduction'!D275,\"\"))","v":""},{"$f":"IF('4 - Payroll reduction'!C275=\"Name\",\"\",IF('4 - Payroll reduction'!H275=\"Table 2\",'4 - Payroll reduction'!E275,\"\"))","v":""},{"$f":"IF('4 - Payroll reduction'!C275=\"Name\",\"\",IF('4 - Payroll reduction'!H275=\"Table 2\",'4 - Payroll reduction'!G275,\"\"))","v":""},null,185]
[{"$f":"IF('4 - Payroll reduction'!C276=\"Name\",\"\",IF('4 - Payroll reduction'!H276=\"Table 2\",'4 - Payroll reduction'!C276,\"\"))","v":""},{"$f":"IF('4 - Payroll reduction'!C276=\"Name\",\"\",IF('4 - Payroll reduction'!H276=\"Table 2\",'4 - Payroll reduction'!D276,\"\"))","v":""},{"$f":"IF('4 - Payroll reduction'!C276=\"Name\",\"\",IF('4 - Payroll reduction'!H276=\"Table 2\",'4 - Payroll reduction'!E276,\"\"))","v":""},{"$f":"IF('4 - Payroll reduction'!C276=\"Name\",\"\",IF('4 - Payroll reduction'!H276=\"Table 2\",'4 - Payroll reduction'!G276,\"\"))","v":""},null,186]
[{"$f":"IF('4 - Payroll reduction'!C277=\"Name\",\"\",IF('4 - Payroll reduction'!H277=\"Table 2\",'4 - Payroll reduction'!C277,\"\"))","v":""},{"$f":"IF('4 - Payroll reduction'!C277=\"Name\",\"\",IF('4 - Payroll reduction'!H277=\"Table 2\",'4 - Payroll reduction'!D277,\"\"))","v":""},{"$f":"IF('4 - Payroll reduction'!C277=\"Name\",\"\",IF('4 - Payroll reduction'!H277=\"Table 2\",'4 - Payroll reduction'!E277,\"\"))","v":""},{"$f":"IF('4 - Payroll reduction'!C277=\"Name\",\"\",IF('4 - Payroll reduction'!H277=\"Table 2\",'4 - Payroll reduction'!G277,\"\"))","v":""},null,187]
[{"$f":"IF('4 - Payroll reduction'!C278=\"Name\",\"\",IF('4 - Payroll reduction'!H278=\"Table 2\",'4 - Payroll reduction'!C278,\"\"))","v":""},{"$f":"IF('4 - Payroll reduction'!C278=\"Name\",\"\",IF('4 - Payroll reduction'!H278=\"Table 2\",'4 - Payroll reduction'!D278,\"\"))","v":""},{"$f":"IF('4 - Payroll reduction'!C278=\"Name\",\"\",IF('4 - Payroll reduction'!H278=\"Table 2\",'4 - Payroll reduction'!E278,\"\"))","v":""},{"$f":"IF('4 - Payroll reduction'!C278=\"Name\",\"\",IF('4 - Payroll reduction'!H278=\"Table 2\",'4 - Payroll reduction'!G278,\"\"))","v":""},null,188]
[{"$f":"IF('4 - Payroll reduction'!C279=\"Name\",\"\",IF('4 - Payroll reduction'!H279=\"Table 2\",'4 - Payroll reduction'!C279,\"\"))","v":""},{"$f":"IF('4 - Payroll reduction'!C279=\"Name\",\"\",IF('4 - Payroll reduction'!H279=\"Table 2\",'4 - Payroll reduction'!D279,\"\"))","v":""},{"$f":"IF('4 - Payroll reduction'!C279=\"Name\",\"\",IF('4 - Payroll reduction'!H279=\"Table 2\",'4 - Payroll reduction'!E279,\"\"))","v":""},{"$f":"IF('4 - Payroll reduction'!C279=\"Name\",\"\",IF('4 - Payroll reduction'!H279=\"Table 2\",'4 - Payroll reduction'!G279,\"\"))","v":""},null,189]
[{"$f":"IF('4 - Payroll reduction'!C280=\"Name\",\"\",IF('4 - Payroll reduction'!H280=\"Table 2\",'4 - Payroll reduction'!C280,\"\"))","v":""},{"$f":"IF('4 - Payroll reduction'!C280=\"Name\",\"\",IF('4 - Payroll reduction'!H280=\"Table 2\",'4 - Payroll reduction'!D280,\"\"))","v":""},{"$f":"IF('4 - Payroll reduction'!C280=\"Name\",\"\",IF('4 - Payroll reduction'!H280=\"Table 2\",'4 - Payroll reduction'!E280,\"\"))","v":""},{"$f":"IF('4 - Payroll reduction'!C280=\"Name\",\"\",IF('4 - Payroll reduction'!H280=\"Table 2\",'4 - Payroll reduction'!G280,\"\"))","v":""},null,190]
[{"$f":"IF('4 - Payroll reduction'!C281=\"Name\",\"\",IF('4 - Payroll reduction'!H281=\"Table 2\",'4 - Payroll reduction'!C281,\"\"))","v":""},{"$f":"IF('4 - Payroll reduction'!C281=\"Name\",\"\",IF('4 - Payroll reduction'!H281=\"Table 2\",'4 - Payroll reduction'!D281,\"\"))","v":""},{"$f":"IF('4 - Payroll reduction'!C281=\"Name\",\"\",IF('4 - Payroll reduction'!H281=\"Table 2\",'4 - Payroll reduction'!E281,\"\"))","v":""},{"$f":"IF('4 - Payroll reduction'!C281=\"Name\",\"\",IF('4 - Payroll reduction'!H281=\"Table 2\",'4 - Payroll reduction'!G281,\"\"))","v":""},null,191]
[{"$f":"IF('4 - Payroll reduction'!C282=\"Name\",\"\",IF('4 - Payroll reduction'!H282=\"Table 2\",'4 - Payroll reduction'!C282,\"\"))","v":""},{"$f":"IF('4 - Payroll reduction'!C282=\"Name\",\"\",IF('4 - Payroll reduction'!H282=\"Table 2\",'4 - Payroll reduction'!D282,\"\"))","v":""},{"$f":"IF('4 - Payroll reduction'!C282=\"Name\",\"\",IF('4 - Payroll reduction'!H282=\"Table 2\",'4 - Payroll reduction'!E282,\"\"))","v":""},{"$f":"IF('4 - Payroll reduction'!C282=\"Name\",\"\",IF('4 - Payroll reduction'!H282=\"Table 2\",'4 - Payroll reduction'!G282,\"\"))","v":""},null,192]
[{"$f":"IF('4 - Payroll reduction'!C283=\"Name\",\"\",IF('4 - Payroll reduction'!H283=\"Table 2\",'4 - Payroll reduction'!C283,\"\"))","v":""},{"$f":"IF('4 - Payroll reduction'!C283=\"Name\",\"\",IF('4 - Payroll reduction'!H283=\"Table 2\",'4 - Payroll reduction'!D283,\"\"))","v":""},{"$f":"IF('4 - Payroll reduction'!C283=\"Name\",\"\",IF('4 - Payroll reduction'!H283=\"Table 2\",'4 - Payroll reduction'!E283,\"\"))","v":""},{"$f":"IF('4 - Payroll reduction'!C283=\"Name\",\"\",IF('4 - Payroll reduction'!H283=\"Table 2\",'4 - Payroll reduction'!G283,\"\"))","v":""},null,193]
[{"$f":"IF('4 - Payroll reduction'!C284=\"Name\",\"\",IF('4 - Payroll reduction'!H284=\"Table 2\",'4 - Payroll reduction'!C284,\"\"))","v":""},{"$f":"IF('4 - Payroll reduction'!C284=\"Name\",\"\",IF('4 - Payroll reduction'!H284=\"Table 2\",'4 - Payroll reduction'!D284,\"\"))","v":""},{"$f":"IF('4 - Payroll reduction'!C284=\"Name\",\"\",IF('4 - Payroll reduction'!H284=\"Table 2\",'4 - Payroll reduction'!E284,\"\"))","v":""},{"$f":"IF('4 - Payroll reduction'!C284=\"Name\",\"\",IF('4 - Payroll reduction'!H284=\"Table 2\",'4 - Payroll reduction'!G284,\"\"))","v":""},null,194]
[{"$f":"IF('4 - Payroll reduction'!C285=\"Name\",\"\",IF('4 - Payroll reduction'!H285=\"Table 2\",'4 - Payroll reduction'!C285,\"\"))","v":""},{"$f":"IF('4 - Payroll reduction'!C285=\"Name\",\"\",IF('4 - Payroll reduction'!H285=\"Table 2\",'4 - Payroll reduction'!D285,\"\"))","v":""},{"$f":"IF('4 - Payroll reduction'!C285=\"Name\",\"\",IF('4 - Payroll reduction'!H285=\"Table 2\",'4 - Payroll reduction'!E285,\"\"))","v":""},{"$f":"IF('4 - Payroll reduction'!C285=\"Name\",\"\",IF('4 - Payroll reduction'!H285=\"Table 2\",'4 - Payroll reduction'!G285,\"\"))","v":""},null,195]
[{"$f":"IF('4 - Payroll reduction'!C286=\"Name\",\"\",IF('4 - Payroll reduction'!H286=\"Table 2\",'4 - Payroll reduction'!C286,\"\"))","v":""},{"$f":"IF('4 - Payroll reduction'!C286=\"Name\",\"\",IF('4 - Payroll reduction'!H286=\"Table 2\",'4 - Payroll reduction'!D286,\"\"))","v":""},{"$f":"IF('4 - Payroll reduction'!C286=\"Name\",\"\",IF('4 - Payroll reduction'!H286=\"Table 2\",'4 - Payroll reduction'!E286,\"\"))","v":""},{"$f":"IF('4 - Payroll reduction'!C286=\"Name\",\"\",IF('4 - Payroll reduction'!H286=\"Table 2\",'4 - Payroll reduction'!G286,\"\"))","v":""},null,{"$f":"F709+1","v":196}]
[{"$f":"IF('4 - Payroll reduction'!C287=\"Name\",\"\",IF('4 - Payroll reduction'!H287=\"Table 2\",'4 - Payroll reduction'!C287,\"\"))","v":""},{"$f":"IF('4 - Payroll reduction'!C287=\"Name\",\"\",IF('4 - Payroll reduction'!H287=\"Table 2\",'4 - Payroll reduction'!D287,\"\"))","v":""},{"$f":"IF('4 - Payroll reduction'!C287=\"Name\",\"\",IF('4 - Payroll reduction'!H287=\"Table 2\",'4 - Payroll reduction'!E287,\"\"))","v":""},{"$f":"IF('4 - Payroll reduction'!C287=\"Name\",\"\",IF('4 - Payroll reduction'!H287=\"Table 2\",'4 - Payroll reduction'!G287,\"\"))","v":""},null,197]
[{"$f":"IF('4 - Payroll reduction'!C288=\"Name\",\"\",IF('4 - Payroll reduction'!H288=\"Table 2\",'4 - Payroll reduction'!C288,\"\"))","v":""},{"$f":"IF('4 - Payroll reduction'!C288=\"Name\",\"\",IF('4 - Payroll reduction'!H288=\"Table 2\",'4 - Payroll reduction'!D288,\"\"))","v":""},{"$f":"IF('4 - Payroll reduction'!C288=\"Name\",\"\",IF('4 - Payroll reduction'!H288=\"Table 2\",'4 - Payroll reduction'!E288,\"\"))","v":""},{"$f":"IF('4 - Payroll reduction'!C288=\"Name\",\"\",IF('4 - Payroll reduction'!H288=\"Table 2\",'4 - Payroll reduction'!G288,\"\"))","v":""},null,198]
[{"$f":"IF('4 - Payroll reduction'!C289=\"Name\",\"\",IF('4 - Payroll reduction'!H289=\"Table 2\",'4 - Payroll reduction'!C289,\"\"))","v":""},{"$f":"IF('4 - Payroll reduction'!C289=\"Name\",\"\",IF('4 - Payroll reduction'!H289=\"Table 2\",'4 - Payroll reduction'!D289,\"\"))","v":""},{"$f":"IF('4 - Payroll reduction'!C289=\"Name\",\"\",IF('4 - Payroll reduction'!H289=\"Table 2\",'4 - Payroll reduction'!E289,\"\"))","v":""},{"$f":"IF('4 - Payroll reduction'!C289=\"Name\",\"\",IF('4 - Payroll reduction'!H289=\"Table 2\",'4 - Payroll reduction'!G289,\"\"))","v":""},null,199]
[{"$f":"IF('4 - Payroll reduction'!C290=\"Name\",\"\",IF('4 - Payroll reduction'!H290=\"Table 2\",'4 - Payroll reduction'!C290,\"\"))","v":""},{"$f":"IF('4 - Payroll reduction'!C290=\"Name\",\"\",IF('4 - Payroll reduction'!H290=\"Table 2\",'4 - Payroll reduction'!D290,\"\"))","v":""},{"$f":"IF('4 - Payroll reduction'!C290=\"Name\",\"\",IF('4 - Payroll reduction'!H290=\"Table 2\",'4 - Payroll reduction'!E290,\"\"))","v":""},{"$f":"IF('4 - Payroll reduction'!C290=\"Name\",\"\",IF('4 - Payroll reduction'!H290=\"Table 2\",'4 - Payroll reduction'!G290,\"\"))","v":""},null,200]
[{"$f":"IF('4 - Payroll reduction'!C291=\"Name\",\"\",IF('4 - Payroll reduction'!H291=\"Table 2\",'4 - Payroll reduction'!C291,\"\"))","v":""},{"$f":"IF('4 - Payroll reduction'!C291=\"Name\",\"\",IF('4 - Payroll reduction'!H291=\"Table 2\",'4 - Payroll reduction'!D291,\"\"))","v":""},{"$f":"IF('4 - Payroll reduction'!C291=\"Name\",\"\",IF('4 - Payroll reduction'!H291=\"Table 2\",'4 - Payroll reduction'!E291,\"\"))","v":""},{"$f":"IF('4 - Payroll reduction'!C291=\"Name\",\"\",IF('4 - Payroll reduction'!H291=\"Table 2\",'4 - Payroll reduction'!G291,\"\"))","v":""},null,201]
[{"$f":"IF('4 - Payroll reduction'!C292=\"Name\",\"\",IF('4 - Payroll reduction'!H292=\"Table 2\",'4 - Payroll reduction'!C292,\"\"))","v":""},{"$f":"IF('4 - Payroll reduction'!C292=\"Name\",\"\",IF('4 - Payroll reduction'!H292=\"Table 2\",'4 - Payroll reduction'!D292,\"\"))","v":""},{"$f":"IF('4 - Payroll reduction'!C292=\"Name\",\"\",IF('4 - Payroll reduction'!H292=\"Table 2\",'4 - Payroll reduction'!E292,\"\"))","v":""},{"$f":"IF('4 - Payroll reduction'!C292=\"Name\",\"\",IF('4 - Payroll reduction'!H292=\"Table 2\",'4 - Payroll reduction'!G292,\"\"))","v":""},null,202]
[{"$f":"IF('4 - Payroll reduction'!C293=\"Name\",\"\",IF('4 - Payroll reduction'!H293=\"Table 2\",'4 - Payroll reduction'!C293,\"\"))","v":""},{"$f":"IF('4 - Payroll reduction'!C293=\"Name\",\"\",IF('4 - Payroll reduction'!H293=\"Table 2\",'4 - Payroll reduction'!D293,\"\"))","v":""},{"$f":"IF('4 - Payroll reduction'!C293=\"Name\",\"\",IF('4 - Payroll reduction'!H293=\"Table 2\",'4 - Payroll reduction'!E293,\"\"))","v":""},{"$f":"IF('4 - Payroll reduction'!C293=\"Name\",\"\",IF('4 - Payroll reduction'!H293=\"Table 2\",'4 - Payroll reduction'!G293,\"\"))","v":""},null,203]
[{"$f":"IF('4 - Payroll reduction'!C294=\"Name\",\"\",IF('4 - Payroll reduction'!H294=\"Table 2\",'4 - Payroll reduction'!C294,\"\"))","v":""},{"$f":"IF('4 - Payroll reduction'!C294=\"Name\",\"\",IF('4 - Payroll reduction'!H294=\"Table 2\",'4 - Payroll reduction'!D294,\"\"))","v":""},{"$f":"IF('4 - Payroll reduction'!C294=\"Name\",\"\",IF('4 - Payroll reduction'!H294=\"Table 2\",'4 - Payroll reduction'!E294,\"\"))","v":""},{"$f":"IF('4 - Payroll reduction'!C294=\"Name\",\"\",IF('4 - Payroll reduction'!H294=\"Table 2\",'4 - Payroll reduction'!G294,\"\"))","v":""},null,204]
[{"$f":"IF('4 - Payroll reduction'!C295=\"Name\",\"\",IF('4 - Payroll reduction'!H295=\"Table 2\",'4 - Payroll reduction'!C295,\"\"))","v":""},{"$f":"IF('4 - Payroll reduction'!C295=\"Name\",\"\",IF('4 - Payroll reduction'!H295=\"Table 2\",'4 - Payroll reduction'!D295,\"\"))","v":""},{"$f":"IF('4 - Payroll reduction'!C295=\"Name\",\"\",IF('4 - Payroll reduction'!H295=\"Table 2\",'4 - Payroll reduction'!E295,\"\"))","v":""},{"$f":"IF('4 - Payroll reduction'!C295=\"Name\",\"\",IF('4 - Payroll reduction'!H295=\"Table 2\",'4 - Payroll reduction'!G295,\"\"))","v":""},null,205]
[{"$f":"IF('4 - Payroll reduction'!C296=\"Name\",\"\",IF('4 - Payroll reduction'!H296=\"Table 2\",'4 - Payroll reduction'!C296,\"\"))","v":""},{"$f":"IF('4 - Payroll reduction'!C296=\"Name\",\"\",IF('4 - Payroll reduction'!H296=\"Table 2\",'4 - Payroll reduction'!D296,\"\"))","v":""},{"$f":"IF('4 - Payroll reduction'!C296=\"Name\",\"\",IF('4 - Payroll reduction'!H296=\"Table 2\",'4 - Payroll reduction'!E296,\"\"))","v":""},{"$f":"IF('4 - Payroll reduction'!C296=\"Name\",\"\",IF('4 - Payroll reduction'!H296=\"Table 2\",'4 - Payroll reduction'!G296,\"\"))","v":""},null,206]
[{"$f":"IF('4 - Payroll reduction'!C297=\"Name\",\"\",IF('4 - Payroll reduction'!H297=\"Table 2\",'4 - Payroll reduction'!C297,\"\"))","v":""},{"$f":"IF('4 - Payroll reduction'!C297=\"Name\",\"\",IF('4 - Payroll reduction'!H297=\"Table 2\",'4 - Payroll reduction'!D297,\"\"))","v":""},{"$f":"IF('4 - Payroll reduction'!C297=\"Name\",\"\",IF('4 - Payroll reduction'!H297=\"Table 2\",'4 - Payroll reduction'!E297,\"\"))","v":""},{"$f":"IF('4 - Payroll reduction'!C297=\"Name\",\"\",IF('4 - Payroll reduction'!H297=\"Table 2\",'4 - Payroll reduction'!G297,\"\"))","v":""},null,207]
[{"$f":"IF('4 - Payroll reduction'!C298=\"Name\",\"\",IF('4 - Payroll reduction'!H298=\"Table 2\",'4 - Payroll reduction'!C298,\"\"))","v":""},{"$f":"IF('4 - Payroll reduction'!C298=\"Name\",\"\",IF('4 - Payroll reduction'!H298=\"Table 2\",'4 - Payroll reduction'!D298,\"\"))","v":""},{"$f":"IF('4 - Payroll reduction'!C298=\"Name\",\"\",IF('4 - Payroll reduction'!H298=\"Table 2\",'4 - Payroll reduction'!E298,\"\"))","v":""},{"$f":"IF('4 - Payroll reduction'!C298=\"Name\",\"\",IF('4 - Payroll reduction'!H298=\"Table 2\",'4 - Payroll reduction'!G298,\"\"))","v":""},null,208]
[{"$f":"IF('4 - Payroll reduction'!C299=\"Name\",\"\",IF('4 - Payroll reduction'!H299=\"Table 2\",'4 - Payroll reduction'!C299,\"\"))","v":""},{"$f":"IF('4 - Payroll reduction'!C299=\"Name\",\"\",IF('4 - Payroll reduction'!H299=\"Table 2\",'4 - Payroll reduction'!D299,\"\"))","v":""},{"$f":"IF('4 - Payroll reduction'!C299=\"Name\",\"\",IF('4 - Payroll reduction'!H299=\"Table 2\",'4 - Payroll reduction'!E299,\"\"))","v":""},{"$f":"IF('4 - Payroll reduction'!C299=\"Name\",\"\",IF('4 - Payroll reduction'!H299=\"Table 2\",'4 - Payroll reduction'!G299,\"\"))","v":""},null,209]
[{"$f":"IF('4 - Payroll reduction'!C300=\"Name\",\"\",IF('4 - Payroll reduction'!H300=\"Table 2\",'4 - Payroll reduction'!C300,\"\"))","v":""},{"$f":"IF('4 - Payroll reduction'!C300=\"Name\",\"\",IF('4 - Payroll reduction'!H300=\"Table 2\",'4 - Payroll reduction'!D300,\"\"))","v":""},{"$f":"IF('4 - Payroll reduction'!C300=\"Name\",\"\",IF('4 - Payroll reduction'!H300=\"Table 2\",'4 - Payroll reduction'!E300,\"\"))","v":""},{"$f":"IF('4 - Payroll reduction'!C300=\"Name\",\"\",IF('4 - Payroll reduction'!H300=\"Table 2\",'4 - Payroll reduction'!G300,\"\"))","v":""},null,210]
[{"$f":"IF('4 - Payroll reduction'!C301=\"Name\",\"\",IF('4 - Payroll reduction'!H301=\"Table 2\",'4 - Payroll reduction'!C301,\"\"))","v":""},{"$f":"IF('4 - Payroll reduction'!C301=\"Name\",\"\",IF('4 - Payroll reduction'!H301=\"Table 2\",'4 - Payroll reduction'!D301,\"\"))","v":""},{"$f":"IF('4 - Payroll reduction'!C301=\"Name\",\"\",IF('4 - Payroll reduction'!H301=\"Table 2\",'4 - Payroll reduction'!E301,\"\"))","v":""},{"$f":"IF('4 - Payroll reduction'!C301=\"Name\",\"\",IF('4 - Payroll reduction'!H301=\"Table 2\",'4 - Payroll reduction'!G301,\"\"))","v":""},null,211]
[{"$f":"IF('4 - Payroll reduction'!C302=\"Name\",\"\",IF('4 - Payroll reduction'!H302=\"Table 2\",'4 - Payroll reduction'!C302,\"\"))","v":""},{"$f":"IF('4 - Payroll reduction'!C302=\"Name\",\"\",IF('4 - Payroll reduction'!H302=\"Table 2\",'4 - Payroll reduction'!D302,\"\"))","v":""},{"$f":"IF('4 - Payroll reduction'!C302=\"Name\",\"\",IF('4 - Payroll reduction'!H302=\"Table 2\",'4 - Payroll reduction'!E302,\"\"))","v":""},{"$f":"IF('4 - Payroll reduction'!C302=\"Name\",\"\",IF('4 - Payroll reduction'!H302=\"Table 2\",'4 - Payroll reduction'!G302,\"\"))","v":""},null,212]
[{"$f":"IF('4 - Payroll reduction'!C303=\"Name\",\"\",IF('4 - Payroll reduction'!H303=\"Table 2\",'4 - Payroll reduction'!C303,\"\"))","v":""},{"$f":"IF('4 - Payroll reduction'!C303=\"Name\",\"\",IF('4 - Payroll reduction'!H303=\"Table 2\",'4 - Payroll reduction'!D303,\"\"))","v":""},{"$f":"IF('4 - Payroll reduction'!C303=\"Name\",\"\",IF('4 - Payroll reduction'!H303=\"Table 2\",'4 - Payroll reduction'!E303,\"\"))","v":""},{"$f":"IF('4 - Payroll reduction'!C303=\"Name\",\"\",IF('4 - Payroll reduction'!H303=\"Table 2\",'4 - Payroll reduction'!G303,\"\"))","v":""},null,213]
[{"$f":"IF('4 - Payroll reduction'!C304=\"Name\",\"\",IF('4 - Payroll reduction'!H304=\"Table 2\",'4 - Payroll reduction'!C304,\"\"))","v":""},{"$f":"IF('4 - Payroll reduction'!C304=\"Name\",\"\",IF('4 - Payroll reduction'!H304=\"Table 2\",'4 - Payroll reduction'!D304,\"\"))","v":""},{"$f":"IF('4 - Payroll reduction'!C304=\"Name\",\"\",IF('4 - Payroll reduction'!H304=\"Table 2\",'4 - Payroll reduction'!E304,\"\"))","v":""},{"$f":"IF('4 - Payroll reduction'!C304=\"Name\",\"\",IF('4 - Payroll reduction'!H304=\"Table 2\",'4 - Payroll reduction'!G304,\"\"))","v":""},null,214]
[{"$f":"IF('4 - Payroll reduction'!C305=\"Name\",\"\",IF('4 - Payroll reduction'!H305=\"Table 2\",'4 - Payroll reduction'!C305,\"\"))","v":""},{"$f":"IF('4 - Payroll reduction'!C305=\"Name\",\"\",IF('4 - Payroll reduction'!H305=\"Table 2\",'4 - Payroll reduction'!D305,\"\"))","v":""},{"$f":"IF('4 - Payroll reduction'!C305=\"Name\",\"\",IF('4 - Payroll reduction'!H305=\"Table 2\",'4 - Payroll reduction'!E305,\"\"))","v":""},{"$f":"IF('4 - Payroll reduction'!C305=\"Name\",\"\",IF('4 - Payroll reduction'!H305=\"Table 2\",'4 - Payroll reduction'!G305,\"\"))","v":""},null,215]
[{"$f":"IF('4 - Payroll reduction'!C306=\"Name\",\"\",IF('4 - Payroll reduction'!H306=\"Table 2\",'4 - Payroll reduction'!C306,\"\"))","v":""},{"$f":"IF('4 - Payroll reduction'!C306=\"Name\",\"\",IF('4 - Payroll reduction'!H306=\"Table 2\",'4 - Payroll reduction'!D306,\"\"))","v":""},{"$f":"IF('4 - Payroll reduction'!C306=\"Name\",\"\",IF('4 - Payroll reduction'!H306=\"Table 2\",'4 - Payroll reduction'!E306,\"\"))","v":""},{"$f":"IF('4 - Payroll reduction'!C306=\"Name\",\"\",IF('4 - Payroll reduction'!H306=\"Table 2\",'4 - Payroll reduction'!G306,\"\"))","v":""},null,216]
[{"$f":"IF('4 - Payroll reduction'!C307=\"Name\",\"\",IF('4 - Payroll reduction'!H307=\"Table 2\",'4 - Payroll reduction'!C307,\"\"))","v":""},{"$f":"IF('4 - Payroll reduction'!C307=\"Name\",\"\",IF('4 - Payroll reduction'!H307=\"Table 2\",'4 - Payroll reduction'!D307,\"\"))","v":""},{"$f":"IF('4 - Payroll reduction'!C307=\"Name\",\"\",IF('4 - Payroll reduction'!H307=\"Table 2\",'4 - Payroll reduction'!E307,\"\"))","v":""},{"$f":"IF('4 - Payroll reduction'!C307=\"Name\",\"\",IF('4 - Payroll reduction'!H307=\"Table 2\",'4 - Payroll reduction'!G307,\"\"))","v":""},null,217]
[{"$f":"IF('4 - Payroll reduction'!C308=\"Name\",\"\",IF('4 - Payroll reduction'!H308=\"Table 2\",'4 - Payroll reduction'!C308,\"\"))","v":""},{"$f":"IF('4 - Payroll reduction'!C308=\"Name\",\"\",IF('4 - Payroll reduction'!H308=\"Table 2\",'4 - Payroll reduction'!D308,\"\"))","v":""},{"$f":"IF('4 - Payroll reduction'!C308=\"Name\",\"\",IF('4 - Payroll reduction'!H308=\"Table 2\",'4 - Payroll reduction'!E308,\"\"))","v":""},{"$f":"IF('4 - Payroll reduction'!C308=\"Name\",\"\",IF('4 - Payroll reduction'!H308=\"Table 2\",'4 - Payroll reduction'!G308,\"\"))","v":""},null,218]
[{"$f":"IF('4 - Payroll reduction'!C309=\"Name\",\"\",IF('4 - Payroll reduction'!H309=\"Table 2\",'4 - Payroll reduction'!C309,\"\"))","v":""},{"$f":"IF('4 - Payroll reduction'!C309=\"Name\",\"\",IF('4 - Payroll reduction'!H309=\"Table 2\",'4 - Payroll reduction'!D309,\"\"))","v":""},{"$f":"IF('4 - Payroll reduction'!C309=\"Name\",\"\",IF('4 - Payroll reduction'!H309=\"Table 2\",'4 - Payroll reduction'!E309,\"\"))","v":""},{"$f":"IF('4 - Payroll reduction'!C309=\"Name\",\"\",IF('4 - Payroll reduction'!H309=\"Table 2\",'4 - Payroll reduction'!G309,\"\"))","v":""},null,219]
[{"$f":"IF('4 - Payroll reduction'!C310=\"Name\",\"\",IF('4 - Payroll reduction'!H310=\"Table 2\",'4 - Payroll reduction'!C310,\"\"))","v":""},{"$f":"IF('4 - Payroll reduction'!C310=\"Name\",\"\",IF('4 - Payroll reduction'!H310=\"Table 2\",'4 - Payroll reduction'!D310,\"\"))","v":""},{"$f":"IF('4 - Payroll reduction'!C310=\"Name\",\"\",IF('4 - Payroll reduction'!H310=\"Table 2\",'4 - Payroll reduction'!E310,\"\"))","v":""},{"$f":"IF('4 - Payroll reduction'!C310=\"Name\",\"\",IF('4 - Payroll reduction'!H310=\"Table 2\",'4 - Payroll reduction'!G310,\"\"))","v":""},null,220]
[{"$f":"IF('4 - Payroll reduction'!C311=\"Name\",\"\",IF('4 - Payroll reduction'!H311=\"Table 2\",'4 - Payroll reduction'!C311,\"\"))","v":""},{"$f":"IF('4 - Payroll reduction'!C311=\"Name\",\"\",IF('4 - Payroll reduction'!H311=\"Table 2\",'4 - Payroll reduction'!D311,\"\"))","v":""},{"$f":"IF('4 - Payroll reduction'!C311=\"Name\",\"\",IF('4 - Payroll reduction'!H311=\"Table 2\",'4 - Payroll reduction'!E311,\"\"))","v":""},{"$f":"IF('4 - Payroll reduction'!C311=\"Name\",\"\",IF('4 - Payroll reduction'!H311=\"Table 2\",'4 - Payroll reduction'!G311,\"\"))","v":""},null,221]
[{"$f":"IF('4 - Payroll reduction'!C312=\"Name\",\"\",IF('4 - Payroll reduction'!H312=\"Table 2\",'4 - Payroll reduction'!C312,\"\"))","v":""},{"$f":"IF('4 - Payroll reduction'!C312=\"Name\",\"\",IF('4 - Payroll reduction'!H312=\"Table 2\",'4 - Payroll reduction'!D312,\"\"))","v":""},{"$f":"IF('4 - Payroll reduction'!C312=\"Name\",\"\",IF('4 - Payroll reduction'!H312=\"Table 2\",'4 - Payroll reduction'!E312,\"\"))","v":""},{"$f":"IF('4 - Payroll reduction'!C312=\"Name\",\"\",IF('4 - Payroll reduction'!H312=\"Table 2\",'4 - Payroll reduction'!G312,\"\"))","v":""},null,222]
[{"$f":"IF('4 - Payroll reduction'!C313=\"Name\",\"\",IF('4 - Payroll reduction'!H313=\"Table 2\",'4 - Payroll reduction'!C313,\"\"))","v":""},{"$f":"IF('4 - Payroll reduction'!C313=\"Name\",\"\",IF('4 - Payroll reduction'!H313=\"Table 2\",'4 - Payroll reduction'!D313,\"\"))","v":""},{"$f":"IF('4 - Payroll reduction'!C313=\"Name\",\"\",IF('4 - Payroll reduction'!H313=\"Table 2\",'4 - Payroll reduction'!E313,\"\"))","v":""},{"$f":"IF('4 - Payroll reduction'!C313=\"Name\",\"\",IF('4 - Payroll reduction'!H313=\"Table 2\",'4 - Payroll reduction'!G313,\"\"))","v":""},null,223]
[{"$f":"IF('4 - Payroll reduction'!C314=\"Name\",\"\",IF('4 - Payroll reduction'!H314=\"Table 2\",'4 - Payroll reduction'!C314,\"\"))","v":""},{"$f":"IF('4 - Payroll reduction'!C314=\"Name\",\"\",IF('4 - Payroll reduction'!H314=\"Table 2\",'4 - Payroll reduction'!D314,\"\"))","v":""},{"$f":"IF('4 - Payroll reduction'!C314=\"Name\",\"\",IF('4 - Payroll reduction'!H314=\"Table 2\",'4 - Payroll reduction'!E314,\"\"))","v":""},{"$f":"IF('4 - Payroll reduction'!C314=\"Name\",\"\",IF('4 - Payroll reduction'!H314=\"Table 2\",'4 - Payroll reduction'!G314,\"\"))","v":""},null,224]
[{"$f":"IF('4 - Payroll reduction'!C315=\"Name\",\"\",IF('4 - Payroll reduction'!H315=\"Table 2\",'4 - Payroll reduction'!C315,\"\"))","v":""},{"$f":"IF('4 - Payroll reduction'!C315=\"Name\",\"\",IF('4 - Payroll reduction'!H315=\"Table 2\",'4 - Payroll reduction'!D315,\"\"))","v":""},{"$f":"IF('4 - Payroll reduction'!C315=\"Name\",\"\",IF('4 - Payroll reduction'!H315=\"Table 2\",'4 - Payroll reduction'!E315,\"\"))","v":""},{"$f":"IF('4 - Payroll reduction'!C315=\"Name\",\"\",IF('4 - Payroll reduction'!H315=\"Table 2\",'4 - Payroll reduction'!G315,\"\"))","v":""},null,225]
[{"$f":"IF('4 - Payroll reduction'!C316=\"Name\",\"\",IF('4 - Payroll reduction'!H316=\"Table 2\",'4 - Payroll reduction'!C316,\"\"))","v":""},{"$f":"IF('4 - Payroll reduction'!C316=\"Name\",\"\",IF('4 - Payroll reduction'!H316=\"Table 2\",'4 - Payroll reduction'!D316,\"\"))","v":""},{"$f":"IF('4 - Payroll reduction'!C316=\"Name\",\"\",IF('4 - Payroll reduction'!H316=\"Table 2\",'4 - Payroll reduction'!E316,\"\"))","v":""},{"$f":"IF('4 - Payroll reduction'!C316=\"Name\",\"\",IF('4 - Payroll reduction'!H316=\"Table 2\",'4 - Payroll reduction'!G316,\"\"))","v":""},null,226]
[{"$f":"IF('4 - Payroll reduction'!C317=\"Name\",\"\",IF('4 - Payroll reduction'!H317=\"Table 2\",'4 - Payroll reduction'!C317,\"\"))","v":""},{"$f":"IF('4 - Payroll reduction'!C317=\"Name\",\"\",IF('4 - Payroll reduction'!H317=\"Table 2\",'4 - Payroll reduction'!D317,\"\"))","v":""},{"$f":"IF('4 - Payroll reduction'!C317=\"Name\",\"\",IF('4 - Payroll reduction'!H317=\"Table 2\",'4 - Payroll reduction'!E317,\"\"))","v":""},{"$f":"IF('4 - Payroll reduction'!C317=\"Name\",\"\",IF('4 - Payroll reduction'!H317=\"Table 2\",'4 - Payroll reduction'!G317,\"\"))","v":""},null,227]
[{"$f":"IF('4 - Payroll reduction'!C318=\"Name\",\"\",IF('4 - Payroll reduction'!H318=\"Table 2\",'4 - Payroll reduction'!C318,\"\"))","v":""},{"$f":"IF('4 - Payroll reduction'!C318=\"Name\",\"\",IF('4 - Payroll reduction'!H318=\"Table 2\",'4 - Payroll reduction'!D318,\"\"))","v":""},{"$f":"IF('4 - Payroll reduction'!C318=\"Name\",\"\",IF('4 - Payroll reduction'!H318=\"Table 2\",'4 - Payroll reduction'!E318,\"\"))","v":""},{"$f":"IF('4 - Payroll reduction'!C318=\"Name\",\"\",IF('4 - Payroll reduction'!H318=\"Table 2\",'4 - Payroll reduction'!G318,\"\"))","v":""},null,228]
[{"$f":"IF('4 - Payroll reduction'!C319=\"Name\",\"\",IF('4 - Payroll reduction'!H319=\"Table 2\",'4 - Payroll reduction'!C319,\"\"))","v":""},{"$f":"IF('4 - Payroll reduction'!C319=\"Name\",\"\",IF('4 - Payroll reduction'!H319=\"Table 2\",'4 - Payroll reduction'!D319,\"\"))","v":""},{"$f":"IF('4 - Payroll reduction'!C319=\"Name\",\"\",IF('4 - Payroll reduction'!H319=\"Table 2\",'4 - Payroll reduction'!E319,\"\"))","v":""},{"$f":"IF('4 - Payroll reduction'!C319=\"Name\",\"\",IF('4 - Payroll reduction'!H319=\"Table 2\",'4 - Payroll reduction'!G319,\"\"))","v":""},null,229]
[{"$f":"IF('4 - Payroll reduction'!C320=\"Name\",\"\",IF('4 - Payroll reduction'!H320=\"Table 2\",'4 - Payroll reduction'!C320,\"\"))","v":""},{"$f":"IF('4 - Payroll reduction'!C320=\"Name\",\"\",IF('4 - Payroll reduction'!H320=\"Table 2\",'4 - Payroll reduction'!D320,\"\"))","v":""},{"$f":"IF('4 - Payroll reduction'!C320=\"Name\",\"\",IF('4 - Payroll reduction'!H320=\"Table 2\",'4 - Payroll reduction'!E320,\"\"))","v":""},{"$f":"IF('4 - Payroll reduction'!C320=\"Name\",\"\",IF('4 - Payroll reduction'!H320=\"Table 2\",'4 - Payroll reduction'!G320,\"\"))","v":""},null,230]
[{"$f":"IF('4 - Payroll reduction'!C321=\"Name\",\"\",IF('4 - Payroll reduction'!H321=\"Table 2\",'4 - Payroll reduction'!C321,\"\"))","v":""},{"$f":"IF('4 - Payroll reduction'!C321=\"Name\",\"\",IF('4 - Payroll reduction'!H321=\"Table 2\",'4 - Payroll reduction'!D321,\"\"))","v":""},{"$f":"IF('4 - Payroll reduction'!C321=\"Name\",\"\",IF('4 - Payroll reduction'!H321=\"Table 2\",'4 - Payroll reduction'!E321,\"\"))","v":""},{"$f":"IF('4 - Payroll reduction'!C321=\"Name\",\"\",IF('4 - Payroll reduction'!H321=\"Table 2\",'4 - Payroll reduction'!G321,\"\"))","v":""},null,231]
[{"$f":"IF('4 - Payroll reduction'!C322=\"Name\",\"\",IF('4 - Payroll reduction'!H322=\"Table 2\",'4 - Payroll reduction'!C322,\"\"))","v":""},{"$f":"IF('4 - Payroll reduction'!C322=\"Name\",\"\",IF('4 - Payroll reduction'!H322=\"Table 2\",'4 - Payroll reduction'!D322,\"\"))","v":""},{"$f":"IF('4 - Payroll reduction'!C322=\"Name\",\"\",IF('4 - Payroll reduction'!H322=\"Table 2\",'4 - Payroll reduction'!E322,\"\"))","v":""},{"$f":"IF('4 - Payroll reduction'!C322=\"Name\",\"\",IF('4 - Payroll reduction'!H322=\"Table 2\",'4 - Payroll reduction'!G322,\"\"))","v":""},null,232]
[{"$f":"IF('4 - Payroll reduction'!C323=\"Name\",\"\",IF('4 - Payroll reduction'!H323=\"Table 2\",'4 - Payroll reduction'!C323,\"\"))","v":""},{"$f":"IF('4 - Payroll reduction'!C323=\"Name\",\"\",IF('4 - Payroll reduction'!H323=\"Table 2\",'4 - Payroll reduction'!D323,\"\"))","v":""},{"$f":"IF('4 - Payroll reduction'!C323=\"Name\",\"\",IF('4 - Payroll reduction'!H323=\"Table 2\",'4 - Payroll reduction'!E323,\"\"))","v":""},{"$f":"IF('4 - Payroll reduction'!C323=\"Name\",\"\",IF('4 - Payroll reduction'!H323=\"Table 2\",'4 - Payroll reduction'!G323,\"\"))","v":""},null,233]
[{"$f":"IF('4 - Payroll reduction'!C324=\"Name\",\"\",IF('4 - Payroll reduction'!H324=\"Table 2\",'4 - Payroll reduction'!C324,\"\"))","v":""},{"$f":"IF('4 - Payroll reduction'!C324=\"Name\",\"\",IF('4 - Payroll reduction'!H324=\"Table 2\",'4 - Payroll reduction'!D324,\"\"))","v":""},{"$f":"IF('4 - Payroll reduction'!C324=\"Name\",\"\",IF('4 - Payroll reduction'!H324=\"Table 2\",'4 - Payroll reduction'!E324,\"\"))","v":""},{"$f":"IF('4 - Payroll reduction'!C324=\"Name\",\"\",IF('4 - Payroll reduction'!H324=\"Table 2\",'4 - Payroll reduction'!G324,\"\"))","v":""},null,234]
[{"$f":"IF('4 - Payroll reduction'!C325=\"Name\",\"\",IF('4 - Payroll reduction'!H325=\"Table 2\",'4 - Payroll reduction'!C325,\"\"))","v":""},{"$f":"IF('4 - Payroll reduction'!C325=\"Name\",\"\",IF('4 - Payroll reduction'!H325=\"Table 2\",'4 - Payroll reduction'!D325,\"\"))","v":""},{"$f":"IF('4 - Payroll reduction'!C325=\"Name\",\"\",IF('4 - Payroll reduction'!H325=\"Table 2\",'4 - Payroll reduction'!E325,\"\"))","v":""},{"$f":"IF('4 - Payroll reduction'!C325=\"Name\",\"\",IF('4 - Payroll reduction'!H325=\"Table 2\",'4 - Payroll reduction'!G325,\"\"))","v":""},null,235]
[{"$f":"IF('4 - Payroll reduction'!C326=\"Name\",\"\",IF('4 - Payroll reduction'!H326=\"Table 2\",'4 - Payroll reduction'!C326,\"\"))","v":""},{"$f":"IF('4 - Payroll reduction'!C326=\"Name\",\"\",IF('4 - Payroll reduction'!H326=\"Table 2\",'4 - Payroll reduction'!D326,\"\"))","v":""},{"$f":"IF('4 - Payroll reduction'!C326=\"Name\",\"\",IF('4 - Payroll reduction'!H326=\"Table 2\",'4 - Payroll reduction'!E326,\"\"))","v":""},{"$f":"IF('4 - Payroll reduction'!C326=\"Name\",\"\",IF('4 - Payroll reduction'!H326=\"Table 2\",'4 - Payroll reduction'!G326,\"\"))","v":""},null,236]
[{"$f":"IF('4 - Payroll reduction'!C327=\"Name\",\"\",IF('4 - Payroll reduction'!H327=\"Table 2\",'4 - Payroll reduction'!C327,\"\"))","v":""},{"$f":"IF('4 - Payroll reduction'!C327=\"Name\",\"\",IF('4 - Payroll reduction'!H327=\"Table 2\",'4 - Payroll reduction'!D327,\"\"))","v":""},{"$f":"IF('4 - Payroll reduction'!C327=\"Name\",\"\",IF('4 - Payroll reduction'!H327=\"Table 2\",'4 - Payroll reduction'!E327,\"\"))","v":""},{"$f":"IF('4 - Payroll reduction'!C327=\"Name\",\"\",IF('4 - Payroll reduction'!H327=\"Table 2\",'4 - Payroll reduction'!G327,\"\"))","v":""},null,237]
[{"$f":"IF('4 - Payroll reduction'!C328=\"Name\",\"\",IF('4 - Payroll reduction'!H328=\"Table 2\",'4 - Payroll reduction'!C328,\"\"))","v":""},{"$f":"IF('4 - Payroll reduction'!C328=\"Name\",\"\",IF('4 - Payroll reduction'!H328=\"Table 2\",'4 - Payroll reduction'!D328,\"\"))","v":""},{"$f":"IF('4 - Payroll reduction'!C328=\"Name\",\"\",IF('4 - Payroll reduction'!H328=\"Table 2\",'4 - Payroll reduction'!E328,\"\"))","v":""},{"$f":"IF('4 - Payroll reduction'!C328=\"Name\",\"\",IF('4 - Payroll reduction'!H328=\"Table 2\",'4 - Payroll reduction'!G328,\"\"))","v":""},null,238]
[{"$f":"IF('4 - Payroll reduction'!C329=\"Name\",\"\",IF('4 - Payroll reduction'!H329=\"Table 2\",'4 - Payroll reduction'!C329,\"\"))","v":""},{"$f":"IF('4 - Payroll reduction'!C329=\"Name\",\"\",IF('4 - Payroll reduction'!H329=\"Table 2\",'4 - Payroll reduction'!D329,\"\"))","v":""},{"$f":"IF('4 - Payroll reduction'!C329=\"Name\",\"\",IF('4 - Payroll reduction'!H329=\"Table 2\",'4 - Payroll reduction'!E329,\"\"))","v":""},{"$f":"IF('4 - Payroll reduction'!C329=\"Name\",\"\",IF('4 - Payroll reduction'!H329=\"Table 2\",'4 - Payroll reduction'!G329,\"\"))","v":""},null,239]
[{"$f":"IF('4 - Payroll reduction'!C330=\"Name\",\"\",IF('4 - Payroll reduction'!H330=\"Table 2\",'4 - Payroll reduction'!C330,\"\"))","v":""},{"$f":"IF('4 - Payroll reduction'!C330=\"Name\",\"\",IF('4 - Payroll reduction'!H330=\"Table 2\",'4 - Payroll reduction'!D330,\"\"))","v":""},{"$f":"IF('4 - Payroll reduction'!C330=\"Name\",\"\",IF('4 - Payroll reduction'!H330=\"Table 2\",'4 - Payroll reduction'!E330,\"\"))","v":""},{"$f":"IF('4 - Payroll reduction'!C330=\"Name\",\"\",IF('4 - Payroll reduction'!H330=\"Table 2\",'4 - Payroll reduction'!G330,\"\"))","v":""},null,240]
[{"$f":"IF('4 - Payroll reduction'!C331=\"Name\",\"\",IF('4 - Payroll reduction'!H331=\"Table 2\",'4 - Payroll reduction'!C331,\"\"))","v":""},{"$f":"IF('4 - Payroll reduction'!C331=\"Name\",\"\",IF('4 - Payroll reduction'!H331=\"Table 2\",'4 - Payroll reduction'!D331,\"\"))","v":""},{"$f":"IF('4 - Payroll reduction'!C331=\"Name\",\"\",IF('4 - Payroll reduction'!H331=\"Table 2\",'4 - Payroll reduction'!E331,\"\"))","v":""},{"$f":"IF('4 - Payroll reduction'!C331=\"Name\",\"\",IF('4 - Payroll reduction'!H331=\"Table 2\",'4 - Payroll reduction'!G331,\"\"))","v":""},null,241]
[{"$f":"IF('4 - Payroll reduction'!C332=\"Name\",\"\",IF('4 - Payroll reduction'!H332=\"Table 2\",'4 - Payroll reduction'!C332,\"\"))","v":""},{"$f":"IF('4 - Payroll reduction'!C332=\"Name\",\"\",IF('4 - Payroll reduction'!H332=\"Table 2\",'4 - Payroll reduction'!D332,\"\"))","v":""},{"$f":"IF('4 - Payroll reduction'!C332=\"Name\",\"\",IF('4 - Payroll reduction'!H332=\"Table 2\",'4 - Payroll reduction'!E332,\"\"))","v":""},{"$f":"IF('4 - Payroll reduction'!C332=\"Name\",\"\",IF('4 - Payroll reduction'!H332=\"Table 2\",'4 - Payroll reduction'!G332,\"\"))","v":""},null,242]
[{"$f":"IF('4 - Payroll reduction'!C333=\"Name\",\"\",IF('4 - Payroll reduction'!H333=\"Table 2\",'4 - Payroll reduction'!C333,\"\"))","v":""},{"$f":"IF('4 - Payroll reduction'!C333=\"Name\",\"\",IF('4 - Payroll reduction'!H333=\"Table 2\",'4 - Payroll reduction'!D333,\"\"))","v":""},{"$f":"IF('4 - Payroll reduction'!C333=\"Name\",\"\",IF('4 - Payroll reduction'!H333=\"Table 2\",'4 - Payroll reduction'!E333,\"\"))","v":""},{"$f":"IF('4 - Payroll reduction'!C333=\"Name\",\"\",IF('4 - Payroll reduction'!H333=\"Table 2\",'4 - Payroll reduction'!G333,\"\"))","v":""},null,243]
[{"$f":"IF('4 - Payroll reduction'!C334=\"Name\",\"\",IF('4 - Payroll reduction'!H334=\"Table 2\",'4 - Payroll reduction'!C334,\"\"))","v":""},{"$f":"IF('4 - Payroll reduction'!C334=\"Name\",\"\",IF('4 - Payroll reduction'!H334=\"Table 2\",'4 - Payroll reduction'!D334,\"\"))","v":""},{"$f":"IF('4 - Payroll reduction'!C334=\"Name\",\"\",IF('4 - Payroll reduction'!H334=\"Table 2\",'4 - Payroll reduction'!E334,\"\"))","v":""},{"$f":"IF('4 - Payroll reduction'!C334=\"Name\",\"\",IF('4 - Payroll reduction'!H334=\"Table 2\",'4 - Payroll reduction'!G334,\"\"))","v":""},null,244]
[{"$f":"IF('4 - Payroll reduction'!C335=\"Name\",\"\",IF('4 - Payroll reduction'!H335=\"Table 2\",'4 - Payroll reduction'!C335,\"\"))","v":""},{"$f":"IF('4 - Payroll reduction'!C335=\"Name\",\"\",IF('4 - Payroll reduction'!H335=\"Table 2\",'4 - Payroll reduction'!D335,\"\"))","v":""},{"$f":"IF('4 - Payroll reduction'!C335=\"Name\",\"\",IF('4 - Payroll reduction'!H335=\"Table 2\",'4 - Payroll reduction'!E335,\"\"))","v":""},{"$f":"IF('4 - Payroll reduction'!C335=\"Name\",\"\",IF('4 - Payroll reduction'!H335=\"Table 2\",'4 - Payroll reduction'!G335,\"\"))","v":""},null,245]
[{"$f":"IF('4 - Payroll reduction'!C336=\"Name\",\"\",IF('4 - Payroll reduction'!H336=\"Table 2\",'4 - Payroll reduction'!C336,\"\"))","v":""},{"$f":"IF('4 - Payroll reduction'!C336=\"Name\",\"\",IF('4 - Payroll reduction'!H336=\"Table 2\",'4 - Payroll reduction'!D336,\"\"))","v":""},{"$f":"IF('4 - Payroll reduction'!C336=\"Name\",\"\",IF('4 - Payroll reduction'!H336=\"Table 2\",'4 - Payroll reduction'!E336,\"\"))","v":""},{"$f":"IF('4 - Payroll reduction'!C336=\"Name\",\"\",IF('4 - Payroll reduction'!H336=\"Table 2\",'4 - Payroll reduction'!G336,\"\"))","v":""},null,246]
[{"$f":"IF('4 - Payroll reduction'!C337=\"Name\",\"\",IF('4 - Payroll reduction'!H337=\"Table 2\",'4 - Payroll reduction'!C337,\"\"))","v":""},{"$f":"IF('4 - Payroll reduction'!C337=\"Name\",\"\",IF('4 - Payroll reduction'!H337=\"Table 2\",'4 - Payroll reduction'!D337,\"\"))","v":""},{"$f":"IF('4 - Payroll reduction'!C337=\"Name\",\"\",IF('4 - Payroll reduction'!H337=\"Table 2\",'4 - Payroll reduction'!E337,\"\"))","v":""},{"$f":"IF('4 - Payroll reduction'!C337=\"Name\",\"\",IF('4 - Payroll reduction'!H337=\"Table 2\",'4 - Payroll reduction'!G337,\"\"))","v":""},null,247]
[{"$f":"IF('4 - Payroll reduction'!C338=\"Name\",\"\",IF('4 - Payroll reduction'!H338=\"Table 2\",'4 - Payroll reduction'!C338,\"\"))","v":""},{"$f":"IF('4 - Payroll reduction'!C338=\"Name\",\"\",IF('4 - Payroll reduction'!H338=\"Table 2\",'4 - Payroll reduction'!D338,\"\"))","v":""},{"$f":"IF('4 - Payroll reduction'!C338=\"Name\",\"\",IF('4 - Payroll reduction'!H338=\"Table 2\",'4 - Payroll reduction'!E338,\"\"))","v":""},{"$f":"IF('4 - Payroll reduction'!C338=\"Name\",\"\",IF('4 - Payroll reduction'!H338=\"Table 2\",'4 - Payroll reduction'!G338,\"\"))","v":""},null,248]
[{"$f":"IF('4 - Payroll reduction'!C339=\"Name\",\"\",IF('4 - Payroll reduction'!H339=\"Table 2\",'4 - Payroll reduction'!C339,\"\"))","v":""},{"$f":"IF('4 - Payroll reduction'!C339=\"Name\",\"\",IF('4 - Payroll reduction'!H339=\"Table 2\",'4 - Payroll reduction'!D339,\"\"))","v":""},{"$f":"IF('4 - Payroll reduction'!C339=\"Name\",\"\",IF('4 - Payroll reduction'!H339=\"Table 2\",'4 - Payroll reduction'!E339,\"\"))","v":""},{"$f":"IF('4 - Payroll reduction'!C339=\"Name\",\"\",IF('4 - Payroll reduction'!H339=\"Table 2\",'4 - Payroll reduction'!G339,\"\"))","v":""},null,249]
[{"$f":"IF('4 - Payroll reduction'!C340=\"Name\",\"\",IF('4 - Payroll reduction'!H340=\"Table 2\",'4 - Payroll reduction'!C340,\"\"))","v":""},{"$f":"IF('4 - Payroll reduction'!C340=\"Name\",\"\",IF('4 - Payroll reduction'!H340=\"Table 2\",'4 - Payroll reduction'!D340,\"\"))","v":""},{"$f":"IF('4 - Payroll reduction'!C340=\"Name\",\"\",IF('4 - Payroll reduction'!H340=\"Table 2\",'4 - Payroll reduction'!E340,\"\"))","v":""},{"$f":"IF('4 - Payroll reduction'!C340=\"Name\",\"\",IF('4 - Payroll reduction'!H340=\"Table 2\",'4 - Payroll reduction'!G340,\"\"))","v":""},null,250]
[{"$f":"IF('4 - Payroll reduction'!C341=\"Name\",\"\",IF('4 - Payroll reduction'!H341=\"Table 2\",'4 - Payroll reduction'!C341,\"\"))","v":""},{"$f":"IF('4 - Payroll reduction'!C341=\"Name\",\"\",IF('4 - Payroll reduction'!H341=\"Table 2\",'4 - Payroll reduction'!D341,\"\"))","v":""},{"$f":"IF('4 - Payroll reduction'!C341=\"Name\",\"\",IF('4 - Payroll reduction'!H341=\"Table 2\",'4 - Payroll reduction'!E341,\"\"))","v":""},{"$f":"IF('4 - Payroll reduction'!C341=\"Name\",\"\",IF('4 - Payroll reduction'!H341=\"Table 2\",'4 - Payroll reduction'!G341,\"\"))","v":""},null,251]
[{"$f":"IF('4 - Payroll reduction'!C342=\"Name\",\"\",IF('4 - Payroll reduction'!H342=\"Table 2\",'4 - Payroll reduction'!C342,\"\"))","v":""},{"$f":"IF('4 - Payroll reduction'!C342=\"Name\",\"\",IF('4 - Payroll reduction'!H342=\"Table 2\",'4 - Payroll reduction'!D342,\"\"))","v":""},{"$f":"IF('4 - Payroll reduction'!C342=\"Name\",\"\",IF('4 - Payroll reduction'!H342=\"Table 2\",'4 - Payroll reduction'!E342,\"\"))","v":""},{"$f":"IF('4 - Payroll reduction'!C342=\"Name\",\"\",IF('4 - Payroll reduction'!H342=\"Table 2\",'4 - Payroll reduction'!G342,\"\"))","v":""},null,252]
[{"$f":"IF('4 - Payroll reduction'!C343=\"Name\",\"\",IF('4 - Payroll reduction'!H343=\"Table 2\",'4 - Payroll reduction'!C343,\"\"))","v":""},{"$f":"IF('4 - Payroll reduction'!C343=\"Name\",\"\",IF('4 - Payroll reduction'!H343=\"Table 2\",'4 - Payroll reduction'!D343,\"\"))","v":""},{"$f":"IF('4 - Payroll reduction'!C343=\"Name\",\"\",IF('4 - Payroll reduction'!H343=\"Table 2\",'4 - Payroll reduction'!E343,\"\"))","v":""},{"$f":"IF('4 - Payroll reduction'!C343=\"Name\",\"\",IF('4 - Payroll reduction'!H343=\"Table 2\",'4 - Payroll reduction'!G343,\"\"))","v":""},null,253]
[{"$f":"IF('4 - Payroll reduction'!C344=\"Name\",\"\",IF('4 - Payroll reduction'!H344=\"Table 2\",'4 - Payroll reduction'!C344,\"\"))","v":""},{"$f":"IF('4 - Payroll reduction'!C344=\"Name\",\"\",IF('4 - Payroll reduction'!H344=\"Table 2\",'4 - Payroll reduction'!D344,\"\"))","v":""},{"$f":"IF('4 - Payroll reduction'!C344=\"Name\",\"\",IF('4 - Payroll reduction'!H344=\"Table 2\",'4 - Payroll reduction'!E344,\"\"))","v":""},{"$f":"IF('4 - Payroll reduction'!C344=\"Name\",\"\",IF('4 - Payroll reduction'!H344=\"Table 2\",'4 - Payroll reduction'!G344,\"\"))","v":""},null,254]
[{"$f":"IF('4 - Payroll reduction'!C345=\"Name\",\"\",IF('4 - Payroll reduction'!H345=\"Table 2\",'4 - Payroll reduction'!C345,\"\"))","v":""},{"$f":"IF('4 - Payroll reduction'!C345=\"Name\",\"\",IF('4 - Payroll reduction'!H345=\"Table 2\",'4 - Payroll reduction'!D345,\"\"))","v":""},{"$f":"IF('4 - Payroll reduction'!C345=\"Name\",\"\",IF('4 - Payroll reduction'!H345=\"Table 2\",'4 - Payroll reduction'!E345,\"\"))","v":""},{"$f":"IF('4 - Payroll reduction'!C345=\"Name\",\"\",IF('4 - Payroll reduction'!H345=\"Table 2\",'4 - Payroll reduction'!G345,\"\"))","v":""},null,255]
[{"$f":"IF('4 - Payroll reduction'!C346=\"Name\",\"\",IF('4 - Payroll reduction'!H346=\"Table 2\",'4 - Payroll reduction'!C346,\"\"))","v":""},{"$f":"IF('4 - Payroll reduction'!C346=\"Name\",\"\",IF('4 - Payroll reduction'!H346=\"Table 2\",'4 - Payroll reduction'!D346,\"\"))","v":""},{"$f":"IF('4 - Payroll reduction'!C346=\"Name\",\"\",IF('4 - Payroll reduction'!H346=\"Table 2\",'4 - Payroll reduction'!E346,\"\"))","v":""},{"$f":"IF('4 - Payroll reduction'!C346=\"Name\",\"\",IF('4 - Payroll reduction'!H346=\"Table 2\",'4 - Payroll reduction'!G346,\"\"))","v":""},null,256]
[{"$f":"IF('4 - Payroll reduction'!C347=\"Name\",\"\",IF('4 - Payroll reduction'!H347=\"Table 2\",'4 - Payroll reduction'!C347,\"\"))","v":""},{"$f":"IF('4 - Payroll reduction'!C347=\"Name\",\"\",IF('4 - Payroll reduction'!H347=\"Table 2\",'4 - Payroll reduction'!D347,\"\"))","v":""},{"$f":"IF('4 - Payroll reduction'!C347=\"Name\",\"\",IF('4 - Payroll reduction'!H347=\"Table 2\",'4 - Payroll reduction'!E347,\"\"))","v":""},{"$f":"IF('4 - Payroll reduction'!C347=\"Name\",\"\",IF('4 - Payroll reduction'!H347=\"Table 2\",'4 - Payroll reduction'!G347,\"\"))","v":""},null,257]
[{"$f":"IF('4 - Payroll reduction'!C348=\"Name\",\"\",IF('4 - Payroll reduction'!H348=\"Table 2\",'4 - Payroll reduction'!C348,\"\"))","v":""},{"$f":"IF('4 - Payroll reduction'!C348=\"Name\",\"\",IF('4 - Payroll reduction'!H348=\"Table 2\",'4 - Payroll reduction'!D348,\"\"))","v":""},{"$f":"IF('4 - Payroll reduction'!C348=\"Name\",\"\",IF('4 - Payroll reduction'!H348=\"Table 2\",'4 - Payroll reduction'!E348,\"\"))","v":""},{"$f":"IF('4 - Payroll reduction'!C348=\"Name\",\"\",IF('4 - Payroll reduction'!H348=\"Table 2\",'4 - Payroll reduction'!G348,\"\"))","v":""},null,258]
[{"$f":"IF('4 - Payroll reduction'!C349=\"Name\",\"\",IF('4 - Payroll reduction'!H349=\"Table 2\",'4 - Payroll reduction'!C349,\"\"))","v":""},{"$f":"IF('4 - Payroll reduction'!C349=\"Name\",\"\",IF('4 - Payroll reduction'!H349=\"Table 2\",'4 - Payroll reduction'!D349,\"\"))","v":""},{"$f":"IF('4 - Payroll reduction'!C349=\"Name\",\"\",IF('4 - Payroll reduction'!H349=\"Table 2\",'4 - Payroll reduction'!E349,\"\"))","v":""},{"$f":"IF('4 - Payroll reduction'!C349=\"Name\",\"\",IF('4 - Payroll reduction'!H349=\"Table 2\",'4 - Payroll reduction'!G349,\"\"))","v":""},null,259]
[{"$f":"IF('4 - Payroll reduction'!C350=\"Name\",\"\",IF('4 - Payroll reduction'!H350=\"Table 2\",'4 - Payroll reduction'!C350,\"\"))","v":""},{"$f":"IF('4 - Payroll reduction'!C350=\"Name\",\"\",IF('4 - Payroll reduction'!H350=\"Table 2\",'4 - Payroll reduction'!D350,\"\"))","v":""},{"$f":"IF('4 - Payroll reduction'!C350=\"Name\",\"\",IF('4 - Payroll reduction'!H350=\"Table 2\",'4 - Payroll reduction'!E350,\"\"))","v":""},{"$f":"IF('4 - Payroll reduction'!C350=\"Name\",\"\",IF('4 - Payroll reduction'!H350=\"Table 2\",'4 - Payroll reduction'!G350,\"\"))","v":""},null,{"$f":"F773+1","v":260}]
[{"$f":"IF('4 - Payroll reduction'!C351=\"Name\",\"\",IF('4 - Payroll reduction'!H351=\"Table 2\",'4 - Payroll reduction'!C351,\"\"))","v":""},{"$f":"IF('4 - Payroll reduction'!C351=\"Name\",\"\",IF('4 - Payroll reduction'!H351=\"Table 2\",'4 - Payroll reduction'!D351,\"\"))","v":""},{"$f":"IF('4 - Payroll reduction'!C351=\"Name\",\"\",IF('4 - Payroll reduction'!H351=\"Table 2\",'4 - Payroll reduction'!E351,\"\"))","v":""},{"$f":"IF('4 - Payroll reduction'!C351=\"Name\",\"\",IF('4 - Payroll reduction'!H351=\"Table 2\",'4 - Payroll reduction'!G351,\"\"))","v":""},null,261]
[{"$f":"IF('4 - Payroll reduction'!C352=\"Name\",\"\",IF('4 - Payroll reduction'!H352=\"Table 2\",'4 - Payroll reduction'!C352,\"\"))","v":""},{"$f":"IF('4 - Payroll reduction'!C352=\"Name\",\"\",IF('4 - Payroll reduction'!H352=\"Table 2\",'4 - Payroll reduction'!D352,\"\"))","v":""},{"$f":"IF('4 - Payroll reduction'!C352=\"Name\",\"\",IF('4 - Payroll reduction'!H352=\"Table 2\",'4 - Payroll reduction'!E352,\"\"))","v":""},{"$f":"IF('4 - Payroll reduction'!C352=\"Name\",\"\",IF('4 - Payroll reduction'!H352=\"Table 2\",'4 - Payroll reduction'!G352,\"\"))","v":""},null,262]
[{"$f":"IF('4 - Payroll reduction'!C353=\"Name\",\"\",IF('4 - Payroll reduction'!H353=\"Table 2\",'4 - Payroll reduction'!C353,\"\"))","v":""},{"$f":"IF('4 - Payroll reduction'!C353=\"Name\",\"\",IF('4 - Payroll reduction'!H353=\"Table 2\",'4 - Payroll reduction'!D353,\"\"))","v":""},{"$f":"IF('4 - Payroll reduction'!C353=\"Name\",\"\",IF('4 - Payroll reduction'!H353=\"Table 2\",'4 - Payroll reduction'!E353,\"\"))","v":""},{"$f":"IF('4 - Payroll reduction'!C353=\"Name\",\"\",IF('4 - Payroll reduction'!H353=\"Table 2\",'4 - Payroll reduction'!G353,\"\"))","v":""},null,263]
[{"$f":"IF('4 - Payroll reduction'!C354=\"Name\",\"\",IF('4 - Payroll reduction'!H354=\"Table 2\",'4 - Payroll reduction'!C354,\"\"))","v":""},{"$f":"IF('4 - Payroll reduction'!C354=\"Name\",\"\",IF('4 - Payroll reduction'!H354=\"Table 2\",'4 - Payroll reduction'!D354,\"\"))","v":""},{"$f":"IF('4 - Payroll reduction'!C354=\"Name\",\"\",IF('4 - Payroll reduction'!H354=\"Table 2\",'4 - Payroll reduction'!E354,\"\"))","v":""},{"$f":"IF('4 - Payroll reduction'!C354=\"Name\",\"\",IF('4 - Payroll reduction'!H354=\"Table 2\",'4 - Payroll reduction'!G354,\"\"))","v":""},null,264]
[{"$f":"IF('4 - Payroll reduction'!C355=\"Name\",\"\",IF('4 - Payroll reduction'!H355=\"Table 2\",'4 - Payroll reduction'!C355,\"\"))","v":""},{"$f":"IF('4 - Payroll reduction'!C355=\"Name\",\"\",IF('4 - Payroll reduction'!H355=\"Table 2\",'4 - Payroll reduction'!D355,\"\"))","v":""},{"$f":"IF('4 - Payroll reduction'!C355=\"Name\",\"\",IF('4 - Payroll reduction'!H355=\"Table 2\",'4 - Payroll reduction'!E355,\"\"))","v":""},{"$f":"IF('4 - Payroll reduction'!C355=\"Name\",\"\",IF('4 - Payroll reduction'!H355=\"Table 2\",'4 - Payroll reduction'!G355,\"\"))","v":""},null,265]
[{"$f":"IF('4 - Payroll reduction'!C356=\"Name\",\"\",IF('4 - Payroll reduction'!H356=\"Table 2\",'4 - Payroll reduction'!C356,\"\"))","v":""},{"$f":"IF('4 - Payroll reduction'!C356=\"Name\",\"\",IF('4 - Payroll reduction'!H356=\"Table 2\",'4 - Payroll reduction'!D356,\"\"))","v":""},{"$f":"IF('4 - Payroll reduction'!C356=\"Name\",\"\",IF('4 - Payroll reduction'!H356=\"Table 2\",'4 - Payroll reduction'!E356,\"\"))","v":""},{"$f":"IF('4 - Payroll reduction'!C356=\"Name\",\"\",IF('4 - Payroll reduction'!H356=\"Table 2\",'4 - Payroll reduction'!G356,\"\"))","v":""},null,266]
[{"$f":"IF('4 - Payroll reduction'!C357=\"Name\",\"\",IF('4 - Payroll reduction'!H357=\"Table 2\",'4 - Payroll reduction'!C357,\"\"))","v":""},{"$f":"IF('4 - Payroll reduction'!C357=\"Name\",\"\",IF('4 - Payroll reduction'!H357=\"Table 2\",'4 - Payroll reduction'!D357,\"\"))","v":""},{"$f":"IF('4 - Payroll reduction'!C357=\"Name\",\"\",IF('4 - Payroll reduction'!H357=\"Table 2\",'4 - Payroll reduction'!E357,\"\"))","v":""},{"$f":"IF('4 - Payroll reduction'!C357=\"Name\",\"\",IF('4 - Payroll reduction'!H357=\"Table 2\",'4 - Payroll reduction'!G357,\"\"))","v":""},null,267]
[{"$f":"IF('4 - Payroll reduction'!C358=\"Name\",\"\",IF('4 - Payroll reduction'!H358=\"Table 2\",'4 - Payroll reduction'!C358,\"\"))","v":""},{"$f":"IF('4 - Payroll reduction'!C358=\"Name\",\"\",IF('4 - Payroll reduction'!H358=\"Table 2\",'4 - Payroll reduction'!D358,\"\"))","v":""},{"$f":"IF('4 - Payroll reduction'!C358=\"Name\",\"\",IF('4 - Payroll reduction'!H358=\"Table 2\",'4 - Payroll reduction'!E358,\"\"))","v":""},{"$f":"IF('4 - Payroll reduction'!C358=\"Name\",\"\",IF('4 - Payroll reduction'!H358=\"Table 2\",'4 - Payroll reduction'!G358,\"\"))","v":""},null,268]
[{"$f":"IF('4 - Payroll reduction'!C359=\"Name\",\"\",IF('4 - Payroll reduction'!H359=\"Table 2\",'4 - Payroll reduction'!C359,\"\"))","v":""},{"$f":"IF('4 - Payroll reduction'!C359=\"Name\",\"\",IF('4 - Payroll reduction'!H359=\"Table 2\",'4 - Payroll reduction'!D359,\"\"))","v":""},{"$f":"IF('4 - Payroll reduction'!C359=\"Name\",\"\",IF('4 - Payroll reduction'!H359=\"Table 2\",'4 - Payroll reduction'!E359,\"\"))","v":""},{"$f":"IF('4 - Payroll reduction'!C359=\"Name\",\"\",IF('4 - Payroll reduction'!H359=\"Table 2\",'4 - Payroll reduction'!G359,\"\"))","v":""},null,269]
[{"$f":"IF('4 - Payroll reduction'!C360=\"Name\",\"\",IF('4 - Payroll reduction'!H360=\"Table 2\",'4 - Payroll reduction'!C360,\"\"))","v":""},{"$f":"IF('4 - Payroll reduction'!C360=\"Name\",\"\",IF('4 - Payroll reduction'!H360=\"Table 2\",'4 - Payroll reduction'!D360,\"\"))","v":""},{"$f":"IF('4 - Payroll reduction'!C360=\"Name\",\"\",IF('4 - Payroll reduction'!H360=\"Table 2\",'4 - Payroll reduction'!E360,\"\"))","v":""},{"$f":"IF('4 - Payroll reduction'!C360=\"Name\",\"\",IF('4 - Payroll reduction'!H360=\"Table 2\",'4 - Payroll reduction'!G360,\"\"))","v":""},null,270]
[{"$f":"IF('4 - Payroll reduction'!C361=\"Name\",\"\",IF('4 - Payroll reduction'!H361=\"Table 2\",'4 - Payroll reduction'!C361,\"\"))","v":""},{"$f":"IF('4 - Payroll reduction'!C361=\"Name\",\"\",IF('4 - Payroll reduction'!H361=\"Table 2\",'4 - Payroll reduction'!D361,\"\"))","v":""},{"$f":"IF('4 - Payroll reduction'!C361=\"Name\",\"\",IF('4 - Payroll reduction'!H361=\"Table 2\",'4 - Payroll reduction'!E361,\"\"))","v":""},{"$f":"IF('4 - Payroll reduction'!C361=\"Name\",\"\",IF('4 - Payroll reduction'!H361=\"Table 2\",'4 - Payroll reduction'!G361,\"\"))","v":""},null,271]
[{"$f":"IF('4 - Payroll reduction'!C362=\"Name\",\"\",IF('4 - Payroll reduction'!H362=\"Table 2\",'4 - Payroll reduction'!C362,\"\"))","v":""},{"$f":"IF('4 - Payroll reduction'!C362=\"Name\",\"\",IF('4 - Payroll reduction'!H362=\"Table 2\",'4 - Payroll reduction'!D362,\"\"))","v":""},{"$f":"IF('4 - Payroll reduction'!C362=\"Name\",\"\",IF('4 - Payroll reduction'!H362=\"Table 2\",'4 - Payroll reduction'!E362,\"\"))","v":""},{"$f":"IF('4 - Payroll reduction'!C362=\"Name\",\"\",IF('4 - Payroll reduction'!H362=\"Table 2\",'4 - Payroll reduction'!G362,\"\"))","v":""},null,272]
[{"$f":"IF('4 - Payroll reduction'!C363=\"Name\",\"\",IF('4 - Payroll reduction'!H363=\"Table 2\",'4 - Payroll reduction'!C363,\"\"))","v":""},{"$f":"IF('4 - Payroll reduction'!C363=\"Name\",\"\",IF('4 - Payroll reduction'!H363=\"Table 2\",'4 - Payroll reduction'!D363,\"\"))","v":""},{"$f":"IF('4 - Payroll reduction'!C363=\"Name\",\"\",IF('4 - Payroll reduction'!H363=\"Table 2\",'4 - Payroll reduction'!E363,\"\"))","v":""},{"$f":"IF('4 - Payroll reduction'!C363=\"Name\",\"\",IF('4 - Payroll reduction'!H363=\"Table 2\",'4 - Payroll reduction'!G363,\"\"))","v":""},null,273]
[{"$f":"IF('4 - Payroll reduction'!C364=\"Name\",\"\",IF('4 - Payroll reduction'!H364=\"Table 2\",'4 - Payroll reduction'!C364,\"\"))","v":""},{"$f":"IF('4 - Payroll reduction'!C364=\"Name\",\"\",IF('4 - Payroll reduction'!H364=\"Table 2\",'4 - Payroll reduction'!D364,\"\"))","v":""},{"$f":"IF('4 - Payroll reduction'!C364=\"Name\",\"\",IF('4 - Payroll reduction'!H364=\"Table 2\",'4 - Payroll reduction'!E364,\"\"))","v":""},{"$f":"IF('4 - Payroll reduction'!C364=\"Name\",\"\",IF('4 - Payroll reduction'!H364=\"Table 2\",'4 - Payroll reduction'!G364,\"\"))","v":""},null,274]
[{"$f":"IF('4 - Payroll reduction'!C365=\"Name\",\"\",IF('4 - Payroll reduction'!H365=\"Table 2\",'4 - Payroll reduction'!C365,\"\"))","v":""},{"$f":"IF('4 - Payroll reduction'!C365=\"Name\",\"\",IF('4 - Payroll reduction'!H365=\"Table 2\",'4 - Payroll reduction'!D365,\"\"))","v":""},{"$f":"IF('4 - Payroll reduction'!C365=\"Name\",\"\",IF('4 - Payroll reduction'!H365=\"Table 2\",'4 - Payroll reduction'!E365,\"\"))","v":""},{"$f":"IF('4 - Payroll reduction'!C365=\"Name\",\"\",IF('4 - Payroll reduction'!H365=\"Table 2\",'4 - Payroll reduction'!G365,\"\"))","v":""},null,275]
[{"$f":"IF('4 - Payroll reduction'!C366=\"Name\",\"\",IF('4 - Payroll reduction'!H366=\"Table 2\",'4 - Payroll reduction'!C366,\"\"))","v":""},{"$f":"IF('4 - Payroll reduction'!C366=\"Name\",\"\",IF('4 - Payroll reduction'!H366=\"Table 2\",'4 - Payroll reduction'!D366,\"\"))","v":""},{"$f":"IF('4 - Payroll reduction'!C366=\"Name\",\"\",IF('4 - Payroll reduction'!H366=\"Table 2\",'4 - Payroll reduction'!E366,\"\"))","v":""},{"$f":"IF('4 - Payroll reduction'!C366=\"Name\",\"\",IF('4 - Payroll reduction'!H366=\"Table 2\",'4 - Payroll reduction'!G366,\"\"))","v":""},null,276]
[{"$f":"IF('4 - Payroll reduction'!C367=\"Name\",\"\",IF('4 - Payroll reduction'!H367=\"Table 2\",'4 - Payroll reduction'!C367,\"\"))","v":""},{"$f":"IF('4 - Payroll reduction'!C367=\"Name\",\"\",IF('4 - Payroll reduction'!H367=\"Table 2\",'4 - Payroll reduction'!D367,\"\"))","v":""},{"$f":"IF('4 - Payroll reduction'!C367=\"Name\",\"\",IF('4 - Payroll reduction'!H367=\"Table 2\",'4 - Payroll reduction'!E367,\"\"))","v":""},{"$f":"IF('4 - Payroll reduction'!C367=\"Name\",\"\",IF('4 - Payroll reduction'!H367=\"Table 2\",'4 - Payroll reduction'!G367,\"\"))","v":""},null,277]
[{"$f":"IF('4 - Payroll reduction'!C368=\"Name\",\"\",IF('4 - Payroll reduction'!H368=\"Table 2\",'4 - Payroll reduction'!C368,\"\"))","v":""},{"$f":"IF('4 - Payroll reduction'!C368=\"Name\",\"\",IF('4 - Payroll reduction'!H368=\"Table 2\",'4 - Payroll reduction'!D368,\"\"))","v":""},{"$f":"IF('4 - Payroll reduction'!C368=\"Name\",\"\",IF('4 - Payroll reduction'!H368=\"Table 2\",'4 - Payroll reduction'!E368,\"\"))","v":""},{"$f":"IF('4 - Payroll reduction'!C368=\"Name\",\"\",IF('4 - Payroll reduction'!H368=\"Table 2\",'4 - Payroll reduction'!G368,\"\"))","v":""},null,278]
[{"$f":"IF('4 - Payroll reduction'!C369=\"Name\",\"\",IF('4 - Payroll reduction'!H369=\"Table 2\",'4 - Payroll reduction'!C369,\"\"))","v":""},{"$f":"IF('4 - Payroll reduction'!C369=\"Name\",\"\",IF('4 - Payroll reduction'!H369=\"Table 2\",'4 - Payroll reduction'!D369,\"\"))","v":""},{"$f":"IF('4 - Payroll reduction'!C369=\"Name\",\"\",IF('4 - Payroll reduction'!H369=\"Table 2\",'4 - Payroll reduction'!E369,\"\"))","v":""},{"$f":"IF('4 - Payroll reduction'!C369=\"Name\",\"\",IF('4 - Payroll reduction'!H369=\"Table 2\",'4 - Payroll reduction'!G369,\"\"))","v":""},null,279]
[{"$f":"IF('4 - Payroll reduction'!C370=\"Name\",\"\",IF('4 - Payroll reduction'!H370=\"Table 2\",'4 - Payroll reduction'!C370,\"\"))","v":""},{"$f":"IF('4 - Payroll reduction'!C370=\"Name\",\"\",IF('4 - Payroll reduction'!H370=\"Table 2\",'4 - Payroll reduction'!D370,\"\"))","v":""},{"$f":"IF('4 - Payroll reduction'!C370=\"Name\",\"\",IF('4 - Payroll reduction'!H370=\"Table 2\",'4 - Payroll reduction'!E370,\"\"))","v":""},{"$f":"IF('4 - Payroll reduction'!C370=\"Name\",\"\",IF('4 - Payroll reduction'!H370=\"Table 2\",'4 - Payroll reduction'!G370,\"\"))","v":""},null,280]
[{"$f":"IF('4 - Payroll reduction'!C371=\"Name\",\"\",IF('4 - Payroll reduction'!H371=\"Table 2\",'4 - Payroll reduction'!C371,\"\"))","v":""},{"$f":"IF('4 - Payroll reduction'!C371=\"Name\",\"\",IF('4 - Payroll reduction'!H371=\"Table 2\",'4 - Payroll reduction'!D371,\"\"))","v":""},{"$f":"IF('4 - Payroll reduction'!C371=\"Name\",\"\",IF('4 - Payroll reduction'!H371=\"Table 2\",'4 - Payroll reduction'!E371,\"\"))","v":""},{"$f":"IF('4 - Payroll reduction'!C371=\"Name\",\"\",IF('4 - Payroll reduction'!H371=\"Table 2\",'4 - Payroll reduction'!G371,\"\"))","v":""},null,281]
[{"$f":"IF('4 - Payroll reduction'!C372=\"Name\",\"\",IF('4 - Payroll reduction'!H372=\"Table 2\",'4 - Payroll reduction'!C372,\"\"))","v":""},{"$f":"IF('4 - Payroll reduction'!C372=\"Name\",\"\",IF('4 - Payroll reduction'!H372=\"Table 2\",'4 - Payroll reduction'!D372,\"\"))","v":""},{"$f":"IF('4 - Payroll reduction'!C372=\"Name\",\"\",IF('4 - Payroll reduction'!H372=\"Table 2\",'4 - Payroll reduction'!E372,\"\"))","v":""},{"$f":"IF('4 - Payroll reduction'!C372=\"Name\",\"\",IF('4 - Payroll reduction'!H372=\"Table 2\",'4 - Payroll reduction'!G372,\"\"))","v":""},null,282]
[{"$f":"IF('4 - Payroll reduction'!C373=\"Name\",\"\",IF('4 - Payroll reduction'!H373=\"Table 2\",'4 - Payroll reduction'!C373,\"\"))","v":""},{"$f":"IF('4 - Payroll reduction'!C373=\"Name\",\"\",IF('4 - Payroll reduction'!H373=\"Table 2\",'4 - Payroll reduction'!D373,\"\"))","v":""},{"$f":"IF('4 - Payroll reduction'!C373=\"Name\",\"\",IF('4 - Payroll reduction'!H373=\"Table 2\",'4 - Payroll reduction'!E373,\"\"))","v":""},{"$f":"IF('4 - Payroll reduction'!C373=\"Name\",\"\",IF('4 - Payroll reduction'!H373=\"Table 2\",'4 - Payroll reduction'!G373,\"\"))","v":""},null,283]
[{"$f":"IF('4 - Payroll reduction'!C374=\"Name\",\"\",IF('4 - Payroll reduction'!H374=\"Table 2\",'4 - Payroll reduction'!C374,\"\"))","v":""},{"$f":"IF('4 - Payroll reduction'!C374=\"Name\",\"\",IF('4 - Payroll reduction'!H374=\"Table 2\",'4 - Payroll reduction'!D374,\"\"))","v":""},{"$f":"IF('4 - Payroll reduction'!C374=\"Name\",\"\",IF('4 - Payroll reduction'!H374=\"Table 2\",'4 - Payroll reduction'!E374,\"\"))","v":""},{"$f":"IF('4 - Payroll reduction'!C374=\"Name\",\"\",IF('4 - Payroll reduction'!H374=\"Table 2\",'4 - Payroll reduction'!G374,\"\"))","v":""},null,284]
[{"$f":"IF('4 - Payroll reduction'!C375=\"Name\",\"\",IF('4 - Payroll reduction'!H375=\"Table 2\",'4 - Payroll reduction'!C375,\"\"))","v":""},{"$f":"IF('4 - Payroll reduction'!C375=\"Name\",\"\",IF('4 - Payroll reduction'!H375=\"Table 2\",'4 - Payroll reduction'!D375,\"\"))","v":""},{"$f":"IF('4 - Payroll reduction'!C375=\"Name\",\"\",IF('4 - Payroll reduction'!H375=\"Table 2\",'4 - Payroll reduction'!E375,\"\"))","v":""},{"$f":"IF('4 - Payroll reduction'!C375=\"Name\",\"\",IF('4 - Payroll reduction'!H375=\"Table 2\",'4 - Payroll reduction'!G375,\"\"))","v":""},null,285]
[{"$f":"IF('4 - Payroll reduction'!C376=\"Name\",\"\",IF('4 - Payroll reduction'!H376=\"Table 2\",'4 - Payroll reduction'!C376,\"\"))","v":""},{"$f":"IF('4 - Payroll reduction'!C376=\"Name\",\"\",IF('4 - Payroll reduction'!H376=\"Table 2\",'4 - Payroll reduction'!D376,\"\"))","v":""},{"$f":"IF('4 - Payroll reduction'!C376=\"Name\",\"\",IF('4 - Payroll reduction'!H376=\"Table 2\",'4 - Payroll reduction'!E376,\"\"))","v":""},{"$f":"IF('4 - Payroll reduction'!C376=\"Name\",\"\",IF('4 - Payroll reduction'!H376=\"Table 2\",'4 - Payroll reduction'!G376,\"\"))","v":""},null,286]
[{"$f":"IF('4 - Payroll reduction'!C377=\"Name\",\"\",IF('4 - Payroll reduction'!H377=\"Table 2\",'4 - Payroll reduction'!C377,\"\"))","v":""},{"$f":"IF('4 - Payroll reduction'!C377=\"Name\",\"\",IF('4 - Payroll reduction'!H377=\"Table 2\",'4 - Payroll reduction'!D377,\"\"))","v":""},{"$f":"IF('4 - Payroll reduction'!C377=\"Name\",\"\",IF('4 - Payroll reduction'!H377=\"Table 2\",'4 - Payroll reduction'!E377,\"\"))","v":""},{"$f":"IF('4 - Payroll reduction'!C377=\"Name\",\"\",IF('4 - Payroll reduction'!H377=\"Table 2\",'4 - Payroll reduction'!G377,\"\"))","v":""},null,287]
[{"$f":"IF('4 - Payroll reduction'!C378=\"Name\",\"\",IF('4 - Payroll reduction'!H378=\"Table 2\",'4 - Payroll reduction'!C378,\"\"))","v":""},{"$f":"IF('4 - Payroll reduction'!C378=\"Name\",\"\",IF('4 - Payroll reduction'!H378=\"Table 2\",'4 - Payroll reduction'!D378,\"\"))","v":""},{"$f":"IF('4 - Payroll reduction'!C378=\"Name\",\"\",IF('4 - Payroll reduction'!H378=\"Table 2\",'4 - Payroll reduction'!E378,\"\"))","v":""},{"$f":"IF('4 - Payroll reduction'!C378=\"Name\",\"\",IF('4 - Payroll reduction'!H378=\"Table 2\",'4 - Payroll reduction'!G378,\"\"))","v":""},null,288]
[{"$f":"IF('4 - Payroll reduction'!C379=\"Name\",\"\",IF('4 - Payroll reduction'!H379=\"Table 2\",'4 - Payroll reduction'!C379,\"\"))","v":""},{"$f":"IF('4 - Payroll reduction'!C379=\"Name\",\"\",IF('4 - Payroll reduction'!H379=\"Table 2\",'4 - Payroll reduction'!D379,\"\"))","v":""},{"$f":"IF('4 - Payroll reduction'!C379=\"Name\",\"\",IF('4 - Payroll reduction'!H379=\"Table 2\",'4 - Payroll reduction'!E379,\"\"))","v":""},{"$f":"IF('4 - Payroll reduction'!C379=\"Name\",\"\",IF('4 - Payroll reduction'!H379=\"Table 2\",'4 - Payroll reduction'!G379,\"\"))","v":""},null,289]
[{"$f":"IF('4 - Payroll reduction'!C380=\"Name\",\"\",IF('4 - Payroll reduction'!H380=\"Table 2\",'4 - Payroll reduction'!C380,\"\"))","v":""},{"$f":"IF('4 - Payroll reduction'!C380=\"Name\",\"\",IF('4 - Payroll reduction'!H380=\"Table 2\",'4 - Payroll reduction'!D380,\"\"))","v":""},{"$f":"IF('4 - Payroll reduction'!C380=\"Name\",\"\",IF('4 - Payroll reduction'!H380=\"Table 2\",'4 - Payroll reduction'!E380,\"\"))","v":""},{"$f":"IF('4 - Payroll reduction'!C380=\"Name\",\"\",IF('4 - Payroll reduction'!H380=\"Table 2\",'4 - Payroll reduction'!G380,\"\"))","v":""},null,290]
[{"$f":"IF('4 - Payroll reduction'!C381=\"Name\",\"\",IF('4 - Payroll reduction'!H381=\"Table 2\",'4 - Payroll reduction'!C381,\"\"))","v":""},{"$f":"IF('4 - Payroll reduction'!C381=\"Name\",\"\",IF('4 - Payroll reduction'!H381=\"Table 2\",'4 - Payroll reduction'!D381,\"\"))","v":""},{"$f":"IF('4 - Payroll reduction'!C381=\"Name\",\"\",IF('4 - Payroll reduction'!H381=\"Table 2\",'4 - Payroll reduction'!E381,\"\"))","v":""},{"$f":"IF('4 - Payroll reduction'!C381=\"Name\",\"\",IF('4 - Payroll reduction'!H381=\"Table 2\",'4 - Payroll reduction'!G381,\"\"))","v":""},null,291]
[{"$f":"IF('4 - Payroll reduction'!C382=\"Name\",\"\",IF('4 - Payroll reduction'!H382=\"Table 2\",'4 - Payroll reduction'!C382,\"\"))","v":""},{"$f":"IF('4 - Payroll reduction'!C382=\"Name\",\"\",IF('4 - Payroll reduction'!H382=\"Table 2\",'4 - Payroll reduction'!D382,\"\"))","v":""},{"$f":"IF('4 - Payroll reduction'!C382=\"Name\",\"\",IF('4 - Payroll reduction'!H382=\"Table 2\",'4 - Payroll reduction'!E382,\"\"))","v":""},{"$f":"IF('4 - Payroll reduction'!C382=\"Name\",\"\",IF('4 - Payroll reduction'!H382=\"Table 2\",'4 - Payroll reduction'!G382,\"\"))","v":""},null,292]
[{"$f":"IF('4 - Payroll reduction'!C383=\"Name\",\"\",IF('4 - Payroll reduction'!H383=\"Table 2\",'4 - Payroll reduction'!C383,\"\"))","v":""},{"$f":"IF('4 - Payroll reduction'!C383=\"Name\",\"\",IF('4 - Payroll reduction'!H383=\"Table 2\",'4 - Payroll reduction'!D383,\"\"))","v":""},{"$f":"IF('4 - Payroll reduction'!C383=\"Name\",\"\",IF('4 - Payroll reduction'!H383=\"Table 2\",'4 - Payroll reduction'!E383,\"\"))","v":""},{"$f":"IF('4 - Payroll reduction'!C383=\"Name\",\"\",IF('4 - Payroll reduction'!H383=\"Table 2\",'4 - Payroll reduction'!G383,\"\"))","v":""},null,293]
[{"$f":"IF('4 - Payroll reduction'!C384=\"Name\",\"\",IF('4 - Payroll reduction'!H384=\"Table 2\",'4 - Payroll reduction'!C384,\"\"))","v":""},{"$f":"IF('4 - Payroll reduction'!C384=\"Name\",\"\",IF('4 - Payroll reduction'!H384=\"Table 2\",'4 - Payroll reduction'!D384,\"\"))","v":""},{"$f":"IF('4 - Payroll reduction'!C384=\"Name\",\"\",IF('4 - Payroll reduction'!H384=\"Table 2\",'4 - Payroll reduction'!E384,\"\"))","v":""},{"$f":"IF('4 - Payroll reduction'!C384=\"Name\",\"\",IF('4 - Payroll reduction'!H384=\"Table 2\",'4 - Payroll reduction'!G384,\"\"))","v":""},null,294]
[{"$f":"IF('4 - Payroll reduction'!C385=\"Name\",\"\",IF('4 - Payroll reduction'!H385=\"Table 2\",'4 - Payroll reduction'!C385,\"\"))","v":""},{"$f":"IF('4 - Payroll reduction'!C385=\"Name\",\"\",IF('4 - Payroll reduction'!H385=\"Table 2\",'4 - Payroll reduction'!D385,\"\"))","v":""},{"$f":"IF('4 - Payroll reduction'!C385=\"Name\",\"\",IF('4 - Payroll reduction'!H385=\"Table 2\",'4 - Payroll reduction'!E385,\"\"))","v":""},{"$f":"IF('4 - Payroll reduction'!C385=\"Name\",\"\",IF('4 - Payroll reduction'!H385=\"Table 2\",'4 - Payroll reduction'!G385,\"\"))","v":""},null,295]
[{"$f":"IF('4 - Payroll reduction'!C386=\"Name\",\"\",IF('4 - Payroll reduction'!H386=\"Table 2\",'4 - Payroll reduction'!C386,\"\"))","v":""},{"$f":"IF('4 - Payroll reduction'!C386=\"Name\",\"\",IF('4 - Payroll reduction'!H386=\"Table 2\",'4 - Payroll reduction'!D386,\"\"))","v":""},{"$f":"IF('4 - Payroll reduction'!C386=\"Name\",\"\",IF('4 - Payroll reduction'!H386=\"Table 2\",'4 - Payroll reduction'!E386,\"\"))","v":""},{"$f":"IF('4 - Payroll reduction'!C386=\"Name\",\"\",IF('4 - Payroll reduction'!H386=\"Table 2\",'4 - Payroll reduction'!G386,\"\"))","v":""},null,296]
[{"$f":"IF('4 - Payroll reduction'!C387=\"Name\",\"\",IF('4 - Payroll reduction'!H387=\"Table 2\",'4 - Payroll reduction'!C387,\"\"))","v":""},{"$f":"IF('4 - Payroll reduction'!C387=\"Name\",\"\",IF('4 - Payroll reduction'!H387=\"Table 2\",'4 - Payroll reduction'!D387,\"\"))","v":""},{"$f":"IF('4 - Payroll reduction'!C387=\"Name\",\"\",IF('4 - Payroll reduction'!H387=\"Table 2\",'4 - Payroll reduction'!E387,\"\"))","v":""},{"$f":"IF('4 - Payroll reduction'!C387=\"Name\",\"\",IF('4 - Payroll reduction'!H387=\"Table 2\",'4 - Payroll reduction'!G387,\"\"))","v":""},null,297]
[{"$f":"IF('4 - Payroll reduction'!C388=\"Name\",\"\",IF('4 - Payroll reduction'!H388=\"Table 2\",'4 - Payroll reduction'!C388,\"\"))","v":""},{"$f":"IF('4 - Payroll reduction'!C388=\"Name\",\"\",IF('4 - Payroll reduction'!H388=\"Table 2\",'4 - Payroll reduction'!D388,\"\"))","v":""},{"$f":"IF('4 - Payroll reduction'!C388=\"Name\",\"\",IF('4 - Payroll reduction'!H388=\"Table 2\",'4 - Payroll reduction'!E388,\"\"))","v":""},{"$f":"IF('4 - Payroll reduction'!C388=\"Name\",\"\",IF('4 - Payroll reduction'!H388=\"Table 2\",'4 - Payroll reduction'!G388,\"\"))","v":""},null,298]
[{"$f":"IF('4 - Payroll reduction'!C389=\"Name\",\"\",IF('4 - Payroll reduction'!H389=\"Table 2\",'4 - Payroll reduction'!C389,\"\"))","v":""},{"$f":"IF('4 - Payroll reduction'!C389=\"Name\",\"\",IF('4 - Payroll reduction'!H389=\"Table 2\",'4 - Payroll reduction'!D389,\"\"))","v":""},{"$f":"IF('4 - Payroll reduction'!C389=\"Name\",\"\",IF('4 - Payroll reduction'!H389=\"Table 2\",'4 - Payroll reduction'!E389,\"\"))","v":""},{"$f":"IF('4 - Payroll reduction'!C389=\"Name\",\"\",IF('4 - Payroll reduction'!H389=\"Table 2\",'4 - Payroll reduction'!G389,\"\"))","v":""},null,299]
[{"$f":"IF('4 - Payroll reduction'!C390=\"Name\",\"\",IF('4 - Payroll reduction'!H390=\"Table 2\",'4 - Payroll reduction'!C390,\"\"))","v":""},{"$f":"IF('4 - Payroll reduction'!C390=\"Name\",\"\",IF('4 - Payroll reduction'!H390=\"Table 2\",'4 - Payroll reduction'!D390,\"\"))","v":""},{"$f":"IF('4 - Payroll reduction'!C390=\"Name\",\"\",IF('4 - Payroll reduction'!H390=\"Table 2\",'4 - Payroll reduction'!E390,\"\"))","v":""},{"$f":"IF('4 - Payroll reduction'!C390=\"Name\",\"\",IF('4 - Payroll reduction'!H390=\"Table 2\",'4 - Payroll reduction'!G390,\"\"))","v":""},null,300]
[{"$f":"IF('4 - Payroll reduction'!C391=\"Name\",\"\",IF('4 - Payroll reduction'!H391=\"Table 2\",'4 - Payroll reduction'!C391,\"\"))","v":""},{"$f":"IF('4 - Payroll reduction'!C391=\"Name\",\"\",IF('4 - Payroll reduction'!H391=\"Table 2\",'4 - Payroll reduction'!D391,\"\"))","v":""},{"$f":"IF('4 - Payroll reduction'!C391=\"Name\",\"\",IF('4 - Payroll reduction'!H391=\"Table 2\",'4 - Payroll reduction'!E391,\"\"))","v":""},{"$f":"IF('4 - Payroll reduction'!C391=\"Name\",\"\",IF('4 - Payroll reduction'!H391=\"Table 2\",'4 - Payroll reduction'!G391,\"\"))","v":""},null,301]
[{"$f":"IF('4 - Payroll reduction'!C392=\"Name\",\"\",IF('4 - Payroll reduction'!H392=\"Table 2\",'4 - Payroll reduction'!C392,\"\"))","v":""},{"$f":"IF('4 - Payroll reduction'!C392=\"Name\",\"\",IF('4 - Payroll reduction'!H392=\"Table 2\",'4 - Payroll reduction'!D392,\"\"))","v":""},{"$f":"IF('4 - Payroll reduction'!C392=\"Name\",\"\",IF('4 - Payroll reduction'!H392=\"Table 2\",'4 - Payroll reduction'!E392,\"\"))","v":""},{"$f":"IF('4 - Payroll reduction'!C392=\"Name\",\"\",IF('4 - Payroll reduction'!H392=\"Table 2\",'4 - Payroll reduction'!G392,\"\"))","v":""},null,302]
[{"$f":"IF('4 - Payroll reduction'!C393=\"Name\",\"\",IF('4 - Payroll reduction'!H393=\"Table 2\",'4 - Payroll reduction'!C393,\"\"))","v":""},{"$f":"IF('4 - Payroll reduction'!C393=\"Name\",\"\",IF('4 - Payroll reduction'!H393=\"Table 2\",'4 - Payroll reduction'!D393,\"\"))","v":""},{"$f":"IF('4 - Payroll reduction'!C393=\"Name\",\"\",IF('4 - Payroll reduction'!H393=\"Table 2\",'4 - Payroll reduction'!E393,\"\"))","v":""},{"$f":"IF('4 - Payroll reduction'!C393=\"Name\",\"\",IF('4 - Payroll reduction'!H393=\"Table 2\",'4 - Payroll reduction'!G393,\"\"))","v":""},null,303]
[{"$f":"IF('4 - Payroll reduction'!C394=\"Name\",\"\",IF('4 - Payroll reduction'!H394=\"Table 2\",'4 - Payroll reduction'!C394,\"\"))","v":""},{"$f":"IF('4 - Payroll reduction'!C394=\"Name\",\"\",IF('4 - Payroll reduction'!H394=\"Table 2\",'4 - Payroll reduction'!D394,\"\"))","v":""},{"$f":"IF('4 - Payroll reduction'!C394=\"Name\",\"\",IF('4 - Payroll reduction'!H394=\"Table 2\",'4 - Payroll reduction'!E394,\"\"))","v":""},{"$f":"IF('4 - Payroll reduction'!C394=\"Name\",\"\",IF('4 - Payroll reduction'!H394=\"Table 2\",'4 - Payroll reduction'!G394,\"\"))","v":""},null,304]
[{"$f":"IF('4 - Payroll reduction'!C395=\"Name\",\"\",IF('4 - Payroll reduction'!H395=\"Table 2\",'4 - Payroll reduction'!C395,\"\"))","v":""},{"$f":"IF('4 - Payroll reduction'!C395=\"Name\",\"\",IF('4 - Payroll reduction'!H395=\"Table 2\",'4 - Payroll reduction'!D395,\"\"))","v":""},{"$f":"IF('4 - Payroll reduction'!C395=\"Name\",\"\",IF('4 - Payroll reduction'!H395=\"Table 2\",'4 - Payroll reduction'!E395,\"\"))","v":""},{"$f":"IF('4 - Payroll reduction'!C395=\"Name\",\"\",IF('4 - Payroll reduction'!H395=\"Table 2\",'4 - Payroll reduction'!G395,\"\"))","v":""},null,305]
[{"$f":"IF('4 - Payroll reduction'!C396=\"Name\",\"\",IF('4 - Payroll reduction'!H396=\"Table 2\",'4 - Payroll reduction'!C396,\"\"))","v":""},{"$f":"IF('4 - Payroll reduction'!C396=\"Name\",\"\",IF('4 - Payroll reduction'!H396=\"Table 2\",'4 - Payroll reduction'!D396,\"\"))","v":""},{"$f":"IF('4 - Payroll reduction'!C396=\"Name\",\"\",IF('4 - Payroll reduction'!H396=\"Table 2\",'4 - Payroll reduction'!E396,\"\"))","v":""},{"$f":"IF('4 - Payroll reduction'!C396=\"Name\",\"\",IF('4 - Payroll reduction'!H396=\"Table 2\",'4 - Payroll reduction'!G396,\"\"))","v":""},null,306]
[{"$f":"IF('4 - Payroll reduction'!C397=\"Name\",\"\",IF('4 - Payroll reduction'!H397=\"Table 2\",'4 - Payroll reduction'!C397,\"\"))","v":""},{"$f":"IF('4 - Payroll reduction'!C397=\"Name\",\"\",IF('4 - Payroll reduction'!H397=\"Table 2\",'4 - Payroll reduction'!D397,\"\"))","v":""},{"$f":"IF('4 - Payroll reduction'!C397=\"Name\",\"\",IF('4 - Payroll reduction'!H397=\"Table 2\",'4 - Payroll reduction'!E397,\"\"))","v":""},{"$f":"IF('4 - Payroll reduction'!C397=\"Name\",\"\",IF('4 - Payroll reduction'!H397=\"Table 2\",'4 - Payroll reduction'!G397,\"\"))","v":""},null,307]
[{"$f":"IF('4 - Payroll reduction'!C398=\"Name\",\"\",IF('4 - Payroll reduction'!H398=\"Table 2\",'4 - Payroll reduction'!C398,\"\"))","v":""},{"$f":"IF('4 - Payroll reduction'!C398=\"Name\",\"\",IF('4 - Payroll reduction'!H398=\"Table 2\",'4 - Payroll reduction'!D398,\"\"))","v":""},{"$f":"IF('4 - Payroll reduction'!C398=\"Name\",\"\",IF('4 - Payroll reduction'!H398=\"Table 2\",'4 - Payroll reduction'!E398,\"\"))","v":""},{"$f":"IF('4 - Payroll reduction'!C398=\"Name\",\"\",IF('4 - Payroll reduction'!H398=\"Table 2\",'4 - Payroll reduction'!G398,\"\"))","v":""},null,308]
[{"$f":"IF('4 - Payroll reduction'!C399=\"Name\",\"\",IF('4 - Payroll reduction'!H399=\"Table 2\",'4 - Payroll reduction'!C399,\"\"))","v":""},{"$f":"IF('4 - Payroll reduction'!C399=\"Name\",\"\",IF('4 - Payroll reduction'!H399=\"Table 2\",'4 - Payroll reduction'!D399,\"\"))","v":""},{"$f":"IF('4 - Payroll reduction'!C399=\"Name\",\"\",IF('4 - Payroll reduction'!H399=\"Table 2\",'4 - Payroll reduction'!E399,\"\"))","v":""},{"$f":"IF('4 - Payroll reduction'!C399=\"Name\",\"\",IF('4 - Payroll reduction'!H399=\"Table 2\",'4 - Payroll reduction'!G399,\"\"))","v":""},null,309]
[{"$f":"IF('4 - Payroll reduction'!C400=\"Name\",\"\",IF('4 - Payroll reduction'!H400=\"Table 2\",'4 - Payroll reduction'!C400,\"\"))","v":""},{"$f":"IF('4 - Payroll reduction'!C400=\"Name\",\"\",IF('4 - Payroll reduction'!H400=\"Table 2\",'4 - Payroll reduction'!D400,\"\"))","v":""},{"$f":"IF('4 - Payroll reduction'!C400=\"Name\",\"\",IF('4 - Payroll reduction'!H400=\"Table 2\",'4 - Payroll reduction'!E400,\"\"))","v":""},{"$f":"IF('4 - Payroll reduction'!C400=\"Name\",\"\",IF('4 - Payroll reduction'!H400=\"Table 2\",'4 - Payroll reduction'!G400,\"\"))","v":""},null,310]
[{"$f":"IF('4 - Payroll reduction'!C401=\"Name\",\"\",IF('4 - Payroll reduction'!H401=\"Table 2\",'4 - Payroll reduction'!C401,\"\"))","v":""},{"$f":"IF('4 - Payroll reduction'!C401=\"Name\",\"\",IF('4 - Payroll reduction'!H401=\"Table 2\",'4 - Payroll reduction'!D401,\"\"))","v":""},{"$f":"IF('4 - Payroll reduction'!C401=\"Name\",\"\",IF('4 - Payroll reduction'!H401=\"Table 2\",'4 - Payroll reduction'!E401,\"\"))","v":""},{"$f":"IF('4 - Payroll reduction'!C401=\"Name\",\"\",IF('4 - Payroll reduction'!H401=\"Table 2\",'4 - Payroll reduction'!G401,\"\"))","v":""},null,311]
[{"$f":"IF('4 - Payroll reduction'!C402=\"Name\",\"\",IF('4 - Payroll reduction'!H402=\"Table 2\",'4 - Payroll reduction'!C402,\"\"))","v":""},{"$f":"IF('4 - Payroll reduction'!C402=\"Name\",\"\",IF('4 - Payroll reduction'!H402=\"Table 2\",'4 - Payroll reduction'!D402,\"\"))","v":""},{"$f":"IF('4 - Payroll reduction'!C402=\"Name\",\"\",IF('4 - Payroll reduction'!H402=\"Table 2\",'4 - Payroll reduction'!E402,\"\"))","v":""},{"$f":"IF('4 - Payroll reduction'!C402=\"Name\",\"\",IF('4 - Payroll reduction'!H402=\"Table 2\",'4 - Payroll reduction'!G402,\"\"))","v":""},null,312]
[{"$f":"IF('4 - Payroll reduction'!C403=\"Name\",\"\",IF('4 - Payroll reduction'!H403=\"Table 2\",'4 - Payroll reduction'!C403,\"\"))","v":""},{"$f":"IF('4 - Payroll reduction'!C403=\"Name\",\"\",IF('4 - Payroll reduction'!H403=\"Table 2\",'4 - Payroll reduction'!D403,\"\"))","v":""},{"$f":"IF('4 - Payroll reduction'!C403=\"Name\",\"\",IF('4 - Payroll reduction'!H403=\"Table 2\",'4 - Payroll reduction'!E403,\"\"))","v":""},{"$f":"IF('4 - Payroll reduction'!C403=\"Name\",\"\",IF('4 - Payroll reduction'!H403=\"Table 2\",'4 - Payroll reduction'!G403,\"\"))","v":""},null,313]
[{"$f":"IF('4 - Payroll reduction'!C404=\"Name\",\"\",IF('4 - Payroll reduction'!H404=\"Table 2\",'4 - Payroll reduction'!C404,\"\"))","v":""},{"$f":"IF('4 - Payroll reduction'!C404=\"Name\",\"\",IF('4 - Payroll reduction'!H404=\"Table 2\",'4 - Payroll reduction'!D404,\"\"))","v":""},{"$f":"IF('4 - Payroll reduction'!C404=\"Name\",\"\",IF('4 - Payroll reduction'!H404=\"Table 2\",'4 - Payroll reduction'!E404,\"\"))","v":""},{"$f":"IF('4 - Payroll reduction'!C404=\"Name\",\"\",IF('4 - Payroll reduction'!H404=\"Table 2\",'4 - Payroll reduction'!G404,\"\"))","v":""},null,314]
[{"$f":"IF('4 - Payroll reduction'!C405=\"Name\",\"\",IF('4 - Payroll reduction'!H405=\"Table 2\",'4 - Payroll reduction'!C405,\"\"))","v":""},{"$f":"IF('4 - Payroll reduction'!C405=\"Name\",\"\",IF('4 - Payroll reduction'!H405=\"Table 2\",'4 - Payroll reduction'!D405,\"\"))","v":""},{"$f":"IF('4 - Payroll reduction'!C405=\"Name\",\"\",IF('4 - Payroll reduction'!H405=\"Table 2\",'4 - Payroll reduction'!E405,\"\"))","v":""},{"$f":"IF('4 - Payroll reduction'!C405=\"Name\",\"\",IF('4 - Payroll reduction'!H405=\"Table 2\",'4 - Payroll reduction'!G405,\"\"))","v":""},null,315]
[{"$f":"IF('4 - Payroll reduction'!C406=\"Name\",\"\",IF('4 - Payroll reduction'!H406=\"Table 2\",'4 - Payroll reduction'!C406,\"\"))","v":""},{"$f":"IF('4 - Payroll reduction'!C406=\"Name\",\"\",IF('4 - Payroll reduction'!H406=\"Table 2\",'4 - Payroll reduction'!D406,\"\"))","v":""},{"$f":"IF('4 - Payroll reduction'!C406=\"Name\",\"\",IF('4 - Payroll reduction'!H406=\"Table 2\",'4 - Payroll reduction'!E406,\"\"))","v":""},{"$f":"IF('4 - Payroll reduction'!C406=\"Name\",\"\",IF('4 - Payroll reduction'!H406=\"Table 2\",'4 - Payroll reduction'!G406,\"\"))","v":""},null,316]
[{"$f":"IF('4 - Payroll reduction'!C407=\"Name\",\"\",IF('4 - Payroll reduction'!H407=\"Table 2\",'4 - Payroll reduction'!C407,\"\"))","v":""},{"$f":"IF('4 - Payroll reduction'!C407=\"Name\",\"\",IF('4 - Payroll reduction'!H407=\"Table 2\",'4 - Payroll reduction'!D407,\"\"))","v":""},{"$f":"IF('4 - Payroll reduction'!C407=\"Name\",\"\",IF('4 - Payroll reduction'!H407=\"Table 2\",'4 - Payroll reduction'!E407,\"\"))","v":""},{"$f":"IF('4 - Payroll reduction'!C407=\"Name\",\"\",IF('4 - Payroll reduction'!H407=\"Table 2\",'4 - Payroll reduction'!G407,\"\"))","v":""},null,317]
[{"$f":"IF('4 - Payroll reduction'!C408=\"Name\",\"\",IF('4 - Payroll reduction'!H408=\"Table 2\",'4 - Payroll reduction'!C408,\"\"))","v":""},{"$f":"IF('4 - Payroll reduction'!C408=\"Name\",\"\",IF('4 - Payroll reduction'!H408=\"Table 2\",'4 - Payroll reduction'!D408,\"\"))","v":""},{"$f":"IF('4 - Payroll reduction'!C408=\"Name\",\"\",IF('4 - Payroll reduction'!H408=\"Table 2\",'4 - Payroll reduction'!E408,\"\"))","v":""},{"$f":"IF('4 - Payroll reduction'!C408=\"Name\",\"\",IF('4 - Payroll reduction'!H408=\"Table 2\",'4 - Payroll reduction'!G408,\"\"))","v":""},null,318]
[{"$f":"IF('4 - Payroll reduction'!C409=\"Name\",\"\",IF('4 - Payroll reduction'!H409=\"Table 2\",'4 - Payroll reduction'!C409,\"\"))","v":""},{"$f":"IF('4 - Payroll reduction'!C409=\"Name\",\"\",IF('4 - Payroll reduction'!H409=\"Table 2\",'4 - Payroll reduction'!D409,\"\"))","v":""},{"$f":"IF('4 - Payroll reduction'!C409=\"Name\",\"\",IF('4 - Payroll reduction'!H409=\"Table 2\",'4 - Payroll reduction'!E409,\"\"))","v":""},{"$f":"IF('4 - Payroll reduction'!C409=\"Name\",\"\",IF('4 - Payroll reduction'!H409=\"Table 2\",'4 - Payroll reduction'!G409,\"\"))","v":""},null,319]
[{"$f":"IF('4 - Payroll reduction'!C410=\"Name\",\"\",IF('4 - Payroll reduction'!H410=\"Table 2\",'4 - Payroll reduction'!C410,\"\"))","v":""},{"$f":"IF('4 - Payroll reduction'!C410=\"Name\",\"\",IF('4 - Payroll reduction'!H410=\"Table 2\",'4 - Payroll reduction'!D410,\"\"))","v":""},{"$f":"IF('4 - Payroll reduction'!C410=\"Name\",\"\",IF('4 - Payroll reduction'!H410=\"Table 2\",'4 - Payroll reduction'!E410,\"\"))","v":""},{"$f":"IF('4 - Payroll reduction'!C410=\"Name\",\"\",IF('4 - Payroll reduction'!H410=\"Table 2\",'4 - Payroll reduction'!G410,\"\"))","v":""},null,320]
[{"$f":"IF('4 - Payroll reduction'!C411=\"Name\",\"\",IF('4 - Payroll reduction'!H411=\"Table 2\",'4 - Payroll reduction'!C411,\"\"))","v":""},{"$f":"IF('4 - Payroll reduction'!C411=\"Name\",\"\",IF('4 - Payroll reduction'!H411=\"Table 2\",'4 - Payroll reduction'!D411,\"\"))","v":""},{"$f":"IF('4 - Payroll reduction'!C411=\"Name\",\"\",IF('4 - Payroll reduction'!H411=\"Table 2\",'4 - Payroll reduction'!E411,\"\"))","v":""},{"$f":"IF('4 - Payroll reduction'!C411=\"Name\",\"\",IF('4 - Payroll reduction'!H411=\"Table 2\",'4 - Payroll reduction'!G411,\"\"))","v":""},null,321]
[{"$f":"IF('4 - Payroll reduction'!C412=\"Name\",\"\",IF('4 - Payroll reduction'!H412=\"Table 2\",'4 - Payroll reduction'!C412,\"\"))","v":""},{"$f":"IF('4 - Payroll reduction'!C412=\"Name\",\"\",IF('4 - Payroll reduction'!H412=\"Table 2\",'4 - Payroll reduction'!D412,\"\"))","v":""},{"$f":"IF('4 - Payroll reduction'!C412=\"Name\",\"\",IF('4 - Payroll reduction'!H412=\"Table 2\",'4 - Payroll reduction'!E412,\"\"))","v":""},{"$f":"IF('4 - Payroll reduction'!C412=\"Name\",\"\",IF('4 - Payroll reduction'!H412=\"Table 2\",'4 - Payroll reduction'!G412,\"\"))","v":""},null,322]
[{"$f":"IF('4 - Payroll reduction'!C413=\"Name\",\"\",IF('4 - Payroll reduction'!H413=\"Table 2\",'4 - Payroll reduction'!C413,\"\"))","v":""},{"$f":"IF('4 - Payroll reduction'!C413=\"Name\",\"\",IF('4 - Payroll reduction'!H413=\"Table 2\",'4 - Payroll reduction'!D413,\"\"))","v":""},{"$f":"IF('4 - Payroll reduction'!C413=\"Name\",\"\",IF('4 - Payroll reduction'!H413=\"Table 2\",'4 - Payroll reduction'!E413,\"\"))","v":""},{"$f":"IF('4 - Payroll reduction'!C413=\"Name\",\"\",IF('4 - Payroll reduction'!H413=\"Table 2\",'4 - Payroll reduction'!G413,\"\"))","v":""},null,323]
[{"$f":"IF('4 - Payroll reduction'!C414=\"Name\",\"\",IF('4 - Payroll reduction'!H414=\"Table 2\",'4 - Payroll reduction'!C414,\"\"))","v":""},{"$f":"IF('4 - Payroll reduction'!C414=\"Name\",\"\",IF('4 - Payroll reduction'!H414=\"Table 2\",'4 - Payroll reduction'!D414,\"\"))","v":""},{"$f":"IF('4 - Payroll reduction'!C414=\"Name\",\"\",IF('4 - Payroll reduction'!H414=\"Table 2\",'4 - Payroll reduction'!E414,\"\"))","v":""},{"$f":"IF('4 - Payroll reduction'!C414=\"Name\",\"\",IF('4 - Payroll reduction'!H414=\"Table 2\",'4 - Payroll reduction'!G414,\"\"))","v":""},null,{"$f":"F837+1","v":324}]
[{"$f":"IF('4 - Payroll reduction'!C415=\"Name\",\"\",IF('4 - Payroll reduction'!H415=\"Table 2\",'4 - Payroll reduction'!C415,\"\"))","v":""},{"$f":"IF('4 - Payroll reduction'!C415=\"Name\",\"\",IF('4 - Payroll reduction'!H415=\"Table 2\",'4 - Payroll reduction'!D415,\"\"))","v":""},{"$f":"IF('4 - Payroll reduction'!C415=\"Name\",\"\",IF('4 - Payroll reduction'!H415=\"Table 2\",'4 - Payroll reduction'!E415,\"\"))","v":""},{"$f":"IF('4 - Payroll reduction'!C415=\"Name\",\"\",IF('4 - Payroll reduction'!H415=\"Table 2\",'4 - Payroll reduction'!G415,\"\"))","v":""},null,325]
[{"$f":"IF('4 - Payroll reduction'!C416=\"Name\",\"\",IF('4 - Payroll reduction'!H416=\"Table 2\",'4 - Payroll reduction'!C416,\"\"))","v":""},{"$f":"IF('4 - Payroll reduction'!C416=\"Name\",\"\",IF('4 - Payroll reduction'!H416=\"Table 2\",'4 - Payroll reduction'!D416,\"\"))","v":""},{"$f":"IF('4 - Payroll reduction'!C416=\"Name\",\"\",IF('4 - Payroll reduction'!H416=\"Table 2\",'4 - Payroll reduction'!E416,\"\"))","v":""},{"$f":"IF('4 - Payroll reduction'!C416=\"Name\",\"\",IF('4 - Payroll reduction'!H416=\"Table 2\",'4 - Payroll reduction'!G416,\"\"))","v":""},null,326]
[{"$f":"IF('4 - Payroll reduction'!C417=\"Name\",\"\",IF('4 - Payroll reduction'!H417=\"Table 2\",'4 - Payroll reduction'!C417,\"\"))","v":""},{"$f":"IF('4 - Payroll reduction'!C417=\"Name\",\"\",IF('4 - Payroll reduction'!H417=\"Table 2\",'4 - Payroll reduction'!D417,\"\"))","v":""},{"$f":"IF('4 - Payroll reduction'!C417=\"Name\",\"\",IF('4 - Payroll reduction'!H417=\"Table 2\",'4 - Payroll reduction'!E417,\"\"))","v":""},{"$f":"IF('4 - Payroll reduction'!C417=\"Name\",\"\",IF('4 - Payroll reduction'!H417=\"Table 2\",'4 - Payroll reduction'!G417,\"\"))","v":""},null,327]
[{"$f":"IF('4 - Payroll reduction'!C418=\"Name\",\"\",IF('4 - Payroll reduction'!H418=\"Table 2\",'4 - Payroll reduction'!C418,\"\"))","v":""},{"$f":"IF('4 - Payroll reduction'!C418=\"Name\",\"\",IF('4 - Payroll reduction'!H418=\"Table 2\",'4 - Payroll reduction'!D418,\"\"))","v":""},{"$f":"IF('4 - Payroll reduction'!C418=\"Name\",\"\",IF('4 - Payroll reduction'!H418=\"Table 2\",'4 - Payroll reduction'!E418,\"\"))","v":""},{"$f":"IF('4 - Payroll reduction'!C418=\"Name\",\"\",IF('4 - Payroll reduction'!H418=\"Table 2\",'4 - Payroll reduction'!G418,\"\"))","v":""},null,328]
[{"$f":"IF('4 - Payroll reduction'!C419=\"Name\",\"\",IF('4 - Payroll reduction'!H419=\"Table 2\",'4 - Payroll reduction'!C419,\"\"))","v":""},{"$f":"IF('4 - Payroll reduction'!C419=\"Name\",\"\",IF('4 - Payroll reduction'!H419=\"Table 2\",'4 - Payroll reduction'!D419,\"\"))","v":""},{"$f":"IF('4 - Payroll reduction'!C419=\"Name\",\"\",IF('4 - Payroll reduction'!H419=\"Table 2\",'4 - Payroll reduction'!E419,\"\"))","v":""},{"$f":"IF('4 - Payroll reduction'!C419=\"Name\",\"\",IF('4 - Payroll reduction'!H419=\"Table 2\",'4 - Payroll reduction'!G419,\"\"))","v":""},null,329]
[{"$f":"IF('4 - Payroll reduction'!C420=\"Name\",\"\",IF('4 - Payroll reduction'!H420=\"Table 2\",'4 - Payroll reduction'!C420,\"\"))","v":""},{"$f":"IF('4 - Payroll reduction'!C420=\"Name\",\"\",IF('4 - Payroll reduction'!H420=\"Table 2\",'4 - Payroll reduction'!D420,\"\"))","v":""},{"$f":"IF('4 - Payroll reduction'!C420=\"Name\",\"\",IF('4 - Payroll reduction'!H420=\"Table 2\",'4 - Payroll reduction'!E420,\"\"))","v":""},{"$f":"IF('4 - Payroll reduction'!C420=\"Name\",\"\",IF('4 - Payroll reduction'!H420=\"Table 2\",'4 - Payroll reduction'!G420,\"\"))","v":""},null,330]
[{"$f":"IF('4 - Payroll reduction'!C421=\"Name\",\"\",IF('4 - Payroll reduction'!H421=\"Table 2\",'4 - Payroll reduction'!C421,\"\"))","v":""},{"$f":"IF('4 - Payroll reduction'!C421=\"Name\",\"\",IF('4 - Payroll reduction'!H421=\"Table 2\",'4 - Payroll reduction'!D421,\"\"))","v":""},{"$f":"IF('4 - Payroll reduction'!C421=\"Name\",\"\",IF('4 - Payroll reduction'!H421=\"Table 2\",'4 - Payroll reduction'!E421,\"\"))","v":""},{"$f":"IF('4 - Payroll reduction'!C421=\"Name\",\"\",IF('4 - Payroll reduction'!H421=\"Table 2\",'4 - Payroll reduction'!G421,\"\"))","v":""},null,331]
[{"$f":"IF('4 - Payroll reduction'!C422=\"Name\",\"\",IF('4 - Payroll reduction'!H422=\"Table 2\",'4 - Payroll reduction'!C422,\"\"))","v":""},{"$f":"IF('4 - Payroll reduction'!C422=\"Name\",\"\",IF('4 - Payroll reduction'!H422=\"Table 2\",'4 - Payroll reduction'!D422,\"\"))","v":""},{"$f":"IF('4 - Payroll reduction'!C422=\"Name\",\"\",IF('4 - Payroll reduction'!H422=\"Table 2\",'4 - Payroll reduction'!E422,\"\"))","v":""},{"$f":"IF('4 - Payroll reduction'!C422=\"Name\",\"\",IF('4 - Payroll reduction'!H422=\"Table 2\",'4 - Payroll reduction'!G422,\"\"))","v":""},null,332]
[{"$f":"IF('4 - Payroll reduction'!C423=\"Name\",\"\",IF('4 - Payroll reduction'!H423=\"Table 2\",'4 - Payroll reduction'!C423,\"\"))","v":""},{"$f":"IF('4 - Payroll reduction'!C423=\"Name\",\"\",IF('4 - Payroll reduction'!H423=\"Table 2\",'4 - Payroll reduction'!D423,\"\"))","v":""},{"$f":"IF('4 - Payroll reduction'!C423=\"Name\",\"\",IF('4 - Payroll reduction'!H423=\"Table 2\",'4 - Payroll reduction'!E423,\"\"))","v":""},{"$f":"IF('4 - Payroll reduction'!C423=\"Name\",\"\",IF('4 - Payroll reduction'!H423=\"Table 2\",'4 - Payroll reduction'!G423,\"\"))","v":""},null,333]
[{"$f":"IF('4 - Payroll reduction'!C424=\"Name\",\"\",IF('4 - Payroll reduction'!H424=\"Table 2\",'4 - Payroll reduction'!C424,\"\"))","v":""},{"$f":"IF('4 - Payroll reduction'!C424=\"Name\",\"\",IF('4 - Payroll reduction'!H424=\"Table 2\",'4 - Payroll reduction'!D424,\"\"))","v":""},{"$f":"IF('4 - Payroll reduction'!C424=\"Name\",\"\",IF('4 - Payroll reduction'!H424=\"Table 2\",'4 - Payroll reduction'!E424,\"\"))","v":""},{"$f":"IF('4 - Payroll reduction'!C424=\"Name\",\"\",IF('4 - Payroll reduction'!H424=\"Table 2\",'4 - Payroll reduction'!G424,\"\"))","v":""},null,334]
[{"$f":"IF('4 - Payroll reduction'!C425=\"Name\",\"\",IF('4 - Payroll reduction'!H425=\"Table 2\",'4 - Payroll reduction'!C425,\"\"))","v":""},{"$f":"IF('4 - Payroll reduction'!C425=\"Name\",\"\",IF('4 - Payroll reduction'!H425=\"Table 2\",'4 - Payroll reduction'!D425,\"\"))","v":""},{"$f":"IF('4 - Payroll reduction'!C425=\"Name\",\"\",IF('4 - Payroll reduction'!H425=\"Table 2\",'4 - Payroll reduction'!E425,\"\"))","v":""},{"$f":"IF('4 - Payroll reduction'!C425=\"Name\",\"\",IF('4 - Payroll reduction'!H425=\"Table 2\",'4 - Payroll reduction'!G425,\"\"))","v":""},null,335]
[{"$f":"IF('4 - Payroll reduction'!C426=\"Name\",\"\",IF('4 - Payroll reduction'!H426=\"Table 2\",'4 - Payroll reduction'!C426,\"\"))","v":""},{"$f":"IF('4 - Payroll reduction'!C426=\"Name\",\"\",IF('4 - Payroll reduction'!H426=\"Table 2\",'4 - Payroll reduction'!D426,\"\"))","v":""},{"$f":"IF('4 - Payroll reduction'!C426=\"Name\",\"\",IF('4 - Payroll reduction'!H426=\"Table 2\",'4 - Payroll reduction'!E426,\"\"))","v":""},{"$f":"IF('4 - Payroll reduction'!C426=\"Name\",\"\",IF('4 - Payroll reduction'!H426=\"Table 2\",'4 - Payroll reduction'!G426,\"\"))","v":""},null,336]
[{"$f":"IF('4 - Payroll reduction'!C427=\"Name\",\"\",IF('4 - Payroll reduction'!H427=\"Table 2\",'4 - Payroll reduction'!C427,\"\"))","v":""},{"$f":"IF('4 - Payroll reduction'!C427=\"Name\",\"\",IF('4 - Payroll reduction'!H427=\"Table 2\",'4 - Payroll reduction'!D427,\"\"))","v":""},{"$f":"IF('4 - Payroll reduction'!C427=\"Name\",\"\",IF('4 - Payroll reduction'!H427=\"Table 2\",'4 - Payroll reduction'!E427,\"\"))","v":""},{"$f":"IF('4 - Payroll reduction'!C427=\"Name\",\"\",IF('4 - Payroll reduction'!H427=\"Table 2\",'4 - Payroll reduction'!G427,\"\"))","v":""},null,337]
[{"$f":"IF('4 - Payroll reduction'!C428=\"Name\",\"\",IF('4 - Payroll reduction'!H428=\"Table 2\",'4 - Payroll reduction'!C428,\"\"))","v":""},{"$f":"IF('4 - Payroll reduction'!C428=\"Name\",\"\",IF('4 - Payroll reduction'!H428=\"Table 2\",'4 - Payroll reduction'!D428,\"\"))","v":""},{"$f":"IF('4 - Payroll reduction'!C428=\"Name\",\"\",IF('4 - Payroll reduction'!H428=\"Table 2\",'4 - Payroll reduction'!E428,\"\"))","v":""},{"$f":"IF('4 - Payroll reduction'!C428=\"Name\",\"\",IF('4 - Payroll reduction'!H428=\"Table 2\",'4 - Payroll reduction'!G428,\"\"))","v":""},null,338]
[{"$f":"IF('4 - Payroll reduction'!C429=\"Name\",\"\",IF('4 - Payroll reduction'!H429=\"Table 2\",'4 - Payroll reduction'!C429,\"\"))","v":""},{"$f":"IF('4 - Payroll reduction'!C429=\"Name\",\"\",IF('4 - Payroll reduction'!H429=\"Table 2\",'4 - Payroll reduction'!D429,\"\"))","v":""},{"$f":"IF('4 - Payroll reduction'!C429=\"Name\",\"\",IF('4 - Payroll reduction'!H429=\"Table 2\",'4 - Payroll reduction'!E429,\"\"))","v":""},{"$f":"IF('4 - Payroll reduction'!C429=\"Name\",\"\",IF('4 - Payroll reduction'!H429=\"Table 2\",'4 - Payroll reduction'!G429,\"\"))","v":""},null,339]
[{"$f":"IF('4 - Payroll reduction'!C430=\"Name\",\"\",IF('4 - Payroll reduction'!H430=\"Table 2\",'4 - Payroll reduction'!C430,\"\"))","v":""},{"$f":"IF('4 - Payroll reduction'!C430=\"Name\",\"\",IF('4 - Payroll reduction'!H430=\"Table 2\",'4 - Payroll reduction'!D430,\"\"))","v":""},{"$f":"IF('4 - Payroll reduction'!C430=\"Name\",\"\",IF('4 - Payroll reduction'!H430=\"Table 2\",'4 - Payroll reduction'!E430,\"\"))","v":""},{"$f":"IF('4 - Payroll reduction'!C430=\"Name\",\"\",IF('4 - Payroll reduction'!H430=\"Table 2\",'4 - Payroll reduction'!G430,\"\"))","v":""},null,340]
[{"$f":"IF('4 - Payroll reduction'!C431=\"Name\",\"\",IF('4 - Payroll reduction'!H431=\"Table 2\",'4 - Payroll reduction'!C431,\"\"))","v":""},{"$f":"IF('4 - Payroll reduction'!C431=\"Name\",\"\",IF('4 - Payroll reduction'!H431=\"Table 2\",'4 - Payroll reduction'!D431,\"\"))","v":""},{"$f":"IF('4 - Payroll reduction'!C431=\"Name\",\"\",IF('4 - Payroll reduction'!H431=\"Table 2\",'4 - Payroll reduction'!E431,\"\"))","v":""},{"$f":"IF('4 - Payroll reduction'!C431=\"Name\",\"\",IF('4 - Payroll reduction'!H431=\"Table 2\",'4 - Payroll reduction'!G431,\"\"))","v":""},null,341]
[{"$f":"IF('4 - Payroll reduction'!C432=\"Name\",\"\",IF('4 - Payroll reduction'!H432=\"Table 2\",'4 - Payroll reduction'!C432,\"\"))","v":""},{"$f":"IF('4 - Payroll reduction'!C432=\"Name\",\"\",IF('4 - Payroll reduction'!H432=\"Table 2\",'4 - Payroll reduction'!D432,\"\"))","v":""},{"$f":"IF('4 - Payroll reduction'!C432=\"Name\",\"\",IF('4 - Payroll reduction'!H432=\"Table 2\",'4 - Payroll reduction'!E432,\"\"))","v":""},{"$f":"IF('4 - Payroll reduction'!C432=\"Name\",\"\",IF('4 - Payroll reduction'!H432=\"Table 2\",'4 - Payroll reduction'!G432,\"\"))","v":""},null,342]
[{"$f":"IF('4 - Payroll reduction'!C433=\"Name\",\"\",IF('4 - Payroll reduction'!H433=\"Table 2\",'4 - Payroll reduction'!C433,\"\"))","v":""},{"$f":"IF('4 - Payroll reduction'!C433=\"Name\",\"\",IF('4 - Payroll reduction'!H433=\"Table 2\",'4 - Payroll reduction'!D433,\"\"))","v":""},{"$f":"IF('4 - Payroll reduction'!C433=\"Name\",\"\",IF('4 - Payroll reduction'!H433=\"Table 2\",'4 - Payroll reduction'!E433,\"\"))","v":""},{"$f":"IF('4 - Payroll reduction'!C433=\"Name\",\"\",IF('4 - Payroll reduction'!H433=\"Table 2\",'4 - Payroll reduction'!G433,\"\"))","v":""},null,343]
[{"$f":"IF('4 - Payroll reduction'!C434=\"Name\",\"\",IF('4 - Payroll reduction'!H434=\"Table 2\",'4 - Payroll reduction'!C434,\"\"))","v":""},{"$f":"IF('4 - Payroll reduction'!C434=\"Name\",\"\",IF('4 - Payroll reduction'!H434=\"Table 2\",'4 - Payroll reduction'!D434,\"\"))","v":""},{"$f":"IF('4 - Payroll reduction'!C434=\"Name\",\"\",IF('4 - Payroll reduction'!H434=\"Table 2\",'4 - Payroll reduction'!E434,\"\"))","v":""},{"$f":"IF('4 - Payroll reduction'!C434=\"Name\",\"\",IF('4 - Payroll reduction'!H434=\"Table 2\",'4 - Payroll reduction'!G434,\"\"))","v":""},null,344]
[{"$f":"IF('4 - Payroll reduction'!C435=\"Name\",\"\",IF('4 - Payroll reduction'!H435=\"Table 2\",'4 - Payroll reduction'!C435,\"\"))","v":""},{"$f":"IF('4 - Payroll reduction'!C435=\"Name\",\"\",IF('4 - Payroll reduction'!H435=\"Table 2\",'4 - Payroll reduction'!D435,\"\"))","v":""},{"$f":"IF('4 - Payroll reduction'!C435=\"Name\",\"\",IF('4 - Payroll reduction'!H435=\"Table 2\",'4 - Payroll reduction'!E435,\"\"))","v":""},{"$f":"IF('4 - Payroll reduction'!C435=\"Name\",\"\",IF('4 - Payroll reduction'!H435=\"Table 2\",'4 - Payroll reduction'!G435,\"\"))","v":""},null,345]
[{"$f":"IF('4 - Payroll reduction'!C436=\"Name\",\"\",IF('4 - Payroll reduction'!H436=\"Table 2\",'4 - Payroll reduction'!C436,\"\"))","v":""},{"$f":"IF('4 - Payroll reduction'!C436=\"Name\",\"\",IF('4 - Payroll reduction'!H436=\"Table 2\",'4 - Payroll reduction'!D436,\"\"))","v":""},{"$f":"IF('4 - Payroll reduction'!C436=\"Name\",\"\",IF('4 - Payroll reduction'!H436=\"Table 2\",'4 - Payroll reduction'!E436,\"\"))","v":""},{"$f":"IF('4 - Payroll reduction'!C436=\"Name\",\"\",IF('4 - Payroll reduction'!H436=\"Table 2\",'4 - Payroll reduction'!G436,\"\"))","v":""},null,346]
[{"$f":"IF('4 - Payroll reduction'!C437=\"Name\",\"\",IF('4 - Payroll reduction'!H437=\"Table 2\",'4 - Payroll reduction'!C437,\"\"))","v":""},{"$f":"IF('4 - Payroll reduction'!C437=\"Name\",\"\",IF('4 - Payroll reduction'!H437=\"Table 2\",'4 - Payroll reduction'!D437,\"\"))","v":""},{"$f":"IF('4 - Payroll reduction'!C437=\"Name\",\"\",IF('4 - Payroll reduction'!H437=\"Table 2\",'4 - Payroll reduction'!E437,\"\"))","v":""},{"$f":"IF('4 - Payroll reduction'!C437=\"Name\",\"\",IF('4 - Payroll reduction'!H437=\"Table 2\",'4 - Payroll reduction'!G437,\"\"))","v":""},null,347]
[{"$f":"IF('4 - Payroll reduction'!C438=\"Name\",\"\",IF('4 - Payroll reduction'!H438=\"Table 2\",'4 - Payroll reduction'!C438,\"\"))","v":""},{"$f":"IF('4 - Payroll reduction'!C438=\"Name\",\"\",IF('4 - Payroll reduction'!H438=\"Table 2\",'4 - Payroll reduction'!D438,\"\"))","v":""},{"$f":"IF('4 - Payroll reduction'!C438=\"Name\",\"\",IF('4 - Payroll reduction'!H438=\"Table 2\",'4 - Payroll reduction'!E438,\"\"))","v":""},{"$f":"IF('4 - Payroll reduction'!C438=\"Name\",\"\",IF('4 - Payroll reduction'!H438=\"Table 2\",'4 - Payroll reduction'!G438,\"\"))","v":""},null,348]
[{"$f":"IF('4 - Payroll reduction'!C439=\"Name\",\"\",IF('4 - Payroll reduction'!H439=\"Table 2\",'4 - Payroll reduction'!C439,\"\"))","v":""},{"$f":"IF('4 - Payroll reduction'!C439=\"Name\",\"\",IF('4 - Payroll reduction'!H439=\"Table 2\",'4 - Payroll reduction'!D439,\"\"))","v":""},{"$f":"IF('4 - Payroll reduction'!C439=\"Name\",\"\",IF('4 - Payroll reduction'!H439=\"Table 2\",'4 - Payroll reduction'!E439,\"\"))","v":""},{"$f":"IF('4 - Payroll reduction'!C439=\"Name\",\"\",IF('4 - Payroll reduction'!H439=\"Table 2\",'4 - Payroll reduction'!G439,\"\"))","v":""},null,349]
[{"$f":"IF('4 - Payroll reduction'!C440=\"Name\",\"\",IF('4 - Payroll reduction'!H440=\"Table 2\",'4 - Payroll reduction'!C440,\"\"))","v":""},{"$f":"IF('4 - Payroll reduction'!C440=\"Name\",\"\",IF('4 - Payroll reduction'!H440=\"Table 2\",'4 - Payroll reduction'!D440,\"\"))","v":""},{"$f":"IF('4 - Payroll reduction'!C440=\"Name\",\"\",IF('4 - Payroll reduction'!H440=\"Table 2\",'4 - Payroll reduction'!E440,\"\"))","v":""},{"$f":"IF('4 - Payroll reduction'!C440=\"Name\",\"\",IF('4 - Payroll reduction'!H440=\"Table 2\",'4 - Payroll reduction'!G440,\"\"))","v":""},null,350]
[{"$f":"IF('4 - Payroll reduction'!C441=\"Name\",\"\",IF('4 - Payroll reduction'!H441=\"Table 2\",'4 - Payroll reduction'!C441,\"\"))","v":""},{"$f":"IF('4 - Payroll reduction'!C441=\"Name\",\"\",IF('4 - Payroll reduction'!H441=\"Table 2\",'4 - Payroll reduction'!D441,\"\"))","v":""},{"$f":"IF('4 - Payroll reduction'!C441=\"Name\",\"\",IF('4 - Payroll reduction'!H441=\"Table 2\",'4 - Payroll reduction'!E441,\"\"))","v":""},{"$f":"IF('4 - Payroll reduction'!C441=\"Name\",\"\",IF('4 - Payroll reduction'!H441=\"Table 2\",'4 - Payroll reduction'!G441,\"\"))","v":""},null,351]
[{"$f":"IF('4 - Payroll reduction'!C442=\"Name\",\"\",IF('4 - Payroll reduction'!H442=\"Table 2\",'4 - Payroll reduction'!C442,\"\"))","v":""},{"$f":"IF('4 - Payroll reduction'!C442=\"Name\",\"\",IF('4 - Payroll reduction'!H442=\"Table 2\",'4 - Payroll reduction'!D442,\"\"))","v":""},{"$f":"IF('4 - Payroll reduction'!C442=\"Name\",\"\",IF('4 - Payroll reduction'!H442=\"Table 2\",'4 - Payroll reduction'!E442,\"\"))","v":""},{"$f":"IF('4 - Payroll reduction'!C442=\"Name\",\"\",IF('4 - Payroll reduction'!H442=\"Table 2\",'4 - Payroll reduction'!G442,\"\"))","v":""},null,352]
[{"$f":"IF('4 - Payroll reduction'!C443=\"Name\",\"\",IF('4 - Payroll reduction'!H443=\"Table 2\",'4 - Payroll reduction'!C443,\"\"))","v":""},{"$f":"IF('4 - Payroll reduction'!C443=\"Name\",\"\",IF('4 - Payroll reduction'!H443=\"Table 2\",'4 - Payroll reduction'!D443,\"\"))","v":""},{"$f":"IF('4 - Payroll reduction'!C443=\"Name\",\"\",IF('4 - Payroll reduction'!H443=\"Table 2\",'4 - Payroll reduction'!E443,\"\"))","v":""},{"$f":"IF('4 - Payroll reduction'!C443=\"Name\",\"\",IF('4 - Payroll reduction'!H443=\"Table 2\",'4 - Payroll reduction'!G443,\"\"))","v":""},null,353]
[{"$f":"IF('4 - Payroll reduction'!C444=\"Name\",\"\",IF('4 - Payroll reduction'!H444=\"Table 2\",'4 - Payroll reduction'!C444,\"\"))","v":""},{"$f":"IF('4 - Payroll reduction'!C444=\"Name\",\"\",IF('4 - Payroll reduction'!H444=\"Table 2\",'4 - Payroll reduction'!D444,\"\"))","v":""},{"$f":"IF('4 - Payroll reduction'!C444=\"Name\",\"\",IF('4 - Payroll reduction'!H444=\"Table 2\",'4 - Payroll reduction'!E444,\"\"))","v":""},{"$f":"IF('4 - Payroll reduction'!C444=\"Name\",\"\",IF('4 - Payroll reduction'!H444=\"Table 2\",'4 - Payroll reduction'!G444,\"\"))","v":""},null,354]
[{"$f":"IF('4 - Payroll reduction'!C445=\"Name\",\"\",IF('4 - Payroll reduction'!H445=\"Table 2\",'4 - Payroll reduction'!C445,\"\"))","v":""},{"$f":"IF('4 - Payroll reduction'!C445=\"Name\",\"\",IF('4 - Payroll reduction'!H445=\"Table 2\",'4 - Payroll reduction'!D445,\"\"))","v":""},{"$f":"IF('4 - Payroll reduction'!C445=\"Name\",\"\",IF('4 - Payroll reduction'!H445=\"Table 2\",'4 - Payroll reduction'!E445,\"\"))","v":""},{"$f":"IF('4 - Payroll reduction'!C445=\"Name\",\"\",IF('4 - Payroll reduction'!H445=\"Table 2\",'4 - Payroll reduction'!G445,\"\"))","v":""},null,355]
[{"$f":"IF('4 - Payroll reduction'!C446=\"Name\",\"\",IF('4 - Payroll reduction'!H446=\"Table 2\",'4 - Payroll reduction'!C446,\"\"))","v":""},{"$f":"IF('4 - Payroll reduction'!C446=\"Name\",\"\",IF('4 - Payroll reduction'!H446=\"Table 2\",'4 - Payroll reduction'!D446,\"\"))","v":""},{"$f":"IF('4 - Payroll reduction'!C446=\"Name\",\"\",IF('4 - Payroll reduction'!H446=\"Table 2\",'4 - Payroll reduction'!E446,\"\"))","v":""},{"$f":"IF('4 - Payroll reduction'!C446=\"Name\",\"\",IF('4 - Payroll reduction'!H446=\"Table 2\",'4 - Payroll reduction'!G446,\"\"))","v":""},null,356]
[{"$f":"IF('4 - Payroll reduction'!C447=\"Name\",\"\",IF('4 - Payroll reduction'!H447=\"Table 2\",'4 - Payroll reduction'!C447,\"\"))","v":""},{"$f":"IF('4 - Payroll reduction'!C447=\"Name\",\"\",IF('4 - Payroll reduction'!H447=\"Table 2\",'4 - Payroll reduction'!D447,\"\"))","v":""},{"$f":"IF('4 - Payroll reduction'!C447=\"Name\",\"\",IF('4 - Payroll reduction'!H447=\"Table 2\",'4 - Payroll reduction'!E447,\"\"))","v":""},{"$f":"IF('4 - Payroll reduction'!C447=\"Name\",\"\",IF('4 - Payroll reduction'!H447=\"Table 2\",'4 - Payroll reduction'!G447,\"\"))","v":""},null,357]
[{"$f":"IF('4 - Payroll reduction'!C448=\"Name\",\"\",IF('4 - Payroll reduction'!H448=\"Table 2\",'4 - Payroll reduction'!C448,\"\"))","v":""},{"$f":"IF('4 - Payroll reduction'!C448=\"Name\",\"\",IF('4 - Payroll reduction'!H448=\"Table 2\",'4 - Payroll reduction'!D448,\"\"))","v":""},{"$f":"IF('4 - Payroll reduction'!C448=\"Name\",\"\",IF('4 - Payroll reduction'!H448=\"Table 2\",'4 - Payroll reduction'!E448,\"\"))","v":""},{"$f":"IF('4 - Payroll reduction'!C448=\"Name\",\"\",IF('4 - Payroll reduction'!H448=\"Table 2\",'4 - Payroll reduction'!G448,\"\"))","v":""},null,358]
[{"$f":"IF('4 - Payroll reduction'!C449=\"Name\",\"\",IF('4 - Payroll reduction'!H449=\"Table 2\",'4 - Payroll reduction'!C449,\"\"))","v":""},{"$f":"IF('4 - Payroll reduction'!C449=\"Name\",\"\",IF('4 - Payroll reduction'!H449=\"Table 2\",'4 - Payroll reduction'!D449,\"\"))","v":""},{"$f":"IF('4 - Payroll reduction'!C449=\"Name\",\"\",IF('4 - Payroll reduction'!H449=\"Table 2\",'4 - Payroll reduction'!E449,\"\"))","v":""},{"$f":"IF('4 - Payroll reduction'!C449=\"Name\",\"\",IF('4 - Payroll reduction'!H449=\"Table 2\",'4 - Payroll reduction'!G449,\"\"))","v":""},null,359]
[{"$f":"IF('4 - Payroll reduction'!C450=\"Name\",\"\",IF('4 - Payroll reduction'!H450=\"Table 2\",'4 - Payroll reduction'!C450,\"\"))","v":""},{"$f":"IF('4 - Payroll reduction'!C450=\"Name\",\"\",IF('4 - Payroll reduction'!H450=\"Table 2\",'4 - Payroll reduction'!D450,\"\"))","v":""},{"$f":"IF('4 - Payroll reduction'!C450=\"Name\",\"\",IF('4 - Payroll reduction'!H450=\"Table 2\",'4 - Payroll reduction'!E450,\"\"))","v":""},{"$f":"IF('4 - Payroll reduction'!C450=\"Name\",\"\",IF('4 - Payroll reduction'!H450=\"Table 2\",'4 - Payroll reduction'!G450,\"\"))","v":""},null,360]
[{"$f":"IF('4 - Payroll reduction'!C451=\"Name\",\"\",IF('4 - Payroll reduction'!H451=\"Table 2\",'4 - Payroll reduction'!C451,\"\"))","v":""},{"$f":"IF('4 - Payroll reduction'!C451=\"Name\",\"\",IF('4 - Payroll reduction'!H451=\"Table 2\",'4 - Payroll reduction'!D451,\"\"))","v":""},{"$f":"IF('4 - Payroll reduction'!C451=\"Name\",\"\",IF('4 - Payroll reduction'!H451=\"Table 2\",'4 - Payroll reduction'!E451,\"\"))","v":""},{"$f":"IF('4 - Payroll reduction'!C451=\"Name\",\"\",IF('4 - Payroll reduction'!H451=\"Table 2\",'4 - Payroll reduction'!G451,\"\"))","v":""},null,361]
[{"$f":"IF('4 - Payroll reduction'!C452=\"Name\",\"\",IF('4 - Payroll reduction'!H452=\"Table 2\",'4 - Payroll reduction'!C452,\"\"))","v":""},{"$f":"IF('4 - Payroll reduction'!C452=\"Name\",\"\",IF('4 - Payroll reduction'!H452=\"Table 2\",'4 - Payroll reduction'!D452,\"\"))","v":""},{"$f":"IF('4 - Payroll reduction'!C452=\"Name\",\"\",IF('4 - Payroll reduction'!H452=\"Table 2\",'4 - Payroll reduction'!E452,\"\"))","v":""},{"$f":"IF('4 - Payroll reduction'!C452=\"Name\",\"\",IF('4 - Payroll reduction'!H452=\"Table 2\",'4 - Payroll reduction'!G452,\"\"))","v":""},null,362]
[{"$f":"IF('4 - Payroll reduction'!C453=\"Name\",\"\",IF('4 - Payroll reduction'!H453=\"Table 2\",'4 - Payroll reduction'!C453,\"\"))","v":""},{"$f":"IF('4 - Payroll reduction'!C453=\"Name\",\"\",IF('4 - Payroll reduction'!H453=\"Table 2\",'4 - Payroll reduction'!D453,\"\"))","v":""},{"$f":"IF('4 - Payroll reduction'!C453=\"Name\",\"\",IF('4 - Payroll reduction'!H453=\"Table 2\",'4 - Payroll reduction'!E453,\"\"))","v":""},{"$f":"IF('4 - Payroll reduction'!C453=\"Name\",\"\",IF('4 - Payroll reduction'!H453=\"Table 2\",'4 - Payroll reduction'!G453,\"\"))","v":""},null,363]
[{"$f":"IF('4 - Payroll reduction'!C454=\"Name\",\"\",IF('4 - Payroll reduction'!H454=\"Table 2\",'4 - Payroll reduction'!C454,\"\"))","v":""},{"$f":"IF('4 - Payroll reduction'!C454=\"Name\",\"\",IF('4 - Payroll reduction'!H454=\"Table 2\",'4 - Payroll reduction'!D454,\"\"))","v":""},{"$f":"IF('4 - Payroll reduction'!C454=\"Name\",\"\",IF('4 - Payroll reduction'!H454=\"Table 2\",'4 - Payroll reduction'!E454,\"\"))","v":""},{"$f":"IF('4 - Payroll reduction'!C454=\"Name\",\"\",IF('4 - Payroll reduction'!H454=\"Table 2\",'4 - Payroll reduction'!G454,\"\"))","v":""},null,364]
[{"$f":"IF('4 - Payroll reduction'!C455=\"Name\",\"\",IF('4 - Payroll reduction'!H455=\"Table 2\",'4 - Payroll reduction'!C455,\"\"))","v":""},{"$f":"IF('4 - Payroll reduction'!C455=\"Name\",\"\",IF('4 - Payroll reduction'!H455=\"Table 2\",'4 - Payroll reduction'!D455,\"\"))","v":""},{"$f":"IF('4 - Payroll reduction'!C455=\"Name\",\"\",IF('4 - Payroll reduction'!H455=\"Table 2\",'4 - Payroll reduction'!E455,\"\"))","v":""},{"$f":"IF('4 - Payroll reduction'!C455=\"Name\",\"\",IF('4 - Payroll reduction'!H455=\"Table 2\",'4 - Payroll reduction'!G455,\"\"))","v":""},null,365]
[{"$f":"IF('4 - Payroll reduction'!C456=\"Name\",\"\",IF('4 - Payroll reduction'!H456=\"Table 2\",'4 - Payroll reduction'!C456,\"\"))","v":""},{"$f":"IF('4 - Payroll reduction'!C456=\"Name\",\"\",IF('4 - Payroll reduction'!H456=\"Table 2\",'4 - Payroll reduction'!D456,\"\"))","v":""},{"$f":"IF('4 - Payroll reduction'!C456=\"Name\",\"\",IF('4 - Payroll reduction'!H456=\"Table 2\",'4 - Payroll reduction'!E456,\"\"))","v":""},{"$f":"IF('4 - Payroll reduction'!C456=\"Name\",\"\",IF('4 - Payroll reduction'!H456=\"Table 2\",'4 - Payroll reduction'!G456,\"\"))","v":""},null,366]
[{"$f":"IF('4 - Payroll reduction'!C457=\"Name\",\"\",IF('4 - Payroll reduction'!H457=\"Table 2\",'4 - Payroll reduction'!C457,\"\"))","v":""},{"$f":"IF('4 - Payroll reduction'!C457=\"Name\",\"\",IF('4 - Payroll reduction'!H457=\"Table 2\",'4 - Payroll reduction'!D457,\"\"))","v":""},{"$f":"IF('4 - Payroll reduction'!C457=\"Name\",\"\",IF('4 - Payroll reduction'!H457=\"Table 2\",'4 - Payroll reduction'!E457,\"\"))","v":""},{"$f":"IF('4 - Payroll reduction'!C457=\"Name\",\"\",IF('4 - Payroll reduction'!H457=\"Table 2\",'4 - Payroll reduction'!G457,\"\"))","v":""},null,367]
[{"$f":"IF('4 - Payroll reduction'!C458=\"Name\",\"\",IF('4 - Payroll reduction'!H458=\"Table 2\",'4 - Payroll reduction'!C458,\"\"))","v":""},{"$f":"IF('4 - Payroll reduction'!C458=\"Name\",\"\",IF('4 - Payroll reduction'!H458=\"Table 2\",'4 - Payroll reduction'!D458,\"\"))","v":""},{"$f":"IF('4 - Payroll reduction'!C458=\"Name\",\"\",IF('4 - Payroll reduction'!H458=\"Table 2\",'4 - Payroll reduction'!E458,\"\"))","v":""},{"$f":"IF('4 - Payroll reduction'!C458=\"Name\",\"\",IF('4 - Payroll reduction'!H458=\"Table 2\",'4 - Payroll reduction'!G458,\"\"))","v":""},null,368]
[{"$f":"IF('4 - Payroll reduction'!C459=\"Name\",\"\",IF('4 - Payroll reduction'!H459=\"Table 2\",'4 - Payroll reduction'!C459,\"\"))","v":""},{"$f":"IF('4 - Payroll reduction'!C459=\"Name\",\"\",IF('4 - Payroll reduction'!H459=\"Table 2\",'4 - Payroll reduction'!D459,\"\"))","v":""},{"$f":"IF('4 - Payroll reduction'!C459=\"Name\",\"\",IF('4 - Payroll reduction'!H459=\"Table 2\",'4 - Payroll reduction'!E459,\"\"))","v":""},{"$f":"IF('4 - Payroll reduction'!C459=\"Name\",\"\",IF('4 - Payroll reduction'!H459=\"Table 2\",'4 - Payroll reduction'!G459,\"\"))","v":""},null,369]
[{"$f":"IF('4 - Payroll reduction'!C460=\"Name\",\"\",IF('4 - Payroll reduction'!H460=\"Table 2\",'4 - Payroll reduction'!C460,\"\"))","v":""},{"$f":"IF('4 - Payroll reduction'!C460=\"Name\",\"\",IF('4 - Payroll reduction'!H460=\"Table 2\",'4 - Payroll reduction'!D460,\"\"))","v":""},{"$f":"IF('4 - Payroll reduction'!C460=\"Name\",\"\",IF('4 - Payroll reduction'!H460=\"Table 2\",'4 - Payroll reduction'!E460,\"\"))","v":""},{"$f":"IF('4 - Payroll reduction'!C460=\"Name\",\"\",IF('4 - Payroll reduction'!H460=\"Table 2\",'4 - Payroll reduction'!G460,\"\"))","v":""},null,370]
[{"$f":"IF('4 - Payroll reduction'!C461=\"Name\",\"\",IF('4 - Payroll reduction'!H461=\"Table 2\",'4 - Payroll reduction'!C461,\"\"))","v":""},{"$f":"IF('4 - Payroll reduction'!C461=\"Name\",\"\",IF('4 - Payroll reduction'!H461=\"Table 2\",'4 - Payroll reduction'!D461,\"\"))","v":""},{"$f":"IF('4 - Payroll reduction'!C461=\"Name\",\"\",IF('4 - Payroll reduction'!H461=\"Table 2\",'4 - Payroll reduction'!E461,\"\"))","v":""},{"$f":"IF('4 - Payroll reduction'!C461=\"Name\",\"\",IF('4 - Payroll reduction'!H461=\"Table 2\",'4 - Payroll reduction'!G461,\"\"))","v":""},null,371]
[{"$f":"IF('4 - Payroll reduction'!C462=\"Name\",\"\",IF('4 - Payroll reduction'!H462=\"Table 2\",'4 - Payroll reduction'!C462,\"\"))","v":""},{"$f":"IF('4 - Payroll reduction'!C462=\"Name\",\"\",IF('4 - Payroll reduction'!H462=\"Table 2\",'4 - Payroll reduction'!D462,\"\"))","v":""},{"$f":"IF('4 - Payroll reduction'!C462=\"Name\",\"\",IF('4 - Payroll reduction'!H462=\"Table 2\",'4 - Payroll reduction'!E462,\"\"))","v":""},{"$f":"IF('4 - Payroll reduction'!C462=\"Name\",\"\",IF('4 - Payroll reduction'!H462=\"Table 2\",'4 - Payroll reduction'!G462,\"\"))","v":""},null,372]
[{"$f":"IF('4 - Payroll reduction'!C463=\"Name\",\"\",IF('4 - Payroll reduction'!H463=\"Table 2\",'4 - Payroll reduction'!C463,\"\"))","v":""},{"$f":"IF('4 - Payroll reduction'!C463=\"Name\",\"\",IF('4 - Payroll reduction'!H463=\"Table 2\",'4 - Payroll reduction'!D463,\"\"))","v":""},{"$f":"IF('4 - Payroll reduction'!C463=\"Name\",\"\",IF('4 - Payroll reduction'!H463=\"Table 2\",'4 - Payroll reduction'!E463,\"\"))","v":""},{"$f":"IF('4 - Payroll reduction'!C463=\"Name\",\"\",IF('4 - Payroll reduction'!H463=\"Table 2\",'4 - Payroll reduction'!G463,\"\"))","v":""},null,373]
[{"$f":"IF('4 - Payroll reduction'!C464=\"Name\",\"\",IF('4 - Payroll reduction'!H464=\"Table 2\",'4 - Payroll reduction'!C464,\"\"))","v":""},{"$f":"IF('4 - Payroll reduction'!C464=\"Name\",\"\",IF('4 - Payroll reduction'!H464=\"Table 2\",'4 - Payroll reduction'!D464,\"\"))","v":""},{"$f":"IF('4 - Payroll reduction'!C464=\"Name\",\"\",IF('4 - Payroll reduction'!H464=\"Table 2\",'4 - Payroll reduction'!E464,\"\"))","v":""},{"$f":"IF('4 - Payroll reduction'!C464=\"Name\",\"\",IF('4 - Payroll reduction'!H464=\"Table 2\",'4 - Payroll reduction'!G464,\"\"))","v":""},null,374]
[{"$f":"IF('4 - Payroll reduction'!C465=\"Name\",\"\",IF('4 - Payroll reduction'!H465=\"Table 2\",'4 - Payroll reduction'!C465,\"\"))","v":""},{"$f":"IF('4 - Payroll reduction'!C465=\"Name\",\"\",IF('4 - Payroll reduction'!H465=\"Table 2\",'4 - Payroll reduction'!D465,\"\"))","v":""},{"$f":"IF('4 - Payroll reduction'!C465=\"Name\",\"\",IF('4 - Payroll reduction'!H465=\"Table 2\",'4 - Payroll reduction'!E465,\"\"))","v":""},{"$f":"IF('4 - Payroll reduction'!C465=\"Name\",\"\",IF('4 - Payroll reduction'!H465=\"Table 2\",'4 - Payroll reduction'!G465,\"\"))","v":""},null,375]
[{"$f":"IF('4 - Payroll reduction'!C466=\"Name\",\"\",IF('4 - Payroll reduction'!H466=\"Table 2\",'4 - Payroll reduction'!C466,\"\"))","v":""},{"$f":"IF('4 - Payroll reduction'!C466=\"Name\",\"\",IF('4 - Payroll reduction'!H466=\"Table 2\",'4 - Payroll reduction'!D466,\"\"))","v":""},{"$f":"IF('4 - Payroll reduction'!C466=\"Name\",\"\",IF('4 - Payroll reduction'!H466=\"Table 2\",'4 - Payroll reduction'!E466,\"\"))","v":""},{"$f":"IF('4 - Payroll reduction'!C466=\"Name\",\"\",IF('4 - Payroll reduction'!H466=\"Table 2\",'4 - Payroll reduction'!G466,\"\"))","v":""},null,376]
[{"$f":"IF('4 - Payroll reduction'!C467=\"Name\",\"\",IF('4 - Payroll reduction'!H467=\"Table 2\",'4 - Payroll reduction'!C467,\"\"))","v":""},{"$f":"IF('4 - Payroll reduction'!C467=\"Name\",\"\",IF('4 - Payroll reduction'!H467=\"Table 2\",'4 - Payroll reduction'!D467,\"\"))","v":""},{"$f":"IF('4 - Payroll reduction'!C467=\"Name\",\"\",IF('4 - Payroll reduction'!H467=\"Table 2\",'4 - Payroll reduction'!E467,\"\"))","v":""},{"$f":"IF('4 - Payroll reduction'!C467=\"Name\",\"\",IF('4 - Payroll reduction'!H467=\"Table 2\",'4 - Payroll reduction'!G467,\"\"))","v":""},null,377]
[{"$f":"IF('4 - Payroll reduction'!C468=\"Name\",\"\",IF('4 - Payroll reduction'!H468=\"Table 2\",'4 - Payroll reduction'!C468,\"\"))","v":""},{"$f":"IF('4 - Payroll reduction'!C468=\"Name\",\"\",IF('4 - Payroll reduction'!H468=\"Table 2\",'4 - Payroll reduction'!D468,\"\"))","v":""},{"$f":"IF('4 - Payroll reduction'!C468=\"Name\",\"\",IF('4 - Payroll reduction'!H468=\"Table 2\",'4 - Payroll reduction'!E468,\"\"))","v":""},{"$f":"IF('4 - Payroll reduction'!C468=\"Name\",\"\",IF('4 - Payroll reduction'!H468=\"Table 2\",'4 - Payroll reduction'!G468,\"\"))","v":""},null,378]
[{"$f":"IF('4 - Payroll reduction'!C469=\"Name\",\"\",IF('4 - Payroll reduction'!H469=\"Table 2\",'4 - Payroll reduction'!C469,\"\"))","v":""},{"$f":"IF('4 - Payroll reduction'!C469=\"Name\",\"\",IF('4 - Payroll reduction'!H469=\"Table 2\",'4 - Payroll reduction'!D469,\"\"))","v":""},{"$f":"IF('4 - Payroll reduction'!C469=\"Name\",\"\",IF('4 - Payroll reduction'!H469=\"Table 2\",'4 - Payroll reduction'!E469,\"\"))","v":""},{"$f":"IF('4 - Payroll reduction'!C469=\"Name\",\"\",IF('4 - Payroll reduction'!H469=\"Table 2\",'4 - Payroll reduction'!G469,\"\"))","v":""},null,379]
[{"$f":"IF('4 - Payroll reduction'!C470=\"Name\",\"\",IF('4 - Payroll reduction'!H470=\"Table 2\",'4 - Payroll reduction'!C470,\"\"))","v":""},{"$f":"IF('4 - Payroll reduction'!C470=\"Name\",\"\",IF('4 - Payroll reduction'!H470=\"Table 2\",'4 - Payroll reduction'!D470,\"\"))","v":""},{"$f":"IF('4 - Payroll reduction'!C470=\"Name\",\"\",IF('4 - Payroll reduction'!H470=\"Table 2\",'4 - Payroll reduction'!E470,\"\"))","v":""},{"$f":"IF('4 - Payroll reduction'!C470=\"Name\",\"\",IF('4 - Payroll reduction'!H470=\"Table 2\",'4 - Payroll reduction'!G470,\"\"))","v":""},null,380]
[{"$f":"IF('4 - Payroll reduction'!C471=\"Name\",\"\",IF('4 - Payroll reduction'!H471=\"Table 2\",'4 - Payroll reduction'!C471,\"\"))","v":""},{"$f":"IF('4 - Payroll reduction'!C471=\"Name\",\"\",IF('4 - Payroll reduction'!H471=\"Table 2\",'4 - Payroll reduction'!D471,\"\"))","v":""},{"$f":"IF('4 - Payroll reduction'!C471=\"Name\",\"\",IF('4 - Payroll reduction'!H471=\"Table 2\",'4 - Payroll reduction'!E471,\"\"))","v":""},{"$f":"IF('4 - Payroll reduction'!C471=\"Name\",\"\",IF('4 - Payroll reduction'!H471=\"Table 2\",'4 - Payroll reduction'!G471,\"\"))","v":""},null,381]
[{"$f":"IF('4 - Payroll reduction'!C472=\"Name\",\"\",IF('4 - Payroll reduction'!H472=\"Table 2\",'4 - Payroll reduction'!C472,\"\"))","v":""},{"$f":"IF('4 - Payroll reduction'!C472=\"Name\",\"\",IF('4 - Payroll reduction'!H472=\"Table 2\",'4 - Payroll reduction'!D472,\"\"))","v":""},{"$f":"IF('4 - Payroll reduction'!C472=\"Name\",\"\",IF('4 - Payroll reduction'!H472=\"Table 2\",'4 - Payroll reduction'!E472,\"\"))","v":""},{"$f":"IF('4 - Payroll reduction'!C472=\"Name\",\"\",IF('4 - Payroll reduction'!H472=\"Table 2\",'4 - Payroll reduction'!G472,\"\"))","v":""},null,382]
[{"$f":"IF('4 - Payroll reduction'!C473=\"Name\",\"\",IF('4 - Payroll reduction'!H473=\"Table 2\",'4 - Payroll reduction'!C473,\"\"))","v":""},{"$f":"IF('4 - Payroll reduction'!C473=\"Name\",\"\",IF('4 - Payroll reduction'!H473=\"Table 2\",'4 - Payroll reduction'!D473,\"\"))","v":""},{"$f":"IF('4 - Payroll reduction'!C473=\"Name\",\"\",IF('4 - Payroll reduction'!H473=\"Table 2\",'4 - Payroll reduction'!E473,\"\"))","v":""},{"$f":"IF('4 - Payroll reduction'!C473=\"Name\",\"\",IF('4 - Payroll reduction'!H473=\"Table 2\",'4 - Payroll reduction'!G473,\"\"))","v":""},null,383]
[{"$f":"IF('4 - Payroll reduction'!C474=\"Name\",\"\",IF('4 - Payroll reduction'!H474=\"Table 2\",'4 - Payroll reduction'!C474,\"\"))","v":""},{"$f":"IF('4 - Payroll reduction'!C474=\"Name\",\"\",IF('4 - Payroll reduction'!H474=\"Table 2\",'4 - Payroll reduction'!D474,\"\"))","v":""},{"$f":"IF('4 - Payroll reduction'!C474=\"Name\",\"\",IF('4 - Payroll reduction'!H474=\"Table 2\",'4 - Payroll reduction'!E474,\"\"))","v":""},{"$f":"IF('4 - Payroll reduction'!C474=\"Name\",\"\",IF('4 - Payroll reduction'!H474=\"Table 2\",'4 - Payroll reduction'!G474,\"\"))","v":""},null,384]
[{"$f":"IF('4 - Payroll reduction'!C475=\"Name\",\"\",IF('4 - Payroll reduction'!H475=\"Table 2\",'4 - Payroll reduction'!C475,\"\"))","v":""},{"$f":"IF('4 - Payroll reduction'!C475=\"Name\",\"\",IF('4 - Payroll reduction'!H475=\"Table 2\",'4 - Payroll reduction'!D475,\"\"))","v":""},{"$f":"IF('4 - Payroll reduction'!C475=\"Name\",\"\",IF('4 - Payroll reduction'!H475=\"Table 2\",'4 - Payroll reduction'!E475,\"\"))","v":""},{"$f":"IF('4 - Payroll reduction'!C475=\"Name\",\"\",IF('4 - Payroll reduction'!H475=\"Table 2\",'4 - Payroll reduction'!G475,\"\"))","v":""},null,385]
[{"$f":"IF('4 - Payroll reduction'!C476=\"Name\",\"\",IF('4 - Payroll reduction'!H476=\"Table 2\",'4 - Payroll reduction'!C476,\"\"))","v":""},{"$f":"IF('4 - Payroll reduction'!C476=\"Name\",\"\",IF('4 - Payroll reduction'!H476=\"Table 2\",'4 - Payroll reduction'!D476,\"\"))","v":""},{"$f":"IF('4 - Payroll reduction'!C476=\"Name\",\"\",IF('4 - Payroll reduction'!H476=\"Table 2\",'4 - Payroll reduction'!E476,\"\"))","v":""},{"$f":"IF('4 - Payroll reduction'!C476=\"Name\",\"\",IF('4 - Payroll reduction'!H476=\"Table 2\",'4 - Payroll reduction'!G476,\"\"))","v":""},null,386]
[{"$f":"IF('4 - Payroll reduction'!C477=\"Name\",\"\",IF('4 - Payroll reduction'!H477=\"Table 2\",'4 - Payroll reduction'!C477,\"\"))","v":""},{"$f":"IF('4 - Payroll reduction'!C477=\"Name\",\"\",IF('4 - Payroll reduction'!H477=\"Table 2\",'4 - Payroll reduction'!D477,\"\"))","v":""},{"$f":"IF('4 - Payroll reduction'!C477=\"Name\",\"\",IF('4 - Payroll reduction'!H477=\"Table 2\",'4 - Payroll reduction'!E477,\"\"))","v":""},{"$f":"IF('4 - Payroll reduction'!C477=\"Name\",\"\",IF('4 - Payroll reduction'!H477=\"Table 2\",'4 - Payroll reduction'!G477,\"\"))","v":""},null,387]
[{"$f":"IF('4 - Payroll reduction'!C478=\"Name\",\"\",IF('4 - Payroll reduction'!H478=\"Table 2\",'4 - Payroll reduction'!C478,\"\"))","v":""},{"$f":"IF('4 - Payroll reduction'!C478=\"Name\",\"\",IF('4 - Payroll reduction'!H478=\"Table 2\",'4 - Payroll reduction'!D478,\"\"))","v":""},{"$f":"IF('4 - Payroll reduction'!C478=\"Name\",\"\",IF('4 - Payroll reduction'!H478=\"Table 2\",'4 - Payroll reduction'!E478,\"\"))","v":""},{"$f":"IF('4 - Payroll reduction'!C478=\"Name\",\"\",IF('4 - Payroll reduction'!H478=\"Table 2\",'4 - Payroll reduction'!G478,\"\"))","v":""},null,{"$f":"F901+1","v":388}]
[{"$f":"IF('4 - Payroll reduction'!C479=\"Name\",\"\",IF('4 - Payroll reduction'!H479=\"Table 2\",'4 - Payroll reduction'!C479,\"\"))","v":""},{"$f":"IF('4 - Payroll reduction'!C479=\"Name\",\"\",IF('4 - Payroll reduction'!H479=\"Table 2\",'4 - Payroll reduction'!D479,\"\"))","v":""},{"$f":"IF('4 - Payroll reduction'!C479=\"Name\",\"\",IF('4 - Payroll reduction'!H479=\"Table 2\",'4 - Payroll reduction'!E479,\"\"))","v":""},{"$f":"IF('4 - Payroll reduction'!C479=\"Name\",\"\",IF('4 - Payroll reduction'!H479=\"Table 2\",'4 - Payroll reduction'!G479,\"\"))","v":""},null,389]
[{"$f":"IF('4 - Payroll reduction'!C480=\"Name\",\"\",IF('4 - Payroll reduction'!H480=\"Table 2\",'4 - Payroll reduction'!C480,\"\"))","v":""},{"$f":"IF('4 - Payroll reduction'!C480=\"Name\",\"\",IF('4 - Payroll reduction'!H480=\"Table 2\",'4 - Payroll reduction'!D480,\"\"))","v":""},{"$f":"IF('4 - Payroll reduction'!C480=\"Name\",\"\",IF('4 - Payroll reduction'!H480=\"Table 2\",'4 - Payroll reduction'!E480,\"\"))","v":""},{"$f":"IF('4 - Payroll reduction'!C480=\"Name\",\"\",IF('4 - Payroll reduction'!H480=\"Table 2\",'4 - Payroll reduction'!G480,\"\"))","v":""},null,390]
[{"$f":"IF('4 - Payroll reduction'!C481=\"Name\",\"\",IF('4 - Payroll reduction'!H481=\"Table 2\",'4 - Payroll reduction'!C481,\"\"))","v":""},{"$f":"IF('4 - Payroll reduction'!C481=\"Name\",\"\",IF('4 - Payroll reduction'!H481=\"Table 2\",'4 - Payroll reduction'!D481,\"\"))","v":""},{"$f":"IF('4 - Payroll reduction'!C481=\"Name\",\"\",IF('4 - Payroll reduction'!H481=\"Table 2\",'4 - Payroll reduction'!E481,\"\"))","v":""},{"$f":"IF('4 - Payroll reduction'!C481=\"Name\",\"\",IF('4 - Payroll reduction'!H481=\"Table 2\",'4 - Payroll reduction'!G481,\"\"))","v":""},null,391]
[{"$f":"IF('4 - Payroll reduction'!C482=\"Name\",\"\",IF('4 - Payroll reduction'!H482=\"Table 2\",'4 - Payroll reduction'!C482,\"\"))","v":""},{"$f":"IF('4 - Payroll reduction'!C482=\"Name\",\"\",IF('4 - Payroll reduction'!H482=\"Table 2\",'4 - Payroll reduction'!D482,\"\"))","v":""},{"$f":"IF('4 - Payroll reduction'!C482=\"Name\",\"\",IF('4 - Payroll reduction'!H482=\"Table 2\",'4 - Payroll reduction'!E482,\"\"))","v":""},{"$f":"IF('4 - Payroll reduction'!C482=\"Name\",\"\",IF('4 - Payroll reduction'!H482=\"Table 2\",'4 - Payroll reduction'!G482,\"\"))","v":""},null,392]
[{"$f":"IF('4 - Payroll reduction'!C483=\"Name\",\"\",IF('4 - Payroll reduction'!H483=\"Table 2\",'4 - Payroll reduction'!C483,\"\"))","v":""},{"$f":"IF('4 - Payroll reduction'!C483=\"Name\",\"\",IF('4 - Payroll reduction'!H483=\"Table 2\",'4 - Payroll reduction'!D483,\"\"))","v":""},{"$f":"IF('4 - Payroll reduction'!C483=\"Name\",\"\",IF('4 - Payroll reduction'!H483=\"Table 2\",'4 - Payroll reduction'!E483,\"\"))","v":""},{"$f":"IF('4 - Payroll reduction'!C483=\"Name\",\"\",IF('4 - Payroll reduction'!H483=\"Table 2\",'4 - Payroll reduction'!G483,\"\"))","v":""},null,393]
[{"$f":"IF('4 - Payroll reduction'!C484=\"Name\",\"\",IF('4 - Payroll reduction'!H484=\"Table 2\",'4 - Payroll reduction'!C484,\"\"))","v":""},{"$f":"IF('4 - Payroll reduction'!C484=\"Name\",\"\",IF('4 - Payroll reduction'!H484=\"Table 2\",'4 - Payroll reduction'!D484,\"\"))","v":""},{"$f":"IF('4 - Payroll reduction'!C484=\"Name\",\"\",IF('4 - Payroll reduction'!H484=\"Table 2\",'4 - Payroll reduction'!E484,\"\"))","v":""},{"$f":"IF('4 - Payroll reduction'!C484=\"Name\",\"\",IF('4 - Payroll reduction'!H484=\"Table 2\",'4 - Payroll reduction'!G484,\"\"))","v":""},null,394]
[{"$f":"IF('4 - Payroll reduction'!C485=\"Name\",\"\",IF('4 - Payroll reduction'!H485=\"Table 2\",'4 - Payroll reduction'!C485,\"\"))","v":""},{"$f":"IF('4 - Payroll reduction'!C485=\"Name\",\"\",IF('4 - Payroll reduction'!H485=\"Table 2\",'4 - Payroll reduction'!D485,\"\"))","v":""},{"$f":"IF('4 - Payroll reduction'!C485=\"Name\",\"\",IF('4 - Payroll reduction'!H485=\"Table 2\",'4 - Payroll reduction'!E485,\"\"))","v":""},{"$f":"IF('4 - Payroll reduction'!C485=\"Name\",\"\",IF('4 - Payroll reduction'!H485=\"Table 2\",'4 - Payroll reduction'!G485,\"\"))","v":""},null,395]
[{"$f":"IF('4 - Payroll reduction'!C486=\"Name\",\"\",IF('4 - Payroll reduction'!H486=\"Table 2\",'4 - Payroll reduction'!C486,\"\"))","v":""},{"$f":"IF('4 - Payroll reduction'!C486=\"Name\",\"\",IF('4 - Payroll reduction'!H486=\"Table 2\",'4 - Payroll reduction'!D486,\"\"))","v":""},{"$f":"IF('4 - Payroll reduction'!C486=\"Name\",\"\",IF('4 - Payroll reduction'!H486=\"Table 2\",'4 - Payroll reduction'!E486,\"\"))","v":""},{"$f":"IF('4 - Payroll reduction'!C486=\"Name\",\"\",IF('4 - Payroll reduction'!H486=\"Table 2\",'4 - Payroll reduction'!G486,\"\"))","v":""},null,396]
[{"$f":"IF('4 - Payroll reduction'!C487=\"Name\",\"\",IF('4 - Payroll reduction'!H487=\"Table 2\",'4 - Payroll reduction'!C487,\"\"))","v":""},{"$f":"IF('4 - Payroll reduction'!C487=\"Name\",\"\",IF('4 - Payroll reduction'!H487=\"Table 2\",'4 - Payroll reduction'!D487,\"\"))","v":""},{"$f":"IF('4 - Payroll reduction'!C487=\"Name\",\"\",IF('4 - Payroll reduction'!H487=\"Table 2\",'4 - Payroll reduction'!E487,\"\"))","v":""},{"$f":"IF('4 - Payroll reduction'!C487=\"Name\",\"\",IF('4 - Payroll reduction'!H487=\"Table 2\",'4 - Payroll reduction'!G487,\"\"))","v":""},null,397]
[{"$f":"IF('4 - Payroll reduction'!C488=\"Name\",\"\",IF('4 - Payroll reduction'!H488=\"Table 2\",'4 - Payroll reduction'!C488,\"\"))","v":""},{"$f":"IF('4 - Payroll reduction'!C488=\"Name\",\"\",IF('4 - Payroll reduction'!H488=\"Table 2\",'4 - Payroll reduction'!D488,\"\"))","v":""},{"$f":"IF('4 - Payroll reduction'!C488=\"Name\",\"\",IF('4 - Payroll reduction'!H488=\"Table 2\",'4 - Payroll reduction'!E488,\"\"))","v":""},{"$f":"IF('4 - Payroll reduction'!C488=\"Name\",\"\",IF('4 - Payroll reduction'!H488=\"Table 2\",'4 - Payroll reduction'!G488,\"\"))","v":""},null,398]
[{"$f":"IF('4 - Payroll reduction'!C489=\"Name\",\"\",IF('4 - Payroll reduction'!H489=\"Table 2\",'4 - Payroll reduction'!C489,\"\"))","v":""},{"$f":"IF('4 - Payroll reduction'!C489=\"Name\",\"\",IF('4 - Payroll reduction'!H489=\"Table 2\",'4 - Payroll reduction'!D489,\"\"))","v":""},{"$f":"IF('4 - Payroll reduction'!C489=\"Name\",\"\",IF('4 - Payroll reduction'!H489=\"Table 2\",'4 - Payroll reduction'!E489,\"\"))","v":""},{"$f":"IF('4 - Payroll reduction'!C489=\"Name\",\"\",IF('4 - Payroll reduction'!H489=\"Table 2\",'4 - Payroll reduction'!G489,\"\"))","v":""},null,399]
[{"$f":"IF('4 - Payroll reduction'!C490=\"Name\",\"\",IF('4 - Payroll reduction'!H490=\"Table 2\",'4 - Payroll reduction'!C490,\"\"))","v":""},{"$f":"IF('4 - Payroll reduction'!C490=\"Name\",\"\",IF('4 - Payroll reduction'!H490=\"Table 2\",'4 - Payroll reduction'!D490,\"\"))","v":""},{"$f":"IF('4 - Payroll reduction'!C490=\"Name\",\"\",IF('4 - Payroll reduction'!H490=\"Table 2\",'4 - Payroll reduction'!E490,\"\"))","v":""},{"$f":"IF('4 - Payroll reduction'!C490=\"Name\",\"\",IF('4 - Payroll reduction'!H490=\"Table 2\",'4 - Payroll reduction'!G490,\"\"))","v":""},null,400]
[{"$f":"IF('4 - Payroll reduction'!C491=\"Name\",\"\",IF('4 - Payroll reduction'!H491=\"Table 2\",'4 - Payroll reduction'!C491,\"\"))","v":""},{"$f":"IF('4 - Payroll reduction'!C491=\"Name\",\"\",IF('4 - Payroll reduction'!H491=\"Table 2\",'4 - Payroll reduction'!D491,\"\"))","v":""},{"$f":"IF('4 - Payroll reduction'!C491=\"Name\",\"\",IF('4 - Payroll reduction'!H491=\"Table 2\",'4 - Payroll reduction'!E491,\"\"))","v":""},{"$f":"IF('4 - Payroll reduction'!C491=\"Name\",\"\",IF('4 - Payroll reduction'!H491=\"Table 2\",'4 - Payroll reduction'!G491,\"\"))","v":""},null,401]
[{"$f":"IF('4 - Payroll reduction'!C492=\"Name\",\"\",IF('4 - Payroll reduction'!H492=\"Table 2\",'4 - Payroll reduction'!C492,\"\"))","v":""},{"$f":"IF('4 - Payroll reduction'!C492=\"Name\",\"\",IF('4 - Payroll reduction'!H492=\"Table 2\",'4 - Payroll reduction'!D492,\"\"))","v":""},{"$f":"IF('4 - Payroll reduction'!C492=\"Name\",\"\",IF('4 - Payroll reduction'!H492=\"Table 2\",'4 - Payroll reduction'!E492,\"\"))","v":""},{"$f":"IF('4 - Payroll reduction'!C492=\"Name\",\"\",IF('4 - Payroll reduction'!H492=\"Table 2\",'4 - Payroll reduction'!G492,\"\"))","v":""},null,402]
[{"$f":"IF('4 - Payroll reduction'!C493=\"Name\",\"\",IF('4 - Payroll reduction'!H493=\"Table 2\",'4 - Payroll reduction'!C493,\"\"))","v":""},{"$f":"IF('4 - Payroll reduction'!C493=\"Name\",\"\",IF('4 - Payroll reduction'!H493=\"Table 2\",'4 - Payroll reduction'!D493,\"\"))","v":""},{"$f":"IF('4 - Payroll reduction'!C493=\"Name\",\"\",IF('4 - Payroll reduction'!H493=\"Table 2\",'4 - Payroll reduction'!E493,\"\"))","v":""},{"$f":"IF('4 - Payroll reduction'!C493=\"Name\",\"\",IF('4 - Payroll reduction'!H493=\"Table 2\",'4 - Payroll reduction'!G493,\"\"))","v":""},null,403]
[{"$f":"IF('4 - Payroll reduction'!C494=\"Name\",\"\",IF('4 - Payroll reduction'!H494=\"Table 2\",'4 - Payroll reduction'!C494,\"\"))","v":""},{"$f":"IF('4 - Payroll reduction'!C494=\"Name\",\"\",IF('4 - Payroll reduction'!H494=\"Table 2\",'4 - Payroll reduction'!D494,\"\"))","v":""},{"$f":"IF('4 - Payroll reduction'!C494=\"Name\",\"\",IF('4 - Payroll reduction'!H494=\"Table 2\",'4 - Payroll reduction'!E494,\"\"))","v":""},{"$f":"IF('4 - Payroll reduction'!C494=\"Name\",\"\",IF('4 - Payroll reduction'!H494=\"Table 2\",'4 - Payroll reduction'!G494,\"\"))","v":""},null,404]
[{"$f":"IF('4 - Payroll reduction'!C495=\"Name\",\"\",IF('4 - Payroll reduction'!H495=\"Table 2\",'4 - Payroll reduction'!C495,\"\"))","v":""},{"$f":"IF('4 - Payroll reduction'!C495=\"Name\",\"\",IF('4 - Payroll reduction'!H495=\"Table 2\",'4 - Payroll reduction'!D495,\"\"))","v":""},{"$f":"IF('4 - Payroll reduction'!C495=\"Name\",\"\",IF('4 - Payroll reduction'!H495=\"Table 2\",'4 - Payroll reduction'!E495,\"\"))","v":""},{"$f":"IF('4 - Payroll reduction'!C495=\"Name\",\"\",IF('4 - Payroll reduction'!H495=\"Table 2\",'4 - Payroll reduction'!G495,\"\"))","v":""},null,405]
[{"$f":"IF('4 - Payroll reduction'!C496=\"Name\",\"\",IF('4 - Payroll reduction'!H496=\"Table 2\",'4 - Payroll reduction'!C496,\"\"))","v":""},{"$f":"IF('4 - Payroll reduction'!C496=\"Name\",\"\",IF('4 - Payroll reduction'!H496=\"Table 2\",'4 - Payroll reduction'!D496,\"\"))","v":""},{"$f":"IF('4 - Payroll reduction'!C496=\"Name\",\"\",IF('4 - Payroll reduction'!H496=\"Table 2\",'4 - Payroll reduction'!E496,\"\"))","v":""},{"$f":"IF('4 - Payroll reduction'!C496=\"Name\",\"\",IF('4 - Payroll reduction'!H496=\"Table 2\",'4 - Payroll reduction'!G496,\"\"))","v":""},null,406]
[{"$f":"IF('4 - Payroll reduction'!C497=\"Name\",\"\",IF('4 - Payroll reduction'!H497=\"Table 2\",'4 - Payroll reduction'!C497,\"\"))","v":""},{"$f":"IF('4 - Payroll reduction'!C497=\"Name\",\"\",IF('4 - Payroll reduction'!H497=\"Table 2\",'4 - Payroll reduction'!D497,\"\"))","v":""},{"$f":"IF('4 - Payroll reduction'!C497=\"Name\",\"\",IF('4 - Payroll reduction'!H497=\"Table 2\",'4 - Payroll reduction'!E497,\"\"))","v":""},{"$f":"IF('4 - Payroll reduction'!C497=\"Name\",\"\",IF('4 - Payroll reduction'!H497=\"Table 2\",'4 - Payroll reduction'!G497,\"\"))","v":""},null,407]
[{"$f":"IF('4 - Payroll reduction'!C498=\"Name\",\"\",IF('4 - Payroll reduction'!H498=\"Table 2\",'4 - Payroll reduction'!C498,\"\"))","v":""},{"$f":"IF('4 - Payroll reduction'!C498=\"Name\",\"\",IF('4 - Payroll reduction'!H498=\"Table 2\",'4 - Payroll reduction'!D498,\"\"))","v":""},{"$f":"IF('4 - Payroll reduction'!C498=\"Name\",\"\",IF('4 - Payroll reduction'!H498=\"Table 2\",'4 - Payroll reduction'!E498,\"\"))","v":""},{"$f":"IF('4 - Payroll reduction'!C498=\"Name\",\"\",IF('4 - Payroll reduction'!H498=\"Table 2\",'4 - Payroll reduction'!G498,\"\"))","v":""},null,408]
[{"$f":"IF('4 - Payroll reduction'!C499=\"Name\",\"\",IF('4 - Payroll reduction'!H499=\"Table 2\",'4 - Payroll reduction'!C499,\"\"))","v":""},{"$f":"IF('4 - Payroll reduction'!C499=\"Name\",\"\",IF('4 - Payroll reduction'!H499=\"Table 2\",'4 - Payroll reduction'!D499,\"\"))","v":""},{"$f":"IF('4 - Payroll reduction'!C499=\"Name\",\"\",IF('4 - Payroll reduction'!H499=\"Table 2\",'4 - Payroll reduction'!E499,\"\"))","v":""},{"$f":"IF('4 - Payroll reduction'!C499=\"Name\",\"\",IF('4 - Payroll reduction'!H499=\"Table 2\",'4 - Payroll reduction'!G499,\"\"))","v":""},null,409]
[{"$f":"IF('4 - Payroll reduction'!C500=\"Name\",\"\",IF('4 - Payroll reduction'!H500=\"Table 2\",'4 - Payroll reduction'!C500,\"\"))","v":""},{"$f":"IF('4 - Payroll reduction'!C500=\"Name\",\"\",IF('4 - Payroll reduction'!H500=\"Table 2\",'4 - Payroll reduction'!D500,\"\"))","v":""},{"$f":"IF('4 - Payroll reduction'!C500=\"Name\",\"\",IF('4 - Payroll reduction'!H500=\"Table 2\",'4 - Payroll reduction'!E500,\"\"))","v":""},{"$f":"IF('4 - Payroll reduction'!C500=\"Name\",\"\",IF('4 - Payroll reduction'!H500=\"Table 2\",'4 - Payroll reduction'!G500,\"\"))","v":""},null,410]
[{"$f":"IF('4 - Payroll reduction'!C501=\"Name\",\"\",IF('4 - Payroll reduction'!H501=\"Table 2\",'4 - Payroll reduction'!C501,\"\"))","v":""},{"$f":"IF('4 - Payroll reduction'!C501=\"Name\",\"\",IF('4 - Payroll reduction'!H501=\"Table 2\",'4 - Payroll reduction'!D501,\"\"))","v":""},{"$f":"IF('4 - Payroll reduction'!C501=\"Name\",\"\",IF('4 - Payroll reduction'!H501=\"Table 2\",'4 - Payroll reduction'!E501,\"\"))","v":""},{"$f":"IF('4 - Payroll reduction'!C501=\"Name\",\"\",IF('4 - Payroll reduction'!H501=\"Table 2\",'4 - Payroll reduction'!G501,\"\"))","v":""},null,411]
[{"$f":"IF('4 - Payroll reduction'!C502=\"Name\",\"\",IF('4 - Payroll reduction'!H502=\"Table 2\",'4 - Payroll reduction'!C502,\"\"))","v":""},{"$f":"IF('4 - Payroll reduction'!C502=\"Name\",\"\",IF('4 - Payroll reduction'!H502=\"Table 2\",'4 - Payroll reduction'!D502,\"\"))","v":""},{"$f":"IF('4 - Payroll reduction'!C502=\"Name\",\"\",IF('4 - Payroll reduction'!H502=\"Table 2\",'4 - Payroll reduction'!E502,\"\"))","v":""},{"$f":"IF('4 - Payroll reduction'!C502=\"Name\",\"\",IF('4 - Payroll reduction'!H502=\"Table 2\",'4 - Payroll reduction'!G502,\"\"))","v":""},null,412]
[{"$f":"IF('4 - Payroll reduction'!C503=\"Name\",\"\",IF('4 - Payroll reduction'!H503=\"Table 2\",'4 - Payroll reduction'!C503,\"\"))","v":""},{"$f":"IF('4 - Payroll reduction'!C503=\"Name\",\"\",IF('4 - Payroll reduction'!H503=\"Table 2\",'4 - Payroll reduction'!D503,\"\"))","v":""},{"$f":"IF('4 - Payroll reduction'!C503=\"Name\",\"\",IF('4 - Payroll reduction'!H503=\"Table 2\",'4 - Payroll reduction'!E503,\"\"))","v":""},{"$f":"IF('4 - Payroll reduction'!C503=\"Name\",\"\",IF('4 - Payroll reduction'!H503=\"Table 2\",'4 - Payroll reduction'!G503,\"\"))","v":""},null,413]
[{"$f":"IF('4 - Payroll reduction'!C504=\"Name\",\"\",IF('4 - Payroll reduction'!H504=\"Table 2\",'4 - Payroll reduction'!C504,\"\"))","v":""},{"$f":"IF('4 - Payroll reduction'!C504=\"Name\",\"\",IF('4 - Payroll reduction'!H504=\"Table 2\",'4 - Payroll reduction'!D504,\"\"))","v":""},{"$f":"IF('4 - Payroll reduction'!C504=\"Name\",\"\",IF('4 - Payroll reduction'!H504=\"Table 2\",'4 - Payroll reduction'!E504,\"\"))","v":""},{"$f":"IF('4 - Payroll reduction'!C504=\"Name\",\"\",IF('4 - Payroll reduction'!H504=\"Table 2\",'4 - Payroll reduction'!G504,\"\"))","v":""},null,414]
[{"$f":"IF('4 - Payroll reduction'!C505=\"Name\",\"\",IF('4 - Payroll reduction'!H505=\"Table 2\",'4 - Payroll reduction'!C505,\"\"))","v":""},{"$f":"IF('4 - Payroll reduction'!C505=\"Name\",\"\",IF('4 - Payroll reduction'!H505=\"Table 2\",'4 - Payroll reduction'!D505,\"\"))","v":""},{"$f":"IF('4 - Payroll reduction'!C505=\"Name\",\"\",IF('4 - Payroll reduction'!H505=\"Table 2\",'4 - Payroll reduction'!E505,\"\"))","v":""},{"$f":"IF('4 - Payroll reduction'!C505=\"Name\",\"\",IF('4 - Payroll reduction'!H505=\"Table 2\",'4 - Payroll reduction'!G505,\"\"))","v":""},null,415]
[{"$f":"IF('4 - Payroll reduction'!C506=\"Name\",\"\",IF('4 - Payroll reduction'!H506=\"Table 2\",'4 - Payroll reduction'!C506,\"\"))","v":""},{"$f":"IF('4 - Payroll reduction'!C506=\"Name\",\"\",IF('4 - Payroll reduction'!H506=\"Table 2\",'4 - Payroll reduction'!D506,\"\"))","v":""},{"$f":"IF('4 - Payroll reduction'!C506=\"Name\",\"\",IF('4 - Payroll reduction'!H506=\"Table 2\",'4 - Payroll reduction'!E506,\"\"))","v":""},{"$f":"IF('4 - Payroll reduction'!C506=\"Name\",\"\",IF('4 - Payroll reduction'!H506=\"Table 2\",'4 - Payroll reduction'!G506,\"\"))","v":""},null,416]
[{"$f":"IF('4 - Payroll reduction'!C507=\"Name\",\"\",IF('4 - Payroll reduction'!H507=\"Table 2\",'4 - Payroll reduction'!C507,\"\"))","v":""},{"$f":"IF('4 - Payroll reduction'!C507=\"Name\",\"\",IF('4 - Payroll reduction'!H507=\"Table 2\",'4 - Payroll reduction'!D507,\"\"))","v":""},{"$f":"IF('4 - Payroll reduction'!C507=\"Name\",\"\",IF('4 - Payroll reduction'!H507=\"Table 2\",'4 - Payroll reduction'!E507,\"\"))","v":""},{"$f":"IF('4 - Payroll reduction'!C507=\"Name\",\"\",IF('4 - Payroll reduction'!H507=\"Table 2\",'4 - Payroll reduction'!G507,\"\"))","v":""},null,417]
[{"$f":"IF('4 - Payroll reduction'!C508=\"Name\",\"\",IF('4 - Payroll reduction'!H508=\"Table 2\",'4 - Payroll reduction'!C508,\"\"))","v":""},{"$f":"IF('4 - Payroll reduction'!C508=\"Name\",\"\",IF('4 - Payroll reduction'!H508=\"Table 2\",'4 - Payroll reduction'!D508,\"\"))","v":""},{"$f":"IF('4 - Payroll reduction'!C508=\"Name\",\"\",IF('4 - Payroll reduction'!H508=\"Table 2\",'4 - Payroll reduction'!E508,\"\"))","v":""},{"$f":"IF('4 - Payroll reduction'!C508=\"Name\",\"\",IF('4 - Payroll reduction'!H508=\"Table 2\",'4 - Payroll reduction'!G508,\"\"))","v":""},null,418]
[{"$f":"IF('4 - Payroll reduction'!C509=\"Name\",\"\",IF('4 - Payroll reduction'!H509=\"Table 2\",'4 - Payroll reduction'!C509,\"\"))","v":""},{"$f":"IF('4 - Payroll reduction'!C509=\"Name\",\"\",IF('4 - Payroll reduction'!H509=\"Table 2\",'4 - Payroll reduction'!D509,\"\"))","v":""},{"$f":"IF('4 - Payroll reduction'!C509=\"Name\",\"\",IF('4 - Payroll reduction'!H509=\"Table 2\",'4 - Payroll reduction'!E509,\"\"))","v":""},{"$f":"IF('4 - Payroll reduction'!C509=\"Name\",\"\",IF('4 - Payroll reduction'!H509=\"Table 2\",'4 - Payroll reduction'!G509,\"\"))","v":""},null,419]
[{"$f":"IF('4 - Payroll reduction'!C510=\"Name\",\"\",IF('4 - Payroll reduction'!H510=\"Table 2\",'4 - Payroll reduction'!C510,\"\"))","v":""},{"$f":"IF('4 - Payroll reduction'!C510=\"Name\",\"\",IF('4 - Payroll reduction'!H510=\"Table 2\",'4 - Payroll reduction'!D510,\"\"))","v":""},{"$f":"IF('4 - Payroll reduction'!C510=\"Name\",\"\",IF('4 - Payroll reduction'!H510=\"Table 2\",'4 - Payroll reduction'!E510,\"\"))","v":""},{"$f":"IF('4 - Payroll reduction'!C510=\"Name\",\"\",IF('4 - Payroll reduction'!H510=\"Table 2\",'4 - Payroll reduction'!G510,\"\"))","v":""},null,420]
[{"$f":"IF('4 - Payroll reduction'!C511=\"Name\",\"\",IF('4 - Payroll reduction'!H511=\"Table 2\",'4 - Payroll reduction'!C511,\"\"))","v":""},{"$f":"IF('4 - Payroll reduction'!C511=\"Name\",\"\",IF('4 - Payroll reduction'!H511=\"Table 2\",'4 - Payroll reduction'!D511,\"\"))","v":""},{"$f":"IF('4 - Payroll reduction'!C511=\"Name\",\"\",IF('4 - Payroll reduction'!H511=\"Table 2\",'4 - Payroll reduction'!E511,\"\"))","v":""},{"$f":"IF('4 - Payroll reduction'!C511=\"Name\",\"\",IF('4 - Payroll reduction'!H511=\"Table 2\",'4 - Payroll reduction'!G511,\"\"))","v":""},null,421]
[{"$f":"IF('4 - Payroll reduction'!C512=\"Name\",\"\",IF('4 - Payroll reduction'!H512=\"Table 2\",'4 - Payroll reduction'!C512,\"\"))","v":""},{"$f":"IF('4 - Payroll reduction'!C512=\"Name\",\"\",IF('4 - Payroll reduction'!H512=\"Table 2\",'4 - Payroll reduction'!D512,\"\"))","v":""},{"$f":"IF('4 - Payroll reduction'!C512=\"Name\",\"\",IF('4 - Payroll reduction'!H512=\"Table 2\",'4 - Payroll reduction'!E512,\"\"))","v":""},{"$f":"IF('4 - Payroll reduction'!C512=\"Name\",\"\",IF('4 - Payroll reduction'!H512=\"Table 2\",'4 - Payroll reduction'!G512,\"\"))","v":""},null,422]
[{"$f":"IF('4 - Payroll reduction'!C513=\"Name\",\"\",IF('4 - Payroll reduction'!H513=\"Table 2\",'4 - Payroll reduction'!C513,\"\"))","v":""},{"$f":"IF('4 - Payroll reduction'!C513=\"Name\",\"\",IF('4 - Payroll reduction'!H513=\"Table 2\",'4 - Payroll reduction'!D513,\"\"))","v":""},{"$f":"IF('4 - Payroll reduction'!C513=\"Name\",\"\",IF('4 - Payroll reduction'!H513=\"Table 2\",'4 - Payroll reduction'!E513,\"\"))","v":""},{"$f":"IF('4 - Payroll reduction'!C513=\"Name\",\"\",IF('4 - Payroll reduction'!H513=\"Table 2\",'4 - Payroll reduction'!G513,\"\"))","v":""},null,423]
[{"$f":"IF('4 - Payroll reduction'!C514=\"Name\",\"\",IF('4 - Payroll reduction'!H514=\"Table 2\",'4 - Payroll reduction'!C514,\"\"))","v":""},{"$f":"IF('4 - Payroll reduction'!C514=\"Name\",\"\",IF('4 - Payroll reduction'!H514=\"Table 2\",'4 - Payroll reduction'!D514,\"\"))","v":""},{"$f":"IF('4 - Payroll reduction'!C514=\"Name\",\"\",IF('4 - Payroll reduction'!H514=\"Table 2\",'4 - Payroll reduction'!E514,\"\"))","v":""},{"$f":"IF('4 - Payroll reduction'!C514=\"Name\",\"\",IF('4 - Payroll reduction'!H514=\"Table 2\",'4 - Payroll reduction'!G514,\"\"))","v":""},null,424]
[{"$f":"IF('4 - Payroll reduction'!C515=\"Name\",\"\",IF('4 - Payroll reduction'!H515=\"Table 2\",'4 - Payroll reduction'!C515,\"\"))","v":""},{"$f":"IF('4 - Payroll reduction'!C515=\"Name\",\"\",IF('4 - Payroll reduction'!H515=\"Table 2\",'4 - Payroll reduction'!D515,\"\"))","v":""},{"$f":"IF('4 - Payroll reduction'!C515=\"Name\",\"\",IF('4 - Payroll reduction'!H515=\"Table 2\",'4 - Payroll reduction'!E515,\"\"))","v":""},{"$f":"IF('4 - Payroll reduction'!C515=\"Name\",\"\",IF('4 - Payroll reduction'!H515=\"Table 2\",'4 - Payroll reduction'!G515,\"\"))","v":""},null,425]
[{"$f":"IF('4 - Payroll reduction'!C516=\"Name\",\"\",IF('4 - Payroll reduction'!H516=\"Table 2\",'4 - Payroll reduction'!C516,\"\"))","v":""},{"$f":"IF('4 - Payroll reduction'!C516=\"Name\",\"\",IF('4 - Payroll reduction'!H516=\"Table 2\",'4 - Payroll reduction'!D516,\"\"))","v":""},{"$f":"IF('4 - Payroll reduction'!C516=\"Name\",\"\",IF('4 - Payroll reduction'!H516=\"Table 2\",'4 - Payroll reduction'!E516,\"\"))","v":""},{"$f":"IF('4 - Payroll reduction'!C516=\"Name\",\"\",IF('4 - Payroll reduction'!H516=\"Table 2\",'4 - Payroll reduction'!G516,\"\"))","v":""},null,426]
[{"$f":"IF('4 - Payroll reduction'!C517=\"Name\",\"\",IF('4 - Payroll reduction'!H517=\"Table 2\",'4 - Payroll reduction'!C517,\"\"))","v":""},{"$f":"IF('4 - Payroll reduction'!C517=\"Name\",\"\",IF('4 - Payroll reduction'!H517=\"Table 2\",'4 - Payroll reduction'!D517,\"\"))","v":""},{"$f":"IF('4 - Payroll reduction'!C517=\"Name\",\"\",IF('4 - Payroll reduction'!H517=\"Table 2\",'4 - Payroll reduction'!E517,\"\"))","v":""},{"$f":"IF('4 - Payroll reduction'!C517=\"Name\",\"\",IF('4 - Payroll reduction'!H517=\"Table 2\",'4 - Payroll reduction'!G517,\"\"))","v":""},null,427]
[{"$f":"IF('4 - Payroll reduction'!C518=\"Name\",\"\",IF('4 - Payroll reduction'!H518=\"Table 2\",'4 - Payroll reduction'!C518,\"\"))","v":""},{"$f":"IF('4 - Payroll reduction'!C518=\"Name\",\"\",IF('4 - Payroll reduction'!H518=\"Table 2\",'4 - Payroll reduction'!D518,\"\"))","v":""},{"$f":"IF('4 - Payroll reduction'!C518=\"Name\",\"\",IF('4 - Payroll reduction'!H518=\"Table 2\",'4 - Payroll reduction'!E518,\"\"))","v":""},{"$f":"IF('4 - Payroll reduction'!C518=\"Name\",\"\",IF('4 - Payroll reduction'!H518=\"Table 2\",'4 - Payroll reduction'!G518,\"\"))","v":""},null,428]
[{"$f":"IF('4 - Payroll reduction'!C519=\"Name\",\"\",IF('4 - Payroll reduction'!H519=\"Table 2\",'4 - Payroll reduction'!C519,\"\"))","v":""},{"$f":"IF('4 - Payroll reduction'!C519=\"Name\",\"\",IF('4 - Payroll reduction'!H519=\"Table 2\",'4 - Payroll reduction'!D519,\"\"))","v":""},{"$f":"IF('4 - Payroll reduction'!C519=\"Name\",\"\",IF('4 - Payroll reduction'!H519=\"Table 2\",'4 - Payroll reduction'!E519,\"\"))","v":""},{"$f":"IF('4 - Payroll reduction'!C519=\"Name\",\"\",IF('4 - Payroll reduction'!H519=\"Table 2\",'4 - Payroll reduction'!G519,\"\"))","v":""},null,429]
[{"$f":"IF('4 - Payroll reduction'!C520=\"Name\",\"\",IF('4 - Payroll reduction'!H520=\"Table 2\",'4 - Payroll reduction'!C520,\"\"))","v":""},{"$f":"IF('4 - Payroll reduction'!C520=\"Name\",\"\",IF('4 - Payroll reduction'!H520=\"Table 2\",'4 - Payroll reduction'!D520,\"\"))","v":""},{"$f":"IF('4 - Payroll reduction'!C520=\"Name\",\"\",IF('4 - Payroll reduction'!H520=\"Table 2\",'4 - Payroll reduction'!E520,\"\"))","v":""},{"$f":"IF('4 - Payroll reduction'!C520=\"Name\",\"\",IF('4 - Payroll reduction'!H520=\"Table 2\",'4 - Payroll reduction'!G520,\"\"))","v":""},null,430]
[{"$f":"IF('4 - Payroll reduction'!C521=\"Name\",\"\",IF('4 - Payroll reduction'!H521=\"Table 2\",'4 - Payroll reduction'!C521,\"\"))","v":""},{"$f":"IF('4 - Payroll reduction'!C521=\"Name\",\"\",IF('4 - Payroll reduction'!H521=\"Table 2\",'4 - Payroll reduction'!D521,\"\"))","v":""},{"$f":"IF('4 - Payroll reduction'!C521=\"Name\",\"\",IF('4 - Payroll reduction'!H521=\"Table 2\",'4 - Payroll reduction'!E521,\"\"))","v":""},{"$f":"IF('4 - Payroll reduction'!C521=\"Name\",\"\",IF('4 - Payroll reduction'!H521=\"Table 2\",'4 - Payroll reduction'!G521,\"\"))","v":""},null,431]
[{"$f":"IF('4 - Payroll reduction'!C522=\"Name\",\"\",IF('4 - Payroll reduction'!H522=\"Table 2\",'4 - Payroll reduction'!C522,\"\"))","v":""},{"$f":"IF('4 - Payroll reduction'!C522=\"Name\",\"\",IF('4 - Payroll reduction'!H522=\"Table 2\",'4 - Payroll reduction'!D522,\"\"))","v":""},{"$f":"IF('4 - Payroll reduction'!C522=\"Name\",\"\",IF('4 - Payroll reduction'!H522=\"Table 2\",'4 - Payroll reduction'!E522,\"\"))","v":""},{"$f":"IF('4 - Payroll reduction'!C522=\"Name\",\"\",IF('4 - Payroll reduction'!H522=\"Table 2\",'4 - Payroll reduction'!G522,\"\"))","v":""},null,432]
[{"$f":"IF('4 - Payroll reduction'!C523=\"Name\",\"\",IF('4 - Payroll reduction'!H523=\"Table 2\",'4 - Payroll reduction'!C523,\"\"))","v":""},{"$f":"IF('4 - Payroll reduction'!C523=\"Name\",\"\",IF('4 - Payroll reduction'!H523=\"Table 2\",'4 - Payroll reduction'!D523,\"\"))","v":""},{"$f":"IF('4 - Payroll reduction'!C523=\"Name\",\"\",IF('4 - Payroll reduction'!H523=\"Table 2\",'4 - Payroll reduction'!E523,\"\"))","v":""},{"$f":"IF('4 - Payroll reduction'!C523=\"Name\",\"\",IF('4 - Payroll reduction'!H523=\"Table 2\",'4 - Payroll reduction'!G523,\"\"))","v":""},null,433]
[{"$f":"IF('4 - Payroll reduction'!C524=\"Name\",\"\",IF('4 - Payroll reduction'!H524=\"Table 2\",'4 - Payroll reduction'!C524,\"\"))","v":""},{"$f":"IF('4 - Payroll reduction'!C524=\"Name\",\"\",IF('4 - Payroll reduction'!H524=\"Table 2\",'4 - Payroll reduction'!D524,\"\"))","v":""},{"$f":"IF('4 - Payroll reduction'!C524=\"Name\",\"\",IF('4 - Payroll reduction'!H524=\"Table 2\",'4 - Payroll reduction'!E524,\"\"))","v":""},{"$f":"IF('4 - Payroll reduction'!C524=\"Name\",\"\",IF('4 - Payroll reduction'!H524=\"Table 2\",'4 - Payroll reduction'!G524,\"\"))","v":""},null,434]
[{"$f":"IF('4 - Payroll reduction'!C525=\"Name\",\"\",IF('4 - Payroll reduction'!H525=\"Table 2\",'4 - Payroll reduction'!C525,\"\"))","v":""},{"$f":"IF('4 - Payroll reduction'!C525=\"Name\",\"\",IF('4 - Payroll reduction'!H525=\"Table 2\",'4 - Payroll reduction'!D525,\"\"))","v":""},{"$f":"IF('4 - Payroll reduction'!C525=\"Name\",\"\",IF('4 - Payroll reduction'!H525=\"Table 2\",'4 - Payroll reduction'!E525,\"\"))","v":""},{"$f":"IF('4 - Payroll reduction'!C525=\"Name\",\"\",IF('4 - Payroll reduction'!H525=\"Table 2\",'4 - Payroll reduction'!G525,\"\"))","v":""},null,435]
[{"$f":"IF('4 - Payroll reduction'!C526=\"Name\",\"\",IF('4 - Payroll reduction'!H526=\"Table 2\",'4 - Payroll reduction'!C526,\"\"))","v":""},{"$f":"IF('4 - Payroll reduction'!C526=\"Name\",\"\",IF('4 - Payroll reduction'!H526=\"Table 2\",'4 - Payroll reduction'!D526,\"\"))","v":""},{"$f":"IF('4 - Payroll reduction'!C526=\"Name\",\"\",IF('4 - Payroll reduction'!H526=\"Table 2\",'4 - Payroll reduction'!E526,\"\"))","v":""},{"$f":"IF('4 - Payroll reduction'!C526=\"Name\",\"\",IF('4 - Payroll reduction'!H526=\"Table 2\",'4 - Payroll reduction'!G526,\"\"))","v":""},null,436]
[{"$f":"IF('4 - Payroll reduction'!C527=\"Name\",\"\",IF('4 - Payroll reduction'!H527=\"Table 2\",'4 - Payroll reduction'!C527,\"\"))","v":""},{"$f":"IF('4 - Payroll reduction'!C527=\"Name\",\"\",IF('4 - Payroll reduction'!H527=\"Table 2\",'4 - Payroll reduction'!D527,\"\"))","v":""},{"$f":"IF('4 - Payroll reduction'!C527=\"Name\",\"\",IF('4 - Payroll reduction'!H527=\"Table 2\",'4 - Payroll reduction'!E527,\"\"))","v":""},{"$f":"IF('4 - Payroll reduction'!C527=\"Name\",\"\",IF('4 - Payroll reduction'!H527=\"Table 2\",'4 - Payroll reduction'!G527,\"\"))","v":""},null,437]
[{"$f":"IF('4 - Payroll reduction'!C528=\"Name\",\"\",IF('4 - Payroll reduction'!H528=\"Table 2\",'4 - Payroll reduction'!C528,\"\"))","v":""},{"$f":"IF('4 - Payroll reduction'!C528=\"Name\",\"\",IF('4 - Payroll reduction'!H528=\"Table 2\",'4 - Payroll reduction'!D528,\"\"))","v":""},{"$f":"IF('4 - Payroll reduction'!C528=\"Name\",\"\",IF('4 - Payroll reduction'!H528=\"Table 2\",'4 - Payroll reduction'!E528,\"\"))","v":""},{"$f":"IF('4 - Payroll reduction'!C528=\"Name\",\"\",IF('4 - Payroll reduction'!H528=\"Table 2\",'4 - Payroll reduction'!G528,\"\"))","v":""},null,438]
[{"$f":"IF('4 - Payroll reduction'!C529=\"Name\",\"\",IF('4 - Payroll reduction'!H529=\"Table 2\",'4 - Payroll reduction'!C529,\"\"))","v":""},{"$f":"IF('4 - Payroll reduction'!C529=\"Name\",\"\",IF('4 - Payroll reduction'!H529=\"Table 2\",'4 - Payroll reduction'!D529,\"\"))","v":""},{"$f":"IF('4 - Payroll reduction'!C529=\"Name\",\"\",IF('4 - Payroll reduction'!H529=\"Table 2\",'4 - Payroll reduction'!E529,\"\"))","v":""},{"$f":"IF('4 - Payroll reduction'!C529=\"Name\",\"\",IF('4 - Payroll reduction'!H529=\"Table 2\",'4 - Payroll reduction'!G529,\"\"))","v":""},null,439]
[{"$f":"IF('4 - Payroll reduction'!C530=\"Name\",\"\",IF('4 - Payroll reduction'!H530=\"Table 2\",'4 - Payroll reduction'!C530,\"\"))","v":""},{"$f":"IF('4 - Payroll reduction'!C530=\"Name\",\"\",IF('4 - Payroll reduction'!H530=\"Table 2\",'4 - Payroll reduction'!D530,\"\"))","v":""},{"$f":"IF('4 - Payroll reduction'!C530=\"Name\",\"\",IF('4 - Payroll reduction'!H530=\"Table 2\",'4 - Payroll reduction'!E530,\"\"))","v":""},{"$f":"IF('4 - Payroll reduction'!C530=\"Name\",\"\",IF('4 - Payroll reduction'!H530=\"Table 2\",'4 - Payroll reduction'!G530,\"\"))","v":""},null,440]
[{"$f":"IF('4 - Payroll reduction'!C531=\"Name\",\"\",IF('4 - Payroll reduction'!H531=\"Table 2\",'4 - Payroll reduction'!C531,\"\"))","v":""},{"$f":"IF('4 - Payroll reduction'!C531=\"Name\",\"\",IF('4 - Payroll reduction'!H531=\"Table 2\",'4 - Payroll reduction'!D531,\"\"))","v":""},{"$f":"IF('4 - Payroll reduction'!C531=\"Name\",\"\",IF('4 - Payroll reduction'!H531=\"Table 2\",'4 - Payroll reduction'!E531,\"\"))","v":""},{"$f":"IF('4 - Payroll reduction'!C531=\"Name\",\"\",IF('4 - Payroll reduction'!H531=\"Table 2\",'4 - Payroll reduction'!G531,\"\"))","v":""},null,441]
[{"$f":"IF('4 - Payroll reduction'!C532=\"Name\",\"\",IF('4 - Payroll reduction'!H532=\"Table 2\",'4 - Payroll reduction'!C532,\"\"))","v":""},{"$f":"IF('4 - Payroll reduction'!C532=\"Name\",\"\",IF('4 - Payroll reduction'!H532=\"Table 2\",'4 - Payroll reduction'!D532,\"\"))","v":""},{"$f":"IF('4 - Payroll reduction'!C532=\"Name\",\"\",IF('4 - Payroll reduction'!H532=\"Table 2\",'4 - Payroll reduction'!E532,\"\"))","v":""},{"$f":"IF('4 - Payroll reduction'!C532=\"Name\",\"\",IF('4 - Payroll reduction'!H532=\"Table 2\",'4 - Payroll reduction'!G532,\"\"))","v":""},null,442]
[{"$f":"IF('4 - Payroll reduction'!C533=\"Name\",\"\",IF('4 - Payroll reduction'!H533=\"Table 2\",'4 - Payroll reduction'!C533,\"\"))","v":""},{"$f":"IF('4 - Payroll reduction'!C533=\"Name\",\"\",IF('4 - Payroll reduction'!H533=\"Table 2\",'4 - Payroll reduction'!D533,\"\"))","v":""},{"$f":"IF('4 - Payroll reduction'!C533=\"Name\",\"\",IF('4 - Payroll reduction'!H533=\"Table 2\",'4 - Payroll reduction'!E533,\"\"))","v":""},{"$f":"IF('4 - Payroll reduction'!C533=\"Name\",\"\",IF('4 - Payroll reduction'!H533=\"Table 2\",'4 - Payroll reduction'!G533,\"\"))","v":""},null,443]
[{"$f":"IF('4 - Payroll reduction'!C534=\"Name\",\"\",IF('4 - Payroll reduction'!H534=\"Table 2\",'4 - Payroll reduction'!C534,\"\"))","v":""},{"$f":"IF('4 - Payroll reduction'!C534=\"Name\",\"\",IF('4 - Payroll reduction'!H534=\"Table 2\",'4 - Payroll reduction'!D534,\"\"))","v":""},{"$f":"IF('4 - Payroll reduction'!C534=\"Name\",\"\",IF('4 - Payroll reduction'!H534=\"Table 2\",'4 - Payroll reduction'!E534,\"\"))","v":""},{"$f":"IF('4 - Payroll reduction'!C534=\"Name\",\"\",IF('4 - Payroll reduction'!H534=\"Table 2\",'4 - Payroll reduction'!G534,\"\"))","v":""},null,444]
[{"$f":"IF('4 - Payroll reduction'!C535=\"Name\",\"\",IF('4 - Payroll reduction'!H535=\"Table 2\",'4 - Payroll reduction'!C535,\"\"))","v":""},{"$f":"IF('4 - Payroll reduction'!C535=\"Name\",\"\",IF('4 - Payroll reduction'!H535=\"Table 2\",'4 - Payroll reduction'!D535,\"\"))","v":""},{"$f":"IF('4 - Payroll reduction'!C535=\"Name\",\"\",IF('4 - Payroll reduction'!H535=\"Table 2\",'4 - Payroll reduction'!E535,\"\"))","v":""},{"$f":"IF('4 - Payroll reduction'!C535=\"Name\",\"\",IF('4 - Payroll reduction'!H535=\"Table 2\",'4 - Payroll reduction'!G535,\"\"))","v":""},null,445]
[{"$f":"IF('4 - Payroll reduction'!C536=\"Name\",\"\",IF('4 - Payroll reduction'!H536=\"Table 2\",'4 - Payroll reduction'!C536,\"\"))","v":""},{"$f":"IF('4 - Payroll reduction'!C536=\"Name\",\"\",IF('4 - Payroll reduction'!H536=\"Table 2\",'4 - Payroll reduction'!D536,\"\"))","v":""},{"$f":"IF('4 - Payroll reduction'!C536=\"Name\",\"\",IF('4 - Payroll reduction'!H536=\"Table 2\",'4 - Payroll reduction'!E536,\"\"))","v":""},{"$f":"IF('4 - Payroll reduction'!C536=\"Name\",\"\",IF('4 - Payroll reduction'!H536=\"Table 2\",'4 - Payroll reduction'!G536,\"\"))","v":""},null,446]
[{"$f":"IF('4 - Payroll reduction'!C537=\"Name\",\"\",IF('4 - Payroll reduction'!H537=\"Table 2\",'4 - Payroll reduction'!C537,\"\"))","v":""},{"$f":"IF('4 - Payroll reduction'!C537=\"Name\",\"\",IF('4 - Payroll reduction'!H537=\"Table 2\",'4 - Payroll reduction'!D537,\"\"))","v":""},{"$f":"IF('4 - Payroll reduction'!C537=\"Name\",\"\",IF('4 - Payroll reduction'!H537=\"Table 2\",'4 - Payroll reduction'!E537,\"\"))","v":""},{"$f":"IF('4 - Payroll reduction'!C537=\"Name\",\"\",IF('4 - Payroll reduction'!H537=\"Table 2\",'4 - Payroll reduction'!G537,\"\"))","v":""},null,447]
[{"$f":"IF('4 - Payroll reduction'!C538=\"Name\",\"\",IF('4 - Payroll reduction'!H538=\"Table 2\",'4 - Payroll reduction'!C538,\"\"))","v":""},{"$f":"IF('4 - Payroll reduction'!C538=\"Name\",\"\",IF('4 - Payroll reduction'!H538=\"Table 2\",'4 - Payroll reduction'!D538,\"\"))","v":""},{"$f":"IF('4 - Payroll reduction'!C538=\"Name\",\"\",IF('4 - Payroll reduction'!H538=\"Table 2\",'4 - Payroll reduction'!E538,\"\"))","v":""},{"$f":"IF('4 - Payroll reduction'!C538=\"Name\",\"\",IF('4 - Payroll reduction'!H538=\"Table 2\",'4 - Payroll reduction'!G538,\"\"))","v":""},null,448]
[{"$f":"IF('4 - Payroll reduction'!C539=\"Name\",\"\",IF('4 - Payroll reduction'!H539=\"Table 2\",'4 - Payroll reduction'!C539,\"\"))","v":""},{"$f":"IF('4 - Payroll reduction'!C539=\"Name\",\"\",IF('4 - Payroll reduction'!H539=\"Table 2\",'4 - Payroll reduction'!D539,\"\"))","v":""},{"$f":"IF('4 - Payroll reduction'!C539=\"Name\",\"\",IF('4 - Payroll reduction'!H539=\"Table 2\",'4 - Payroll reduction'!E539,\"\"))","v":""},{"$f":"IF('4 - Payroll reduction'!C539=\"Name\",\"\",IF('4 - Payroll reduction'!H539=\"Table 2\",'4 - Payroll reduction'!G539,\"\"))","v":""},null,449]
[{"$f":"IF('4 - Payroll reduction'!C540=\"Name\",\"\",IF('4 - Payroll reduction'!H540=\"Table 2\",'4 - Payroll reduction'!C540,\"\"))","v":""},{"$f":"IF('4 - Payroll reduction'!C540=\"Name\",\"\",IF('4 - Payroll reduction'!H540=\"Table 2\",'4 - Payroll reduction'!D540,\"\"))","v":""},{"$f":"IF('4 - Payroll reduction'!C540=\"Name\",\"\",IF('4 - Payroll reduction'!H540=\"Table 2\",'4 - Payroll reduction'!E540,\"\"))","v":""},{"$f":"IF('4 - Payroll reduction'!C540=\"Name\",\"\",IF('4 - Payroll reduction'!H540=\"Table 2\",'4 - Payroll reduction'!G540,\"\"))","v":""},null,450]
[{"$f":"IF('4 - Payroll reduction'!C541=\"Name\",\"\",IF('4 - Payroll reduction'!H541=\"Table 2\",'4 - Payroll reduction'!C541,\"\"))","v":""},{"$f":"IF('4 - Payroll reduction'!C541=\"Name\",\"\",IF('4 - Payroll reduction'!H541=\"Table 2\",'4 - Payroll reduction'!D541,\"\"))","v":""},{"$f":"IF('4 - Payroll reduction'!C541=\"Name\",\"\",IF('4 - Payroll reduction'!H541=\"Table 2\",'4 - Payroll reduction'!E541,\"\"))","v":""},{"$f":"IF('4 - Payroll reduction'!C541=\"Name\",\"\",IF('4 - Payroll reduction'!H541=\"Table 2\",'4 - Payroll reduction'!G541,\"\"))","v":""},null,451]
[{"$f":"IF('4 - Payroll reduction'!C542=\"Name\",\"\",IF('4 - Payroll reduction'!H542=\"Table 2\",'4 - Payroll reduction'!C542,\"\"))","v":""},{"$f":"IF('4 - Payroll reduction'!C542=\"Name\",\"\",IF('4 - Payroll reduction'!H542=\"Table 2\",'4 - Payroll reduction'!D542,\"\"))","v":""},{"$f":"IF('4 - Payroll reduction'!C542=\"Name\",\"\",IF('4 - Payroll reduction'!H542=\"Table 2\",'4 - Payroll reduction'!E542,\"\"))","v":""},{"$f":"IF('4 - Payroll reduction'!C542=\"Name\",\"\",IF('4 - Payroll reduction'!H542=\"Table 2\",'4 - Payroll reduction'!G542,\"\"))","v":""},null,{"$f":"F965+1","v":452}]
[{"$f":"IF('4 - Payroll reduction'!C543=\"Name\",\"\",IF('4 - Payroll reduction'!H543=\"Table 2\",'4 - Payroll reduction'!C543,\"\"))","v":""},{"$f":"IF('4 - Payroll reduction'!C543=\"Name\",\"\",IF('4 - Payroll reduction'!H543=\"Table 2\",'4 - Payroll reduction'!D543,\"\"))","v":""},{"$f":"IF('4 - Payroll reduction'!C543=\"Name\",\"\",IF('4 - Payroll reduction'!H543=\"Table 2\",'4 - Payroll reduction'!E543,\"\"))","v":""},{"$f":"IF('4 - Payroll reduction'!C543=\"Name\",\"\",IF('4 - Payroll reduction'!H543=\"Table 2\",'4 - Payroll reduction'!G543,\"\"))","v":""},null,453]
[{"$f":"IF('4 - Payroll reduction'!C544=\"Name\",\"\",IF('4 - Payroll reduction'!H544=\"Table 2\",'4 - Payroll reduction'!C544,\"\"))","v":""},{"$f":"IF('4 - Payroll reduction'!C544=\"Name\",\"\",IF('4 - Payroll reduction'!H544=\"Table 2\",'4 - Payroll reduction'!D544,\"\"))","v":""},{"$f":"IF('4 - Payroll reduction'!C544=\"Name\",\"\",IF('4 - Payroll reduction'!H544=\"Table 2\",'4 - Payroll reduction'!E544,\"\"))","v":""},{"$f":"IF('4 - Payroll reduction'!C544=\"Name\",\"\",IF('4 - Payroll reduction'!H544=\"Table 2\",'4 - Payroll reduction'!G544,\"\"))","v":""},null,454]
[{"$f":"IF('4 - Payroll reduction'!C545=\"Name\",\"\",IF('4 - Payroll reduction'!H545=\"Table 2\",'4 - Payroll reduction'!C545,\"\"))","v":""},{"$f":"IF('4 - Payroll reduction'!C545=\"Name\",\"\",IF('4 - Payroll reduction'!H545=\"Table 2\",'4 - Payroll reduction'!D545,\"\"))","v":""},{"$f":"IF('4 - Payroll reduction'!C545=\"Name\",\"\",IF('4 - Payroll reduction'!H545=\"Table 2\",'4 - Payroll reduction'!E545,\"\"))","v":""},{"$f":"IF('4 - Payroll reduction'!C545=\"Name\",\"\",IF('4 - Payroll reduction'!H545=\"Table 2\",'4 - Payroll reduction'!G545,\"\"))","v":""},null,455]
[{"$f":"IF('4 - Payroll reduction'!C546=\"Name\",\"\",IF('4 - Payroll reduction'!H546=\"Table 2\",'4 - Payroll reduction'!C546,\"\"))","v":""},{"$f":"IF('4 - Payroll reduction'!C546=\"Name\",\"\",IF('4 - Payroll reduction'!H546=\"Table 2\",'4 - Payroll reduction'!D546,\"\"))","v":""},{"$f":"IF('4 - Payroll reduction'!C546=\"Name\",\"\",IF('4 - Payroll reduction'!H546=\"Table 2\",'4 - Payroll reduction'!E546,\"\"))","v":""},{"$f":"IF('4 - Payroll reduction'!C546=\"Name\",\"\",IF('4 - Payroll reduction'!H546=\"Table 2\",'4 - Payroll reduction'!G546,\"\"))","v":""},null,456]
[{"$f":"IF('4 - Payroll reduction'!C547=\"Name\",\"\",IF('4 - Payroll reduction'!H547=\"Table 2\",'4 - Payroll reduction'!C547,\"\"))","v":""},{"$f":"IF('4 - Payroll reduction'!C547=\"Name\",\"\",IF('4 - Payroll reduction'!H547=\"Table 2\",'4 - Payroll reduction'!D547,\"\"))","v":""},{"$f":"IF('4 - Payroll reduction'!C547=\"Name\",\"\",IF('4 - Payroll reduction'!H547=\"Table 2\",'4 - Payroll reduction'!E547,\"\"))","v":""},{"$f":"IF('4 - Payroll reduction'!C547=\"Name\",\"\",IF('4 - Payroll reduction'!H547=\"Table 2\",'4 - Payroll reduction'!G547,\"\"))","v":""},null,457]
[{"$f":"IF('4 - Payroll reduction'!C548=\"Name\",\"\",IF('4 - Payroll reduction'!H548=\"Table 2\",'4 - Payroll reduction'!C548,\"\"))","v":""},{"$f":"IF('4 - Payroll reduction'!C548=\"Name\",\"\",IF('4 - Payroll reduction'!H548=\"Table 2\",'4 - Payroll reduction'!D548,\"\"))","v":""},{"$f":"IF('4 - Payroll reduction'!C548=\"Name\",\"\",IF('4 - Payroll reduction'!H548=\"Table 2\",'4 - Payroll reduction'!E548,\"\"))","v":""},{"$f":"IF('4 - Payroll reduction'!C548=\"Name\",\"\",IF('4 - Payroll reduction'!H548=\"Table 2\",'4 - Payroll reduction'!G548,\"\"))","v":""},null,458]
[{"$f":"IF('4 - Payroll reduction'!C549=\"Name\",\"\",IF('4 - Payroll reduction'!H549=\"Table 2\",'4 - Payroll reduction'!C549,\"\"))","v":""},{"$f":"IF('4 - Payroll reduction'!C549=\"Name\",\"\",IF('4 - Payroll reduction'!H549=\"Table 2\",'4 - Payroll reduction'!D549,\"\"))","v":""},{"$f":"IF('4 - Payroll reduction'!C549=\"Name\",\"\",IF('4 - Payroll reduction'!H549=\"Table 2\",'4 - Payroll reduction'!E549,\"\"))","v":""},{"$f":"IF('4 - Payroll reduction'!C549=\"Name\",\"\",IF('4 - Payroll reduction'!H549=\"Table 2\",'4 - Payroll reduction'!G549,\"\"))","v":""},null,459]
[{"$f":"IF('4 - Payroll reduction'!C550=\"Name\",\"\",IF('4 - Payroll reduction'!H550=\"Table 2\",'4 - Payroll reduction'!C550,\"\"))","v":""},{"$f":"IF('4 - Payroll reduction'!C550=\"Name\",\"\",IF('4 - Payroll reduction'!H550=\"Table 2\",'4 - Payroll reduction'!D550,\"\"))","v":""},{"$f":"IF('4 - Payroll reduction'!C550=\"Name\",\"\",IF('4 - Payroll reduction'!H550=\"Table 2\",'4 - Payroll reduction'!E550,\"\"))","v":""},{"$f":"IF('4 - Payroll reduction'!C550=\"Name\",\"\",IF('4 - Payroll reduction'!H550=\"Table 2\",'4 - Payroll reduction'!G550,\"\"))","v":""},null,460]
[{"$f":"IF('4 - Payroll reduction'!C551=\"Name\",\"\",IF('4 - Payroll reduction'!H551=\"Table 2\",'4 - Payroll reduction'!C551,\"\"))","v":""},{"$f":"IF('4 - Payroll reduction'!C551=\"Name\",\"\",IF('4 - Payroll reduction'!H551=\"Table 2\",'4 - Payroll reduction'!D551,\"\"))","v":""},{"$f":"IF('4 - Payroll reduction'!C551=\"Name\",\"\",IF('4 - Payroll reduction'!H551=\"Table 2\",'4 - Payroll reduction'!E551,\"\"))","v":""},{"$f":"IF('4 - Payroll reduction'!C551=\"Name\",\"\",IF('4 - Payroll reduction'!H551=\"Table 2\",'4 - Payroll reduction'!G551,\"\"))","v":""},null,461]
[{"$f":"IF('4 - Payroll reduction'!C552=\"Name\",\"\",IF('4 - Payroll reduction'!H552=\"Table 2\",'4 - Payroll reduction'!C552,\"\"))","v":""},{"$f":"IF('4 - Payroll reduction'!C552=\"Name\",\"\",IF('4 - Payroll reduction'!H552=\"Table 2\",'4 - Payroll reduction'!D552,\"\"))","v":""},{"$f":"IF('4 - Payroll reduction'!C552=\"Name\",\"\",IF('4 - Payroll reduction'!H552=\"Table 2\",'4 - Payroll reduction'!E552,\"\"))","v":""},{"$f":"IF('4 - Payroll reduction'!C552=\"Name\",\"\",IF('4 - Payroll reduction'!H552=\"Table 2\",'4 - Payroll reduction'!G552,\"\"))","v":""},null,462]
[{"$f":"IF('4 - Payroll reduction'!C553=\"Name\",\"\",IF('4 - Payroll reduction'!H553=\"Table 2\",'4 - Payroll reduction'!C553,\"\"))","v":""},{"$f":"IF('4 - Payroll reduction'!C553=\"Name\",\"\",IF('4 - Payroll reduction'!H553=\"Table 2\",'4 - Payroll reduction'!D553,\"\"))","v":""},{"$f":"IF('4 - Payroll reduction'!C553=\"Name\",\"\",IF('4 - Payroll reduction'!H553=\"Table 2\",'4 - Payroll reduction'!E553,\"\"))","v":""},{"$f":"IF('4 - Payroll reduction'!C553=\"Name\",\"\",IF('4 - Payroll reduction'!H553=\"Table 2\",'4 - Payroll reduction'!G553,\"\"))","v":""},null,463]
[{"$f":"IF('4 - Payroll reduction'!C554=\"Name\",\"\",IF('4 - Payroll reduction'!H554=\"Table 2\",'4 - Payroll reduction'!C554,\"\"))","v":""},{"$f":"IF('4 - Payroll reduction'!C554=\"Name\",\"\",IF('4 - Payroll reduction'!H554=\"Table 2\",'4 - Payroll reduction'!D554,\"\"))","v":""},{"$f":"IF('4 - Payroll reduction'!C554=\"Name\",\"\",IF('4 - Payroll reduction'!H554=\"Table 2\",'4 - Payroll reduction'!E554,\"\"))","v":""},{"$f":"IF('4 - Payroll reduction'!C554=\"Name\",\"\",IF('4 - Payroll reduction'!H554=\"Table 2\",'4 - Payroll reduction'!G554,\"\"))","v":""},null,464]
[{"$f":"IF('4 - Payroll reduction'!C555=\"Name\",\"\",IF('4 - Payroll reduction'!H555=\"Table 2\",'4 - Payroll reduction'!C555,\"\"))","v":""},{"$f":"IF('4 - Payroll reduction'!C555=\"Name\",\"\",IF('4 - Payroll reduction'!H555=\"Table 2\",'4 - Payroll reduction'!D555,\"\"))","v":""},{"$f":"IF('4 - Payroll reduction'!C555=\"Name\",\"\",IF('4 - Payroll reduction'!H555=\"Table 2\",'4 - Payroll reduction'!E555,\"\"))","v":""},{"$f":"IF('4 - Payroll reduction'!C555=\"Name\",\"\",IF('4 - Payroll reduction'!H555=\"Table 2\",'4 - Payroll reduction'!G555,\"\"))","v":""},null,465]
[{"$f":"IF('4 - Payroll reduction'!C556=\"Name\",\"\",IF('4 - Payroll reduction'!H556=\"Table 2\",'4 - Payroll reduction'!C556,\"\"))","v":""},{"$f":"IF('4 - Payroll reduction'!C556=\"Name\",\"\",IF('4 - Payroll reduction'!H556=\"Table 2\",'4 - Payroll reduction'!D556,\"\"))","v":""},{"$f":"IF('4 - Payroll reduction'!C556=\"Name\",\"\",IF('4 - Payroll reduction'!H556=\"Table 2\",'4 - Payroll reduction'!E556,\"\"))","v":""},{"$f":"IF('4 - Payroll reduction'!C556=\"Name\",\"\",IF('4 - Payroll reduction'!H556=\"Table 2\",'4 - Payroll reduction'!G556,\"\"))","v":""},null,466]
[{"$f":"IF('4 - Payroll reduction'!C557=\"Name\",\"\",IF('4 - Payroll reduction'!H557=\"Table 2\",'4 - Payroll reduction'!C557,\"\"))","v":""},{"$f":"IF('4 - Payroll reduction'!C557=\"Name\",\"\",IF('4 - Payroll reduction'!H557=\"Table 2\",'4 - Payroll reduction'!D557,\"\"))","v":""},{"$f":"IF('4 - Payroll reduction'!C557=\"Name\",\"\",IF('4 - Payroll reduction'!H557=\"Table 2\",'4 - Payroll reduction'!E557,\"\"))","v":""},{"$f":"IF('4 - Payroll reduction'!C557=\"Name\",\"\",IF('4 - Payroll reduction'!H557=\"Table 2\",'4 - Payroll reduction'!G557,\"\"))","v":""},null,467]
[{"$f":"IF('4 - Payroll reduction'!C558=\"Name\",\"\",IF('4 - Payroll reduction'!H558=\"Table 2\",'4 - Payroll reduction'!C558,\"\"))","v":""},{"$f":"IF('4 - Payroll reduction'!C558=\"Name\",\"\",IF('4 - Payroll reduction'!H558=\"Table 2\",'4 - Payroll reduction'!D558,\"\"))","v":""},{"$f":"IF('4 - Payroll reduction'!C558=\"Name\",\"\",IF('4 - Payroll reduction'!H558=\"Table 2\",'4 - Payroll reduction'!E558,\"\"))","v":""},{"$f":"IF('4 - Payroll reduction'!C558=\"Name\",\"\",IF('4 - Payroll reduction'!H558=\"Table 2\",'4 - Payroll reduction'!G558,\"\"))","v":""},null,468]
[{"$f":"IF('4 - Payroll reduction'!C559=\"Name\",\"\",IF('4 - Payroll reduction'!H559=\"Table 2\",'4 - Payroll reduction'!C559,\"\"))","v":""},{"$f":"IF('4 - Payroll reduction'!C559=\"Name\",\"\",IF('4 - Payroll reduction'!H559=\"Table 2\",'4 - Payroll reduction'!D559,\"\"))","v":""},{"$f":"IF('4 - Payroll reduction'!C559=\"Name\",\"\",IF('4 - Payroll reduction'!H559=\"Table 2\",'4 - Payroll reduction'!E559,\"\"))","v":""},{"$f":"IF('4 - Payroll reduction'!C559=\"Name\",\"\",IF('4 - Payroll reduction'!H559=\"Table 2\",'4 - Payroll reduction'!G559,\"\"))","v":""},null,469]
[{"$f":"IF('4 - Payroll reduction'!C560=\"Name\",\"\",IF('4 - Payroll reduction'!H560=\"Table 2\",'4 - Payroll reduction'!C560,\"\"))","v":""},{"$f":"IF('4 - Payroll reduction'!C560=\"Name\",\"\",IF('4 - Payroll reduction'!H560=\"Table 2\",'4 - Payroll reduction'!D560,\"\"))","v":""},{"$f":"IF('4 - Payroll reduction'!C560=\"Name\",\"\",IF('4 - Payroll reduction'!H560=\"Table 2\",'4 - Payroll reduction'!E560,\"\"))","v":""},{"$f":"IF('4 - Payroll reduction'!C560=\"Name\",\"\",IF('4 - Payroll reduction'!H560=\"Table 2\",'4 - Payroll reduction'!G560,\"\"))","v":""},null,470]
[{"$f":"IF('4 - Payroll reduction'!C561=\"Name\",\"\",IF('4 - Payroll reduction'!H561=\"Table 2\",'4 - Payroll reduction'!C561,\"\"))","v":""},{"$f":"IF('4 - Payroll reduction'!C561=\"Name\",\"\",IF('4 - Payroll reduction'!H561=\"Table 2\",'4 - Payroll reduction'!D561,\"\"))","v":""},{"$f":"IF('4 - Payroll reduction'!C561=\"Name\",\"\",IF('4 - Payroll reduction'!H561=\"Table 2\",'4 - Payroll reduction'!E561,\"\"))","v":""},{"$f":"IF('4 - Payroll reduction'!C561=\"Name\",\"\",IF('4 - Payroll reduction'!H561=\"Table 2\",'4 - Payroll reduction'!G561,\"\"))","v":""},null,471]
[{"$f":"IF('4 - Payroll reduction'!C562=\"Name\",\"\",IF('4 - Payroll reduction'!H562=\"Table 2\",'4 - Payroll reduction'!C562,\"\"))","v":""},{"$f":"IF('4 - Payroll reduction'!C562=\"Name\",\"\",IF('4 - Payroll reduction'!H562=\"Table 2\",'4 - Payroll reduction'!D562,\"\"))","v":""},{"$f":"IF('4 - Payroll reduction'!C562=\"Name\",\"\",IF('4 - Payroll reduction'!H562=\"Table 2\",'4 - Payroll reduction'!E562,\"\"))","v":""},{"$f":"IF('4 - Payroll reduction'!C562=\"Name\",\"\",IF('4 - Payroll reduction'!H562=\"Table 2\",'4 - Payroll reduction'!G562,\"\"))","v":""},null,472]
[{"$f":"IF('4 - Payroll reduction'!C563=\"Name\",\"\",IF('4 - Payroll reduction'!H563=\"Table 2\",'4 - Payroll reduction'!C563,\"\"))","v":""},{"$f":"IF('4 - Payroll reduction'!C563=\"Name\",\"\",IF('4 - Payroll reduction'!H563=\"Table 2\",'4 - Payroll reduction'!D563,\"\"))","v":""},{"$f":"IF('4 - Payroll reduction'!C563=\"Name\",\"\",IF('4 - Payroll reduction'!H563=\"Table 2\",'4 - Payroll reduction'!E563,\"\"))","v":""},{"$f":"IF('4 - Payroll reduction'!C563=\"Name\",\"\",IF('4 - Payroll reduction'!H563=\"Table 2\",'4 - Payroll reduction'!G563,\"\"))","v":""},null,473]
[{"$f":"IF('4 - Payroll reduction'!C564=\"Name\",\"\",IF('4 - Payroll reduction'!H564=\"Table 2\",'4 - Payroll reduction'!C564,\"\"))","v":""},{"$f":"IF('4 - Payroll reduction'!C564=\"Name\",\"\",IF('4 - Payroll reduction'!H564=\"Table 2\",'4 - Payroll reduction'!D564,\"\"))","v":""},{"$f":"IF('4 - Payroll reduction'!C564=\"Name\",\"\",IF('4 - Payroll reduction'!H564=\"Table 2\",'4 - Payroll reduction'!E564,\"\"))","v":""},{"$f":"IF('4 - Payroll reduction'!C564=\"Name\",\"\",IF('4 - Payroll reduction'!H564=\"Table 2\",'4 - Payroll reduction'!G564,\"\"))","v":""},null,474]
[{"$f":"IF('4 - Payroll reduction'!C565=\"Name\",\"\",IF('4 - Payroll reduction'!H565=\"Table 2\",'4 - Payroll reduction'!C565,\"\"))","v":""},{"$f":"IF('4 - Payroll reduction'!C565=\"Name\",\"\",IF('4 - Payroll reduction'!H565=\"Table 2\",'4 - Payroll reduction'!D565,\"\"))","v":""},{"$f":"IF('4 - Payroll reduction'!C565=\"Name\",\"\",IF('4 - Payroll reduction'!H565=\"Table 2\",'4 - Payroll reduction'!E565,\"\"))","v":""},{"$f":"IF('4 - Payroll reduction'!C565=\"Name\",\"\",IF('4 - Payroll reduction'!H565=\"Table 2\",'4 - Payroll reduction'!G565,\"\"))","v":""},null,475]
[{"$f":"IF('4 - Payroll reduction'!C566=\"Name\",\"\",IF('4 - Payroll reduction'!H566=\"Table 2\",'4 - Payroll reduction'!C566,\"\"))","v":""},{"$f":"IF('4 - Payroll reduction'!C566=\"Name\",\"\",IF('4 - Payroll reduction'!H566=\"Table 2\",'4 - Payroll reduction'!D566,\"\"))","v":""},{"$f":"IF('4 - Payroll reduction'!C566=\"Name\",\"\",IF('4 - Payroll reduction'!H566=\"Table 2\",'4 - Payroll reduction'!E566,\"\"))","v":""},{"$f":"IF('4 - Payroll reduction'!C566=\"Name\",\"\",IF('4 - Payroll reduction'!H566=\"Table 2\",'4 - Payroll reduction'!G566,\"\"))","v":""},null,476]
[{"$f":"IF('4 - Payroll reduction'!C567=\"Name\",\"\",IF('4 - Payroll reduction'!H567=\"Table 2\",'4 - Payroll reduction'!C567,\"\"))","v":""},{"$f":"IF('4 - Payroll reduction'!C567=\"Name\",\"\",IF('4 - Payroll reduction'!H567=\"Table 2\",'4 - Payroll reduction'!D567,\"\"))","v":""},{"$f":"IF('4 - Payroll reduction'!C567=\"Name\",\"\",IF('4 - Payroll reduction'!H567=\"Table 2\",'4 - Payroll reduction'!E567,\"\"))","v":""},{"$f":"IF('4 - Payroll reduction'!C567=\"Name\",\"\",IF('4 - Payroll reduction'!H567=\"Table 2\",'4 - Payroll reduction'!G567,\"\"))","v":""},null,477]
[{"$f":"IF('4 - Payroll reduction'!C568=\"Name\",\"\",IF('4 - Payroll reduction'!H568=\"Table 2\",'4 - Payroll reduction'!C568,\"\"))","v":""},{"$f":"IF('4 - Payroll reduction'!C568=\"Name\",\"\",IF('4 - Payroll reduction'!H568=\"Table 2\",'4 - Payroll reduction'!D568,\"\"))","v":""},{"$f":"IF('4 - Payroll reduction'!C568=\"Name\",\"\",IF('4 - Payroll reduction'!H568=\"Table 2\",'4 - Payroll reduction'!E568,\"\"))","v":""},{"$f":"IF('4 - Payroll reduction'!C568=\"Name\",\"\",IF('4 - Payroll reduction'!H568=\"Table 2\",'4 - Payroll reduction'!G568,\"\"))","v":""},null,478]
[{"$f":"IF('4 - Payroll reduction'!C569=\"Name\",\"\",IF('4 - Payroll reduction'!H569=\"Table 2\",'4 - Payroll reduction'!C569,\"\"))","v":""},{"$f":"IF('4 - Payroll reduction'!C569=\"Name\",\"\",IF('4 - Payroll reduction'!H569=\"Table 2\",'4 - Payroll reduction'!D569,\"\"))","v":""},{"$f":"IF('4 - Payroll reduction'!C569=\"Name\",\"\",IF('4 - Payroll reduction'!H569=\"Table 2\",'4 - Payroll reduction'!E569,\"\"))","v":""},{"$f":"IF('4 - Payroll reduction'!C569=\"Name\",\"\",IF('4 - Payroll reduction'!H569=\"Table 2\",'4 - Payroll reduction'!G569,\"\"))","v":""},null,479]
[{"$f":"IF('4 - Payroll reduction'!C570=\"Name\",\"\",IF('4 - Payroll reduction'!H570=\"Table 2\",'4 - Payroll reduction'!C570,\"\"))","v":""},{"$f":"IF('4 - Payroll reduction'!C570=\"Name\",\"\",IF('4 - Payroll reduction'!H570=\"Table 2\",'4 - Payroll reduction'!D570,\"\"))","v":""},{"$f":"IF('4 - Payroll reduction'!C570=\"Name\",\"\",IF('4 - Payroll reduction'!H570=\"Table 2\",'4 - Payroll reduction'!E570,\"\"))","v":""},{"$f":"IF('4 - Payroll reduction'!C570=\"Name\",\"\",IF('4 - Payroll reduction'!H570=\"Table 2\",'4 - Payroll reduction'!G570,\"\"))","v":""},null,480]
[{"$f":"IF('4 - Payroll reduction'!C571=\"Name\",\"\",IF('4 - Payroll reduction'!H571=\"Table 2\",'4 - Payroll reduction'!C571,\"\"))","v":""},{"$f":"IF('4 - Payroll reduction'!C571=\"Name\",\"\",IF('4 - Payroll reduction'!H571=\"Table 2\",'4 - Payroll reduction'!D571,\"\"))","v":""},{"$f":"IF('4 - Payroll reduction'!C571=\"Name\",\"\",IF('4 - Payroll reduction'!H571=\"Table 2\",'4 - Payroll reduction'!E571,\"\"))","v":""},{"$f":"IF('4 - Payroll reduction'!C571=\"Name\",\"\",IF('4 - Payroll reduction'!H571=\"Table 2\",'4 - Payroll reduction'!G571,\"\"))","v":""},null,481]
[{"$f":"IF('4 - Payroll reduction'!C572=\"Name\",\"\",IF('4 - Payroll reduction'!H572=\"Table 2\",'4 - Payroll reduction'!C572,\"\"))","v":""},{"$f":"IF('4 - Payroll reduction'!C572=\"Name\",\"\",IF('4 - Payroll reduction'!H572=\"Table 2\",'4 - Payroll reduction'!D572,\"\"))","v":""},{"$f":"IF('4 - Payroll reduction'!C572=\"Name\",\"\",IF('4 - Payroll reduction'!H572=\"Table 2\",'4 - Payroll reduction'!E572,\"\"))","v":""},{"$f":"IF('4 - Payroll reduction'!C572=\"Name\",\"\",IF('4 - Payroll reduction'!H572=\"Table 2\",'4 - Payroll reduction'!G572,\"\"))","v":""},null,482]
[{"$f":"IF('4 - Payroll reduction'!C573=\"Name\",\"\",IF('4 - Payroll reduction'!H573=\"Table 2\",'4 - Payroll reduction'!C573,\"\"))","v":""},{"$f":"IF('4 - Payroll reduction'!C573=\"Name\",\"\",IF('4 - Payroll reduction'!H573=\"Table 2\",'4 - Payroll reduction'!D573,\"\"))","v":""},{"$f":"IF('4 - Payroll reduction'!C573=\"Name\",\"\",IF('4 - Payroll reduction'!H573=\"Table 2\",'4 - Payroll reduction'!E573,\"\"))","v":""},{"$f":"IF('4 - Payroll reduction'!C573=\"Name\",\"\",IF('4 - Payroll reduction'!H573=\"Table 2\",'4 - Payroll reduction'!G573,\"\"))","v":""},null,483]
[{"$f":"IF('4 - Payroll reduction'!C574=\"Name\",\"\",IF('4 - Payroll reduction'!H574=\"Table 2\",'4 - Payroll reduction'!C574,\"\"))","v":""},{"$f":"IF('4 - Payroll reduction'!C574=\"Name\",\"\",IF('4 - Payroll reduction'!H574=\"Table 2\",'4 - Payroll reduction'!D574,\"\"))","v":""},{"$f":"IF('4 - Payroll reduction'!C574=\"Name\",\"\",IF('4 - Payroll reduction'!H574=\"Table 2\",'4 - Payroll reduction'!E574,\"\"))","v":""},{"$f":"IF('4 - Payroll reduction'!C574=\"Name\",\"\",IF('4 - Payroll reduction'!H574=\"Table 2\",'4 - Payroll reduction'!G574,\"\"))","v":""},null,484]
[{"$f":"IF('4 - Payroll reduction'!C575=\"Name\",\"\",IF('4 - Payroll reduction'!H575=\"Table 2\",'4 - Payroll reduction'!C575,\"\"))","v":""},{"$f":"IF('4 - Payroll reduction'!C575=\"Name\",\"\",IF('4 - Payroll reduction'!H575=\"Table 2\",'4 - Payroll reduction'!D575,\"\"))","v":""},{"$f":"IF('4 - Payroll reduction'!C575=\"Name\",\"\",IF('4 - Payroll reduction'!H575=\"Table 2\",'4 - Payroll reduction'!E575,\"\"))","v":""},{"$f":"IF('4 - Payroll reduction'!C575=\"Name\",\"\",IF('4 - Payroll reduction'!H575=\"Table 2\",'4 - Payroll reduction'!G575,\"\"))","v":""},null,485]
[{"$f":"IF('4 - Payroll reduction'!C576=\"Name\",\"\",IF('4 - Payroll reduction'!H576=\"Table 2\",'4 - Payroll reduction'!C576,\"\"))","v":""},{"$f":"IF('4 - Payroll reduction'!C576=\"Name\",\"\",IF('4 - Payroll reduction'!H576=\"Table 2\",'4 - Payroll reduction'!D576,\"\"))","v":""},{"$f":"IF('4 - Payroll reduction'!C576=\"Name\",\"\",IF('4 - Payroll reduction'!H576=\"Table 2\",'4 - Payroll reduction'!E576,\"\"))","v":""},{"$f":"IF('4 - Payroll reduction'!C576=\"Name\",\"\",IF('4 - Payroll reduction'!H576=\"Table 2\",'4 - Payroll reduction'!G576,\"\"))","v":""},null,486]
[{"$f":"IF('4 - Payroll reduction'!C577=\"Name\",\"\",IF('4 - Payroll reduction'!H577=\"Table 2\",'4 - Payroll reduction'!C577,\"\"))","v":""},{"$f":"IF('4 - Payroll reduction'!C577=\"Name\",\"\",IF('4 - Payroll reduction'!H577=\"Table 2\",'4 - Payroll reduction'!D577,\"\"))","v":""},{"$f":"IF('4 - Payroll reduction'!C577=\"Name\",\"\",IF('4 - Payroll reduction'!H577=\"Table 2\",'4 - Payroll reduction'!E577,\"\"))","v":""},{"$f":"IF('4 - Payroll reduction'!C577=\"Name\",\"\",IF('4 - Payroll reduction'!H577=\"Table 2\",'4 - Payroll reduction'!G577,\"\"))","v":""},null,487]
[{"$f":"IF('4 - Payroll reduction'!C578=\"Name\",\"\",IF('4 - Payroll reduction'!H578=\"Table 2\",'4 - Payroll reduction'!C578,\"\"))","v":""},{"$f":"IF('4 - Payroll reduction'!C578=\"Name\",\"\",IF('4 - Payroll reduction'!H578=\"Table 2\",'4 - Payroll reduction'!D578,\"\"))","v":""},{"$f":"IF('4 - Payroll reduction'!C578=\"Name\",\"\",IF('4 - Payroll reduction'!H578=\"Table 2\",'4 - Payroll reduction'!E578,\"\"))","v":""},{"$f":"IF('4 - Payroll reduction'!C578=\"Name\",\"\",IF('4 - Payroll reduction'!H578=\"Table 2\",'4 - Payroll reduction'!G578,\"\"))","v":""},null,488]
[{"$f":"IF('4 - Payroll reduction'!C579=\"Name\",\"\",IF('4 - Payroll reduction'!H579=\"Table 2\",'4 - Payroll reduction'!C579,\"\"))","v":""},{"$f":"IF('4 - Payroll reduction'!C579=\"Name\",\"\",IF('4 - Payroll reduction'!H579=\"Table 2\",'4 - Payroll reduction'!D579,\"\"))","v":""},{"$f":"IF('4 - Payroll reduction'!C579=\"Name\",\"\",IF('4 - Payroll reduction'!H579=\"Table 2\",'4 - Payroll reduction'!E579,\"\"))","v":""},{"$f":"IF('4 - Payroll reduction'!C579=\"Name\",\"\",IF('4 - Payroll reduction'!H579=\"Table 2\",'4 - Payroll reduction'!G579,\"\"))","v":""},null,489]
[{"$f":"IF('4 - Payroll reduction'!C580=\"Name\",\"\",IF('4 - Payroll reduction'!H580=\"Table 2\",'4 - Payroll reduction'!C580,\"\"))","v":""},{"$f":"IF('4 - Payroll reduction'!C580=\"Name\",\"\",IF('4 - Payroll reduction'!H580=\"Table 2\",'4 - Payroll reduction'!D580,\"\"))","v":""},{"$f":"IF('4 - Payroll reduction'!C580=\"Name\",\"\",IF('4 - Payroll reduction'!H580=\"Table 2\",'4 - Payroll reduction'!E580,\"\"))","v":""},{"$f":"IF('4 - Payroll reduction'!C580=\"Name\",\"\",IF('4 - Payroll reduction'!H580=\"Table 2\",'4 - Payroll reduction'!G580,\"\"))","v":""},null,490]
[{"$f":"IF('4 - Payroll reduction'!C581=\"Name\",\"\",IF('4 - Payroll reduction'!H581=\"Table 2\",'4 - Payroll reduction'!C581,\"\"))","v":""},{"$f":"IF('4 - Payroll reduction'!C581=\"Name\",\"\",IF('4 - Payroll reduction'!H581=\"Table 2\",'4 - Payroll reduction'!D581,\"\"))","v":""},{"$f":"IF('4 - Payroll reduction'!C581=\"Name\",\"\",IF('4 - Payroll reduction'!H581=\"Table 2\",'4 - Payroll reduction'!E581,\"\"))","v":""},{"$f":"IF('4 - Payroll reduction'!C581=\"Name\",\"\",IF('4 - Payroll reduction'!H581=\"Table 2\",'4 - Payroll reduction'!G581,\"\"))","v":""},null,491]
[{"$f":"IF('4 - Payroll reduction'!C582=\"Name\",\"\",IF('4 - Payroll reduction'!H582=\"Table 2\",'4 - Payroll reduction'!C582,\"\"))","v":""},{"$f":"IF('4 - Payroll reduction'!C582=\"Name\",\"\",IF('4 - Payroll reduction'!H582=\"Table 2\",'4 - Payroll reduction'!D582,\"\"))","v":""},{"$f":"IF('4 - Payroll reduction'!C582=\"Name\",\"\",IF('4 - Payroll reduction'!H582=\"Table 2\",'4 - Payroll reduction'!E582,\"\"))","v":""},{"$f":"IF('4 - Payroll reduction'!C582=\"Name\",\"\",IF('4 - Payroll reduction'!H582=\"Table 2\",'4 - Payroll reduction'!G582,\"\"))","v":""},null,492]
[{"$f":"IF('4 - Payroll reduction'!C583=\"Name\",\"\",IF('4 - Payroll reduction'!H583=\"Table 2\",'4 - Payroll reduction'!C583,\"\"))","v":""},{"$f":"IF('4 - Payroll reduction'!C583=\"Name\",\"\",IF('4 - Payroll reduction'!H583=\"Table 2\",'4 - Payroll reduction'!D583,\"\"))","v":""},{"$f":"IF('4 - Payroll reduction'!C583=\"Name\",\"\",IF('4 - Payroll reduction'!H583=\"Table 2\",'4 - Payroll reduction'!E583,\"\"))","v":""},{"$f":"IF('4 - Payroll reduction'!C583=\"Name\",\"\",IF('4 - Payroll reduction'!H583=\"Table 2\",'4 - Payroll reduction'!G583,\"\"))","v":""},null,493]
[{"$f":"IF('4 - Payroll reduction'!C584=\"Name\",\"\",IF('4 - Payroll reduction'!H584=\"Table 2\",'4 - Payroll reduction'!C584,\"\"))","v":""},{"$f":"IF('4 - Payroll reduction'!C584=\"Name\",\"\",IF('4 - Payroll reduction'!H584=\"Table 2\",'4 - Payroll reduction'!D584,\"\"))","v":""},{"$f":"IF('4 - Payroll reduction'!C584=\"Name\",\"\",IF('4 - Payroll reduction'!H584=\"Table 2\",'4 - Payroll reduction'!E584,\"\"))","v":""},{"$f":"IF('4 - Payroll reduction'!C584=\"Name\",\"\",IF('4 - Payroll reduction'!H584=\"Table 2\",'4 - Payroll reduction'!G584,\"\"))","v":""},null,494]
[{"$f":"IF('4 - Payroll reduction'!C585=\"Name\",\"\",IF('4 - Payroll reduction'!H585=\"Table 2\",'4 - Payroll reduction'!C585,\"\"))","v":""},{"$f":"IF('4 - Payroll reduction'!C585=\"Name\",\"\",IF('4 - Payroll reduction'!H585=\"Table 2\",'4 - Payroll reduction'!D585,\"\"))","v":""},{"$f":"IF('4 - Payroll reduction'!C585=\"Name\",\"\",IF('4 - Payroll reduction'!H585=\"Table 2\",'4 - Payroll reduction'!E585,\"\"))","v":""},{"$f":"IF('4 - Payroll reduction'!C585=\"Name\",\"\",IF('4 - Payroll reduction'!H585=\"Table 2\",'4 - Payroll reduction'!G585,\"\"))","v":""},null,495]
[{"$f":"IF('4 - Payroll reduction'!C586=\"Name\",\"\",IF('4 - Payroll reduction'!H586=\"Table 2\",'4 - Payroll reduction'!C586,\"\"))","v":""},{"$f":"IF('4 - Payroll reduction'!C586=\"Name\",\"\",IF('4 - Payroll reduction'!H586=\"Table 2\",'4 - Payroll reduction'!D586,\"\"))","v":""},{"$f":"IF('4 - Payroll reduction'!C586=\"Name\",\"\",IF('4 - Payroll reduction'!H586=\"Table 2\",'4 - Payroll reduction'!E586,\"\"))","v":""},{"$f":"IF('4 - Payroll reduction'!C586=\"Name\",\"\",IF('4 - Payroll reduction'!H586=\"Table 2\",'4 - Payroll reduction'!G586,\"\"))","v":""},null,496]
[{"$f":"IF('4 - Payroll reduction'!C587=\"Name\",\"\",IF('4 - Payroll reduction'!H587=\"Table 2\",'4 - Payroll reduction'!C587,\"\"))","v":""},{"$f":"IF('4 - Payroll reduction'!C587=\"Name\",\"\",IF('4 - Payroll reduction'!H587=\"Table 2\",'4 - Payroll reduction'!D587,\"\"))","v":""},{"$f":"IF('4 - Payroll reduction'!C587=\"Name\",\"\",IF('4 - Payroll reduction'!H587=\"Table 2\",'4 - Payroll reduction'!E587,\"\"))","v":""},{"$f":"IF('4 - Payroll reduction'!C587=\"Name\",\"\",IF('4 - Payroll reduction'!H587=\"Table 2\",'4 - Payroll reduction'!G587,\"\"))","v":""},null,497]
[{"$f":"IF('4 - Payroll reduction'!C588=\"Name\",\"\",IF('4 - Payroll reduction'!H588=\"Table 2\",'4 - Payroll reduction'!C588,\"\"))","v":""},{"$f":"IF('4 - Payroll reduction'!C588=\"Name\",\"\",IF('4 - Payroll reduction'!H588=\"Table 2\",'4 - Payroll reduction'!D588,\"\"))","v":""},{"$f":"IF('4 - Payroll reduction'!C588=\"Name\",\"\",IF('4 - Payroll reduction'!H588=\"Table 2\",'4 - Payroll reduction'!E588,\"\"))","v":""},{"$f":"IF('4 - Payroll reduction'!C588=\"Name\",\"\",IF('4 - Payroll reduction'!H588=\"Table 2\",'4 - Payroll reduction'!G588,\"\"))","v":""},null,498]
[{"$f":"IF('4 - Payroll reduction'!C589=\"Name\",\"\",IF('4 - Payroll reduction'!H589=\"Table 2\",'4 - Payroll reduction'!C589,\"\"))","v":""},{"$f":"IF('4 - Payroll reduction'!C589=\"Name\",\"\",IF('4 - Payroll reduction'!H589=\"Table 2\",'4 - Payroll reduction'!D589,\"\"))","v":""},{"$f":"IF('4 - Payroll reduction'!C589=\"Name\",\"\",IF('4 - Payroll reduction'!H589=\"Table 2\",'4 - Payroll reduction'!E589,\"\"))","v":""},{"$f":"IF('4 - Payroll reduction'!C589=\"Name\",\"\",IF('4 - Payroll reduction'!H589=\"Table 2\",'4 - Payroll reduction'!G589,\"\"))","v":""},null,499]
[{"$f":"IF('4 - Payroll reduction'!C590=\"Name\",\"\",IF('4 - Payroll reduction'!H590=\"Table 2\",'4 - Payroll reduction'!C590,\"\"))","v":""},{"$f":"IF('4 - Payroll reduction'!C590=\"Name\",\"\",IF('4 - Payroll reduction'!H590=\"Table 2\",'4 - Payroll reduction'!D590,\"\"))","v":""},{"$f":"IF('4 - Payroll reduction'!C590=\"Name\",\"\",IF('4 - Payroll reduction'!H590=\"Table 2\",'4 - Payroll reduction'!E590,\"\"))","v":""},{"$f":"IF('4 - Payroll reduction'!C590=\"Name\",\"\",IF('4 - Payroll reduction'!H590=\"Table 2\",'4 - Payroll reduction'!G590,\"\"))","v":""},null,500]
[null,null,{"$f":"SUM(C515:C1014)","v":0},{"$f":"SUM(D515:D1014)","v":0}]
["Totals:",null,"Box 4","Box 5"]
[]
["Attach additional tables if additional rows are needed."]
[]
["FTE Reduction Safe Harbor:"]
["Step 1. Enter the borrower’s total average FTE between February 15, 2020 and April 26, 2020.  Follow the same method that was used to calculate Average FTE in the PPP Schedule A Worksheet Tables.  Sum across all employees and enter:\n                            .",null,null,null,{"$f":"'5 - FTE reduction'!B56","v":0}]
["Step 2. Enter the borrower’s total FTE in the Borrower’s pay period inclusive of February 15, 2020.  Follow the same method that was used in step 1:",null,null,null,{"$f":"'5 - FTE reduction'!B64","v":0}]
["Step 3. If the entry for step 2 is greater than step 1, proceed to step 4.  Otherwise, the FTE Reduction Safe Harbor is not applicable and the Borrower must complete line 13 of PPP Schedule A by dividing line 12 by line 11 of that schedule."]
["Step 4. Enter the borrower’s total FTE as of June 30, 2020:",null,null,null,{"$f":"IF(E1022>E1021,'5 - FTE reduction'!B72,\"\")","v":""}]
["Step 5. If the entry for step 4 is greater than or equal to step 2, enter 1.0 on line 13 of PPP Schedule A; the FTE Reduction Safe Harbor has been satisfied.  Otherwise, the FTE Reduction Safe Harbor does not apply and the Borrower must complete line 13 of PPP Schedule A by dividing line 12 by line 11 of that schedule.",null,null,null,{"$f":"IF(E1024<E1022,\"\",1)","v":1}]

{"sheet":"4 - Payroll reduction","index":6,"n_rows":591,"n_cols":502,"rows_kept":591,"cut":false,"hidden":false,"merged":[]}
["Paycheck Protection Program",null,"Employee","Sasserath & Zoraian, LLP "]
["Payroll reduction",null,"Other","(631) 368-3110",null,null,null,"No"]
[null,null,null,"www.sz-cpas.com",null,null,null,"Yes"]
[]
[null,null,1,2,3,4,5,6,7,8,9,10,11,12,13,14,15,16,17,18,19,20,21,22,23,24,25,26,27,28,29,30,31,32,33,34,35,36,37,38,39,40,41,42,43,44,45,46,47,48,49,50,51,52,53,54,55,56,57,58,59,60,61,62,63,64,65,66,67,68,69,70,71,72,73,74,75,76,77,78,79,80,81,82,83,84,85,86,87,88,89,90,91,92,93,94,95,96,97,98,99,100,101,102,103,104,105,106,107,108,109,110,111,112,113,114,115,116,117,118,119,120,121,122,123,124,125,126,127,128,129,130,131,132,133,134,135,136,137,138,139,140,141,142,143,144,145,146,147,148,149,150,151,152,153,154,155,156,157,158,159,160,161,162,163,164,165,166,167,168,169,170,171,172,173,174,175,176,177,178,179,180,181,182,183,184,185,186,187,188,189,190,191,192,193,194,195,196,197,198,199,200,201,202,203,204,205,206,207,208,209,210,211,212,213,214,215,216,217,218,219,220,221,222,223,224,225,226,227,228,229,230,231,232,233,234,235,236,237,238,239,240,241,242,243,244,245,246,247,248,249,250,251,252,253,254,255,256,257,258,259,260,261,262,263,264,265,266,267,268,269,270,271,272,273,274,275,276,277,278,279,280,281,282,283,284,285,286,287,288,289,290,291,292,293,294,295,296,297,298,299,300,301,302,303,304,305,306,307,308,309,310,311,312,313,314,315,316,317,318,319,320,321,322,323,324,325,326,327,328,329,330,331,332,333,334,335,336,337,338,339,340,341,342,343,344,345,346,347,348,349,350,351,352,353,354,355,356,357,358,359,360,361,362,363,364,365,366,367,368,369,370,371,372,373,374,375,376,377,378,379,380,381,382,383,384,385,386,387,388,389,390,391,392,393,394,395,396,397,398,399,400,401,402,403,404,405,406,407,408,409,410,411,412,413,414,415,416,417,418,419,420,421,422,423,424,425,426,427,428,429,430,431,432,433,434,435,436,437,438,439,440,441,442,443,444,445,446,447,448,449,450,451,452,453,454,455,456,457,458,459,460,461,462,463,464,465,466,467,468,469,470,471,472,473,474,475,476,477,478,479,480,481,482,483,484,485,486,487,488,489,490,491,492,493,494,495,496,497,498,499,500]
["Employee or Other Qualified Payee Name",null,{"$f":"'6 - Input sheet - Employee data'!C12","v":"Name"},{"$f":"'6 - Input sheet - Employee data'!D12","v":"Name"},{"$f":"'6 - Input sheet - Employee data'!E12","v":"Name"},{"$f":"'6 - Input sheet - Employee data'!F12","v":"Name"},{"$f":"'6 - Input sheet - Employee data'!G12","v":"Name"},{"$f":"'6 - Input sheet - Employee data'!H12","v":"Name"},{"$f":"'6 - Input sheet - Employee data'!I12","v":"Name"},{"$f":"'6 - Input sheet - Employee data'!J12","v":"Name"},{"$f":"'6 - Input sheet - Employee data'!K12","v":"Name"},{"$f":"'6 - Input sheet - Employee data'!L12","v":"Name"},{"$f":"'6 - Input sheet - Employee data'!M12","v":"Name"},{"$f":"'6 - Input sheet - Employee data'!N12","v":"Name"},{"$f":"'6 - Input sheet - Employee data'!O12","v":"Name"},{"$f":"'6 - Input sheet - Employee data'!P12","v":"Name"},{"$f":"'6 - Input sheet - Employee data'!Q12","v":"Name"},{"$f":"'6 - Input sheet - Employee data'!R12","v":"Name"},{"$f":"'6 - Input sheet - Employee data'!S12","v":"Name"},{"$f":"'6 - Input sheet - Employee data'!T12","v":"Name"},{"$f":"'6 - Input sheet - Employee data'!U12","v":"Name"},{"$f":"'6 - Input sheet - Employee data'!V12","v":"Name"},{"$f":"'6 - Input sheet - Employee data'!W12","v":"Name"},{"$f":"'6 - Input sheet - Employee data'!X12","v":"Name"},{"$f":"'6 - Input sheet - Employee data'!Y12","v":"Name"},{"$f":"'6 - Input sheet - Employee data'!Z12","v":"Name"},{"$f":"'6 - Input sheet - Employee data'!AA12","v":"Name"},{"$f":"'6 - Input sheet - Employee data'!AB12","v":"Name"},{"$f":"'6 - Input sheet - Employee data'!AC12","v":"Name"},{"$f":"'6 - Input sheet - Employee data'!AD12","v":"Name"},{"$f":"'6 - Input sheet - Employee data'!AE12","v":"Name"},{"$f":"'6 - Input sheet - Employee data'!AF12","v":"Name"},{"$f":"'6 - Input sheet - Employee data'!AG12","v":"Name"},{"$f":"'6 - Input sheet - Employee data'!AH12","v":"Name"},{"$f":"'6 - Input sheet - Employee data'!AI12","v":"Name"},{"$f":"'6 - Input sheet - Employee data'!AJ12","v":"Name"},{"$f":"'6 - Input sheet - Employee data'!AK12","v":"Name"},{"$f":"'6 - Input sheet - Employee data'!AL12","v":"Name"},{"$f":"'6 - Input sheet - Employee data'!AM12","v":"Name"},{"$f":"'6 - Input sheet - Employee data'!AN12","v":"Name"},{"$f":"'6 - Input sheet - Employee data'!AO12","v":"Name"},{"$f":"'6 - Input sheet - Employee data'!AP12","v":"Name"},{"$f":"'6 - Input sheet - Employee data'!AQ12","v":"Name"},{"$f":"'6 - Input sheet - Employee data'!AR12","v":"Name"},{"$f":"'6 - Input sheet - Employee data'!AS12","v":"Name"},{"$f":"'6 - Input sheet - Employee data'!AT12","v":"Name"},{"$f":"'6 - Input sheet - Employee data'!AU12","v":"Name"},{"$f":"'6 - Input sheet - Employee data'!AV12","v":"Name"},{"$f":"'6 - Input sheet - Employee data'!AW12","v":"Name"},{"$f":"'6 - Input sheet - Employee data'!AX12","v":"Name"},{"$f":"'6 - Input sheet - Employee data'!AY12","v":"Name"},{"$f":"'6 - Input sheet - Employee data'!AZ12","v":"Name"},{"$f":"'6 - Input sheet - Employee data'!BA12","v":"Name"},{"$f":"'6 - Input sheet - Employee data'!BB12","v":"Name"},{"$f":"'6 - Input sheet - Employee data'!BC12","v":"Name"},{"$f":"'6 - Input sheet - Employee data'!BD12","v":"Name"},{"$f":"'6 - Input sheet - Employee data'!BE12","v":"Name"},{"$f":"'6 - Input sheet - Employee data'!BF12","v":"Name"},{"$f":"'6 - Input sheet - Employee data'!BG12","v":"Name"},{"$f":"'6 - Input sheet - Employee data'!BH12","v":"Name"},{"$f":"'6 - Input sheet - Employee data'!BI12","v":"Name"},{"$f":"'6 - Input sheet - Employee data'!BJ12","v":"Name"},{"$f":"'6 - Input sheet - Employee data'!BK12","v":"Name"},{"$f":"'6 - Input sheet - Employee data'!BL12","v":"Name"},{"$f":"'6 - Input sheet - Employee data'!BM12","v":"Name"},{"$f":"'6 - Input sheet - Employee data'!BN12","v":"Name"},{"$f":"'6 - Input sheet - Employee data'!BO12","v":"Name"},{"$f":"'6 - Input sheet - Employee data'!BP12","v":"Name"},{"$f":"'6 - Input sheet - Employee data'!BQ12","v":"Name"},{"$f":"'6 - Input sheet - Employee data'!BR12","v":"Name"},{"$f":"'6 - Input sheet - Employee data'!BS12","v":"Name"},{"$f":"'6 - Input sheet - Employee data'!BT12","v":"Name"},{"$f":"'6 - Input sheet - Employee data'!BU12","v":"Name"},{"$f":"'6 - Input sheet - Employee data'!BV12","v":"Name"},{"$f":"'6 - Input sheet - Employee data'!BW12","v":"Name"},{"$f":"'6 - Input sheet - Employee data'!BX12","v":"Name"},{"$f":"'6 - Input sheet - Employee data'!BY12","v":"Name"},{"$f":"'6 - Input sheet - Employee data'!BZ12","v":"Name"},{"$f":"'6 - Input sheet - Employee data'!CA12","v":"Name"},{"$f":"'6 - Input sheet - Employee data'!CB12","v":"Name"},{"$f":"'6 - Input sheet - Employee data'!CC12","v":"Name"},{"$f":"'6 - Input sheet - Employee data'!CD12","v":"Name"},{"$f":"'6 - Input sheet - Employee data'!CE12","v":"Name"},{"$f":"'6 - Input sheet - Employee data'!CF12","v":"Name"},{"$f":"'6 - Input sheet - Employee data'!CG12","v":"Name"},{"$f":"'6 - Input sheet - Employee data'!CH12","v":"Name"},{"$f":"'6 - Input sheet - Employee data'!CI12","v":"Name"},{"$f":"'6 - Input sheet - Employee data'!CJ12","v":"Name"},{"$f":"'6 - Input sheet - Employee data'!CK12","v":"Name"},{"$f":"'6 - Input sheet - Employee data'!CL12","v":"Name"},{"$f":"'6 - Input sheet - Employee data'!CM12","v":"Name"},{"$f":"'6 - Input sheet - Employee data'!CN12","v":"Name"},{"$f":"'6 - Input sheet - Employee data'!CO12","v":"Name"},{"$f":"'6 - Input sheet - Employee data'!CP12","v":"Name"},{"$f":"'6 - Input sheet - Employee data'!CQ12","v":"Name"},{"$f":"'6 - Input sheet - Employee data'!CR12","v":"Name"},{"$f":"'6 - Input sheet - Employee data'!CS12","v":"Name"},{"$f":"'6 - Input sheet - Employee data'!CT12","v":"Name"},{"$f":"'6 - Input sheet - Employee data'!CU12","v":"Name"},{"$f":"'6 - Input sheet - Employee data'!CV12","v":"Name"},{"$f":"'6 - Input sheet - Employee data'!CW12","v":"Name"},{"$f":"'6 - Input sheet - Employee data'!CX12","v":"Name"},{"$f":"'6 - Input sheet - Employee data'!CY12","v":"Name"},{"$f":"'6 - Input sheet - Employee data'!CZ12","v":"Name"},{"$f":"'6 - Input sheet - Employee data'!DA12","v":"Name"},{"$f":"'6 - Input sheet - Employee data'!DB12","v":"Name"},{"$f":"'6 - Input sheet - Employee data'!DC12","v":"Name"},{"$f":"'6 - Input sheet - Employee data'!DD12","v":"Name"},{"$f":"'6 - Input sheet - Employee data'!DE12","v":"Name"},{"$f":"'6 - Input sheet - Employee data'!DF12","v":"Name"},{"$f":"'6 - Input sheet - Employee data'!DG12","v":"Name"},{"$f":"'6 - Input sheet - Employee data'!DH12","v":"Name"},{"$f":"'6 - Input sheet - Employee data'!DI12","v":"Name"},{"$f":"'6 - Input sheet - Employee data'!DJ12","v":"Name"},{"$f":"'6 - Input sheet - Employee data'!DK12","v":"Name"},{"$f":"'6 - Input sheet - Employee data'!DL12","v":"Name"},{"$f":"'6 - Input sheet - Employee data'!DM12","v":"Name"},{"$f":"'6 - Input sheet - Employee data'!DN12","v":"Name"},{"$f":"'6 - Input sheet - Employee data'!DO12","v":"Name"},{"$f":"'6 - Input sheet - Employee data'!DP12","v":"Name"},{"$f":"'6 - Input sheet - Employee data'!DQ12","v":"Name"},{"$f":"'6 - Input sheet - Employee data'!DR12","v":"Name"},{"$f":"'6 - Input sheet - Employee data'!DS12","v":"Name"},{"$f":"'6 - Input sheet - Employee data'!DT12","v":"Name"},{"$f":"'6 - Input sheet - Employee data'!DU12","v":"Name"},{"$f":"'6 - Input sheet - Employee data'!DV12","v":"Name"},{"$f":"'6 - Input sheet - Employee data'!DW12","v":"Name"},{"$f":"'6 - Input sheet - Employee data'!DX12","v":"Name"},{"$f":"'6 - Input sheet - Employee data'!DY12","v":"Name"},{"$f":"'6 - Input sheet - Employee data'!DZ12","v":"Name"},{"$f":"'6 - Input sheet - Employee data'!EA12","v":"Name"},{"$f":"'6 - Input sheet - Employee data'!EB12","v":"Name"},{"$f":"'6 - Input sheet - Employee data'!EC12","v":"Name"},{"$f":"'6 - Input sheet - Employee data'!ED12","v":"Name"},{"$f":"'6 - Input sheet - Employee data'!EE12","v":"Name"},{"$f":"'6 - Input sheet - Employee data'!EF12","v":"Name"},{"$f":"'6 - Input sheet - Employee data'!EG12","v":"Name"},{"$f":"'6 - Input sheet - Employee data'!EH12","v":"Name"},{"$f":"'6 - Input sheet - Employee data'!EI12","v":"Name"},{"$f":"'6 - Input sheet - Employee data'!EJ12","v":"Name"},{"$f":"'6 - Input sheet - Employee data'!EK12","v":"Name"},{"$f":"'6 - Input sheet - Employee data'!EL12","v":"Name"},{"$f":"'6 - Input sheet - Employee data'!EM12","v":"Name"},{"$f":"'6 - Input sheet - Employee data'!EN12","v":"Name"},{"$f":"'6 - Input sheet - Employee data'!EO12","v":"Name"},{"$f":"'6 - Input sheet - Employee data'!EP12","v":"Name"},{"$f":"'6 - Input sheet - Employee data'!EQ12","v":"Name"},{"$f":"'6 - Input sheet - Employee data'!ER12","v":"Name"},{"$f":"'6 - Input sheet - Employee data'!ES12","v":"Name"},{"$f":"'6 - Input sheet - Employee data'!ET12","v":"Name"},{"$f":"'6 - Input sheet - Employee data'!EU12","v":"Name"},{"$f":"'6 - Input sheet - Employee data'!EV12","v":"Name"},{"$f":"'6 - Input sheet - Employee data'!EW12","v":"Name"},{"$f":"'6 - Input sheet - Employee data'!EX12","v":"Name"},{"$f":"'6 - Input sheet - Employee data'!EY12","v":"Name"},{"$f":"'6 - Input sheet - Employee data'!EZ12","v":"Name"},{"$f":"'6 - Input sheet - Employee data'!FA12","v":"Name"},{"$f":"'6 - Input sheet - Employee data'!FB12","v":"Name"},{"$f":"'6 - Input sheet - Employee data'!FC12","v":"Name"},{"$f":"'6 - Input sheet - Employee data'!FD12","v":"Name"},{"$f":"'6 - Input sheet - Employee data'!FE12","v":"Name"},{"$f":"'6 - Input sheet - Employee data'!FF12","v":"Name"},{"$f":"'6 - Input sheet - Employee data'!FG12","v":"Name"},{"$f":"'6 - Input sheet - Employee data'!FH12","v":"Name"},{"$f":"'6 - Input sheet - Employee data'!FI12","v":"Name"},{"$f":"'6 - Input sheet - Employee data'!FJ12","v":"Name"},{"$f":"'6 - Input sheet - Employee data'!FK12","v":"Name"},{"$f":"'6 - Input sheet - Employee data'!FL12","v":"Name"},{"$f":"'6 - Input sheet - Employee data'!FM12","v":"Name"},{"$f":"'6 - Input sheet - Employee data'!FN12","v":"Name"},{"$f":"'6 - Input sheet - Employee data'!FO12","v":"Name"},{"$f":"'6 - Input sheet - Employee data'!FP12","v":"Name"},{"$f":"'6 - Input sheet - Employee data'!FQ12","v":"Name"},{"$f":"'6 - Input sheet - Employee data'!FR12","v":"Name"},{"$f":"'6 - Input sheet - Employee data'!FS12","v":"Name"},{"$f":"'6 - Input sheet - Employee data'!FT12","v":"Name"},{"$f":"'6 - Input sheet - Employee data'!FU12","v":"Name"},{"$f":"'6 - Input sheet - Employee data'!FV12","v":"Name"},{"$f":"'6 - Input sheet - Employee data'!FW12","v":"Name"},{"$f":"'6 - Input sheet - Employee data'!FX12","v":"Name"},{"$f":"'6 - Input sheet - Employee data'!FY12","v":"Name"},{"$f":"'6 - Input sheet - Employee data'!FZ12","v":"Name"},{"$f":"'6 - Input sheet - Employee data'!GA12","v":"Name"},{"$f":"'6 - Input sheet - Employee data'!GB12","v":"Name"},{"$f":"'6 - Input sheet - Employee data'!GC12","v":"Name"},{"$f":"'6 - Input sheet - Employee data'!GD12","v":"Name"},{"$f":"'6 - Input sheet - Employee data'!GE12","v":"Name"},{"$f":"'6 - Input sheet - Employee data'!GF12","v":"Name"},{"$f":"'6 - Input sheet - Employee data'!GG12","v":"Name"},{"$f":"'6 - Input sheet - Employee data'!GH12","v":"Name"},{"$f":"'6 - Input sheet - Employee data'!GI12","v":"Name"},{"$f":"'6 - Input sheet - Employee data'!GJ12","v":"Name"},{"$f":"'6 - Input sheet - Employee data'!GK12","v":"Name"},{"$f":"'6 - Input sheet - Employee data'!GL12","v":"Name"},{"$f":"'6 - Input sheet - Employee data'!GM12","v":"Name"},{"$f":"'6 - Input sheet - Employee data'!GN12","v":"Name"},{"$f":"'6 - Input sheet - Employee data'!GO12","v":"Name"},{"$f":"'6 - Input sheet - Employee data'!GP12","v":"Name"},{"$f":"'6 - Input sheet - Employee data'!GQ12","v":"Name"},{"$f":"'6 - Input sheet - Employee data'!GR12","v":"Name"},{"$f":"'6 - Input sheet - Employee data'!GS12","v":"Name"},{"$f":"'6 - Input sheet - Employee data'!GT12","v":"Name"},{"$f":"'6 - Input sheet - Employee data'!GU12","v":"Name"},{"$f":"'6 - Input sheet - Employee data'!GV12","v":"Name"},{"$f":"'6 - Input sheet - Employee data'!GW12","v":"Name"},{"$f":"'6 - Input sheet - Employee data'!GX12","v":"Name"},{"$f":"'6 - Input sheet - Employee data'!GY12","v":"Name"},{"$f":"'6 - Input sheet - Employee data'!GZ12","v":"Name"},{"$f":"'6 - Input sheet - Employee data'!HA12","v":"Name"},{"$f":"'6 - Input sheet - Employee data'!HB12","v":"Name"},{"$f":"'6 - Input sheet - Employee data'!HC12","v":"Name"},{"$f":"'6 - Input sheet - Employee data'!HD12","v":"Name"},{"$f":"'6 - Input sheet - Employee data'!HE12","v":"Name"},{"$f":"'6 - Input sheet - Employee data'!HF12","v":"Name"},{"$f":"'6 - Input sheet - Employee data'!HG12","v":"Name"},{"$f":"'6 - Input sheet - Employee data'!HH12","v":"Name"},{"$f":"'6 - Input sheet - Employee data'!HI12","v":"Name"},{"$f":"'6 - Input sheet - Employee data'!HJ12","v":"Name"},{"$f":"'6 - Input sheet - Employee data'!HK12","v":"Name"},{"$f":"'6 - Input sheet - Employee data'!HL12","v":"Name"},{"$f":"'6 - Input sheet - Employee data'!HM12","v":"Name"},{"$f":"'6 - Input sheet - Employee data'!HN12","v":"Name"},{"$f":"'6 - Input sheet - Employee data'!HO12","v":"Name"},{"$f":"'6 - Input sheet - Employee data'!HP12","v":"Name"},{"$f":"'6 - Input sheet - Employee data'!HQ12","v":"Name"},{"$f":"'6 - Input sheet - Employee data'!HR12","v":"Name"},{"$f":"'6 - Input sheet - Employee data'!HS12","v":"Name"},{"$f":"'6 - Input sheet - Employee data'!HT12","v":"Name"},{"$f":"'6 - Input sheet - Employee data'!HU12","v":"Name"},{"$f":"'6 - Input sheet - Employee data'!HV12","v":"Name"},{"$f":"'6 - Input sheet - Employee data'!HW12","v":"Name"},{"$f":"'6 - Input sheet - Employee data'!HX12","v":"Name"},{"$f":"'6 - Input sheet - Employee data'!HY12","v":"Name"},{"$f":"'6 - Input sheet - Employee data'!HZ12","v":"Name"},{"$f":"'6 - Input sheet - Employee data'!IA12","v":"Name"},{"$f":"'6 - Input sheet - Employee data'!IB12","v":"Name"},{"$f":"'6 - Input sheet - Employee data'!IC12","v":"Name"},{"$f":"'6 - Input sheet - Employee data'!ID12","v":"Name"},{"$f":"'6 - Input sheet - Employee data'!IE12","v":"Name"},{"$f":"'6 - Input sheet - Employee data'!IF12","v":"Name"},{"$f":"'6 - Input sheet - Employee data'!IG12","v":"Name"},{"$f":"'6 - Input sheet - Employee data'!IH12","v":"Name"},{"$f":"'6 - Input sheet - Employee data'!II12","v":"Name"},{"$f":"'6 - Input sheet - Employee data'!IJ12","v":"Name"},{"$f":"'6 - Input sheet - Employee data'!IK12","v":"Name"},{"$f":"'6 - Input sheet - Employee data'!IL12","v":"Name"},{"$f":"'6 - Input sheet - Employee data'!IM12","v":"Name"},{"$f":"'6 - Input sheet - Employee data'!IN12","v":"Name"},{"$f":"'6 - Input sheet - Employee data'!IO12","v":"Name"},{"$f":"'6 - Input sheet - Employee data'!IP12","v":"Name"},{"$f":"'6 - Input sheet - Employee data'!IQ12","v":"Name"},{"$f":"'6 - Input sheet - Employee data'!IR12","v":"Name"},{"$f":"'6 - Input sheet - Employee data'!IS12","v":"Name"},{"$f":"'6 - Input sheet - Employee data'!IT12","v":"Name"},{"$f":"'6 - Input sheet - Employee data'!IU12","v":"Name"},{"$f":"'6 - Input sheet - Employee data'!IV12","v":"Name"},{"$f":"'6 - Input sheet - Employee data'!IW12","v":"Name"},{"$f":"'6 - Input sheet - Employee data'!IX12","v":"Name"},{"$f":"'6 - Input sheet - Employee data'!IY12","v":"Name"},{"$f":"'6 - Input sheet - Employee data'!IZ12","v":"Name"},{"$f":"'6 - Input sheet - Employee data'!JA12","v":"Name"},{"$f":"'6 - Input sheet - Employee data'!JB12","v":"Name"},{"$f":"'6 - Input sheet - Employee data'!JC12","v":"Name"},{"$f":"'6 - Input sheet - Employee data'!JD12","v":"Name"},{"$f":"'6 - Input sheet - Employee data'!JE12","v":"Name"},{"$f":"'6 - Input sheet - Employee data'!JF12","v":"Name"},{"$f":"'6 - Input sheet - Employee data'!JG12","v":"Name"},{"$f":"'6 - Input sheet - Employee data'!JH12","v":"Name"},{"$f":"'6 - Input sheet - Employee data'!JI12","v":"Name"},{"$f":"'6 - Input sheet - Employee data'!JJ12","v":"Name"},{"$f":"'6 - Input sheet - Employee data'!JK12","v":"Name"},{"$f":"'6 - Input sheet - Employee data'!JL12","v":"Name"},{"$f":"'6 - Input sheet - Employee data'!JM12","v":"Name"},{"$f":"'6 - Input sheet - Employee data'!JN12","v":"Name"},{"$f":"'6 - Input sheet - Employee data'!JO12","v":"Name"},{"$f":"'6 - Input sheet - Employee data'!JP12","v":"Name"},{"$f":"'6 - Input sheet - Employee data'!JQ12","v":"Name"},{"$f":"'6 - Input sheet - Employee data'!JR12","v":"Name"},{"$f":"'6 - Input sheet - Employee data'!JS12","v":"Name"},{"$f":"'6 - Input sheet - Employee data'!JT12","v":"Name"},{"$f":"'6 - Input sheet - Employee data'!JU12","v":"Name"},{"$f":"'6 - Input sheet - Employee data'!JV12","v":"Name"},{"$f":"'6 - Input sheet - Employee data'!JW12","v":"Name"},{"$f":"'6 - Input sheet - Employee data'!JX12","v":"Name"},{"$f":"'6 - Input sheet - Employee data'!JY12","v":"Name"},{"$f":"'6 - Input sheet - Employee data'!JZ12","v":"Name"},{"$f":"'6 - Input sheet - Employee data'!KA12","v":"Name"},{"$f":"'6 - Input sheet - Employee data'!KB12","v":"Name"},{"$f":"'6 - Input sheet - Employee data'!KC12","v":"Name"},{"$f":"'6 - Input sheet - Employee data'!KD12","v":"Name"},{"$f":"'6 - Input sheet - Employee data'!KE12","v":"Name"},{"$f":"'6 - Input sheet - Employee data'!KF12","v":"Name"},{"$f":"'6 - Input sheet - Employee data'!KG12","v":"Name"},{"$f":"'6 - Input sheet - Employee data'!KH12","v":"Name"},{"$f":"'6 - Input sheet - Employee data'!KI12","v":"Name"},{"$f":"'6 - Input sheet - Employee data'!KJ12","v":"Name"},{"$f":"'6 - Input sheet - Employee data'!KK12","v":"Name"},{"$f":"'6 - Input sheet - Employee data'!KL12","v":"Name"},{"$f":"'6 - Input sheet - Employee data'!KM12","v":"Name"},{"$f":"'6 - Input sheet - Employee data'!KN12","v":"Name"},{"$f":"'6 - Input sheet - Employee data'!KO12","v":"Name"},{"$f":"'6 - Input sheet - Employee data'!KP12","v":"Name"},{"$f":"'6 - Input sheet - Employee data'!KQ12","v":"Name"},{"$f":"'6 - Input sheet - Employee data'!KR12","v":"Name"},{"$f":"'6 - Input sheet - Employee data'!KS12","v":"Name"},{"$f":"'6 - Input sheet - Employee data'!KT12","v":"Name"},{"$f":"'6 - Input sheet - Employee data'!KU12","v":"Name"},{"$f":"'6 - Input sheet - Employee data'!KV12","v":"Name"},{"$f":"'6 - Input sheet - Employee data'!KW12","v":"Name"},{"$f":"'6 - Input sheet - Employee data'!KX12","v":"Name"},{"$f":"'6 - Input sheet - Employee data'!KY12","v":"Name"},{"$f":"'6 - Input sheet - Employee data'!KZ12","v":"Name"},{"$f":"'6 - Input sheet - Employee data'!LA12","v":"Name"},{"$f":"'6 - Input sheet - Employee data'!LB12","v":"Name"},{"$f":"'6 - Input sheet - Employee data'!LC12","v":"Name"},{"$f":"'6 - Input sheet - Employee data'!LD12","v":"Name"},{"$f":"'6 - Input sheet - Employee data'!LE12","v":"Name"},{"$f":"'6 - Input sheet - Employee data'!LF12","v":"Name"},{"$f":"'6 - Input sheet - Employee data'!LG12","v":"Name"},{"$f":"'6 - Input sheet - Employee data'!LH12","v":"Name"},{"$f":"'6 - Input sheet - Employee data'!LI12","v":"Name"},{"$f":"'6 - Input sheet - Employee data'!LJ12","v":"Name"},{"$f":"'6 - Input sheet - Employee data'!LK12","v":"Name"},{"$f":"'6 - Input sheet - Employee data'!LL12","v":"Name"},{"$f":"'6 - Input sheet - Employee data'!LM12","v":"Name"},{"$f":"'6 - Input sheet - Employee data'!LN12","v":"Name"},{"$f":"'6 - Input sheet - Employee data'!LO12","v":"Name"},{"$f":"'6 - Input sheet - Employee data'!LP12","v":"Name"},{"$f":"'6 - Input sheet - Employee data'!LQ12","v":"Name"},{"$f":"'6 - Input sheet - Employee data'!LR12","v":"Name"},{"$f":"'6 - Input sheet - Employee data'!LS12","v":"Name"},{"$f":"'6 - Input sheet - Employee data'!LT12","v":"Name"},{"$f":"'6 - Input sheet - Employee data'!LU12","v":"Name"},{"$f":"'6 - Input sheet - Employee data'!LV12","v":"Name"},{"$f":"'6 - Input sheet - Employee data'!LW12","v":"Name"},{"$f":"'6 - Input sheet - Employee data'!LX12","v":"Name"},{"$f":"'6 - Input sheet - Employee data'!LY12","v":"Name"},{"$f":"'6 - Input sheet - Employee data'!LZ12","v":"Name"},{"$f":"'6 - Input sheet - Employee data'!MA12","v":"Name"},{"$f":"'6 - Input sheet - Employee data'!MB12","v":"Name"},{"$f":"'6 - Input sheet - Employee data'!MC12","v":"Name"},{"$f":"'6 - Input sheet - Employee data'!MD12","v":"Name"},{"$f":"'6 - Input sheet - Employee data'!ME12","v":"Name"},{"$f":"'6 - Input sheet - Employee data'!MF12","v":"Name"},{"$f":"'6 - Input sheet - Employee data'!MG12","v":"Name"},{"$f":"'6 - Input sheet - Employee data'!MH12","v":"Name"},{"$f":"'6 - Input sheet - Employee data'!MI12","v":"Name"},{"$f":"'6 - Input sheet - Employee data'!MJ12","v":"Name"},{"$f":"'6 - Input sheet - Employee data'!MK12","v":"Name"},{"$f":"'6 - Input sheet - Employee data'!ML12","v":"Name"},{"$f":"'6 - Input sheet - Employee data'!MM12","v":"Name"},{"$f":"'6 - Input sheet - Employee data'!MN12","v":"Name"},{"$f":"'6 - Input sheet - Employee data'!MO12","v":"Name"},{"$f":"'6 - Input sheet - Employee data'!MP12","v":"Name"},{"$f":"'6 - Input sheet - Employee data'!MQ12","v":"Name"},{"$f":"'6 - Input sheet - Employee data'!MR12","v":"Name"},{"$f":"'6 - Input sheet - Employee data'!MS12","v":"Name"},{"$f":"'6 - Input sheet - Employee data'!MT12","v":"Name"},{"$f":"'6 - Input sheet - Employee data'!MU12","v":"Name"},{"$f":"'6 - Input sheet - Employee data'!MV12","v":"Name"},{"$f":"'6 - Input sheet - Employee data'!MW12","v":"Name"},{"$f":"'6 - Input sheet - Employee data'!MX12","v":"Name"},{"$f":"'6 - Input sheet - Employee data'!MY12","v":"Name"},{"$f":"'6 - Input sheet - Employee data'!MZ12","v":"Name"},{"$f":"'6 - Input sheet - Employee data'!NA12","v":"Name"},{"$f":"'6 - Input sheet - Employee data'!NB12","v":"Name"},{"$f":"'6 - Input sheet - Employee data'!NC12","v":"Name"},{"$f":"'6 - Input sheet - Employee data'!ND12","v":"Name"},{"$f":"'6 - Input sheet - Employee data'!NE12","v":"Name"},{"$f":"'6 - Input sheet - Employee data'!NF12","v":"Name"},{"$f":"'6 - Input sheet - Employee data'!NG12","v":"Name"},{"$f":"'6 - Input sheet - Employee data'!NH12","v":"Name"},{"$f":"'6 - Input sheet - Employee data'!NI12","v":"Name"},{"$f":"'6 - Input sheet - Employee data'!NJ12","v":"Name"},{"$f":"'6 - Input sheet - Employee data'!NK12","v":"Name"},{"$f":"'6 - Input sheet - Employee data'!NL12","v":"Name"},{"$f":"'6 - Input sheet - Employee data'!NM12","v":"Name"},{"$f":"'6 - Input sheet - Employee data'!NN12","v":"Name"},{"$f":"'6 - Input sheet - Employee data'!NO12","v":"Name"},{"$f":"'6 - Input sheet - Employee data'!NP12","v":"Name"},{"$f":"'6 - Input sheet - Employee data'!NQ12","v":"Name"},{"$f":"'6 - Input sheet - Employee data'!NR12","v":"Name"},{"$f":"'6 - Input sheet - Employee data'!NS12","v":"Name"},{"$f":"'6 - Input sheet - Employee data'!NT12","v":"Name"},{"$f":"'6 - Input sheet - Employee data'!NU12","v":"Name"},{"$f":"'6 - Input sheet - Employee data'!NV12","v":"Name"},{"$f":"'6 - Input sheet - Employee data'!NW12","v":"Name"},{"$f":"'6 - Input sheet - Employee data'!NX12","v":"Name"},{"$f":"'6 - Input sheet - Employee data'!NY12","v":"Name"},{"$f":"'6 - Input sheet - Employee data'!NZ12","v":"Name"},{"$f":"'6 - Input sheet - Employee data'!OA12","v":"Name"},{"$f":"'6 - Input sheet - Employee data'!OB12","v":"Name"},{"$f":"'6 - Input sheet - Employee data'!OC12","v":"Name"},{"$f":"'6 - Input sheet - Employee data'!OD12","v":"Name"},{"$f":"'6 - Input sheet - Employee data'!OE12","v":"Name"},{"$f":"'6 - Input sheet - Employee data'!OF12","v":"Name"},{"$f":"'6 - Input sheet - Employee data'!OG12","v":"Name"},{"$f":"'6 - Input sheet - Employee data'!OH12","v":"Name"},{"$f":"'6 - Input sheet - Employee data'!OI12","v":"Name"},{"$f":"'6 - Input sheet - Employee data'!OJ12","v":"Name"},{"$f":"'6 - Input sheet - Employee data'!OK12","v":"Name"},{"$f":"'6 - Input sheet - Employee data'!OL12","v":"Name"},{"$f":"'6 - Input sheet - Employee data'!OM12","v":"Name"},{"$f":"'6 - Input sheet - Employee data'!ON12","v":"Name"},{"$f":"'6 - Input sheet - Employee data'!OO12","v":"Name"},{"$f":"'6 - Input sheet - Employee data'!OP12","v":"Name"},{"$f":"'6 - Input sheet - Employee data'!OQ12","v":"Name"},{"$f":"'6 - Input sheet - Employee data'!OR12","v":"Name"},{"$f":"'6 - Input sheet - Employee data'!OS12","v":"Name"},{"$f":"'6 - Input sheet - Employee data'!OT12","v":"Name"},{"$f":"'6 - Input sheet - Employee data'!OU12","v":"Name"},{"$f":"'6 - Input sheet - Employee data'!OV12","v":"Name"},{"$f":"'6 - Input sheet - Employee data'!OW12","v":"Name"},{"$f":"'6 - Input sheet - Employee data'!OX12","v":"Name"},{"$f":"'6 - Input sheet - Employee data'!OY12","v":"Name"},{"$f":"'6 - Input sheet - Employee data'!OZ12","v":"Name"},{"$f":"'6 - Input sheet - Employee data'!PA12","v":"Name"},{"$f":"'6 - Input sheet - Employee data'!PB12","v":"Name"},{"$f":"'6 - Input sheet - Employee data'!PC12","v":"Name"},{"$f":"'6 - Input sheet - Employee data'!PD12","v":"Name"},{"$f":"'6 - Input sheet - Employee data'!PE12","v":"Name"},{"$f":"'6 - Input sheet - Employee data'!PF12","v":"Name"},{"$f":"'6 - Input sheet - Employee data'!PG12","v":"Name"},{"$f":"'6 - Input sheet - Employee data'!PH12","v":"Name"},{"$f":"'6 - Input sheet - Employee data'!PI12","v":"Name"},{"$f":"'6 - Input sheet - Employee data'!PJ12","v":"Name"},{"$f":"'6 - Input sheet - Employee data'!PK12","v":"Name"},{"$f":"'6 - Input sheet - Employee data'!PL12","v":"Name"},{"$f":"'6 - Input sheet - Employee data'!PM12","v":"Name"},{"$f":"'6 - Input sheet - Employee data'!PN12","v":"Name"},{"$f":"'6 - Input sheet - Employee data'!PO12","v":"Name"},{"$f":"'6 - Input sheet - Employee data'!PP12","v":"Name"},{"$f":"'6 - Input sheet - Employee data'!PQ12","v":"Name"},{"$f":"'6 - Input sheet - Employee data'!PR12","v":"Name"},{"$f":"'6 - Input sheet - Employee data'!PS12","v":"Name"},{"$f":"'6 - Input sheet - Employee data'!PT12","v":"Name"},{"$f":"'6 - Input sheet - Employee data'!PU12","v":"Name"},{"$f":"'6 - Input sheet - Employee data'!PV12","v":"Name"},{"$f":"'6 - Input sheet - Employee data'!PW12","v":"Name"},{"$f":"'6 - Input sheet - Employee data'!PX12","v":"Name"},{"$f":"'6 - Input sheet - Employee data'!PY12","v":"Name"},{"$f":"'6 - Input sheet - Employee data'!PZ12","v":"Name"},{"$f":"'6 - Input sheet - Employee data'!QA12","v":"Name"},{"$f":"'6 - Input sheet - Employee data'!QB12","v":"Name"},{"$f":"'6 - Input sheet - Employee data'!QC12","v":"Name"},{"$f":"'6 - Input sheet - Employee data'!QD12","v":"Name"},{"$f":"'6 - Input sheet - Employee data'!QE12","v":"Name"},{"$f":"'6 - Input sheet - Employee data'!QF12","v":"Name"},{"$f":"'6 - Input sheet - Employee data'!QG12","v":"Name"},{"$f":"'6 - Input sheet - Employee data'!QH12","v":"Name"},{"$f":"'6 - Input sheet - Employee data'!QI12","v":"Name"},{"$f":"'6 - Input sheet - Employee data'!QJ12","v":"Name"},{"$f":"'6 - Input sheet - Employee data'!QK12","v":"Name"},{"$f":"'6 - Input sheet - Employee data'!QL12","v":"Name"},{"$f":"'6 - Input sheet - Employee data'!QM12","v":"Name"},{"$f":"'6 - Input sheet - Employee data'!QN12","v":"Name"},{"$f":"'6 - Input sheet - Employee data'!QO12","v":"Name"},{"$f":"'6 - Input sheet - Employee data'!QP12","v":"Name"},{"$f":"'6 - Input sheet - Employee data'!QQ12","v":"Name"},{"$f":"'6 - Input sheet - Employee data'!QR12","v":"Name"},{"$f":"'6 - Input sheet - Employee data'!QS12","v":"Name"},{"$f":"'6 - Input sheet - Employee data'!QT12","v":"Name"},{"$f":"'6 - Input sheet - Employee data'!QU12","v":"Name"},{"$f":"'6 - Input sheet - Employee data'!QV12","v":"Name"},{"$f":"'6 - Input sheet - Employee data'!QW12","v":"Name"},{"$f":"'6 - Input sheet - Employee data'!QX12","v":"Name"},{"$f":"'6 - Input sheet - Employee data'!QY12","v":"Name"},{"$f":"'6 - Input sheet - Employee data'!QZ12","v":"Name"},{"$f":"'6 - Input sheet - Employee data'!RA12","v":"Name"},{"$f":"'6 - Input sheet - Employee data'!RB12","v":"Name"},{"$f":"'6 - Input sheet - Employee data'!RC12","v":"Name"},{"$f":"'6 - Input sheet - Employee data'!RD12","v":"Name"},{"$f":"'6 - Input sheet - Employee data'!RE12","v":"Name"},{"$f":"'6 - Input sheet - Employee data'!RF12","v":"Name"},{"$f":"'6 - Input sheet - Employee data'!RG12","v":"Name"},{"$f":"'6 - Input sheet - Employee data'!RH12","v":"Name"},{"$f":"'6 - Input sheet - Employee data'!RI12","v":"Name"},{"$f":"'6 - Input sheet - Employee data'!RJ12","v":"Name"},{"$f":"'6 - Input sheet - Employee data'!RK12","v":"Name"},{"$f":"'6 - Input sheet - Employee data'!RL12","v":"Name"},{"$f":"'6 - Input sheet - Employee data'!RM12","v":"Name"},{"$f":"'6 - Input sheet - Employee data'!RN12","v":"Name"},{"$f":"'6 - Input sheet - Employee data'!RO12","v":"Name"},{"$f":"'6 - Input sheet - Employee data'!RP12","v":"Name"},{"$f":"'6 - Input sheet - Employee data'!RQ12","v":"Name"},{"$f":"'6 - Input sheet - Employee data'!RR12","v":"Name"},{"$f":"'6 - Input sheet - Employee data'!RS12","v":"Name"},{"$f":"'6 - Input sheet - Employee data'!RT12","v":"Name"},{"$f":"'6 - Input sheet - Employee data'!RU12","v":"Name"},{"$f":"'6 - Input sheet - Employee data'!RV12","v":"Name"},{"$f":"'6 - Input sheet - Employee data'!RW12","v":"Name"},{"$f":"'6 - Input sheet - Employee data'!RX12","v":"Name"},{"$f":"'6 - Input sheet - Employee data'!RY12","v":"Name"},{"$f":"'6 - Input sheet - Employee data'!RZ12","v":"Name"},{"$f":"'6 - Input sheet - Employee data'!SA12","v":"Name"},{"$f":"'6 - Input sheet - Employee data'!SB12","v":"Name"},{"$f":"'6 - Input sheet - Employee data'!SC12","v":"Name"},{"$f":"'6 - Input sheet - Employee data'!SD12","v":"Name"},{"$f":"'6 - Input sheet - Employee data'!SE12","v":"Name"},{"$f":"'6 - Input sheet - Employee data'!SF12","v":"Name"},{"$f":"'6 - Input sheet - Employee data'!SG12","v":"Name"},{"$f":"'6 - Input sheet - Employee data'!SH12","v":"Name"}]
["Employee or Other Qualified Payee Identifier",null,{"$f":"'6 - Input sheet - Employee data'!C13","v":"Identifier"},{"$f":"'6 - Input sheet - Employee data'!D13","v":"Identifier"},{"$f":"'6 - Input sheet - Employee data'!E13","v":"Identifier"},{"$f":"'6 - Input sheet - Employee data'!F13","v":"Identifier"},{"$f":"'6 - Input sheet - Employee data'!G13","v":"Identifier"},{"$f":"'6 - Input sheet - Employee data'!H13","v":"Identifier"},{"$f":"'6 - Input sheet - Employee data'!I13","v":"Identifier"},{"$f":"'6 - Input sheet - Employee data'!J13","v":"Identifier"},{"$f":"'6 - Input sheet - Employee data'!K13","v":"Identifier"},{"$f":"'6 - Input sheet - Employee data'!L13","v":"Identifier"},{"$f":"'6 - Input sheet - Employee data'!M13","v":"Identifier"},{"$f":"'6 - Input sheet - Employee data'!N13","v":"Identifier"},{"$f":"'6 - Input sheet - Employee data'!O13","v":"Identifier"},{"$f":"'6 - Input sheet - Employee data'!P13","v":"Identifier"},{"$f":"'6 - Input sheet - Employee data'!Q13","v":"Identifier"},{"$f":"'6 - Input sheet - Employee data'!R13","v":"Identifier"},{"$f":"'6 - Input sheet - Employee data'!S13","v":"Identifier"},{"$f":"'6 - Input sheet - Employee data'!T13","v":"Identifier"},{"$f":"'6 - Input sheet - Employee data'!U13","v":"Identifier"},{"$f":"'6 - Input sheet - Employee data'!V13","v":"Identifier"},{"$f":"'6 - Input sheet - Employee data'!W13","v":"Identifier"},{"$f":"'6 - Input sheet - Employee data'!X13","v":"Identifier"},{"$f":"'6 - Input sheet - Employee data'!Y13","v":"Identifier"},{"$f":"'6 - Input sheet - Employee data'!Z13","v":"Identifier"},{"$f":"'6 - Input sheet - Employee data'!AA13","v":"Identifier"},{"$f":"'6 - Input sheet - Employee data'!AB13","v":"Identifier"},{"$f":"'6 - Input sheet - Employee data'!AC13","v":"Identifier"},{"$f":"'6 - Input sheet - Employee data'!AD13","v":"Identifier"},{"$f":"'6 - Input sheet - Employee data'!AE13","v":"Identifier"},{"$f":"'6 - Input sheet - Employee data'!AF13","v":"Identifier"},{"$f":"'6 - Input sheet - Employee data'!AG13","v":"Identifier"},{"$f":"'6 - Input sheet - Employee data'!AH13","v":"Identifier"},{"$f":"'6 - Input sheet - Employee data'!AI13","v":"Identifier"},{"$f":"'6 - Input sheet - Employee data'!AJ13","v":"Identifier"},{"$f":"'6 - Input sheet - Employee data'!AK13","v":"Identifier"},{"$f":"'6 - Input sheet - Employee data'!AL13","v":"Identifier"},{"$f":"'6 - Input sheet - Employee data'!AM13","v":"Identifier"},{"$f":"'6 - Input sheet - Employee data'!AN13","v":"Identifier"},{"$f":"'6 - Input sheet - Employee data'!AO13","v":"Identifier"},{"$f":"'6 - Input sheet - Employee data'!AP13","v":"Identifier"},{"$f":"'6 - Input sheet - Employee data'!AQ13","v":"Identifier"},{"$f":"'6 - Input sheet - Employee data'!AR13","v":"Identifier"},{"$f":"'6 - Input sheet - Employee data'!AS13","v":"Identifier"},{"$f":"'6 - Input sheet - Employee data'!AT13","v":"Identifier"},{"$f":"'6 - Input sheet - Employee data'!AU13","v":"Identifier"},{"$f":"'6 - Input sheet - Employee data'!AV13","v":"Identifier"},{"$f":"'6 - Input sheet - Employee data'!AW13","v":"Identifier"},{"$f":"'6 - Input sheet - Employee data'!AX13","v":"Identifier"},{"$f":"'6 - Input sheet - Employee data'!AY13","v":"Identifier"},{"$f":"'6 - Input sheet - Employee data'!AZ13","v":"Identifier"},{"$f":"'6 - Input sheet - Employee data'!BA13","v":"Identifier"},{"$f":"'6 - Input sheet - Employee data'!BB13","v":"Identifier"},{"$f":"'6 - Input sheet - Employee data'!BC13","v":"Identifier"},{"$f":"'6 - Input sheet - Employee data'!BD13","v":"Identifier"},{"$f":"'6 - Input sheet - Employee data'!BE13","v":"Identifier"},{"$f":"'6 - Input sheet - Employee data'!BF13","v":"Identifier"},{"$f":"'6 - Input sheet - Employee data'!BG13","v":"Identifier"},{"$f":"'6 - Input sheet - Employee data'!BH13","v":"Identifier"},{"$f":"'6 - Input sheet - Employee data'!BI13","v":"Identifier"},{"$f":"'6 - Input sheet - Employee data'!BJ13","v":"Identifier"},{"$f":"'6 - Input sheet - Employee data'!BK13","v":"Identifier"},{"$f":"'6 - Input sheet - Employee data'!BL13","v":"Identifier"},{"$f":"'6 - Input sheet - Employee data'!BM13","v":"Identifier"},{"$f":"'6 - Input sheet - Employee data'!BN13","v":"Identifier"},{"$f":"'6 - Input sheet - Employee data'!BO13","v":"Identifier"},{"$f":"'6 - Input sheet - Employee data'!BP13","v":"Identifier"},{"$f":"'6 - Input sheet - Employee data'!BQ13","v":"Identifier"},{"$f":"'6 - Input sheet - Employee data'!BR13","v":"Identifier"},{"$f":"'6 - Input sheet - Employee data'!BS13","v":"Identifier"},{"$f":"'6 - Input sheet - Employee data'!BT13","v":"Identifier"},{"$f":"'6 - Input sheet - Employee data'!BU13","v":"Identifier"},{"$f":"'6 - Input sheet - Employee data'!BV13","v":"Identifier"},{"$f":"'6 - Input sheet - Employee data'!BW13","v":"Identifier"},{"$f":"'6 - Input sheet - Employee data'!BX13","v":"Identifier"},{"$f":"'6 - Input sheet - Employee data'!BY13","v":"Identifier"},{"$f":"'6 - Input sheet - Employee data'!BZ13","v":"Identifier"},{"$f":"'6 - Input sheet - Employee data'!CA13","v":"Identifier"},{"$f":"'6 - Input sheet - Employee data'!CB13","v":"Identifier"},{"$f":"'6 - Input sheet - Employee data'!CC13","v":"Identifier"},{"$f":"'6 - Input sheet - Employee data'!CD13","v":"Identifier"},{"$f":"'6 - Input sheet - Employee data'!CE13","v":"Identifier"},{"$f":"'6 - Input sheet - Employee data'!CF13","v":"Identifier"},{"$f":"'6 - Input sheet - Employee data'!CG13","v":"Identifier"},{"$f":"'6 - Input sheet - Employee data'!CH13","v":"Identifier"},{"$f":"'6 - Input sheet - Employee data'!CI13","v":"Identifier"},{"$f":"'6 - Input sheet - Employee data'!CJ13","v":"Identifier"},{"$f":"'6 - Input sheet - Employee data'!CK13","v":"Identifier"},{"$f":"'6 - Input sheet - Employee data'!CL13","v":"Identifier"},{"$f":"'6 - Input sheet - Employee data'!CM13","v":"Identifier"},{"$f":"'6 - Input sheet - Employee data'!CN13","v":"Identifier"},{"$f":"'6 - Input sheet - Employee data'!CO13","v":"Identifier"},{"$f":"'6 - Input sheet - Employee data'!CP13","v":"Identifier"},{"$f":"'6 - Input sheet - Employee data'!CQ13","v":"Identifier"},{"$f":"'6 - Input sheet - Employee data'!CR13","v":"Identifier"},{"$f":"'6 - Input sheet - Employee data'!CS13","v":"Identifier"},{"$f":"'6 - Input sheet - Employee data'!CT13","v":"Identifier"},{"$f":"'6 - Input sheet - Employee data'!CU13","v":"Identifier"},{"$f":"'6 - Input sheet - Employee data'!CV13","v":"Identifier"},{"$f":"'6 - Input sheet - Employee data'!CW13","v":"Identifier"},{"$f":"'6 - Input sheet - Employee data'!CX13","v":"Identifier"},{"$f":"'6 - Input sheet - Employee data'!CY13","v":"Identifier"},{"$f":"'6 - Input sheet - Employee data'!CZ13","v":"Identifier"},{"$f":"'6 - Input sheet - Employee data'!DA13","v":"Identifier"},{"$f":"'6 - Input sheet - Employee data'!DB13","v":"Identifier"},{"$f":"'6 - Input sheet - Employee data'!DC13","v":"Identifier"},{"$f":"'6 - Input sheet - Employee data'!DD13","v":"Identifier"},{"$f":"'6 - Input sheet - Employee data'!DE13","v":"Identifier"},{"$f":"'6 - Input sheet - Employee data'!DF13","v":"Identifier"},{"$f":"'6 - Input sheet - Employee data'!DG13","v":"Identifier"},{"$f":"'6 - Input sheet - Employee data'!DH13","v":"Identifier"},{"$f":"'6 - Input sheet - Employee data'!DI13","v":"Identifier"},{"$f":"'6 - Input sheet - Employee data'!DJ13","v":"Identifier"},{"$f":"'6 - Input sheet - Employee data'!DK13","v":"Identifier"},{"$f":"'6 - Input sheet - Employee data'!DL13","v":"Identifier"},{"$f":"'6 - Input sheet - Employee data'!DM13","v":"Identifier"},{"$f":"'6 - Input sheet - Employee data'!DN13","v":"Identifier"},{"$f":"'6 - Input sheet - Employee data'!DO13","v":"Identifier"},{"$f":"'6 - Input sheet - Employee data'!DP13","v":"Identifier"},{"$f":"'6 - Input sheet - Employee data'!DQ13","v":"Identifier"},{"$f":"'6 - Input sheet - Employee data'!DR13","v":"Identifier"},{"$f":"'6 - Input sheet - Employee data'!DS13","v":"Identifier"},{"$f":"'6 - Input sheet - Employee data'!DT13","v":"Identifier"},{"$f":"'6 - Input sheet - Employee data'!DU13","v":"Identifier"},{"$f":"'6 - Input sheet - Employee data'!DV13","v":"Identifier"},{"$f":"'6 - Input sheet - Employee data'!DW13","v":"Identifier"},{"$f":"'6 - Input sheet - Employee data'!DX13","v":"Identifier"},{"$f":"'6 - Input sheet - Employee data'!DY13","v":"Identifier"},{"$f":"'6 - Input sheet - Employee data'!DZ13","v":"Identifier"},{"$f":"'6 - Input sheet - Employee data'!EA13","v":"Identifier"},{"$f":"'6 - Input sheet - Employee data'!EB13","v":"Identifier"},{"$f":"'6 - Input sheet - Employee data'!EC13","v":"Identifier"},{"$f":"'6 - Input sheet - Employee data'!ED13","v":"Identifier"},{"$f":"'6 - Input sheet - Employee data'!EE13","v":"Identifier"},{"$f":"'6 - Input sheet - Employee data'!EF13","v":"Identifier"},{"$f":"'6 - Input sheet - Employee data'!EG13","v":"Identifier"},{"$f":"'6 - Input sheet - Employee data'!EH13","v":"Identifier"},{"$f":"'6 - Input sheet - Employee data'!EI13","v":"Identifier"},{"$f":"'6 - Input sheet - Employee data'!EJ13","v":"Identifier"},{"$f":"'6 - Input sheet - Employee data'!EK13","v":"Identifier"},{"$f":"'6 - Input sheet - Employee data'!EL13","v":"Identifier"},{"$f":"'6 - Input sheet - Employee data'!EM13","v":"Identifier"},{"$f":"'6 - Input sheet - Employee data'!EN13","v":"Identifier"},{"$f":"'6 - Input sheet - Employee data'!EO13","v":"Identifier"},{"$f":"'6 - Input sheet - Employee data'!EP13","v":"Identifier"},{"$f":"'6 - Input sheet - Employee data'!EQ13","v":"Identifier"},{"$f":"'6 - Input sheet - Employee data'!ER13","v":"Identifier"},{"$f":"'6 - Input sheet - Employee data'!ES13","v":"Identifier"},{"$f":"'6 - Input sheet - Employee data'!ET13","v":"Identifier"},{"$f":"'6 - Input sheet - Employee data'!EU13","v":"Identifier"},{"$f":"'6 - Input sheet - Employee data'!EV13","v":"Identifier"},{"$f":"'6 - Input sheet - Employee data'!EW13","v":"Identifier"},{"$f":"'6 - Input sheet - Employee data'!EX13","v":"Identifier"},{"$f":"'6 - Input sheet - Employee data'!EY13","v":"Identifier"},{"$f":"'6 - Input sheet - Employee data'!EZ13","v":"Identifier"},{"$f":"'6 - Input sheet - Employee data'!FA13","v":"Identifier"},{"$f":"'6 - Input sheet - Employee data'!FB13","v":"Identifier"},{"$f":"'6 - Input sheet - Employee data'!FC13","v":"Identifier"},{"$f":"'6 - Input sheet - Employee data'!FD13","v":"Identifier"},{"$f":"'6 - Input sheet - Employee data'!FE13","v":"Identifier"},{"$f":"'6 - Input sheet - Employee data'!FF13","v":"Identifier"},{"$f":"'6 - Input sheet - Employee data'!FG13","v":"Identifier"},{"$f":"'6 - Input sheet - Employee data'!FH13","v":"Identifier"},{"$f":"'6 - Input sheet - Employee data'!FI13","v":"Identifier"},{"$f":"'6 - Input sheet - Employee data'!FJ13","v":"Identifier"},{"$f":"'6 - Input sheet - Employee data'!FK13","v":"Identifier"},{"$f":"'6 - Input sheet - Employee data'!FL13","v":"Identifier"},{"$f":"'6 - Input sheet - Employee data'!FM13","v":"Identifier"},{"$f":"'6 - Input sheet - Employee data'!FN13","v":"Identifier"},{"$f":"'6 - Input sheet - Employee data'!FO13","v":"Identifier"},{"$f":"'6 - Input sheet - Employee data'!FP13","v":"Identifier"},{"$f":"'6 - Input sheet - Employee data'!FQ13","v":"Identifier"},{"$f":"'6 - Input sheet - Employee data'!FR13","v":"Identifier"},{"$f":"'6 - Input sheet - Employee data'!FS13","v":"Identifier"},{"$f":"'6 - Input sheet - Employee data'!FT13","v":"Identifier"},{"$f":"'6 - Input sheet - Employee data'!FU13","v":"Identifier"},{"$f":"'6 - Input sheet - Employee data'!FV13","v":"Identifier"},{"$f":"'6 - Input sheet - Employee data'!FW13","v":"Identifier"},{"$f":"'6 - Input sheet - Employee data'!FX13","v":"Identifier"},{"$f":"'6 - Input sheet - Employee data'!FY13","v":"Identifier"},{"$f":"'6 - Input sheet - Employee data'!FZ13","v":"Identifier"},{"$f":"'6 - Input sheet - Employee data'!GA13","v":"Identifier"},{"$f":"'6 - Input sheet - Employee data'!GB13","v":"Identifier"},{"$f":"'6 - Input sheet - Employee data'!GC13","v":"Identifier"},{"$f":"'6 - Input sheet - Employee data'!GD13","v":"Identifier"},{"$f":"'6 - Input sheet - Employee data'!GE13","v":"Identifier"},{"$f":"'6 - Input sheet - Employee data'!GF13","v":"Identifier"},{"$f":"'6 - Input sheet - Employee data'!GG13","v":"Identifier"},{"$f":"'6 - Input sheet - Employee data'!GH13","v":"Identifier"},{"$f":"'6 - Input sheet - Employee data'!GI13","v":"Identifier"},{"$f":"'6 - Input sheet - Employee data'!GJ13","v":"Identifier"},{"$f":"'6 - Input sheet - Employee data'!GK13","v":"Identifier"},{"$f":"'6 - Input sheet - Employee data'!GL13","v":"Identifier"},{"$f":"'6 - Input sheet - Employee data'!GM13","v":"Identifier"},{"$f":"'6 - Input sheet - Employee data'!GN13","v":"Identifier"},{"$f":"'6 - Input sheet - Employee data'!GO13","v":"Identifier"},{"$f":"'6 - Input sheet - Employee data'!GP13","v":"Identifier"},{"$f":"'6 - Input sheet - Employee data'!GQ13","v":"Identifier"},{"$f":"'6 - Input sheet - Employee data'!GR13","v":"Identifier"},{"$f":"'6 - Input sheet - Employee data'!GS13","v":"Identifier"},{"$f":"'6 - Input sheet - Employee data'!GT13","v":"Identifier"},{"$f":"'6 - Input sheet - Employee data'!GU13","v":"Identifier"},{"$f":"'6 - Input sheet - Employee data'!GV13","v":"Identifier"},{"$f":"'6 - Input sheet - Employee data'!GW13","v":"Identifier"},{"$f":"'6 - Input sheet - Employee data'!GX13","v":"Identifier"},{"$f":"'6 - Input sheet - Employee data'!GY13","v":"Identifier"},{"$f":"'6 - Input sheet - Employee data'!GZ13","v":"Identifier"},{"$f":"'6 - Input sheet - Employee data'!HA13","v":"Identifier"},{"$f":"'6 - Input sheet - Employee data'!HB13","v":"Identifier"},{"$f":"'6 - Input sheet - Employee data'!HC13","v":"Identifier"},{"$f":"'6 - Input sheet - Employee data'!HD13","v":"Identifier"},{"$f":"'6 - Input sheet - Employee data'!HE13","v":"Identifier"},{"$f":"'6 - Input sheet - Employee data'!HF13","v":"Identifier"},{"$f":"'6 - Input sheet - Employee data'!HG13","v":"Identifier"},{"$f":"'6 - Input sheet - Employee data'!HH13","v":"Identifier"},{"$f":"'6 - Input sheet - Employee data'!HI13","v":"Identifier"},{"$f":"'6 - Input sheet - Employee data'!HJ13","v":"Identifier"},{"$f":"'6 - Input sheet - Employee data'!HK13","v":"Identifier"},{"$f":"'6 - Input sheet - Employee data'!HL13","v":"Identifier"},{"$f":"'6 - Input sheet - Employee data'!HM13","v":"Identifier"},{"$f":"'6 - Input sheet - Employee data'!HN13","v":"Identifier"},{"$f":"'6 - Input sheet - Employee data'!HO13","v":"Identifier"},{"$f":"'6 - Input sheet - Employee data'!HP13","v":"Identifier"},{"$f":"'6 - Input sheet - Employee data'!HQ13","v":"Identifier"},{"$f":"'6 - Input sheet - Employee data'!HR13","v":"Identifier"},{"$f":"'6 - Input sheet - Employee data'!HS13","v":"Identifier"},{"$f":"'6 - Input sheet - Employee data'!HT13","v":"Identifier"},{"$f":"'6 - Input sheet - Employee data'!HU13","v":"Identifier"},{"$f":"'6 - Input sheet - Employee data'!HV13","v":"Identifier"},{"$f":"'6 - Input sheet - Employee data'!HW13","v":"Identifier"},{"$f":"'6 - Input sheet - Employee data'!HX13","v":"Identifier"},{"$f":"'6 - Input sheet - Employee data'!HY13","v":"Identifier"},{"$f":"'6 - Input sheet - Employee data'!HZ13","v":"Identifier"},{"$f":"'6 - Input sheet - Employee data'!IA13","v":"Identifier"},{"$f":"'6 - Input sheet - Employee data'!IB13","v":"Identifier"},{"$f":"'6 - Input sheet - Employee data'!IC13","v":"Identifier"},{"$f":"'6 - Input sheet - Employee data'!ID13","v":"Identifier"},{"$f":"'6 - Input sheet - Employee data'!IE13","v":"Identifier"},{"$f":"'6 - Input sheet - Employee data'!IF13","v":"Identifier"},{"$f":"'6 - Input sheet - Employee data'!IG13","v":"Identifier"},{"$f":"'6 - Input sheet - Employee data'!IH13","v":"Identifier"},{"$f":"'6 - Input sheet - Employee data'!II13","v":"Identifier"},{"$f":"'6 - Input sheet - Employee data'!IJ13","v":"Identifier"},{"$f":"'6 - Input sheet - Employee data'!IK13","v":"Identifier"},{"$f":"'6 - Input sheet - Employee data'!IL13","v":"Identifier"},{"$f":"'6 - Input sheet - Employee data'!IM13","v":"Identifier"},{"$f":"'6 - Input sheet - Employee data'!IN13","v":"Identifier"},{"$f":"'6 - Input sheet - Employee data'!IO13","v":"Identifier"},{"$f":"'6 - Input sheet - Employee data'!IP13","v":"Identifier"},{"$f":"'6 - Input sheet - Employee data'!IQ13","v":"Identifier"},{"$f":"'6 - Input sheet - Employee data'!IR13","v":"Identifier"},{"$f":"'6 - Input sheet - Employee data'!IS13","v":"Identifier"},{"$f":"'6 - Input sheet - Employee data'!IT13","v":"Identifier"},{"$f":"'6 - Input sheet - Employee data'!IU13","v":"Identifier"},{"$f":"'6 - Input sheet - Employee data'!IV13","v":"Identifier"},{"$f":"'6 - Input sheet - Employee data'!IW13","v":"Identifier"},{"$f":"'6 - Input sheet - Employee data'!IX13","v":"Identifier"},{"$f":"'6 - Input sheet - Employee data'!IY13","v":"Identifier"},{"$f":"'6 - Input sheet - Employee data'!IZ13","v":"Identifier"},{"$f":"'6 - Input sheet - Employee data'!JA13","v":"Identifier"},{"$f":"'6 - Input sheet - Employee data'!JB13","v":"Identifier"},{"$f":"'6 - Input sheet - Employee data'!JC13","v":"Identifier"},{"$f":"'6 - Input sheet - Employee data'!JD13","v":"Identifier"},{"$f":"'6 - Input sheet - Employee data'!JE13","v":"Identifier"},{"$f":"'6 - Input sheet - Employee data'!JF13","v":"Identifier"},{"$f":"'6 - Input sheet - Employee data'!JG13","v":"Identifier"},{"$f":"'6 - Input sheet - Employee data'!JH13","v":"Identifier"},{"$f":"'6 - Input sheet - Employee data'!JI13","v":"Identifier"},{"$f":"'6 - Input sheet - Employee data'!JJ13","v":"Identifier"},{"$f":"'6 - Input sheet - Employee data'!JK13","v":"Identifier"},{"$f":"'6 - Input sheet - Employee data'!JL13","v":"Identifier"},{"$f":"'6 - Input sheet - Employee data'!JM13","v":"Identifier"},{"$f":"'6 - Input sheet - Employee data'!JN13","v":"Identifier"},{"$f":"'6 - Input sheet - Employee data'!JO13","v":"Identifier"},{"$f":"'6 - Input sheet - Employee data'!JP13","v":"Identifier"},{"$f":"'6 - Input sheet - Employee data'!JQ13","v":"Identifier"},{"$f":"'6 - Input sheet - Employee data'!JR13","v":"Identifier"},{"$f":"'6 - Input sheet - Employee data'!JS13","v":"Identifier"},{"$f":"'6 - Input sheet - Employee data'!JT13","v":"Identifier"},{"$f":"'6 - Input sheet - Employee data'!JU13","v":"Identifier"},{"$f":"'6 - Input sheet - Employee data'!JV13","v":"Identifier"},{"$f":"'6 - Input sheet - Employee data'!JW13","v":"Identifier"},{"$f":"'6 - Input sheet - Employee data'!JX13","v":"Identifier"},{"$f":"'6 - Input sheet - Employee data'!JY13","v":"Identifier"},{"$f":"'6 - Input sheet - Employee data'!JZ13","v":"Identifier"},{"$f":"'6 - Input sheet - Employee data'!KA13","v":"Identifier"},{"$f":"'6 - Input sheet - Employee data'!KB13","v":"Identifier"},{"$f":"'6 - Input sheet - Employee data'!KC13","v":"Identifier"},{"$f":"'6 - Input sheet - Employee data'!KD13","v":"Identifier"},{"$f":"'6 - Input sheet - Employee data'!KE13","v":"Identifier"},{"$f":"'6 - Input sheet - Employee data'!KF13","v":"Identifier"},{"$f":"'6 - Input sheet - Employee data'!KG13","v":"Identifier"},{"$f":"'6 - Input sheet - Employee data'!KH13","v":"Identifier"},{"$f":"'6 - Input sheet - Employee data'!KI13","v":"Identifier"},{"$f":"'6 - Input sheet - Employee data'!KJ13","v":"Identifier"},{"$f":"'6 - Input sheet - Employee data'!KK13","v":"Identifier"},{"$f":"'6 - Input sheet - Employee data'!KL13","v":"Identifier"},{"$f":"'6 - Input sheet - Employee data'!KM13","v":"Identifier"},{"$f":"'6 - Input sheet - Employee data'!KN13","v":"Identifier"},{"$f":"'6 - Input sheet - Employee data'!KO13","v":"Identifier"},{"$f":"'6 - Input sheet - Employee data'!KP13","v":"Identifier"},{"$f":"'6 - Input sheet - Employee data'!KQ13","v":"Identifier"},{"$f":"'6 - Input sheet - Employee data'!KR13","v":"Identifier"},{"$f":"'6 - Input sheet - Employee data'!KS13","v":"Identifier"},{"$f":"'6 - Input sheet - Employee data'!KT13","v":"Identifier"},{"$f":"'6 - Input sheet - Employee data'!KU13","v":"Identifier"},{"$f":"'6 - Input sheet - Employee data'!KV13","v":"Identifier"},{"$f":"'6 - Input sheet - Employee data'!KW13","v":"Identifier"},{"$f":"'6 - Input sheet - Employee data'!KX13","v":"Identifier"},{"$f":"'6 - Input sheet - Employee data'!KY13","v":"Identifier"},{"$f":"'6 - Input sheet - Employee data'!KZ13","v":"Identifier"},{"$f":"'6 - Input sheet - Employee data'!LA13","v":"Identifier"},{"$f":"'6 - Input sheet - Employee data'!LB13","v":"Identifier"},{"$f":"'6 - Input sheet - Employee data'!LC13","v":"Identifier"},{"$f":"'6 - Input sheet - Employee data'!LD13","v":"Identifier"},{"$f":"'6 - Input sheet - Employee data'!LE13","v":"Identifier"},{"$f":"'6 - Input sheet - Employee data'!LF13","v":"Identifier"},{"$f":"'6 - Input sheet - Employee data'!LG13","v":"Identifier"},{"$f":"'6 - Input sheet - Employee data'!LH13","v":"Identifier"},{"$f":"'6 - Input sheet - Employee data'!LI13","v":"Identifier"},{"$f":"'6 - Input sheet - Employee data'!LJ13","v":"Identifier"},{"$f":"'6 - Input sheet - Employee data'!LK13","v":"Identifier"},{"$f":"'6 - Input sheet - Employee data'!LL13","v":"Identifier"},{"$f":"'6 - Input sheet - Employee data'!LM13","v":"Identifier"},{"$f":"'6 - Input sheet - Employee data'!LN13","v":"Identifier"},{"$f":"'6 - Input sheet - Employee data'!LO13","v":"Identifier"},{"$f":"'6 - Input sheet - Employee data'!LP13","v":"Identifier"},{"$f":"'6 - Input sheet - Employee data'!LQ13","v":"Identifier"},{"$f":"'6 - Input sheet - Employee data'!LR13","v":"Identifier"},{"$f":"'6 - Input sheet - Employee data'!LS13","v":"Identifier"},{"$f":"'6 - Input sheet - Employee data'!LT13","v":"Identifier"},{"$f":"'6 - Input sheet - Employee data'!LU13","v":"Identifier"},{"$f":"'6 - Input sheet - Employee data'!LV13","v":"Identifier"},{"$f":"'6 - Input sheet - Employee data'!LW13","v":"Identifier"},{"$f":"'6 - Input sheet - Employee data'!LX13","v":"Identifier"},{"$f":"'6 - Input sheet - Employee data'!LY13","v":"Identifier"},{"$f":"'6 - Input sheet - Employee data'!LZ13","v":"Identifier"},{"$f":"'6 - Input sheet - Employee data'!MA13","v":"Identifier"},{"$f":"'6 - Input sheet - Employee data'!MB13","v":"Identifier"},{"$f":"'6 - Input sheet - Employee data'!MC13","v":"Identifier"},{"$f":"'6 - Input sheet - Employee data'!MD13","v":"Identifier"},{"$f":"'6 - Input sheet - Employee data'!ME13","v":"Identifier"},{"$f":"'6 - Input sheet - Employee data'!MF13","v":"Identifier"},{"$f":"'6 - Input sheet - Employee data'!MG13","v":"Identifier"},{"$f":"'6 - Input sheet - Employee data'!MH13","v":"Identifier"},{"$f":"'6 - Input sheet - Employee data'!MI13","v":"Identifier"},{"$f":"'6 - Input sheet - Employee data'!MJ13","v":"Identifier"},{"$f":"'6 - Input sheet - Employee data'!MK13","v":"Identifier"},{"$f":"'6 - Input sheet - Employee data'!ML13","v":"Identifier"},{"$f":"'6 - Input sheet - Employee data'!MM13","v":"Identifier"},{"$f":"'6 - Input sheet - Employee data'!MN13","v":"Identifier"},{"$f":"'6 - Input sheet - Employee data'!MO13","v":"Identifier"},{"$f":"'6 - Input sheet - Employee data'!MP13","v":"Identifier"},{"$f":"'6 - Input sheet - Employee data'!MQ13","v":"Identifier"},{"$f":"'6 - Input sheet - Employee data'!MR13","v":"Identifier"},{"$f":"'6 - Input sheet - Employee data'!MS13","v":"Identifier"},{"$f":"'6 - Input sheet - Employee data'!MT13","v":"Identifier"},{"$f":"'6 - Input sheet - Employee data'!MU13","v":"Identifier"},{"$f":"'6 - Input sheet - Employee data'!MV13","v":"Identifier"},{"$f":"'6 - Input sheet - Employee data'!MW13","v":"Identifier"},{"$f":"'6 - Input sheet - Employee data'!MX13","v":"Identifier"},{"$f":"'6 - Input sheet - Employee data'!MY13","v":"Identifier"},{"$f":"'6 - Input sheet - Employee data'!MZ13","v":"Identifier"},{"$f":"'6 - Input sheet - Employee data'!NA13","v":"Identifier"},{"$f":"'6 - Input sheet - Employee data'!NB13","v":"Identifier"},{"$f":"'6 - Input sheet - Employee data'!NC13","v":"Identifier"},{"$f":"'6 - Input sheet - Employee data'!ND13","v":"Identifier"},{"$f":"'6 - Input sheet - Employee data'!NE13","v":"Identifier"},{"$f":"'6 - Input sheet - Employee data'!NF13","v":"Identifier"},{"$f":"'6 - Input sheet - Employee data'!NG13","v":"Identifier"},{"$f":"'6 - Input sheet - Employee data'!NH13","v":"Identifier"},{"$f":"'6 - Input sheet - Employee data'!NI13","v":"Identifier"},{"$f":"'6 - Input sheet - Employee data'!NJ13","v":"Identifier"},{"$f":"'6 - Input sheet - Employee data'!NK13","v":"Identifier"},{"$f":"'6 - Input sheet - Employee data'!NL13","v":"Identifier"},{"$f":"'6 - Input sheet - Employee data'!NM13","v":"Identifier"},{"$f":"'6 - Input sheet - Employee data'!NN13","v":"Identifier"},{"$f":"'6 - Input sheet - Employee data'!NO13","v":"Identifier"},{"$f":"'6 - Input sheet - Employee data'!NP13","v":"Identifier"},{"$f":"'6 - Input sheet - Employee data'!NQ13","v":"Identifier"},{"$f":"'6 - Input sheet - Employee data'!NR13","v":"Identifier"},{"$f":"'6 - Input sheet - Employee data'!NS13","v":"Identifier"},{"$f":"'6 - Input sheet - Employee data'!NT13","v":"Identifier"},{"$f":"'6 - Input sheet - Employee data'!NU13","v":"Identifier"},{"$f":"'6 - Input sheet - Employee data'!NV13","v":"Identifier"},{"$f":"'6 - Input sheet - Employee data'!NW13","v":"Identifier"},{"$f":"'6 - Input sheet - Employee data'!NX13","v":"Identifier"},{"$f":"'6 - Input sheet - Employee data'!NY13","v":"Identifier"},{"$f":"'6 - Input sheet - Employee data'!NZ13","v":"Identifier"},{"$f":"'6 - Input sheet - Employee data'!OA13","v":"Identifier"},{"$f":"'6 - Input sheet - Employee data'!OB13","v":"Identifier"},{"$f":"'6 - Input sheet - Employee data'!OC13","v":"Identifier"},{"$f":"'6 - Input sheet - Employee data'!OD13","v":"Identifier"},{"$f":"'6 - Input sheet - Employee data'!OE13","v":"Identifier"},{"$f":"'6 - Input sheet - Employee data'!OF13","v":"Identifier"},{"$f":"'6 - Input sheet - Employee data'!OG13","v":"Identifier"},{"$f":"'6 - Input sheet - Employee data'!OH13","v":"Identifier"},{"$f":"'6 - Input sheet - Employee data'!OI13","v":"Identifier"},{"$f":"'6 - Input sheet - Employee data'!OJ13","v":"Identifier"},{"$f":"'6 - Input sheet - Employee data'!OK13","v":"Identifier"},{"$f":"'6 - Input sheet - Employee data'!OL13","v":"Identifier"},{"$f":"'6 - Input sheet - Employee data'!OM13","v":"Identifier"},{"$f":"'6 - Input sheet - Employee data'!ON13","v":"Identifier"},{"$f":"'6 - Input sheet - Employee data'!OO13","v":"Identifier"},{"$f":"'6 - Input sheet - Employee data'!OP13","v":"Identifier"},{"$f":"'6 - Input sheet - Employee data'!OQ13","v":"Identifier"},{"$f":"'6 - Input sheet - Employee data'!OR13","v":"Identifier"},{"$f":"'6 - Input sheet - Employee data'!OS13","v":"Identifier"},{"$f":"'6 - Input sheet - Employee data'!OT13","v":"Identifier"},{"$f":"'6 - Input sheet - Employee data'!OU13","v":"Identifier"},{"$f":"'6 - Input sheet - Employee data'!OV13","v":"Identifier"},{"$f":"'6 - Input sheet - Employee data'!OW13","v":"Identifier"},{"$f":"'6 - Input sheet - Employee data'!OX13","v":"Identifier"},{"$f":"'6 - Input sheet - Employee data'!OY13","v":"Identifier"},{"$f":"'6 - Input sheet - Employee data'!OZ13","v":"Identifier"},{"$f":"'6 - Input sheet - Employee data'!PA13","v":"Identifier"},{"$f":"'6 - Input sheet - Employee data'!PB13","v":"Identifier"},{"$f":"'6 - Input sheet - Employee data'!PC13","v":"Identifier"},{"$f":"'6 - Input sheet - Employee data'!PD13","v":"Identifier"},{"$f":"'6 - Input sheet - Employee data'!PE13","v":"Identifier"},{"$f":"'6 - Input sheet - Employee data'!PF13","v":"Identifier"},{"$f":"'6 - Input sheet - Employee data'!PG13","v":"Identifier"},{"$f":"'6 - Input sheet - Employee data'!PH13","v":"Identifier"},{"$f":"'6 - Input sheet - Employee data'!PI13","v":"Identifier"},{"$f":"'6 - Input sheet - Employee data'!PJ13","v":"Identifier"},{"$f":"'6 - Input sheet - Employee data'!PK13","v":"Identifier"},{"$f":"'6 - Input sheet - Employee data'!PL13","v":"Identifier"},{"$f":"'6 - Input sheet - Employee data'!PM13","v":"Identifier"},{"$f":"'6 - Input sheet - Employee data'!PN13","v":"Identifier"},{"$f":"'6 - Input sheet - Employee data'!PO13","v":"Identifier"},{"$f":"'6 - Input sheet - Employee data'!PP13","v":"Identifier"},{"$f":"'6 - Input sheet - Employee data'!PQ13","v":"Identifier"},{"$f":"'6 - Input sheet - Employee data'!PR13","v":"Identifier"},{"$f":"'6 - Input sheet - Employee data'!PS13","v":"Identifier"},{"$f":"'6 - Input sheet - Employee data'!PT13","v":"Identifier"},{"$f":"'6 - Input sheet - Employee data'!PU13","v":"Identifier"},{"$f":"'6 - Input sheet - Employee data'!PV13","v":"Identifier"},{"$f":"'6 - Input sheet - Employee data'!PW13","v":"Identifier"},{"$f":"'6 - Input sheet - Employee data'!PX13","v":"Identifier"},{"$f":"'6 - Input sheet - Employee data'!PY13","v":"Identifier"},{"$f":"'6 - Input sheet - Employee data'!PZ13","v":"Identifier"},{"$f":"'6 - Input sheet - Employee data'!QA13","v":"Identifier"},{"$f":"'6 - Input sheet - Employee data'!QB13","v":"Identifier"},{"$f":"'6 - Input sheet - Employee data'!QC13","v":"Identifier"},{"$f":"'6 - Input sheet - Employee data'!QD13","v":"Identifier"},{"$f":"'6 - Input sheet - Employee data'!QE13","v":"Identifier"},{"$f":"'6 - Input sheet - Employee data'!QF13","v":"Identifier"},{"$f":"'6 - Input sheet - Employee data'!QG13","v":"Identifier"},{"$f":"'6 - Input sheet - Employee data'!QH13","v":"Identifier"},{"$f":"'6 - Input sheet - Employee data'!QI13","v":"Identifier"},{"$f":"'6 - Input sheet - Employee data'!QJ13","v":"Identifier"},{"$f":"'6 - Input sheet - Employee data'!QK13","v":"Identifier"},{"$f":"'6 - Input sheet - Employee data'!QL13","v":"Identifier"},{"$f":"'6 - Input sheet - Employee data'!QM13","v":"Identifier"},{"$f":"'6 - Input sheet - Employee data'!QN13","v":"Identifier"},{"$f":"'6 - Input sheet - Employee data'!QO13","v":"Identifier"},{"$f":"'6 - Input sheet - Employee data'!QP13","v":"Identifier"},{"$f":"'6 - Input sheet - Employee data'!QQ13","v":"Identifier"},{"$f":"'6 - Input sheet - Employee data'!QR13","v":"Identifier"},{"$f":"'6 - Input sheet - Employee data'!QS13","v":"Identifier"},{"$f":"'6 - Input sheet - Employee data'!QT13","v":"Identifier"},{"$f":"'6 - Input sheet - Employee data'!QU13","v":"Identifier"},{"$f":"'6 - Input sheet - Employee data'!QV13","v":"Identifier"},{"$f":"'6 - Input sheet - Employee data'!QW13","v":"Identifier"},{"$f":"'6 - Input sheet - Employee data'!QX13","v":"Identifier"},{"$f":"'6 - Input sheet - Employee data'!QY13","v":"Identifier"},{"$f":"'6 - Input sheet - Employee data'!QZ13","v":"Identifier"},{"$f":"'6 - Input sheet - Employee data'!RA13","v":"Identifier"},{"$f":"'6 - Input sheet - Employee data'!RB13","v":"Identifier"},{"$f":"'6 - Input sheet - Employee data'!RC13","v":"Identifier"},{"$f":"'6 - Input sheet - Employee data'!RD13","v":"Identifier"},{"$f":"'6 - Input sheet - Employee data'!RE13","v":"Identifier"},{"$f":"'6 - Input sheet - Employee data'!RF13","v":"Identifier"},{"$f":"'6 - Input sheet - Employee data'!RG13","v":"Identifier"},{"$f":"'6 - Input sheet - Employee data'!RH13","v":"Identifier"},{"$f":"'6 - Input sheet - Employee data'!RI13","v":"Identifier"},{"$f":"'6 - Input sheet - Employee data'!RJ13","v":"Identifier"},{"$f":"'6 - Input sheet - Employee data'!RK13","v":"Identifier"},{"$f":"'6 - Input sheet - Employee data'!RL13","v":"Identifier"},{"$f":"'6 - Input sheet - Employee data'!RM13","v":"Identifier"},{"$f":"'6 - Input sheet - Employee data'!RN13","v":"Identifier"},{"$f":"'6 - Input sheet - Employee data'!RO13","v":"Identifier"},{"$f":"'6 - Input sheet - Employee data'!RP13","v":"Identifier"},{"$f":"'6 - Input sheet - Employee data'!RQ13","v":"Identifier"},{"$f":"'6 - Input sheet - Employee data'!RR13","v":"Identifier"},{"$f":"'6 - Input sheet - Employee data'!RS13","v":"Identifier"},{"$f":"'6 - Input sheet - Employee data'!RT13","v":"Identifier"},{"$f":"'6 - Input sheet - Employee data'!RU13","v":"Identifier"},{"$f":"'6 - Input sheet - Employee data'!RV13","v":"Identifier"},{"$f":"'6 - Input sheet - Employee data'!RW13","v":"Identifier"},{"$f":"'6 - Input sheet - Employee data'!RX13","v":"Identifier"},{"$f":"'6 - Input sheet - Employee data'!RY13","v":"Identifier"},{"$f":"'6 - Input sheet - Employee data'!RZ13","v":"Identifier"},{"$f":"'6 - Input sheet - Employee data'!SA13","v":"Identifier"},{"$f":"'6 - Input sheet - Employee data'!SB13","v":"Identifier"},{"$f":"'6 - Input sheet - Employee data'!SC13","v":"Identifier"},{"$f":"'6 - Input sheet - Employee data'!SD13","v":"Identifier"},{"$f":"'6 - Input sheet - Employee data'!SE13","v":"Identifier"},{"$f":"'6 - Input sheet - Employee data'!SF13","v":"Identifier"},{"$f":"'6 - Input sheet - Employee data'!SG13","v":"Identifier"},{"$f":"'6 - Input sheet - Employee data'!SH13","v":"Identifier"}]
["Over $100K in 2019?",null,{"$f":"'6 - Input sheet - Employee data'!C14","v":"No"},{"$f":"'6 - Input sheet - Employee data'!D14","v":"No"},{"$f":"'6 - Input sheet - Employee data'!E14","v":"No"},{"$f":"'6 - Input sheet - Employee data'!F14","v":"No"},{"$f":"'6 - Input sheet - Employee data'!G14","v":"No"},{"$f":"'6 - Input sheet - Employee data'!H14","v":"No"},{"$f":"'6 - Input sheet - Employee data'!I14","v":"No"},{"$f":"'6 - Input sheet - Employee data'!J14","v":"No"},{"$f":"'6 - Input sheet - Employee data'!K14","v":"No"},{"$f":"'6 - Input sheet - Employee data'!L14","v":"No"},{"$f":"'6 - Input sheet - Employee data'!M14","v":"No"},{"$f":"'6 - Input sheet - Employee data'!N14","v":"No"},{"$f":"'6 - Input sheet - Employee data'!O14","v":"No"},{"$f":"'6 - Input sheet - Employee data'!P14","v":"No"},{"$f":"'6 - Input sheet - Employee data'!Q14","v":"No"},{"$f":"'6 - Input sheet - Employee data'!R14","v":"No"},{"$f":"'6 - Input sheet - Employee data'!S14","v":"No"},{"$f":"'6 - Input sheet - Employee data'!T14","v":"No"},{"$f":"'6 - Input sheet - Employee data'!U14","v":"No"},{"$f":"'6 - Input sheet - Employee data'!V14","v":"No"},{"$f":"'6 - Input sheet - Employee data'!W14","v":"No"},{"$f":"'6 - Input sheet - Employee data'!X14","v":"No"},{"$f":"'6 - Input sheet - Employee data'!Y14","v":"No"},{"$f":"'6 - Input sheet - Employee data'!Z14","v":"No"},{"$f":"'6 - Input sheet - Employee data'!AA14","v":"No"},{"$f":"'6 - Input sheet - Employee data'!AB14","v":"No"},{"$f":"'6 - Input sheet - Employee data'!AC14","v":"No"},{"$f":"'6 - Input sheet - Employee data'!AD14","v":"No"},{"$f":"'6 - Input sheet - Employee data'!AE14","v":"No"},{"$f":"'6 - Input sheet - Employee data'!AF14","v":"No"},{"$f":"'6 - Input sheet - Employee data'!AG14","v":"No"},{"$f":"'6 - Input sheet - Employee data'!AH14","v":"No"},{"$f":"'6 - Input sheet - Employee data'!AI14","v":"No"},{"$f":"'6 - Input sheet - Employee data'!AJ14","v":"No"},{"$f":"'6 - Input sheet - Employee data'!AK14","v":"No"},{"$f":"'6 - Input sheet - Employee data'!AL14","v":"No"},{"$f":"'6 - Input sheet - Employee data'!AM14","v":"No"},{"$f":"'6 - Input sheet - Employee data'!AN14","v":"No"},{"$f":"'6 - Input sheet - Employee data'!AO14","v":"No"},{"$f":"'6 - Input sheet - Employee data'!AP14","v":"No"},{"$f":"'6 - Input sheet - Employee data'!AQ14","v":"No"},{"$f":"'6 - Input sheet - Employee data'!AR14","v":"No"},{"$f":"'6 - Input sheet - Employee data'!AS14","v":"No"},{"$f":"'6 - Input sheet - Employee data'!AT14","v":"No"},{"$f":"'6 - Input sheet - Employee data'!AU14","v":"No"},{"$f":"'6 - Input sheet - Employee data'!AV14","v":"No"},{"$f":"'6 - Input sheet - Employee data'!AW14","v":"No"},{"$f":"'6 - Input sheet - Employee data'!AX14","v":"No"},{"$f":"'6 - Input sheet - Employee data'!AY14","v":"No"},{"$f":"'6 - Input sheet - Employee data'!AZ14","v":"No"},{"$f":"'6 - Input sheet - Employee data'!BA14","v":"No"},{"$f":"'6 - Input sheet - Employee data'!BB14","v":"No"},{"$f":"'6 - Input sheet - Employee data'!BC14","v":"No"},{"$f":"'6 - Input sheet - Employee data'!BD14","v":"No"},{"$f":"'6 - Input sheet - Employee data'!BE14","v":"No"},{"$f":"'6 - Input sheet - Employee data'!BF14","v":"No"},{"$f":"'6 - Input sheet - Employee data'!BG14","v":"No"},{"$f":"'6 - Input sheet - Employee data'!BH14","v":"No"},{"$f":"'6 - Input sheet - Employee data'!BI14","v":"No"},{"$f":"'6 - Input sheet - Employee data'!BJ14","v":"No"},{"$f":"'6 - Input sheet - Employee data'!BK14","v":"No"},{"$f":"'6 - Input sheet - Employee data'!BL14","v":"No"},{"$f":"'6 - Input sheet - Employee data'!BM14","v":"No"},{"$f":"'6 - Input sheet - Employee data'!BN14","v":"No"},{"$f":"'6 - Input sheet - Employee data'!BO14","v":"No"},{"$f":"'6 - Input sheet - Employee data'!BP14","v":"No"},{"$f":"'6 - Input sheet - Employee data'!BQ14","v":"No"},{"$f":"'6 - Input sheet - Employee data'!BR14","v":"No"},{"$f":"'6 - Input sheet - Employee data'!BS14","v":"No"},{"$f":"'6 - Input sheet - Employee data'!BT14","v":"No"},{"$f":"'6 - Input sheet - Employee data'!BU14","v":"No"},{"$f":"'6 - Input sheet - Employee data'!BV14","v":"No"},{"$f":"'6 - Input sheet - Employee data'!BW14","v":"No"},{"$f":"'6 - Input sheet - Employee data'!BX14","v":"No"},{"$f":"'6 - Input sheet - Employee data'!BY14","v":"No"},{"$f":"'6 - Input sheet - Employee data'!BZ14","v":"No"},{"$f":"'6 - Input sheet - Employee data'!CA14","v":"No"},{"$f":"'6 - Input sheet - Employee data'!CB14","v":"No"},{"$f":"'6 - Input sheet - Employee data'!CC14","v":"No"},{"$f":"'6 - Input sheet - Employee data'!CD14","v":"No"},{"$f":"'6 - Input sheet - Employee data'!CE14","v":"No"},{"$f":"'6 - Input sheet - Employee data'!CF14","v":"No"},{"$f":"'6 - Input sheet - Employee data'!CG14","v":"No"},{"$f":"'6 - Input sheet - Employee data'!CH14","v":"No"},{"$f":"'6 - Input sheet - Employee data'!CI14","v":"No"},{"$f":"'6 - Input sheet - Employee data'!CJ14","v":"No"},{"$f":"'6 - Input sheet - Employee data'!CK14","v":"No"},{"$f":"'6 - Input sheet - Employee data'!CL14","v":"No"},{"$f":"'6 - Input sheet - Employee data'!CM14","v":"No"},{"$f":"'6 - Input sheet - Employee data'!CN14","v":"No"},{"$f":"'6 - Input sheet - Employee data'!CO14","v":"No"},{"$f":"'6 - Input sheet - Employee data'!CP14","v":"No"},{"$f":"'6 - Input sheet - Employee data'!CQ14","v":"No"},{"$f":"'6 - Input sheet - Employee data'!CR14","v":"No"},{"$f":"'6 - Input sheet - Employee data'!CS14","v":"No"},{"$f":"'6 - Input sheet - Employee data'!CT14","v":"No"},{"$f":"'6 - Input sheet - Employee data'!CU14","v":"No"},{"$f":"'6 - Input sheet - Employee data'!CV14","v":"No"},{"$f":"'6 - Input sheet - Employee data'!CW14","v":"No"},{"$f":"'6 - Input sheet - Employee data'!CX14","v":"No"},{"$f":"'6 - Input sheet - Employee data'!CY14","v":"No"},{"$f":"'6 - Input sheet - Employee data'!CZ14","v":"No"},{"$f":"'6 - Input sheet - Employee data'!DA14","v":"No"},{"$f":"'6 - Input sheet - Employee data'!DB14","v":"No"},{"$f":"'6 - Input sheet - Employee data'!DC14","v":"No"},{"$f":"'6 - Input sheet - Employee data'!DD14","v":"No"},{"$f":"'6 - Input sheet - Employee data'!DE14","v":"No"},{"$f":"'6 - Input sheet - Employee data'!DF14","v":"No"},{"$f":"'6 - Input sheet - Employee data'!DG14","v":"No"},{"$f":"'6 - Input sheet - Employee data'!DH14","v":"No"},{"$f":"'6 - Input sheet - Employee data'!DI14","v":"No"},{"$f":"'6 - Input sheet - Employee data'!DJ14","v":"No"},{"$f":"'6 - Input sheet - Employee data'!DK14","v":"No"},{"$f":"'6 - Input sheet - Employee data'!DL14","v":"No"},{"$f":"'6 - Input sheet - Employee data'!DM14","v":"No"},{"$f":"'6 - Input sheet - Employee data'!DN14","v":"No"},{"$f":"'6 - Input sheet - Employee data'!DO14","v":"No"},{"$f":"'6 - Input sheet - Employee data'!DP14","v":"No"},{"$f":"'6 - Input sheet - Employee data'!DQ14","v":"No"},{"$f":"'6 - Input sheet - Employee data'!DR14","v":"No"},{"$f":"'6 - Input sheet - Employee data'!DS14","v":"No"},{"$f":"'6 - Input sheet - Employee data'!DT14","v":"No"},{"$f":"'6 - Input sheet - Employee data'!DU14","v":"No"},{"$f":"'6 - Input sheet - Employee data'!DV14","v":"No"},{"$f":"'6 - Input sheet - Employee data'!DW14","v":"No"},{"$f":"'6 - Input sheet - Employee data'!DX14","v":"No"},{"$f":"'6 - Input sheet - Employee data'!DY14","v":"No"},{"$f":"'6 - Input sheet - Employee data'!DZ14","v":"No"},{"$f":"'6 - Input sheet - Employee data'!EA14","v":"No"},{"$f":"'6 - Input sheet - Employee data'!EB14","v":"No"},{"$f":"'6 - Input sheet - Employee data'!EC14","v":"No"},{"$f":"'6 - Input sheet - Employee data'!ED14","v":"No"},{"$f":"'6 - Input sheet - Employee data'!EE14","v":"No"},{"$f":"'6 - Input sheet - Employee data'!EF14","v":"No"},{"$f":"'6 - Input sheet - Employee data'!EG14","v":"No"},{"$f":"'6 - Input sheet - Employee data'!EH14","v":"No"},{"$f":"'6 - Input sheet - Employee data'!EI14","v":"No"},{"$f":"'6 - Input sheet - Employee data'!EJ14","v":"No"},{"$f":"'6 - Input sheet - Employee data'!EK14","v":"No"},{"$f":"'6 - Input sheet - Employee data'!EL14","v":"No"},{"$f":"'6 - Input sheet - Employee data'!EM14","v":"No"},{"$f":"'6 - Input sheet - Employee data'!EN14","v":"No"},{"$f":"'6 - Input sheet - Employee data'!EO14","v":"No"},{"$f":"'6 - Input sheet - Employee data'!EP14","v":"No"},{"$f":"'6 - Input sheet - Employee data'!EQ14","v":"No"},{"$f":"'6 - Input sheet - Employee data'!ER14","v":"No"},{"$f":"'6 - Input sheet - Employee data'!ES14","v":"No"},{"$f":"'6 - Input sheet - Employee data'!ET14","v":"No"},{"$f":"'6 - Input sheet - Employee data'!EU14","v":"No"},{"$f":"'6 - Input sheet - Employee data'!EV14","v":"No"},{"$f":"'6 - Input sheet - Employee data'!EW14","v":"No"},{"$f":"'6 - Input sheet - Employee data'!EX14","v":"No"},{"$f":"'6 - Input sheet - Employee data'!EY14","v":"No"},{"$f":"'6 - Input sheet - Employee data'!EZ14","v":"No"},{"$f":"'6 - Input sheet - Employee data'!FA14","v":"No"},{"$f":"'6 - Input sheet - Employee data'!FB14","v":"No"},{"$f":"'6 - Input sheet - Employee data'!FC14","v":"No"},{"$f":"'6 - Input sheet - Employee data'!FD14","v":"No"},{"$f":"'6 - Input sheet - Employee data'!FE14","v":"No"},{"$f":"'6 - Input sheet - Employee data'!FF14","v":"No"},{"$f":"'6 - Input sheet - Employee data'!FG14","v":"No"},{"$f":"'6 - Input sheet - Employee data'!FH14","v":"No"},{"$f":"'6 - Input sheet - Employee data'!FI14","v":"No"},{"$f":"'6 - Input sheet - Employee data'!FJ14","v":"No"},{"$f":"'6 - Input sheet - Employee data'!FK14","v":"No"},{"$f":"'6 - Input sheet - Employee data'!FL14","v":"No"},{"$f":"'6 - Input sheet - Employee data'!FM14","v":"No"},{"$f":"'6 - Input sheet - Employee data'!FN14","v":"No"},{"$f":"'6 - Input sheet - Employee data'!FO14","v":"No"},{"$f":"'6 - Input sheet - Employee data'!FP14","v":"No"},{"$f":"'6 - Input sheet - Employee data'!FQ14","v":"No"},{"$f":"'6 - Input sheet - Employee data'!FR14","v":"No"},{"$f":"'6 - Input sheet - Employee data'!FS14","v":"No"},{"$f":"'6 - Input sheet - Employee data'!FT14","v":"No"},{"$f":"'6 - Input sheet - Employee data'!FU14","v":"No"},{"$f":"'6 - Input sheet - Employee data'!FV14","v":"No"},{"$f":"'6 - Input sheet - Employee data'!FW14","v":"No"},{"$f":"'6 - Input sheet - Employee data'!FX14","v":"No"},{"$f":"'6 - Input sheet - Employee data'!FY14","v":"No"},{"$f":"'6 - Input sheet - Employee data'!FZ14","v":"No"},{"$f":"'6 - Input sheet - Employee data'!GA14","v":"No"},{"$f":"'6 - Input sheet - Employee data'!GB14","v":"No"},{"$f":"'6 - Input sheet - Employee data'!GC14","v":"No"},{"$f":"'6 - Input sheet - Employee data'!GD14","v":"No"},{"$f":"'6 - Input sheet - Employee data'!GE14","v":"No"},{"$f":"'6 - Input sheet - Employee data'!GF14","v":"No"},{"$f":"'6 - Input sheet - Employee data'!GG14","v":"No"},{"$f":"'6 - Input sheet - Employee data'!GH14","v":"No"},{"$f":"'6 - Input sheet - Employee data'!GI14","v":"No"},{"$f":"'6 - Input sheet - Employee data'!GJ14","v":"No"},{"$f":"'6 - Input sheet - Employee data'!GK14","v":"No"},{"$f":"'6 - Input sheet - Employee data'!GL14","v":"No"},{"$f":"'6 - Input sheet - Employee data'!GM14","v":"No"},{"$f":"'6 - Input sheet - Employee data'!GN14","v":"No"},{"$f":"'6 - Input sheet - Employee data'!GO14","v":"No"},{"$f":"'6 - Input sheet - Employee data'!GP14","v":"No"},{"$f":"'6 - Input sheet - Employee data'!GQ14","v":"No"},{"$f":"'6 - Input sheet - Employee data'!GR14","v":"No"},{"$f":"'6 - Input sheet - Employee data'!GS14","v":"No"},{"$f":"'6 - Input sheet - Employee data'!GT14","v":"No"},{"$f":"'6 - Input sheet - Employee data'!GU14","v":"No"},{"$f":"'6 - Input sheet - Employee data'!GV14","v":"No"},{"$f":"'6 - Input sheet - Employee data'!GW14","v":"No"},{"$f":"'6 - Input sheet - Employee data'!GX14","v":"No"},{"$f":"'6 - Input sheet - Employee data'!GY14","v":"No"},{"$f":"'6 - Input sheet - Employee data'!GZ14","v":"No"},{"$f":"'6 - Input sheet - Employee data'!HA14","v":"No"},{"$f":"'6 - Input sheet - Employee data'!HB14","v":"No"},{"$f":"'6 - Input sheet - Employee data'!HC14","v":"No"},{"$f":"'6 - Input sheet - Employee data'!HD14","v":"No"},{"$f":"'6 - Input sheet - Employee data'!HE14","v":"No"},{"$f":"'6 - Input sheet - Employee data'!HF14","v":"No"},{"$f":"'6 - Input sheet - Employee data'!HG14","v":"No"},{"$f":"'6 - Input sheet - Employee data'!HH14","v":"No"},{"$f":"'6 - Input sheet - Employee data'!HI14","v":"No"},{"$f":"'6 - Input sheet - Employee data'!HJ14","v":"No"},{"$f":"'6 - Input sheet - Employee data'!HK14","v":"No"},{"$f":"'6 - Input sheet - Employee data'!HL14","v":"No"},{"$f":"'6 - Input sheet - Employee data'!HM14","v":"No"},{"$f":"'6 - Input sheet - Employee data'!HN14","v":"No"},{"$f":"'6 - Input sheet - Employee data'!HO14","v":"No"},{"$f":"'6 - Input sheet - Employee data'!HP14","v":"No"},{"$f":"'6 - Input sheet - Employee data'!HQ14","v":"No"},{"$f":"'6 - Input sheet - Employee data'!HR14","v":"No"},{"$f":"'6 - Input sheet - Employee data'!HS14","v":"No"},{"$f":"'6 - Input sheet - Employee data'!HT14","v":"No"},{"$f":"'6 - Input sheet - Employee data'!HU14","v":"No"},{"$f":"'6 - Input sheet - Employee data'!HV14","v":"No"},{"$f":"'6 - Input sheet - Employee data'!HW14","v":"No"},{"$f":"'6 - Input sheet - Employee data'!HX14","v":"No"},{"$f":"'6 - Input sheet - Employee data'!HY14","v":"No"},{"$f":"'6 - Input sheet - Employee data'!HZ14","v":"No"},{"$f":"'6 - Input sheet - Employee data'!IA14","v":"No"},{"$f":"'6 - Input sheet - Employee data'!IB14","v":"No"},{"$f":"'6 - Input sheet - Employee data'!IC14","v":"No"},{"$f":"'6 - Input sheet - Employee data'!ID14","v":"No"},{"$f":"'6 - Input sheet - Employee data'!IE14","v":"No"},{"$f":"'6 - Input sheet - Employee data'!IF14","v":"No"},{"$f":"'6 - Input sheet - Employee data'!IG14","v":"No"},{"$f":"'6 - Input sheet - Employee data'!IH14","v":"No"},{"$f":"'6 - Input sheet - Employee data'!II14","v":"No"},{"$f":"'6 - Input sheet - Employee data'!IJ14","v":"No"},{"$f":"'6 - Input sheet - Employee data'!IK14","v":"No"},{"$f":"'6 - Input sheet - Employee data'!IL14","v":"No"},{"$f":"'6 - Input sheet - Employee data'!IM14","v":"No"},{"$f":"'6 - Input sheet - Employee data'!IN14","v":"No"},{"$f":"'6 - Input sheet - Employee data'!IO14","v":"No"},{"$f":"'6 - Input sheet - Employee data'!IP14","v":"No"},{"$f":"'6 - Input sheet - Employee data'!IQ14","v":"No"},{"$f":"'6 - Input sheet - Employee data'!IR14","v":"No"},{"$f":"'6 - Input sheet - Employee data'!IS14","v":"No"},{"$f":"'6 - Input sheet - Employee data'!IT14","v":"No"},{"$f":"'6 - Input sheet - Employee data'!IU14","v":"No"},{"$f":"'6 - Input sheet - Employee data'!IV14","v":"No"},{"$f":"'6 - Input sheet - Employee data'!IW14","v":"No"},{"$f":"'6 - Input sheet - Employee data'!IX14","v":"No"},{"$f":"'6 - Input sheet - Employee data'!IY14","v":"No"},{"$f":"'6 - Input sheet - Employee data'!IZ14","v":"No"},{"$f":"'6 - Input sheet - Employee data'!JA14","v":"No"},{"$f":"'6 - Input sheet - Employee data'!JB14","v":"No"},{"$f":"'6 - Input sheet - Employee data'!JC14","v":"No"},{"$f":"'6 - Input sheet - Employee data'!JD14","v":"No"},{"$f":"'6 - Input sheet - Employee data'!JE14","v":"No"},{"$f":"'6 - Input sheet - Employee data'!JF14","v":"No"},{"$f":"'6 - Input sheet - Employee data'!JG14","v":"No"},{"$f":"'6 - Input sheet - Employee data'!JH14","v":"No"},{"$f":"'6 - Input sheet - Employee data'!JI14","v":"No"},{"$f":"'6 - Input sheet - Employee data'!JJ14","v":"No"},{"$f":"'6 - Input sheet - Employee data'!JK14","v":"No"},{"$f":"'6 - Input sheet - Employee data'!JL14","v":"No"},{"$f":"'6 - Input sheet - Employee data'!JM14","v":"No"},{"$f":"'6 - Input sheet - Employee data'!JN14","v":"No"},{"$f":"'6 - Input sheet - Employee data'!JO14","v":"No"},{"$f":"'6 - Input sheet - Employee data'!JP14","v":"No"},{"$f":"'6 - Input sheet - Employee data'!JQ14","v":"No"},{"$f":"'6 - Input sheet - Employee data'!JR14","v":"No"},{"$f":"'6 - Input sheet - Employee data'!JS14","v":"No"},{"$f":"'6 - Input sheet - Employee data'!JT14","v":"No"},{"$f":"'6 - Input sheet - Employee data'!JU14","v":"No"},{"$f":"'6 - Input sheet - Employee data'!JV14","v":"No"},{"$f":"'6 - Input sheet - Employee data'!JW14","v":"No"},{"$f":"'6 - Input sheet - Employee data'!JX14","v":"No"},{"$f":"'6 - Input sheet - Employee data'!JY14","v":"No"},{"$f":"'6 - Input sheet - Employee data'!JZ14","v":"No"},{"$f":"'6 - Input sheet - Employee data'!KA14","v":"No"},{"$f":"'6 - Input sheet - Employee data'!KB14","v":"No"},{"$f":"'6 - Input sheet - Employee data'!KC14","v":"No"},{"$f":"'6 - Input sheet - Employee data'!KD14","v":"No"},{"$f":"'6 - Input sheet - Employee data'!KE14","v":"No"},{"$f":"'6 - Input sheet - Employee data'!KF14","v":"No"},{"$f":"'6 - Input sheet - Employee data'!KG14","v":"No"},{"$f":"'6 - Input sheet - Employee data'!KH14","v":"No"},{"$f":"'6 - Input sheet - Employee data'!KI14","v":"No"},{"$f":"'6 - Input sheet - Employee data'!KJ14","v":"No"},{"$f":"'6 - Input sheet - Employee data'!KK14","v":"No"},{"$f":"'6 - Input sheet - Employee data'!KL14","v":"No"},{"$f":"'6 - Input sheet - Employee data'!KM14","v":"No"},{"$f":"'6 - Input sheet - Employee data'!KN14","v":"No"},{"$f":"'6 - Input sheet - Employee data'!KO14","v":"No"},{"$f":"'6 - Input sheet - Employee data'!KP14","v":"No"},{"$f":"'6 - Input sheet - Employee data'!KQ14","v":"No"},{"$f":"'6 - Input sheet - Employee data'!KR14","v":"No"},{"$f":"'6 - Input sheet - Employee data'!KS14","v":"No"},{"$f":"'6 - Input sheet - Employee data'!KT14","v":"No"},{"$f":"'6 - Input sheet - Employee data'!KU14","v":"No"},{"$f":"'6 - Input sheet - Employee data'!KV14","v":"No"},{"$f":"'6 - Input sheet - Employee data'!KW14","v":"No"},{"$f":"'6 - Input sheet - Employee data'!KX14","v":"No"},{"$f":"'6 - Input sheet - Employee data'!KY14","v":"No"},{"$f":"'6 - Input sheet - Employee data'!KZ14","v":"No"},{"$f":"'6 - Input sheet - Employee data'!LA14","v":"No"},{"$f":"'6 - Input sheet - Employee data'!LB14","v":"No"},{"$f":"'6 - Input sheet - Employee data'!LC14","v":"No"},{"$f":"'6 - Input sheet - Employee data'!LD14","v":"No"},{"$f":"'6 - Input sheet - Employee data'!LE14","v":"No"},{"$f":"'6 - Input sheet - Employee data'!LF14","v":"No"},{"$f":"'6 - Input sheet - Employee data'!LG14","v":"No"},{"$f":"'6 - Input sheet - Employee data'!LH14","v":"No"},{"$f":"'6 - Input sheet - Employee data'!LI14","v":"No"},{"$f":"'6 - Input sheet - Employee data'!LJ14","v":"No"},{"$f":"'6 - Input sheet - Employee data'!LK14","v":"No"},{"$f":"'6 - Input sheet - Employee data'!LL14","v":"No"},{"$f":"'6 - Input sheet - Employee data'!LM14","v":"No"},{"$f":"'6 - Input sheet - Employee data'!LN14","v":"No"},{"$f":"'6 - Input sheet - Employee data'!LO14","v":"No"},{"$f":"'6 - Input sheet - Employee data'!LP14","v":"No"},{"$f":"'6 - Input sheet - Employee data'!LQ14","v":"No"},{"$f":"'6 - Input sheet - Employee data'!LR14","v":"No"},{"$f":"'6 - Input sheet - Employee data'!LS14","v":"No"},{"$f":"'6 - Input sheet - Employee data'!LT14","v":"No"},{"$f":"'6 - Input sheet - Employee data'!LU14","v":"No"},{"$f":"'6 - Input sheet - Employee data'!LV14","v":"No"},{"$f":"'6 - Input sheet - Employee data'!LW14","v":"No"},{"$f":"'6 - Input sheet - Employee data'!LX14","v":"No"},{"$f":"'6 - Input sheet - Employee data'!LY14","v":"No"},{"$f":"'6 - Input sheet - Employee data'!LZ14","v":"No"},{"$f":"'6 - Input sheet - Employee data'!MA14","v":"No"},{"$f":"'6 - Input sheet - Employee data'!MB14","v":"No"},{"$f":"'6 - Input sheet - Employee data'!MC14","v":"No"},{"$f":"'6 - Input sheet - Employee data'!MD14","v":"No"},{"$f":"'6 - Input sheet - Employee data'!ME14","v":"No"},{"$f":"'6 - Input sheet - Employee data'!MF14","v":"No"},{"$f":"'6 - Input sheet - Employee data'!MG14","v":"No"},{"$f":"'6 - Input sheet - Employee data'!MH14","v":"No"},{"$f":"'6 - Input sheet - Employee data'!MI14","v":"No"},{"$f":"'6 - Input sheet - Employee data'!MJ14","v":"No"},{"$f":"'6 - Input sheet - Employee data'!MK14","v":"No"},{"$f":"'6 - Input sheet - Employee data'!ML14","v":"No"},{"$f":"'6 - Input sheet - Employee data'!MM14","v":"No"},{"$f":"'6 - Input sheet - Employee data'!MN14","v":"No"},{"$f":"'6 - Input sheet - Employee data'!MO14","v":"No"},{"$f":"'6 - Input sheet - Employee data'!MP14","v":"No"},{"$f":"'6 - Input sheet - Employee data'!MQ14","v":"No"},{"$f":"'6 - Input sheet - Employee data'!MR14","v":"No"},{"$f":"'6 - Input sheet - Employee data'!MS14","v":"No"},{"$f":"'6 - Input sheet - Employee data'!MT14","v":"No"},{"$f":"'6 - Input sheet - Employee data'!MU14","v":"No"},{"$f":"'6 - Input sheet - Employee data'!MV14","v":"No"},{"$f":"'6 - Input sheet - Employee data'!MW14","v":"No"},{"$f":"'6 - Input sheet - Employee data'!MX14","v":"No"},{"$f":"'6 - Input sheet - Employee data'!MY14","v":"No"},{"$f":"'6 - Input sheet - Employee data'!MZ14","v":"No"},{"$f":"'6 - Input sheet - Employee data'!NA14","v":"No"},{"$f":"'6 - Input sheet - Employee data'!NB14","v":"No"},{"$f":"'6 - Input sheet - Employee data'!NC14","v":"No"},{"$f":"'6 - Input sheet - Employee data'!ND14","v":"No"},{"$f":"'6 - Input sheet - Employee data'!NE14","v":"No"},{"$f":"'6 - Input sheet - Employee data'!NF14","v":"No"},{"$f":"'6 - Input sheet - Employee data'!NG14","v":"No"},{"$f":"'6 - Input sheet - Employee data'!NH14","v":"No"},{"$f":"'6 - Input sheet - Employee data'!NI14","v":"No"},{"$f":"'6 - Input sheet - Employee data'!NJ14","v":"No"},{"$f":"'6 - Input sheet - Employee data'!NK14","v":"No"},{"$f":"'6 - Input sheet - Employee data'!NL14","v":"No"},{"$f":"'6 - Input sheet - Employee data'!NM14","v":"No"},{"$f":"'6 - Input sheet - Employee data'!NN14","v":"No"},{"$f":"'6 - Input sheet - Employee data'!NO14","v":"No"},{"$f":"'6 - Input sheet - Employee data'!NP14","v":"No"},{"$f":"'6 - Input sheet - Employee data'!NQ14","v":"No"},{"$f":"'6 - Input sheet - Employee data'!NR14","v":"No"},{"$f":"'6 - Input sheet - Employee data'!NS14","v":"No"},{"$f":"'6 - Input sheet - Employee data'!NT14","v":"No"},{"$f":"'6 - Input sheet - Employee data'!NU14","v":"No"},{"$f":"'6 - Input sheet - Employee data'!NV14","v":"No"},{"$f":"'6 - Input sheet - Employee data'!NW14","v":"No"},{"$f":"'6 - Input sheet - Employee data'!NX14","v":"No"},{"$f":"'6 - Input sheet - Employee data'!NY14","v":"No"},{"$f":"'6 - Input sheet - Employee data'!NZ14","v":"No"},{"$f":"'6 - Input sheet - Employee data'!OA14","v":"No"},{"$f":"'6 - Input sheet - Employee data'!OB14","v":"No"},{"$f":"'6 - Input sheet - Employee data'!OC14","v":"No"},{"$f":"'6 - Input sheet - Employee data'!OD14","v":"No"},{"$f":"'6 - Input sheet - Employee data'!OE14","v":"No"},{"$f":"'6 - Input sheet - Employee data'!OF14","v":"No"},{"$f":"'6 - Input sheet - Employee data'!OG14","v":"No"},{"$f":"'6 - Input sheet - Employee data'!OH14","v":"No"},{"$f":"'6 - Input sheet - Employee data'!OI14","v":"No"},{"$f":"'6 - Input sheet - Employee data'!OJ14","v":"No"},{"$f":"'6 - Input sheet - Employee data'!OK14","v":"No"},{"$f":"'6 - Input sheet - Employee data'!OL14","v":"No"},{"$f":"'6 - Input sheet - Employee data'!OM14","v":"No"},{"$f":"'6 - Input sheet - Employee data'!ON14","v":"No"},{"$f":"'6 - Input sheet - Employee data'!OO14","v":"No"},{"$f":"'6 - Input sheet - Employee data'!OP14","v":"No"},{"$f":"'6 - Input sheet - Employee data'!OQ14","v":"No"},{"$f":"'6 - Input sheet - Employee data'!OR14","v":"No"},{"$f":"'6 - Input sheet - Employee data'!OS14","v":"No"},{"$f":"'6 - Input sheet - Employee data'!OT14","v":"No"},{"$f":"'6 - Input sheet - Employee data'!OU14","v":"No"},{"$f":"'6 - Input sheet - Employee data'!OV14","v":"No"},{"$f":"'6 - Input sheet - Employee data'!OW14","v":"No"},{"$f":"'6 - Input sheet - Employee data'!OX14","v":"No"},{"$f":"'6 - Input sheet - Employee data'!OY14","v":"No"},{"$f":"'6 - Input sheet - Employee data'!OZ14","v":"No"},{"$f":"'6 - Input sheet - Employee data'!PA14","v":"No"},{"$f":"'6 - Input sheet - Employee data'!PB14","v":"No"},{"$f":"'6 - Input sheet - Employee data'!PC14","v":"No"},{"$f":"'6 - Input sheet - Employee data'!PD14","v":"No"},{"$f":"'6 - Input sheet - Employee data'!PE14","v":"No"},{"$f":"'6 - Input sheet - Employee data'!PF14","v":"No"},{"$f":"'6 - Input sheet - Employee data'!PG14","v":"No"},{"$f":"'6 - Input sheet - Employee data'!PH14","v":"No"},{"$f":"'6 - Input sheet - Employee data'!PI14","v":"No"},{"$f":"'6 - Input sheet - Employee data'!PJ14","v":"No"},{"$f":"'6 - Input sheet - Employee data'!PK14","v":"No"},{"$f":"'6 - Input sheet - Employee data'!PL14","v":"No"},{"$f":"'6 - Input sheet - Employee data'!PM14","v":"No"},{"$f":"'6 - Input sheet - Employee data'!PN14","v":"No"},{"$f":"'6 - Input sheet - Employee data'!PO14","v":"No"},{"$f":"'6 - Input sheet - Employee data'!PP14","v":"No"},{"$f":"'6 - Input sheet - Employee data'!PQ14","v":"No"},{"$f":"'6 - Input sheet - Employee data'!PR14","v":"No"},{"$f":"'6 - Input sheet - Employee data'!PS14","v":"No"},{"$f":"'6 - Input sheet - Employee data'!PT14","v":"No"},{"$f":"'6 - Input sheet - Employee data'!PU14","v":"No"},{"$f":"'6 - Input sheet - Employee data'!PV14","v":"No"},{"$f":"'6 - Input sheet - Employee data'!PW14","v":"No"},{"$f":"'6 - Input sheet - Employee data'!PX14","v":"No"},{"$f":"'6 - Input sheet - Employee data'!PY14","v":"No"},{"$f":"'6 - Input sheet - Employee data'!PZ14","v":"No"},{"$f":"'6 - Input sheet - Employee data'!QA14","v":"No"},{"$f":"'6 - Input sheet - Employee data'!QB14","v":"No"},{"$f":"'6 - Input sheet - Employee data'!QC14","v":"No"},{"$f":"'6 - Input sheet - Employee data'!QD14","v":"No"},{"$f":"'6 - Input sheet - Employee data'!QE14","v":"No"},{"$f":"'6 - Input sheet - Employee data'!QF14","v":"No"},{"$f":"'6 - Input sheet - Employee data'!QG14","v":"No"},{"$f":"'6 - Input sheet - Employee data'!QH14","v":"No"},{"$f":"'6 - Input sheet - Employee data'!QI14","v":"No"},{"$f":"'6 - Input sheet - Employee data'!QJ14","v":"No"},{"$f":"'6 - Input sheet - Employee data'!QK14","v":"No"},{"$f":"'6 - Input sheet - Employee data'!QL14","v":"No"},{"$f":"'6 - Input sheet - Employee data'!QM14","v":"No"},{"$f":"'6 - Input sheet - Employee data'!QN14","v":"No"},{"$f":"'6 - Input sheet - Employee data'!QO14","v":"No"},{"$f":"'6 - Input sheet - Employee data'!QP14","v":"No"},{"$f":"'6 - Input sheet - Employee data'!QQ14","v":"No"},{"$f":"'6 - Input sheet - Employee data'!QR14","v":"No"},{"$f":"'6 - Input sheet - Employee data'!QS14","v":"No"},{"$f":"'6 - Input sheet - Employee data'!QT14","v":"No"},{"$f":"'6 - Input sheet - Employee data'!QU14","v":"No"},{"$f":"'6 - Input sheet - Employee data'!QV14","v":"No"},{"$f":"'6 - Input sheet - Employee data'!QW14","v":"No"},{"$f":"'6 - Input sheet - Employee data'!QX14","v":"No"},{"$f":"'6 - Input sheet - Employee data'!QY14","v":"No"},{"$f":"'6 - Input sheet - Employee data'!QZ14","v":"No"},{"$f":"'6 - Input sheet - Employee data'!RA14","v":"No"},{"$f":"'6 - Input sheet - Employee data'!RB14","v":"No"},{"$f":"'6 - Input sheet - Employee data'!RC14","v":"No"},{"$f":"'6 - Input sheet - Employee data'!RD14","v":"No"},{"$f":"'6 - Input sheet - Employee data'!RE14","v":"No"},{"$f":"'6 - Input sheet - Employee data'!RF14","v":"No"},{"$f":"'6 - Input sheet - Employee data'!RG14","v":"No"},{"$f":"'6 - Input sheet - Employee data'!RH14","v":"No"},{"$f":"'6 - Input sheet - Employee data'!RI14","v":"No"},{"$f":"'6 - Input sheet - Employee data'!RJ14","v":"No"},{"$f":"'6 - Input sheet - Employee data'!RK14","v":"No"},{"$f":"'6 - Input sheet - Employee data'!RL14","v":"No"},{"$f":"'6 - Input sheet - Employee data'!RM14","v":"No"},{"$f":"'6 - Input sheet - Employee data'!RN14","v":"No"},{"$f":"'6 - Input sheet - Employee data'!RO14","v":"No"},{"$f":"'6 - Input sheet - Employee data'!RP14","v":"No"},{"$f":"'6 - Input sheet - Employee data'!RQ14","v":"No"},{"$f":"'6 - Input sheet - Employee data'!RR14","v":"No"},{"$f":"'6 - Input sheet - Employee data'!RS14","v":"No"},{"$f":"'6 - Input sheet - Employee data'!RT14","v":"No"},{"$f":"'6 - Input sheet - Employee data'!RU14","v":"No"},{"$f":"'6 - Input sheet - Employee data'!RV14","v":"No"},{"$f":"'6 - Input sheet - Employee data'!RW14","v":"No"},{"$f":"'6 - Input sheet - Employee data'!RX14","v":"No"},{"$f":"'6 - Input sheet - Employee data'!RY14","v":"No"},{"$f":"'6 - Input sheet - Employee data'!RZ14","v":"No"},{"$f":"'6 - Input sheet - Employee data'!SA14","v":"No"},{"$f":"'6 - Input sheet - Employee data'!SB14","v":"No"},{"$f":"'6 - Input sheet - Employee data'!SC14","v":"No"},{"$f":"'6 - Input sheet - Employee data'!SD14","v":"No"},{"$f":"'6 - Input sheet - Employee data'!SE14","v":"No"},{"$f":"'6 - Input sheet - Employee data'!SF14","v":"No"},{"$f":"'6 - Input sheet - Employee data'!SG14","v":"No"},{"$f":"'6 - Input sheet - Employee data'!SH14","v":"No"}]
["Type of Employee",null,{"$f":"'6 - Input sheet - Employee data'!C15","v":0},{"$f":"'6 - Input sheet - Employee data'!D15","v":0},{"$f":"'6 - Input sheet - Employee data'!E15","v":0},{"$f":"'6 - Input sheet - Employee data'!F15","v":0},{"$f":"'6 - Input sheet - Employee data'!G15","v":0},{"$f":"'6 - Input sheet - Employee data'!H15","v":0},{"$f":"'6 - Input sheet - Employee data'!I15","v":0},{"$f":"'6 - Input sheet - Employee data'!J15","v":0},{"$f":"'6 - Input sheet - Employee data'!K15","v":0},{"$f":"'6 - Input sheet - Employee data'!L15","v":0},{"$f":"'6 - Input sheet - Employee data'!M15","v":0},{"$f":"'6 - Input sheet - Employee data'!N15","v":0},{"$f":"'6 - Input sheet - Employee data'!O15","v":0},{"$f":"'6 - Input sheet - Employee data'!P15","v":0},{"$f":"'6 - Input sheet - Employee data'!Q15","v":0},{"$f":"'6 - Input sheet - Employee data'!R15","v":0},{"$f":"'6 - Input sheet - Employee data'!S15","v":0},{"$f":"'6 - Input sheet - Employee data'!T15","v":0},{"$f":"'6 - Input sheet - Employee data'!U15","v":0},{"$f":"'6 - Input sheet - Employee data'!V15","v":0},{"$f":"'6 - Input sheet - Employee data'!W15","v":0},{"$f":"'6 - Input sheet - Employee data'!X15","v":0},{"$f":"'6 - Input sheet - Employee data'!Y15","v":0},{"$f":"'6 - Input sheet - Employee data'!Z15","v":0},{"$f":"'6 - Input sheet - Employee data'!AA15","v":0},{"$f":"'6 - Input sheet - Employee data'!AB15","v":0},{"$f":"'6 - Input sheet - Employee data'!AC15","v":0},{"$f":"'6 - Input sheet - Employee data'!AD15","v":0},{"$f":"'6 - Input sheet - Employee data'!AE15","v":0},{"$f":"'6 - Input sheet - Employee data'!AF15","v":0},{"$f":"'6 - Input sheet - Employee data'!AG15","v":0},{"$f":"'6 - Input sheet - Employee data'!AH15","v":0},{"$f":"'6 - Input sheet - Employee data'!AI15","v":0},{"$f":"'6 - Input sheet - Employee data'!AJ15","v":0},{"$f":"'6 - Input sheet - Employee data'!AK15","v":0},{"$f":"'6 - Input sheet - Employee data'!AL15","v":0},{"$f":"'6 - Input sheet - Employee data'!AM15","v":0},{"$f":"'6 - Input sheet - Employee data'!AN15","v":0},{"$f":"'6 - Input sheet - Employee data'!AO15","v":0},{"$f":"'6 - Input sheet - Employee data'!AP15","v":0},{"$f":"'6 - Input sheet - Employee data'!AQ15","v":0},{"$f":"'6 - Input sheet - Employee data'!AR15","v":0},{"$f":"'6 - Input sheet - Employee data'!AS15","v":0},{"$f":"'6 - Input sheet - Employee data'!AT15","v":0},{"$f":"'6 - Input sheet - Employee data'!AU15","v":0},{"$f":"'6 - Input sheet - Employee data'!AV15","v":0},{"$f":"'6 - Input sheet - Employee data'!AW15","v":0},{"$f":"'6 - Input sheet - Employee data'!AX15","v":0},{"$f":"'6 - Input sheet - Employee data'!AY15","v":0},{"$f":"'6 - Input sheet - Employee data'!AZ15","v":0},{"$f":"'6 - Input sheet - Employee data'!BA15","v":0},{"$f":"'6 - Input sheet - Employee data'!BB15","v":0},{"$f":"'6 - Input sheet - Employee data'!BC15","v":0},{"$f":"'6 - Input sheet - Employee data'!BD15","v":0},{"$f":"'6 - Input sheet - Employee data'!BE15","v":0},{"$f":"'6 - Input sheet - Employee data'!BF15","v":0},{"$f":"'6 - Input sheet - Employee data'!BG15","v":0},{"$f":"'6 - Input sheet - Employee data'!BH15","v":0},{"$f":"'6 - Input sheet - Employee data'!BI15","v":0},{"$f":"'6 - Input sheet - Employee data'!BJ15","v":0},{"$f":"'6 - Input sheet - Employee data'!BK15","v":0},{"$f":"'6 - Input sheet - Employee data'!BL15","v":0},{"$f":"'6 - Input sheet - Employee data'!BM15","v":0},{"$f":"'6 - Input sheet - Employee data'!BN15","v":0},{"$f":"'6 - Input sheet - Employee data'!BO15","v":0},{"$f":"'6 - Input sheet - Employee data'!BP15","v":0},{"$f":"'6 - Input sheet - Employee data'!BQ15","v":0},{"$f":"'6 - Input sheet - Employee data'!BR15","v":0},{"$f":"'6 - Input sheet - Employee data'!BS15","v":0},{"$f":"'6 - Input sheet - Employee data'!BT15","v":0},{"$f":"'6 - Input sheet - Employee data'!BU15","v":0},{"$f":"'6 - Input sheet - Employee data'!BV15","v":0},{"$f":"'6 - Input sheet - Employee data'!BW15","v":0},{"$f":"'6 - Input sheet - Employee data'!BX15","v":0},{"$f":"'6 - Input sheet - Employee data'!BY15","v":0},{"$f":"'6 - Input sheet - Employee data'!BZ15","v":0},{"$f":"'6 - Input sheet - Employee data'!CA15","v":0},{"$f":"'6 - Input sheet - Employee data'!CB15","v":0},{"$f":"'6 - Input sheet - Employee data'!CC15","v":0},{"$f":"'6 - Input sheet - Employee data'!CD15","v":0},{"$f":"'6 - Input sheet - Employee data'!CE15","v":0},{"$f":"'6 - Input sheet - Employee data'!CF15","v":0},{"$f":"'6 - Input sheet - Employee data'!CG15","v":0},{"$f":"'6 - Input sheet - Employee data'!CH15","v":0},{"$f":"'6 - Input sheet - Employee data'!CI15","v":0},{"$f":"'6 - Input sheet - Employee data'!CJ15","v":0},{"$f":"'6 - Input sheet - Employee data'!CK15","v":0},{"$f":"'6 - Input sheet - Employee data'!CL15","v":0},{"$f":"'6 - Input sheet - Employee data'!CM15","v":0},{"$f":"'6 - Input sheet - Employee data'!CN15","v":0},{"$f":"'6 - Input sheet - Employee data'!CO15","v":0},{"$f":"'6 - Input sheet - Employee data'!CP15","v":0},{"$f":"'6 - Input sheet - Employee data'!CQ15","v":0},{"$f":"'6 - Input sheet - Employee data'!CR15","v":0},{"$f":"'6 - Input sheet - Employee data'!CS15","v":0},{"$f":"'6 - Input sheet - Employee data'!CT15","v":0},{"$f":"'6 - Input sheet - Employee data'!CU15","v":0},{"$f":"'6 - Input sheet - Employee data'!CV15","v":0},{"$f":"'6 - Input sheet - Employee data'!CW15","v":0},{"$f":"'6 - Input sheet - Employee data'!CX15","v":0},{"$f":"'6 - Input sheet - Employee data'!CY15","v":0},{"$f":"'6 - Input sheet - Employee data'!CZ15","v":0},{"$f":"'6 - Input sheet - Employee data'!DA15","v":0},{"$f":"'6 - Input sheet - Employee data'!DB15","v":0},{"$f":"'6 - Input sheet - Employee data'!DC15","v":0},{"$f":"'6 - Input sheet - Employee data'!DD15","v":0},{"$f":"'6 - Input sheet - Employee data'!DE15","v":0},{"$f":"'6 - Input sheet - Employee data'!DF15","v":0},{"$f":"'6 - Input sheet - Employee data'!DG15","v":0},{"$f":"'6 - Input sheet - Employee data'!DH15","v":0},{"$f":"'6 - Input sheet - Employee data'!DI15","v":0},{"$f":"'6 - Input sheet - Employee data'!DJ15","v":0},{"$f":"'6 - Input sheet - Employee data'!DK15","v":0},{"$f":"'6 - Input sheet - Employee data'!DL15","v":0},{"$f":"'6 - Input sheet - Employee data'!DM15","v":0},{"$f":"'6 - Input sheet - Employee data'!DN15","v":0},{"$f":"'6 - Input sheet - Employee data'!DO15","v":0},{"$f":"'6 - Input sheet - Employee data'!DP15","v":0},{"$f":"'6 - Input sheet - Employee data'!DQ15","v":0},{"$f":"'6 - Input sheet - Employee data'!DR15","v":0},{"$f":"'6 - Input sheet - Employee data'!DS15","v":0},{"$f":"'6 - Input sheet - Employee data'!DT15","v":0},{"$f":"'6 - Input sheet - Employee data'!DU15","v":0},{"$f":"'6 - Input sheet - Employee data'!DV15","v":0},{"$f":"'6 - Input sheet - Employee data'!DW15","v":0},{"$f":"'6 - Input sheet - Employee data'!DX15","v":0},{"$f":"'6 - Input sheet - Employee data'!DY15","v":0},{"$f":"'6 - Input sheet - Employee data'!DZ15","v":0},{"$f":"'6 - Input sheet - Employee data'!EA15","v":0},{"$f":"'6 - Input sheet - Employee data'!EB15","v":0},{"$f":"'6 - Input sheet - Employee data'!EC15","v":0},{"$f":"'6 - Input sheet - Employee data'!ED15","v":0},{"$f":"'6 - Input sheet - Employee data'!EE15","v":0},{"$f":"'6 - Input sheet - Employee data'!EF15","v":0},{"$f":"'6 - Input sheet - Employee data'!EG15","v":0},{"$f":"'6 - Input sheet - Employee data'!EH15","v":0},{"$f":"'6 - Input sheet - Employee data'!EI15","v":0},{"$f":"'6 - Input sheet - Employee data'!EJ15","v":0},{"$f":"'6 - Input sheet - Employee data'!EK15","v":0},{"$f":"'6 - Input sheet - Employee data'!EL15","v":0},{"$f":"'6 - Input sheet - Employee data'!EM15","v":0},{"$f":"'6 - Input sheet - Employee data'!EN15","v":0},{"$f":"'6 - Input sheet - Employee data'!EO15","v":0},{"$f":"'6 - Input sheet - Employee data'!EP15","v":0},{"$f":"'6 - Input sheet - Employee data'!EQ15","v":0},{"$f":"'6 - Input sheet - Employee data'!ER15","v":0},{"$f":"'6 - Input sheet - Employee data'!ES15","v":0},{"$f":"'6 - Input sheet - Employee data'!ET15","v":0},{"$f":"'6 - Input sheet - Employee data'!EU15","v":0},{"$f":"'6 - Input sheet - Employee data'!EV15","v":0},{"$f":"'6 - Input sheet - Employee data'!EW15","v":0},{"$f":"'6 - Input sheet - Employee data'!EX15","v":0},{"$f":"'6 - Input sheet - Employee data'!EY15","v":0},{"$f":"'6 - Input sheet - Employee data'!EZ15","v":0},{"$f":"'6 - Input sheet - Employee data'!FA15","v":0},{"$f":"'6 - Input sheet - Employee data'!FB15","v":0},{"$f":"'6 - Input sheet - Employee data'!FC15","v":0},{"$f":"'6 - Input sheet - Employee data'!FD15","v":0},{"$f":"'6 - Input sheet - Employee data'!FE15","v":0},{"$f":"'6 - Input sheet - Employee data'!FF15","v":0},{"$f":"'6 - Input sheet - Employee data'!FG15","v":0},{"$f":"'6 - Input sheet - Employee data'!FH15","v":0},{"$f":"'6 - Input sheet - Employee data'!FI15","v":0},{"$f":"'6 - Input sheet - Employee data'!FJ15","v":0},{"$f":"'6 - Input sheet - Employee data'!FK15","v":0},{"$f":"'6 - Input sheet - Employee data'!FL15","v":0},{"$f":"'6 - Input sheet - Employee data'!FM15","v":0},{"$f":"'6 - Input sheet - Employee data'!FN15","v":0},{"$f":"'6 - Input sheet - Employee data'!FO15","v":0},{"$f":"'6 - Input sheet - Employee data'!FP15","v":0},{"$f":"'6 - Input sheet - Employee data'!FQ15","v":0},{"$f":"'6 - Input sheet - Employee data'!FR15","v":0},{"$f":"'6 - Input sheet - Employee data'!FS15","v":0},{"$f":"'6 - Input sheet - Employee data'!FT15","v":0},{"$f":"'6 - Input sheet - Employee data'!FU15","v":0},{"$f":"'6 - Input sheet - Employee data'!FV15","v":0},{"$f":"'6 - Input sheet - Employee data'!FW15","v":0},{"$f":"'6 - Input sheet - Employee data'!FX15","v":0},{"$f":"'6 - Input sheet - Employee data'!FY15","v":0},{"$f":"'6 - Input sheet - Employee data'!FZ15","v":0},{"$f":"'6 - Input sheet - Employee data'!GA15","v":0},{"$f":"'6 - Input sheet - Employee data'!GB15","v":0},{"$f":"'6 - Input sheet - Employee data'!GC15","v":0},{"$f":"'6 - Input sheet - Employee data'!GD15","v":0},{"$f":"'6 - Input sheet - Employee data'!GE15","v":0},{"$f":"'6 - Input sheet - Employee data'!GF15","v":0},{"$f":"'6 - Input sheet - Employee data'!GG15","v":0},{"$f":"'6 - Input sheet - Employee data'!GH15","v":0},{"$f":"'6 - Input sheet - Employee data'!GI15","v":0},{"$f":"'6 - Input sheet - Employee data'!GJ15","v":0},{"$f":"'6 - Input sheet - Employee data'!GK15","v":0},{"$f":"'6 - Input sheet - Employee data'!GL15","v":0},{"$f":"'6 - Input sheet - Employee data'!GM15","v":0},{"$f":"'6 - Input sheet - Employee data'!GN15","v":0},{"$f":"'6 - Input sheet - Employee data'!GO15","v":0},{"$f":"'6 - Input sheet - Employee data'!GP15","v":0},{"$f":"'6 - Input sheet - Employee data'!GQ15","v":0},{"$f":"'6 - Input sheet - Employee data'!GR15","v":0},{"$f":"'6 - Input sheet - Employee data'!GS15","v":0},{"$f":"'6 - Input sheet - Employee data'!GT15","v":0},{"$f":"'6 - Input sheet - Employee data'!GU15","v":0},{"$f":"'6 - Input sheet - Employee data'!GV15","v":0},{"$f":"'6 - Input sheet - Employee data'!GW15","v":0},{"$f":"'6 - Input sheet - Employee data'!GX15","v":0},{"$f":"'6 - Input sheet - Employee data'!GY15","v":0},{"$f":"'6 - Input sheet - Employee data'!GZ15","v":0},{"$f":"'6 - Input sheet - Employee data'!HA15","v":0},{"$f":"'6 - Input sheet - Employee data'!HB15","v":0},{"$f":"'6 - Input sheet - Employee data'!HC15","v":0},{"$f":"'6 - Input sheet - Employee data'!HD15","v":0},{"$f":"'6 - Input sheet - Employee data'!HE15","v":0},{"$f":"'6 - Input sheet - Employee data'!HF15","v":0},{"$f":"'6 - Input sheet - Employee data'!HG15","v":0},{"$f":"'6 - Input sheet - Employee data'!HH15","v":0},{"$f":"'6 - Input sheet - Employee data'!HI15","v":0},{"$f":"'6 - Input sheet - Employee data'!HJ15","v":0},{"$f":"'6 - Input sheet - Employee data'!HK15","v":0},{"$f":"'6 - Input sheet - Employee data'!HL15","v":0},{"$f":"'6 - Input sheet - Employee data'!HM15","v":0},{"$f":"'6 - Input sheet - Employee data'!HN15","v":0},{"$f":"'6 - Input sheet - Employee data'!HO15","v":0},{"$f":"'6 - Input sheet - Employee data'!HP15","v":0},{"$f":"'6 - Input sheet - Employee data'!HQ15","v":0},{"$f":"'6 - Input sheet - Employee data'!HR15","v":0},{"$f":"'6 - Input sheet - Employee data'!HS15","v":0},{"$f":"'6 - Input sheet - Employee data'!HT15","v":0},{"$f":"'6 - Input sheet - Employee data'!HU15","v":0},{"$f":"'6 - Input sheet - Employee data'!HV15","v":0},{"$f":"'6 - Input sheet - Employee data'!HW15","v":0},{"$f":"'6 - Input sheet - Employee data'!HX15","v":0},{"$f":"'6 - Input sheet - Employee data'!HY15","v":0},{"$f":"'6 - Input sheet - Employee data'!HZ15","v":0},{"$f":"'6 - Input sheet - Employee data'!IA15","v":0},{"$f":"'6 - Input sheet - Employee data'!IB15","v":0},{"$f":"'6 - Input sheet - Employee data'!IC15","v":0},{"$f":"'6 - Input sheet - Employee data'!ID15","v":0},{"$f":"'6 - Input sheet - Employee data'!IE15","v":0},{"$f":"'6 - Input sheet - Employee data'!IF15","v":0},{"$f":"'6 - Input sheet - Employee data'!IG15","v":0},{"$f":"'6 - Input sheet - Employee data'!IH15","v":0},{"$f":"'6 - Input sheet - Employee data'!II15","v":0},{"$f":"'6 - Input sheet - Employee data'!IJ15","v":0},{"$f":"'6 - Input sheet - Employee data'!IK15","v":0},{"$f":"'6 - Input sheet - Employee data'!IL15","v":0},{"$f":"'6 - Input sheet - Employee data'!IM15","v":0},{"$f":"'6 - Input sheet - Employee data'!IN15","v":0},{"$f":"'6 - Input sheet - Employee data'!IO15","v":0},{"$f":"'6 - Input sheet - Employee data'!IP15","v":0},{"$f":"'6 - Input sheet - Employee data'!IQ15","v":0},{"$f":"'6 - Input sheet - Employee data'!IR15","v":0},{"$f":"'6 - Input sheet - Employee data'!IS15","v":0},{"$f":"'6 - Input sheet - Employee data'!IT15","v":0},{"$f":"'6 - Input sheet - Employee data'!IU15","v":0},{"$f":"'6 - Input sheet - Employee data'!IV15","v":0},{"$f":"'6 - Input sheet - Employee data'!IW15","v":0},{"$f":"'6 - Input sheet - Employee data'!IX15","v":0},{"$f":"'6 - Input sheet - Employee data'!IY15","v":0},{"$f":"'6 - Input sheet - Employee data'!IZ15","v":0},{"$f":"'6 - Input sheet - Employee data'!JA15","v":0},{"$f":"'6 - Input sheet - Employee data'!JB15","v":0},{"$f":"'6 - Input sheet - Employee data'!JC15","v":0},{"$f":"'6 - Input sheet - Employee data'!JD15","v":0},{"$f":"'6 - Input sheet - Employee data'!JE15","v":0},{"$f":"'6 - Input sheet - Employee data'!JF15","v":0},{"$f":"'6 - Input sheet - Employee data'!JG15","v":0},{"$f":"'6 - Input sheet - Employee data'!JH15","v":0},{"$f":"'6 - Input sheet - Employee data'!JI15","v":0},{"$f":"'6 - Input sheet - Employee data'!JJ15","v":0},{"$f":"'6 - Input sheet - Employee data'!JK15","v":0},{"$f":"'6 - Input sheet - Employee data'!JL15","v":0},{"$f":"'6 - Input sheet - Employee data'!JM15","v":0},{"$f":"'6 - Input sheet - Employee data'!JN15","v":0},{"$f":"'6 - Input sheet - Employee data'!JO15","v":0},{"$f":"'6 - Input sheet - Employee data'!JP15","v":0},{"$f":"'6 - Input sheet - Employee data'!JQ15","v":0},{"$f":"'6 - Input sheet - Employee data'!JR15","v":0},{"$f":"'6 - Input sheet - Employee data'!JS15","v":0},{"$f":"'6 - Input sheet - Employee data'!JT15","v":0},{"$f":"'6 - Input sheet - Employee data'!JU15","v":0},{"$f":"'6 - Input sheet - Employee data'!JV15","v":0},{"$f":"'6 - Input sheet - Employee data'!JW15","v":0},{"$f":"'6 - Input sheet - Employee data'!JX15","v":0},{"$f":"'6 - Input sheet - Employee data'!JY15","v":0},{"$f":"'6 - Input sheet - Employee data'!JZ15","v":0},{"$f":"'6 - Input sheet - Employee data'!KA15","v":0},{"$f":"'6 - Input sheet - Employee data'!KB15","v":0},{"$f":"'6 - Input sheet - Employee data'!KC15","v":0},{"$f":"'6 - Input sheet - Employee data'!KD15","v":0},{"$f":"'6 - Input sheet - Employee data'!KE15","v":0},{"$f":"'6 - Input sheet - Employee data'!KF15","v":0},{"$f":"'6 - Input sheet - Employee data'!KG15","v":0},{"$f":"'6 - Input sheet - Employee data'!KH15","v":0},{"$f":"'6 - Input sheet - Employee data'!KI15","v":0},{"$f":"'6 - Input sheet - Employee data'!KJ15","v":0},{"$f":"'6 - Input sheet - Employee data'!KK15","v":0},{"$f":"'6 - Input sheet - Employee data'!KL15","v":0},{"$f":"'6 - Input sheet - Employee data'!KM15","v":0},{"$f":"'6 - Input sheet - Employee data'!KN15","v":0},{"$f":"'6 - Input sheet - Employee data'!KO15","v":0},{"$f":"'6 - Input sheet - Employee data'!KP15","v":0},{"$f":"'6 - Input sheet - Employee data'!KQ15","v":0},{"$f":"'6 - Input sheet - Employee data'!KR15","v":0},{"$f":"'6 - Input sheet - Employee data'!KS15","v":0},{"$f":"'6 - Input sheet - Employee data'!KT15","v":0},{"$f":"'6 - Input sheet - Employee data'!KU15","v":0},{"$f":"'6 - Input sheet - Employee data'!KV15","v":0},{"$f":"'6 - Input sheet - Employee data'!KW15","v":0},{"$f":"'6 - Input sheet - Employee data'!KX15","v":0},{"$f":"'6 - Input sheet - Employee data'!KY15","v":0},{"$f":"'6 - Input sheet - Employee data'!KZ15","v":0},{"$f":"'6 - Input sheet - Employee data'!LA15","v":0},{"$f":"'6 - Input sheet - Employee data'!LB15","v":0},{"$f":"'6 - Input sheet - Employee data'!LC15","v":0},{"$f":"'6 - Input sheet - Employee data'!LD15","v":0},{"$f":"'6 - Input sheet - Employee data'!LE15","v":0},{"$f":"'6 - Input sheet - Employee data'!LF15","v":0},{"$f":"'6 - Input sheet - Employee data'!LG15","v":0},{"$f":"'6 - Input sheet - Employee data'!LH15","v":0},{"$f":"'6 - Input sheet - Employee data'!LI15","v":0},{"$f":"'6 - Input sheet - Employee data'!LJ15","v":0},{"$f":"'6 - Input sheet - Employee data'!LK15","v":0},{"$f":"'6 - Input sheet - Employee data'!LL15","v":0},{"$f":"'6 - Input sheet - Employee data'!LM15","v":0},{"$f":"'6 - Input sheet - Employee data'!LN15","v":0},{"$f":"'6 - Input sheet - Employee data'!LO15","v":0},{"$f":"'6 - Input sheet - Employee data'!LP15","v":0},{"$f":"'6 - Input sheet - Employee data'!LQ15","v":0},{"$f":"'6 - Input sheet - Employee data'!LR15","v":0},{"$f":"'6 - Input sheet - Employee data'!LS15","v":0},{"$f":"'6 - Input sheet - Employee data'!LT15","v":0},{"$f":"'6 - Input sheet - Employee data'!LU15","v":0},{"$f":"'6 - Input sheet - Employee data'!LV15","v":0},{"$f":"'6 - Input sheet - Employee data'!LW15","v":0},{"$f":"'6 - Input sheet - Employee data'!LX15","v":0},{"$f":"'6 - Input sheet - Employee data'!LY15","v":0},{"$f":"'6 - Input sheet - Employee data'!LZ15","v":0},{"$f":"'6 - Input sheet - Employee data'!MA15","v":0},{"$f":"'6 - Input sheet - Employee data'!MB15","v":0},{"$f":"'6 - Input sheet - Employee data'!MC15","v":0},{"$f":"'6 - Input sheet - Employee data'!MD15","v":0},{"$f":"'6 - Input sheet - Employee data'!ME15","v":0},{"$f":"'6 - Input sheet - Employee data'!MF15","v":0},{"$f":"'6 - Input sheet - Employee data'!MG15","v":0},{"$f":"'6 - Input sheet - Employee data'!MH15","v":0},{"$f":"'6 - Input sheet - Employee data'!MI15","v":0},{"$f":"'6 - Input sheet - Employee data'!MJ15","v":0},{"$f":"'6 - Input sheet - Employee data'!MK15","v":0},{"$f":"'6 - Input sheet - Employee data'!ML15","v":0},{"$f":"'6 - Input sheet - Employee data'!MM15","v":0},{"$f":"'6 - Input sheet - Employee data'!MN15","v":0},{"$f":"'6 - Input sheet - Employee data'!MO15","v":0},{"$f":"'6 - Input sheet - Employee data'!MP15","v":0},{"$f":"'6 - Input sheet - Employee data'!MQ15","v":0},{"$f":"'6 - Input sheet - Employee data'!MR15","v":0},{"$f":"'6 - Input sheet - Employee data'!MS15","v":0},{"$f":"'6 - Input sheet - Employee data'!MT15","v":0},{"$f":"'6 - Input sheet - Employee data'!MU15","v":0},{"$f":"'6 - Input sheet - Employee data'!MV15","v":0},{"$f":"'6 - Input sheet - Employee data'!MW15","v":0},{"$f":"'6 - Input sheet - Employee data'!MX15","v":0},{"$f":"'6 - Input sheet - Employee data'!MY15","v":0},{"$f":"'6 - Input sheet - Employee data'!MZ15","v":0},{"$f":"'6 - Input sheet - Employee data'!NA15","v":0},{"$f":"'6 - Input sheet - Employee data'!NB15","v":0},{"$f":"'6 - Input sheet - Employee data'!NC15","v":0},{"$f":"'6 - Input sheet - Employee data'!ND15","v":0},{"$f":"'6 - Input sheet - Employee data'!NE15","v":0},{"$f":"'6 - Input sheet - Employee data'!NF15","v":0},{"$f":"'6 - Input sheet - Employee data'!NG15","v":0},{"$f":"'6 - Input sheet - Employee data'!NH15","v":0},{"$f":"'6 - Input sheet - Employee data'!NI15","v":0},{"$f":"'6 - Input sheet - Employee data'!NJ15","v":0},{"$f":"'6 - Input sheet - Employee data'!NK15","v":0},{"$f":"'6 - Input sheet - Employee data'!NL15","v":0},{"$f":"'6 - Input sheet - Employee data'!NM15","v":0},{"$f":"'6 - Input sheet - Employee data'!NN15","v":0},{"$f":"'6 - Input sheet - Employee data'!NO15","v":0},{"$f":"'6 - Input sheet - Employee data'!NP15","v":0},{"$f":"'6 - Input sheet - Employee data'!NQ15","v":0},{"$f":"'6 - Input sheet - Employee data'!NR15","v":0},{"$f":"'6 - Input sheet - Employee data'!NS15","v":0},{"$f":"'6 - Input sheet - Employee data'!NT15","v":0},{"$f":"'6 - Input sheet - Employee data'!NU15","v":0},{"$f":"'6 - Input sheet - Employee data'!NV15","v":0},{"$f":"'6 - Input sheet - Employee data'!NW15","v":0},{"$f":"'6 - Input sheet - Employee data'!NX15","v":0},{"$f":"'6 - Input sheet - Employee data'!NY15","v":0},{"$f":"'6 - Input sheet - Employee data'!NZ15","v":0},{"$f":"'6 - Input sheet - Employee data'!OA15","v":0},{"$f":"'6 - Input sheet - Employee data'!OB15","v":0},{"$f":"'6 - Input sheet - Employee data'!OC15","v":0},{"$f":"'6 - Input sheet - Employee data'!OD15","v":0},{"$f":"'6 - Input sheet - Employee data'!OE15","v":0},{"$f":"'6 - Input sheet - Employee data'!OF15","v":0},{"$f":"'6 - Input sheet - Employee data'!OG15","v":0},{"$f":"'6 - Input sheet - Employee data'!OH15","v":0},{"$f":"'6 - Input sheet - Employee data'!OI15","v":0},{"$f":"'6 - Input sheet - Employee data'!OJ15","v":0},{"$f":"'6 - Input sheet - Employee data'!OK15","v":0},{"$f":"'6 - Input sheet - Employee data'!OL15","v":0},{"$f":"'6 - Input sheet - Employee data'!OM15","v":0},{"$f":"'6 - Input sheet - Employee data'!ON15","v":0},{"$f":"'6 - Input sheet - Employee data'!OO15","v":0},{"$f":"'6 - Input sheet - Employee data'!OP15","v":0},{"$f":"'6 - Input sheet - Employee data'!OQ15","v":0},{"$f":"'6 - Input sheet - Employee data'!OR15","v":0},{"$f":"'6 - Input sheet - Employee data'!OS15","v":0},{"$f":"'6 - Input sheet - Employee data'!OT15","v":0},{"$f":"'6 - Input sheet - Employee data'!OU15","v":0},{"$f":"'6 - Input sheet - Employee data'!OV15","v":0},{"$f":"'6 - Input sheet - Employee data'!OW15","v":0},{"$f":"'6 - Input sheet - Employee data'!OX15","v":0},{"$f":"'6 - Input sheet - Employee data'!OY15","v":0},{"$f":"'6 - Input sheet - Employee data'!OZ15","v":0},{"$f":"'6 - Input sheet - Employee data'!PA15","v":0},{"$f":"'6 - Input sheet - Employee data'!PB15","v":0},{"$f":"'6 - Input sheet - Employee data'!PC15","v":0},{"$f":"'6 - Input sheet - Employee data'!PD15","v":0},{"$f":"'6 - Input sheet - Employee data'!PE15","v":0},{"$f":"'6 - Input sheet - Employee data'!PF15","v":0},{"$f":"'6 - Input sheet - Employee data'!PG15","v":0},{"$f":"'6 - Input sheet - Employee data'!PH15","v":0},{"$f":"'6 - Input sheet - Employee data'!PI15","v":0},{"$f":"'6 - Input sheet - Employee data'!PJ15","v":0},{"$f":"'6 - Input sheet - Employee data'!PK15","v":0},{"$f":"'6 - Input sheet - Employee data'!PL15","v":0},{"$f":"'6 - Input sheet - Employee data'!PM15","v":0},{"$f":"'6 - Input sheet - Employee data'!PN15","v":0},{"$f":"'6 - Input sheet - Employee data'!PO15","v":0},{"$f":"'6 - Input sheet - Employee data'!PP15","v":0},{"$f":"'6 - Input sheet - Employee data'!PQ15","v":0},{"$f":"'6 - Input sheet - Employee data'!PR15","v":0},{"$f":"'6 - Input sheet - Employee data'!PS15","v":0},{"$f":"'6 - Input sheet - Employee data'!PT15","v":0},{"$f":"'6 - Input sheet - Employee data'!PU15","v":0},{"$f":"'6 - Input sheet - Employee data'!PV15","v":0},{"$f":"'6 - Input sheet - Employee data'!PW15","v":0},{"$f":"'6 - Input sheet - Employee data'!PX15","v":0},{"$f":"'6 - Input sheet - Employee data'!PY15","v":0},{"$f":"'6 - Input sheet - Employee data'!PZ15","v":0},{"$f":"'6 - Input sheet - Employee data'!QA15","v":0},{"$f":"'6 - Input sheet - Employee data'!QB15","v":0},{"$f":"'6 - Input sheet - Employee data'!QC15","v":0},{"$f":"'6 - Input sheet - Employee data'!QD15","v":0},{"$f":"'6 - Input sheet - Employee data'!QE15","v":0},{"$f":"'6 - Input sheet - Employee data'!QF15","v":0},{"$f":"'6 - Input sheet - Employee data'!QG15","v":0},{"$f":"'6 - Input sheet - Employee data'!QH15","v":0},{"$f":"'6 - Input sheet - Employee data'!QI15","v":0},{"$f":"'6 - Input sheet - Employee data'!QJ15","v":0},{"$f":"'6 - Input sheet - Employee data'!QK15","v":0},{"$f":"'6 - Input sheet - Employee data'!QL15","v":0},{"$f":"'6 - Input sheet - Employee data'!QM15","v":0},{"$f":"'6 - Input sheet - Employee data'!QN15","v":0},{"$f":"'6 - Input sheet - Employee data'!QO15","v":0},{"$f":"'6 - Input sheet - Employee data'!QP15","v":0},{"$f":"'6 - Input sheet - Employee data'!QQ15","v":0},{"$f":"'6 - Input sheet - Employee data'!QR15","v":0},{"$f":"'6 - Input sheet - Employee data'!QS15","v":0},{"$f":"'6 - Input sheet - Employee data'!QT15","v":0},{"$f":"'6 - Input sheet - Employee data'!QU15","v":0},{"$f":"'6 - Input sheet - Employee data'!QV15","v":0},{"$f":"'6 - Input sheet - Employee data'!QW15","v":0},{"$f":"'6 - Input sheet - Employee data'!QX15","v":0},{"$f":"'6 - Input sheet - Employee data'!QY15","v":0},{"$f":"'6 - Input sheet - Employee data'!QZ15","v":0},{"$f":"'6 - Input sheet - Employee data'!RA15","v":0},{"$f":"'6 - Input sheet - Employee data'!RB15","v":0},{"$f":"'6 - Input sheet - Employee data'!RC15","v":0},{"$f":"'6 - Input sheet - Employee data'!RD15","v":0},{"$f":"'6 - Input sheet - Employee data'!RE15","v":0},{"$f":"'6 - Input sheet - Employee data'!RF15","v":0},{"$f":"'6 - Input sheet - Employee data'!RG15","v":0},{"$f":"'6 - Input sheet - Employee data'!RH15","v":0},{"$f":"'6 - Input sheet - Employee data'!RI15","v":0},{"$f":"'6 - Input sheet - Employee data'!RJ15","v":0},{"$f":"'6 - Input sheet - Employee data'!RK15","v":0},{"$f":"'6 - Input sheet - Employee data'!RL15","v":0},{"$f":"'6 - Input sheet - Employee data'!RM15","v":0},{"$f":"'6 - Input sheet - Employee data'!RN15","v":0},{"$f":"'6 - Input sheet - Employee data'!RO15","v":0},{"$f":"'6 - Input sheet - Employee data'!RP15","v":0},{"$f":"'6 - Input sheet - Employee data'!RQ15","v":0},{"$f":"'6 - Input sheet - Employee data'!RR15","v":0},{"$f":"'6 - Input sheet - Employee data'!RS15","v":0},{"$f":"'6 - Input sheet - Employee data'!RT15","v":0},{"$f":"'6 - Input sheet - Employee data'!RU15","v":0},{"$f":"'6 - Input sheet - Employee data'!RV15","v":0},{"$f":"'6 - Input sheet - Employee data'!RW15","v":0},{"$f":"'6 - Input sheet - Employee data'!RX15","v":0},{"$f":"'6 - Input sheet - Employee data'!RY15","v":0},{"$f":"'6 - Input sheet - Employee data'!RZ15","v":0},{"$f":"'6 - Input sheet - Employee data'!SA15","v":0},{"$f":"'6 - Input sheet - Employee data'!SB15","v":0},{"$f":"'6 - Input sheet - Employee data'!SC15","v":0},{"$f":"'6 - Input sheet - Employee data'!SD15","v":0},{"$f":"'6 - Input sheet - Employee data'!SE15","v":0},{"$f":"'6 - Input sheet - Employee data'!SF15","v":0},{"$f":"'6 - Input sheet - Employee data'!SG15","v":0},{"$f":"'6 - Input sheet - Employee data'!SH15","v":0}]
[]
[null,"Total",{"$f":"1","v":1},{"$f":"C11+1","v":2},{"$f":"D11+1","v":3},4,5,6,7,8,9,10,11,12,13,14,15,16,17,18,19,20,21,22,23,24,25,26,27,28,29,30,31,32,33,34,35,36,37,38,39,40,41,42,43,44,45,46,47,48,49,50,51,52,53,54,55,56,57,58,59,60,61,62,63,64,65,66,{"$f":"BP11+1","v":67},68,69,70,71,72,73,74,75,76,77,78,79,80,81,82,83,84,85,86,87,88,89,90,91,92,93,94,95,96,97,98,99,100,101,102,103,104,105,106,107,108,109,110,111,112,113,114,115,116,117,118,119,120,121,122,123,124,125,126,127,128,129,130,{"$f":"EB11+1","v":131},132,133,134,135,136,137,138,139,140,141,142,143,144,145,146,147,148,149,150,151,152,153,154,155,156,157,158,159,160,161,162,163,164,165,166,167,168,169,170,171,172,173,174,175,176,177,178,179,180,181,182,183,184,185,186,187,188,189,190,191,192,193,194,{"$f":"GN11+1","v":195},196,197,198,199,200,201,202,203,204,205,206,207,208,209,210,211,212,213,214,215,216,217,218,219,220,221,222,223,224,225,226,227,228,229,230,231,232,233,234,235,236,237,238,239,240,241,242,243,244,245,246,247,248,249,250,251,252,253,254,255,256,257,258,{"$f":"IZ11+1","v":259},260,261,262,263,264,265,266,267,268,269,270,271,272,273,274,275,276,277,278,279,280,281,282,283,284,285,286,287,288,289,290,291,292,293,294,295,296,297,298,299,300,301,302,303,304,305,306,307,308,309,310,311,312,313,314,315,316,317,318,319,320,321,322,{"$f":"LL11+1","v":323},324,325,326,327,328,329,330,331,332,333,334,335,336,337,338,339,340,341,342,343,344,345,346,347,348,349,350,351,352,353,354,355,356,357,358,359,360,361,362,363,364,365,366,367,368,369,370,371,372,373,374,375,376,377,378,379,380,381,382,383,384,385,386,{"$f":"NX11+1","v":387},388,389,390,391,392,393,394,395,396,397,398,399,400,401,402,403,404,405,406,407,408,409,410,411,412,413,414,415,416,417,418,419,420,421,422,423,424,425,426,427,428,429,430,431,432,433,434,435,436,437,438,439,440,441,442,443,444,445,446,447,448,449,450,{"$f":"QJ11+1","v":451},452,453,454,455,456,457,458,459,460,461,462,463,464,465,466,467,468,469,470,471,472,473,474,475,476,477,478,479,480,481,482,483,484,485,486,487,488,489,490,491,492,493,494,495,496,497,498,499,500]
[]
["Compensation during 8 week PPP loan period"]
[{"$f":"'6 - Input sheet - Employee data'!A54","v":"  Period 1 (enter date)"},{"$f":"SUM(C14:SH14)","v":0},{"$f":"'6 - Input sheet - Employee data'!C54","v":0},{"$f":"'6 - Input sheet - Employee data'!D54","v":0},{"$f":"'6 - Input sheet - Employee data'!E54","v":0},{"$f":"'6 - Input sheet - Employee data'!F54","v":0},{"$f":"'6 - Input sheet - Employee data'!G54","v":0},{"$f":"'6 - Input sheet - Employee data'!H54","v":0},{"$f":"'6 - Input sheet - Employee data'!I54","v":0},{"$f":"'6 - Input sheet - Employee data'!J54","v":0},{"$f":"'6 - Input sheet - Employee data'!K54","v":0},{"$f":"'6 - Input sheet - Employee data'!L54","v":0},{"$f":"'6 - Input sheet - Employee data'!M54","v":0},{"$f":"'6 - Input sheet - Employee data'!N54","v":0},{"$f":"'6 - Input sheet - Employee data'!O54","v":0},{"$f":"'6 - Input sheet - Employee data'!P54","v":0},{"$f":"'6 - Input sheet - Employee data'!Q54","v":0},{"$f":"'6 - Input sheet - Employee data'!R54","v":0},{"$f":"'6 - Input sheet - Employee data'!S54","v":0},{"$f":"'6 - Input sheet - Employee data'!T54","v":0},{"$f":"'6 - Input sheet - Employee data'!U54","v":0},{"$f":"'6 - Input sheet - Employee data'!V54","v":0},{"$f":"'6 - Input sheet - Employee data'!W54","v":0},{"$f":"'6 - Input sheet - Employee data'!X54","v":0},{"$f":"'6 - Input sheet - Employee data'!Y54","v":0},{"$f":"'6 - Input sheet - Employee data'!Z54","v":0},{"$f":"'6 - Input sheet - Employee data'!AA54","v":0},{"$f":"'6 - Input sheet - Employee data'!AB54","v":0},{"$f":"'6 - Input sheet - Employee data'!AC54","v":0},{"$f":"'6 - Input sheet - Employee data'!AD54","v":0},{"$f":"'6 - Input sheet - Employee data'!AE54","v":0},{"$f":"'6 - Input sheet - Employee data'!AF54","v":0},{"$f":"'6 - Input sheet - Employee data'!AG54","v":0},{"$f":"'6 - Input sheet - Employee data'!AH54","v":0},{"$f":"'6 - Input sheet - Employee data'!AI54","v":0},{"$f":"'6 - Input sheet - Employee data'!AJ54","v":0},{"$f":"'6 - Input sheet - Employee data'!AK54","v":0},{"$f":"'6 - Input sheet - Employee data'!AL54","v":0},{"$f":"'6 - Input sheet - Employee data'!AM54","v":0},{"$f":"'6 - Input sheet - Employee data'!AN54","v":0},{"$f":"'6 - Input sheet - Employee data'!AO54","v":0},{"$f":"'6 - Input sheet - Employee data'!AP54","v":0},{"$f":"'6 - Input sheet - Employee data'!AQ54","v":0},{"$f":"'6 - Input sheet - Employee data'!AR54","v":0},{"$f":"'6 - Input sheet - Employee data'!AS54","v":0},{"$f":"'6 - Input sheet - Employee data'!AT54","v":0},{"$f":"'6 - Input sheet - Employee data'!AU54","v":0},{"$f":"'6 - Input sheet - Employee data'!AV54","v":0},{"$f":"'6 - Input sheet - Employee data'!AW54","v":0},{"$f":"'6 - Input sheet - Employee data'!AX54","v":0},{"$f":"'6 - Input sheet - Employee data'!AY54","v":0},{"$f":"'6 - Input sheet - Employee data'!AZ54","v":0},{"$f":"'6 - Input sheet - Employee data'!BA54","v":0},{"$f":"'6 - Input sheet - Employee data'!BB54","v":0},{"$f":"'6 - Input sheet - Employee data'!BC54","v":0},{"$f":"'6 - Input sheet - Employee data'!BD54","v":0},{"$f":"'6 - Input sheet - Employee data'!BE54","v":0},{"$f":"'6 - Input sheet - Employee data'!BF54","v":0},{"$f":"'6 - Input sheet - Employee data'!BG54","v":0},{"$f":"'6 - Input sheet - Employee data'!BH54","v":0},{"$f":"'6 - Input sheet - Employee data'!BI54","v":0},{"$f":"'6 - Input sheet - Employee data'!BJ54","v":0},{"$f":"'6 - Input sheet - Employee data'!BK54","v":0},{"$f":"'6 - Input sheet - Employee data'!BL54","v":0},{"$f":"'6 - Input sheet - Employee data'!BM54","v":0},{"$f":"'6 - Input sheet - Employee data'!BN54","v":0},{"$f":"'6 - Input sheet - Employee data'!BO54","v":0},{"$f":"'6 - Input sheet - Employee data'!BP54","v":0},{"$f":"'6 - Input sheet - Employee data'!BQ54","v":0},{"$f":"'6 - Input sheet - Employee data'!BR54","v":0},{"$f":"'6 - Input sheet - Employee data'!BS54","v":0},{"$f":"'6 - Input sheet - Employee data'!BT54","v":0},{"$f":"'6 - Input sheet - Employee data'!BU54","v":0},{"$f":"'6 - Input sheet - Employee data'!BV54","v":0},{"$f":"'6 - Input sheet - Employee data'!BW54","v":0},{"$f":"'6 - Input sheet - Employee data'!BX54","v":0},{"$f":"'6 - Input sheet - Employee data'!BY54","v":0},{"$f":"'6 - Input sheet - Employee data'!BZ54","v":0},{"$f":"'6 - Input sheet - Employee data'!CA54","v":0},{"$f":"'6 - Input sheet - Employee data'!CB54","v":0},{"$f":"'6 - Input sheet - Employee data'!CC54","v":0},{"$f":"'6 - Input sheet - Employee data'!CD54","v":0},{"$f":"'6 - Input sheet - Employee data'!CE54","v":0},{"$f":"'6 - Input sheet - Employee data'!CF54","v":0},{"$f":"'6 - Input sheet - Employee data'!CG54","v":0},{"$f":"'6 - Input sheet - Employee data'!CH54","v":0},{"$f":"'6 - Input sheet - Employee data'!CI54","v":0},{"$f":"'6 - Input sheet - Employee data'!CJ54","v":0},{"$f":"'6 - Input sheet - Employee data'!CK54","v":0},{"$f":"'6 - Input sheet - Employee data'!CL54","v":0},{"$f":"'6 - Input sheet - Employee data'!CM54","v":0},{"$f":"'6 - Input sheet - Employee data'!CN54","v":0},{"$f":"'6 - Input sheet - Employee data'!CO54","v":0},{"$f":"'6 - Input sheet - Employee data'!CP54","v":0},{"$f":"'6 - Input sheet - Employee data'!CQ54","v":0},{"$f":"'6 - Input sheet - Employee data'!CR54","v":0},{"$f":"'6 - Input sheet - Employee data'!CS54","v":0},{"$f":"'6 - Input sheet - Employee data'!CT54","v":0},{"$f":"'6 - Input sheet - Employee data'!CU54","v":0},{"$f":"'6 - Input sheet - Employee data'!CV54","v":0},{"$f":"'6 - Input sheet - Employee data'!CW54","v":0},{"$f":"'6 - Input sheet - Employee data'!CX54","v":0},{"$f":"'6 - Input sheet - Employee data'!CY54","v":0},{"$f":"'6 - Input sheet - Employee data'!CZ54","v":0},{"$f":"'6 - Input sheet - Employee data'!DA54","v":0},{"$f":"'6 - Input sheet - Employee data'!DB54","v":0},{"$f":"'6 - Input sheet - Employee data'!DC54","v":0},{"$f":"'6 - Input sheet - Employee data'!DD54","v":0},{"$f":"'6 - Input sheet - Employee data'!DE54","v":0},{"$f":"'6 - Input sheet - Employee data'!DF54","v":0},{"$f":"'6 - Input sheet - Employee data'!DG54","v":0},{"$f":"'6 - Input sheet - Employee data'!DH54","v":0},{"$f":"'6 - Input sheet - Employee data'!DI54","v":0},{"$f":"'6 - Input sheet - Employee data'!DJ54","v":0},{"$f":"'6 - Input sheet - Employee data'!DK54","v":0},{"$f":"'6 - Input sheet - Employee data'!DL54","v":0},{"$f":"'6 - Input sheet - Employee data'!DM54","v":0},{"$f":"'6 - Input sheet - Employee data'!DN54","v":0},{"$f":"'6 - Input sheet - Employee data'!DO54","v":0},{"$f":"'6 - Input sheet - Employee data'!DP54","v":0},{"$f":"'6 - Input sheet - Employee data'!DQ54","v":0},{"$f":"'6 - Input sheet - Employee data'!DR54","v":0},{"$f":"'6 - Input sheet - Employee data'!DS54","v":0},{"$f":"'6 - Input sheet - Employee data'!DT54","v":0},{"$f":"'6 - Input sheet - Employee data'!DU54","v":0},{"$f":"'6 - Input sheet - Employee data'!DV54","v":0},{"$f":"'6 - Input sheet - Employee data'!DW54","v":0},{"$f":"'6 - Input sheet - Employee data'!DX54","v":0},{"$f":"'6 - Input sheet - Employee data'!DY54","v":0},{"$f":"'6 - Input sheet - Employee data'!DZ54","v":0},{"$f":"'6 - Input sheet - Employee data'!EA54","v":0},{"$f":"'6 - Input sheet - Employee data'!EB54","v":0},{"$f":"'6 - Input sheet - Employee data'!EC54","v":0},{"$f":"'6 - Input sheet - Employee data'!ED54","v":0},{"$f":"'6 - Input sheet - Employee data'!EE54","v":0},{"$f":"'6 - Input sheet - Employee data'!EF54","v":0},{"$f":"'6 - Input sheet - Employee data'!EG54","v":0},{"$f":"'6 - Input sheet - Employee data'!EH54","v":0},{"$f":"'6 - Input sheet - Employee data'!EI54","v":0},{"$f":"'6 - Input sheet - Employee data'!EJ54","v":0},{"$f":"'6 - Input sheet - Employee data'!EK54","v":0},{"$f":"'6 - Input sheet - Employee data'!EL54","v":0},{"$f":"'6 - Input sheet - Employee data'!EM54","v":0},{"$f":"'6 - Input sheet - Employee data'!EN54","v":0},{"$f":"'6 - Input sheet - Employee data'!EO54","v":0},{"$f":"'6 - Input sheet - Employee data'!EP54","v":0},{"$f":"'6 - Input sheet - Employee data'!EQ54","v":0},{"$f":"'6 - Input sheet - Employee data'!ER54","v":0},{"$f":"'6 - Input sheet - Employee data'!ES54","v":0},{"$f":"'6 - Input sheet - Employee data'!ET54","v":0},{"$f":"'6 - Input sheet - Employee data'!EU54","v":0},{"$f":"'6 - Input sheet - Employee data'!EV54","v":0},{"$f":"'6 - Input sheet - Employee data'!EW54","v":0},{"$f":"'6 - Input sheet - Employee data'!EX54","v":0},{"$f":"'6 - Input sheet - Employee data'!EY54","v":0},{"$f":"'6 - Input sheet - Employee data'!EZ54","v":0},{"$f":"'6 - Input sheet - Employee data'!FA54","v":0},{"$f":"'6 - Input sheet - Employee data'!FB54","v":0},{"$f":"'6 - Input sheet - Employee data'!FC54","v":0},{"$f":"'6 - Input sheet - Employee data'!FD54","v":0},{"$f":"'6 - Input sheet - Employee data'!FE54","v":0},{"$f":"'6 - Input sheet - Employee data'!FF54","v":0},{"$f":"'6 - Input sheet - Employee data'!FG54","v":0},{"$f":"'6 - Input sheet - Employee data'!FH54","v":0},{"$f":"'6 - Input sheet - Employee data'!FI54","v":0},{"$f":"'6 - Input sheet - Employee data'!FJ54","v":0},{"$f":"'6 - Input sheet - Employee data'!FK54","v":0},{"$f":"'6 - Input sheet - Employee data'!FL54","v":0},{"$f":"'6 - Input sheet - Employee data'!FM54","v":0},{"$f":"'6 - Input sheet - Employee data'!FN54","v":0},{"$f":"'6 - Input sheet - Employee data'!FO54","v":0},{"$f":"'6 - Input sheet - Employee data'!FP54","v":0},{"$f":"'6 - Input sheet - Employee data'!FQ54","v":0},{"$f":"'6 - Input sheet - Employee data'!FR54","v":0},{"$f":"'6 - Input sheet - Employee data'!FS54","v":0},{"$f":"'6 - Input sheet - Employee data'!FT54","v":0},{"$f":"'6 - Input sheet - Employee data'!FU54","v":0},{"$f":"'6 - Input sheet - Employee data'!FV54","v":0},{"$f":"'6 - Input sheet - Employee data'!FW54","v":0},{"$f":"'6 - Input sheet - Employee data'!FX54","v":0},{"$f":"'6 - Input sheet - Employee data'!FY54","v":0},{"$f":"'6 - Input sheet - Employee data'!FZ54","v":0},{"$f":"'6 - Input sheet - Employee data'!GA54","v":0},{"$f":"'6 - Input sheet - Employee data'!GB54","v":0},{"$f":"'6 - Input sheet - Employee data'!GC54","v":0},{"$f":"'6 - Input sheet - Employee data'!GD54","v":0},{"$f":"'6 - Input sheet - Employee data'!GE54","v":0},{"$f":"'6 - Input sheet - Employee data'!GF54","v":0},{"$f":"'6 - Input sheet - Employee data'!GG54","v":0},{"$f":"'6 - Input sheet - Employee data'!GH54","v":0},{"$f":"'6 - Input sheet - Employee data'!GI54","v":0},{"$f":"'6 - Input sheet - Employee data'!GJ54","v":0},{"$f":"'6 - Input sheet - Employee data'!GK54","v":0},{"$f":"'6 - Input sheet - Employee data'!GL54","v":0},{"$f":"'6 - Input sheet - Employee data'!GM54","v":0},{"$f":"'6 - Input sheet - Employee data'!GN54","v":0},{"$f":"'6 - Input sheet - Employee data'!GO54","v":0},{"$f":"'6 - Input sheet - Employee data'!GP54","v":0},{"$f":"'6 - Input sheet - Employee data'!GQ54","v":0},{"$f":"'6 - Input sheet - Employee data'!GR54","v":0},{"$f":"'6 - Input sheet - Employee data'!GS54","v":0},{"$f":"'6 - Input sheet - Employee data'!GT54","v":0},{"$f":"'6 - Input sheet - Employee data'!GU54","v":0},{"$f":"'6 - Input sheet - Employee data'!GV54","v":0},{"$f":"'6 - Input sheet - Employee data'!GW54","v":0},{"$f":"'6 - Input sheet - Employee data'!GX54","v":0},{"$f":"'6 - Input sheet - Employee data'!GY54","v":0},{"$f":"'6 - Input sheet - Employee data'!GZ54","v":0},{"$f":"'6 - Input sheet - Employee data'!HA54","v":0},{"$f":"'6 - Input sheet - Employee data'!HB54","v":0},{"$f":"'6 - Input sheet - Employee data'!HC54","v":0},{"$f":"'6 - Input sheet - Employee data'!HD54","v":0},{"$f":"'6 - Input sheet - Employee data'!HE54","v":0},{"$f":"'6 - Input sheet - Employee data'!HF54","v":0},{"$f":"'6 - Input sheet - Employee data'!HG54","v":0},{"$f":"'6 - Input sheet - Employee data'!HH54","v":0},{"$f":"'6 - Input sheet - Employee data'!HI54","v":0},{"$f":"'6 - Input sheet - Employee data'!HJ54","v":0},{"$f":"'6 - Input sheet - Employee data'!HK54","v":0},{"$f":"'6 - Input sheet - Employee data'!HL54","v":0},{"$f":"'6 - Input sheet - Employee data'!HM54","v":0},{"$f":"'6 - Input sheet - Employee data'!HN54","v":0},{"$f":"'6 - Input sheet - Employee data'!HO54","v":0},{"$f":"'6 - Input sheet - Employee data'!HP54","v":0},{"$f":"'6 - Input sheet - Employee data'!HQ54","v":0},{"$f":"'6 - Input sheet - Employee data'!HR54","v":0},{"$f":"'6 - Input sheet - Employee data'!HS54","v":0},{"$f":"'6 - Input sheet - Employee data'!HT54","v":0},{"$f":"'6 - Input sheet - Employee data'!HU54","v":0},{"$f":"'6 - Input sheet - Employee data'!HV54","v":0},{"$f":"'6 - Input sheet - Employee data'!HW54","v":0},{"$f":"'6 - Input sheet - Employee data'!HX54","v":0},{"$f":"'6 - Input sheet - Employee data'!HY54","v":0},{"$f":"'6 - Input sheet - Employee data'!HZ54","v":0},{"$f":"'6 - Input sheet - Employee data'!IA54","v":0},{"$f":"'6 - Input sheet - Employee data'!IB54","v":0},{"$f":"'6 - Input sheet - Employee data'!IC54","v":0},{"$f":"'6 - Input sheet - Employee data'!ID54","v":0},{"$f":"'6 - Input sheet - Employee data'!IE54","v":0},{"$f":"'6 - Input sheet - Employee data'!IF54","v":0},{"$f":"'6 - Input sheet - Employee data'!IG54","v":0},{"$f":"'6 - Input sheet - Employee data'!IH54","v":0},{"$f":"'6 - Input sheet - Employee data'!II54","v":0},{"$f":"'6 - Input sheet - Employee data'!IJ54","v":0},{"$f":"'6 - Input sheet - Employee data'!IK54","v":0},{"$f":"'6 - Input sheet - Employee data'!IL54","v":0},{"$f":"'6 - Input sheet - Employee data'!IM54","v":0},{"$f":"'6 - Input sheet - Employee data'!IN54","v":0},{"$f":"'6 - Input sheet - Employee data'!IO54","v":0},{"$f":"'6 - Input sheet - Employee data'!IP54","v":0},{"$f":"'6 - Input sheet - Employee data'!IQ54","v":0},{"$f":"'6 - Input sheet - Employee data'!IR54","v":0},{"$f":"'6 - Input sheet - Employee data'!IS54","v":0},{"$f":"'6 - Input sheet - Employee data'!IT54","v":0},{"$f":"'6 - Input sheet - Employee data'!IU54","v":0},{"$f":"'6 - Input sheet - Employee data'!IV54","v":0},{"$f":"'6 - Input sheet - Employee data'!IW54","v":0},{"$f":"'6 - Input sheet - Employee data'!IX54","v":0},{"$f":"'6 - Input sheet - Employee data'!IY54","v":0},{"$f":"'6 - Input sheet - Employee data'!IZ54","v":0},{"$f":"'6 - Input sheet - Employee data'!JA54","v":0},{"$f":"'6 - Input sheet - Employee data'!JB54","v":0},{"$f":"'6 - Input sheet - Employee data'!JC54","v":0},{"$f":"'6 - Input sheet - Employee data'!JD54","v":0},{"$f":"'6 - Input sheet - Employee data'!JE54","v":0},{"$f":"'6 - Input sheet - Employee data'!JF54","v":0},{"$f":"'6 - Input sheet - Employee data'!JG54","v":0},{"$f":"'6 - Input sheet - Employee data'!JH54","v":0},{"$f":"'6 - Input sheet - Employee data'!JI54","v":0},{"$f":"'6 - Input sheet - Employee data'!JJ54","v":0},{"$f":"'6 - Input sheet - Employee data'!JK54","v":0},{"$f":"'6 - Input sheet - Employee data'!JL54","v":0},{"$f":"'6 - Input sheet - Employee data'!JM54","v":0},{"$f":"'6 - Input sheet - Employee data'!JN54","v":0},{"$f":"'6 - Input sheet - Employee data'!JO54","v":0},{"$f":"'6 - Input sheet - Employee data'!JP54","v":0},{"$f":"'6 - Input sheet - Employee data'!JQ54","v":0},{"$f":"'6 - Input sheet - Employee data'!JR54","v":0},{"$f":"'6 - Input sheet - Employee data'!JS54","v":0},{"$f":"'6 - Input sheet - Employee data'!JT54","v":0},{"$f":"'6 - Input sheet - Employee data'!JU54","v":0},{"$f":"'6 - Input sheet - Employee data'!JV54","v":0},{"$f":"'6 - Input sheet - Employee data'!JW54","v":0},{"$f":"'6 - Input sheet - Employee data'!JX54","v":0},{"$f":"'6 - Input sheet - Employee data'!JY54","v":0},{"$f":"'6 - Input sheet - Employee data'!JZ54","v":0},{"$f":"'6 - Input sheet - Employee data'!KA54","v":0},{"$f":"'6 - Input sheet - Employee data'!KB54","v":0},{"$f":"'6 - Input sheet - Employee data'!KC54","v":0},{"$f":"'6 - Input sheet - Employee data'!KD54","v":0},{"$f":"'6 - Input sheet - Employee data'!KE54","v":0},{"$f":"'6 - Input sheet - Employee data'!KF54","v":0},{"$f":"'6 - Input sheet - Employee data'!KG54","v":0},{"$f":"'6 - Input sheet - Employee data'!KH54","v":0},{"$f":"'6 - Input sheet - Employee data'!KI54","v":0},{"$f":"'6 - Input sheet - Employee data'!KJ54","v":0},{"$f":"'6 - Input sheet - Employee data'!KK54","v":0},{"$f":"'6 - Input sheet - Employee data'!KL54","v":0},{"$f":"'6 - Input sheet - Employee data'!KM54","v":0},{"$f":"'6 - Input sheet - Employee data'!KN54","v":0},{"$f":"'6 - Input sheet - Employee data'!KO54","v":0},{"$f":"'6 - Input sheet - Employee data'!KP54","v":0},{"$f":"'6 - Input sheet - Employee data'!KQ54","v":0},{"$f":"'6 - Input sheet - Employee data'!KR54","v":0},{"$f":"'6 - Input sheet - Employee data'!KS54","v":0},{"$f":"'6 - Input sheet - Employee data'!KT54","v":0},{"$f":"'6 - Input sheet - Employee data'!KU54","v":0},{"$f":"'6 - Input sheet - Employee data'!KV54","v":0},{"$f":"'6 - Input sheet - Employee data'!KW54","v":0},{"$f":"'6 - Input sheet - Employee data'!KX54","v":0},{"$f":"'6 - Input sheet - Employee data'!KY54","v":0},{"$f":"'6 - Input sheet - Employee data'!KZ54","v":0},{"$f":"'6 - Input sheet - Employee data'!LA54","v":0},{"$f":"'6 - Input sheet - Employee data'!LB54","v":0},{"$f":"'6 - Input sheet - Employee data'!LC54","v":0},{"$f":"'6 - Input sheet - Employee data'!LD54","v":0},{"$f":"'6 - Input sheet - Employee data'!LE54","v":0},{"$f":"'6 - Input sheet - Employee data'!LF54","v":0},{"$f":"'6 - Input sheet - Employee data'!LG54","v":0},{"$f":"'6 - Input sheet - Employee data'!LH54","v":0},{"$f":"'6 - Input sheet - Employee data'!LI54","v":0},{"$f":"'6 - Input sheet - Employee data'!LJ54","v":0},{"$f":"'6 - Input sheet - Employee data'!LK54","v":0},{"$f":"'6 - Input sheet - Employee data'!LL54","v":0},{"$f":"'6 - Input sheet - Employee data'!LM54","v":0},{"$f":"'6 - Input sheet - Employee data'!LN54","v":0},{"$f":"'6 - Input sheet - Employee data'!LO54","v":0},{"$f":"'6 - Input sheet - Employee data'!LP54","v":0},{"$f":"'6 - Input sheet - Employee data'!LQ54","v":0},{"$f":"'6 - Input sheet - Employee data'!LR54","v":0},{"$f":"'6 - Input sheet - Employee data'!LS54","v":0},{"$f":"'6 - Input sheet - Employee data'!LT54","v":0},{"$f":"'6 - Input sheet - Employee data'!LU54","v":0},{"$f":"'6 - Input sheet - Employee data'!LV54","v":0},{"$f":"'6 - Input sheet - Employee data'!LW54","v":0},{"$f":"'6 - Input sheet - Employee data'!LX54","v":0},{"$f":"'6 - Input sheet - Employee data'!LY54","v":0},{"$f":"'6 - Input sheet - Employee data'!LZ54","v":0},{"$f":"'6 - Input sheet - Employee data'!MA54","v":0},{"$f":"'6 - Input sheet - Employee data'!MB54","v":0},{"$f":"'6 - Input sheet - Employee data'!MC54","v":0},{"$f":"'6 - Input sheet - Employee data'!MD54","v":0},{"$f":"'6 - Input sheet - Employee data'!ME54","v":0},{"$f":"'6 - Input sheet - Employee data'!MF54","v":0},{"$f":"'6 - Input sheet - Employee data'!MG54","v":0},{"$f":"'6 - Input sheet - Employee data'!MH54","v":0},{"$f":"'6 - Input sheet - Employee data'!MI54","v":0},{"$f":"'6 - Input sheet - Employee data'!MJ54","v":0},{"$f":"'6 - Input sheet - Employee data'!MK54","v":0},{"$f":"'6 - Input sheet - Employee data'!ML54","v":0},{"$f":"'6 - Input sheet - Employee data'!MM54","v":0},{"$f":"'6 - Input sheet - Employee data'!MN54","v":0},{"$f":"'6 - Input sheet - Employee data'!MO54","v":0},{"$f":"'6 - Input sheet - Employee data'!MP54","v":0},{"$f":"'6 - Input sheet - Employee data'!MQ54","v":0},{"$f":"'6 - Input sheet - Employee data'!MR54","v":0},{"$f":"'6 - Input sheet - Employee data'!MS54","v":0},{"$f":"'6 - Input sheet - Employee data'!MT54","v":0},{"$f":"'6 - Input sheet - Employee data'!MU54","v":0},{"$f":"'6 - Input sheet - Employee data'!MV54","v":0},{"$f":"'6 - Input sheet - Employee data'!MW54","v":0},{"$f":"'6 - Input sheet - Employee data'!MX54","v":0},{"$f":"'6 - Input sheet - Employee data'!MY54","v":0},{"$f":"'6 - Input sheet - Employee data'!MZ54","v":0},{"$f":"'6 - Input sheet - Employee data'!NA54","v":0},{"$f":"'6 - Input sheet - Employee data'!NB54","v":0},{"$f":"'6 - Input sheet - Employee data'!NC54","v":0},{"$f":"'6 - Input sheet - Employee data'!ND54","v":0},{"$f":"'6 - Input sheet - Employee data'!NE54","v":0},{"$f":"'6 - Input sheet - Employee data'!NF54","v":0},{"$f":"'6 - Input sheet - Employee data'!NG54","v":0},{"$f":"'6 - Input sheet - Employee data'!NH54","v":0},{"$f":"'6 - Input sheet - Employee data'!NI54","v":0},{"$f":"'6 - Input sheet - Employee data'!NJ54","v":0},{"$f":"'6 - Input sheet - Employee data'!NK54","v":0},{"$f":"'6 - Input sheet - Employee data'!NL54","v":0},{"$f":"'6 - Input sheet - Employee data'!NM54","v":0},{"$f":"'6 - Input sheet - Employee data'!NN54","v":0},{"$f":"'6 - Input sheet - Employee data'!NO54","v":0},{"$f":"'6 - Input sheet - Employee data'!NP54","v":0},{"$f":"'6 - Input sheet - Employee data'!NQ54","v":0},{"$f":"'6 - Input sheet - Employee data'!NR54","v":0},{"$f":"'6 - Input sheet - Employee data'!NS54","v":0},{"$f":"'6 - Input sheet - Employee data'!NT54","v":0},{"$f":"'6 - Input sheet - Employee data'!NU54","v":0},{"$f":"'6 - Input sheet - Employee data'!NV54","v":0},{"$f":"'6 - Input sheet - Employee data'!NW54","v":0},{"$f":"'6 - Input sheet - Employee data'!NX54","v":0},{"$f":"'6 - Input sheet - Employee data'!NY54","v":0},{"$f":"'6 - Input sheet - Employee data'!NZ54","v":0},{"$f":"'6 - Input sheet - Employee data'!OA54","v":0},{"$f":"'6 - Input sheet - Employee data'!OB54","v":0},{"$f":"'6 - Input sheet - Employee data'!OC54","v":0},{"$f":"'6 - Input sheet - Employee data'!OD54","v":0},{"$f":"'6 - Input sheet - Employee data'!OE54","v":0},{"$f":"'6 - Input sheet - Employee data'!OF54","v":0},{"$f":"'6 - Input sheet - Employee data'!OG54","v":0},{"$f":"'6 - Input sheet - Employee data'!OH54","v":0},{"$f":"'6 - Input sheet - Employee data'!OI54","v":0},{"$f":"'6 - Input sheet - Employee data'!OJ54","v":0},{"$f":"'6 - Input sheet - Employee data'!OK54","v":0},{"$f":"'6 - Input sheet - Employee data'!OL54","v":0},{"$f":"'6 - Input sheet - Employee data'!OM54","v":0},{"$f":"'6 - Input sheet - Employee data'!ON54","v":0},{"$f":"'6 - Input sheet - Employee data'!OO54","v":0},{"$f":"'6 - Input sheet - Employee data'!OP54","v":0},{"$f":"'6 - Input sheet - Employee data'!OQ54","v":0},{"$f":"'6 - Input sheet - Employee data'!OR54","v":0},{"$f":"'6 - Input sheet - Employee data'!OS54","v":0},{"$f":"'6 - Input sheet - Employee data'!OT54","v":0},{"$f":"'6 - Input sheet - Employee data'!OU54","v":0},{"$f":"'6 - Input sheet - Employee data'!OV54","v":0},{"$f":"'6 - Input sheet - Employee data'!OW54","v":0},{"$f":"'6 - Input sheet - Employee data'!OX54","v":0},{"$f":"'6 - Input sheet - Employee data'!OY54","v":0},{"$f":"'6 - Input sheet - Employee data'!OZ54","v":0},{"$f":"'6 - Input sheet - Employee data'!PA54","v":0},{"$f":"'6 - Input sheet - Employee data'!PB54","v":0},{"$f":"'6 - Input sheet - Employee data'!PC54","v":0},{"$f":"'6 - Input sheet - Employee data'!PD54","v":0},{"$f":"'6 - Input sheet - Employee data'!PE54","v":0},{"$f":"'6 - Input sheet - Employee data'!PF54","v":0},{"$f":"'6 - Input sheet - Employee data'!PG54","v":0},{"$f":"'6 - Input sheet - Employee data'!PH54","v":0},{"$f":"'6 - Input sheet - Employee data'!PI54","v":0},{"$f":"'6 - Input sheet - Employee data'!PJ54","v":0},{"$f":"'6 - Input sheet - Employee data'!PK54","v":0},{"$f":"'6 - Input sheet - Employee data'!PL54","v":0},{"$f":"'6 - Input sheet - Employee data'!PM54","v":0},{"$f":"'6 - Input sheet - Employee data'!PN54","v":0},{"$f":"'6 - Input sheet - Employee data'!PO54","v":0},{"$f":"'6 - Input sheet - Employee data'!PP54","v":0},{"$f":"'6 - Input sheet - Employee data'!PQ54","v":0},{"$f":"'6 - Input sheet - Employee data'!PR54","v":0},{"$f":"'6 - Input sheet - Employee data'!PS54","v":0},{"$f":"'6 - Input sheet - Employee data'!PT54","v":0},{"$f":"'6 - Input sheet - Employee data'!PU54","v":0},{"$f":"'6 - Input sheet - Employee data'!PV54","v":0},{"$f":"'6 - Input sheet - Employee data'!PW54","v":0},{"$f":"'6 - Input sheet - Employee data'!PX54","v":0},{"$f":"'6 - Input sheet - Employee data'!PY54","v":0},{"$f":"'6 - Input sheet - Employee data'!PZ54","v":0},{"$f":"'6 - Input sheet - Employee data'!QA54","v":0},{"$f":"'6 - Input sheet - Employee data'!QB54","v":0},{"$f":"'6 - Input sheet - Employee data'!QC54","v":0},{"$f":"'6 - Input sheet - Employee data'!QD54","v":0},{"$f":"'6 - Input sheet - Employee data'!QE54","v":0},{"$f":"'6 - Input sheet - Employee data'!QF54","v":0},{"$f":"'6 - Input sheet - Employee data'!QG54","v":0},{"$f":"'6 - Input sheet - Employee data'!QH54","v":0},{"$f":"'6 - Input sheet - Employee data'!QI54","v":0},{"$f":"'6 - Input sheet - Employee data'!QJ54","v":0},{"$f":"'6 - Input sheet - Employee data'!QK54","v":0},{"$f":"'6 - Input sheet - Employee data'!QL54","v":0},{"$f":"'6 - Input sheet - Employee data'!QM54","v":0},{"$f":"'6 - Input sheet - Employee data'!QN54","v":0},{"$f":"'6 - Input sheet - Employee data'!QO54","v":0},{"$f":"'6 - Input sheet - Employee data'!QP54","v":0},{"$f":"'6 - Input sheet - Employee data'!QQ54","v":0},{"$f":"'6 - Input sheet - Employee data'!QR54","v":0},{"$f":"'6 - Input sheet - Employee data'!QS54","v":0},{"$f":"'6 - Input sheet - Employee data'!QT54","v":0},{"$f":"'6 - Input sheet - Employee data'!QU54","v":0},{"$f":"'6 - Input sheet - Employee data'!QV54","v":0},{"$f":"'6 - Input sheet - Employee data'!QW54","v":0},{"$f":"'6 - Input sheet - Employee data'!QX54","v":0},{"$f":"'6 - Input sheet - Employee data'!QY54","v":0},{"$f":"'6 - Input sheet - Employee data'!QZ54","v":0},{"$f":"'6 - Input sheet - Employee data'!RA54","v":0},{"$f":"'6 - Input sheet - Employee data'!RB54","v":0},{"$f":"'6 - Input sheet - Employee data'!RC54","v":0},{"$f":"'6 - Input sheet - Employee data'!RD54","v":0},{"$f":"'6 - Input sheet - Employee data'!RE54","v":0},{"$f":"'6 - Input sheet - Employee data'!RF54","v":0},{"$f":"'6 - Input sheet - Employee data'!RG54","v":0},{"$f":"'6 - Input sheet - Employee data'!RH54","v":0},{"$f":"'6 - Input sheet - Employee data'!RI54","v":0},{"$f":"'6 - Input sheet - Employee data'!RJ54","v":0},{"$f":"'6 - Input sheet - Employee data'!RK54","v":0},{"$f":"'6 - Input sheet - Employee data'!RL54","v":0},{"$f":"'6 - Input sheet - Employee data'!RM54","v":0},{"$f":"'6 - Input sheet - Employee data'!RN54","v":0},{"$f":"'6 - Input sheet - Employee data'!RO54","v":0},{"$f":"'6 - Input sheet - Employee data'!RP54","v":0},{"$f":"'6 - Input sheet - Employee data'!RQ54","v":0},{"$f":"'6 - Input sheet - Employee data'!RR54","v":0},{"$f":"'6 - Input sheet - Employee data'!RS54","v":0},{"$f":"'6 - Input sheet - Employee data'!RT54","v":0},{"$f":"'6 - Input sheet - Employee data'!RU54","v":0},{"$f":"'6 - Input sheet - Employee data'!RV54","v":0},{"$f":"'6 - Input sheet - Employee data'!RW54","v":0},{"$f":"'6 - Input sheet - Employee data'!RX54","v":0},{"$f":"'6 - Input sheet - Employee data'!RY54","v":0},{"$f":"'6 - Input sheet - Employee data'!RZ54","v":0},{"$f":"'6 - Input sheet - Employee data'!SA54","v":0},{"$f":"'6 - Input sheet - Employee data'!SB54","v":0},{"$f":"'6 - Input sheet - Employee data'!SC54","v":0},{"$f":"'6 - Input sheet - Employee data'!SD54","v":0},{"$f":"'6 - Input sheet - Employee data'!SE54","v":0},{"$f":"'6 - Input sheet - Employee data'!SF54","v":0},{"$f":"'6 - Input sheet - Employee data'!SG54","v":0},{"$f":"'6 - Input sheet - Employee data'!SH54","v":0}]
[{"$f":"'6 - Input sheet - Employee data'!A55","v":"  Period 2 (enter date)"},0,{"$f":"'6 - Input sheet - Employee data'!C55","v":0},{"$f":"'6 - Input sheet - Employee data'!D55","v":0},{"$f":"'6 - Input sheet - Employee data'!E55","v":0},{"$f":"'6 - Input sheet - Employee data'!F55","v":0},{"$f":"'6 - Input sheet - Employee data'!G55","v":0},{"$f":"'6 - Input sheet - Employee data'!H55","v":0},{"$f":"'6 - Input sheet - Employee data'!I55","v":0},{"$f":"'6 - Input sheet - Employee data'!J55","v":0},{"$f":"'6 - Input sheet - Employee data'!K55","v":0},{"$f":"'6 - Input sheet - Employee data'!L55","v":0},{"$f":"'6 - Input sheet - Employee data'!M55","v":0},{"$f":"'6 - Input sheet - Employee data'!N55","v":0},{"$f":"'6 - Input sheet - Employee data'!O55","v":0},{"$f":"'6 - Input sheet - Employee data'!P55","v":0},{"$f":"'6 - Input sheet - Employee data'!Q55","v":0},{"$f":"'6 - Input sheet - Employee data'!R55","v":0},{"$f":"'6 - Input sheet - Employee data'!S55","v":0},{"$f":"'6 - Input sheet - Employee data'!T55","v":0},{"$f":"'6 - Input sheet - Employee data'!U55","v":0},{"$f":"'6 - Input sheet - Employee data'!V55","v":0},{"$f":"'6 - Input sheet - Employee data'!W55","v":0},{"$f":"'6 - Input sheet - Employee data'!X55","v":0},{"$f":"'6 - Input sheet - Employee data'!Y55","v":0},{"$f":"'6 - Input sheet - Employee data'!Z55","v":0},{"$f":"'6 - Input sheet - Employee data'!AA55","v":0},{"$f":"'6 - Input sheet - Employee data'!AB55","v":0},{"$f":"'6 - Input sheet - Employee data'!AC55","v":0},{"$f":"'6 - Input sheet - Employee data'!AD55","v":0},{"$f":"'6 - Input sheet - Employee data'!AE55","v":0},{"$f":"'6 - Input sheet - Employee data'!AF55","v":0},{"$f":"'6 - Input sheet - Employee data'!AG55","v":0},{"$f":"'6 - Input sheet - Employee data'!AH55","v":0},{"$f":"'6 - Input sheet - Employee data'!AI55","v":0},{"$f":"'6 - Input sheet - Employee data'!AJ55","v":0},{"$f":"'6 - Input sheet - Employee data'!AK55","v":0},{"$f":"'6 - Input sheet - Employee data'!AL55","v":0},{"$f":"'6 - Input sheet - Employee data'!AM55","v":0},{"$f":"'6 - Input sheet - Employee data'!AN55","v":0},{"$f":"'6 - Input sheet - Employee data'!AO55","v":0},{"$f":"'6 - Input sheet - Employee data'!AP55","v":0},{"$f":"'6 - Input sheet - Employee data'!AQ55","v":0},{"$f":"'6 - Input sheet - Employee data'!AR55","v":0},{"$f":"'6 - Input sheet - Employee data'!AS55","v":0},{"$f":"'6 - Input sheet - Employee data'!AT55","v":0},{"$f":"'6 - Input sheet - Employee data'!AU55","v":0},{"$f":"'6 - Input sheet - Employee data'!AV55","v":0},{"$f":"'6 - Input sheet - Employee data'!AW55","v":0},{"$f":"'6 - Input sheet - Employee data'!AX55","v":0},{"$f":"'6 - Input sheet - Employee data'!AY55","v":0},{"$f":"'6 - Input sheet - Employee data'!AZ55","v":0},{"$f":"'6 - Input sheet - Employee data'!BA55","v":0},{"$f":"'6 - Input sheet - Employee data'!BB55","v":0},{"$f":"'6 - Input sheet - Employee data'!BC55","v":0},{"$f":"'6 - Input sheet - Employee data'!BD55","v":0},{"$f":"'6 - Input sheet - Employee data'!BE55","v":0},{"$f":"'6 - Input sheet - Employee data'!BF55","v":0},{"$f":"'6 - Input sheet - Employee data'!BG55","v":0},{"$f":"'6 - Input sheet - Employee data'!BH55","v":0},{"$f":"'6 - Input sheet - Employee data'!BI55","v":0},{"$f":"'6 - Input sheet - Employee data'!BJ55","v":0},{"$f":"'6 - Input sheet - Employee data'!BK55","v":0},{"$f":"'6 - Input sheet - Employee data'!BL55","v":0},{"$f":"'6 - Input sheet - Employee data'!BM55","v":0},{"$f":"'6 - Input sheet - Employee data'!BN55","v":0},{"$f":"'6 - Input sheet - Employee data'!BO55","v":0},{"$f":"'6 - Input sheet - Employee data'!BP55","v":0},{"$f":"'6 - Input sheet - Employee data'!BQ55","v":0},{"$f":"'6 - Input sheet - Employee data'!BR55","v":0},{"$f":"'6 - Input sheet - Employee data'!BS55","v":0},{"$f":"'6 - Input sheet - Employee data'!BT55","v":0},{"$f":"'6 - Input sheet - Employee data'!BU55","v":0},{"$f":"'6 - Input sheet - Employee data'!BV55","v":0},{"$f":"'6 - Input sheet - Employee data'!BW55","v":0},{"$f":"'6 - Input sheet - Employee data'!BX55","v":0},{"$f":"'6 - Input sheet - Employee data'!BY55","v":0},{"$f":"'6 - Input sheet - Employee data'!BZ55","v":0},{"$f":"'6 - Input sheet - Employee data'!CA55","v":0},{"$f":"'6 - Input sheet - Employee data'!CB55","v":0},{"$f":"'6 - Input sheet - Employee data'!CC55","v":0},{"$f":"'6 - Input sheet - Employee data'!CD55","v":0},{"$f":"'6 - Input sheet - Employee data'!CE55","v":0},{"$f":"'6 - Input sheet - Employee data'!CF55","v":0},{"$f":"'6 - Input sheet - Employee data'!CG55","v":0},{"$f":"'6 - Input sheet - Employee data'!CH55","v":0},{"$f":"'6 - Input sheet - Employee data'!CI55","v":0},{"$f":"'6 - Input sheet - Employee data'!CJ55","v":0},{"$f":"'6 - Input sheet - Employee data'!CK55","v":0},{"$f":"'6 - Input sheet - Employee data'!CL55","v":0},{"$f":"'6 - Input sheet - Employee data'!CM55","v":0},{"$f":"'6 - Input sheet - Employee data'!CN55","v":0},{"$f":"'6 - Input sheet - Employee data'!CO55","v":0},{"$f":"'6 - Input sheet - Employee data'!CP55","v":0},{"$f":"'6 - Input sheet - Employee data'!CQ55","v":0},{"$f":"'6 - Input sheet - Employee data'!CR55","v":0},{"$f":"'6 - Input sheet - Employee data'!CS55","v":0},{"$f":"'6 - Input sheet - Employee data'!CT55","v":0},{"$f":"'6 - Input sheet - Employee data'!CU55","v":0},{"$f":"'6 - Input sheet - Employee data'!CV55","v":0},{"$f":"'6 - Input sheet - Employee data'!CW55","v":0},{"$f":"'6 - Input sheet - Employee data'!CX55","v":0},{"$f":"'6 - Input sheet - Employee data'!CY55","v":0},{"$f":"'6 - Input sheet - Employee data'!CZ55","v":0},{"$f":"'6 - Input sheet - Employee data'!DA55","v":0},{"$f":"'6 - Input sheet - Employee data'!DB55","v":0},{"$f":"'6 - Input sheet - Employee data'!DC55","v":0},{"$f":"'6 - Input sheet - Employee data'!DD55","v":0},{"$f":"'6 - Input sheet - Employee data'!DE55","v":0},{"$f":"'6 - Input sheet - Employee data'!DF55","v":0},{"$f":"'6 - Input sheet - Employee data'!DG55","v":0},{"$f":"'6 - Input sheet - Employee data'!DH55","v":0},{"$f":"'6 - Input sheet - Employee data'!DI55","v":0},{"$f":"'6 - Input sheet - Employee data'!DJ55","v":0},{"$f":"'6 - Input sheet - Employee data'!DK55","v":0},{"$f":"'6 - Input sheet - Employee data'!DL55","v":0},{"$f":"'6 - Input sheet - Employee data'!DM55","v":0},{"$f":"'6 - Input sheet - Employee data'!DN55","v":0},{"$f":"'6 - Input sheet - Employee data'!DO55","v":0},{"$f":"'6 - Input sheet - Employee data'!DP55","v":0},{"$f":"'6 - Input sheet - Employee data'!DQ55","v":0},{"$f":"'6 - Input sheet - Employee data'!DR55","v":0},{"$f":"'6 - Input sheet - Employee data'!DS55","v":0},{"$f":"'6 - Input sheet - Employee data'!DT55","v":0},{"$f":"'6 - Input sheet - Employee data'!DU55","v":0},{"$f":"'6 - Input sheet - Employee data'!DV55","v":0},{"$f":"'6 - Input sheet - Employee data'!DW55","v":0},{"$f":"'6 - Input sheet - Employee data'!DX55","v":0},{"$f":"'6 - Input sheet - Employee data'!DY55","v":0},{"$f":"'6 - Input sheet - Employee data'!DZ55","v":0},{"$f":"'6 - Input sheet - Employee data'!EA55","v":0},{"$f":"'6 - Input sheet - Employee data'!EB55","v":0},{"$f":"'6 - Input sheet - Employee data'!EC55","v":0},{"$f":"'6 - Input sheet - Employee data'!ED55","v":0},{"$f":"'6 - Input sheet - Employee data'!EE55","v":0},{"$f":"'6 - Input sheet - Employee data'!EF55","v":0},{"$f":"'6 - Input sheet - Employee data'!EG55","v":0},{"$f":"'6 - Input sheet - Employee data'!EH55","v":0},{"$f":"'6 - Input sheet - Employee data'!EI55","v":0},{"$f":"'6 - Input sheet - Employee data'!EJ55","v":0},{"$f":"'6 - Input sheet - Employee data'!EK55","v":0},{"$f":"'6 - Input sheet - Employee data'!EL55","v":0},{"$f":"'6 - Input sheet - Employee data'!EM55","v":0},{"$f":"'6 - Input sheet - Employee data'!EN55","v":0},{"$f":"'6 - Input sheet - Employee data'!EO55","v":0},{"$f":"'6 - Input sheet - Employee data'!EP55","v":0},{"$f":"'6 - Input sheet - Employee data'!EQ55","v":0},{"$f":"'6 - Input sheet - Employee data'!ER55","v":0},{"$f":"'6 - Input sheet - Employee data'!ES55","v":0},{"$f":"'6 - Input sheet - Employee data'!ET55","v":0},{"$f":"'6 - Input sheet - Employee data'!EU55","v":0},{"$f":"'6 - Input sheet - Employee data'!EV55","v":0},{"$f":"'6 - Input sheet - Employee data'!EW55","v":0},{"$f":"'6 - Input sheet - Employee data'!EX55","v":0},{"$f":"'6 - Input sheet - Employee data'!EY55","v":0},{"$f":"'6 - Input sheet - Employee data'!EZ55","v":0},{"$f":"'6 - Input sheet - Employee data'!FA55","v":0},{"$f":"'6 - Input sheet - Employee data'!FB55","v":0},{"$f":"'6 - Input sheet - Employee data'!FC55","v":0},{"$f":"'6 - Input sheet - Employee data'!FD55","v":0},{"$f":"'6 - Input sheet - Employee data'!FE55","v":0},{"$f":"'6 - Input sheet - Employee data'!FF55","v":0},{"$f":"'6 - Input sheet - Employee data'!FG55","v":0},{"$f":"'6 - Input sheet - Employee data'!FH55","v":0},{"$f":"'6 - Input sheet - Employee data'!FI55","v":0},{"$f":"'6 - Input sheet - Employee data'!FJ55","v":0},{"$f":"'6 - Input sheet - Employee data'!FK55","v":0},{"$f":"'6 - Input sheet - Employee data'!FL55","v":0},{"$f":"'6 - Input sheet - Employee data'!FM55","v":0},{"$f":"'6 - Input sheet - Employee data'!FN55","v":0},{"$f":"'6 - Input sheet - Employee data'!FO55","v":0},{"$f":"'6 - Input sheet - Employee data'!FP55","v":0},{"$f":"'6 - Input sheet - Employee data'!FQ55","v":0},{"$f":"'6 - Input sheet - Employee data'!FR55","v":0},{"$f":"'6 - Input sheet - Employee data'!FS55","v":0},{"$f":"'6 - Input sheet - Employee data'!FT55","v":0},{"$f":"'6 - Input sheet - Employee data'!FU55","v":0},{"$f":"'6 - Input sheet - Employee data'!FV55","v":0},{"$f":"'6 - Input sheet - Employee data'!FW55","v":0},{"$f":"'6 - Input sheet - Employee data'!FX55","v":0},{"$f":"'6 - Input sheet - Employee data'!FY55","v":0},{"$f":"'6 - Input sheet - Employee data'!FZ55","v":0},{"$f":"'6 - Input sheet - Employee data'!GA55","v":0},{"$f":"'6 - Input sheet - Employee data'!GB55","v":0},{"$f":"'6 - Input sheet - Employee data'!GC55","v":0},{"$f":"'6 - Input sheet - Employee data'!GD55","v":0},{"$f":"'6 - Input sheet - Employee data'!GE55","v":0},{"$f":"'6 - Input sheet - Employee data'!GF55","v":0},{"$f":"'6 - Input sheet - Employee data'!GG55","v":0},{"$f":"'6 - Input sheet - Employee data'!GH55","v":0},{"$f":"'6 - Input sheet - Employee data'!GI55","v":0},{"$f":"'6 - Input sheet - Employee data'!GJ55","v":0},{"$f":"'6 - Input sheet - Employee data'!GK55","v":0},{"$f":"'6 - Input sheet - Employee data'!GL55","v":0},{"$f":"'6 - Input sheet - Employee data'!GM55","v":0},{"$f":"'6 - Input sheet - Employee data'!GN55","v":0},{"$f":"'6 - Input sheet - Employee data'!GO55","v":0},{"$f":"'6 - Input sheet - Employee data'!GP55","v":0},{"$f":"'6 - Input sheet - Employee data'!GQ55","v":0},{"$f":"'6 - Input sheet - Employee data'!GR55","v":0},{"$f":"'6 - Input sheet - Employee data'!GS55","v":0},{"$f":"'6 - Input sheet - Employee data'!GT55","v":0},{"$f":"'6 - Input sheet - Employee data'!GU55","v":0},{"$f":"'6 - Input sheet - Employee data'!GV55","v":0},{"$f":"'6 - Input sheet - Employee data'!GW55","v":0},{"$f":"'6 - Input sheet - Employee data'!GX55","v":0},{"$f":"'6 - Input sheet - Employee data'!GY55","v":0},{"$f":"'6 - Input sheet - Employee data'!GZ55","v":0},{"$f":"'6 - Input sheet - Employee data'!HA55","v":0},{"$f":"'6 - Input sheet - Employee data'!HB55","v":0},{"$f":"'6 - Input sheet - Employee data'!HC55","v":0},{"$f":"'6 - Input sheet - Employee data'!HD55","v":0},{"$f":"'6 - Input sheet - Employee data'!HE55","v":0},{"$f":"'6 - Input sheet - Employee data'!HF55","v":0},{"$f":"'6 - Input sheet - Employee data'!HG55","v":0},{"$f":"'6 - Input sheet - Employee data'!HH55","v":0},{"$f":"'6 - Input sheet - Employee data'!HI55","v":0},{"$f":"'6 - Input sheet - Employee data'!HJ55","v":0},{"$f":"'6 - Input sheet - Employee data'!HK55","v":0},{"$f":"'6 - Input sheet - Employee data'!HL55","v":0},{"$f":"'6 - Input sheet - Employee data'!HM55","v":0},{"$f":"'6 - Input sheet - Employee data'!HN55","v":0},{"$f":"'6 - Input sheet - Employee data'!HO55","v":0},{"$f":"'6 - Input sheet - Employee data'!HP55","v":0},{"$f":"'6 - Input sheet - Employee data'!HQ55","v":0},{"$f":"'6 - Input sheet - Employee data'!HR55","v":0},{"$f":"'6 - Input sheet - Employee data'!HS55","v":0},{"$f":"'6 - Input sheet - Employee data'!HT55","v":0},{"$f":"'6 - Input sheet - Employee data'!HU55","v":0},{"$f":"'6 - Input sheet - Employee data'!HV55","v":0},{"$f":"'6 - Input sheet - Employee data'!HW55","v":0},{"$f":"'6 - Input sheet - Employee data'!HX55","v":0},{"$f":"'6 - Input sheet - Employee data'!HY55","v":0},{"$f":"'6 - Input sheet - Employee data'!HZ55","v":0},{"$f":"'6 - Input sheet - Employee data'!IA55","v":0},{"$f":"'6 - Input sheet - Employee data'!IB55","v":0},{"$f":"'6 - Input sheet - Employee data'!IC55","v":0},{"$f":"'6 - Input sheet - Employee data'!ID55","v":0},{"$f":"'6 - Input sheet - Employee data'!IE55","v":0},{"$f":"'6 - Input sheet - Employee data'!IF55","v":0},{"$f":"'6 - Input sheet - Employee data'!IG55","v":0},{"$f":"'6 - Input sheet - Employee data'!IH55","v":0},{"$f":"'6 - Input sheet - Employee data'!II55","v":0},{"$f":"'6 - Input sheet - Employee data'!IJ55","v":0},{"$f":"'6 - Input sheet - Employee data'!IK55","v":0},{"$f":"'6 - Input sheet - Employee data'!IL55","v":0},{"$f":"'6 - Input sheet - Employee data'!IM55","v":0},{"$f":"'6 - Input sheet - Employee data'!IN55","v":0},{"$f":"'6 - Input sheet - Employee data'!IO55","v":0},{"$f":"'6 - Input sheet - Employee data'!IP55","v":0},{"$f":"'6 - Input sheet - Employee data'!IQ55","v":0},{"$f":"'6 - Input sheet - Employee data'!IR55","v":0},{"$f":"'6 - Input sheet - Employee data'!IS55","v":0},{"$f":"'6 - Input sheet - Employee data'!IT55","v":0},{"$f":"'6 - Input sheet - Employee data'!IU55","v":0},{"$f":"'6 - Input sheet - Employee data'!IV55","v":0},{"$f":"'6 - Input sheet - Employee data'!IW55","v":0},{"$f":"'6 - Input sheet - Employee data'!IX55","v":0},{"$f":"'6 - Input sheet - Employee data'!IY55","v":0},{"$f":"'6 - Input sheet - Employee data'!IZ55","v":0},{"$f":"'6 - Input sheet - Employee data'!JA55","v":0},{"$f":"'6 - Input sheet - Employee data'!JB55","v":0},{"$f":"'6 - Input sheet - Employee data'!JC55","v":0},{"$f":"'6 - Input sheet - Employee data'!JD55","v":0},{"$f":"'6 - Input sheet - Employee data'!JE55","v":0},{"$f":"'6 - Input sheet - Employee data'!JF55","v":0},{"$f":"'6 - Input sheet - Employee data'!JG55","v":0},{"$f":"'6 - Input sheet - Employee data'!JH55","v":0},{"$f":"'6 - Input sheet - Employee data'!JI55","v":0},{"$f":"'6 - Input sheet - Employee data'!JJ55","v":0},{"$f":"'6 - Input sheet - Employee data'!JK55","v":0},{"$f":"'6 - Input sheet - Employee data'!JL55","v":0},{"$f":"'6 - Input sheet - Employee data'!JM55","v":0},{"$f":"'6 - Input sheet - Employee data'!JN55","v":0},{"$f":"'6 - Input sheet - Employee data'!JO55","v":0},{"$f":"'6 - Input sheet - Employee data'!JP55","v":0},{"$f":"'6 - Input sheet - Employee data'!JQ55","v":0},{"$f":"'6 - Input sheet - Employee data'!JR55","v":0},{"$f":"'6 - Input sheet - Employee data'!JS55","v":0},{"$f":"'6 - Input sheet - Employee data'!JT55","v":0},{"$f":"'6 - Input sheet - Employee data'!JU55","v":0},{"$f":"'6 - Input sheet - Employee data'!JV55","v":0},{"$f":"'6 - Input sheet - Employee data'!JW55","v":0},{"$f":"'6 - Input sheet - Employee data'!JX55","v":0},{"$f":"'6 - Input sheet - Employee data'!JY55","v":0},{"$f":"'6 - Input sheet - Employee data'!JZ55","v":0},{"$f":"'6 - Input sheet - Employee data'!KA55","v":0},{"$f":"'6 - Input sheet - Employee data'!KB55","v":0},{"$f":"'6 - Input sheet - Employee data'!KC55","v":0},{"$f":"'6 - Input sheet - Employee data'!KD55","v":0},{"$f":"'6 - Input sheet - Employee data'!KE55","v":0},{"$f":"'6 - Input sheet - Employee data'!KF55","v":0},{"$f":"'6 - Input sheet - Employee data'!KG55","v":0},{"$f":"'6 - Input sheet - Employee data'!KH55","v":0},{"$f":"'6 - Input sheet - Employee data'!KI55","v":0},{"$f":"'6 - Input sheet - Employee data'!KJ55","v":0},{"$f":"'6 - Input sheet - Employee data'!KK55","v":0},{"$f":"'6 - Input sheet - Employee data'!KL55","v":0},{"$f":"'6 - Input sheet - Employee data'!KM55","v":0},{"$f":"'6 - Input sheet - Employee data'!KN55","v":0},{"$f":"'6 - Input sheet - Employee data'!KO55","v":0},{"$f":"'6 - Input sheet - Employee data'!KP55","v":0},{"$f":"'6 - Input sheet - Employee data'!KQ55","v":0},{"$f":"'6 - Input sheet - Employee data'!KR55","v":0},{"$f":"'6 - Input sheet - Employee data'!KS55","v":0},{"$f":"'6 - Input sheet - Employee data'!KT55","v":0},{"$f":"'6 - Input sheet - Employee data'!KU55","v":0},{"$f":"'6 - Input sheet - Employee data'!KV55","v":0},{"$f":"'6 - Input sheet - Employee data'!KW55","v":0},{"$f":"'6 - Input sheet - Employee data'!KX55","v":0},{"$f":"'6 - Input sheet - Employee data'!KY55","v":0},{"$f":"'6 - Input sheet - Employee data'!KZ55","v":0},{"$f":"'6 - Input sheet - Employee data'!LA55","v":0},{"$f":"'6 - Input sheet - Employee data'!LB55","v":0},{"$f":"'6 - Input sheet - Employee data'!LC55","v":0},{"$f":"'6 - Input sheet - Employee data'!LD55","v":0},{"$f":"'6 - Input sheet - Employee data'!LE55","v":0},{"$f":"'6 - Input sheet - Employee data'!LF55","v":0},{"$f":"'6 - Input sheet - Employee data'!LG55","v":0},{"$f":"'6 - Input sheet - Employee data'!LH55","v":0},{"$f":"'6 - Input sheet - Employee data'!LI55","v":0},{"$f":"'6 - Input sheet - Employee data'!LJ55","v":0},{"$f":"'6 - Input sheet - Employee data'!LK55","v":0},{"$f":"'6 - Input sheet - Employee data'!LL55","v":0},{"$f":"'6 - Input sheet - Employee data'!LM55","v":0},{"$f":"'6 - Input sheet - Employee data'!LN55","v":0},{"$f":"'6 - Input sheet - Employee data'!LO55","v":0},{"$f":"'6 - Input sheet - Employee data'!LP55","v":0},{"$f":"'6 - Input sheet - Employee data'!LQ55","v":0},{"$f":"'6 - Input sheet - Employee data'!LR55","v":0},{"$f":"'6 - Input sheet - Employee data'!LS55","v":0},{"$f":"'6 - Input sheet - Employee data'!LT55","v":0},{"$f":"'6 - Input sheet - Employee data'!LU55","v":0},{"$f":"'6 - Input sheet - Employee data'!LV55","v":0},{"$f":"'6 - Input sheet - Employee data'!LW55","v":0},{"$f":"'6 - Input sheet - Employee data'!LX55","v":0},{"$f":"'6 - Input sheet - Employee data'!LY55","v":0},{"$f":"'6 - Input sheet - Employee data'!LZ55","v":0},{"$f":"'6 - Input sheet - Employee data'!MA55","v":0},{"$f":"'6 - Input sheet - Employee data'!MB55","v":0},{"$f":"'6 - Input sheet - Employee data'!MC55","v":0},{"$f":"'6 - Input sheet - Employee data'!MD55","v":0},{"$f":"'6 - Input sheet - Employee data'!ME55","v":0},{"$f":"'6 - Input sheet - Employee data'!MF55","v":0},{"$f":"'6 - Input sheet - Employee data'!MG55","v":0},{"$f":"'6 - Input sheet - Employee data'!MH55","v":0},{"$f":"'6 - Input sheet - Employee data'!MI55","v":0},{"$f":"'6 - Input sheet - Employee data'!MJ55","v":0},{"$f":"'6 - Input sheet - Employee data'!MK55","v":0},{"$f":"'6 - Input sheet - Employee data'!ML55","v":0},{"$f":"'6 - Input sheet - Employee data'!MM55","v":0},{"$f":"'6 - Input sheet - Employee data'!MN55","v":0},{"$f":"'6 - Input sheet - Employee data'!MO55","v":0},{"$f":"'6 - Input sheet - Employee data'!MP55","v":0},{"$f":"'6 - Input sheet - Employee data'!MQ55","v":0},{"$f":"'6 - Input sheet - Employee data'!MR55","v":0},{"$f":"'6 - Input sheet - Employee data'!MS55","v":0},{"$f":"'6 - Input sheet - Employee data'!MT55","v":0},{"$f":"'6 - Input sheet - Employee data'!MU55","v":0},{"$f":"'6 - Input sheet - Employee data'!MV55","v":0},{"$f":"'6 - Input sheet - Employee data'!MW55","v":0},{"$f":"'6 - Input sheet - Employee data'!MX55","v":0},{"$f":"'6 - Input sheet - Employee data'!MY55","v":0},{"$f":"'6 - Input sheet - Employee data'!MZ55","v":0},{"$f":"'6 - Input sheet - Employee data'!NA55","v":0},{"$f":"'6 - Input sheet - Employee data'!NB55","v":0},{"$f":"'6 - Input sheet - Employee data'!NC55","v":0},{"$f":"'6 - Input sheet - Employee data'!ND55","v":0},{"$f":"'6 - Input sheet - Employee data'!NE55","v":0},{"$f":"'6 - Input sheet - Employee data'!NF55","v":0},{"$f":"'6 - Input sheet - Employee data'!NG55","v":0},{"$f":"'6 - Input sheet - Employee data'!NH55","v":0},{"$f":"'6 - Input sheet - Employee data'!NI55","v":0},{"$f":"'6 - Input sheet - Employee data'!NJ55","v":0},{"$f":"'6 - Input sheet - Employee data'!NK55","v":0},{"$f":"'6 - Input sheet - Employee data'!NL55","v":0},{"$f":"'6 - Input sheet - Employee data'!NM55","v":0},{"$f":"'6 - Input sheet - Employee data'!NN55","v":0},{"$f":"'6 - Input sheet - Employee data'!NO55","v":0},{"$f":"'6 - Input sheet - Employee data'!NP55","v":0},{"$f":"'6 - Input sheet - Employee data'!NQ55","v":0},{"$f":"'6 - Input sheet - Employee data'!NR55","v":0},{"$f":"'6 - Input sheet - Employee data'!NS55","v":0},{"$f":"'6 - Input sheet - Employee data'!NT55","v":0},{"$f":"'6 - Input sheet - Employee data'!NU55","v":0},{"$f":"'6 - Input sheet - Employee data'!NV55","v":0},{"$f":"'6 - Input sheet - Employee data'!NW55","v":0},{"$f":"'6 - Input sheet - Employee data'!NX55","v":0},{"$f":"'6 - Input sheet - Employee data'!NY55","v":0},{"$f":"'6 - Input sheet - Employee data'!NZ55","v":0},{"$f":"'6 - Input sheet - Employee data'!OA55","v":0},{"$f":"'6 - Input sheet - Employee data'!OB55","v":0},{"$f":"'6 - Input sheet - Employee data'!OC55","v":0},{"$f":"'6 - Input sheet - Employee data'!OD55","v":0},{"$f":"'6 - Input sheet - Employee data'!OE55","v":0},{"$f":"'6 - Input sheet - Employee data'!OF55","v":0},{"$f":"'6 - Input sheet - Employee data'!OG55","v":0},{"$f":"'6 - Input sheet - Employee data'!OH55","v":0},{"$f":"'6 - Input sheet - Employee data'!OI55","v":0},{"$f":"'6 - Input sheet - Employee data'!OJ55","v":0},{"$f":"'6 - Input sheet - Employee data'!OK55","v":0},{"$f":"'6 - Input sheet - Employee data'!OL55","v":0},{"$f":"'6 - Input sheet - Employee data'!OM55","v":0},{"$f":"'6 - Input sheet - Employee data'!ON55","v":0},{"$f":"'6 - Input sheet - Employee data'!OO55","v":0},{"$f":"'6 - Input sheet - Employee data'!OP55","v":0},{"$f":"'6 - Input sheet - Employee data'!OQ55","v":0},{"$f":"'6 - Input sheet - Employee data'!OR55","v":0},{"$f":"'6 - Input sheet - Employee data'!OS55","v":0},{"$f":"'6 - Input sheet - Employee data'!OT55","v":0},{"$f":"'6 - Input sheet - Employee data'!OU55","v":0},{"$f":"'6 - Input sheet - Employee data'!OV55","v":0},{"$f":"'6 - Input sheet - Employee data'!OW55","v":0},{"$f":"'6 - Input sheet - Employee data'!OX55","v":0},{"$f":"'6 - Input sheet - Employee data'!OY55","v":0},{"$f":"'6 - Input sheet - Employee data'!OZ55","v":0},{"$f":"'6 - Input sheet - Employee data'!PA55","v":0},{"$f":"'6 - Input sheet - Employee data'!PB55","v":0},{"$f":"'6 - Input sheet - Employee data'!PC55","v":0},{"$f":"'6 - Input sheet - Employee data'!PD55","v":0},{"$f":"'6 - Input sheet - Employee data'!PE55","v":0},{"$f":"'6 - Input sheet - Employee data'!PF55","v":0},{"$f":"'6 - Input sheet - Employee data'!PG55","v":0},{"$f":"'6 - Input sheet - Employee data'!PH55","v":0},{"$f":"'6 - Input sheet - Employee data'!PI55","v":0},{"$f":"'6 - Input sheet - Employee data'!PJ55","v":0},{"$f":"'6 - Input sheet - Employee data'!PK55","v":0},{"$f":"'6 - Input sheet - Employee data'!PL55","v":0},{"$f":"'6 - Input sheet - Employee data'!PM55","v":0},{"$f":"'6 - Input sheet - Employee data'!PN55","v":0},{"$f":"'6 - Input sheet - Employee data'!PO55","v":0},{"$f":"'6 - Input sheet - Employee data'!PP55","v":0},{"$f":"'6 - Input sheet - Employee data'!PQ55","v":0},{"$f":"'6 - Input sheet - Employee data'!PR55","v":0},{"$f":"'6 - Input sheet - Employee data'!PS55","v":0},{"$f":"'6 - Input sheet - Employee data'!PT55","v":0},{"$f":"'6 - Input sheet - Employee data'!PU55","v":0},{"$f":"'6 - Input sheet - Employee data'!PV55","v":0},{"$f":"'6 - Input sheet - Employee data'!PW55","v":0},{"$f":"'6 - Input sheet - Employee data'!PX55","v":0},{"$f":"'6 - Input sheet - Employee data'!PY55","v":0},{"$f":"'6 - Input sheet - Employee data'!PZ55","v":0},{"$f":"'6 - Input sheet - Employee data'!QA55","v":0},{"$f":"'6 - Input sheet - Employee data'!QB55","v":0},{"$f":"'6 - Input sheet - Employee data'!QC55","v":0},{"$f":"'6 - Input sheet - Employee data'!QD55","v":0},{"$f":"'6 - Input sheet - Employee data'!QE55","v":0},{"$f":"'6 - Input sheet - Employee data'!QF55","v":0},{"$f":"'6 - Input sheet - Employee data'!QG55","v":0},{"$f":"'6 - Input sheet - Employee data'!QH55","v":0},{"$f":"'6 - Input sheet - Employee data'!QI55","v":0},{"$f":"'6 - Input sheet - Employee data'!QJ55","v":0},{"$f":"'6 - Input sheet - Employee data'!QK55","v":0},{"$f":"'6 - Input sheet - Employee data'!QL55","v":0},{"$f":"'6 - Input sheet - Employee data'!QM55","v":0},{"$f":"'6 - Input sheet - Employee data'!QN55","v":0},{"$f":"'6 - Input sheet - Employee data'!QO55","v":0},{"$f":"'6 - Input sheet - Employee data'!QP55","v":0},{"$f":"'6 - Input sheet - Employee data'!QQ55","v":0},{"$f":"'6 - Input sheet - Employee data'!QR55","v":0},{"$f":"'6 - Input sheet - Employee data'!QS55","v":0},{"$f":"'6 - Input sheet - Employee data'!QT55","v":0},{"$f":"'6 - Input sheet - Employee data'!QU55","v":0},{"$f":"'6 - Input sheet - Employee data'!QV55","v":0},{"$f":"'6 - Input sheet - Employee data'!QW55","v":0},{"$f":"'6 - Input sheet - Employee data'!QX55","v":0},{"$f":"'6 - Input sheet - Employee data'!QY55","v":0},{"$f":"'6 - Input sheet - Employee data'!QZ55","v":0},{"$f":"'6 - Input sheet - Employee data'!RA55","v":0},{"$f":"'6 - Input sheet - Employee data'!RB55","v":0},{"$f":"'6 - Input sheet - Employee data'!RC55","v":0},{"$f":"'6 - Input sheet - Employee data'!RD55","v":0},{"$f":"'6 - Input sheet - Employee data'!RE55","v":0},{"$f":"'6 - Input sheet - Employee data'!RF55","v":0},{"$f":"'6 - Input sheet - Employee data'!RG55","v":0},{"$f":"'6 - Input sheet - Employee data'!RH55","v":0},{"$f":"'6 - Input sheet - Employee data'!RI55","v":0},{"$f":"'6 - Input sheet - Employee data'!RJ55","v":0},{"$f":"'6 - Input sheet - Employee data'!RK55","v":0},{"$f":"'6 - Input sheet - Employee data'!RL55","v":0},{"$f":"'6 - Input sheet - Employee data'!RM55","v":0},{"$f":"'6 - Input sheet - Employee data'!RN55","v":0},{"$f":"'6 - Input sheet - Employee data'!RO55","v":0},{"$f":"'6 - Input sheet - Employee data'!RP55","v":0},{"$f":"'6 - Input sheet - Employee data'!RQ55","v":0},{"$f":"'6 - Input sheet - Employee data'!RR55","v":0},{"$f":"'6 - Input sheet - Employee data'!RS55","v":0},{"$f":"'6 - Input sheet - Employee data'!RT55","v":0},{"$f":"'6 - Input sheet - Employee data'!RU55","v":0},{"$f":"'6 - Input sheet - Employee data'!RV55","v":0},{"$f":"'6 - Input sheet - Employee data'!RW55","v":0},{"$f":"'6 - Input sheet - Employee data'!RX55","v":0},{"$f":"'6 - Input sheet - Employee data'!RY55","v":0},{"$f":"'6 - Input sheet - Employee data'!RZ55","v":0},{"$f":"'6 - Input sheet - Employee data'!SA55","v":0},{"$f":"'6 - Input sheet - Employee data'!SB55","v":0},{"$f":"'6 - Input sheet - Employee data'!SC55","v":0},{"$f":"'6 - Input sheet - Employee data'!SD55","v":0},{"$f":"'6 - Input sheet - Employee data'!SE55","v":0},{"$f":"'6 - Input sheet - Employee data'!SF55","v":0},{"$f":"'6 - Input sheet - Employee data'!SG55","v":0},{"$f":"'6 - Input sheet - Employee data'!SH55","v":0}]
[{"$f":"'6 - Input sheet - Employee data'!A56","v":"  Period 3 (enter date)"},0,{"$f":"'6 - Input sheet - Employee data'!C56","v":0},{"$f":"'6 - Input sheet - Employee data'!D56","v":0},{"$f":"'6 - Input sheet - Employee data'!E56","v":0},{"$f":"'6 - Input sheet - Employee data'!F56","v":0},{"$f":"'6 - Input sheet - Employee data'!G56","v":0},{"$f":"'6 - Input sheet - Employee data'!H56","v":0},{"$f":"'6 - Input sheet - Employee data'!I56","v":0},{"$f":"'6 - Input sheet - Employee data'!J56","v":0},{"$f":"'6 - Input sheet - Employee data'!K56","v":0},{"$f":"'6 - Input sheet - Employee data'!L56","v":0},{"$f":"'6 - Input sheet - Employee data'!M56","v":0},{"$f":"'6 - Input sheet - Employee data'!N56","v":0},{"$f":"'6 - Input sheet - Employee data'!O56","v":0},{"$f":"'6 - Input sheet - Employee data'!P56","v":0},{"$f":"'6 - Input sheet - Employee data'!Q56","v":0},{"$f":"'6 - Input sheet - Employee data'!R56","v":0},{"$f":"'6 - Input sheet - Employee data'!S56","v":0},{"$f":"'6 - Input sheet - Employee data'!T56","v":0},{"$f":"'6 - Input sheet - Employee data'!U56","v":0},{"$f":"'6 - Input sheet - Employee data'!V56","v":0},{"$f":"'6 - Input sheet - Employee data'!W56","v":0},{"$f":"'6 - Input sheet - Employee data'!X56","v":0},{"$f":"'6 - Input sheet - Employee data'!Y56","v":0},{"$f":"'6 - Input sheet - Employee data'!Z56","v":0},{"$f":"'6 - Input sheet - Employee data'!AA56","v":0},{"$f":"'6 - Input sheet - Employee data'!AB56","v":0},{"$f":"'6 - Input sheet - Employee data'!AC56","v":0},{"$f":"'6 - Input sheet - Employee data'!AD56","v":0},{"$f":"'6 - Input sheet - Employee data'!AE56","v":0},{"$f":"'6 - Input sheet - Employee data'!AF56","v":0},{"$f":"'6 - Input sheet - Employee data'!AG56","v":0},{"$f":"'6 - Input sheet - Employee data'!AH56","v":0},{"$f":"'6 - Input sheet - Employee data'!AI56","v":0},{"$f":"'6 - Input sheet - Employee data'!AJ56","v":0},{"$f":"'6 - Input sheet - Employee data'!AK56","v":0},{"$f":"'6 - Input sheet - Employee data'!AL56","v":0},{"$f":"'6 - Input sheet - Employee data'!AM56","v":0},{"$f":"'6 - Input sheet - Employee data'!AN56","v":0},{"$f":"'6 - Input sheet - Employee data'!AO56","v":0},{"$f":"'6 - Input sheet - Employee data'!AP56","v":0},{"$f":"'6 - Input sheet - Employee data'!AQ56","v":0},{"$f":"'6 - Input sheet - Employee data'!AR56","v":0},{"$f":"'6 - Input sheet - Employee data'!AS56","v":0},{"$f":"'6 - Input sheet - Employee data'!AT56","v":0},{"$f":"'6 - Input sheet - Employee data'!AU56","v":0},{"$f":"'6 - Input sheet - Employee data'!AV56","v":0},{"$f":"'6 - Input sheet - Employee data'!AW56","v":0},{"$f":"'6 - Input sheet - Employee data'!AX56","v":0},{"$f":"'6 - Input sheet - Employee data'!AY56","v":0},{"$f":"'6 - Input sheet - Employee data'!AZ56","v":0},{"$f":"'6 - Input sheet - Employee data'!BA56","v":0},{"$f":"'6 - Input sheet - Employee data'!BB56","v":0},{"$f":"'6 - Input sheet - Employee data'!BC56","v":0},{"$f":"'6 - Input sheet - Employee data'!BD56","v":0},{"$f":"'6 - Input sheet - Employee data'!BE56","v":0},{"$f":"'6 - Input sheet - Employee data'!BF56","v":0},{"$f":"'6 - Input sheet - Employee data'!BG56","v":0},{"$f":"'6 - Input sheet - Employee data'!BH56","v":0},{"$f":"'6 - Input sheet - Employee data'!BI56","v":0},{"$f":"'6 - Input sheet - Employee data'!BJ56","v":0},{"$f":"'6 - Input sheet - Employee data'!BK56","v":0},{"$f":"'6 - Input sheet - Employee data'!BL56","v":0},{"$f":"'6 - Input sheet - Employee data'!BM56","v":0},{"$f":"'6 - Input sheet - Employee data'!BN56","v":0},{"$f":"'6 - Input sheet - Employee data'!BO56","v":0},{"$f":"'6 - Input sheet - Employee data'!BP56","v":0},{"$f":"'6 - Input sheet - Employee data'!BQ56","v":0},{"$f":"'6 - Input sheet - Employee data'!BR56","v":0},{"$f":"'6 - Input sheet - Employee data'!BS56","v":0},{"$f":"'6 - Input sheet - Employee data'!BT56","v":0},{"$f":"'6 - Input sheet - Employee data'!BU56","v":0},{"$f":"'6 - Input sheet - Employee data'!BV56","v":0},{"$f":"'6 - Input sheet - Employee data'!BW56","v":0},{"$f":"'6 - Input sheet - Employee data'!BX56","v":0},{"$f":"'6 - Input sheet - Employee data'!BY56","v":0},{"$f":"'6 - Input sheet - Employee data'!BZ56","v":0},{"$f":"'6 - Input sheet - Employee data'!CA56","v":0},{"$f":"'6 - Input sheet - Employee data'!CB56","v":0},{"$f":"'6 - Input sheet - Employee data'!CC56","v":0},{"$f":"'6 - Input sheet - Employee data'!CD56","v":0},{"$f":"'6 - Input sheet - Employee data'!CE56","v":0},{"$f":"'6 - Input sheet - Employee data'!CF56","v":0},{"$f":"'6 - Input sheet - Employee data'!CG56","v":0},{"$f":"'6 - Input sheet - Employee data'!CH56","v":0},{"$f":"'6 - Input sheet - Employee data'!CI56","v":0},{"$f":"'6 - Input sheet - Employee data'!CJ56","v":0},{"$f":"'6 - Input sheet - Employee data'!CK56","v":0},{"$f":"'6 - Input sheet - Employee data'!CL56","v":0},{"$f":"'6 - Input sheet - Employee data'!CM56","v":0},{"$f":"'6 - Input sheet - Employee data'!CN56","v":0},{"$f":"'6 - Input sheet - Employee data'!CO56","v":0},{"$f":"'6 - Input sheet - Employee data'!CP56","v":0},{"$f":"'6 - Input sheet - Employee data'!CQ56","v":0},{"$f":"'6 - Input sheet - Employee data'!CR56","v":0},{"$f":"'6 - Input sheet - Employee data'!CS56","v":0},{"$f":"'6 - Input sheet - Employee data'!CT56","v":0},{"$f":"'6 - Input sheet - Employee data'!CU56","v":0},{"$f":"'6 - Input sheet - Employee data'!CV56","v":0},{"$f":"'6 - Input sheet - Employee data'!CW56","v":0},{"$f":"'6 - Input sheet - Employee data'!CX56","v":0},{"$f":"'6 - Input sheet - Employee data'!CY56","v":0},{"$f":"'6 - Input sheet - Employee data'!CZ56","v":0},{"$f":"'6 - Input sheet - Employee data'!DA56","v":0},{"$f":"'6 - Input sheet - Employee data'!DB56","v":0},{"$f":"'6 - Input sheet - Employee data'!DC56","v":0},{"$f":"'6 - Input sheet - Employee data'!DD56","v":0},{"$f":"'6 - Input sheet - Employee data'!DE56","v":0},{"$f":"'6 - Input sheet - Employee data'!DF56","v":0},{"$f":"'6 - Input sheet - Employee data'!DG56","v":0},{"$f":"'6 - Input sheet - Employee data'!DH56","v":0},{"$f":"'6 - Input sheet - Employee data'!DI56","v":0},{"$f":"'6 - Input sheet - Employee data'!DJ56","v":0},{"$f":"'6 - Input sheet - Employee data'!DK56","v":0},{"$f":"'6 - Input sheet - Employee data'!DL56","v":0},{"$f":"'6 - Input sheet - Employee data'!DM56","v":0},{"$f":"'6 - Input sheet - Employee data'!DN56","v":0},{"$f":"'6 - Input sheet - Employee data'!DO56","v":0},{"$f":"'6 - Input sheet - Employee data'!DP56","v":0},{"$f":"'6 - Input sheet - Employee data'!DQ56","v":0},{"$f":"'6 - Input sheet - Employee data'!DR56","v":0},{"$f":"'6 - Input sheet - Employee data'!DS56","v":0},{"$f":"'6 - Input sheet - Employee data'!DT56","v":0},{"$f":"'6 - Input sheet - Employee data'!DU56","v":0},{"$f":"'6 - Input sheet - Employee data'!DV56","v":0},{"$f":"'6 - Input sheet - Employee data'!DW56","v":0},{"$f":"'6 - Input sheet - Employee data'!DX56","v":0},{"$f":"'6 - Input sheet - Employee data'!DY56","v":0},{"$f":"'6 - Input sheet - Employee data'!DZ56","v":0},{"$f":"'6 - Input sheet - Employee data'!EA56","v":0},{"$f":"'6 - Input sheet - Employee data'!EB56","v":0},{"$f":"'6 - Input sheet - Employee data'!EC56","v":0},{"$f":"'6 - Input sheet - Employee data'!ED56","v":0},{"$f":"'6 - Input sheet - Employee data'!EE56","v":0},{"$f":"'6 - Input sheet - Employee data'!EF56","v":0},{"$f":"'6 - Input sheet - Employee data'!EG56","v":0},{"$f":"'6 - Input sheet - Employee data'!EH56","v":0},{"$f":"'6 - Input sheet - Employee data'!EI56","v":0},{"$f":"'6 - Input sheet - Employee data'!EJ56","v":0},{"$f":"'6 - Input sheet - Employee data'!EK56","v":0},{"$f":"'6 - Input sheet - Employee data'!EL56","v":0},{"$f":"'6 - Input sheet - Employee data'!EM56","v":0},{"$f":"'6 - Input sheet - Employee data'!EN56","v":0},{"$f":"'6 - Input sheet - Employee data'!EO56","v":0},{"$f":"'6 - Input sheet - Employee data'!EP56","v":0},{"$f":"'6 - Input sheet - Employee data'!EQ56","v":0},{"$f":"'6 - Input sheet - Employee data'!ER56","v":0},{"$f":"'6 - Input sheet - Employee data'!ES56","v":0},{"$f":"'6 - Input sheet - Employee data'!ET56","v":0},{"$f":"'6 - Input sheet - Employee data'!EU56","v":0},{"$f":"'6 - Input sheet - Employee data'!EV56","v":0},{"$f":"'6 - Input sheet - Employee data'!EW56","v":0},{"$f":"'6 - Input sheet - Employee data'!EX56","v":0},{"$f":"'6 - Input sheet - Employee data'!EY56","v":0},{"$f":"'6 - Input sheet - Employee data'!EZ56","v":0},{"$f":"'6 - Input sheet - Employee data'!FA56","v":0},{"$f":"'6 - Input sheet - Employee data'!FB56","v":0},{"$f":"'6 - Input sheet - Employee data'!FC56","v":0},{"$f":"'6 - Input sheet - Employee data'!FD56","v":0},{"$f":"'6 - Input sheet - Employee data'!FE56","v":0},{"$f":"'6 - Input sheet - Employee data'!FF56","v":0},{"$f":"'6 - Input sheet - Employee data'!FG56","v":0},{"$f":"'6 - Input sheet - Employee data'!FH56","v":0},{"$f":"'6 - Input sheet - Employee data'!FI56","v":0},{"$f":"'6 - Input sheet - Employee data'!FJ56","v":0},{"$f":"'6 - Input sheet - Employee data'!FK56","v":0},{"$f":"'6 - Input sheet - Employee data'!FL56","v":0},{"$f":"'6 - Input sheet - Employee data'!FM56","v":0},{"$f":"'6 - Input sheet - Employee data'!FN56","v":0},{"$f":"'6 - Input sheet - Employee data'!FO56","v":0},{"$f":"'6 - Input sheet - Employee data'!FP56","v":0},{"$f":"'6 - Input sheet - Employee data'!FQ56","v":0},{"$f":"'6 - Input sheet - Employee data'!FR56","v":0},{"$f":"'6 - Input sheet - Employee data'!FS56","v":0},{"$f":"'6 - Input sheet - Employee data'!FT56","v":0},{"$f":"'6 - Input sheet - Employee data'!FU56","v":0},{"$f":"'6 - Input sheet - Employee data'!FV56","v":0},{"$f":"'6 - Input sheet - Employee data'!FW56","v":0},{"$f":"'6 - Input sheet - Employee data'!FX56","v":0},{"$f":"'6 - Input sheet - Employee data'!FY56","v":0},{"$f":"'6 - Input sheet - Employee data'!FZ56","v":0},{"$f":"'6 - Input sheet - Employee data'!GA56","v":0},{"$f":"'6 - Input sheet - Employee data'!GB56","v":0},{"$f":"'6 - Input sheet - Employee data'!GC56","v":0},{"$f":"'6 - Input sheet - Employee data'!GD56","v":0},{"$f":"'6 - Input sheet - Employee data'!GE56","v":0},{"$f":"'6 - Input sheet - Employee data'!GF56","v":0},{"$f":"'6 - Input sheet - Employee data'!GG56","v":0},{"$f":"'6 - Input sheet - Employee data'!GH56","v":0},{"$f":"'6 - Input sheet - Employee data'!GI56","v":0},{"$f":"'6 - Input sheet - Employee data'!GJ56","v":0},{"$f":"'6 - Input sheet - Employee data'!GK56","v":0},{"$f":"'6 - Input sheet - Employee data'!GL56","v":0},{"$f":"'6 - Input sheet - Employee data'!GM56","v":0},{"$f":"'6 - Input sheet - Employee data'!GN56","v":0},{"$f":"'6 - Input sheet - Employee data'!GO56","v":0},{"$f":"'6 - Input sheet - Employee data'!GP56","v":0},{"$f":"'6 - Input sheet - Employee data'!GQ56","v":0},{"$f":"'6 - Input sheet - Employee data'!GR56","v":0},{"$f":"'6 - Input sheet - Employee data'!GS56","v":0},{"$f":"'6 - Input sheet - Employee data'!GT56","v":0},{"$f":"'6 - Input sheet - Employee data'!GU56","v":0},{"$f":"'6 - Input sheet - Employee data'!GV56","v":0},{"$f":"'6 - Input sheet - Employee data'!GW56","v":0},{"$f":"'6 - Input sheet - Employee data'!GX56","v":0},{"$f":"'6 - Input sheet - Employee data'!GY56","v":0},{"$f":"'6 - Input sheet - Employee data'!GZ56","v":0},{"$f":"'6 - Input sheet - Employee data'!HA56","v":0},{"$f":"'6 - Input sheet - Employee data'!HB56","v":0},{"$f":"'6 - Input sheet - Employee data'!HC56","v":0},{"$f":"'6 - Input sheet - Employee data'!HD56","v":0},{"$f":"'6 - Input sheet - Employee data'!HE56","v":0},{"$f":"'6 - Input sheet - Employee data'!HF56","v":0},{"$f":"'6 - Input sheet - Employee data'!HG56","v":0},{"$f":"'6 - Input sheet - Employee data'!HH56","v":0},{"$f":"'6 - Input sheet - Employee data'!HI56","v":0},{"$f":"'6 - Input sheet - Employee data'!HJ56","v":0},{"$f":"'6 - Input sheet - Employee data'!HK56","v":0},{"$f":"'6 - Input sheet - Employee data'!HL56","v":0},{"$f":"'6 - Input sheet - Employee data'!HM56","v":0},{"$f":"'6 - Input sheet - Employee data'!HN56","v":0},{"$f":"'6 - Input sheet - Employee data'!HO56","v":0},{"$f":"'6 - Input sheet - Employee data'!HP56","v":0},{"$f":"'6 - Input sheet - Employee data'!HQ56","v":0},{"$f":"'6 - Input sheet - Employee data'!HR56","v":0},{"$f":"'6 - Input sheet - Employee data'!HS56","v":0},{"$f":"'6 - Input sheet - Employee data'!HT56","v":0},{"$f":"'6 - Input sheet - Employee data'!HU56","v":0},{"$f":"'6 - Input sheet - Employee data'!HV56","v":0},{"$f":"'6 - Input sheet - Employee data'!HW56","v":0},{"$f":"'6 - Input sheet - Employee data'!HX56","v":0},{"$f":"'6 - Input sheet - Employee data'!HY56","v":0},{"$f":"'6 - Input sheet - Employee data'!HZ56","v":0},{"$f":"'6 - Input sheet - Employee data'!IA56","v":0},{"$f":"'6 - Input sheet - Employee data'!IB56","v":0},{"$f":"'6 - Input sheet - Employee data'!IC56","v":0},{"$f":"'6 - Input sheet - Employee data'!ID56","v":0},{"$f":"'6 - Input sheet - Employee data'!IE56","v":0},{"$f":"'6 - Input sheet - Employee data'!IF56","v":0},{"$f":"'6 - Input sheet - Employee data'!IG56","v":0},{"$f":"'6 - Input sheet - Employee data'!IH56","v":0},{"$f":"'6 - Input sheet - Employee data'!II56","v":0},{"$f":"'6 - Input sheet - Employee data'!IJ56","v":0},{"$f":"'6 - Input sheet - Employee data'!IK56","v":0},{"$f":"'6 - Input sheet - Employee data'!IL56","v":0},{"$f":"'6 - Input sheet - Employee data'!IM56","v":0},{"$f":"'6 - Input sheet - Employee data'!IN56","v":0},{"$f":"'6 - Input sheet - Employee data'!IO56","v":0},{"$f":"'6 - Input sheet - Employee data'!IP56","v":0},{"$f":"'6 - Input sheet - Employee data'!IQ56","v":0},{"$f":"'6 - Input sheet - Employee data'!IR56","v":0},{"$f":"'6 - Input sheet - Employee data'!IS56","v":0},{"$f":"'6 - Input sheet - Employee data'!IT56","v":0},{"$f":"'6 - Input sheet - Employee data'!IU56","v":0},{"$f":"'6 - Input sheet - Employee data'!IV56","v":0},{"$f":"'6 - Input sheet - Employee data'!IW56","v":0},{"$f":"'6 - Input sheet - Employee data'!IX56","v":0},{"$f":"'6 - Input sheet - Employee data'!IY56","v":0},{"$f":"'6 - Input sheet - Employee data'!IZ56","v":0},{"$f":"'6 - Input sheet - Employee data'!JA56","v":0},{"$f":"'6 - Input sheet - Employee data'!JB56","v":0},{"$f":"'6 - Input sheet - Employee data'!JC56","v":0},{"$f":"'6 - Input sheet - Employee data'!JD56","v":0},{"$f":"'6 - Input sheet - Employee data'!JE56","v":0},{"$f":"'6 - Input sheet - Employee data'!JF56","v":0},{"$f":"'6 - Input sheet - Employee data'!JG56","v":0},{"$f":"'6 - Input sheet - Employee data'!JH56","v":0},{"$f":"'6 - Input sheet - Employee data'!JI56","v":0},{"$f":"'6 - Input sheet - Employee data'!JJ56","v":0},{"$f":"'6 - Input sheet - Employee data'!JK56","v":0},{"$f":"'6 - Input sheet - Employee data'!JL56","v":0},{"$f":"'6 - Input sheet - Employee data'!JM56","v":0},{"$f":"'6 - Input sheet - Employee data'!JN56","v":0},{"$f":"'6 - Input sheet - Employee data'!JO56","v":0},{"$f":"'6 - Input sheet - Employee data'!JP56","v":0},{"$f":"'6 - Input sheet - Employee data'!JQ56","v":0},{"$f":"'6 - Input sheet - Employee data'!JR56","v":0},{"$f":"'6 - Input sheet - Employee data'!JS56","v":0},{"$f":"'6 - Input sheet - Employee data'!JT56","v":0},{"$f":"'6 - Input sheet - Employee data'!JU56","v":0},{"$f":"'6 - Input sheet - Employee data'!JV56","v":0},{"$f":"'6 - Input sheet - Employee data'!JW56","v":0},{"$f":"'6 - Input sheet - Employee data'!JX56","v":0},{"$f":"'6 - Input sheet - Employee data'!JY56","v":0},{"$f":"'6 - Input sheet - Employee data'!JZ56","v":0},{"$f":"'6 - Input sheet - Employee data'!KA56","v":0},{"$f":"'6 - Input sheet - Employee data'!KB56","v":0},{"$f":"'6 - Input sheet - Employee data'!KC56","v":0},{"$f":"'6 - Input sheet - Employee data'!KD56","v":0},{"$f":"'6 - Input sheet - Employee data'!KE56","v":0},{"$f":"'6 - Input sheet - Employee data'!KF56","v":0},{"$f":"'6 - Input sheet - Employee data'!KG56","v":0},{"$f":"'6 - Input sheet - Employee data'!KH56","v":0},{"$f":"'6 - Input sheet - Employee data'!KI56","v":0},{"$f":"'6 - Input sheet - Employee data'!KJ56","v":0},{"$f":"'6 - Input sheet - Employee data'!KK56","v":0},{"$f":"'6 - Input sheet - Employee data'!KL56","v":0},{"$f":"'6 - Input sheet - Employee data'!KM56","v":0},{"$f":"'6 - Input sheet - Employee data'!KN56","v":0},{"$f":"'6 - Input sheet - Employee data'!KO56","v":0},{"$f":"'6 - Input sheet - Employee data'!KP56","v":0},{"$f":"'6 - Input sheet - Employee data'!KQ56","v":0},{"$f":"'6 - Input sheet - Employee data'!KR56","v":0},{"$f":"'6 - Input sheet - Employee data'!KS56","v":0},{"$f":"'6 - Input sheet - Employee data'!KT56","v":0},{"$f":"'6 - Input sheet - Employee data'!KU56","v":0},{"$f":"'6 - Input sheet - Employee data'!KV56","v":0},{"$f":"'6 - Input sheet - Employee data'!KW56","v":0},{"$f":"'6 - Input sheet - Employee data'!KX56","v":0},{"$f":"'6 - Input sheet - Employee data'!KY56","v":0},{"$f":"'6 - Input sheet - Employee data'!KZ56","v":0},{"$f":"'6 - Input sheet - Employee data'!LA56","v":0},{"$f":"'6 - Input sheet - Employee data'!LB56","v":0},{"$f":"'6 - Input sheet - Employee data'!LC56","v":0},{"$f":"'6 - Input sheet - Employee data'!LD56","v":0},{"$f":"'6 - Input sheet - Employee data'!LE56","v":0},{"$f":"'6 - Input sheet - Employee data'!LF56","v":0},{"$f":"'6 - Input sheet - Employee data'!LG56","v":0},{"$f":"'6 - Input sheet - Employee data'!LH56","v":0},{"$f":"'6 - Input sheet - Employee data'!LI56","v":0},{"$f":"'6 - Input sheet - Employee data'!LJ56","v":0},{"$f":"'6 - Input sheet - Employee data'!LK56","v":0},{"$f":"'6 - Input sheet - Employee data'!LL56","v":0},{"$f":"'6 - Input sheet - Employee data'!LM56","v":0},{"$f":"'6 - Input sheet - Employee data'!LN56","v":0},{"$f":"'6 - Input sheet - Employee data'!LO56","v":0},{"$f":"'6 - Input sheet - Employee data'!LP56","v":0},{"$f":"'6 - Input sheet - Employee data'!LQ56","v":0},{"$f":"'6 - Input sheet - Employee data'!LR56","v":0},{"$f":"'6 - Input sheet - Employee data'!LS56","v":0},{"$f":"'6 - Input sheet - Employee data'!LT56","v":0},{"$f":"'6 - Input sheet - Employee data'!LU56","v":0},{"$f":"'6 - Input sheet - Employee data'!LV56","v":0},{"$f":"'6 - Input sheet - Employee data'!LW56","v":0},{"$f":"'6 - Input sheet - Employee data'!LX56","v":0},{"$f":"'6 - Input sheet - Employee data'!LY56","v":0},{"$f":"'6 - Input sheet - Employee data'!LZ56","v":0},{"$f":"'6 - Input sheet - Employee data'!MA56","v":0},{"$f":"'6 - Input sheet - Employee data'!MB56","v":0},{"$f":"'6 - Input sheet - Employee data'!MC56","v":0},{"$f":"'6 - Input sheet - Employee data'!MD56","v":0},{"$f":"'6 - Input sheet - Employee data'!ME56","v":0},{"$f":"'6 - Input sheet - Employee data'!MF56","v":0},{"$f":"'6 - Input sheet - Employee data'!MG56","v":0},{"$f":"'6 - Input sheet - Employee data'!MH56","v":0},{"$f":"'6 - Input sheet - Employee data'!MI56","v":0},{"$f":"'6 - Input sheet - Employee data'!MJ56","v":0},{"$f":"'6 - Input sheet - Employee data'!MK56","v":0},{"$f":"'6 - Input sheet - Employee data'!ML56","v":0},{"$f":"'6 - Input sheet - Employee data'!MM56","v":0},{"$f":"'6 - Input sheet - Employee data'!MN56","v":0},{"$f":"'6 - Input sheet - Employee data'!MO56","v":0},{"$f":"'6 - Input sheet - Employee data'!MP56","v":0},{"$f":"'6 - Input sheet - Employee data'!MQ56","v":0},{"$f":"'6 - Input sheet - Employee data'!MR56","v":0},{"$f":"'6 - Input sheet - Employee data'!MS56","v":0},{"$f":"'6 - Input sheet - Employee data'!MT56","v":0},{"$f":"'6 - Input sheet - Employee data'!MU56","v":0},{"$f":"'6 - Input sheet - Employee data'!MV56","v":0},{"$f":"'6 - Input sheet - Employee data'!MW56","v":0},{"$f":"'6 - Input sheet - Employee data'!MX56","v":0},{"$f":"'6 - Input sheet - Employee data'!MY56","v":0},{"$f":"'6 - Input sheet - Employee data'!MZ56","v":0},{"$f":"'6 - Input sheet - Employee data'!NA56","v":0},{"$f":"'6 - Input sheet - Employee data'!NB56","v":0},{"$f":"'6 - Input sheet - Employee data'!NC56","v":0},{"$f":"'6 - Input sheet - Employee data'!ND56","v":0},{"$f":"'6 - Input sheet - Employee data'!NE56","v":0},{"$f":"'6 - Input sheet - Employee data'!NF56","v":0},{"$f":"'6 - Input sheet - Employee data'!NG56","v":0},{"$f":"'6 - Input sheet - Employee data'!NH56","v":0},{"$f":"'6 - Input sheet - Employee data'!NI56","v":0},{"$f":"'6 - Input sheet - Employee data'!NJ56","v":0},{"$f":"'6 - Input sheet - Employee data'!NK56","v":0},{"$f":"'6 - Input sheet - Employee data'!NL56","v":0},{"$f":"'6 - Input sheet - Employee data'!NM56","v":0},{"$f":"'6 - Input sheet - Employee data'!NN56","v":0},{"$f":"'6 - Input sheet - Employee data'!NO56","v":0},{"$f":"'6 - Input sheet - Employee data'!NP56","v":0},{"$f":"'6 - Input sheet - Employee data'!NQ56","v":0},{"$f":"'6 - Input sheet - Employee data'!NR56","v":0},{"$f":"'6 - Input sheet - Employee data'!NS56","v":0},{"$f":"'6 - Input sheet - Employee data'!NT56","v":0},{"$f":"'6 - Input sheet - Employee data'!NU56","v":0},{"$f":"'6 - Input sheet - Employee data'!NV56","v":0},{"$f":"'6 - Input sheet - Employee data'!NW56","v":0},{"$f":"'6 - Input sheet - Employee data'!NX56","v":0},{"$f":"'6 - Input sheet - Employee data'!NY56","v":0},{"$f":"'6 - Input sheet - Employee data'!NZ56","v":0},{"$f":"'6 - Input sheet - Employee data'!OA56","v":0},{"$f":"'6 - Input sheet - Employee data'!OB56","v":0},{"$f":"'6 - Input sheet - Employee data'!OC56","v":0},{"$f":"'6 - Input sheet - Employee data'!OD56","v":0},{"$f":"'6 - Input sheet - Employee data'!OE56","v":0},{"$f":"'6 - Input sheet - Employee data'!OF56","v":0},{"$f":"'6 - Input sheet - Employee data'!OG56","v":0},{"$f":"'6 - Input sheet - Employee data'!OH56","v":0},{"$f":"'6 - Input sheet - Employee data'!OI56","v":0},{"$f":"'6 - Input sheet - Employee data'!OJ56","v":0},{"$f":"'6 - Input sheet - Employee data'!OK56","v":0},{"$f":"'6 - Input sheet - Employee data'!OL56","v":0},{"$f":"'6 - Input sheet - Employee data'!OM56","v":0},{"$f":"'6 - Input sheet - Employee data'!ON56","v":0},{"$f":"'6 - Input sheet - Employee data'!OO56","v":0},{"$f":"'6 - Input sheet - Employee data'!OP56","v":0},{"$f":"'6 - Input sheet - Employee data'!OQ56","v":0},{"$f":"'6 - Input sheet - Employee data'!OR56","v":0},{"$f":"'6 - Input sheet - Employee data'!OS56","v":0},{"$f":"'6 - Input sheet - Employee data'!OT56","v":0},{"$f":"'6 - Input sheet - Employee data'!OU56","v":0},{"$f":"'6 - Input sheet - Employee data'!OV56","v":0},{"$f":"'6 - Input sheet - Employee data'!OW56","v":0},{"$f":"'6 - Input sheet - Employee data'!OX56","v":0},{"$f":"'6 - Input sheet - Employee data'!OY56","v":0},{"$f":"'6 - Input sheet - Employee data'!OZ56","v":0},{"$f":"'6 - Input sheet - Employee data'!PA56","v":0},{"$f":"'6 - Input sheet - Employee data'!PB56","v":0},{"$f":"'6 - Input sheet - Employee data'!PC56","v":0},{"$f":"'6 - Input sheet - Employee data'!PD56","v":0},{"$f":"'6 - Input sheet - Employee data'!PE56","v":0},{"$f":"'6 - Input sheet - Employee data'!PF56","v":0},{"$f":"'6 - Input sheet - Employee data'!PG56","v":0},{"$f":"'6 - Input sheet - Employee data'!PH56","v":0},{"$f":"'6 - Input sheet - Employee data'!PI56","v":0},{"$f":"'6 - Input sheet - Employee data'!PJ56","v":0},{"$f":"'6 - Input sheet - Employee data'!PK56","v":0},{"$f":"'6 - Input sheet - Employee data'!PL56","v":0},{"$f":"'6 - Input sheet - Employee data'!PM56","v":0},{"$f":"'6 - Input sheet - Employee data'!PN56","v":0},{"$f":"'6 - Input sheet - Employee data'!PO56","v":0},{"$f":"'6 - Input sheet - Employee data'!PP56","v":0},{"$f":"'6 - Input sheet - Employee data'!PQ56","v":0},{"$f":"'6 - Input sheet - Employee data'!PR56","v":0},{"$f":"'6 - Input sheet - Employee data'!PS56","v":0},{"$f":"'6 - Input sheet - Employee data'!PT56","v":0},{"$f":"'6 - Input sheet - Employee data'!PU56","v":0},{"$f":"'6 - Input sheet - Employee data'!PV56","v":0},{"$f":"'6 - Input sheet - Employee data'!PW56","v":0},{"$f":"'6 - Input sheet - Employee data'!PX56","v":0},{"$f":"'6 - Input sheet - Employee data'!PY56","v":0},{"$f":"'6 - Input sheet - Employee data'!PZ56","v":0},{"$f":"'6 - Input sheet - Employee data'!QA56","v":0},{"$f":"'6 - Input sheet - Employee data'!QB56","v":0},{"$f":"'6 - Input sheet - Employee data'!QC56","v":0},{"$f":"'6 - Input sheet - Employee data'!QD56","v":0},{"$f":"'6 - Input sheet - Employee data'!QE56","v":0},{"$f":"'6 - Input sheet - Employee data'!QF56","v":0},{"$f":"'6 - Input sheet - Employee data'!QG56","v":0},{"$f":"'6 - Input sheet - Employee data'!QH56","v":0},{"$f":"'6 - Input sheet - Employee data'!QI56","v":0},{"$f":"'6 - Input sheet - Employee data'!QJ56","v":0},{"$f":"'6 - Input sheet - Employee data'!QK56","v":0},{"$f":"'6 - Input sheet - Employee data'!QL56","v":0},{"$f":"'6 - Input sheet - Employee data'!QM56","v":0},{"$f":"'6 - Input sheet - Employee data'!QN56","v":0},{"$f":"'6 - Input sheet - Employee data'!QO56","v":0},{"$f":"'6 - Input sheet - Employee data'!QP56","v":0},{"$f":"'6 - Input sheet - Employee data'!QQ56","v":0},{"$f":"'6 - Input sheet - Employee data'!QR56","v":0},{"$f":"'6 - Input sheet - Employee data'!QS56","v":0},{"$f":"'6 - Input sheet - Employee data'!QT56","v":0},{"$f":"'6 - Input sheet - Employee data'!QU56","v":0},{"$f":"'6 - Input sheet - Employee data'!QV56","v":0},{"$f":"'6 - Input sheet - Employee data'!QW56","v":0},{"$f":"'6 - Input sheet - Employee data'!QX56","v":0},{"$f":"'6 - Input sheet - Employee data'!QY56","v":0},{"$f":"'6 - Input sheet - Employee data'!QZ56","v":0},{"$f":"'6 - Input sheet - Employee data'!RA56","v":0},{"$f":"'6 - Input sheet - Employee data'!RB56","v":0},{"$f":"'6 - Input sheet - Employee data'!RC56","v":0},{"$f":"'6 - Input sheet - Employee data'!RD56","v":0},{"$f":"'6 - Input sheet - Employee data'!RE56","v":0},{"$f":"'6 - Input sheet - Employee data'!RF56","v":0},{"$f":"'6 - Input sheet - Employee data'!RG56","v":0},{"$f":"'6 - Input sheet - Employee data'!RH56","v":0},{"$f":"'6 - Input sheet - Employee data'!RI56","v":0},{"$f":"'6 - Input sheet - Employee data'!RJ56","v":0},{"$f":"'6 - Input sheet - Employee data'!RK56","v":0},{"$f":"'6 - Input sheet - Employee data'!RL56","v":0},{"$f":"'6 - Input sheet - Employee data'!RM56","v":0},{"$f":"'6 - Input sheet - Employee data'!RN56","v":0},{"$f":"'6 - Input sheet - Employee data'!RO56","v":0},{"$f":"'6 - Input sheet - Employee data'!RP56","v":0},{"$f":"'6 - Input sheet - Employee data'!RQ56","v":0},{"$f":"'6 - Input sheet - Employee data'!RR56","v":0},{"$f":"'6 - Input sheet - Employee data'!RS56","v":0},{"$f":"'6 - Input sheet - Employee data'!RT56","v":0},{"$f":"'6 - Input sheet - Employee data'!RU56","v":0},{"$f":"'6 - Input sheet - Employee data'!RV56","v":0},{"$f":"'6 - Input sheet - Employee data'!RW56","v":0},{"$f":"'6 - Input sheet - Employee data'!RX56","v":0},{"$f":"'6 - Input sheet - Employee data'!RY56","v":0},{"$f":"'6 - Input sheet - Employee data'!RZ56","v":0},{"$f":"'6 - Input sheet - Employee data'!SA56","v":0},{"$f":"'6 - Input sheet - Employee data'!SB56","v":0},{"$f":"'6 - Input sheet - Employee data'!SC56","v":0},{"$f":"'6 - Input sheet - Employee data'!SD56","v":0},{"$f":"'6 - Input sheet - Employee data'!SE56","v":0},{"$f":"'6 - Input sheet - Employee data'!SF56","v":0},{"$f":"'6 - Input sheet - Employee data'!SG56","v":0},{"$f":"'6 - Input sheet - Employee data'!SH56","v":0}]
[{"$f":"'6 - Input sheet - Employee data'!A57","v":"  Period 4 (enter date)"},0,{"$f":"'6 - Input sheet - Employee data'!C57","v":0},{"$f":"'6 - Input sheet - Employee data'!D57","v":0},{"$f":"'6 - Input sheet - Employee data'!E57","v":0},{"$f":"'6 - Input sheet - Employee data'!F57","v":0},{"$f":"'6 - Input sheet - Employee data'!G57","v":0},{"$f":"'6 - Input sheet - Employee data'!H57","v":0},{"$f":"'6 - Input sheet - Employee data'!I57","v":0},{"$f":"'6 - Input sheet - Employee data'!J57","v":0},{"$f":"'6 - Input sheet - Employee data'!K57","v":0},{"$f":"'6 - Input sheet - Employee data'!L57","v":0},{"$f":"'6 - Input sheet - Employee data'!M57","v":0},{"$f":"'6 - Input sheet - Employee data'!N57","v":0},{"$f":"'6 - Input sheet - Employee data'!O57","v":0},{"$f":"'6 - Input sheet - Employee data'!P57","v":0},{"$f":"'6 - Input sheet - Employee data'!Q57","v":0},{"$f":"'6 - Input sheet - Employee data'!R57","v":0},{"$f":"'6 - Input sheet - Employee data'!S57","v":0},{"$f":"'6 - Input sheet - Employee data'!T57","v":0},{"$f":"'6 - Input sheet - Employee data'!U57","v":0},{"$f":"'6 - Input sheet - Employee data'!V57","v":0},{"$f":"'6 - Input sheet - Employee data'!W57","v":0},{"$f":"'6 - Input sheet - Employee data'!X57","v":0},{"$f":"'6 - Input sheet - Employee data'!Y57","v":0},{"$f":"'6 - Input sheet - Employee data'!Z57","v":0},{"$f":"'6 - Input sheet - Employee data'!AA57","v":0},{"$f":"'6 - Input sheet - Employee data'!AB57","v":0},{"$f":"'6 - Input sheet - Employee data'!AC57","v":0},{"$f":"'6 - Input sheet - Employee data'!AD57","v":0},{"$f":"'6 - Input sheet - Employee data'!AE57","v":0},{"$f":"'6 - Input sheet - Employee data'!AF57","v":0},{"$f":"'6 - Input sheet - Employee data'!AG57","v":0},{"$f":"'6 - Input sheet - Employee data'!AH57","v":0},{"$f":"'6 - Input sheet - Employee data'!AI57","v":0},{"$f":"'6 - Input sheet - Employee data'!AJ57","v":0},{"$f":"'6 - Input sheet - Employee data'!AK57","v":0},{"$f":"'6 - Input sheet - Employee data'!AL57","v":0},{"$f":"'6 - Input sheet - Employee data'!AM57","v":0},{"$f":"'6 - Input sheet - Employee data'!AN57","v":0},{"$f":"'6 - Input sheet - Employee data'!AO57","v":0},{"$f":"'6 - Input sheet - Employee data'!AP57","v":0},{"$f":"'6 - Input sheet - Employee data'!AQ57","v":0},{"$f":"'6 - Input sheet - Employee data'!AR57","v":0},{"$f":"'6 - Input sheet - Employee data'!AS57","v":0},{"$f":"'6 - Input sheet - Employee data'!AT57","v":0},{"$f":"'6 - Input sheet - Employee data'!AU57","v":0},{"$f":"'6 - Input sheet - Employee data'!AV57","v":0},{"$f":"'6 - Input sheet - Employee data'!AW57","v":0},{"$f":"'6 - Input sheet - Employee data'!AX57","v":0},{"$f":"'6 - Input sheet - Employee data'!AY57","v":0},{"$f":"'6 - Input sheet - Employee data'!AZ57","v":0},{"$f":"'6 - Input sheet - Employee data'!BA57","v":0},{"$f":"'6 - Input sheet - Employee data'!BB57","v":0},{"$f":"'6 - Input sheet - Employee data'!BC57","v":0},{"$f":"'6 - Input sheet - Employee data'!BD57","v":0},{"$f":"'6 - Input sheet - Employee data'!BE57","v":0},{"$f":"'6 - Input sheet - Employee data'!BF57","v":0},{"$f":"'6 - Input sheet - Employee data'!BG57","v":0},{"$f":"'6 - Input sheet - Employee data'!BH57","v":0},{"$f":"'6 - Input sheet - Employee data'!BI57","v":0},{"$f":"'6 - Input sheet - Employee data'!BJ57","v":0},{"$f":"'6 - Input sheet - Employee data'!BK57","v":0},{"$f":"'6 - Input sheet - Employee data'!BL57","v":0},{"$f":"'6 - Input sheet - Employee data'!BM57","v":0},{"$f":"'6 - Input sheet - Employee data'!BN57","v":0},{"$f":"'6 - Input sheet - Employee data'!BO57","v":0},{"$f":"'6 - Input sheet - Employee data'!BP57","v":0},{"$f":"'6 - Input sheet - Employee data'!BQ57","v":0},{"$f":"'6 - Input sheet - Employee data'!BR57","v":0},{"$f":"'6 - Input sheet - Employee data'!BS57","v":0},{"$f":"'6 - Input sheet - Employee data'!BT57","v":0},{"$f":"'6 - Input sheet - Employee data'!BU57","v":0},{"$f":"'6 - Input sheet - Employee data'!BV57","v":0},{"$f":"'6 - Input sheet - Employee data'!BW57","v":0},{"$f":"'6 - Input sheet - Employee data'!BX57","v":0},{"$f":"'6 - Input sheet - Employee data'!BY57","v":0},{"$f":"'6 - Input sheet - Employee data'!BZ57","v":0},{"$f":"'6 - Input sheet - Employee data'!CA57","v":0},{"$f":"'6 - Input sheet - Employee data'!CB57","v":0},{"$f":"'6 - Input sheet - Employee data'!CC57","v":0},{"$f":"'6 - Input sheet - Employee data'!CD57","v":0},{"$f":"'6 - Input sheet - Employee data'!CE57","v":0},{"$f":"'6 - Input sheet - Employee data'!CF57","v":0},{"$f":"'6 - Input sheet - Employee data'!CG57","v":0},{"$f":"'6 - Input sheet - Employee data'!CH57","v":0},{"$f":"'6 - Input sheet - Employee data'!CI57","v":0},{"$f":"'6 - Input sheet - Employee data'!CJ57","v":0},{"$f":"'6 - Input sheet - Employee data'!CK57","v":0},{"$f":"'6 - Input sheet - Employee data'!CL57","v":0},{"$f":"'6 - Input sheet - Employee data'!CM57","v":0},{"$f":"'6 - Input sheet - Employee data'!CN57","v":0},{"$f":"'6 - Input sheet - Employee data'!CO57","v":0},{"$f":"'6 - Input sheet - Employee data'!CP57","v":0},{"$f":"'6 - Input sheet - Employee data'!CQ57","v":0},{"$f":"'6 - Input sheet - Employee data'!CR57","v":0},{"$f":"'6 - Input sheet - Employee data'!CS57","v":0},{"$f":"'6 - Input sheet - Employee data'!CT57","v":0},{"$f":"'6 - Input sheet - Employee data'!CU57","v":0},{"$f":"'6 - Input sheet - Employee data'!CV57","v":0},{"$f":"'6 - Input sheet - Employee data'!CW57","v":0},{"$f":"'6 - Input sheet - Employee data'!CX57","v":0},{"$f":"'6 - Input sheet - Employee data'!CY57","v":0},{"$f":"'6 - Input sheet - Employee data'!CZ57","v":0},{"$f":"'6 - Input sheet - Employee data'!DA57","v":0},{"$f":"'6 - Input sheet - Employee data'!DB57","v":0},{"$f":"'6 - Input sheet - Employee data'!DC57","v":0},{"$f":"'6 - Input sheet - Employee data'!DD57","v":0},{"$f":"'6 - Input sheet - Employee data'!DE57","v":0},{"$f":"'6 - Input sheet - Employee data'!DF57","v":0},{"$f":"'6 - Input sheet - Employee data'!DG57","v":0},{"$f":"'6 - Input sheet - Employee data'!DH57","v":0},{"$f":"'6 - Input sheet - Employee data'!DI57","v":0},{"$f":"'6 - Input sheet - Employee data'!DJ57","v":0},{"$f":"'6 - Input sheet - Employee data'!DK57","v":0},{"$f":"'6 - Input sheet - Employee data'!DL57","v":0},{"$f":"'6 - Input sheet - Employee data'!DM57","v":0},{"$f":"'6 - Input sheet - Employee data'!DN57","v":0},{"$f":"'6 - Input sheet - Employee data'!DO57","v":0},{"$f":"'6 - Input sheet - Employee data'!DP57","v":0},{"$f":"'6 - Input sheet - Employee data'!DQ57","v":0},{"$f":"'6 - Input sheet - Employee data'!DR57","v":0},{"$f":"'6 - Input sheet - Employee data'!DS57","v":0},{"$f":"'6 - Input sheet - Employee data'!DT57","v":0},{"$f":"'6 - Input sheet - Employee data'!DU57","v":0},{"$f":"'6 - Input sheet - Employee data'!DV57","v":0},{"$f":"'6 - Input sheet - Employee data'!DW57","v":0},{"$f":"'6 - Input sheet - Employee data'!DX57","v":0},{"$f":"'6 - Input sheet - Employee data'!DY57","v":0},{"$f":"'6 - Input sheet - Employee data'!DZ57","v":0},{"$f":"'6 - Input sheet - Employee data'!EA57","v":0},{"$f":"'6 - Input sheet - Employee data'!EB57","v":0},{"$f":"'6 - Input sheet - Employee data'!EC57","v":0},{"$f":"'6 - Input sheet - Employee data'!ED57","v":0},{"$f":"'6 - Input sheet - Employee data'!EE57","v":0},{"$f":"'6 - Input sheet - Employee data'!EF57","v":0},{"$f":"'6 - Input sheet - Employee data'!EG57","v":0},{"$f":"'6 - Input sheet - Employee data'!EH57","v":0},{"$f":"'6 - Input sheet - Employee data'!EI57","v":0},{"$f":"'6 - Input sheet - Employee data'!EJ57","v":0},{"$f":"'6 - Input sheet - Employee data'!EK57","v":0},{"$f":"'6 - Input sheet - Employee data'!EL57","v":0},{"$f":"'6 - Input sheet - Employee data'!EM57","v":0},{"$f":"'6 - Input sheet - Employee data'!EN57","v":0},{"$f":"'6 - Input sheet - Employee data'!EO57","v":0},{"$f":"'6 - Input sheet - Employee data'!EP57","v":0},{"$f":"'6 - Input sheet - Employee data'!EQ57","v":0},{"$f":"'6 - Input sheet - Employee data'!ER57","v":0},{"$f":"'6 - Input sheet - Employee data'!ES57","v":0},{"$f":"'6 - Input sheet - Employee data'!ET57","v":0},{"$f":"'6 - Input sheet - Employee data'!EU57","v":0},{"$f":"'6 - Input sheet - Employee data'!EV57","v":0},{"$f":"'6 - Input sheet - Employee data'!EW57","v":0},{"$f":"'6 - Input sheet - Employee data'!EX57","v":0},{"$f":"'6 - Input sheet - Employee data'!EY57","v":0},{"$f":"'6 - Input sheet - Employee data'!EZ57","v":0},{"$f":"'6 - Input sheet - Employee data'!FA57","v":0},{"$f":"'6 - Input sheet - Employee data'!FB57","v":0},{"$f":"'6 - Input sheet - Employee data'!FC57","v":0},{"$f":"'6 - Input sheet - Employee data'!FD57","v":0},{"$f":"'6 - Input sheet - Employee data'!FE57","v":0},{"$f":"'6 - Input sheet - Employee data'!FF57","v":0},{"$f":"'6 - Input sheet - Employee data'!FG57","v":0},{"$f":"'6 - Input sheet - Employee data'!FH57","v":0},{"$f":"'6 - Input sheet - Employee data'!FI57","v":0},{"$f":"'6 - Input sheet - Employee data'!FJ57","v":0},{"$f":"'6 - Input sheet - Employee data'!FK57","v":0},{"$f":"'6 - Input sheet - Employee data'!FL57","v":0},{"$f":"'6 - Input sheet - Employee data'!FM57","v":0},{"$f":"'6 - Input sheet - Employee data'!FN57","v":0},{"$f":"'6 - Input sheet - Employee data'!FO57","v":0},{"$f":"'6 - Input sheet - Employee data'!FP57","v":0},{"$f":"'6 - Input sheet - Employee data'!FQ57","v":0},{"$f":"'6 - Input sheet - Employee data'!FR57","v":0},{"$f":"'6 - Input sheet - Employee data'!FS57","v":0},{"$f":"'6 - Input sheet - Employee data'!FT57","v":0},{"$f":"'6 - Input sheet - Employee data'!FU57","v":0},{"$f":"'6 - Input sheet - Employee data'!FV57","v":0},{"$f":"'6 - Input sheet - Employee data'!FW57","v":0},{"$f":"'6 - Input sheet - Employee data'!FX57","v":0},{"$f":"'6 - Input sheet - Employee data'!FY57","v":0},{"$f":"'6 - Input sheet - Employee data'!FZ57","v":0},{"$f":"'6 - Input sheet - Employee data'!GA57","v":0},{"$f":"'6 - Input sheet - Employee data'!GB57","v":0},{"$f":"'6 - Input sheet - Employee data'!GC57","v":0},{"$f":"'6 - Input sheet - Employee data'!GD57","v":0},{"$f":"'6 - Input sheet - Employee data'!GE57","v":0},{"$f":"'6 - Input sheet - Employee data'!GF57","v":0},{"$f":"'6 - Input sheet - Employee data'!GG57","v":0},{"$f":"'6 - Input sheet - Employee data'!GH57","v":0},{"$f":"'6 - Input sheet - Employee data'!GI57","v":0},{"$f":"'6 - Input sheet - Employee data'!GJ57","v":0},{"$f":"'6 - Input sheet - Employee data'!GK57","v":0},{"$f":"'6 - Input sheet - Employee data'!GL57","v":0},{"$f":"'6 - Input sheet - Employee data'!GM57","v":0},{"$f":"'6 - Input sheet - Employee data'!GN57","v":0},{"$f":"'6 - Input sheet - Employee data'!GO57","v":0},{"$f":"'6 - Input sheet - Employee data'!GP57","v":0},{"$f":"'6 - Input sheet - Employee data'!GQ57","v":0},{"$f":"'6 - Input sheet - Employee data'!GR57","v":0},{"$f":"'6 - Input sheet - Employee data'!GS57","v":0},{"$f":"'6 - Input sheet - Employee data'!GT57","v":0},{"$f":"'6 - Input sheet - Employee data'!GU57","v":0},{"$f":"'6 - Input sheet - Employee data'!GV57","v":0},{"$f":"'6 - Input sheet - Employee data'!GW57","v":0},{"$f":"'6 - Input sheet - Employee data'!GX57","v":0},{"$f":"'6 - Input sheet - Employee data'!GY57","v":0},{"$f":"'6 - Input sheet - Employee data'!GZ57","v":0},{"$f":"'6 - Input sheet - Employee data'!HA57","v":0},{"$f":"'6 - Input sheet - Employee data'!HB57","v":0},{"$f":"'6 - Input sheet - Employee data'!HC57","v":0},{"$f":"'6 - Input sheet - Employee data'!HD57","v":0},{"$f":"'6 - Input sheet - Employee data'!HE57","v":0},{"$f":"'6 - Input sheet - Employee data'!HF57","v":0},{"$f":"'6 - Input sheet - Employee data'!HG57","v":0},{"$f":"'6 - Input sheet - Employee data'!HH57","v":0},{"$f":"'6 - Input sheet - Employee data'!HI57","v":0},{"$f":"'6 - Input sheet - Employee data'!HJ57","v":0},{"$f":"'6 - Input sheet - Employee data'!HK57","v":0},{"$f":"'6 - Input sheet - Employee data'!HL57","v":0},{"$f":"'6 - Input sheet - Employee data'!HM57","v":0},{"$f":"'6 - Input sheet - Employee data'!HN57","v":0},{"$f":"'6 - Input sheet - Employee data'!HO57","v":0},{"$f":"'6 - Input sheet - Employee data'!HP57","v":0},{"$f":"'6 - Input sheet - Employee data'!HQ57","v":0},{"$f":"'6 - Input sheet - Employee data'!HR57","v":0},{"$f":"'6 - Input sheet - Employee data'!HS57","v":0},{"$f":"'6 - Input sheet - Employee data'!HT57","v":0},{"$f":"'6 - Input sheet - Employee data'!HU57","v":0},{"$f":"'6 - Input sheet - Employee data'!HV57","v":0},{"$f":"'6 - Input sheet - Employee data'!HW57","v":0},{"$f":"'6 - Input sheet - Employee data'!HX57","v":0},{"$f":"'6 - Input sheet - Employee data'!HY57","v":0},{"$f":"'6 - Input sheet - Employee data'!HZ57","v":0},{"$f":"'6 - Input sheet - Employee data'!IA57","v":0},{"$f":"'6 - Input sheet - Employee data'!IB57","v":0},{"$f":"'6 - Input sheet - Employee data'!IC57","v":0},{"$f":"'6 - Input sheet - Employee data'!ID57","v":0},{"$f":"'6 - Input sheet - Employee data'!IE57","v":0},{"$f":"'6 - Input sheet - Employee data'!IF57","v":0},{"$f":"'6 - Input sheet - Employee data'!IG57","v":0},{"$f":"'6 - Input sheet - Employee data'!IH57","v":0},{"$f":"'6 - Input sheet - Employee data'!II57","v":0},{"$f":"'6 - Input sheet - Employee data'!IJ57","v":0},{"$f":"'6 - Input sheet - Employee data'!IK57","v":0},{"$f":"'6 - Input sheet - Employee data'!IL57","v":0},{"$f":"'6 - Input sheet - Employee data'!IM57","v":0},{"$f":"'6 - Input sheet - Employee data'!IN57","v":0},{"$f":"'6 - Input sheet - Employee data'!IO57","v":0},{"$f":"'6 - Input sheet - Employee data'!IP57","v":0},{"$f":"'6 - Input sheet - Employee data'!IQ57","v":0},{"$f":"'6 - Input sheet - Employee data'!IR57","v":0},{"$f":"'6 - Input sheet - Employee data'!IS57","v":0},{"$f":"'6 - Input sheet - Employee data'!IT57","v":0},{"$f":"'6 - Input sheet - Employee data'!IU57","v":0},{"$f":"'6 - Input sheet - Employee data'!IV57","v":0},{"$f":"'6 - Input sheet - Employee data'!IW57","v":0},{"$f":"'6 - Input sheet - Employee data'!IX57","v":0},{"$f":"'6 - Input sheet - Employee data'!IY57","v":0},{"$f":"'6 - Input sheet - Employee data'!IZ57","v":0},{"$f":"'6 - Input sheet - Employee data'!JA57","v":0},{"$f":"'6 - Input sheet - Employee data'!JB57","v":0},{"$f":"'6 - Input sheet - Employee data'!JC57","v":0},{"$f":"'6 - Input sheet - Employee data'!JD57","v":0},{"$f":"'6 - Input sheet - Employee data'!JE57","v":0},{"$f":"'6 - Input sheet - Employee data'!JF57","v":0},{"$f":"'6 - Input sheet - Employee data'!JG57","v":0},{"$f":"'6 - Input sheet - Employee data'!JH57","v":0},{"$f":"'6 - Input sheet - Employee data'!JI57","v":0},{"$f":"'6 - Input sheet - Employee data'!JJ57","v":0},{"$f":"'6 - Input sheet - Employee data'!JK57","v":0},{"$f":"'6 - Input sheet - Employee data'!JL57","v":0},{"$f":"'6 - Input sheet - Employee data'!JM57","v":0},{"$f":"'6 - Input sheet - Employee data'!JN57","v":0},{"$f":"'6 - Input sheet - Employee data'!JO57","v":0},{"$f":"'6 - Input sheet - Employee data'!JP57","v":0},{"$f":"'6 - Input sheet - Employee data'!JQ57","v":0},{"$f":"'6 - Input sheet - Employee data'!JR57","v":0},{"$f":"'6 - Input sheet - Employee data'!JS57","v":0},{"$f":"'6 - Input sheet - Employee data'!JT57","v":0},{"$f":"'6 - Input sheet - Employee data'!JU57","v":0},{"$f":"'6 - Input sheet - Employee data'!JV57","v":0},{"$f":"'6 - Input sheet - Employee data'!JW57","v":0},{"$f":"'6 - Input sheet - Employee data'!JX57","v":0},{"$f":"'6 - Input sheet - Employee data'!JY57","v":0},{"$f":"'6 - Input sheet - Employee data'!JZ57","v":0},{"$f":"'6 - Input sheet - Employee data'!KA57","v":0},{"$f":"'6 - Input sheet - Employee data'!KB57","v":0},{"$f":"'6 - Input sheet - Employee data'!KC57","v":0},{"$f":"'6 - Input sheet - Employee data'!KD57","v":0},{"$f":"'6 - Input sheet - Employee data'!KE57","v":0},{"$f":"'6 - Input sheet - Employee data'!KF57","v":0},{"$f":"'6 - Input sheet - Employee data'!KG57","v":0},{"$f":"'6 - Input sheet - Employee data'!KH57","v":0},{"$f":"'6 - Input sheet - Employee data'!KI57","v":0},{"$f":"'6 - Input sheet - Employee data'!KJ57","v":0},{"$f":"'6 - Input sheet - Employee data'!KK57","v":0},{"$f":"'6 - Input sheet - Employee data'!KL57","v":0},{"$f":"'6 - Input sheet - Employee data'!KM57","v":0},{"$f":"'6 - Input sheet - Employee data'!KN57","v":0},{"$f":"'6 - Input sheet - Employee data'!KO57","v":0},{"$f":"'6 - Input sheet - Employee data'!KP57","v":0},{"$f":"'6 - Input sheet - Employee data'!KQ57","v":0},{"$f":"'6 - Input sheet - Employee data'!KR57","v":0},{"$f":"'6 - Input sheet - Employee data'!KS57","v":0},{"$f":"'6 - Input sheet - Employee data'!KT57","v":0},{"$f":"'6 - Input sheet - Employee data'!KU57","v":0},{"$f":"'6 - Input sheet - Employee data'!KV57","v":0},{"$f":"'6 - Input sheet - Employee data'!KW57","v":0},{"$f":"'6 - Input sheet - Employee data'!KX57","v":0},{"$f":"'6 - Input sheet - Employee data'!KY57","v":0},{"$f":"'6 - Input sheet - Employee data'!KZ57","v":0},{"$f":"'6 - Input sheet - Employee data'!LA57","v":0},{"$f":"'6 - Input sheet - Employee data'!LB57","v":0},{"$f":"'6 - Input sheet - Employee data'!LC57","v":0},{"$f":"'6 - Input sheet - Employee data'!LD57","v":0},{"$f":"'6 - Input sheet - Employee data'!LE57","v":0},{"$f":"'6 - Input sheet - Employee data'!LF57","v":0},{"$f":"'6 - Input sheet - Employee data'!LG57","v":0},{"$f":"'6 - Input sheet - Employee data'!LH57","v":0},{"$f":"'6 - Input sheet - Employee data'!LI57","v":0},{"$f":"'6 - Input sheet - Employee data'!LJ57","v":0},{"$f":"'6 - Input sheet - Employee data'!LK57","v":0},{"$f":"'6 - Input sheet - Employee data'!LL57","v":0},{"$f":"'6 - Input sheet - Employee data'!LM57","v":0},{"$f":"'6 - Input sheet - Employee data'!LN57","v":0},{"$f":"'6 - Input sheet - Employee data'!LO57","v":0},{"$f":"'6 - Input sheet - Employee data'!LP57","v":0},{"$f":"'6 - Input sheet - Employee data'!LQ57","v":0},{"$f":"'6 - Input sheet - Employee data'!LR57","v":0},{"$f":"'6 - Input sheet - Employee data'!LS57","v":0},{"$f":"'6 - Input sheet - Employee data'!LT57","v":0},{"$f":"'6 - Input sheet - Employee data'!LU57","v":0},{"$f":"'6 - Input sheet - Employee data'!LV57","v":0},{"$f":"'6 - Input sheet - Employee data'!LW57","v":0},{"$f":"'6 - Input sheet - Employee data'!LX57","v":0},{"$f":"'6 - Input sheet - Employee data'!LY57","v":0},{"$f":"'6 - Input sheet - Employee data'!LZ57","v":0},{"$f":"'6 - Input sheet - Employee data'!MA57","v":0},{"$f":"'6 - Input sheet - Employee data'!MB57","v":0},{"$f":"'6 - Input sheet - Employee data'!MC57","v":0},{"$f":"'6 - Input sheet - Employee data'!MD57","v":0},{"$f":"'6 - Input sheet - Employee data'!ME57","v":0},{"$f":"'6 - Input sheet - Employee data'!MF57","v":0},{"$f":"'6 - Input sheet - Employee data'!MG57","v":0},{"$f":"'6 - Input sheet - Employee data'!MH57","v":0},{"$f":"'6 - Input sheet - Employee data'!MI57","v":0},{"$f":"'6 - Input sheet - Employee data'!MJ57","v":0},{"$f":"'6 - Input sheet - Employee data'!MK57","v":0},{"$f":"'6 - Input sheet - Employee data'!ML57","v":0},{"$f":"'6 - Input sheet - Employee data'!MM57","v":0},{"$f":"'6 - Input sheet - Employee data'!MN57","v":0},{"$f":"'6 - Input sheet - Employee data'!MO57","v":0},{"$f":"'6 - Input sheet - Employee data'!MP57","v":0},{"$f":"'6 - Input sheet - Employee data'!MQ57","v":0},{"$f":"'6 - Input sheet - Employee data'!MR57","v":0},{"$f":"'6 - Input sheet - Employee data'!MS57","v":0},{"$f":"'6 - Input sheet - Employee data'!MT57","v":0},{"$f":"'6 - Input sheet - Employee data'!MU57","v":0},{"$f":"'6 - Input sheet - Employee data'!MV57","v":0},{"$f":"'6 - Input sheet - Employee data'!MW57","v":0},{"$f":"'6 - Input sheet - Employee data'!MX57","v":0},{"$f":"'6 - Input sheet - Employee data'!MY57","v":0},{"$f":"'6 - Input sheet - Employee data'!MZ57","v":0},{"$f":"'6 - Input sheet - Employee data'!NA57","v":0},{"$f":"'6 - Input sheet - Employee data'!NB57","v":0},{"$f":"'6 - Input sheet - Employee data'!NC57","v":0},{"$f":"'6 - Input sheet - Employee data'!ND57","v":0},{"$f":"'6 - Input sheet - Employee data'!NE57","v":0},{"$f":"'6 - Input sheet - Employee data'!NF57","v":0},{"$f":"'6 - Input sheet - Employee data'!NG57","v":0},{"$f":"'6 - Input sheet - Employee data'!NH57","v":0},{"$f":"'6 - Input sheet - Employee data'!NI57","v":0},{"$f":"'6 - Input sheet - Employee data'!NJ57","v":0},{"$f":"'6 - Input sheet - Employee data'!NK57","v":0},{"$f":"'6 - Input sheet - Employee data'!NL57","v":0},{"$f":"'6 - Input sheet - Employee data'!NM57","v":0},{"$f":"'6 - Input sheet - Employee data'!NN57","v":0},{"$f":"'6 - Input sheet - Employee data'!NO57","v":0},{"$f":"'6 - Input sheet - Employee data'!NP57","v":0},{"$f":"'6 - Input sheet - Employee data'!NQ57","v":0},{"$f":"'6 - Input sheet - Employee data'!NR57","v":0},{"$f":"'6 - Input sheet - Employee data'!NS57","v":0},{"$f":"'6 - Input sheet - Employee data'!NT57","v":0},{"$f":"'6 - Input sheet - Employee data'!NU57","v":0},{"$f":"'6 - Input sheet - Employee data'!NV57","v":0},{"$f":"'6 - Input sheet - Employee data'!NW57","v":0},{"$f":"'6 - Input sheet - Employee data'!NX57","v":0},{"$f":"'6 - Input sheet - Employee data'!NY57","v":0},{"$f":"'6 - Input sheet - Employee data'!NZ57","v":0},{"$f":"'6 - Input sheet - Employee data'!OA57","v":0},{"$f":"'6 - Input sheet - Employee data'!OB57","v":0},{"$f":"'6 - Input sheet - Employee data'!OC57","v":0},{"$f":"'6 - Input sheet - Employee data'!OD57","v":0},{"$f":"'6 - Input sheet - Employee data'!OE57","v":0},{"$f":"'6 - Input sheet - Employee data'!OF57","v":0},{"$f":"'6 - Input sheet - Employee data'!OG57","v":0},{"$f":"'6 - Input sheet - Employee data'!OH57","v":0},{"$f":"'6 - Input sheet - Employee data'!OI57","v":0},{"$f":"'6 - Input sheet - Employee data'!OJ57","v":0},{"$f":"'6 - Input sheet - Employee data'!OK57","v":0},{"$f":"'6 - Input sheet - Employee data'!OL57","v":0},{"$f":"'6 - Input sheet - Employee data'!OM57","v":0},{"$f":"'6 - Input sheet - Employee data'!ON57","v":0},{"$f":"'6 - Input sheet - Employee data'!OO57","v":0},{"$f":"'6 - Input sheet - Employee data'!OP57","v":0},{"$f":"'6 - Input sheet - Employee data'!OQ57","v":0},{"$f":"'6 - Input sheet - Employee data'!OR57","v":0},{"$f":"'6 - Input sheet - Employee data'!OS57","v":0},{"$f":"'6 - Input sheet - Employee data'!OT57","v":0},{"$f":"'6 - Input sheet - Employee data'!OU57","v":0},{"$f":"'6 - Input sheet - Employee data'!OV57","v":0},{"$f":"'6 - Input sheet - Employee data'!OW57","v":0},{"$f":"'6 - Input sheet - Employee data'!OX57","v":0},{"$f":"'6 - Input sheet - Employee data'!OY57","v":0},{"$f":"'6 - Input sheet - Employee data'!OZ57","v":0},{"$f":"'6 - Input sheet - Employee data'!PA57","v":0},{"$f":"'6 - Input sheet - Employee data'!PB57","v":0},{"$f":"'6 - Input sheet - Employee data'!PC57","v":0},{"$f":"'6 - Input sheet - Employee data'!PD57","v":0},{"$f":"'6 - Input sheet - Employee data'!PE57","v":0},{"$f":"'6 - Input sheet - Employee data'!PF57","v":0},{"$f":"'6 - Input sheet - Employee data'!PG57","v":0},{"$f":"'6 - Input sheet - Employee data'!PH57","v":0},{"$f":"'6 - Input sheet - Employee data'!PI57","v":0},{"$f":"'6 - Input sheet - Employee data'!PJ57","v":0},{"$f":"'6 - Input sheet - Employee data'!PK57","v":0},{"$f":"'6 - Input sheet - Employee data'!PL57","v":0},{"$f":"'6 - Input sheet - Employee data'!PM57","v":0},{"$f":"'6 - Input sheet - Employee data'!PN57","v":0},{"$f":"'6 - Input sheet - Employee data'!PO57","v":0},{"$f":"'6 - Input sheet - Employee data'!PP57","v":0},{"$f":"'6 - Input sheet - Employee data'!PQ57","v":0},{"$f":"'6 - Input sheet - Employee data'!PR57","v":0},{"$f":"'6 - Input sheet - Employee data'!PS57","v":0},{"$f":"'6 - Input sheet - Employee data'!PT57","v":0},{"$f":"'6 - Input sheet - Employee data'!PU57","v":0},{"$f":"'6 - Input sheet - Employee data'!PV57","v":0},{"$f":"'6 - Input sheet - Employee data'!PW57","v":0},{"$f":"'6 - Input sheet - Employee data'!PX57","v":0},{"$f":"'6 - Input sheet - Employee data'!PY57","v":0},{"$f":"'6 - Input sheet - Employee data'!PZ57","v":0},{"$f":"'6 - Input sheet - Employee data'!QA57","v":0},{"$f":"'6 - Input sheet - Employee data'!QB57","v":0},{"$f":"'6 - Input sheet - Employee data'!QC57","v":0},{"$f":"'6 - Input sheet - Employee data'!QD57","v":0},{"$f":"'6 - Input sheet - Employee data'!QE57","v":0},{"$f":"'6 - Input sheet - Employee data'!QF57","v":0},{"$f":"'6 - Input sheet - Employee data'!QG57","v":0},{"$f":"'6 - Input sheet - Employee data'!QH57","v":0},{"$f":"'6 - Input sheet - Employee data'!QI57","v":0},{"$f":"'6 - Input sheet - Employee data'!QJ57","v":0},{"$f":"'6 - Input sheet - Employee data'!QK57","v":0},{"$f":"'6 - Input sheet - Employee data'!QL57","v":0},{"$f":"'6 - Input sheet - Employee data'!QM57","v":0},{"$f":"'6 - Input sheet - Employee data'!QN57","v":0},{"$f":"'6 - Input sheet - Employee data'!QO57","v":0},{"$f":"'6 - Input sheet - Employee data'!QP57","v":0},{"$f":"'6 - Input sheet - Employee data'!QQ57","v":0},{"$f":"'6 - Input sheet - Employee data'!QR57","v":0},{"$f":"'6 - Input sheet - Employee data'!QS57","v":0},{"$f":"'6 - Input sheet - Employee data'!QT57","v":0},{"$f":"'6 - Input sheet - Employee data'!QU57","v":0},{"$f":"'6 - Input sheet - Employee data'!QV57","v":0},{"$f":"'6 - Input sheet - Employee data'!QW57","v":0},{"$f":"'6 - Input sheet - Employee data'!QX57","v":0},{"$f":"'6 - Input sheet - Employee data'!QY57","v":0},{"$f":"'6 - Input sheet - Employee data'!QZ57","v":0},{"$f":"'6 - Input sheet - Employee data'!RA57","v":0},{"$f":"'6 - Input sheet - Employee data'!RB57","v":0},{"$f":"'6 - Input sheet - Employee data'!RC57","v":0},{"$f":"'6 - Input sheet - Employee data'!RD57","v":0},{"$f":"'6 - Input sheet - Employee data'!RE57","v":0},{"$f":"'6 - Input sheet - Employee data'!RF57","v":0},{"$f":"'6 - Input sheet - Employee data'!RG57","v":0},{"$f":"'6 - Input sheet - Employee data'!RH57","v":0},{"$f":"'6 - Input sheet - Employee data'!RI57","v":0},{"$f":"'6 - Input sheet - Employee data'!RJ57","v":0},{"$f":"'6 - Input sheet - Employee data'!RK57","v":0},{"$f":"'6 - Input sheet - Employee data'!RL57","v":0},{"$f":"'6 - Input sheet - Employee data'!RM57","v":0},{"$f":"'6 - Input sheet - Employee data'!RN57","v":0},{"$f":"'6 - Input sheet - Employee data'!RO57","v":0},{"$f":"'6 - Input sheet - Employee data'!RP57","v":0},{"$f":"'6 - Input sheet - Employee data'!RQ57","v":0},{"$f":"'6 - Input sheet - Employee data'!RR57","v":0},{"$f":"'6 - Input sheet - Employee data'!RS57","v":0},{"$f":"'6 - Input sheet - Employee data'!RT57","v":0},{"$f":"'6 - Input sheet - Employee data'!RU57","v":0},{"$f":"'6 - Input sheet - Employee data'!RV57","v":0},{"$f":"'6 - Input sheet - Employee data'!RW57","v":0},{"$f":"'6 - Input sheet - Employee data'!RX57","v":0},{"$f":"'6 - Input sheet - Employee data'!RY57","v":0},{"$f":"'6 - Input sheet - Employee data'!RZ57","v":0},{"$f":"'6 - Input sheet - Employee data'!SA57","v":0},{"$f":"'6 - Input sheet - Employee data'!SB57","v":0},{"$f":"'6 - Input sheet - Employee data'!SC57","v":0},{"$f":"'6 - Input sheet - Employee data'!SD57","v":0},{"$f":"'6 - Input sheet - Employee data'!SE57","v":0},{"$f":"'6 - Input sheet - Employee data'!SF57","v":0},{"$f":"'6 - Input sheet - Employee data'!SG57","v":0},{"$f":"'6 - Input sheet - Employee data'!SH57","v":0}]
[{"$f":"'6 - Input sheet - Employee data'!A58","v":"  Period 5 (enter date)"},0,{"$f":"'6 - Input sheet - Employee data'!C58","v":0},{"$f":"'6 - Input sheet - Employee data'!D58","v":0},{"$f":"'6 - Input sheet - Employee data'!E58","v":0},{"$f":"'6 - Input sheet - Employee data'!F58","v":0},{"$f":"'6 - Input sheet - Employee data'!G58","v":0},{"$f":"'6 - Input sheet - Employee data'!H58","v":0},{"$f":"'6 - Input sheet - Employee data'!I58","v":0},{"$f":"'6 - Input sheet - Employee data'!J58","v":0},{"$f":"'6 - Input sheet - Employee data'!K58","v":0},{"$f":"'6 - Input sheet - Employee data'!L58","v":0},{"$f":"'6 - Input sheet - Employee data'!M58","v":0},{"$f":"'6 - Input sheet - Employee data'!N58","v":0},{"$f":"'6 - Input sheet - Employee data'!O58","v":0},{"$f":"'6 - Input sheet - Employee data'!P58","v":0},{"$f":"'6 - Input sheet - Employee data'!Q58","v":0},{"$f":"'6 - Input sheet - Employee data'!R58","v":0},{"$f":"'6 - Input sheet - Employee data'!S58","v":0},{"$f":"'6 - Input sheet - Employee data'!T58","v":0},{"$f":"'6 - Input sheet - Employee data'!U58","v":0},{"$f":"'6 - Input sheet - Employee data'!V58","v":0},{"$f":"'6 - Input sheet - Employee data'!W58","v":0},{"$f":"'6 - Input sheet - Employee data'!X58","v":0},{"$f":"'6 - Input sheet - Employee data'!Y58","v":0},{"$f":"'6 - Input sheet - Employee data'!Z58","v":0},{"$f":"'6 - Input sheet - Employee data'!AA58","v":0},{"$f":"'6 - Input sheet - Employee data'!AB58","v":0},{"$f":"'6 - Input sheet - Employee data'!AC58","v":0},{"$f":"'6 - Input sheet - Employee data'!AD58","v":0},{"$f":"'6 - Input sheet - Employee data'!AE58","v":0},{"$f":"'6 - Input sheet - Employee data'!AF58","v":0},{"$f":"'6 - Input sheet - Employee data'!AG58","v":0},{"$f":"'6 - Input sheet - Employee data'!AH58","v":0},{"$f":"'6 - Input sheet - Employee data'!AI58","v":0},{"$f":"'6 - Input sheet - Employee data'!AJ58","v":0},{"$f":"'6 - Input sheet - Employee data'!AK58","v":0},{"$f":"'6 - Input sheet - Employee data'!AL58","v":0},{"$f":"'6 - Input sheet - Employee data'!AM58","v":0},{"$f":"'6 - Input sheet - Employee data'!AN58","v":0},{"$f":"'6 - Input sheet - Employee data'!AO58","v":0},{"$f":"'6 - Input sheet - Employee data'!AP58","v":0},{"$f":"'6 - Input sheet - Employee data'!AQ58","v":0},{"$f":"'6 - Input sheet - Employee data'!AR58","v":0},{"$f":"'6 - Input sheet - Employee data'!AS58","v":0},{"$f":"'6 - Input sheet - Employee data'!AT58","v":0},{"$f":"'6 - Input sheet - Employee data'!AU58","v":0},{"$f":"'6 - Input sheet - Employee data'!AV58","v":0},{"$f":"'6 - Input sheet - Employee data'!AW58","v":0},{"$f":"'6 - Input sheet - Employee data'!AX58","v":0},{"$f":"'6 - Input sheet - Employee data'!AY58","v":0},{"$f":"'6 - Input sheet - Employee data'!AZ58","v":0},{"$f":"'6 - Input sheet - Employee data'!BA58","v":0},{"$f":"'6 - Input sheet - Employee data'!BB58","v":0},{"$f":"'6 - Input sheet - Employee data'!BC58","v":0},{"$f":"'6 - Input sheet - Employee data'!BD58","v":0},{"$f":"'6 - Input sheet - Employee data'!BE58","v":0},{"$f":"'6 - Input sheet - Employee data'!BF58","v":0},{"$f":"'6 - Input sheet - Employee data'!BG58","v":0},{"$f":"'6 - Input sheet - Employee data'!BH58","v":0},{"$f":"'6 - Input sheet - Employee data'!BI58","v":0},{"$f":"'6 - Input sheet - Employee data'!BJ58","v":0},{"$f":"'6 - Input sheet - Employee data'!BK58","v":0},{"$f":"'6 - Input sheet - Employee data'!BL58","v":0},{"$f":"'6 - Input sheet - Employee data'!BM58","v":0},{"$f":"'6 - Input sheet - Employee data'!BN58","v":0},{"$f":"'6 - Input sheet - Employee data'!BO58","v":0},{"$f":"'6 - Input sheet - Employee data'!BP58","v":0},{"$f":"'6 - Input sheet - Employee data'!BQ58","v":0},{"$f":"'6 - Input sheet - Employee data'!BR58","v":0},{"$f":"'6 - Input sheet - Employee data'!BS58","v":0},{"$f":"'6 - Input sheet - Employee data'!BT58","v":0},{"$f":"'6 - Input sheet - Employee data'!BU58","v":0},{"$f":"'6 - Input sheet - Employee data'!BV58","v":0},{"$f":"'6 - Input sheet - Employee data'!BW58","v":0},{"$f":"'6 - Input sheet - Employee data'!BX58","v":0},{"$f":"'6 - Input sheet - Employee data'!BY58","v":0},{"$f":"'6 - Input sheet - Employee data'!BZ58","v":0},{"$f":"'6 - Input sheet - Employee data'!CA58","v":0},{"$f":"'6 - Input sheet - Employee data'!CB58","v":0},{"$f":"'6 - Input sheet - Employee data'!CC58","v":0},{"$f":"'6 - Input sheet - Employee data'!CD58","v":0},{"$f":"'6 - Input sheet - Employee data'!CE58","v":0},{"$f":"'6 - Input sheet - Employee data'!CF58","v":0},{"$f":"'6 - Input sheet - Employee data'!CG58","v":0},{"$f":"'6 - Input sheet - Employee data'!CH58","v":0},{"$f":"'6 - Input sheet - Employee data'!CI58","v":0},{"$f":"'6 - Input sheet - Employee data'!CJ58","v":0},{"$f":"'6 - Input sheet - Employee data'!CK58","v":0},{"$f":"'6 - Input sheet - Employee data'!CL58","v":0},{"$f":"'6 - Input sheet - Employee data'!CM58","v":0},{"$f":"'6 - Input sheet - Employee data'!CN58","v":0},{"$f":"'6 - Input sheet - Employee data'!CO58","v":0},{"$f":"'6 - Input sheet - Employee data'!CP58","v":0},{"$f":"'6 - Input sheet - Employee data'!CQ58","v":0},{"$f":"'6 - Input sheet - Employee data'!CR58","v":0},{"$f":"'6 - Input sheet - Employee data'!CS58","v":0},{"$f":"'6 - Input sheet - Employee data'!CT58","v":0},{"$f":"'6 - Input sheet - Employee data'!CU58","v":0},{"$f":"'6 - Input sheet - Employee data'!CV58","v":0},{"$f":"'6 - Input sheet - Employee data'!CW58","v":0},{"$f":"'6 - Input sheet - Employee data'!CX58","v":0},{"$f":"'6 - Input sheet - Employee data'!CY58","v":0},{"$f":"'6 - Input sheet - Employee data'!CZ58","v":0},{"$f":"'6 - Input sheet - Employee data'!DA58","v":0},{"$f":"'6 - Input sheet - Employee data'!DB58","v":0},{"$f":"'6 - Input sheet - Employee data'!DC58","v":0},{"$f":"'6 - Input sheet - Employee data'!DD58","v":0},{"$f":"'6 - Input sheet - Employee data'!DE58","v":0},{"$f":"'6 - Input sheet - Employee data'!DF58","v":0},{"$f":"'6 - Input sheet - Employee data'!DG58","v":0},{"$f":"'6 - Input sheet - Employee data'!DH58","v":0},{"$f":"'6 - Input sheet - Employee data'!DI58","v":0},{"$f":"'6 - Input sheet - Employee data'!DJ58","v":0},{"$f":"'6 - Input sheet - Employee data'!DK58","v":0},{"$f":"'6 - Input sheet - Employee data'!DL58","v":0},{"$f":"'6 - Input sheet - Employee data'!DM58","v":0},{"$f":"'6 - Input sheet - Employee data'!DN58","v":0},{"$f":"'6 - Input sheet - Employee data'!DO58","v":0},{"$f":"'6 - Input sheet - Employee data'!DP58","v":0},{"$f":"'6 - Input sheet - Employee data'!DQ58","v":0},{"$f":"'6 - Input sheet - Employee data'!DR58","v":0},{"$f":"'6 - Input sheet - Employee data'!DS58","v":0},{"$f":"'6 - Input sheet - Employee data'!DT58","v":0},{"$f":"'6 - Input sheet - Employee data'!DU58","v":0},{"$f":"'6 - Input sheet - Employee data'!DV58","v":0},{"$f":"'6 - Input sheet - Employee data'!DW58","v":0},{"$f":"'6 - Input sheet - Employee data'!DX58","v":0},{"$f":"'6 - Input sheet - Employee data'!DY58","v":0},{"$f":"'6 - Input sheet - Employee data'!DZ58","v":0},{"$f":"'6 - Input sheet - Employee data'!EA58","v":0},{"$f":"'6 - Input sheet - Employee data'!EB58","v":0},{"$f":"'6 - Input sheet - Employee data'!EC58","v":0},{"$f":"'6 - Input sheet - Employee data'!ED58","v":0},{"$f":"'6 - Input sheet - Employee data'!EE58","v":0},{"$f":"'6 - Input sheet - Employee data'!EF58","v":0},{"$f":"'6 - Input sheet - Employee data'!EG58","v":0},{"$f":"'6 - Input sheet - Employee data'!EH58","v":0},{"$f":"'6 - Input sheet - Employee data'!EI58","v":0},{"$f":"'6 - Input sheet - Employee data'!EJ58","v":0},{"$f":"'6 - Input sheet - Employee data'!EK58","v":0},{"$f":"'6 - Input sheet - Employee data'!EL58","v":0},{"$f":"'6 - Input sheet - Employee data'!EM58","v":0},{"$f":"'6 - Input sheet - Employee data'!EN58","v":0},{"$f":"'6 - Input sheet - Employee data'!EO58","v":0},{"$f":"'6 - Input sheet - Employee data'!EP58","v":0},{"$f":"'6 - Input sheet - Employee data'!EQ58","v":0},{"$f":"'6 - Input sheet - Employee data'!ER58","v":0},{"$f":"'6 - Input sheet - Employee data'!ES58","v":0},{"$f":"'6 - Input sheet - Employee data'!ET58","v":0},{"$f":"'6 - Input sheet - Employee data'!EU58","v":0},{"$f":"'6 - Input sheet - Employee data'!EV58","v":0},{"$f":"'6 - Input sheet - Employee data'!EW58","v":0},{"$f":"'6 - Input sheet - Employee data'!EX58","v":0},{"$f":"'6 - Input sheet - Employee data'!EY58","v":0},{"$f":"'6 - Input sheet - Employee data'!EZ58","v":0},{"$f":"'6 - Input sheet - Employee data'!FA58","v":0},{"$f":"'6 - Input sheet - Employee data'!FB58","v":0},{"$f":"'6 - Input sheet - Employee data'!FC58","v":0},{"$f":"'6 - Input sheet - Employee data'!FD58","v":0},{"$f":"'6 - Input sheet - Employee data'!FE58","v":0},{"$f":"'6 - Input sheet - Employee data'!FF58","v":0},{"$f":"'6 - Input sheet - Employee data'!FG58","v":0},{"$f":"'6 - Input sheet - Employee data'!FH58","v":0},{"$f":"'6 - Input sheet - Employee data'!FI58","v":0},{"$f":"'6 - Input sheet - Employee data'!FJ58","v":0},{"$f":"'6 - Input sheet - Employee data'!FK58","v":0},{"$f":"'6 - Input sheet - Employee data'!FL58","v":0},{"$f":"'6 - Input sheet - Employee data'!FM58","v":0},{"$f":"'6 - Input sheet - Employee data'!FN58","v":0},{"$f":"'6 - Input sheet - Employee data'!FO58","v":0},{"$f":"'6 - Input sheet - Employee data'!FP58","v":0},{"$f":"'6 - Input sheet - Employee data'!FQ58","v":0},{"$f":"'6 - Input sheet - Employee data'!FR58","v":0},{"$f":"'6 - Input sheet - Employee data'!FS58","v":0},{"$f":"'6 - Input sheet - Employee data'!FT58","v":0},{"$f":"'6 - Input sheet - Employee data'!FU58","v":0},{"$f":"'6 - Input sheet - Employee data'!FV58","v":0},{"$f":"'6 - Input sheet - Employee data'!FW58","v":0},{"$f":"'6 - Input sheet - Employee data'!FX58","v":0},{"$f":"'6 - Input sheet - Employee data'!FY58","v":0},{"$f":"'6 - Input sheet - Employee data'!FZ58","v":0},{"$f":"'6 - Input sheet - Employee data'!GA58","v":0},{"$f":"'6 - Input sheet - Employee data'!GB58","v":0},{"$f":"'6 - Input sheet - Employee data'!GC58","v":0},{"$f":"'6 - Input sheet - Employee data'!GD58","v":0},{"$f":"'6 - Input sheet - Employee data'!GE58","v":0},{"$f":"'6 - Input sheet - Employee data'!GF58","v":0},{"$f":"'6 - Input sheet - Employee data'!GG58","v":0},{"$f":"'6 - Input sheet - Employee data'!GH58","v":0},{"$f":"'6 - Input sheet - Employee data'!GI58","v":0},{"$f":"'6 - Input sheet - Employee data'!GJ58","v":0},{"$f":"'6 - Input sheet - Employee data'!GK58","v":0},{"$f":"'6 - Input sheet - Employee data'!GL58","v":0},{"$f":"'6 - Input sheet - Employee data'!GM58","v":0},{"$f":"'6 - Input sheet - Employee data'!GN58","v":0},{"$f":"'6 - Input sheet - Employee data'!GO58","v":0},{"$f":"'6 - Input sheet - Employee data'!GP58","v":0},{"$f":"'6 - Input sheet - Employee data'!GQ58","v":0},{"$f":"'6 - Input sheet - Employee data'!GR58","v":0},{"$f":"'6 - Input sheet - Employee data'!GS58","v":0},{"$f":"'6 - Input sheet - Employee data'!GT58","v":0},{"$f":"'6 - Input sheet - Employee data'!GU58","v":0},{"$f":"'6 - Input sheet - Employee data'!GV58","v":0},{"$f":"'6 - Input sheet - Employee data'!GW58","v":0},{"$f":"'6 - Input sheet - Employee data'!GX58","v":0},{"$f":"'6 - Input sheet - Employee data'!GY58","v":0},{"$f":"'6 - Input sheet - Employee data'!GZ58","v":0},{"$f":"'6 - Input sheet - Employee data'!HA58","v":0},{"$f":"'6 - Input sheet - Employee data'!HB58","v":0},{"$f":"'6 - Input sheet - Employee data'!HC58","v":0},{"$f":"'6 - Input sheet - Employee data'!HD58","v":0},{"$f":"'6 - Input sheet - Employee data'!HE58","v":0},{"$f":"'6 - Input sheet - Employee data'!HF58","v":0},{"$f":"'6 - Input sheet - Employee data'!HG58","v":0},{"$f":"'6 - Input sheet - Employee data'!HH58","v":0},{"$f":"'6 - Input sheet - Employee data'!HI58","v":0},{"$f":"'6 - Input sheet - Employee data'!HJ58","v":0},{"$f":"'6 - Input sheet - Employee data'!HK58","v":0},{"$f":"'6 - Input sheet - Employee data'!HL58","v":0},{"$f":"'6 - Input sheet - Employee data'!HM58","v":0},{"$f":"'6 - Input sheet - Employee data'!HN58","v":0},{"$f":"'6 - Input sheet - Employee data'!HO58","v":0},{"$f":"'6 - Input sheet - Employee data'!HP58","v":0},{"$f":"'6 - Input sheet - Employee data'!HQ58","v":0},{"$f":"'6 - Input sheet - Employee data'!HR58","v":0},{"$f":"'6 - Input sheet - Employee data'!HS58","v":0},{"$f":"'6 - Input sheet - Employee data'!HT58","v":0},{"$f":"'6 - Input sheet - Employee data'!HU58","v":0},{"$f":"'6 - Input sheet - Employee data'!HV58","v":0},{"$f":"'6 - Input sheet - Employee data'!HW58","v":0},{"$f":"'6 - Input sheet - Employee data'!HX58","v":0},{"$f":"'6 - Input sheet - Employee data'!HY58","v":0},{"$f":"'6 - Input sheet - Employee data'!HZ58","v":0},{"$f":"'6 - Input sheet - Employee data'!IA58","v":0},{"$f":"'6 - Input sheet - Employee data'!IB58","v":0},{"$f":"'6 - Input sheet - Employee data'!IC58","v":0},{"$f":"'6 - Input sheet - Employee data'!ID58","v":0},{"$f":"'6 - Input sheet - Employee data'!IE58","v":0},{"$f":"'6 - Input sheet - Employee data'!IF58","v":0},{"$f":"'6 - Input sheet - Employee data'!IG58","v":0},{"$f":"'6 - Input sheet - Employee data'!IH58","v":0},{"$f":"'6 - Input sheet - Employee data'!II58","v":0},{"$f":"'6 - Input sheet - Employee data'!IJ58","v":0},{"$f":"'6 - Input sheet - Employee data'!IK58","v":0},{"$f":"'6 - Input sheet - Employee data'!IL58","v":0},{"$f":"'6 - Input sheet - Employee data'!IM58","v":0},{"$f":"'6 - Input sheet - Employee data'!IN58","v":0},{"$f":"'6 - Input sheet - Employee data'!IO58","v":0},{"$f":"'6 - Input sheet - Employee data'!IP58","v":0},{"$f":"'6 - Input sheet - Employee data'!IQ58","v":0},{"$f":"'6 - Input sheet - Employee data'!IR58","v":0},{"$f":"'6 - Input sheet - Employee data'!IS58","v":0},{"$f":"'6 - Input sheet - Employee data'!IT58","v":0},{"$f":"'6 - Input sheet - Employee data'!IU58","v":0},{"$f":"'6 - Input sheet - Employee data'!IV58","v":0},{"$f":"'6 - Input sheet - Employee data'!IW58","v":0},{"$f":"'6 - Input sheet - Employee data'!IX58","v":0},{"$f":"'6 - Input sheet - Employee data'!IY58","v":0},{"$f":"'6 - Input sheet - Employee data'!IZ58","v":0},{"$f":"'6 - Input sheet - Employee data'!JA58","v":0},{"$f":"'6 - Input sheet - Employee data'!JB58","v":0},{"$f":"'6 - Input sheet - Employee data'!JC58","v":0},{"$f":"'6 - Input sheet - Employee data'!JD58","v":0},{"$f":"'6 - Input sheet - Employee data'!JE58","v":0},{"$f":"'6 - Input sheet - Employee data'!JF58","v":0},{"$f":"'6 - Input sheet - Employee data'!JG58","v":0},{"$f":"'6 - Input sheet - Employee data'!JH58","v":0},{"$f":"'6 - Input sheet - Employee data'!JI58","v":0},{"$f":"'6 - Input sheet - Employee data'!JJ58","v":0},{"$f":"'6 - Input sheet - Employee data'!JK58","v":0},{"$f":"'6 - Input sheet - Employee data'!JL58","v":0},{"$f":"'6 - Input sheet - Employee data'!JM58","v":0},{"$f":"'6 - Input sheet - Employee data'!JN58","v":0},{"$f":"'6 - Input sheet - Employee data'!JO58","v":0},{"$f":"'6 - Input sheet - Employee data'!JP58","v":0},{"$f":"'6 - Input sheet - Employee data'!JQ58","v":0},{"$f":"'6 - Input sheet - Employee data'!JR58","v":0},{"$f":"'6 - Input sheet - Employee data'!JS58","v":0},{"$f":"'6 - Input sheet - Employee data'!JT58","v":0},{"$f":"'6 - Input sheet - Employee data'!JU58","v":0},{"$f":"'6 - Input sheet - Employee data'!JV58","v":0},{"$f":"'6 - Input sheet - Employee data'!JW58","v":0},{"$f":"'6 - Input sheet - Employee data'!JX58","v":0},{"$f":"'6 - Input sheet - Employee data'!JY58","v":0},{"$f":"'6 - Input sheet - Employee data'!JZ58","v":0},{"$f":"'6 - Input sheet - Employee data'!KA58","v":0},{"$f":"'6 - Input sheet - Employee data'!KB58","v":0},{"$f":"'6 - Input sheet - Employee data'!KC58","v":0},{"$f":"'6 - Input sheet - Employee data'!KD58","v":0},{"$f":"'6 - Input sheet - Employee data'!KE58","v":0},{"$f":"'6 - Input sheet - Employee data'!KF58","v":0},{"$f":"'6 - Input sheet - Employee data'!KG58","v":0},{"$f":"'6 - Input sheet - Employee data'!KH58","v":0},{"$f":"'6 - Input sheet - Employee data'!KI58","v":0},{"$f":"'6 - Input sheet - Employee data'!KJ58","v":0},{"$f":"'6 - Input sheet - Employee data'!KK58","v":0},{"$f":"'6 - Input sheet - Employee data'!KL58","v":0},{"$f":"'6 - Input sheet - Employee data'!KM58","v":0},{"$f":"'6 - Input sheet - Employee data'!KN58","v":0},{"$f":"'6 - Input sheet - Employee data'!KO58","v":0},{"$f":"'6 - Input sheet - Employee data'!KP58","v":0},{"$f":"'6 - Input sheet - Employee data'!KQ58","v":0},{"$f":"'6 - Input sheet - Employee data'!KR58","v":0},{"$f":"'6 - Input sheet - Employee data'!KS58","v":0},{"$f":"'6 - Input sheet - Employee data'!KT58","v":0},{"$f":"'6 - Input sheet - Employee data'!KU58","v":0},{"$f":"'6 - Input sheet - Employee data'!KV58","v":0},{"$f":"'6 - Input sheet - Employee data'!KW58","v":0},{"$f":"'6 - Input sheet - Employee data'!KX58","v":0},{"$f":"'6 - Input sheet - Employee data'!KY58","v":0},{"$f":"'6 - Input sheet - Employee data'!KZ58","v":0},{"$f":"'6 - Input sheet - Employee data'!LA58","v":0},{"$f":"'6 - Input sheet - Employee data'!LB58","v":0},{"$f":"'6 - Input sheet - Employee data'!LC58","v":0},{"$f":"'6 - Input sheet - Employee data'!LD58","v":0},{"$f":"'6 - Input sheet - Employee data'!LE58","v":0},{"$f":"'6 - Input sheet - Employee data'!LF58","v":0},{"$f":"'6 - Input sheet - Employee data'!LG58","v":0},{"$f":"'6 - Input sheet - Employee data'!LH58","v":0},{"$f":"'6 - Input sheet - Employee data'!LI58","v":0},{"$f":"'6 - Input sheet - Employee data'!LJ58","v":0},{"$f":"'6 - Input sheet - Employee data'!LK58","v":0},{"$f":"'6 - Input sheet - Employee data'!LL58","v":0},{"$f":"'6 - Input sheet - Employee data'!LM58","v":0},{"$f":"'6 - Input sheet - Employee data'!LN58","v":0},{"$f":"'6 - Input sheet - Employee data'!LO58","v":0},{"$f":"'6 - Input sheet - Employee data'!LP58","v":0},{"$f":"'6 - Input sheet - Employee data'!LQ58","v":0},{"$f":"'6 - Input sheet - Employee data'!LR58","v":0},{"$f":"'6 - Input sheet - Employee data'!LS58","v":0},{"$f":"'6 - Input sheet - Employee data'!LT58","v":0},{"$f":"'6 - Input sheet - Employee data'!LU58","v":0},{"$f":"'6 - Input sheet - Employee data'!LV58","v":0},{"$f":"'6 - Input sheet - Employee data'!LW58","v":0},{"$f":"'6 - Input sheet - Employee data'!LX58","v":0},{"$f":"'6 - Input sheet - Employee data'!LY58","v":0},{"$f":"'6 - Input sheet - Employee data'!LZ58","v":0},{"$f":"'6 - Input sheet - Employee data'!MA58","v":0},{"$f":"'6 - Input sheet - Employee data'!MB58","v":0},{"$f":"'6 - Input sheet - Employee data'!MC58","v":0},{"$f":"'6 - Input sheet - Employee data'!MD58","v":0},{"$f":"'6 - Input sheet - Employee data'!ME58","v":0},{"$f":"'6 - Input sheet - Employee data'!MF58","v":0},{"$f":"'6 - Input sheet - Employee data'!MG58","v":0},{"$f":"'6 - Input sheet - Employee data'!MH58","v":0},{"$f":"'6 - Input sheet - Employee data'!MI58","v":0},{"$f":"'6 - Input sheet - Employee data'!MJ58","v":0},{"$f":"'6 - Input sheet - Employee data'!MK58","v":0},{"$f":"'6 - Input sheet - Employee data'!ML58","v":0},{"$f":"'6 - Input sheet - Employee data'!MM58","v":0},{"$f":"'6 - Input sheet - Employee data'!MN58","v":0},{"$f":"'6 - Input sheet - Employee data'!MO58","v":0},{"$f":"'6 - Input sheet - Employee data'!MP58","v":0},{"$f":"'6 - Input sheet - Employee data'!MQ58","v":0},{"$f":"'6 - Input sheet - Employee data'!MR58","v":0},{"$f":"'6 - Input sheet - Employee data'!MS58","v":0},{"$f":"'6 - Input sheet - Employee data'!MT58","v":0},{"$f":"'6 - Input sheet - Employee data'!MU58","v":0},{"$f":"'6 - Input sheet - Employee data'!MV58","v":0},{"$f":"'6 - Input sheet - Employee data'!MW58","v":0},{"$f":"'6 - Input sheet - Employee data'!MX58","v":0},{"$f":"'6 - Input sheet - Employee data'!MY58","v":0},{"$f":"'6 - Input sheet - Employee data'!MZ58","v":0},{"$f":"'6 - Input sheet - Employee data'!NA58","v":0},{"$f":"'6 - Input sheet - Employee data'!NB58","v":0},{"$f":"'6 - Input sheet - Employee data'!NC58","v":0},{"$f":"'6 - Input sheet - Employee data'!ND58","v":0},{"$f":"'6 - Input sheet - Employee data'!NE58","v":0},{"$f":"'6 - Input sheet - Employee data'!NF58","v":0},{"$f":"'6 - Input sheet - Employee data'!NG58","v":0},{"$f":"'6 - Input sheet - Employee data'!NH58","v":0},{"$f":"'6 - Input sheet - Employee data'!NI58","v":0},{"$f":"'6 - Input sheet - Employee data'!NJ58","v":0},{"$f":"'6 - Input sheet - Employee data'!NK58","v":0},{"$f":"'6 - Input sheet - Employee data'!NL58","v":0},{"$f":"'6 - Input sheet - Employee data'!NM58","v":0},{"$f":"'6 - Input sheet - Employee data'!NN58","v":0},{"$f":"'6 - Input sheet - Employee data'!NO58","v":0},{"$f":"'6 - Input sheet - Employee data'!NP58","v":0},{"$f":"'6 - Input sheet - Employee data'!NQ58","v":0},{"$f":"'6 - Input sheet - Employee data'!NR58","v":0},{"$f":"'6 - Input sheet - Employee data'!NS58","v":0},{"$f":"'6 - Input sheet - Employee data'!NT58","v":0},{"$f":"'6 - Input sheet - Employee data'!NU58","v":0},{"$f":"'6 - Input sheet - Employee data'!NV58","v":0},{"$f":"'6 - Input sheet - Employee data'!NW58","v":0},{"$f":"'6 - Input sheet - Employee data'!NX58","v":0},{"$f":"'6 - Input sheet - Employee data'!NY58","v":0},{"$f":"'6 - Input sheet - Employee data'!NZ58","v":0},{"$f":"'6 - Input sheet - Employee data'!OA58","v":0},{"$f":"'6 - Input sheet - Employee data'!OB58","v":0},{"$f":"'6 - Input sheet - Employee data'!OC58","v":0},{"$f":"'6 - Input sheet - Employee data'!OD58","v":0},{"$f":"'6 - Input sheet - Employee data'!OE58","v":0},{"$f":"'6 - Input sheet - Employee data'!OF58","v":0},{"$f":"'6 - Input sheet - Employee data'!OG58","v":0},{"$f":"'6 - Input sheet - Employee data'!OH58","v":0},{"$f":"'6 - Input sheet - Employee data'!OI58","v":0},{"$f":"'6 - Input sheet - Employee data'!OJ58","v":0},{"$f":"'6 - Input sheet - Employee data'!OK58","v":0},{"$f":"'6 - Input sheet - Employee data'!OL58","v":0},{"$f":"'6 - Input sheet - Employee data'!OM58","v":0},{"$f":"'6 - Input sheet - Employee data'!ON58","v":0},{"$f":"'6 - Input sheet - Employee data'!OO58","v":0},{"$f":"'6 - Input sheet - Employee data'!OP58","v":0},{"$f":"'6 - Input sheet - Employee data'!OQ58","v":0},{"$f":"'6 - Input sheet - Employee data'!OR58","v":0},{"$f":"'6 - Input sheet - Employee data'!OS58","v":0},{"$f":"'6 - Input sheet - Employee data'!OT58","v":0},{"$f":"'6 - Input sheet - Employee data'!OU58","v":0},{"$f":"'6 - Input sheet - Employee data'!OV58","v":0},{"$f":"'6 - Input sheet - Employee data'!OW58","v":0},{"$f":"'6 - Input sheet - Employee data'!OX58","v":0},{"$f":"'6 - Input sheet - Employee data'!OY58","v":0},{"$f":"'6 - Input sheet - Employee data'!OZ58","v":0},{"$f":"'6 - Input sheet - Employee data'!PA58","v":0},{"$f":"'6 - Input sheet - Employee data'!PB58","v":0},{"$f":"'6 - Input sheet - Employee data'!PC58","v":0},{"$f":"'6 - Input sheet - Employee data'!PD58","v":0},{"$f":"'6 - Input sheet - Employee data'!PE58","v":0},{"$f":"'6 - Input sheet - Employee data'!PF58","v":0},{"$f":"'6 - Input sheet - Employee data'!PG58","v":0},{"$f":"'6 - Input sheet - Employee data'!PH58","v":0},{"$f":"'6 - Input sheet - Employee data'!PI58","v":0},{"$f":"'6 - Input sheet - Employee data'!PJ58","v":0},{"$f":"'6 - Input sheet - Employee data'!PK58","v":0},{"$f":"'6 - Input sheet - Employee data'!PL58","v":0},{"$f":"'6 - Input sheet - Employee data'!PM58","v":0},{"$f":"'6 - Input sheet - Employee data'!PN58","v":0},{"$f":"'6 - Input sheet - Employee data'!PO58","v":0},{"$f":"'6 - Input sheet - Employee data'!PP58","v":0},{"$f":"'6 - Input sheet - Employee data'!PQ58","v":0},{"$f":"'6 - Input sheet - Employee data'!PR58","v":0},{"$f":"'6 - Input sheet - Employee data'!PS58","v":0},{"$f":"'6 - Input sheet - Employee data'!PT58","v":0},{"$f":"'6 - Input sheet - Employee data'!PU58","v":0},{"$f":"'6 - Input sheet - Employee data'!PV58","v":0},{"$f":"'6 - Input sheet - Employee data'!PW58","v":0},{"$f":"'6 - Input sheet - Employee data'!PX58","v":0},{"$f":"'6 - Input sheet - Employee data'!PY58","v":0},{"$f":"'6 - Input sheet - Employee data'!PZ58","v":0},{"$f":"'6 - Input sheet - Employee data'!QA58","v":0},{"$f":"'6 - Input sheet - Employee data'!QB58","v":0},{"$f":"'6 - Input sheet - Employee data'!QC58","v":0},{"$f":"'6 - Input sheet - Employee data'!QD58","v":0},{"$f":"'6 - Input sheet - Employee data'!QE58","v":0},{"$f":"'6 - Input sheet - Employee data'!QF58","v":0},{"$f":"'6 - Input sheet - Employee data'!QG58","v":0},{"$f":"'6 - Input sheet - Employee data'!QH58","v":0},{"$f":"'6 - Input sheet - Employee data'!QI58","v":0},{"$f":"'6 - Input sheet - Employee data'!QJ58","v":0},{"$f":"'6 - Input sheet - Employee data'!QK58","v":0},{"$f":"'6 - Input sheet - Employee data'!QL58","v":0},{"$f":"'6 - Input sheet - Employee data'!QM58","v":0},{"$f":"'6 - Input sheet - Employee data'!QN58","v":0},{"$f":"'6 - Input sheet - Employee data'!QO58","v":0},{"$f":"'6 - Input sheet - Employee data'!QP58","v":0},{"$f":"'6 - Input sheet - Employee data'!QQ58","v":0},{"$f":"'6 - Input sheet - Employee data'!QR58","v":0},{"$f":"'6 - Input sheet - Employee data'!QS58","v":0},{"$f":"'6 - Input sheet - Employee data'!QT58","v":0},{"$f":"'6 - Input sheet - Employee data'!QU58","v":0},{"$f":"'6 - Input sheet - Employee data'!QV58","v":0},{"$f":"'6 - Input sheet - Employee data'!QW58","v":0},{"$f":"'6 - Input sheet - Employee data'!QX58","v":0},{"$f":"'6 - Input sheet - Employee data'!QY58","v":0},{"$f":"'6 - Input sheet - Employee data'!QZ58","v":0},{"$f":"'6 - Input sheet - Employee data'!RA58","v":0},{"$f":"'6 - Input sheet - Employee data'!RB58","v":0},{"$f":"'6 - Input sheet - Employee data'!RC58","v":0},{"$f":"'6 - Input sheet - Employee data'!RD58","v":0},{"$f":"'6 - Input sheet - Employee data'!RE58","v":0},{"$f":"'6 - Input sheet - Employee data'!RF58","v":0},{"$f":"'6 - Input sheet - Employee data'!RG58","v":0},{"$f":"'6 - Input sheet - Employee data'!RH58","v":0},{"$f":"'6 - Input sheet - Employee data'!RI58","v":0},{"$f":"'6 - Input sheet - Employee data'!RJ58","v":0},{"$f":"'6 - Input sheet - Employee data'!RK58","v":0},{"$f":"'6 - Input sheet - Employee data'!RL58","v":0},{"$f":"'6 - Input sheet - Employee data'!RM58","v":0},{"$f":"'6 - Input sheet - Employee data'!RN58","v":0},{"$f":"'6 - Input sheet - Employee data'!RO58","v":0},{"$f":"'6 - Input sheet - Employee data'!RP58","v":0},{"$f":"'6 - Input sheet - Employee data'!RQ58","v":0},{"$f":"'6 - Input sheet - Employee data'!RR58","v":0},{"$f":"'6 - Input sheet - Employee data'!RS58","v":0},{"$f":"'6 - Input sheet - Employee data'!RT58","v":0},{"$f":"'6 - Input sheet - Employee data'!RU58","v":0},{"$f":"'6 - Input sheet - Employee data'!RV58","v":0},{"$f":"'6 - Input sheet - Employee data'!RW58","v":0},{"$f":"'6 - Input sheet - Employee data'!RX58","v":0},{"$f":"'6 - Input sheet - Employee data'!RY58","v":0},{"$f":"'6 - Input sheet - Employee data'!RZ58","v":0},{"$f":"'6 - Input sheet - Employee data'!SA58","v":0},{"$f":"'6 - Input sheet - Employee data'!SB58","v":0},{"$f":"'6 - Input sheet - Employee data'!SC58","v":0},{"$f":"'6 - Input sheet - Employee data'!SD58","v":0},{"$f":"'6 - Input sheet - Employee data'!SE58","v":0},{"$f":"'6 - Input sheet - Employee data'!SF58","v":0},{"$f":"'6 - Input sheet - Employee data'!SG58","v":0},{"$f":"'6 - Input sheet - Employee data'!SH58","v":0}]
[{"$f":"'6 - Input sheet - Employee data'!A59","v":"  Period 6 (enter date)"},0,{"$f":"'6 - Input sheet - Employee data'!C59","v":0},{"$f":"'6 - Input sheet - Employee data'!D59","v":0},{"$f":"'6 - Input sheet - Employee data'!E59","v":0},{"$f":"'6 - Input sheet - Employee data'!F59","v":0},{"$f":"'6 - Input sheet - Employee data'!G59","v":0},{"$f":"'6 - Input sheet - Employee data'!H59","v":0},{"$f":"'6 - Input sheet - Employee data'!I59","v":0},{"$f":"'6 - Input sheet - Employee data'!J59","v":0},{"$f":"'6 - Input sheet - Employee data'!K59","v":0},{"$f":"'6 - Input sheet - Employee data'!L59","v":0},{"$f":"'6 - Input sheet - Employee data'!M59","v":0},{"$f":"'6 - Input sheet - Employee data'!N59","v":0},{"$f":"'6 - Input sheet - Employee data'!O59","v":0},{"$f":"'6 - Input sheet - Employee data'!P59","v":0},{"$f":"'6 - Input sheet - Employee data'!Q59","v":0},{"$f":"'6 - Input sheet - Employee data'!R59","v":0},{"$f":"'6 - Input sheet - Employee data'!S59","v":0},{"$f":"'6 - Input sheet - Employee data'!T59","v":0},{"$f":"'6 - Input sheet - Employee data'!U59","v":0},{"$f":"'6 - Input sheet - Employee data'!V59","v":0},{"$f":"'6 - Input sheet - Employee data'!W59","v":0},{"$f":"'6 - Input sheet - Employee data'!X59","v":0},{"$f":"'6 - Input sheet - Employee data'!Y59","v":0},{"$f":"'6 - Input sheet - Employee data'!Z59","v":0},{"$f":"'6 - Input sheet - Employee data'!AA59","v":0},{"$f":"'6 - Input sheet - Employee data'!AB59","v":0},{"$f":"'6 - Input sheet - Employee data'!AC59","v":0},{"$f":"'6 - Input sheet - Employee data'!AD59","v":0},{"$f":"'6 - Input sheet - Employee data'!AE59","v":0},{"$f":"'6 - Input sheet - Employee data'!AF59","v":0},{"$f":"'6 - Input sheet - Employee data'!AG59","v":0},{"$f":"'6 - Input sheet - Employee data'!AH59","v":0},{"$f":"'6 - Input sheet - Employee data'!AI59","v":0},{"$f":"'6 - Input sheet - Employee data'!AJ59","v":0},{"$f":"'6 - Input sheet - Employee data'!AK59","v":0},{"$f":"'6 - Input sheet - Employee data'!AL59","v":0},{"$f":"'6 - Input sheet - Employee data'!AM59","v":0},{"$f":"'6 - Input sheet - Employee data'!AN59","v":0},{"$f":"'6 - Input sheet - Employee data'!AO59","v":0},{"$f":"'6 - Input sheet - Employee data'!AP59","v":0},{"$f":"'6 - Input sheet - Employee data'!AQ59","v":0},{"$f":"'6 - Input sheet - Employee data'!AR59","v":0},{"$f":"'6 - Input sheet - Employee data'!AS59","v":0},{"$f":"'6 - Input sheet - Employee data'!AT59","v":0},{"$f":"'6 - Input sheet - Employee data'!AU59","v":0},{"$f":"'6 - Input sheet - Employee data'!AV59","v":0},{"$f":"'6 - Input sheet - Employee data'!AW59","v":0},{"$f":"'6 - Input sheet - Employee data'!AX59","v":0},{"$f":"'6 - Input sheet - Employee data'!AY59","v":0},{"$f":"'6 - Input sheet - Employee data'!AZ59","v":0},{"$f":"'6 - Input sheet - Employee data'!BA59","v":0},{"$f":"'6 - Input sheet - Employee data'!BB59","v":0},{"$f":"'6 - Input sheet - Employee data'!BC59","v":0},{"$f":"'6 - Input sheet - Employee data'!BD59","v":0},{"$f":"'6 - Input sheet - Employee data'!BE59","v":0},{"$f":"'6 - Input sheet - Employee data'!BF59","v":0},{"$f":"'6 - Input sheet - Employee data'!BG59","v":0},{"$f":"'6 - Input sheet - Employee data'!BH59","v":0},{"$f":"'6 - Input sheet - Employee data'!BI59","v":0},{"$f":"'6 - Input sheet - Employee data'!BJ59","v":0},{"$f":"'6 - Input sheet - Employee data'!BK59","v":0},{"$f":"'6 - Input sheet - Employee data'!BL59","v":0},{"$f":"'6 - Input sheet - Employee data'!BM59","v":0},{"$f":"'6 - Input sheet - Employee data'!BN59","v":0},{"$f":"'6 - Input sheet - Employee data'!BO59","v":0},{"$f":"'6 - Input sheet - Employee data'!BP59","v":0},{"$f":"'6 - Input sheet - Employee data'!BQ59","v":0},{"$f":"'6 - Input sheet - Employee data'!BR59","v":0},{"$f":"'6 - Input sheet - Employee data'!BS59","v":0},{"$f":"'6 - Input sheet - Employee data'!BT59","v":0},{"$f":"'6 - Input sheet - Employee data'!BU59","v":0},{"$f":"'6 - Input sheet - Employee data'!BV59","v":0},{"$f":"'6 - Input sheet - Employee data'!BW59","v":0},{"$f":"'6 - Input sheet - Employee data'!BX59","v":0},{"$f":"'6 - Input sheet - Employee data'!BY59","v":0},{"$f":"'6 - Input sheet - Employee data'!BZ59","v":0},{"$f":"'6 - Input sheet - Employee data'!CA59","v":0},{"$f":"'6 - Input sheet - Employee data'!CB59","v":0},{"$f":"'6 - Input sheet - Employee data'!CC59","v":0},{"$f":"'6 - Input sheet - Employee data'!CD59","v":0},{"$f":"'6 - Input sheet - Employee data'!CE59","v":0},{"$f":"'6 - Input sheet - Employee data'!CF59","v":0},{"$f":"'6 - Input sheet - Employee data'!CG59","v":0},{"$f":"'6 - Input sheet - Employee data'!CH59","v":0},{"$f":"'6 - Input sheet - Employee data'!CI59","v":0},{"$f":"'6 - Input sheet - Employee data'!CJ59","v":0},{"$f":"'6 - Input sheet - Employee data'!CK59","v":0},{"$f":"'6 - Input sheet - Employee data'!CL59","v":0},{"$f":"'6 - Input sheet - Employee data'!CM59","v":0},{"$f":"'6 - Input sheet - Employee data'!CN59","v":0},{"$f":"'6 - Input sheet - Employee data'!CO59","v":0},{"$f":"'6 - Input sheet - Employee data'!CP59","v":0},{"$f":"'6 - Input sheet - Employee data'!CQ59","v":0},{"$f":"'6 - Input sheet - Employee data'!CR59","v":0},{"$f":"'6 - Input sheet - Employee data'!CS59","v":0},{"$f":"'6 - Input sheet - Employee data'!CT59","v":0},{"$f":"'6 - Input sheet - Employee data'!CU59","v":0},{"$f":"'6 - Input sheet - Employee data'!CV59","v":0},{"$f":"'6 - Input sheet - Employee data'!CW59","v":0},{"$f":"'6 - Input sheet - Employee data'!CX59","v":0},{"$f":"'6 - Input sheet - Employee data'!CY59","v":0},{"$f":"'6 - Input sheet - Employee data'!CZ59","v":0},{"$f":"'6 - Input sheet - Employee data'!DA59","v":0},{"$f":"'6 - Input sheet - Employee data'!DB59","v":0},{"$f":"'6 - Input sheet - Employee data'!DC59","v":0},{"$f":"'6 - Input sheet - Employee data'!DD59","v":0},{"$f":"'6 - Input sheet - Employee data'!DE59","v":0},{"$f":"'6 - Input sheet - Employee data'!DF59","v":0},{"$f":"'6 - Input sheet - Employee data'!DG59","v":0},{"$f":"'6 - Input sheet - Employee data'!DH59","v":0},{"$f":"'6 - Input sheet - Employee data'!DI59","v":0},{"$f":"'6 - Input sheet - Employee data'!DJ59","v":0},{"$f":"'6 - Input sheet - Employee data'!DK59","v":0},{"$f":"'6 - Input sheet - Employee data'!DL59","v":0},{"$f":"'6 - Input sheet - Employee data'!DM59","v":0},{"$f":"'6 - Input sheet - Employee data'!DN59","v":0},{"$f":"'6 - Input sheet - Employee data'!DO59","v":0},{"$f":"'6 - Input sheet - Employee data'!DP59","v":0},{"$f":"'6 - Input sheet - Employee data'!DQ59","v":0},{"$f":"'6 - Input sheet - Employee data'!DR59","v":0},{"$f":"'6 - Input sheet - Employee data'!DS59","v":0},{"$f":"'6 - Input sheet - Employee data'!DT59","v":0},{"$f":"'6 - Input sheet - Employee data'!DU59","v":0},{"$f":"'6 - Input sheet - Employee data'!DV59","v":0},{"$f":"'6 - Input sheet - Employee data'!DW59","v":0},{"$f":"'6 - Input sheet - Employee data'!DX59","v":0},{"$f":"'6 - Input sheet - Employee data'!DY59","v":0},{"$f":"'6 - Input sheet - Employee data'!DZ59","v":0},{"$f":"'6 - Input sheet - Employee data'!EA59","v":0},{"$f":"'6 - Input sheet - Employee data'!EB59","v":0},{"$f":"'6 - Input sheet - Employee data'!EC59","v":0},{"$f":"'6 - Input sheet - Employee data'!ED59","v":0},{"$f":"'6 - Input sheet - Employee data'!EE59","v":0},{"$f":"'6 - Input sheet - Employee data'!EF59","v":0},{"$f":"'6 - Input sheet - Employee data'!EG59","v":0},{"$f":"'6 - Input sheet - Employee data'!EH59","v":0},{"$f":"'6 - Input sheet - Employee data'!EI59","v":0},{"$f":"'6 - Input sheet - Employee data'!EJ59","v":0},{"$f":"'6 - Input sheet - Employee data'!EK59","v":0},{"$f":"'6 - Input sheet - Employee data'!EL59","v":0},{"$f":"'6 - Input sheet - Employee data'!EM59","v":0},{"$f":"'6 - Input sheet - Employee data'!EN59","v":0},{"$f":"'6 - Input sheet - Employee data'!EO59","v":0},{"$f":"'6 - Input sheet - Employee data'!EP59","v":0},{"$f":"'6 - Input sheet - Employee data'!EQ59","v":0},{"$f":"'6 - Input sheet - Employee data'!ER59","v":0},{"$f":"'6 - Input sheet - Employee data'!ES59","v":0},{"$f":"'6 - Input sheet - Employee data'!ET59","v":0},{"$f":"'6 - Input sheet - Employee data'!EU59","v":0},{"$f":"'6 - Input sheet - Employee data'!EV59","v":0},{"$f":"'6 - Input sheet - Employee data'!EW59","v":0},{"$f":"'6 - Input sheet - Employee data'!EX59","v":0},{"$f":"'6 - Input sheet - Employee data'!EY59","v":0},{"$f":"'6 - Input sheet - Employee data'!EZ59","v":0},{"$f":"'6 - Input sheet - Employee data'!FA59","v":0},{"$f":"'6 - Input sheet - Employee data'!FB59","v":0},{"$f":"'6 - Input sheet - Employee data'!FC59","v":0},{"$f":"'6 - Input sheet - Employee data'!FD59","v":0},{"$f":"'6 - Input sheet - Employee data'!FE59","v":0},{"$f":"'6 - Input sheet - Employee data'!FF59","v":0},{"$f":"'6 - Input sheet - Employee data'!FG59","v":0},{"$f":"'6 - Input sheet - Employee data'!FH59","v":0},{"$f":"'6 - Input sheet - Employee data'!FI59","v":0},{"$f":"'6 - Input sheet - Employee data'!FJ59","v":0},{"$f":"'6 - Input sheet - Employee data'!FK59","v":0},{"$f":"'6 - Input sheet - Employee data'!FL59","v":0},{"$f":"'6 - Input sheet - Employee data'!FM59","v":0},{"$f":"'6 - Input sheet - Employee data'!FN59","v":0},{"$f":"'6 - Input sheet - Employee data'!FO59","v":0},{"$f":"'6 - Input sheet - Employee data'!FP59","v":0},{"$f":"'6 - Input sheet - Employee data'!FQ59","v":0},{"$f":"'6 - Input sheet - Employee data'!FR59","v":0},{"$f":"'6 - Input sheet - Employee data'!FS59","v":0},{"$f":"'6 - Input sheet - Employee data'!FT59","v":0},{"$f":"'6 - Input sheet - Employee data'!FU59","v":0},{"$f":"'6 - Input sheet - Employee data'!FV59","v":0},{"$f":"'6 - Input sheet - Employee data'!FW59","v":0},{"$f":"'6 - Input sheet - Employee data'!FX59","v":0},{"$f":"'6 - Input sheet - Employee data'!FY59","v":0},{"$f":"'6 - Input sheet - Employee data'!FZ59","v":0},{"$f":"'6 - Input sheet - Employee data'!GA59","v":0},{"$f":"'6 - Input sheet - Employee data'!GB59","v":0},{"$f":"'6 - Input sheet - Employee data'!GC59","v":0},{"$f":"'6 - Input sheet - Employee data'!GD59","v":0},{"$f":"'6 - Input sheet - Employee data'!GE59","v":0},{"$f":"'6 - Input sheet - Employee data'!GF59","v":0},{"$f":"'6 - Input sheet - Employee data'!GG59","v":0},{"$f":"'6 - Input sheet - Employee data'!GH59","v":0},{"$f":"'6 - Input sheet - Employee data'!GI59","v":0},{"$f":"'6 - Input sheet - Employee data'!GJ59","v":0},{"$f":"'6 - Input sheet - Employee data'!GK59","v":0},{"$f":"'6 - Input sheet - Employee data'!GL59","v":0},{"$f":"'6 - Input sheet - Employee data'!GM59","v":0},{"$f":"'6 - Input sheet - Employee data'!GN59","v":0},{"$f":"'6 - Input sheet - Employee data'!GO59","v":0},{"$f":"'6 - Input sheet - Employee data'!GP59","v":0},{"$f":"'6 - Input sheet - Employee data'!GQ59","v":0},{"$f":"'6 - Input sheet - Employee data'!GR59","v":0},{"$f":"'6 - Input sheet - Employee data'!GS59","v":0},{"$f":"'6 - Input sheet - Employee data'!GT59","v":0},{"$f":"'6 - Input sheet - Employee data'!GU59","v":0},{"$f":"'6 - Input sheet - Employee data'!GV59","v":0},{"$f":"'6 - Input sheet - Employee data'!GW59","v":0},{"$f":"'6 - Input sheet - Employee data'!GX59","v":0},{"$f":"'6 - Input sheet - Employee data'!GY59","v":0},{"$f":"'6 - Input sheet - Employee data'!GZ59","v":0},{"$f":"'6 - Input sheet - Employee data'!HA59","v":0},{"$f":"'6 - Input sheet - Employee data'!HB59","v":0},{"$f":"'6 - Input sheet - Employee data'!HC59","v":0},{"$f":"'6 - Input sheet - Employee data'!HD59","v":0},{"$f":"'6 - Input sheet - Employee data'!HE59","v":0},{"$f":"'6 - Input sheet - Employee data'!HF59","v":0},{"$f":"'6 - Input sheet - Employee data'!HG59","v":0},{"$f":"'6 - Input sheet - Employee data'!HH59","v":0},{"$f":"'6 - Input sheet - Employee data'!HI59","v":0},{"$f":"'6 - Input sheet - Employee data'!HJ59","v":0},{"$f":"'6 - Input sheet - Employee data'!HK59","v":0},{"$f":"'6 - Input sheet - Employee data'!HL59","v":0},{"$f":"'6 - Input sheet - Employee data'!HM59","v":0},{"$f":"'6 - Input sheet - Employee data'!HN59","v":0},{"$f":"'6 - Input sheet - Employee data'!HO59","v":0},{"$f":"'6 - Input sheet - Employee data'!HP59","v":0},{"$f":"'6 - Input sheet - Employee data'!HQ59","v":0},{"$f":"'6 - Input sheet - Employee data'!HR59","v":0},{"$f":"'6 - Input sheet - Employee data'!HS59","v":0},{"$f":"'6 - Input sheet - Employee data'!HT59","v":0},{"$f":"'6 - Input sheet - Employee data'!HU59","v":0},{"$f":"'6 - Input sheet - Employee data'!HV59","v":0},{"$f":"'6 - Input sheet - Employee data'!HW59","v":0},{"$f":"'6 - Input sheet - Employee data'!HX59","v":0},{"$f":"'6 - Input sheet - Employee data'!HY59","v":0},{"$f":"'6 - Input sheet - Employee data'!HZ59","v":0},{"$f":"'6 - Input sheet - Employee data'!IA59","v":0},{"$f":"'6 - Input sheet - Employee data'!IB59","v":0},{"$f":"'6 - Input sheet - Employee data'!IC59","v":0},{"$f":"'6 - Input sheet - Employee data'!ID59","v":0},{"$f":"'6 - Input sheet - Employee data'!IE59","v":0},{"$f":"'6 - Input sheet - Employee data'!IF59","v":0},{"$f":"'6 - Input sheet - Employee data'!IG59","v":0},{"$f":"'6 - Input sheet - Employee data'!IH59","v":0},{"$f":"'6 - Input sheet - Employee data'!II59","v":0},{"$f":"'6 - Input sheet - Employee data'!IJ59","v":0},{"$f":"'6 - Input sheet - Employee data'!IK59","v":0},{"$f":"'6 - Input sheet - Employee data'!IL59","v":0},{"$f":"'6 - Input sheet - Employee data'!IM59","v":0},{"$f":"'6 - Input sheet - Employee data'!IN59","v":0},{"$f":"'6 - Input sheet - Employee data'!IO59","v":0},{"$f":"'6 - Input sheet - Employee data'!IP59","v":0},{"$f":"'6 - Input sheet - Employee data'!IQ59","v":0},{"$f":"'6 - Input sheet - Employee data'!IR59","v":0},{"$f":"'6 - Input sheet - Employee data'!IS59","v":0},{"$f":"'6 - Input sheet - Employee data'!IT59","v":0},{"$f":"'6 - Input sheet - Employee data'!IU59","v":0},{"$f":"'6 - Input sheet - Employee data'!IV59","v":0},{"$f":"'6 - Input sheet - Employee data'!IW59","v":0},{"$f":"'6 - Input sheet - Employee data'!IX59","v":0},{"$f":"'6 - Input sheet - Employee data'!IY59","v":0},{"$f":"'6 - Input sheet - Employee data'!IZ59","v":0},{"$f":"'6 - Input sheet - Employee data'!JA59","v":0},{"$f":"'6 - Input sheet - Employee data'!JB59","v":0},{"$f":"'6 - Input sheet - Employee data'!JC59","v":0},{"$f":"'6 - Input sheet - Employee data'!JD59","v":0},{"$f":"'6 - Input sheet - Employee data'!JE59","v":0},{"$f":"'6 - Input sheet - Employee data'!JF59","v":0},{"$f":"'6 - Input sheet - Employee data'!JG59","v":0},{"$f":"'6 - Input sheet - Employee data'!JH59","v":0},{"$f":"'6 - Input sheet - Employee data'!JI59","v":0},{"$f":"'6 - Input sheet - Employee data'!JJ59","v":0},{"$f":"'6 - Input sheet - Employee data'!JK59","v":0},{"$f":"'6 - Input sheet - Employee data'!JL59","v":0},{"$f":"'6 - Input sheet - Employee data'!JM59","v":0},{"$f":"'6 - Input sheet - Employee data'!JN59","v":0},{"$f":"'6 - Input sheet - Employee data'!JO59","v":0},{"$f":"'6 - Input sheet - Employee data'!JP59","v":0},{"$f":"'6 - Input sheet - Employee data'!JQ59","v":0},{"$f":"'6 - Input sheet - Employee data'!JR59","v":0},{"$f":"'6 - Input sheet - Employee data'!JS59","v":0},{"$f":"'6 - Input sheet - Employee data'!JT59","v":0},{"$f":"'6 - Input sheet - Employee data'!JU59","v":0},{"$f":"'6 - Input sheet - Employee data'!JV59","v":0},{"$f":"'6 - Input sheet - Employee data'!JW59","v":0},{"$f":"'6 - Input sheet - Employee data'!JX59","v":0},{"$f":"'6 - Input sheet - Employee data'!JY59","v":0},{"$f":"'6 - Input sheet - Employee data'!JZ59","v":0},{"$f":"'6 - Input sheet - Employee data'!KA59","v":0},{"$f":"'6 - Input sheet - Employee data'!KB59","v":0},{"$f":"'6 - Input sheet - Employee data'!KC59","v":0},{"$f":"'6 - Input sheet - Employee data'!KD59","v":0},{"$f":"'6 - Input sheet - Employee data'!KE59","v":0},{"$f":"'6 - Input sheet - Employee data'!KF59","v":0},{"$f":"'6 - Input sheet - Employee data'!KG59","v":0},{"$f":"'6 - Input sheet - Employee data'!KH59","v":0},{"$f":"'6 - Input sheet - Employee data'!KI59","v":0},{"$f":"'6 - Input sheet - Employee data'!KJ59","v":0},{"$f":"'6 - Input sheet - Employee data'!KK59","v":0},{"$f":"'6 - Input sheet - Employee data'!KL59","v":0},{"$f":"'6 - Input sheet - Employee data'!KM59","v":0},{"$f":"'6 - Input sheet - Employee data'!KN59","v":0},{"$f":"'6 - Input sheet - Employee data'!KO59","v":0},{"$f":"'6 - Input sheet - Employee data'!KP59","v":0},{"$f":"'6 - Input sheet - Employee data'!KQ59","v":0},{"$f":"'6 - Input sheet - Employee data'!KR59","v":0},{"$f":"'6 - Input sheet - Employee data'!KS59","v":0},{"$f":"'6 - Input sheet - Employee data'!KT59","v":0},{"$f":"'6 - Input sheet - Employee data'!KU59","v":0},{"$f":"'6 - Input sheet - Employee data'!KV59","v":0},{"$f":"'6 - Input sheet - Employee data'!KW59","v":0},{"$f":"'6 - Input sheet - Employee data'!KX59","v":0},{"$f":"'6 - Input sheet - Employee data'!KY59","v":0},{"$f":"'6 - Input sheet - Employee data'!KZ59","v":0},{"$f":"'6 - Input sheet - Employee data'!LA59","v":0},{"$f":"'6 - Input sheet - Employee data'!LB59","v":0},{"$f":"'6 - Input sheet - Employee data'!LC59","v":0},{"$f":"'6 - Input sheet - Employee data'!LD59","v":0},{"$f":"'6 - Input sheet - Employee data'!LE59","v":0},{"$f":"'6 - Input sheet - Employee data'!LF59","v":0},{"$f":"'6 - Input sheet - Employee data'!LG59","v":0},{"$f":"'6 - Input sheet - Employee data'!LH59","v":0},{"$f":"'6 - Input sheet - Employee data'!LI59","v":0},{"$f":"'6 - Input sheet - Employee data'!LJ59","v":0},{"$f":"'6 - Input sheet - Employee data'!LK59","v":0},{"$f":"'6 - Input sheet - Employee data'!LL59","v":0},{"$f":"'6 - Input sheet - Employee data'!LM59","v":0},{"$f":"'6 - Input sheet - Employee data'!LN59","v":0},{"$f":"'6 - Input sheet - Employee data'!LO59","v":0},{"$f":"'6 - Input sheet - Employee data'!LP59","v":0},{"$f":"'6 - Input sheet - Employee data'!LQ59","v":0},{"$f":"'6 - Input sheet - Employee data'!LR59","v":0},{"$f":"'6 - Input sheet - Employee data'!LS59","v":0},{"$f":"'6 - Input sheet - Employee data'!LT59","v":0},{"$f":"'6 - Input sheet - Employee data'!LU59","v":0},{"$f":"'6 - Input sheet - Employee data'!LV59","v":0},{"$f":"'6 - Input sheet - Employee data'!LW59","v":0},{"$f":"'6 - Input sheet - Employee data'!LX59","v":0},{"$f":"'6 - Input sheet - Employee data'!LY59","v":0},{"$f":"'6 - Input sheet - Employee data'!LZ59","v":0},{"$f":"'6 - Input sheet - Employee data'!MA59","v":0},{"$f":"'6 - Input sheet - Employee data'!MB59","v":0},{"$f":"'6 - Input sheet - Employee data'!MC59","v":0},{"$f":"'6 - Input sheet - Employee data'!MD59","v":0},{"$f":"'6 - Input sheet - Employee data'!ME59","v":0},{"$f":"'6 - Input sheet - Employee data'!MF59","v":0},{"$f":"'6 - Input sheet - Employee data'!MG59","v":0},{"$f":"'6 - Input sheet - Employee data'!MH59","v":0},{"$f":"'6 - Input sheet - Employee data'!MI59","v":0},{"$f":"'6 - Input sheet - Employee data'!MJ59","v":0},{"$f":"'6 - Input sheet - Employee data'!MK59","v":0},{"$f":"'6 - Input sheet - Employee data'!ML59","v":0},{"$f":"'6 - Input sheet - Employee data'!MM59","v":0},{"$f":"'6 - Input sheet - Employee data'!MN59","v":0},{"$f":"'6 - Input sheet - Employee data'!MO59","v":0},{"$f":"'6 - Input sheet - Employee data'!MP59","v":0},{"$f":"'6 - Input sheet - Employee data'!MQ59","v":0},{"$f":"'6 - Input sheet - Employee data'!MR59","v":0},{"$f":"'6 - Input sheet - Employee data'!MS59","v":0},{"$f":"'6 - Input sheet - Employee data'!MT59","v":0},{"$f":"'6 - Input sheet - Employee data'!MU59","v":0},{"$f":"'6 - Input sheet - Employee data'!MV59","v":0},{"$f":"'6 - Input sheet - Employee data'!MW59","v":0},{"$f":"'6 - Input sheet - Employee data'!MX59","v":0},{"$f":"'6 - Input sheet - Employee data'!MY59","v":0},{"$f":"'6 - Input sheet - Employee data'!MZ59","v":0},{"$f":"'6 - Input sheet - Employee data'!NA59","v":0},{"$f":"'6 - Input sheet - Employee data'!NB59","v":0},{"$f":"'6 - Input sheet - Employee data'!NC59","v":0},{"$f":"'6 - Input sheet - Employee data'!ND59","v":0},{"$f":"'6 - Input sheet - Employee data'!NE59","v":0},{"$f":"'6 - Input sheet - Employee data'!NF59","v":0},{"$f":"'6 - Input sheet - Employee data'!NG59","v":0},{"$f":"'6 - Input sheet - Employee data'!NH59","v":0},{"$f":"'6 - Input sheet - Employee data'!NI59","v":0},{"$f":"'6 - Input sheet - Employee data'!NJ59","v":0},{"$f":"'6 - Input sheet - Employee data'!NK59","v":0},{"$f":"'6 - Input sheet - Employee data'!NL59","v":0},{"$f":"'6 - Input sheet - Employee data'!NM59","v":0},{"$f":"'6 - Input sheet - Employee data'!NN59","v":0},{"$f":"'6 - Input sheet - Employee data'!NO59","v":0},{"$f":"'6 - Input sheet - Employee data'!NP59","v":0},{"$f":"'6 - Input sheet - Employee data'!NQ59","v":0},{"$f":"'6 - Input sheet - Employee data'!NR59","v":0},{"$f":"'6 - Input sheet - Employee data'!NS59","v":0},{"$f":"'6 - Input sheet - Employee data'!NT59","v":0},{"$f":"'6 - Input sheet - Employee data'!NU59","v":0},{"$f":"'6 - Input sheet - Employee data'!NV59","v":0},{"$f":"'6 - Input sheet - Employee data'!NW59","v":0},{"$f":"'6 - Input sheet - Employee data'!NX59","v":0},{"$f":"'6 - Input sheet - Employee data'!NY59","v":0},{"$f":"'6 - Input sheet - Employee data'!NZ59","v":0},{"$f":"'6 - Input sheet - Employee data'!OA59","v":0},{"$f":"'6 - Input sheet - Employee data'!OB59","v":0},{"$f":"'6 - Input sheet - Employee data'!OC59","v":0},{"$f":"'6 - Input sheet - Employee data'!OD59","v":0},{"$f":"'6 - Input sheet - Employee data'!OE59","v":0},{"$f":"'6 - Input sheet - Employee data'!OF59","v":0},{"$f":"'6 - Input sheet - Employee data'!OG59","v":0},{"$f":"'6 - Input sheet - Employee data'!OH59","v":0},{"$f":"'6 - Input sheet - Employee data'!OI59","v":0},{"$f":"'6 - Input sheet - Employee data'!OJ59","v":0},{"$f":"'6 - Input sheet - Employee data'!OK59","v":0},{"$f":"'6 - Input sheet - Employee data'!OL59","v":0},{"$f":"'6 - Input sheet - Employee data'!OM59","v":0},{"$f":"'6 - Input sheet - Employee data'!ON59","v":0},{"$f":"'6 - Input sheet - Employee data'!OO59","v":0},{"$f":"'6 - Input sheet - Employee data'!OP59","v":0},{"$f":"'6 - Input sheet - Employee data'!OQ59","v":0},{"$f":"'6 - Input sheet - Employee data'!OR59","v":0},{"$f":"'6 - Input sheet - Employee data'!OS59","v":0},{"$f":"'6 - Input sheet - Employee data'!OT59","v":0},{"$f":"'6 - Input sheet - Employee data'!OU59","v":0},{"$f":"'6 - Input sheet - Employee data'!OV59","v":0},{"$f":"'6 - Input sheet - Employee data'!OW59","v":0},{"$f":"'6 - Input sheet - Employee data'!OX59","v":0},{"$f":"'6 - Input sheet - Employee data'!OY59","v":0},{"$f":"'6 - Input sheet - Employee data'!OZ59","v":0},{"$f":"'6 - Input sheet - Employee data'!PA59","v":0},{"$f":"'6 - Input sheet - Employee data'!PB59","v":0},{"$f":"'6 - Input sheet - Employee data'!PC59","v":0},{"$f":"'6 - Input sheet - Employee data'!PD59","v":0},{"$f":"'6 - Input sheet - Employee data'!PE59","v":0},{"$f":"'6 - Input sheet - Employee data'!PF59","v":0},{"$f":"'6 - Input sheet - Employee data'!PG59","v":0},{"$f":"'6 - Input sheet - Employee data'!PH59","v":0},{"$f":"'6 - Input sheet - Employee data'!PI59","v":0},{"$f":"'6 - Input sheet - Employee data'!PJ59","v":0},{"$f":"'6 - Input sheet - Employee data'!PK59","v":0},{"$f":"'6 - Input sheet - Employee data'!PL59","v":0},{"$f":"'6 - Input sheet - Employee data'!PM59","v":0},{"$f":"'6 - Input sheet - Employee data'!PN59","v":0},{"$f":"'6 - Input sheet - Employee data'!PO59","v":0},{"$f":"'6 - Input sheet - Employee data'!PP59","v":0},{"$f":"'6 - Input sheet - Employee data'!PQ59","v":0},{"$f":"'6 - Input sheet - Employee data'!PR59","v":0},{"$f":"'6 - Input sheet - Employee data'!PS59","v":0},{"$f":"'6 - Input sheet - Employee data'!PT59","v":0},{"$f":"'6 - Input sheet - Employee data'!PU59","v":0},{"$f":"'6 - Input sheet - Employee data'!PV59","v":0},{"$f":"'6 - Input sheet - Employee data'!PW59","v":0},{"$f":"'6 - Input sheet - Employee data'!PX59","v":0},{"$f":"'6 - Input sheet - Employee data'!PY59","v":0},{"$f":"'6 - Input sheet - Employee data'!PZ59","v":0},{"$f":"'6 - Input sheet - Employee data'!QA59","v":0},{"$f":"'6 - Input sheet - Employee data'!QB59","v":0},{"$f":"'6 - Input sheet - Employee data'!QC59","v":0},{"$f":"'6 - Input sheet - Employee data'!QD59","v":0},{"$f":"'6 - Input sheet - Employee data'!QE59","v":0},{"$f":"'6 - Input sheet - Employee data'!QF59","v":0},{"$f":"'6 - Input sheet - Employee data'!QG59","v":0},{"$f":"'6 - Input sheet - Employee data'!QH59","v":0},{"$f":"'6 - Input sheet - Employee data'!QI59","v":0},{"$f":"'6 - Input sheet - Employee data'!QJ59","v":0},{"$f":"'6 - Input sheet - Employee data'!QK59","v":0},{"$f":"'6 - Input sheet - Employee data'!QL59","v":0},{"$f":"'6 - Input sheet - Employee data'!QM59","v":0},{"$f":"'6 - Input sheet - Employee data'!QN59","v":0},{"$f":"'6 - Input sheet - Employee data'!QO59","v":0},{"$f":"'6 - Input sheet - Employee data'!QP59","v":0},{"$f":"'6 - Input sheet - Employee data'!QQ59","v":0},{"$f":"'6 - Input sheet - Employee data'!QR59","v":0},{"$f":"'6 - Input sheet - Employee data'!QS59","v":0},{"$f":"'6 - Input sheet - Employee data'!QT59","v":0},{"$f":"'6 - Input sheet - Employee data'!QU59","v":0},{"$f":"'6 - Input sheet - Employee data'!QV59","v":0},{"$f":"'6 - Input sheet - Employee data'!QW59","v":0},{"$f":"'6 - Input sheet - Employee data'!QX59","v":0},{"$f":"'6 - Input sheet - Employee data'!QY59","v":0},{"$f":"'6 - Input sheet - Employee data'!QZ59","v":0},{"$f":"'6 - Input sheet - Employee data'!RA59","v":0},{"$f":"'6 - Input sheet - Employee data'!RB59","v":0},{"$f":"'6 - Input sheet - Employee data'!RC59","v":0},{"$f":"'6 - Input sheet - Employee data'!RD59","v":0},{"$f":"'6 - Input sheet - Employee data'!RE59","v":0},{"$f":"'6 - Input sheet - Employee data'!RF59","v":0},{"$f":"'6 - Input sheet - Employee data'!RG59","v":0},{"$f":"'6 - Input sheet - Employee data'!RH59","v":0},{"$f":"'6 - Input sheet - Employee data'!RI59","v":0},{"$f":"'6 - Input sheet - Employee data'!RJ59","v":0},{"$f":"'6 - Input sheet - Employee data'!RK59","v":0},{"$f":"'6 - Input sheet - Employee data'!RL59","v":0},{"$f":"'6 - Input sheet - Employee data'!RM59","v":0},{"$f":"'6 - Input sheet - Employee data'!RN59","v":0},{"$f":"'6 - Input sheet - Employee data'!RO59","v":0},{"$f":"'6 - Input sheet - Employee data'!RP59","v":0},{"$f":"'6 - Input sheet - Employee data'!RQ59","v":0},{"$f":"'6 - Input sheet - Employee data'!RR59","v":0},{"$f":"'6 - Input sheet - Employee data'!RS59","v":0},{"$f":"'6 - Input sheet - Employee data'!RT59","v":0},{"$f":"'6 - Input sheet - Employee data'!RU59","v":0},{"$f":"'6 - Input sheet - Employee data'!RV59","v":0},{"$f":"'6 - Input sheet - Employee data'!RW59","v":0},{"$f":"'6 - Input sheet - Employee data'!RX59","v":0},{"$f":"'6 - Input sheet - Employee data'!RY59","v":0},{"$f":"'6 - Input sheet - Employee data'!RZ59","v":0},{"$f":"'6 - Input sheet - Employee data'!SA59","v":0},{"$f":"'6 - Input sheet - Employee data'!SB59","v":0},{"$f":"'6 - Input sheet - Employee data'!SC59","v":0},{"$f":"'6 - Input sheet - Employee data'!SD59","v":0},{"$f":"'6 - Input sheet - Employee data'!SE59","v":0},{"$f":"'6 - Input sheet - Employee data'!SF59","v":0},{"$f":"'6 - Input sheet - Employee data'!SG59","v":0},{"$f":"'6 - Input sheet - Employee data'!SH59","v":0}]
[{"$f":"'6 - Input sheet - Employee data'!A60","v":"  Period 7 (enter date)"},0,{"$f":"'6 - Input sheet - Employee data'!C60","v":0},{"$f":"'6 - Input sheet - Employee data'!D60","v":0},{"$f":"'6 - Input sheet - Employee data'!E60","v":0},{"$f":"'6 - Input sheet - Employee data'!F60","v":0},{"$f":"'6 - Input sheet - Employee data'!G60","v":0},{"$f":"'6 - Input sheet - Employee data'!H60","v":0},{"$f":"'6 - Input sheet - Employee data'!I60","v":0},{"$f":"'6 - Input sheet - Employee data'!J60","v":0},{"$f":"'6 - Input sheet - Employee data'!K60","v":0},{"$f":"'6 - Input sheet - Employee data'!L60","v":0},{"$f":"'6 - Input sheet - Employee data'!M60","v":0},{"$f":"'6 - Input sheet - Employee data'!N60","v":0},{"$f":"'6 - Input sheet - Employee data'!O60","v":0},{"$f":"'6 - Input sheet - Employee data'!P60","v":0},{"$f":"'6 - Input sheet - Employee data'!Q60","v":0},{"$f":"'6 - Input sheet - Employee data'!R60","v":0},{"$f":"'6 - Input sheet - Employee data'!S60","v":0},{"$f":"'6 - Input sheet - Employee data'!T60","v":0},{"$f":"'6 - Input sheet - Employee data'!U60","v":0},{"$f":"'6 - Input sheet - Employee data'!V60","v":0},{"$f":"'6 - Input sheet - Employee data'!W60","v":0},{"$f":"'6 - Input sheet - Employee data'!X60","v":0},{"$f":"'6 - Input sheet - Employee data'!Y60","v":0},{"$f":"'6 - Input sheet - Employee data'!Z60","v":0},{"$f":"'6 - Input sheet - Employee data'!AA60","v":0},{"$f":"'6 - Input sheet - Employee data'!AB60","v":0},{"$f":"'6 - Input sheet - Employee data'!AC60","v":0},{"$f":"'6 - Input sheet - Employee data'!AD60","v":0},{"$f":"'6 - Input sheet - Employee data'!AE60","v":0},{"$f":"'6 - Input sheet - Employee data'!AF60","v":0},{"$f":"'6 - Input sheet - Employee data'!AG60","v":0},{"$f":"'6 - Input sheet - Employee data'!AH60","v":0},{"$f":"'6 - Input sheet - Employee data'!AI60","v":0},{"$f":"'6 - Input sheet - Employee data'!AJ60","v":0},{"$f":"'6 - Input sheet - Employee data'!AK60","v":0},{"$f":"'6 - Input sheet - Employee data'!AL60","v":0},{"$f":"'6 - Input sheet - Employee data'!AM60","v":0},{"$f":"'6 - Input sheet - Employee data'!AN60","v":0},{"$f":"'6 - Input sheet - Employee data'!AO60","v":0},{"$f":"'6 - Input sheet - Employee data'!AP60","v":0},{"$f":"'6 - Input sheet - Employee data'!AQ60","v":0},{"$f":"'6 - Input sheet - Employee data'!AR60","v":0},{"$f":"'6 - Input sheet - Employee data'!AS60","v":0},{"$f":"'6 - Input sheet - Employee data'!AT60","v":0},{"$f":"'6 - Input sheet - Employee data'!AU60","v":0},{"$f":"'6 - Input sheet - Employee data'!AV60","v":0},{"$f":"'6 - Input sheet - Employee data'!AW60","v":0},{"$f":"'6 - Input sheet - Employee data'!AX60","v":0},{"$f":"'6 - Input sheet - Employee data'!AY60","v":0},{"$f":"'6 - Input sheet - Employee data'!AZ60","v":0},{"$f":"'6 - Input sheet - Employee data'!BA60","v":0},{"$f":"'6 - Input sheet - Employee data'!BB60","v":0},{"$f":"'6 - Input sheet - Employee data'!BC60","v":0},{"$f":"'6 - Input sheet - Employee data'!BD60","v":0},{"$f":"'6 - Input sheet - Employee data'!BE60","v":0},{"$f":"'6 - Input sheet - Employee data'!BF60","v":0},{"$f":"'6 - Input sheet - Employee data'!BG60","v":0},{"$f":"'6 - Input sheet - Employee data'!BH60","v":0},{"$f":"'6 - Input sheet - Employee data'!BI60","v":0},{"$f":"'6 - Input sheet - Employee data'!BJ60","v":0},{"$f":"'6 - Input sheet - Employee data'!BK60","v":0},{"$f":"'6 - Input sheet - Employee data'!BL60","v":0},{"$f":"'6 - Input sheet - Employee data'!BM60","v":0},{"$f":"'6 - Input sheet - Employee data'!BN60","v":0},{"$f":"'6 - Input sheet - Employee data'!BO60","v":0},{"$f":"'6 - Input sheet - Employee data'!BP60","v":0},{"$f":"'6 - Input sheet - Employee data'!BQ60","v":0},{"$f":"'6 - Input sheet - Employee data'!BR60","v":0},{"$f":"'6 - Input sheet - Employee data'!BS60","v":0},{"$f":"'6 - Input sheet - Employee data'!BT60","v":0},{"$f":"'6 - Input sheet - Employee data'!BU60","v":0},{"$f":"'6 - Input sheet - Employee data'!BV60","v":0},{"$f":"'6 - Input sheet - Employee data'!BW60","v":0},{"$f":"'6 - Input sheet - Employee data'!BX60","v":0},{"$f":"'6 - Input sheet - Employee data'!BY60","v":0},{"$f":"'6 - Input sheet - Employee data'!BZ60","v":0},{"$f":"'6 - Input sheet - Employee data'!CA60","v":0},{"$f":"'6 - Input sheet - Employee data'!CB60","v":0},{"$f":"'6 - Input sheet - Employee data'!CC60","v":0},{"$f":"'6 - Input sheet - Employee data'!CD60","v":0},{"$f":"'6 - Input sheet - Employee data'!CE60","v":0},{"$f":"'6 - Input sheet - Employee data'!CF60","v":0},{"$f":"'6 - Input sheet - Employee data'!CG60","v":0},{"$f":"'6 - Input sheet - Employee data'!CH60","v":0},{"$f":"'6 - Input sheet - Employee data'!CI60","v":0},{"$f":"'6 - Input sheet - Employee data'!CJ60","v":0},{"$f":"'6 - Input sheet - Employee data'!CK60","v":0},{"$f":"'6 - Input sheet - Employee data'!CL60","v":0},{"$f":"'6 - Input sheet - Employee data'!CM60","v":0},{"$f":"'6 - Input sheet - Employee data'!CN60","v":0},{"$f":"'6 - Input sheet - Employee data'!CO60","v":0},{"$f":"'6 - Input sheet - Employee data'!CP60","v":0},{"$f":"'6 - Input sheet - Employee data'!CQ60","v":0},{"$f":"'6 - Input sheet - Employee data'!CR60","v":0},{"$f":"'6 - Input sheet - Employee data'!CS60","v":0},{"$f":"'6 - Input sheet - Employee data'!CT60","v":0},{"$f":"'6 - Input sheet - Employee data'!CU60","v":0},{"$f":"'6 - Input sheet - Employee data'!CV60","v":0},{"$f":"'6 - Input sheet - Employee data'!CW60","v":0},{"$f":"'6 - Input sheet - Employee data'!CX60","v":0},{"$f":"'6 - Input sheet - Employee data'!CY60","v":0},{"$f":"'6 - Input sheet - Employee data'!CZ60","v":0},{"$f":"'6 - Input sheet - Employee data'!DA60","v":0},{"$f":"'6 - Input sheet - Employee data'!DB60","v":0},{"$f":"'6 - Input sheet - Employee data'!DC60","v":0},{"$f":"'6 - Input sheet - Employee data'!DD60","v":0},{"$f":"'6 - Input sheet - Employee data'!DE60","v":0},{"$f":"'6 - Input sheet - Employee data'!DF60","v":0},{"$f":"'6 - Input sheet - Employee data'!DG60","v":0},{"$f":"'6 - Input sheet - Employee data'!DH60","v":0},{"$f":"'6 - Input sheet - Employee data'!DI60","v":0},{"$f":"'6 - Input sheet - Employee data'!DJ60","v":0},{"$f":"'6 - Input sheet - Employee data'!DK60","v":0},{"$f":"'6 - Input sheet - Employee data'!DL60","v":0},{"$f":"'6 - Input sheet - Employee data'!DM60","v":0},{"$f":"'6 - Input sheet - Employee data'!DN60","v":0},{"$f":"'6 - Input sheet - Employee data'!DO60","v":0},{"$f":"'6 - Input sheet - Employee data'!DP60","v":0},{"$f":"'6 - Input sheet - Employee data'!DQ60","v":0},{"$f":"'6 - Input sheet - Employee data'!DR60","v":0},{"$f":"'6 - Input sheet - Employee data'!DS60","v":0},{"$f":"'6 - Input sheet - Employee data'!DT60","v":0},{"$f":"'6 - Input sheet - Employee data'!DU60","v":0},{"$f":"'6 - Input sheet - Employee data'!DV60","v":0},{"$f":"'6 - Input sheet - Employee data'!DW60","v":0},{"$f":"'6 - Input sheet - Employee data'!DX60","v":0},{"$f":"'6 - Input sheet - Employee data'!DY60","v":0},{"$f":"'6 - Input sheet - Employee data'!DZ60","v":0},{"$f":"'6 - Input sheet - Employee data'!EA60","v":0},{"$f":"'6 - Input sheet - Employee data'!EB60","v":0},{"$f":"'6 - Input sheet - Employee data'!EC60","v":0},{"$f":"'6 - Input sheet - Employee data'!ED60","v":0},{"$f":"'6 - Input sheet - Employee data'!EE60","v":0},{"$f":"'6 - Input sheet - Employee data'!EF60","v":0},{"$f":"'6 - Input sheet - Employee data'!EG60","v":0},{"$f":"'6 - Input sheet - Employee data'!EH60","v":0},{"$f":"'6 - Input sheet - Employee data'!EI60","v":0},{"$f":"'6 - Input sheet - Employee data'!EJ60","v":0},{"$f":"'6 - Input sheet - Employee data'!EK60","v":0},{"$f":"'6 - Input sheet - Employee data'!EL60","v":0},{"$f":"'6 - Input sheet - Employee data'!EM60","v":0},{"$f":"'6 - Input sheet - Employee data'!EN60","v":0},{"$f":"'6 - Input sheet - Employee data'!EO60","v":0},{"$f":"'6 - Input sheet - Employee data'!EP60","v":0},{"$f":"'6 - Input sheet - Employee data'!EQ60","v":0},{"$f":"'6 - Input sheet - Employee data'!ER60","v":0},{"$f":"'6 - Input sheet - Employee data'!ES60","v":0},{"$f":"'6 - Input sheet - Employee data'!ET60","v":0},{"$f":"'6 - Input sheet - Employee data'!EU60","v":0},{"$f":"'6 - Input sheet - Employee data'!EV60","v":0},{"$f":"'6 - Input sheet - Employee data'!EW60","v":0},{"$f":"'6 - Input sheet - Employee data'!EX60","v":0},{"$f":"'6 - Input sheet - Employee data'!EY60","v":0},{"$f":"'6 - Input sheet - Employee data'!EZ60","v":0},{"$f":"'6 - Input sheet - Employee data'!FA60","v":0},{"$f":"'6 - Input sheet - Employee data'!FB60","v":0},{"$f":"'6 - Input sheet - Employee data'!FC60","v":0},{"$f":"'6 - Input sheet - Employee data'!FD60","v":0},{"$f":"'6 - Input sheet - Employee data'!FE60","v":0},{"$f":"'6 - Input sheet - Employee data'!FF60","v":0},{"$f":"'6 - Input sheet - Employee data'!FG60","v":0},{"$f":"'6 - Input sheet - Employee data'!FH60","v":0},{"$f":"'6 - Input sheet - Employee data'!FI60","v":0},{"$f":"'6 - Input sheet - Employee data'!FJ60","v":0},{"$f":"'6 - Input sheet - Employee data'!FK60","v":0},{"$f":"'6 - Input sheet - Employee data'!FL60","v":0},{"$f":"'6 - Input sheet - Employee data'!FM60","v":0},{"$f":"'6 - Input sheet - Employee data'!FN60","v":0},{"$f":"'6 - Input sheet - Employee data'!FO60","v":0},{"$f":"'6 - Input sheet - Employee data'!FP60","v":0},{"$f":"'6 - Input sheet - Employee data'!FQ60","v":0},{"$f":"'6 - Input sheet - Employee data'!FR60","v":0},{"$f":"'6 - Input sheet - Employee data'!FS60","v":0},{"$f":"'6 - Input sheet - Employee data'!FT60","v":0},{"$f":"'6 - Input sheet - Employee data'!FU60","v":0},{"$f":"'6 - Input sheet - Employee data'!FV60","v":0},{"$f":"'6 - Input sheet - Employee data'!FW60","v":0},{"$f":"'6 - Input sheet - Employee data'!FX60","v":0},{"$f":"'6 - Input sheet - Employee data'!FY60","v":0},{"$f":"'6 - Input sheet - Employee data'!FZ60","v":0},{"$f":"'6 - Input sheet - Employee data'!GA60","v":0},{"$f":"'6 - Input sheet - Employee data'!GB60","v":0},{"$f":"'6 - Input sheet - Employee data'!GC60","v":0},{"$f":"'6 - Input sheet - Employee data'!GD60","v":0},{"$f":"'6 - Input sheet - Employee data'!GE60","v":0},{"$f":"'6 - Input sheet - Employee data'!GF60","v":0},{"$f":"'6 - Input sheet - Employee data'!GG60","v":0},{"$f":"'6 - Input sheet - Employee data'!GH60","v":0},{"$f":"'6 - Input sheet - Employee data'!GI60","v":0},{"$f":"'6 - Input sheet - Employee data'!GJ60","v":0},{"$f":"'6 - Input sheet - Employee data'!GK60","v":0},{"$f":"'6 - Input sheet - Employee data'!GL60","v":0},{"$f":"'6 - Input sheet - Employee data'!GM60","v":0},{"$f":"'6 - Input sheet - Employee data'!GN60","v":0},{"$f":"'6 - Input sheet - Employee data'!GO60","v":0},{"$f":"'6 - Input sheet - Employee data'!GP60","v":0},{"$f":"'6 - Input sheet - Employee data'!GQ60","v":0},{"$f":"'6 - Input sheet - Employee data'!GR60","v":0},{"$f":"'6 - Input sheet - Employee data'!GS60","v":0},{"$f":"'6 - Input sheet - Employee data'!GT60","v":0},{"$f":"'6 - Input sheet - Employee data'!GU60","v":0},{"$f":"'6 - Input sheet - Employee data'!GV60","v":0},{"$f":"'6 - Input sheet - Employee data'!GW60","v":0},{"$f":"'6 - Input sheet - Employee data'!GX60","v":0},{"$f":"'6 - Input sheet - Employee data'!GY60","v":0},{"$f":"'6 - Input sheet - Employee data'!GZ60","v":0},{"$f":"'6 - Input sheet - Employee data'!HA60","v":0},{"$f":"'6 - Input sheet - Employee data'!HB60","v":0},{"$f":"'6 - Input sheet - Employee data'!HC60","v":0},{"$f":"'6 - Input sheet - Employee data'!HD60","v":0},{"$f":"'6 - Input sheet - Employee data'!HE60","v":0},{"$f":"'6 - Input sheet - Employee data'!HF60","v":0},{"$f":"'6 - Input sheet - Employee data'!HG60","v":0},{"$f":"'6 - Input sheet - Employee data'!HH60","v":0},{"$f":"'6 - Input sheet - Employee data'!HI60","v":0},{"$f":"'6 - Input sheet - Employee data'!HJ60","v":0},{"$f":"'6 - Input sheet - Employee data'!HK60","v":0},{"$f":"'6 - Input sheet - Employee data'!HL60","v":0},{"$f":"'6 - Input sheet - Employee data'!HM60","v":0},{"$f":"'6 - Input sheet - Employee data'!HN60","v":0},{"$f":"'6 - Input sheet - Employee data'!HO60","v":0},{"$f":"'6 - Input sheet - Employee data'!HP60","v":0},{"$f":"'6 - Input sheet - Employee data'!HQ60","v":0},{"$f":"'6 - Input sheet - Employee data'!HR60","v":0},{"$f":"'6 - Input sheet - Employee data'!HS60","v":0},{"$f":"'6 - Input sheet - Employee data'!HT60","v":0},{"$f":"'6 - Input sheet - Employee data'!HU60","v":0},{"$f":"'6 - Input sheet - Employee data'!HV60","v":0},{"$f":"'6 - Input sheet - Employee data'!HW60","v":0},{"$f":"'6 - Input sheet - Employee data'!HX60","v":0},{"$f":"'6 - Input sheet - Employee data'!HY60","v":0},{"$f":"'6 - Input sheet - Employee data'!HZ60","v":0},{"$f":"'6 - Input sheet - Employee data'!IA60","v":0},{"$f":"'6 - Input sheet - Employee data'!IB60","v":0},{"$f":"'6 - Input sheet - Employee data'!IC60","v":0},{"$f":"'6 - Input sheet - Employee data'!ID60","v":0},{"$f":"'6 - Input sheet - Employee data'!IE60","v":0},{"$f":"'6 - Input sheet - Employee data'!IF60","v":0},{"$f":"'6 - Input sheet - Employee data'!IG60","v":0},{"$f":"'6 - Input sheet - Employee data'!IH60","v":0},{"$f":"'6 - Input sheet - Employee data'!II60","v":0},{"$f":"'6 - Input sheet - Employee data'!IJ60","v":0},{"$f":"'6 - Input sheet - Employee data'!IK60","v":0},{"$f":"'6 - Input sheet - Employee data'!IL60","v":0},{"$f":"'6 - Input sheet - Employee data'!IM60","v":0},{"$f":"'6 - Input sheet - Employee data'!IN60","v":0},{"$f":"'6 - Input sheet - Employee data'!IO60","v":0},{"$f":"'6 - Input sheet - Employee data'!IP60","v":0},{"$f":"'6 - Input sheet - Employee data'!IQ60","v":0},{"$f":"'6 - Input sheet - Employee data'!IR60","v":0},{"$f":"'6 - Input sheet - Employee data'!IS60","v":0},{"$f":"'6 - Input sheet - Employee data'!IT60","v":0},{"$f":"'6 - Input sheet - Employee data'!IU60","v":0},{"$f":"'6 - Input sheet - Employee data'!IV60","v":0},{"$f":"'6 - Input sheet - Employee data'!IW60","v":0},{"$f":"'6 - Input sheet - Employee data'!IX60","v":0},{"$f":"'6 - Input sheet - Employee data'!IY60","v":0},{"$f":"'6 - Input sheet - Employee data'!IZ60","v":0},{"$f":"'6 - Input sheet - Employee data'!JA60","v":0},{"$f":"'6 - Input sheet - Employee data'!JB60","v":0},{"$f":"'6 - Input sheet - Employee data'!JC60","v":0},{"$f":"'6 - Input sheet - Employee data'!JD60","v":0},{"$f":"'6 - Input sheet - Employee data'!JE60","v":0},{"$f":"'6 - Input sheet - Employee data'!JF60","v":0},{"$f":"'6 - Input sheet - Employee data'!JG60","v":0},{"$f":"'6 - Input sheet - Employee data'!JH60","v":0},{"$f":"'6 - Input sheet - Employee data'!JI60","v":0},{"$f":"'6 - Input sheet - Employee data'!JJ60","v":0},{"$f":"'6 - Input sheet - Employee data'!JK60","v":0},{"$f":"'6 - Input sheet - Employee data'!JL60","v":0},{"$f":"'6 - Input sheet - Employee data'!JM60","v":0},{"$f":"'6 - Input sheet - Employee data'!JN60","v":0},{"$f":"'6 - Input sheet - Employee data'!JO60","v":0},{"$f":"'6 - Input sheet - Employee data'!JP60","v":0},{"$f":"'6 - Input sheet - Employee data'!JQ60","v":0},{"$f":"'6 - Input sheet - Employee data'!JR60","v":0},{"$f":"'6 - Input sheet - Employee data'!JS60","v":0},{"$f":"'6 - Input sheet - Employee data'!JT60","v":0},{"$f":"'6 - Input sheet - Employee data'!JU60","v":0},{"$f":"'6 - Input sheet - Employee data'!JV60","v":0},{"$f":"'6 - Input sheet - Employee data'!JW60","v":0},{"$f":"'6 - Input sheet - Employee data'!JX60","v":0},{"$f":"'6 - Input sheet - Employee data'!JY60","v":0},{"$f":"'6 - Input sheet - Employee data'!JZ60","v":0},{"$f":"'6 - Input sheet - Employee data'!KA60","v":0},{"$f":"'6 - Input sheet - Employee data'!KB60","v":0},{"$f":"'6 - Input sheet - Employee data'!KC60","v":0},{"$f":"'6 - Input sheet - Employee data'!KD60","v":0},{"$f":"'6 - Input sheet - Employee data'!KE60","v":0},{"$f":"'6 - Input sheet - Employee data'!KF60","v":0},{"$f":"'6 - Input sheet - Employee data'!KG60","v":0},{"$f":"'6 - Input sheet - Employee data'!KH60","v":0},{"$f":"'6 - Input sheet - Employee data'!KI60","v":0},{"$f":"'6 - Input sheet - Employee data'!KJ60","v":0},{"$f":"'6 - Input sheet - Employee data'!KK60","v":0},{"$f":"'6 - Input sheet - Employee data'!KL60","v":0},{"$f":"'6 - Input sheet - Employee data'!KM60","v":0},{"$f":"'6 - Input sheet - Employee data'!KN60","v":0},{"$f":"'6 - Input sheet - Employee data'!KO60","v":0},{"$f":"'6 - Input sheet - Employee data'!KP60","v":0},{"$f":"'6 - Input sheet - Employee data'!KQ60","v":0},{"$f":"'6 - Input sheet - Employee data'!KR60","v":0},{"$f":"'6 - Input sheet - Employee data'!KS60","v":0},{"$f":"'6 - Input sheet - Employee data'!KT60","v":0},{"$f":"'6 - Input sheet - Employee data'!KU60","v":0},{"$f":"'6 - Input sheet - Employee data'!KV60","v":0},{"$f":"'6 - Input sheet - Employee data'!KW60","v":0},{"$f":"'6 - Input sheet - Employee data'!KX60","v":0},{"$f":"'6 - Input sheet - Employee data'!KY60","v":0},{"$f":"'6 - Input sheet - Employee data'!KZ60","v":0},{"$f":"'6 - Input sheet - Employee data'!LA60","v":0},{"$f":"'6 - Input sheet - Employee data'!LB60","v":0},{"$f":"'6 - Input sheet - Employee data'!LC60","v":0},{"$f":"'6 - Input sheet - Employee data'!LD60","v":0},{"$f":"'6 - Input sheet - Employee data'!LE60","v":0},{"$f":"'6 - Input sheet - Employee data'!LF60","v":0},{"$f":"'6 - Input sheet - Employee data'!LG60","v":0},{"$f":"'6 - Input sheet - Employee data'!LH60","v":0},{"$f":"'6 - Input sheet - Employee data'!LI60","v":0},{"$f":"'6 - Input sheet - Employee data'!LJ60","v":0},{"$f":"'6 - Input sheet - Employee data'!LK60","v":0},{"$f":"'6 - Input sheet - Employee data'!LL60","v":0},{"$f":"'6 - Input sheet - Employee data'!LM60","v":0},{"$f":"'6 - Input sheet - Employee data'!LN60","v":0},{"$f":"'6 - Input sheet - Employee data'!LO60","v":0},{"$f":"'6 - Input sheet - Employee data'!LP60","v":0},{"$f":"'6 - Input sheet - Employee data'!LQ60","v":0},{"$f":"'6 - Input sheet - Employee data'!LR60","v":0},{"$f":"'6 - Input sheet - Employee data'!LS60","v":0},{"$f":"'6 - Input sheet - Employee data'!LT60","v":0},{"$f":"'6 - Input sheet - Employee data'!LU60","v":0},{"$f":"'6 - Input sheet - Employee data'!LV60","v":0},{"$f":"'6 - Input sheet - Employee data'!LW60","v":0},{"$f":"'6 - Input sheet - Employee data'!LX60","v":0},{"$f":"'6 - Input sheet - Employee data'!LY60","v":0},{"$f":"'6 - Input sheet - Employee data'!LZ60","v":0},{"$f":"'6 - Input sheet - Employee data'!MA60","v":0},{"$f":"'6 - Input sheet - Employee data'!MB60","v":0},{"$f":"'6 - Input sheet - Employee data'!MC60","v":0},{"$f":"'6 - Input sheet - Employee data'!MD60","v":0},{"$f":"'6 - Input sheet - Employee data'!ME60","v":0},{"$f":"'6 - Input sheet - Employee data'!MF60","v":0},{"$f":"'6 - Input sheet - Employee data'!MG60","v":0},{"$f":"'6 - Input sheet - Employee data'!MH60","v":0},{"$f":"'6 - Input sheet - Employee data'!MI60","v":0},{"$f":"'6 - Input sheet - Employee data'!MJ60","v":0},{"$f":"'6 - Input sheet - Employee data'!MK60","v":0},{"$f":"'6 - Input sheet - Employee data'!ML60","v":0},{"$f":"'6 - Input sheet - Employee data'!MM60","v":0},{"$f":"'6 - Input sheet - Employee data'!MN60","v":0},{"$f":"'6 - Input sheet - Employee data'!MO60","v":0},{"$f":"'6 - Input sheet - Employee data'!MP60","v":0},{"$f":"'6 - Input sheet - Employee data'!MQ60","v":0},{"$f":"'6 - Input sheet - Employee data'!MR60","v":0},{"$f":"'6 - Input sheet - Employee data'!MS60","v":0},{"$f":"'6 - Input sheet - Employee data'!MT60","v":0},{"$f":"'6 - Input sheet - Employee data'!MU60","v":0},{"$f":"'6 - Input sheet - Employee data'!MV60","v":0},{"$f":"'6 - Input sheet - Employee data'!MW60","v":0},{"$f":"'6 - Input sheet - Employee data'!MX60","v":0},{"$f":"'6 - Input sheet - Employee data'!MY60","v":0},{"$f":"'6 - Input sheet - Employee data'!MZ60","v":0},{"$f":"'6 - Input sheet - Employee data'!NA60","v":0},{"$f":"'6 - Input sheet - Employee data'!NB60","v":0},{"$f":"'6 - Input sheet - Employee data'!NC60","v":0},{"$f":"'6 - Input sheet - Employee data'!ND60","v":0},{"$f":"'6 - Input sheet - Employee data'!NE60","v":0},{"$f":"'6 - Input sheet - Employee data'!NF60","v":0},{"$f":"'6 - Input sheet - Employee data'!NG60","v":0},{"$f":"'6 - Input sheet - Employee data'!NH60","v":0},{"$f":"'6 - Input sheet - Employee data'!NI60","v":0},{"$f":"'6 - Input sheet - Employee data'!NJ60","v":0},{"$f":"'6 - Input sheet - Employee data'!NK60","v":0},{"$f":"'6 - Input sheet - Employee data'!NL60","v":0},{"$f":"'6 - Input sheet - Employee data'!NM60","v":0},{"$f":"'6 - Input sheet - Employee data'!NN60","v":0},{"$f":"'6 - Input sheet - Employee data'!NO60","v":0},{"$f":"'6 - Input sheet - Employee data'!NP60","v":0},{"$f":"'6 - Input sheet - Employee data'!NQ60","v":0},{"$f":"'6 - Input sheet - Employee data'!NR60","v":0},{"$f":"'6 - Input sheet - Employee data'!NS60","v":0},{"$f":"'6 - Input sheet - Employee data'!NT60","v":0},{"$f":"'6 - Input sheet - Employee data'!NU60","v":0},{"$f":"'6 - Input sheet - Employee data'!NV60","v":0},{"$f":"'6 - Input sheet - Employee data'!NW60","v":0},{"$f":"'6 - Input sheet - Employee data'!NX60","v":0},{"$f":"'6 - Input sheet - Employee data'!NY60","v":0},{"$f":"'6 - Input sheet - Employee data'!NZ60","v":0},{"$f":"'6 - Input sheet - Employee data'!OA60","v":0},{"$f":"'6 - Input sheet - Employee data'!OB60","v":0},{"$f":"'6 - Input sheet - Employee data'!OC60","v":0},{"$f":"'6 - Input sheet - Employee data'!OD60","v":0},{"$f":"'6 - Input sheet - Employee data'!OE60","v":0},{"$f":"'6 - Input sheet - Employee data'!OF60","v":0},{"$f":"'6 - Input sheet - Employee data'!OG60","v":0},{"$f":"'6 - Input sheet - Employee data'!OH60","v":0},{"$f":"'6 - Input sheet - Employee data'!OI60","v":0},{"$f":"'6 - Input sheet - Employee data'!OJ60","v":0},{"$f":"'6 - Input sheet - Employee data'!OK60","v":0},{"$f":"'6 - Input sheet - Employee data'!OL60","v":0},{"$f":"'6 - Input sheet - Employee data'!OM60","v":0},{"$f":"'6 - Input sheet - Employee data'!ON60","v":0},{"$f":"'6 - Input sheet - Employee data'!OO60","v":0},{"$f":"'6 - Input sheet - Employee data'!OP60","v":0},{"$f":"'6 - Input sheet - Employee data'!OQ60","v":0},{"$f":"'6 - Input sheet - Employee data'!OR60","v":0},{"$f":"'6 - Input sheet - Employee data'!OS60","v":0},{"$f":"'6 - Input sheet - Employee data'!OT60","v":0},{"$f":"'6 - Input sheet - Employee data'!OU60","v":0},{"$f":"'6 - Input sheet - Employee data'!OV60","v":0},{"$f":"'6 - Input sheet - Employee data'!OW60","v":0},{"$f":"'6 - Input sheet - Employee data'!OX60","v":0},{"$f":"'6 - Input sheet - Employee data'!OY60","v":0},{"$f":"'6 - Input sheet - Employee data'!OZ60","v":0},{"$f":"'6 - Input sheet - Employee data'!PA60","v":0},{"$f":"'6 - Input sheet - Employee data'!PB60","v":0},{"$f":"'6 - Input sheet - Employee data'!PC60","v":0},{"$f":"'6 - Input sheet - Employee data'!PD60","v":0},{"$f":"'6 - Input sheet - Employee data'!PE60","v":0},{"$f":"'6 - Input sheet - Employee data'!PF60","v":0},{"$f":"'6 - Input sheet - Employee data'!PG60","v":0},{"$f":"'6 - Input sheet - Employee data'!PH60","v":0},{"$f":"'6 - Input sheet - Employee data'!PI60","v":0},{"$f":"'6 - Input sheet - Employee data'!PJ60","v":0},{"$f":"'6 - Input sheet - Employee data'!PK60","v":0},{"$f":"'6 - Input sheet - Employee data'!PL60","v":0},{"$f":"'6 - Input sheet - Employee data'!PM60","v":0},{"$f":"'6 - Input sheet - Employee data'!PN60","v":0},{"$f":"'6 - Input sheet - Employee data'!PO60","v":0},{"$f":"'6 - Input sheet - Employee data'!PP60","v":0},{"$f":"'6 - Input sheet - Employee data'!PQ60","v":0},{"$f":"'6 - Input sheet - Employee data'!PR60","v":0},{"$f":"'6 - Input sheet - Employee data'!PS60","v":0},{"$f":"'6 - Input sheet - Employee data'!PT60","v":0},{"$f":"'6 - Input sheet - Employee data'!PU60","v":0},{"$f":"'6 - Input sheet - Employee data'!PV60","v":0},{"$f":"'6 - Input sheet - Employee data'!PW60","v":0},{"$f":"'6 - Input sheet - Employee data'!PX60","v":0},{"$f":"'6 - Input sheet - Employee data'!PY60","v":0},{"$f":"'6 - Input sheet - Employee data'!PZ60","v":0},{"$f":"'6 - Input sheet - Employee data'!QA60","v":0},{"$f":"'6 - Input sheet - Employee data'!QB60","v":0},{"$f":"'6 - Input sheet - Employee data'!QC60","v":0},{"$f":"'6 - Input sheet - Employee data'!QD60","v":0},{"$f":"'6 - Input sheet - Employee data'!QE60","v":0},{"$f":"'6 - Input sheet - Employee data'!QF60","v":0},{"$f":"'6 - Input sheet - Employee data'!QG60","v":0},{"$f":"'6 - Input sheet - Employee data'!QH60","v":0},{"$f":"'6 - Input sheet - Employee data'!QI60","v":0},{"$f":"'6 - Input sheet - Employee data'!QJ60","v":0},{"$f":"'6 - Input sheet - Employee data'!QK60","v":0},{"$f":"'6 - Input sheet - Employee data'!QL60","v":0},{"$f":"'6 - Input sheet - Employee data'!QM60","v":0},{"$f":"'6 - Input sheet - Employee data'!QN60","v":0},{"$f":"'6 - Input sheet - Employee data'!QO60","v":0},{"$f":"'6 - Input sheet - Employee data'!QP60","v":0},{"$f":"'6 - Input sheet - Employee data'!QQ60","v":0},{"$f":"'6 - Input sheet - Employee data'!QR60","v":0},{"$f":"'6 - Input sheet - Employee data'!QS60","v":0},{"$f":"'6 - Input sheet - Employee data'!QT60","v":0},{"$f":"'6 - Input sheet - Employee data'!QU60","v":0},{"$f":"'6 - Input sheet - Employee data'!QV60","v":0},{"$f":"'6 - Input sheet - Employee data'!QW60","v":0},{"$f":"'6 - Input sheet - Employee data'!QX60","v":0},{"$f":"'6 - Input sheet - Employee data'!QY60","v":0},{"$f":"'6 - Input sheet - Employee data'!QZ60","v":0},{"$f":"'6 - Input sheet - Employee data'!RA60","v":0},{"$f":"'6 - Input sheet - Employee data'!RB60","v":0},{"$f":"'6 - Input sheet - Employee data'!RC60","v":0},{"$f":"'6 - Input sheet - Employee data'!RD60","v":0},{"$f":"'6 - Input sheet - Employee data'!RE60","v":0},{"$f":"'6 - Input sheet - Employee data'!RF60","v":0},{"$f":"'6 - Input sheet - Employee data'!RG60","v":0},{"$f":"'6 - Input sheet - Employee data'!RH60","v":0},{"$f":"'6 - Input sheet - Employee data'!RI60","v":0},{"$f":"'6 - Input sheet - Employee data'!RJ60","v":0},{"$f":"'6 - Input sheet - Employee data'!RK60","v":0},{"$f":"'6 - Input sheet - Employee data'!RL60","v":0},{"$f":"'6 - Input sheet - Employee data'!RM60","v":0},{"$f":"'6 - Input sheet - Employee data'!RN60","v":0},{"$f":"'6 - Input sheet - Employee data'!RO60","v":0},{"$f":"'6 - Input sheet - Employee data'!RP60","v":0},{"$f":"'6 - Input sheet - Employee data'!RQ60","v":0},{"$f":"'6 - Input sheet - Employee data'!RR60","v":0},{"$f":"'6 - Input sheet - Employee data'!RS60","v":0},{"$f":"'6 - Input sheet - Employee data'!RT60","v":0},{"$f":"'6 - Input sheet - Employee data'!RU60","v":0},{"$f":"'6 - Input sheet - Employee data'!RV60","v":0},{"$f":"'6 - Input sheet - Employee data'!RW60","v":0},{"$f":"'6 - Input sheet - Employee data'!RX60","v":0},{"$f":"'6 - Input sheet - Employee data'!RY60","v":0},{"$f":"'6 - Input sheet - Employee data'!RZ60","v":0},{"$f":"'6 - Input sheet - Employee data'!SA60","v":0},{"$f":"'6 - Input sheet - Employee data'!SB60","v":0},{"$f":"'6 - Input sheet - Employee data'!SC60","v":0},{"$f":"'6 - Input sheet - Employee data'!SD60","v":0},{"$f":"'6 - Input sheet - Employee data'!SE60","v":0},{"$f":"'6 - Input sheet - Employee data'!SF60","v":0},{"$f":"'6 - Input sheet - Employee data'!SG60","v":0},{"$f":"'6 - Input sheet - Employee data'!SH60","v":0}]
[{"$f":"'6 - Input sheet - Employee data'!A61","v":"  Period 8 (enter date)"},0,{"$f":"'6 - Input sheet - Employee data'!C61","v":0},{"$f":"'6 - Input sheet - Employee data'!D61","v":0},{"$f":"'6 - Input sheet - Employee data'!E61","v":0},{"$f":"'6 - Input sheet - Employee data'!F61","v":0},{"$f":"'6 - Input sheet - Employee data'!G61","v":0},{"$f":"'6 - Input sheet - Employee data'!H61","v":0},{"$f":"'6 - Input sheet - Employee data'!I61","v":0},{"$f":"'6 - Input sheet - Employee data'!J61","v":0},{"$f":"'6 - Input sheet - Employee data'!K61","v":0},{"$f":"'6 - Input sheet - Employee data'!L61","v":0},{"$f":"'6 - Input sheet - Employee data'!M61","v":0},{"$f":"'6 - Input sheet - Employee data'!N61","v":0},{"$f":"'6 - Input sheet - Employee data'!O61","v":0},{"$f":"'6 - Input sheet - Employee data'!P61","v":0},{"$f":"'6 - Input sheet - Employee data'!Q61","v":0},{"$f":"'6 - Input sheet - Employee data'!R61","v":0},{"$f":"'6 - Input sheet - Employee data'!S61","v":0},{"$f":"'6 - Input sheet - Employee data'!T61","v":0},{"$f":"'6 - Input sheet - Employee data'!U61","v":0},{"$f":"'6 - Input sheet - Employee data'!V61","v":0},{"$f":"'6 - Input sheet - Employee data'!W61","v":0},{"$f":"'6 - Input sheet - Employee data'!X61","v":0},{"$f":"'6 - Input sheet - Employee data'!Y61","v":0},{"$f":"'6 - Input sheet - Employee data'!Z61","v":0},{"$f":"'6 - Input sheet - Employee data'!AA61","v":0},{"$f":"'6 - Input sheet - Employee data'!AB61","v":0},{"$f":"'6 - Input sheet - Employee data'!AC61","v":0},{"$f":"'6 - Input sheet - Employee data'!AD61","v":0},{"$f":"'6 - Input sheet - Employee data'!AE61","v":0},{"$f":"'6 - Input sheet - Employee data'!AF61","v":0},{"$f":"'6 - Input sheet - Employee data'!AG61","v":0},{"$f":"'6 - Input sheet - Employee data'!AH61","v":0},{"$f":"'6 - Input sheet - Employee data'!AI61","v":0},{"$f":"'6 - Input sheet - Employee data'!AJ61","v":0},{"$f":"'6 - Input sheet - Employee data'!AK61","v":0},{"$f":"'6 - Input sheet - Employee data'!AL61","v":0},{"$f":"'6 - Input sheet - Employee data'!AM61","v":0},{"$f":"'6 - Input sheet - Employee data'!AN61","v":0},{"$f":"'6 - Input sheet - Employee data'!AO61","v":0},{"$f":"'6 - Input sheet - Employee data'!AP61","v":0},{"$f":"'6 - Input sheet - Employee data'!AQ61","v":0},{"$f":"'6 - Input sheet - Employee data'!AR61","v":0},{"$f":"'6 - Input sheet - Employee data'!AS61","v":0},{"$f":"'6 - Input sheet - Employee data'!AT61","v":0},{"$f":"'6 - Input sheet - Employee data'!AU61","v":0},{"$f":"'6 - Input sheet - Employee data'!AV61","v":0},{"$f":"'6 - Input sheet - Employee data'!AW61","v":0},{"$f":"'6 - Input sheet - Employee data'!AX61","v":0},{"$f":"'6 - Input sheet - Employee data'!AY61","v":0},{"$f":"'6 - Input sheet - Employee data'!AZ61","v":0},{"$f":"'6 - Input sheet - Employee data'!BA61","v":0},{"$f":"'6 - Input sheet - Employee data'!BB61","v":0},{"$f":"'6 - Input sheet - Employee data'!BC61","v":0},{"$f":"'6 - Input sheet - Employee data'!BD61","v":0},{"$f":"'6 - Input sheet - Employee data'!BE61","v":0},{"$f":"'6 - Input sheet - Employee data'!BF61","v":0},{"$f":"'6 - Input sheet - Employee data'!BG61","v":0},{"$f":"'6 - Input sheet - Employee data'!BH61","v":0},{"$f":"'6 - Input sheet - Employee data'!BI61","v":0},{"$f":"'6 - Input sheet - Employee data'!BJ61","v":0},{"$f":"'6 - Input sheet - Employee data'!BK61","v":0},{"$f":"'6 - Input sheet - Employee data'!BL61","v":0},{"$f":"'6 - Input sheet - Employee data'!BM61","v":0},{"$f":"'6 - Input sheet - Employee data'!BN61","v":0},{"$f":"'6 - Input sheet - Employee data'!BO61","v":0},{"$f":"'6 - Input sheet - Employee data'!BP61","v":0},{"$f":"'6 - Input sheet - Employee data'!BQ61","v":0},{"$f":"'6 - Input sheet - Employee data'!BR61","v":0},{"$f":"'6 - Input sheet - Employee data'!BS61","v":0},{"$f":"'6 - Input sheet - Employee data'!BT61","v":0},{"$f":"'6 - Input sheet - Employee data'!BU61","v":0},{"$f":"'6 - Input sheet - Employee data'!BV61","v":0},{"$f":"'6 - Input sheet - Employee data'!BW61","v":0},{"$f":"'6 - Input sheet - Employee data'!BX61","v":0},{"$f":"'6 - Input sheet - Employee data'!BY61","v":0},{"$f":"'6 - Input sheet - Employee data'!BZ61","v":0},{"$f":"'6 - Input sheet - Employee data'!CA61","v":0},{"$f":"'6 - Input sheet - Employee data'!CB61","v":0},{"$f":"'6 - Input sheet - Employee data'!CC61","v":0},{"$f":"'6 - Input sheet - Employee data'!CD61","v":0},{"$f":"'6 - Input sheet - Employee data'!CE61","v":0},{"$f":"'6 - Input sheet - Employee data'!CF61","v":0},{"$f":"'6 - Input sheet - Employee data'!CG61","v":0},{"$f":"'6 - Input sheet - Employee data'!CH61","v":0},{"$f":"'6 - Input sheet - Employee data'!CI61","v":0},{"$f":"'6 - Input sheet - Employee data'!CJ61","v":0},{"$f":"'6 - Input sheet - Employee data'!CK61","v":0},{"$f":"'6 - Input sheet - Employee data'!CL61","v":0},{"$f":"'6 - Input sheet - Employee data'!CM61","v":0},{"$f":"'6 - Input sheet - Employee data'!CN61","v":0},{"$f":"'6 - Input sheet - Employee data'!CO61","v":0},{"$f":"'6 - Input sheet - Employee data'!CP61","v":0},{"$f":"'6 - Input sheet - Employee data'!CQ61","v":0},{"$f":"'6 - Input sheet - Employee data'!CR61","v":0},{"$f":"'6 - Input sheet - Employee data'!CS61","v":0},{"$f":"'6 - Input sheet - Employee data'!CT61","v":0},{"$f":"'6 - Input sheet - Employee data'!CU61","v":0},{"$f":"'6 - Input sheet - Employee data'!CV61","v":0},{"$f":"'6 - Input sheet - Employee data'!CW61","v":0},{"$f":"'6 - Input sheet - Employee data'!CX61","v":0},{"$f":"'6 - Input sheet - Employee data'!CY61","v":0},{"$f":"'6 - Input sheet - Employee data'!CZ61","v":0},{"$f":"'6 - Input sheet - Employee data'!DA61","v":0},{"$f":"'6 - Input sheet - Employee data'!DB61","v":0},{"$f":"'6 - Input sheet - Employee data'!DC61","v":0},{"$f":"'6 - Input sheet - Employee data'!DD61","v":0},{"$f":"'6 - Input sheet - Employee data'!DE61","v":0},{"$f":"'6 - Input sheet - Employee data'!DF61","v":0},{"$f":"'6 - Input sheet - Employee data'!DG61","v":0},{"$f":"'6 - Input sheet - Employee data'!DH61","v":0},{"$f":"'6 - Input sheet - Employee data'!DI61","v":0},{"$f":"'6 - Input sheet - Employee data'!DJ61","v":0},{"$f":"'6 - Input sheet - Employee data'!DK61","v":0},{"$f":"'6 - Input sheet - Employee data'!DL61","v":0},{"$f":"'6 - Input sheet - Employee data'!DM61","v":0},{"$f":"'6 - Input sheet - Employee data'!DN61","v":0},{"$f":"'6 - Input sheet - Employee data'!DO61","v":0},{"$f":"'6 - Input sheet - Employee data'!DP61","v":0},{"$f":"'6 - Input sheet - Employee data'!DQ61","v":0},{"$f":"'6 - Input sheet - Employee data'!DR61","v":0},{"$f":"'6 - Input sheet - Employee data'!DS61","v":0},{"$f":"'6 - Input sheet - Employee data'!DT61","v":0},{"$f":"'6 - Input sheet - Employee data'!DU61","v":0},{"$f":"'6 - Input sheet - Employee data'!DV61","v":0},{"$f":"'6 - Input sheet - Employee data'!DW61","v":0},{"$f":"'6 - Input sheet - Employee data'!DX61","v":0},{"$f":"'6 - Input sheet - Employee data'!DY61","v":0},{"$f":"'6 - Input sheet - Employee data'!DZ61","v":0},{"$f":"'6 - Input sheet - Employee data'!EA61","v":0},{"$f":"'6 - Input sheet - Employee data'!EB61","v":0},{"$f":"'6 - Input sheet - Employee data'!EC61","v":0},{"$f":"'6 - Input sheet - Employee data'!ED61","v":0},{"$f":"'6 - Input sheet - Employee data'!EE61","v":0},{"$f":"'6 - Input sheet - Employee data'!EF61","v":0},{"$f":"'6 - Input sheet - Employee data'!EG61","v":0},{"$f":"'6 - Input sheet - Employee data'!EH61","v":0},{"$f":"'6 - Input sheet - Employee data'!EI61","v":0},{"$f":"'6 - Input sheet - Employee data'!EJ61","v":0},{"$f":"'6 - Input sheet - Employee data'!EK61","v":0},{"$f":"'6 - Input sheet - Employee data'!EL61","v":0},{"$f":"'6 - Input sheet - Employee data'!EM61","v":0},{"$f":"'6 - Input sheet - Employee data'!EN61","v":0},{"$f":"'6 - Input sheet - Employee data'!EO61","v":0},{"$f":"'6 - Input sheet - Employee data'!EP61","v":0},{"$f":"'6 - Input sheet - Employee data'!EQ61","v":0},{"$f":"'6 - Input sheet - Employee data'!ER61","v":0},{"$f":"'6 - Input sheet - Employee data'!ES61","v":0},{"$f":"'6 - Input sheet - Employee data'!ET61","v":0},{"$f":"'6 - Input sheet - Employee data'!EU61","v":0},{"$f":"'6 - Input sheet - Employee data'!EV61","v":0},{"$f":"'6 - Input sheet - Employee data'!EW61","v":0},{"$f":"'6 - Input sheet - Employee data'!EX61","v":0},{"$f":"'6 - Input sheet - Employee data'!EY61","v":0},{"$f":"'6 - Input sheet - Employee data'!EZ61","v":0},{"$f":"'6 - Input sheet - Employee data'!FA61","v":0},{"$f":"'6 - Input sheet - Employee data'!FB61","v":0},{"$f":"'6 - Input sheet - Employee data'!FC61","v":0},{"$f":"'6 - Input sheet - Employee data'!FD61","v":0},{"$f":"'6 - Input sheet - Employee data'!FE61","v":0},{"$f":"'6 - Input sheet - Employee data'!FF61","v":0},{"$f":"'6 - Input sheet - Employee data'!FG61","v":0},{"$f":"'6 - Input sheet - Employee data'!FH61","v":0},{"$f":"'6 - Input sheet - Employee data'!FI61","v":0},{"$f":"'6 - Input sheet - Employee data'!FJ61","v":0},{"$f":"'6 - Input sheet - Employee data'!FK61","v":0},{"$f":"'6 - Input sheet - Employee data'!FL61","v":0},{"$f":"'6 - Input sheet - Employee data'!FM61","v":0},{"$f":"'6 - Input sheet - Employee data'!FN61","v":0},{"$f":"'6 - Input sheet - Employee data'!FO61","v":0},{"$f":"'6 - Input sheet - Employee data'!FP61","v":0},{"$f":"'6 - Input sheet - Employee data'!FQ61","v":0},{"$f":"'6 - Input sheet - Employee data'!FR61","v":0},{"$f":"'6 - Input sheet - Employee data'!FS61","v":0},{"$f":"'6 - Input sheet - Employee data'!FT61","v":0},{"$f":"'6 - Input sheet - Employee data'!FU61","v":0},{"$f":"'6 - Input sheet - Employee data'!FV61","v":0},{"$f":"'6 - Input sheet - Employee data'!FW61","v":0},{"$f":"'6 - Input sheet - Employee data'!FX61","v":0},{"$f":"'6 - Input sheet - Employee data'!FY61","v":0},{"$f":"'6 - Input sheet - Employee data'!FZ61","v":0},{"$f":"'6 - Input sheet - Employee data'!GA61","v":0},{"$f":"'6 - Input sheet - Employee data'!GB61","v":0},{"$f":"'6 - Input sheet - Employee data'!GC61","v":0},{"$f":"'6 - Input sheet - Employee data'!GD61","v":0},{"$f":"'6 - Input sheet - Employee data'!GE61","v":0},{"$f":"'6 - Input sheet - Employee data'!GF61","v":0},{"$f":"'6 - Input sheet - Employee data'!GG61","v":0},{"$f":"'6 - Input sheet - Employee data'!GH61","v":0},{"$f":"'6 - Input sheet - Employee data'!GI61","v":0},{"$f":"'6 - Input sheet - Employee data'!GJ61","v":0},{"$f":"'6 - Input sheet - Employee data'!GK61","v":0},{"$f":"'6 - Input sheet - Employee data'!GL61","v":0},{"$f":"'6 - Input sheet - Employee data'!GM61","v":0},{"$f":"'6 - Input sheet - Employee data'!GN61","v":0},{"$f":"'6 - Input sheet - Employee data'!GO61","v":0},{"$f":"'6 - Input sheet - Employee data'!GP61","v":0},{"$f":"'6 - Input sheet - Employee data'!GQ61","v":0},{"$f":"'6 - Input sheet - Employee data'!GR61","v":0},{"$f":"'6 - Input sheet - Employee data'!GS61","v":0},{"$f":"'6 - Input sheet - Employee data'!GT61","v":0},{"$f":"'6 - Input sheet - Employee data'!GU61","v":0},{"$f":"'6 - Input sheet - Employee data'!GV61","v":0},{"$f":"'6 - Input sheet - Employee data'!GW61","v":0},{"$f":"'6 - Input sheet - Employee data'!GX61","v":0},{"$f":"'6 - Input sheet - Employee data'!GY61","v":0},{"$f":"'6 - Input sheet - Employee data'!GZ61","v":0},{"$f":"'6 - Input sheet - Employee data'!HA61","v":0},{"$f":"'6 - Input sheet - Employee data'!HB61","v":0},{"$f":"'6 - Input sheet - Employee data'!HC61","v":0},{"$f":"'6 - Input sheet - Employee data'!HD61","v":0},{"$f":"'6 - Input sheet - Employee data'!HE61","v":0},{"$f":"'6 - Input sheet - Employee data'!HF61","v":0},{"$f":"'6 - Input sheet - Employee data'!HG61","v":0},{"$f":"'6 - Input sheet - Employee data'!HH61","v":0},{"$f":"'6 - Input sheet - Employee data'!HI61","v":0},{"$f":"'6 - Input sheet - Employee data'!HJ61","v":0},{"$f":"'6 - Input sheet - Employee data'!HK61","v":0},{"$f":"'6 - Input sheet - Employee data'!HL61","v":0},{"$f":"'6 - Input sheet - Employee data'!HM61","v":0},{"$f":"'6 - Input sheet - Employee data'!HN61","v":0},{"$f":"'6 - Input sheet - Employee data'!HO61","v":0},{"$f":"'6 - Input sheet - Employee data'!HP61","v":0},{"$f":"'6 - Input sheet - Employee data'!HQ61","v":0},{"$f":"'6 - Input sheet - Employee data'!HR61","v":0},{"$f":"'6 - Input sheet - Employee data'!HS61","v":0},{"$f":"'6 - Input sheet - Employee data'!HT61","v":0},{"$f":"'6 - Input sheet - Employee data'!HU61","v":0},{"$f":"'6 - Input sheet - Employee data'!HV61","v":0},{"$f":"'6 - Input sheet - Employee data'!HW61","v":0},{"$f":"'6 - Input sheet - Employee data'!HX61","v":0},{"$f":"'6 - Input sheet - Employee data'!HY61","v":0},{"$f":"'6 - Input sheet - Employee data'!HZ61","v":0},{"$f":"'6 - Input sheet - Employee data'!IA61","v":0},{"$f":"'6 - Input sheet - Employee data'!IB61","v":0},{"$f":"'6 - Input sheet - Employee data'!IC61","v":0},{"$f":"'6 - Input sheet - Employee data'!ID61","v":0},{"$f":"'6 - Input sheet - Employee data'!IE61","v":0},{"$f":"'6 - Input sheet - Employee data'!IF61","v":0},{"$f":"'6 - Input sheet - Employee data'!IG61","v":0},{"$f":"'6 - Input sheet - Employee data'!IH61","v":0},{"$f":"'6 - Input sheet - Employee data'!II61","v":0},{"$f":"'6 - Input sheet - Employee data'!IJ61","v":0},{"$f":"'6 - Input sheet - Employee data'!IK61","v":0},{"$f":"'6 - Input sheet - Employee data'!IL61","v":0},{"$f":"'6 - Input sheet - Employee data'!IM61","v":0},{"$f":"'6 - Input sheet - Employee data'!IN61","v":0},{"$f":"'6 - Input sheet - Employee data'!IO61","v":0},{"$f":"'6 - Input sheet - Employee data'!IP61","v":0},{"$f":"'6 - Input sheet - Employee data'!IQ61","v":0},{"$f":"'6 - Input sheet - Employee data'!IR61","v":0},{"$f":"'6 - Input sheet - Employee data'!IS61","v":0},{"$f":"'6 - Input sheet - Employee data'!IT61","v":0},{"$f":"'6 - Input sheet - Employee data'!IU61","v":0},{"$f":"'6 - Input sheet - Employee data'!IV61","v":0},{"$f":"'6 - Input sheet - Employee data'!IW61","v":0},{"$f":"'6 - Input sheet - Employee data'!IX61","v":0},{"$f":"'6 - Input sheet - Employee data'!IY61","v":0},{"$f":"'6 - Input sheet - Employee data'!IZ61","v":0},{"$f":"'6 - Input sheet - Employee data'!JA61","v":0},{"$f":"'6 - Input sheet - Employee data'!JB61","v":0},{"$f":"'6 - Input sheet - Employee data'!JC61","v":0},{"$f":"'6 - Input sheet - Employee data'!JD61","v":0},{"$f":"'6 - Input sheet - Employee data'!JE61","v":0},{"$f":"'6 - Input sheet - Employee data'!JF61","v":0},{"$f":"'6 - Input sheet - Employee data'!JG61","v":0},{"$f":"'6 - Input sheet - Employee data'!JH61","v":0},{"$f":"'6 - Input sheet - Employee data'!JI61","v":0},{"$f":"'6 - Input sheet - Employee data'!JJ61","v":0},{"$f":"'6 - Input sheet - Employee data'!JK61","v":0},{"$f":"'6 - Input sheet - Employee data'!JL61","v":0},{"$f":"'6 - Input sheet - Employee data'!JM61","v":0},{"$f":"'6 - Input sheet - Employee data'!JN61","v":0},{"$f":"'6 - Input sheet - Employee data'!JO61","v":0},{"$f":"'6 - Input sheet - Employee data'!JP61","v":0},{"$f":"'6 - Input sheet - Employee data'!JQ61","v":0},{"$f":"'6 - Input sheet - Employee data'!JR61","v":0},{"$f":"'6 - Input sheet - Employee data'!JS61","v":0},{"$f":"'6 - Input sheet - Employee data'!JT61","v":0},{"$f":"'6 - Input sheet - Employee data'!JU61","v":0},{"$f":"'6 - Input sheet - Employee data'!JV61","v":0},{"$f":"'6 - Input sheet - Employee data'!JW61","v":0},{"$f":"'6 - Input sheet - Employee data'!JX61","v":0},{"$f":"'6 - Input sheet - Employee data'!JY61","v":0},{"$f":"'6 - Input sheet - Employee data'!JZ61","v":0},{"$f":"'6 - Input sheet - Employee data'!KA61","v":0},{"$f":"'6 - Input sheet - Employee data'!KB61","v":0},{"$f":"'6 - Input sheet - Employee data'!KC61","v":0},{"$f":"'6 - Input sheet - Employee data'!KD61","v":0},{"$f":"'6 - Input sheet - Employee data'!KE61","v":0},{"$f":"'6 - Input sheet - Employee data'!KF61","v":0},{"$f":"'6 - Input sheet - Employee data'!KG61","v":0},{"$f":"'6 - Input sheet - Employee data'!KH61","v":0},{"$f":"'6 - Input sheet - Employee data'!KI61","v":0},{"$f":"'6 - Input sheet - Employee data'!KJ61","v":0},{"$f":"'6 - Input sheet - Employee data'!KK61","v":0},{"$f":"'6 - Input sheet - Employee data'!KL61","v":0},{"$f":"'6 - Input sheet - Employee data'!KM61","v":0},{"$f":"'6 - Input sheet - Employee data'!KN61","v":0},{"$f":"'6 - Input sheet - Employee data'!KO61","v":0},{"$f":"'6 - Input sheet - Employee data'!KP61","v":0},{"$f":"'6 - Input sheet - Employee data'!KQ61","v":0},{"$f":"'6 - Input sheet - Employee data'!KR61","v":0},{"$f":"'6 - Input sheet - Employee data'!KS61","v":0},{"$f":"'6 - Input sheet - Employee data'!KT61","v":0},{"$f":"'6 - Input sheet - Employee data'!KU61","v":0},{"$f":"'6 - Input sheet - Employee data'!KV61","v":0},{"$f":"'6 - Input sheet - Employee data'!KW61","v":0},{"$f":"'6 - Input sheet - Employee data'!KX61","v":0},{"$f":"'6 - Input sheet - Employee data'!KY61","v":0},{"$f":"'6 - Input sheet - Employee data'!KZ61","v":0},{"$f":"'6 - Input sheet - Employee data'!LA61","v":0},{"$f":"'6 - Input sheet - Employee data'!LB61","v":0},{"$f":"'6 - Input sheet - Employee data'!LC61","v":0},{"$f":"'6 - Input sheet - Employee data'!LD61","v":0},{"$f":"'6 - Input sheet - Employee data'!LE61","v":0},{"$f":"'6 - Input sheet - Employee data'!LF61","v":0},{"$f":"'6 - Input sheet - Employee data'!LG61","v":0},{"$f":"'6 - Input sheet - Employee data'!LH61","v":0},{"$f":"'6 - Input sheet - Employee data'!LI61","v":0},{"$f":"'6 - Input sheet - Employee data'!LJ61","v":0},{"$f":"'6 - Input sheet - Employee data'!LK61","v":0},{"$f":"'6 - Input sheet - Employee data'!LL61","v":0},{"$f":"'6 - Input sheet - Employee data'!LM61","v":0},{"$f":"'6 - Input sheet - Employee data'!LN61","v":0},{"$f":"'6 - Input sheet - Employee data'!LO61","v":0},{"$f":"'6 - Input sheet - Employee data'!LP61","v":0},{"$f":"'6 - Input sheet - Employee data'!LQ61","v":0},{"$f":"'6 - Input sheet - Employee data'!LR61","v":0},{"$f":"'6 - Input sheet - Employee data'!LS61","v":0},{"$f":"'6 - Input sheet - Employee data'!LT61","v":0},{"$f":"'6 - Input sheet - Employee data'!LU61","v":0},{"$f":"'6 - Input sheet - Employee data'!LV61","v":0},{"$f":"'6 - Input sheet - Employee data'!LW61","v":0},{"$f":"'6 - Input sheet - Employee data'!LX61","v":0},{"$f":"'6 - Input sheet - Employee data'!LY61","v":0},{"$f":"'6 - Input sheet - Employee data'!LZ61","v":0},{"$f":"'6 - Input sheet - Employee data'!MA61","v":0},{"$f":"'6 - Input sheet - Employee data'!MB61","v":0},{"$f":"'6 - Input sheet - Employee data'!MC61","v":0},{"$f":"'6 - Input sheet - Employee data'!MD61","v":0},{"$f":"'6 - Input sheet - Employee data'!ME61","v":0},{"$f":"'6 - Input sheet - Employee data'!MF61","v":0},{"$f":"'6 - Input sheet - Employee data'!MG61","v":0},{"$f":"'6 - Input sheet - Employee data'!MH61","v":0},{"$f":"'6 - Input sheet - Employee data'!MI61","v":0},{"$f":"'6 - Input sheet - Employee data'!MJ61","v":0},{"$f":"'6 - Input sheet - Employee data'!MK61","v":0},{"$f":"'6 - Input sheet - Employee data'!ML61","v":0},{"$f":"'6 - Input sheet - Employee data'!MM61","v":0},{"$f":"'6 - Input sheet - Employee data'!MN61","v":0},{"$f":"'6 - Input sheet - Employee data'!MO61","v":0},{"$f":"'6 - Input sheet - Employee data'!MP61","v":0},{"$f":"'6 - Input sheet - Employee data'!MQ61","v":0},{"$f":"'6 - Input sheet - Employee data'!MR61","v":0},{"$f":"'6 - Input sheet - Employee data'!MS61","v":0},{"$f":"'6 - Input sheet - Employee data'!MT61","v":0},{"$f":"'6 - Input sheet - Employee data'!MU61","v":0},{"$f":"'6 - Input sheet - Employee data'!MV61","v":0},{"$f":"'6 - Input sheet - Employee data'!MW61","v":0},{"$f":"'6 - Input sheet - Employee data'!MX61","v":0},{"$f":"'6 - Input sheet - Employee data'!MY61","v":0},{"$f":"'6 - Input sheet - Employee data'!MZ61","v":0},{"$f":"'6 - Input sheet - Employee data'!NA61","v":0},{"$f":"'6 - Input sheet - Employee data'!NB61","v":0},{"$f":"'6 - Input sheet - Employee data'!NC61","v":0},{"$f":"'6 - Input sheet - Employee data'!ND61","v":0},{"$f":"'6 - Input sheet - Employee data'!NE61","v":0},{"$f":"'6 - Input sheet - Employee data'!NF61","v":0},{"$f":"'6 - Input sheet - Employee data'!NG61","v":0},{"$f":"'6 - Input sheet - Employee data'!NH61","v":0},{"$f":"'6 - Input sheet - Employee data'!NI61","v":0},{"$f":"'6 - Input sheet - Employee data'!NJ61","v":0},{"$f":"'6 - Input sheet - Employee data'!NK61","v":0},{"$f":"'6 - Input sheet - Employee data'!NL61","v":0},{"$f":"'6 - Input sheet - Employee data'!NM61","v":0},{"$f":"'6 - Input sheet - Employee data'!NN61","v":0},{"$f":"'6 - Input sheet - Employee data'!NO61","v":0},{"$f":"'6 - Input sheet - Employee data'!NP61","v":0},{"$f":"'6 - Input sheet - Employee data'!NQ61","v":0},{"$f":"'6 - Input sheet - Employee data'!NR61","v":0},{"$f":"'6 - Input sheet - Employee data'!NS61","v":0},{"$f":"'6 - Input sheet - Employee data'!NT61","v":0},{"$f":"'6 - Input sheet - Employee data'!NU61","v":0},{"$f":"'6 - Input sheet - Employee data'!NV61","v":0},{"$f":"'6 - Input sheet - Employee data'!NW61","v":0},{"$f":"'6 - Input sheet - Employee data'!NX61","v":0},{"$f":"'6 - Input sheet - Employee data'!NY61","v":0},{"$f":"'6 - Input sheet - Employee data'!NZ61","v":0},{"$f":"'6 - Input sheet - Employee data'!OA61","v":0},{"$f":"'6 - Input sheet - Employee data'!OB61","v":0},{"$f":"'6 - Input sheet - Employee data'!OC61","v":0},{"$f":"'6 - Input sheet - Employee data'!OD61","v":0},{"$f":"'6 - Input sheet - Employee data'!OE61","v":0},{"$f":"'6 - Input sheet - Employee data'!OF61","v":0},{"$f":"'6 - Input sheet - Employee data'!OG61","v":0},{"$f":"'6 - Input sheet - Employee data'!OH61","v":0},{"$f":"'6 - Input sheet - Employee data'!OI61","v":0},{"$f":"'6 - Input sheet - Employee data'!OJ61","v":0},{"$f":"'6 - Input sheet - Employee data'!OK61","v":0},{"$f":"'6 - Input sheet - Employee data'!OL61","v":0},{"$f":"'6 - Input sheet - Employee data'!OM61","v":0},{"$f":"'6 - Input sheet - Employee data'!ON61","v":0},{"$f":"'6 - Input sheet - Employee data'!OO61","v":0},{"$f":"'6 - Input sheet - Employee data'!OP61","v":0},{"$f":"'6 - Input sheet - Employee data'!OQ61","v":0},{"$f":"'6 - Input sheet - Employee data'!OR61","v":0},{"$f":"'6 - Input sheet - Employee data'!OS61","v":0},{"$f":"'6 - Input sheet - Employee data'!OT61","v":0},{"$f":"'6 - Input sheet - Employee data'!OU61","v":0},{"$f":"'6 - Input sheet - Employee data'!OV61","v":0},{"$f":"'6 - Input sheet - Employee data'!OW61","v":0},{"$f":"'6 - Input sheet - Employee data'!OX61","v":0},{"$f":"'6 - Input sheet - Employee data'!OY61","v":0},{"$f":"'6 - Input sheet - Employee data'!OZ61","v":0},{"$f":"'6 - Input sheet - Employee data'!PA61","v":0},{"$f":"'6 - Input sheet - Employee data'!PB61","v":0},{"$f":"'6 - Input sheet - Employee data'!PC61","v":0},{"$f":"'6 - Input sheet - Employee data'!PD61","v":0},{"$f":"'6 - Input sheet - Employee data'!PE61","v":0},{"$f":"'6 - Input sheet - Employee data'!PF61","v":0},{"$f":"'6 - Input sheet - Employee data'!PG61","v":0},{"$f":"'6 - Input sheet - Employee data'!PH61","v":0},{"$f":"'6 - Input sheet - Employee data'!PI61","v":0},{"$f":"'6 - Input sheet - Employee data'!PJ61","v":0},{"$f":"'6 - Input sheet - Employee data'!PK61","v":0},{"$f":"'6 - Input sheet - Employee data'!PL61","v":0},{"$f":"'6 - Input sheet - Employee data'!PM61","v":0},{"$f":"'6 - Input sheet - Employee data'!PN61","v":0},{"$f":"'6 - Input sheet - Employee data'!PO61","v":0},{"$f":"'6 - Input sheet - Employee data'!PP61","v":0},{"$f":"'6 - Input sheet - Employee data'!PQ61","v":0},{"$f":"'6 - Input sheet - Employee data'!PR61","v":0},{"$f":"'6 - Input sheet - Employee data'!PS61","v":0},{"$f":"'6 - Input sheet - Employee data'!PT61","v":0},{"$f":"'6 - Input sheet - Employee data'!PU61","v":0},{"$f":"'6 - Input sheet - Employee data'!PV61","v":0},{"$f":"'6 - Input sheet - Employee data'!PW61","v":0},{"$f":"'6 - Input sheet - Employee data'!PX61","v":0},{"$f":"'6 - Input sheet - Employee data'!PY61","v":0},{"$f":"'6 - Input sheet - Employee data'!PZ61","v":0},{"$f":"'6 - Input sheet - Employee data'!QA61","v":0},{"$f":"'6 - Input sheet - Employee data'!QB61","v":0},{"$f":"'6 - Input sheet - Employee data'!QC61","v":0},{"$f":"'6 - Input sheet - Employee data'!QD61","v":0},{"$f":"'6 - Input sheet - Employee data'!QE61","v":0},{"$f":"'6 - Input sheet - Employee data'!QF61","v":0},{"$f":"'6 - Input sheet - Employee data'!QG61","v":0},{"$f":"'6 - Input sheet - Employee data'!QH61","v":0},{"$f":"'6 - Input sheet - Employee data'!QI61","v":0},{"$f":"'6 - Input sheet - Employee data'!QJ61","v":0},{"$f":"'6 - Input sheet - Employee data'!QK61","v":0},{"$f":"'6 - Input sheet - Employee data'!QL61","v":0},{"$f":"'6 - Input sheet - Employee data'!QM61","v":0},{"$f":"'6 - Input sheet - Employee data'!QN61","v":0},{"$f":"'6 - Input sheet - Employee data'!QO61","v":0},{"$f":"'6 - Input sheet - Employee data'!QP61","v":0},{"$f":"'6 - Input sheet - Employee data'!QQ61","v":0},{"$f":"'6 - Input sheet - Employee data'!QR61","v":0},{"$f":"'6 - Input sheet - Employee data'!QS61","v":0},{"$f":"'6 - Input sheet - Employee data'!QT61","v":0},{"$f":"'6 - Input sheet - Employee data'!QU61","v":0},{"$f":"'6 - Input sheet - Employee data'!QV61","v":0},{"$f":"'6 - Input sheet - Employee data'!QW61","v":0},{"$f":"'6 - Input sheet - Employee data'!QX61","v":0},{"$f":"'6 - Input sheet - Employee data'!QY61","v":0},{"$f":"'6 - Input sheet - Employee data'!QZ61","v":0},{"$f":"'6 - Input sheet - Employee data'!RA61","v":0},{"$f":"'6 - Input sheet - Employee data'!RB61","v":0},{"$f":"'6 - Input sheet - Employee data'!RC61","v":0},{"$f":"'6 - Input sheet - Employee data'!RD61","v":0},{"$f":"'6 - Input sheet - Employee data'!RE61","v":0},{"$f":"'6 - Input sheet - Employee data'!RF61","v":0},{"$f":"'6 - Input sheet - Employee data'!RG61","v":0},{"$f":"'6 - Input sheet - Employee data'!RH61","v":0},{"$f":"'6 - Input sheet - Employee data'!RI61","v":0},{"$f":"'6 - Input sheet - Employee data'!RJ61","v":0},{"$f":"'6 - Input sheet - Employee data'!RK61","v":0},{"$f":"'6 - Input sheet - Employee data'!RL61","v":0},{"$f":"'6 - Input sheet - Employee data'!RM61","v":0},{"$f":"'6 - Input sheet - Employee data'!RN61","v":0},{"$f":"'6 - Input sheet - Employee data'!RO61","v":0},{"$f":"'6 - Input sheet - Employee data'!RP61","v":0},{"$f":"'6 - Input sheet - Employee data'!RQ61","v":0},{"$f":"'6 - Input sheet - Employee data'!RR61","v":0},{"$f":"'6 - Input sheet - Employee data'!RS61","v":0},{"$f":"'6 - Input sheet - Employee data'!RT61","v":0},{"$f":"'6 - Input sheet - Employee data'!RU61","v":0},{"$f":"'6 - Input sheet - Employee data'!RV61","v":0},{"$f":"'6 - Input sheet - Employee data'!RW61","v":0},{"$f":"'6 - Input sheet - Employee data'!RX61","v":0},{"$f":"'6 - Input sheet - Employee data'!RY61","v":0},{"$f":"'6 - Input sheet - Employee data'!RZ61","v":0},{"$f":"'6 - Input sheet - Employee data'!SA61","v":0},{"$f":"'6 - Input sheet - Employee data'!SB61","v":0},{"$f":"'6 - Input sheet - Employee data'!SC61","v":0},{"$f":"'6 - Input sheet - Employee data'!SD61","v":0},{"$f":"'6 - Input sheet - Employee data'!SE61","v":0},{"$f":"'6 - Input sheet - Employee data'!SF61","v":0},{"$f":"'6 - Input sheet - Employee data'!SG61","v":0},{"$f":"'6 - Input sheet - Employee data'!SH61","v":0}]
[{"$f":"'6 - Input sheet - Employee data'!A62","v":"  Additional period if necessary"},0,{"$f":"'6 - Input sheet - Employee data'!C62","v":0},{"$f":"'6 - Input sheet - Employee data'!D62","v":0},{"$f":"'6 - Input sheet - Employee data'!E62","v":0},{"$f":"'6 - Input sheet - Employee data'!F62","v":0},{"$f":"'6 - Input sheet - Employee data'!G62","v":0},{"$f":"'6 - Input sheet - Employee data'!H62","v":0},{"$f":"'6 - Input sheet - Employee data'!I62","v":0},{"$f":"'6 - Input sheet - Employee data'!J62","v":0},{"$f":"'6 - Input sheet - Employee data'!K62","v":0},{"$f":"'6 - Input sheet - Employee data'!L62","v":0},{"$f":"'6 - Input sheet - Employee data'!M62","v":0},{"$f":"'6 - Input sheet - Employee data'!N62","v":0},{"$f":"'6 - Input sheet - Employee data'!O62","v":0},{"$f":"'6 - Input sheet - Employee data'!P62","v":0},{"$f":"'6 - Input sheet - Employee data'!Q62","v":0},{"$f":"'6 - Input sheet - Employee data'!R62","v":0},{"$f":"'6 - Input sheet - Employee data'!S62","v":0},{"$f":"'6 - Input sheet - Employee data'!T62","v":0},{"$f":"'6 - Input sheet - Employee data'!U62","v":0},{"$f":"'6 - Input sheet - Employee data'!V62","v":0},{"$f":"'6 - Input sheet - Employee data'!W62","v":0},{"$f":"'6 - Input sheet - Employee data'!X62","v":0},{"$f":"'6 - Input sheet - Employee data'!Y62","v":0},{"$f":"'6 - Input sheet - Employee data'!Z62","v":0},{"$f":"'6 - Input sheet - Employee data'!AA62","v":0},{"$f":"'6 - Input sheet - Employee data'!AB62","v":0},{"$f":"'6 - Input sheet - Employee data'!AC62","v":0},{"$f":"'6 - Input sheet - Employee data'!AD62","v":0},{"$f":"'6 - Input sheet - Employee data'!AE62","v":0},{"$f":"'6 - Input sheet - Employee data'!AF62","v":0},{"$f":"'6 - Input sheet - Employee data'!AG62","v":0},{"$f":"'6 - Input sheet - Employee data'!AH62","v":0},{"$f":"'6 - Input sheet - Employee data'!AI62","v":0},{"$f":"'6 - Input sheet - Employee data'!AJ62","v":0},{"$f":"'6 - Input sheet - Employee data'!AK62","v":0},{"$f":"'6 - Input sheet - Employee data'!AL62","v":0},{"$f":"'6 - Input sheet - Employee data'!AM62","v":0},{"$f":"'6 - Input sheet - Employee data'!AN62","v":0},{"$f":"'6 - Input sheet - Employee data'!AO62","v":0},{"$f":"'6 - Input sheet - Employee data'!AP62","v":0},{"$f":"'6 - Input sheet - Employee data'!AQ62","v":0},{"$f":"'6 - Input sheet - Employee data'!AR62","v":0},{"$f":"'6 - Input sheet - Employee data'!AS62","v":0},{"$f":"'6 - Input sheet - Employee data'!AT62","v":0},{"$f":"'6 - Input sheet - Employee data'!AU62","v":0},{"$f":"'6 - Input sheet - Employee data'!AV62","v":0},{"$f":"'6 - Input sheet - Employee data'!AW62","v":0},{"$f":"'6 - Input sheet - Employee data'!AX62","v":0},{"$f":"'6 - Input sheet - Employee data'!AY62","v":0},{"$f":"'6 - Input sheet - Employee data'!AZ62","v":0},{"$f":"'6 - Input sheet - Employee data'!BA62","v":0},{"$f":"'6 - Input sheet - Employee data'!BB62","v":0},{"$f":"'6 - Input sheet - Employee data'!BC62","v":0},{"$f":"'6 - Input sheet - Employee data'!BD62","v":0},{"$f":"'6 - Input sheet - Employee data'!BE62","v":0},{"$f":"'6 - Input sheet - Employee data'!BF62","v":0},{"$f":"'6 - Input sheet - Employee data'!BG62","v":0},{"$f":"'6 - Input sheet - Employee data'!BH62","v":0},{"$f":"'6 - Input sheet - Employee data'!BI62","v":0},{"$f":"'6 - Input sheet - Employee data'!BJ62","v":0},{"$f":"'6 - Input sheet - Employee data'!BK62","v":0},{"$f":"'6 - Input sheet - Employee data'!BL62","v":0},{"$f":"'6 - Input sheet - Employee data'!BM62","v":0},{"$f":"'6 - Input sheet - Employee data'!BN62","v":0},{"$f":"'6 - Input sheet - Employee data'!BO62","v":0},{"$f":"'6 - Input sheet - Employee data'!BP62","v":0},{"$f":"'6 - Input sheet - Employee data'!BQ62","v":0},{"$f":"'6 - Input sheet - Employee data'!BR62","v":0},{"$f":"'6 - Input sheet - Employee data'!BS62","v":0},{"$f":"'6 - Input sheet - Employee data'!BT62","v":0},{"$f":"'6 - Input sheet - Employee data'!BU62","v":0},{"$f":"'6 - Input sheet - Employee data'!BV62","v":0},{"$f":"'6 - Input sheet - Employee data'!BW62","v":0},{"$f":"'6 - Input sheet - Employee data'!BX62","v":0},{"$f":"'6 - Input sheet - Employee data'!BY62","v":0},{"$f":"'6 - Input sheet - Employee data'!BZ62","v":0},{"$f":"'6 - Input sheet - Employee data'!CA62","v":0},{"$f":"'6 - Input sheet - Employee data'!CB62","v":0},{"$f":"'6 - Input sheet - Employee data'!CC62","v":0},{"$f":"'6 - Input sheet - Employee data'!CD62","v":0},{"$f":"'6 - Input sheet - Employee data'!CE62","v":0},{"$f":"'6 - Input sheet - Employee data'!CF62","v":0},{"$f":"'6 - Input sheet - Employee data'!CG62","v":0},{"$f":"'6 - Input sheet - Employee data'!CH62","v":0},{"$f":"'6 - Input sheet - Employee data'!CI62","v":0},{"$f":"'6 - Input sheet - Employee data'!CJ62","v":0},{"$f":"'6 - Input sheet - Employee data'!CK62","v":0},{"$f":"'6 - Input sheet - Employee data'!CL62","v":0},{"$f":"'6 - Input sheet - Employee data'!CM62","v":0},{"$f":"'6 - Input sheet - Employee data'!CN62","v":0},{"$f":"'6 - Input sheet - Employee data'!CO62","v":0},{"$f":"'6 - Input sheet - Employee data'!CP62","v":0},{"$f":"'6 - Input sheet - Employee data'!CQ62","v":0},{"$f":"'6 - Input sheet - Employee data'!CR62","v":0},{"$f":"'6 - Input sheet - Employee data'!CS62","v":0},{"$f":"'6 - Input sheet - Employee data'!CT62","v":0},{"$f":"'6 - Input sheet - Employee data'!CU62","v":0},{"$f":"'6 - Input sheet - Employee data'!CV62","v":0},{"$f":"'6 - Input sheet - Employee data'!CW62","v":0},{"$f":"'6 - Input sheet - Employee data'!CX62","v":0},{"$f":"'6 - Input sheet - Employee data'!CY62","v":0},{"$f":"'6 - Input sheet - Employee data'!CZ62","v":0},{"$f":"'6 - Input sheet - Employee data'!DA62","v":0},{"$f":"'6 - Input sheet - Employee data'!DB62","v":0},{"$f":"'6 - Input sheet - Employee data'!DC62","v":0},{"$f":"'6 - Input sheet - Employee data'!DD62","v":0},{"$f":"'6 - Input sheet - Employee data'!DE62","v":0},{"$f":"'6 - Input sheet - Employee data'!DF62","v":0},{"$f":"'6 - Input sheet - Employee data'!DG62","v":0},{"$f":"'6 - Input sheet - Employee data'!DH62","v":0},{"$f":"'6 - Input sheet - Employee data'!DI62","v":0},{"$f":"'6 - Input sheet - Employee data'!DJ62","v":0},{"$f":"'6 - Input sheet - Employee data'!DK62","v":0},{"$f":"'6 - Input sheet - Employee data'!DL62","v":0},{"$f":"'6 - Input sheet - Employee data'!DM62","v":0},{"$f":"'6 - Input sheet - Employee data'!DN62","v":0},{"$f":"'6 - Input sheet - Employee data'!DO62","v":0},{"$f":"'6 - Input sheet - Employee data'!DP62","v":0},{"$f":"'6 - Input sheet - Employee data'!DQ62","v":0},{"$f":"'6 - Input sheet - Employee data'!DR62","v":0},{"$f":"'6 - Input sheet - Employee data'!DS62","v":0},{"$f":"'6 - Input sheet - Employee data'!DT62","v":0},{"$f":"'6 - Input sheet - Employee data'!DU62","v":0},{"$f":"'6 - Input sheet - Employee data'!DV62","v":0},{"$f":"'6 - Input sheet - Employee data'!DW62","v":0},{"$f":"'6 - Input sheet - Employee data'!DX62","v":0},{"$f":"'6 - Input sheet - Employee data'!DY62","v":0},{"$f":"'6 - Input sheet - Employee data'!DZ62","v":0},{"$f":"'6 - Input sheet - Employee data'!EA62","v":0},{"$f":"'6 - Input sheet - Employee data'!EB62","v":0},{"$f":"'6 - Input sheet - Employee data'!EC62","v":0},{"$f":"'6 - Input sheet - Employee data'!ED62","v":0},{"$f":"'6 - Input sheet - Employee data'!EE62","v":0},{"$f":"'6 - Input sheet - Employee data'!EF62","v":0},{"$f":"'6 - Input sheet - Employee data'!EG62","v":0},{"$f":"'6 - Input sheet - Employee data'!EH62","v":0},{"$f":"'6 - Input sheet - Employee data'!EI62","v":0},{"$f":"'6 - Input sheet - Employee data'!EJ62","v":0},{"$f":"'6 - Input sheet - Employee data'!EK62","v":0},{"$f":"'6 - Input sheet - Employee data'!EL62","v":0},{"$f":"'6 - Input sheet - Employee data'!EM62","v":0},{"$f":"'6 - Input sheet - Employee data'!EN62","v":0},{"$f":"'6 - Input sheet - Employee data'!EO62","v":0},{"$f":"'6 - Input sheet - Employee data'!EP62","v":0},{"$f":"'6 - Input sheet - Employee data'!EQ62","v":0},{"$f":"'6 - Input sheet - Employee data'!ER62","v":0},{"$f":"'6 - Input sheet - Employee data'!ES62","v":0},{"$f":"'6 - Input sheet - Employee data'!ET62","v":0},{"$f":"'6 - Input sheet - Employee data'!EU62","v":0},{"$f":"'6 - Input sheet - Employee data'!EV62","v":0},{"$f":"'6 - Input sheet - Employee data'!EW62","v":0},{"$f":"'6 - Input sheet - Employee data'!EX62","v":0},{"$f":"'6 - Input sheet - Employee data'!EY62","v":0},{"$f":"'6 - Input sheet - Employee data'!EZ62","v":0},{"$f":"'6 - Input sheet - Employee data'!FA62","v":0},{"$f":"'6 - Input sheet - Employee data'!FB62","v":0},{"$f":"'6 - Input sheet - Employee data'!FC62","v":0},{"$f":"'6 - Input sheet - Employee data'!FD62","v":0},{"$f":"'6 - Input sheet - Employee data'!FE62","v":0},{"$f":"'6 - Input sheet - Employee data'!FF62","v":0},{"$f":"'6 - Input sheet - Employee data'!FG62","v":0},{"$f":"'6 - Input sheet - Employee data'!FH62","v":0},{"$f":"'6 - Input sheet - Employee data'!FI62","v":0},{"$f":"'6 - Input sheet - Employee data'!FJ62","v":0},{"$f":"'6 - Input sheet - Employee data'!FK62","v":0},{"$f":"'6 - Input sheet - Employee data'!FL62","v":0},{"$f":"'6 - Input sheet - Employee data'!FM62","v":0},{"$f":"'6 - Input sheet - Employee data'!FN62","v":0},{"$f":"'6 - Input sheet - Employee data'!FO62","v":0},{"$f":"'6 - Input sheet - Employee data'!FP62","v":0},{"$f":"'6 - Input sheet - Employee data'!FQ62","v":0},{"$f":"'6 - Input sheet - Employee data'!FR62","v":0},{"$f":"'6 - Input sheet - Employee data'!FS62","v":0},{"$f":"'6 - Input sheet - Employee data'!FT62","v":0},{"$f":"'6 - Input sheet - Employee data'!FU62","v":0},{"$f":"'6 - Input sheet - Employee data'!FV62","v":0},{"$f":"'6 - Input sheet - Employee data'!FW62","v":0},{"$f":"'6 - Input sheet - Employee data'!FX62","v":0},{"$f":"'6 - Input sheet - Employee data'!FY62","v":0},{"$f":"'6 - Input sheet - Employee data'!FZ62","v":0},{"$f":"'6 - Input sheet - Employee data'!GA62","v":0},{"$f":"'6 - Input sheet - Employee data'!GB62","v":0},{"$f":"'6 - Input sheet - Employee data'!GC62","v":0},{"$f":"'6 - Input sheet - Employee data'!GD62","v":0},{"$f":"'6 - Input sheet - Employee data'!GE62","v":0},{"$f":"'6 - Input sheet - Employee data'!GF62","v":0},{"$f":"'6 - Input sheet - Employee data'!GG62","v":0},{"$f":"'6 - Input sheet - Employee data'!GH62","v":0},{"$f":"'6 - Input sheet - Employee data'!GI62","v":0},{"$f":"'6 - Input sheet - Employee data'!GJ62","v":0},{"$f":"'6 - Input sheet - Employee data'!GK62","v":0},{"$f":"'6 - Input sheet - Employee data'!GL62","v":0},{"$f":"'6 - Input sheet - Employee data'!GM62","v":0},{"$f":"'6 - Input sheet - Employee data'!GN62","v":0},{"$f":"'6 - Input sheet - Employee data'!GO62","v":0},{"$f":"'6 - Input sheet - Employee data'!GP62","v":0},{"$f":"'6 - Input sheet - Employee data'!GQ62","v":0},{"$f":"'6 - Input sheet - Employee data'!GR62","v":0},{"$f":"'6 - Input sheet - Employee data'!GS62","v":0},{"$f":"'6 - Input sheet - Employee data'!GT62","v":0},{"$f":"'6 - Input sheet - Employee data'!GU62","v":0},{"$f":"'6 - Input sheet - Employee data'!GV62","v":0},{"$f":"'6 - Input sheet - Employee data'!GW62","v":0},{"$f":"'6 - Input sheet - Employee data'!GX62","v":0},{"$f":"'6 - Input sheet - Employee data'!GY62","v":0},{"$f":"'6 - Input sheet - Employee data'!GZ62","v":0},{"$f":"'6 - Input sheet - Employee data'!HA62","v":0},{"$f":"'6 - Input sheet - Employee data'!HB62","v":0},{"$f":"'6 - Input sheet - Employee data'!HC62","v":0},{"$f":"'6 - Input sheet - Employee data'!HD62","v":0},{"$f":"'6 - Input sheet - Employee data'!HE62","v":0},{"$f":"'6 - Input sheet - Employee data'!HF62","v":0},{"$f":"'6 - Input sheet - Employee data'!HG62","v":0},{"$f":"'6 - Input sheet - Employee data'!HH62","v":0},{"$f":"'6 - Input sheet - Employee data'!HI62","v":0},{"$f":"'6 - Input sheet - Employee data'!HJ62","v":0},{"$f":"'6 - Input sheet - Employee data'!HK62","v":0},{"$f":"'6 - Input sheet - Employee data'!HL62","v":0},{"$f":"'6 - Input sheet - Employee data'!HM62","v":0},{"$f":"'6 - Input sheet - Employee data'!HN62","v":0},{"$f":"'6 - Input sheet - Employee data'!HO62","v":0},{"$f":"'6 - Input sheet - Employee data'!HP62","v":0},{"$f":"'6 - Input sheet - Employee data'!HQ62","v":0},{"$f":"'6 - Input sheet - Employee data'!HR62","v":0},{"$f":"'6 - Input sheet - Employee data'!HS62","v":0},{"$f":"'6 - Input sheet - Employee data'!HT62","v":0},{"$f":"'6 - Input sheet - Employee data'!HU62","v":0},{"$f":"'6 - Input sheet - Employee data'!HV62","v":0},{"$f":"'6 - Input sheet - Employee data'!HW62","v":0},{"$f":"'6 - Input sheet - Employee data'!HX62","v":0},{"$f":"'6 - Input sheet - Employee data'!HY62","v":0},{"$f":"'6 - Input sheet - Employee data'!HZ62","v":0},{"$f":"'6 - Input sheet - Employee data'!IA62","v":0},{"$f":"'6 - Input sheet - Employee data'!IB62","v":0},{"$f":"'6 - Input sheet - Employee data'!IC62","v":0},{"$f":"'6 - Input sheet - Employee data'!ID62","v":0},{"$f":"'6 - Input sheet - Employee data'!IE62","v":0},{"$f":"'6 - Input sheet - Employee data'!IF62","v":0},{"$f":"'6 - Input sheet - Employee data'!IG62","v":0},{"$f":"'6 - Input sheet - Employee data'!IH62","v":0},{"$f":"'6 - Input sheet - Employee data'!II62","v":0},{"$f":"'6 - Input sheet - Employee data'!IJ62","v":0},{"$f":"'6 - Input sheet - Employee data'!IK62","v":0},{"$f":"'6 - Input sheet - Employee data'!IL62","v":0},{"$f":"'6 - Input sheet - Employee data'!IM62","v":0},{"$f":"'6 - Input sheet - Employee data'!IN62","v":0},{"$f":"'6 - Input sheet - Employee data'!IO62","v":0},{"$f":"'6 - Input sheet - Employee data'!IP62","v":0},{"$f":"'6 - Input sheet - Employee data'!IQ62","v":0},{"$f":"'6 - Input sheet - Employee data'!IR62","v":0},{"$f":"'6 - Input sheet - Employee data'!IS62","v":0},{"$f":"'6 - Input sheet - Employee data'!IT62","v":0},{"$f":"'6 - Input sheet - Employee data'!IU62","v":0},{"$f":"'6 - Input sheet - Employee data'!IV62","v":0},{"$f":"'6 - Input sheet - Employee data'!IW62","v":0},{"$f":"'6 - Input sheet - Employee data'!IX62","v":0},{"$f":"'6 - Input sheet - Employee data'!IY62","v":0},{"$f":"'6 - Input sheet - Employee data'!IZ62","v":0},{"$f":"'6 - Input sheet - Employee data'!JA62","v":0},{"$f":"'6 - Input sheet - Employee data'!JB62","v":0},{"$f":"'6 - Input sheet - Employee data'!JC62","v":0},{"$f":"'6 - Input sheet - Employee data'!JD62","v":0},{"$f":"'6 - Input sheet - Employee data'!JE62","v":0},{"$f":"'6 - Input sheet - Employee data'!JF62","v":0},{"$f":"'6 - Input sheet - Employee data'!JG62","v":0},{"$f":"'6 - Input sheet - Employee data'!JH62","v":0},{"$f":"'6 - Input sheet - Employee data'!JI62","v":0},{"$f":"'6 - Input sheet - Employee data'!JJ62","v":0},{"$f":"'6 - Input sheet - Employee data'!JK62","v":0},{"$f":"'6 - Input sheet - Employee data'!JL62","v":0},{"$f":"'6 - Input sheet - Employee data'!JM62","v":0},{"$f":"'6 - Input sheet - Employee data'!JN62","v":0},{"$f":"'6 - Input sheet - Employee data'!JO62","v":0},{"$f":"'6 - Input sheet - Employee data'!JP62","v":0},{"$f":"'6 - Input sheet - Employee data'!JQ62","v":0},{"$f":"'6 - Input sheet - Employee data'!JR62","v":0},{"$f":"'6 - Input sheet - Employee data'!JS62","v":0},{"$f":"'6 - Input sheet - Employee data'!JT62","v":0},{"$f":"'6 - Input sheet - Employee data'!JU62","v":0},{"$f":"'6 - Input sheet - Employee data'!JV62","v":0},{"$f":"'6 - Input sheet - Employee data'!JW62","v":0},{"$f":"'6 - Input sheet - Employee data'!JX62","v":0},{"$f":"'6 - Input sheet - Employee data'!JY62","v":0},{"$f":"'6 - Input sheet - Employee data'!JZ62","v":0},{"$f":"'6 - Input sheet - Employee data'!KA62","v":0},{"$f":"'6 - Input sheet - Employee data'!KB62","v":0},{"$f":"'6 - Input sheet - Employee data'!KC62","v":0},{"$f":"'6 - Input sheet - Employee data'!KD62","v":0},{"$f":"'6 - Input sheet - Employee data'!KE62","v":0},{"$f":"'6 - Input sheet - Employee data'!KF62","v":0},{"$f":"'6 - Input sheet - Employee data'!KG62","v":0},{"$f":"'6 - Input sheet - Employee data'!KH62","v":0},{"$f":"'6 - Input sheet - Employee data'!KI62","v":0},{"$f":"'6 - Input sheet - Employee data'!KJ62","v":0},{"$f":"'6 - Input sheet - Employee data'!KK62","v":0},{"$f":"'6 - Input sheet - Employee data'!KL62","v":0},{"$f":"'6 - Input sheet - Employee data'!KM62","v":0},{"$f":"'6 - Input sheet - Employee data'!KN62","v":0},{"$f":"'6 - Input sheet - Employee data'!KO62","v":0},{"$f":"'6 - Input sheet - Employee data'!KP62","v":0},{"$f":"'6 - Input sheet - Employee data'!KQ62","v":0},{"$f":"'6 - Input sheet - Employee data'!KR62","v":0},{"$f":"'6 - Input sheet - Employee data'!KS62","v":0},{"$f":"'6 - Input sheet - Employee data'!KT62","v":0},{"$f":"'6 - Input sheet - Employee data'!KU62","v":0},{"$f":"'6 - Input sheet - Employee data'!KV62","v":0},{"$f":"'6 - Input sheet - Employee data'!KW62","v":0},{"$f":"'6 - Input sheet - Employee data'!KX62","v":0},{"$f":"'6 - Input sheet - Employee data'!KY62","v":0},{"$f":"'6 - Input sheet - Employee data'!KZ62","v":0},{"$f":"'6 - Input sheet - Employee data'!LA62","v":0},{"$f":"'6 - Input sheet - Employee data'!LB62","v":0},{"$f":"'6 - Input sheet - Employee data'!LC62","v":0},{"$f":"'6 - Input sheet - Employee data'!LD62","v":0},{"$f":"'6 - Input sheet - Employee data'!LE62","v":0},{"$f":"'6 - Input sheet - Employee data'!LF62","v":0},{"$f":"'6 - Input sheet - Employee data'!LG62","v":0},{"$f":"'6 - Input sheet - Employee data'!LH62","v":0},{"$f":"'6 - Input sheet - Employee data'!LI62","v":0},{"$f":"'6 - Input sheet - Employee data'!LJ62","v":0},{"$f":"'6 - Input sheet - Employee data'!LK62","v":0},{"$f":"'6 - Input sheet - Employee data'!LL62","v":0},{"$f":"'6 - Input sheet - Employee data'!LM62","v":0},{"$f":"'6 - Input sheet - Employee data'!LN62","v":0},{"$f":"'6 - Input sheet - Employee data'!LO62","v":0},{"$f":"'6 - Input sheet - Employee data'!LP62","v":0},{"$f":"'6 - Input sheet - Employee data'!LQ62","v":0},{"$f":"'6 - Input sheet - Employee data'!LR62","v":0},{"$f":"'6 - Input sheet - Employee data'!LS62","v":0},{"$f":"'6 - Input sheet - Employee data'!LT62","v":0},{"$f":"'6 - Input sheet - Employee data'!LU62","v":0},{"$f":"'6 - Input sheet - Employee data'!LV62","v":0},{"$f":"'6 - Input sheet - Employee data'!LW62","v":0},{"$f":"'6 - Input sheet - Employee data'!LX62","v":0},{"$f":"'6 - Input sheet - Employee data'!LY62","v":0},{"$f":"'6 - Input sheet - Employee data'!LZ62","v":0},{"$f":"'6 - Input sheet - Employee data'!MA62","v":0},{"$f":"'6 - Input sheet - Employee data'!MB62","v":0},{"$f":"'6 - Input sheet - Employee data'!MC62","v":0},{"$f":"'6 - Input sheet - Employee data'!MD62","v":0},{"$f":"'6 - Input sheet - Employee data'!ME62","v":0},{"$f":"'6 - Input sheet - Employee data'!MF62","v":0},{"$f":"'6 - Input sheet - Employee data'!MG62","v":0},{"$f":"'6 - Input sheet - Employee data'!MH62","v":0},{"$f":"'6 - Input sheet - Employee data'!MI62","v":0},{"$f":"'6 - Input sheet - Employee data'!MJ62","v":0},{"$f":"'6 - Input sheet - Employee data'!MK62","v":0},{"$f":"'6 - Input sheet - Employee data'!ML62","v":0},{"$f":"'6 - Input sheet - Employee data'!MM62","v":0},{"$f":"'6 - Input sheet - Employee data'!MN62","v":0},{"$f":"'6 - Input sheet - Employee data'!MO62","v":0},{"$f":"'6 - Input sheet - Employee data'!MP62","v":0},{"$f":"'6 - Input sheet - Employee data'!MQ62","v":0},{"$f":"'6 - Input sheet - Employee data'!MR62","v":0},{"$f":"'6 - Input sheet - Employee data'!MS62","v":0},{"$f":"'6 - Input sheet - Employee data'!MT62","v":0},{"$f":"'6 - Input sheet - Employee data'!MU62","v":0},{"$f":"'6 - Input sheet - Employee data'!MV62","v":0},{"$f":"'6 - Input sheet - Employee data'!MW62","v":0},{"$f":"'6 - Input sheet - Employee data'!MX62","v":0},{"$f":"'6 - Input sheet - Employee data'!MY62","v":0},{"$f":"'6 - Input sheet - Employee data'!MZ62","v":0},{"$f":"'6 - Input sheet - Employee data'!NA62","v":0},{"$f":"'6 - Input sheet - Employee data'!NB62","v":0},{"$f":"'6 - Input sheet - Employee data'!NC62","v":0},{"$f":"'6 - Input sheet - Employee data'!ND62","v":0},{"$f":"'6 - Input sheet - Employee data'!NE62","v":0},{"$f":"'6 - Input sheet - Employee data'!NF62","v":0},{"$f":"'6 - Input sheet - Employee data'!NG62","v":0},{"$f":"'6 - Input sheet - Employee data'!NH62","v":0},{"$f":"'6 - Input sheet - Employee data'!NI62","v":0},{"$f":"'6 - Input sheet - Employee data'!NJ62","v":0},{"$f":"'6 - Input sheet - Employee data'!NK62","v":0},{"$f":"'6 - Input sheet - Employee data'!NL62","v":0},{"$f":"'6 - Input sheet - Employee data'!NM62","v":0},{"$f":"'6 - Input sheet - Employee data'!NN62","v":0},{"$f":"'6 - Input sheet - Employee data'!NO62","v":0},{"$f":"'6 - Input sheet - Employee data'!NP62","v":0},{"$f":"'6 - Input sheet - Employee data'!NQ62","v":0},{"$f":"'6 - Input sheet - Employee data'!NR62","v":0},{"$f":"'6 - Input sheet - Employee data'!NS62","v":0},{"$f":"'6 - Input sheet - Employee data'!NT62","v":0},{"$f":"'6 - Input sheet - Employee data'!NU62","v":0},{"$f":"'6 - Input sheet - Employee data'!NV62","v":0},{"$f":"'6 - Input sheet - Employee data'!NW62","v":0},{"$f":"'6 - Input sheet - Employee data'!NX62","v":0},{"$f":"'6 - Input sheet - Employee data'!NY62","v":0},{"$f":"'6 - Input sheet - Employee data'!NZ62","v":0},{"$f":"'6 - Input sheet - Employee data'!OA62","v":0},{"$f":"'6 - Input sheet - Employee data'!OB62","v":0},{"$f":"'6 - Input sheet - Employee data'!OC62","v":0},{"$f":"'6 - Input sheet - Employee data'!OD62","v":0},{"$f":"'6 - Input sheet - Employee data'!OE62","v":0},{"$f":"'6 - Input sheet - Employee data'!OF62","v":0},{"$f":"'6 - Input sheet - Employee data'!OG62","v":0},{"$f":"'6 - Input sheet - Employee data'!OH62","v":0},{"$f":"'6 - Input sheet - Employee data'!OI62","v":0},{"$f":"'6 - Input sheet - Employee data'!OJ62","v":0},{"$f":"'6 - Input sheet - Employee data'!OK62","v":0},{"$f":"'6 - Input sheet - Employee data'!OL62","v":0},{"$f":"'6 - Input sheet - Employee data'!OM62","v":0},{"$f":"'6 - Input sheet - Employee data'!ON62","v":0},{"$f":"'6 - Input sheet - Employee data'!OO62","v":0},{"$f":"'6 - Input sheet - Employee data'!OP62","v":0},{"$f":"'6 - Input sheet - Employee data'!OQ62","v":0},{"$f":"'6 - Input sheet - Employee data'!OR62","v":0},{"$f":"'6 - Input sheet - Employee data'!OS62","v":0},{"$f":"'6 - Input sheet - Employee data'!OT62","v":0},{"$f":"'6 - Input sheet - Employee data'!OU62","v":0},{"$f":"'6 - Input sheet - Employee data'!OV62","v":0},{"$f":"'6 - Input sheet - Employee data'!OW62","v":0},{"$f":"'6 - Input sheet - Employee data'!OX62","v":0},{"$f":"'6 - Input sheet - Employee data'!OY62","v":0},{"$f":"'6 - Input sheet - Employee data'!OZ62","v":0},{"$f":"'6 - Input sheet - Employee data'!PA62","v":0},{"$f":"'6 - Input sheet - Employee data'!PB62","v":0},{"$f":"'6 - Input sheet - Employee data'!PC62","v":0},{"$f":"'6 - Input sheet - Employee data'!PD62","v":0},{"$f":"'6 - Input sheet - Employee data'!PE62","v":0},{"$f":"'6 - Input sheet - Employee data'!PF62","v":0},{"$f":"'6 - Input sheet - Employee data'!PG62","v":0},{"$f":"'6 - Input sheet - Employee data'!PH62","v":0},{"$f":"'6 - Input sheet - Employee data'!PI62","v":0},{"$f":"'6 - Input sheet - Employee data'!PJ62","v":0},{"$f":"'6 - Input sheet - Employee data'!PK62","v":0},{"$f":"'6 - Input sheet - Employee data'!PL62","v":0},{"$f":"'6 - Input sheet - Employee data'!PM62","v":0},{"$f":"'6 - Input sheet - Employee data'!PN62","v":0},{"$f":"'6 - Input sheet - Employee data'!PO62","v":0},{"$f":"'6 - Input sheet - Employee data'!PP62","v":0},{"$f":"'6 - Input sheet - Employee data'!PQ62","v":0},{"$f":"'6 - Input sheet - Employee data'!PR62","v":0},{"$f":"'6 - Input sheet - Employee data'!PS62","v":0},{"$f":"'6 - Input sheet - Employee data'!PT62","v":0},{"$f":"'6 - Input sheet - Employee data'!PU62","v":0},{"$f":"'6 - Input sheet - Employee data'!PV62","v":0},{"$f":"'6 - Input sheet - Employee data'!PW62","v":0},{"$f":"'6 - Input sheet - Employee data'!PX62","v":0},{"$f":"'6 - Input sheet - Employee data'!PY62","v":0},{"$f":"'6 - Input sheet - Employee data'!PZ62","v":0},{"$f":"'6 - Input sheet - Employee data'!QA62","v":0},{"$f":"'6 - Input sheet - Employee data'!QB62","v":0},{"$f":"'6 - Input sheet - Employee data'!QC62","v":0},{"$f":"'6 - Input sheet - Employee data'!QD62","v":0},{"$f":"'6 - Input sheet - Employee data'!QE62","v":0},{"$f":"'6 - Input sheet - Employee data'!QF62","v":0},{"$f":"'6 - Input sheet - Employee data'!QG62","v":0},{"$f":"'6 - Input sheet - Employee data'!QH62","v":0},{"$f":"'6 - Input sheet - Employee data'!QI62","v":0},{"$f":"'6 - Input sheet - Employee data'!QJ62","v":0},{"$f":"'6 - Input sheet - Employee data'!QK62","v":0},{"$f":"'6 - Input sheet - Employee data'!QL62","v":0},{"$f":"'6 - Input sheet - Employee data'!QM62","v":0},{"$f":"'6 - Input sheet - Employee data'!QN62","v":0},{"$f":"'6 - Input sheet - Employee data'!QO62","v":0},{"$f":"'6 - Input sheet - Employee data'!QP62","v":0},{"$f":"'6 - Input sheet - Employee data'!QQ62","v":0},{"$f":"'6 - Input sheet - Employee data'!QR62","v":0},{"$f":"'6 - Input sheet - Employee data'!QS62","v":0},{"$f":"'6 - Input sheet - Employee data'!QT62","v":0},{"$f":"'6 - Input sheet - Employee data'!QU62","v":0},{"$f":"'6 - Input sheet - Employee data'!QV62","v":0},{"$f":"'6 - Input sheet - Employee data'!QW62","v":0},{"$f":"'6 - Input sheet - Employee data'!QX62","v":0},{"$f":"'6 - Input sheet - Employee data'!QY62","v":0},{"$f":"'6 - Input sheet - Employee data'!QZ62","v":0},{"$f":"'6 - Input sheet - Employee data'!RA62","v":0},{"$f":"'6 - Input sheet - Employee data'!RB62","v":0},{"$f":"'6 - Input sheet - Employee data'!RC62","v":0},{"$f":"'6 - Input sheet - Employee data'!RD62","v":0},{"$f":"'6 - Input sheet - Employee data'!RE62","v":0},{"$f":"'6 - Input sheet - Employee data'!RF62","v":0},{"$f":"'6 - Input sheet - Employee data'!RG62","v":0},{"$f":"'6 - Input sheet - Employee data'!RH62","v":0},{"$f":"'6 - Input sheet - Employee data'!RI62","v":0},{"$f":"'6 - Input sheet - Employee data'!RJ62","v":0},{"$f":"'6 - Input sheet - Employee data'!RK62","v":0},{"$f":"'6 - Input sheet - Employee data'!RL62","v":0},{"$f":"'6 - Input sheet - Employee data'!RM62","v":0},{"$f":"'6 - Input sheet - Employee data'!RN62","v":0},{"$f":"'6 - Input sheet - Employee data'!RO62","v":0},{"$f":"'6 - Input sheet - Employee data'!RP62","v":0},{"$f":"'6 - Input sheet - Employee data'!RQ62","v":0},{"$f":"'6 - Input sheet - Employee data'!RR62","v":0},{"$f":"'6 - Input sheet - Employee data'!RS62","v":0},{"$f":"'6 - Input sheet - Employee data'!RT62","v":0},{"$f":"'6 - Input sheet - Employee data'!RU62","v":0},{"$f":"'6 - Input sheet - Employee data'!RV62","v":0},{"$f":"'6 - Input sheet - Employee data'!RW62","v":0},{"$f":"'6 - Input sheet - Employee data'!RX62","v":0},{"$f":"'6 - Input sheet - Employee data'!RY62","v":0},{"$f":"'6 - Input sheet - Employee data'!RZ62","v":0},{"$f":"'6 - Input sheet - Employee data'!SA62","v":0},{"$f":"'6 - Input sheet - Employee data'!SB62","v":0},{"$f":"'6 - Input sheet - Employee data'!SC62","v":0},{"$f":"'6 - Input sheet - Employee data'!SD62","v":0},{"$f":"'6 - Input sheet - Employee data'!SE62","v":0},{"$f":"'6 - Input sheet - Employee data'!SF62","v":0},{"$f":"'6 - Input sheet - Employee data'!SG62","v":0},{"$f":"'6 - Input sheet - Employee data'!SH62","v":0}]
[{"$f":"'6 - Input sheet - Employee data'!A63","v":"  Additional period if necessary"},0,{"$f":"'6 - Input sheet - Employee data'!C63","v":0},{"$f":"'6 - Input sheet - Employee data'!D63","v":0},{"$f":"'6 - Input sheet - Employee data'!E63","v":0},{"$f":"'6 - Input sheet - Employee data'!F63","v":0},{"$f":"'6 - Input sheet - Employee data'!G63","v":0},{"$f":"'6 - Input sheet - Employee data'!H63","v":0},{"$f":"'6 - Input sheet - Employee data'!I63","v":0},{"$f":"'6 - Input sheet - Employee data'!J63","v":0},{"$f":"'6 - Input sheet - Employee data'!K63","v":0},{"$f":"'6 - Input sheet - Employee data'!L63","v":0},{"$f":"'6 - Input sheet - Employee data'!M63","v":0},{"$f":"'6 - Input sheet - Employee data'!N63","v":0},{"$f":"'6 - Input sheet - Employee data'!O63","v":0},{"$f":"'6 - Input sheet - Employee data'!P63","v":0},{"$f":"'6 - Input sheet - Employee data'!Q63","v":0},{"$f":"'6 - Input sheet - Employee data'!R63","v":0},{"$f":"'6 - Input sheet - Employee data'!S63","v":0},{"$f":"'6 - Input sheet - Employee data'!T63","v":0},{"$f":"'6 - Input sheet - Employee data'!U63","v":0},{"$f":"'6 - Input sheet - Employee data'!V63","v":0},{"$f":"'6 - Input sheet - Employee data'!W63","v":0},{"$f":"'6 - Input sheet - Employee data'!X63","v":0},{"$f":"'6 - Input sheet - Employee data'!Y63","v":0},{"$f":"'6 - Input sheet - Employee data'!Z63","v":0},{"$f":"'6 - Input sheet - Employee data'!AA63","v":0},{"$f":"'6 - Input sheet - Employee data'!AB63","v":0},{"$f":"'6 - Input sheet - Employee data'!AC63","v":0},{"$f":"'6 - Input sheet - Employee data'!AD63","v":0},{"$f":"'6 - Input sheet - Employee data'!AE63","v":0},{"$f":"'6 - Input sheet - Employee data'!AF63","v":0},{"$f":"'6 - Input sheet - Employee data'!AG63","v":0},{"$f":"'6 - Input sheet - Employee data'!AH63","v":0},{"$f":"'6 - Input sheet - Employee data'!AI63","v":0},{"$f":"'6 - Input sheet - Employee data'!AJ63","v":0},{"$f":"'6 - Input sheet - Employee data'!AK63","v":0},{"$f":"'6 - Input sheet - Employee data'!AL63","v":0},{"$f":"'6 - Input sheet - Employee data'!AM63","v":0},{"$f":"'6 - Input sheet - Employee data'!AN63","v":0},{"$f":"'6 - Input sheet - Employee data'!AO63","v":0},{"$f":"'6 - Input sheet - Employee data'!AP63","v":0},{"$f":"'6 - Input sheet - Employee data'!AQ63","v":0},{"$f":"'6 - Input sheet - Employee data'!AR63","v":0},{"$f":"'6 - Input sheet - Employee data'!AS63","v":0},{"$f":"'6 - Input sheet - Employee data'!AT63","v":0},{"$f":"'6 - Input sheet - Employee data'!AU63","v":0},{"$f":"'6 - Input sheet - Employee data'!AV63","v":0},{"$f":"'6 - Input sheet - Employee data'!AW63","v":0},{"$f":"'6 - Input sheet - Employee data'!AX63","v":0},{"$f":"'6 - Input sheet - Employee data'!AY63","v":0},{"$f":"'6 - Input sheet - Employee data'!AZ63","v":0},{"$f":"'6 - Input sheet - Employee data'!BA63","v":0},{"$f":"'6 - Input sheet - Employee data'!BB63","v":0},{"$f":"'6 - Input sheet - Employee data'!BC63","v":0},{"$f":"'6 - Input sheet - Employee data'!BD63","v":0},{"$f":"'6 - Input sheet - Employee data'!BE63","v":0},{"$f":"'6 - Input sheet - Employee data'!BF63","v":0},{"$f":"'6 - Input sheet - Employee data'!BG63","v":0},{"$f":"'6 - Input sheet - Employee data'!BH63","v":0},{"$f":"'6 - Input sheet - Employee data'!BI63","v":0},{"$f":"'6 - Input sheet - Employee data'!BJ63","v":0},{"$f":"'6 - Input sheet - Employee data'!BK63","v":0},{"$f":"'6 - Input sheet - Employee data'!BL63","v":0},{"$f":"'6 - Input sheet - Employee data'!BM63","v":0},{"$f":"'6 - Input sheet - Employee data'!BN63","v":0},{"$f":"'6 - Input sheet - Employee data'!BO63","v":0},{"$f":"'6 - Input sheet - Employee data'!BP63","v":0},{"$f":"'6 - Input sheet - Employee data'!BQ63","v":0},{"$f":"'6 - Input sheet - Employee data'!BR63","v":0},{"$f":"'6 - Input sheet - Employee data'!BS63","v":0},{"$f":"'6 - Input sheet - Employee data'!BT63","v":0},{"$f":"'6 - Input sheet - Employee data'!BU63","v":0},{"$f":"'6 - Input sheet - Employee data'!BV63","v":0},{"$f":"'6 - Input sheet - Employee data'!BW63","v":0},{"$f":"'6 - Input sheet - Employee data'!BX63","v":0},{"$f":"'6 - Input sheet - Employee data'!BY63","v":0},{"$f":"'6 - Input sheet - Employee data'!BZ63","v":0},{"$f":"'6 - Input sheet - Employee data'!CA63","v":0},{"$f":"'6 - Input sheet - Employee data'!CB63","v":0},{"$f":"'6 - Input sheet - Employee data'!CC63","v":0},{"$f":"'6 - Input sheet - Employee data'!CD63","v":0},{"$f":"'6 - Input sheet - Employee data'!CE63","v":0},{"$f":"'6 - Input sheet - Employee data'!CF63","v":0},{"$f":"'6 - Input sheet - Employee data'!CG63","v":0},{"$f":"'6 - Input sheet - Employee data'!CH63","v":0},{"$f":"'6 - Input sheet - Employee data'!CI63","v":0},{"$f":"'6 - Input sheet - Employee data'!CJ63","v":0},{"$f":"'6 - Input sheet - Employee data'!CK63","v":0},{"$f":"'6 - Input sheet - Employee data'!CL63","v":0},{"$f":"'6 - Input sheet - Employee data'!CM63","v":0},{"$f":"'6 - Input sheet - Employee data'!CN63","v":0},{"$f":"'6 - Input sheet - Employee data'!CO63","v":0},{"$f":"'6 - Input sheet - Employee data'!CP63","v":0},{"$f":"'6 - Input sheet - Employee data'!CQ63","v":0},{"$f":"'6 - Input sheet - Employee data'!CR63","v":0},{"$f":"'6 - Input sheet - Employee data'!CS63","v":0},{"$f":"'6 - Input sheet - Employee data'!CT63","v":0},{"$f":"'6 - Input sheet - Employee data'!CU63","v":0},{"$f":"'6 - Input sheet - Employee data'!CV63","v":0},{"$f":"'6 - Input sheet - Employee data'!CW63","v":0},{"$f":"'6 - Input sheet - Employee data'!CX63","v":0},{"$f":"'6 - Input sheet - Employee data'!CY63","v":0},{"$f":"'6 - Input sheet - Employee data'!CZ63","v":0},{"$f":"'6 - Input sheet - Employee data'!DA63","v":0},{"$f":"'6 - Input sheet - Employee data'!DB63","v":0},{"$f":"'6 - Input sheet - Employee data'!DC63","v":0},{"$f":"'6 - Input sheet - Employee data'!DD63","v":0},{"$f":"'6 - Input sheet - Employee data'!DE63","v":0},{"$f":"'6 - Input sheet - Employee data'!DF63","v":0},{"$f":"'6 - Input sheet - Employee data'!DG63","v":0},{"$f":"'6 - Input sheet - Employee data'!DH63","v":0},{"$f":"'6 - Input sheet - Employee data'!DI63","v":0},{"$f":"'6 - Input sheet - Employee data'!DJ63","v":0},{"$f":"'6 - Input sheet - Employee data'!DK63","v":0},{"$f":"'6 - Input sheet - Employee data'!DL63","v":0},{"$f":"'6 - Input sheet - Employee data'!DM63","v":0},{"$f":"'6 - Input sheet - Employee data'!DN63","v":0},{"$f":"'6 - Input sheet - Employee data'!DO63","v":0},{"$f":"'6 - Input sheet - Employee data'!DP63","v":0},{"$f":"'6 - Input sheet - Employee data'!DQ63","v":0},{"$f":"'6 - Input sheet - Employee data'!DR63","v":0},{"$f":"'6 - Input sheet - Employee data'!DS63","v":0},{"$f":"'6 - Input sheet - Employee data'!DT63","v":0},{"$f":"'6 - Input sheet - Employee data'!DU63","v":0},{"$f":"'6 - Input sheet - Employee data'!DV63","v":0},{"$f":"'6 - Input sheet - Employee data'!DW63","v":0},{"$f":"'6 - Input sheet - Employee data'!DX63","v":0},{"$f":"'6 - Input sheet - Employee data'!DY63","v":0},{"$f":"'6 - Input sheet - Employee data'!DZ63","v":0},{"$f":"'6 - Input sheet - Employee data'!EA63","v":0},{"$f":"'6 - Input sheet - Employee data'!EB63","v":0},{"$f":"'6 - Input sheet - Employee data'!EC63","v":0},{"$f":"'6 - Input sheet - Employee data'!ED63","v":0},{"$f":"'6 - Input sheet - Employee data'!EE63","v":0},{"$f":"'6 - Input sheet - Employee data'!EF63","v":0},{"$f":"'6 - Input sheet - Employee data'!EG63","v":0},{"$f":"'6 - Input sheet - Employee data'!EH63","v":0},{"$f":"'6 - Input sheet - Employee data'!EI63","v":0},{"$f":"'6 - Input sheet - Employee data'!EJ63","v":0},{"$f":"'6 - Input sheet - Employee data'!EK63","v":0},{"$f":"'6 - Input sheet - Employee data'!EL63","v":0},{"$f":"'6 - Input sheet - Employee data'!EM63","v":0},{"$f":"'6 - Input sheet - Employee data'!EN63","v":0},{"$f":"'6 - Input sheet - Employee data'!EO63","v":0},{"$f":"'6 - Input sheet - Employee data'!EP63","v":0},{"$f":"'6 - Input sheet - Employee data'!EQ63","v":0},{"$f":"'6 - Input sheet - Employee data'!ER63","v":0},{"$f":"'6 - Input sheet - Employee data'!ES63","v":0},{"$f":"'6 - Input sheet - Employee data'!ET63","v":0},{"$f":"'6 - Input sheet - Employee data'!EU63","v":0},{"$f":"'6 - Input sheet - Employee data'!EV63","v":0},{"$f":"'6 - Input sheet - Employee data'!EW63","v":0},{"$f":"'6 - Input sheet - Employee data'!EX63","v":0},{"$f":"'6 - Input sheet - Employee data'!EY63","v":0},{"$f":"'6 - Input sheet - Employee data'!EZ63","v":0},{"$f":"'6 - Input sheet - Employee data'!FA63","v":0},{"$f":"'6 - Input sheet - Employee data'!FB63","v":0},{"$f":"'6 - Input sheet - Employee data'!FC63","v":0},{"$f":"'6 - Input sheet - Employee data'!FD63","v":0},{"$f":"'6 - Input sheet - Employee data'!FE63","v":0},{"$f":"'6 - Input sheet - Employee data'!FF63","v":0},{"$f":"'6 - Input sheet - Employee data'!FG63","v":0},{"$f":"'6 - Input sheet - Employee data'!FH63","v":0},{"$f":"'6 - Input sheet - Employee data'!FI63","v":0},{"$f":"'6 - Input sheet - Employee data'!FJ63","v":0},{"$f":"'6 - Input sheet - Employee data'!FK63","v":0},{"$f":"'6 - Input sheet - Employee data'!FL63","v":0},{"$f":"'6 - Input sheet - Employee data'!FM63","v":0},{"$f":"'6 - Input sheet - Employee data'!FN63","v":0},{"$f":"'6 - Input sheet - Employee data'!FO63","v":0},{"$f":"'6 - Input sheet - Employee data'!FP63","v":0},{"$f":"'6 - Input sheet - Employee data'!FQ63","v":0},{"$f":"'6 - Input sheet - Employee data'!FR63","v":0},{"$f":"'6 - Input sheet - Employee data'!FS63","v":0},{"$f":"'6 - Input sheet - Employee data'!FT63","v":0},{"$f":"'6 - Input sheet - Employee data'!FU63","v":0},{"$f":"'6 - Input sheet - Employee data'!FV63","v":0},{"$f":"'6 - Input sheet - Employee data'!FW63","v":0},{"$f":"'6 - Input sheet - Employee data'!FX63","v":0},{"$f":"'6 - Input sheet - Employee data'!FY63","v":0},{"$f":"'6 - Input sheet - Employee data'!FZ63","v":0},{"$f":"'6 - Input sheet - Employee data'!GA63","v":0},{"$f":"'6 - Input sheet - Employee data'!GB63","v":0},{"$f":"'6 - Input sheet - Employee data'!GC63","v":0},{"$f":"'6 - Input sheet - Employee data'!GD63","v":0},{"$f":"'6 - Input sheet - Employee data'!GE63","v":0},{"$f":"'6 - Input sheet - Employee data'!GF63","v":0},{"$f":"'6 - Input sheet - Employee data'!GG63","v":0},{"$f":"'6 - Input sheet - Employee data'!GH63","v":0},{"$f":"'6 - Input sheet - Employee data'!GI63","v":0},{"$f":"'6 - Input sheet - Employee data'!GJ63","v":0},{"$f":"'6 - Input sheet - Employee data'!GK63","v":0},{"$f":"'6 - Input sheet - Employee data'!GL63","v":0},{"$f":"'6 - Input sheet - Employee data'!GM63","v":0},{"$f":"'6 - Input sheet - Employee data'!GN63","v":0},{"$f":"'6 - Input sheet - Employee data'!GO63","v":0},{"$f":"'6 - Input sheet - Employee data'!GP63","v":0},{"$f":"'6 - Input sheet - Employee data'!GQ63","v":0},{"$f":"'6 - Input sheet - Employee data'!GR63","v":0},{"$f":"'6 - Input sheet - Employee data'!GS63","v":0},{"$f":"'6 - Input sheet - Employee data'!GT63","v":0},{"$f":"'6 - Input sheet - Employee data'!GU63","v":0},{"$f":"'6 - Input sheet - Employee data'!GV63","v":0},{"$f":"'6 - Input sheet - Employee data'!GW63","v":0},{"$f":"'6 - Input sheet - Employee data'!GX63","v":0},{"$f":"'6 - Input sheet - Employee data'!GY63","v":0},{"$f":"'6 - Input sheet - Employee data'!GZ63","v":0},{"$f":"'6 - Input sheet - Employee data'!HA63","v":0},{"$f":"'6 - Input sheet - Employee data'!HB63","v":0},{"$f":"'6 - Input sheet - Employee data'!HC63","v":0},{"$f":"'6 - Input sheet - Employee data'!HD63","v":0},{"$f":"'6 - Input sheet - Employee data'!HE63","v":0},{"$f":"'6 - Input sheet - Employee data'!HF63","v":0},{"$f":"'6 - Input sheet - Employee data'!HG63","v":0},{"$f":"'6 - Input sheet - Employee data'!HH63","v":0},{"$f":"'6 - Input sheet - Employee data'!HI63","v":0},{"$f":"'6 - Input sheet - Employee data'!HJ63","v":0},{"$f":"'6 - Input sheet - Employee data'!HK63","v":0},{"$f":"'6 - Input sheet - Employee data'!HL63","v":0},{"$f":"'6 - Input sheet - Employee data'!HM63","v":0},{"$f":"'6 - Input sheet - Employee data'!HN63","v":0},{"$f":"'6 - Input sheet - Employee data'!HO63","v":0},{"$f":"'6 - Input sheet - Employee data'!HP63","v":0},{"$f":"'6 - Input sheet - Employee data'!HQ63","v":0},{"$f":"'6 - Input sheet - Employee data'!HR63","v":0},{"$f":"'6 - Input sheet - Employee data'!HS63","v":0},{"$f":"'6 - Input sheet - Employee data'!HT63","v":0},{"$f":"'6 - Input sheet - Employee data'!HU63","v":0},{"$f":"'6 - Input sheet - Employee data'!HV63","v":0},{"$f":"'6 - Input sheet - Employee data'!HW63","v":0},{"$f":"'6 - Input sheet - Employee data'!HX63","v":0},{"$f":"'6 - Input sheet - Employee data'!HY63","v":0},{"$f":"'6 - Input sheet - Employee data'!HZ63","v":0},{"$f":"'6 - Input sheet - Employee data'!IA63","v":0},{"$f":"'6 - Input sheet - Employee data'!IB63","v":0},{"$f":"'6 - Input sheet - Employee data'!IC63","v":0},{"$f":"'6 - Input sheet - Employee data'!ID63","v":0},{"$f":"'6 - Input sheet - Employee data'!IE63","v":0},{"$f":"'6 - Input sheet - Employee data'!IF63","v":0},{"$f":"'6 - Input sheet - Employee data'!IG63","v":0},{"$f":"'6 - Input sheet - Employee data'!IH63","v":0},{"$f":"'6 - Input sheet - Employee data'!II63","v":0},{"$f":"'6 - Input sheet - Employee data'!IJ63","v":0},{"$f":"'6 - Input sheet - Employee data'!IK63","v":0},{"$f":"'6 - Input sheet - Employee data'!IL63","v":0},{"$f":"'6 - Input sheet - Employee data'!IM63","v":0},{"$f":"'6 - Input sheet - Employee data'!IN63","v":0},{"$f":"'6 - Input sheet - Employee data'!IO63","v":0},{"$f":"'6 - Input sheet - Employee data'!IP63","v":0},{"$f":"'6 - Input sheet - Employee data'!IQ63","v":0},{"$f":"'6 - Input sheet - Employee data'!IR63","v":0},{"$f":"'6 - Input sheet - Employee data'!IS63","v":0},{"$f":"'6 - Input sheet - Employee data'!IT63","v":0},{"$f":"'6 - Input sheet - Employee data'!IU63","v":0},{"$f":"'6 - Input sheet - Employee data'!IV63","v":0},{"$f":"'6 - Input sheet - Employee data'!IW63","v":0},{"$f":"'6 - Input sheet - Employee data'!IX63","v":0},{"$f":"'6 - Input sheet - Employee data'!IY63","v":0},{"$f":"'6 - Input sheet - Employee data'!IZ63","v":0},{"$f":"'6 - Input sheet - Employee data'!JA63","v":0},{"$f":"'6 - Input sheet - Employee data'!JB63","v":0},{"$f":"'6 - Input sheet - Employee data'!JC63","v":0},{"$f":"'6 - Input sheet - Employee data'!JD63","v":0},{"$f":"'6 - Input sheet - Employee data'!JE63","v":0},{"$f":"'6 - Input sheet - Employee data'!JF63","v":0},{"$f":"'6 - Input sheet - Employee data'!JG63","v":0},{"$f":"'6 - Input sheet - Employee data'!JH63","v":0},{"$f":"'6 - Input sheet - Employee data'!JI63","v":0},{"$f":"'6 - Input sheet - Employee data'!JJ63","v":0},{"$f":"'6 - Input sheet - Employee data'!JK63","v":0},{"$f":"'6 - Input sheet - Employee data'!JL63","v":0},{"$f":"'6 - Input sheet - Employee data'!JM63","v":0},{"$f":"'6 - Input sheet - Employee data'!JN63","v":0},{"$f":"'6 - Input sheet - Employee data'!JO63","v":0},{"$f":"'6 - Input sheet - Employee data'!JP63","v":0},{"$f":"'6 - Input sheet - Employee data'!JQ63","v":0},{"$f":"'6 - Input sheet - Employee data'!JR63","v":0},{"$f":"'6 - Input sheet - Employee data'!JS63","v":0},{"$f":"'6 - Input sheet - Employee data'!JT63","v":0},{"$f":"'6 - Input sheet - Employee data'!JU63","v":0},{"$f":"'6 - Input sheet - Employee data'!JV63","v":0},{"$f":"'6 - Input sheet - Employee data'!JW63","v":0},{"$f":"'6 - Input sheet - Employee data'!JX63","v":0},{"$f":"'6 - Input sheet - Employee data'!JY63","v":0},{"$f":"'6 - Input sheet - Employee data'!JZ63","v":0},{"$f":"'6 - Input sheet - Employee data'!KA63","v":0},{"$f":"'6 - Input sheet - Employee data'!KB63","v":0},{"$f":"'6 - Input sheet - Employee data'!KC63","v":0},{"$f":"'6 - Input sheet - Employee data'!KD63","v":0},{"$f":"'6 - Input sheet - Employee data'!KE63","v":0},{"$f":"'6 - Input sheet - Employee data'!KF63","v":0},{"$f":"'6 - Input sheet - Employee data'!KG63","v":0},{"$f":"'6 - Input sheet - Employee data'!KH63","v":0},{"$f":"'6 - Input sheet - Employee data'!KI63","v":0},{"$f":"'6 - Input sheet - Employee data'!KJ63","v":0},{"$f":"'6 - Input sheet - Employee data'!KK63","v":0},{"$f":"'6 - Input sheet - Employee data'!KL63","v":0},{"$f":"'6 - Input sheet - Employee data'!KM63","v":0},{"$f":"'6 - Input sheet - Employee data'!KN63","v":0},{"$f":"'6 - Input sheet - Employee data'!KO63","v":0},{"$f":"'6 - Input sheet - Employee data'!KP63","v":0},{"$f":"'6 - Input sheet - Employee data'!KQ63","v":0},{"$f":"'6 - Input sheet - Employee data'!KR63","v":0},{"$f":"'6 - Input sheet - Employee data'!KS63","v":0},{"$f":"'6 - Input sheet - Employee data'!KT63","v":0},{"$f":"'6 - Input sheet - Employee data'!KU63","v":0},{"$f":"'6 - Input sheet - Employee data'!KV63","v":0},{"$f":"'6 - Input sheet - Employee data'!KW63","v":0},{"$f":"'6 - Input sheet - Employee data'!KX63","v":0},{"$f":"'6 - Input sheet - Employee data'!KY63","v":0},{"$f":"'6 - Input sheet - Employee data'!KZ63","v":0},{"$f":"'6 - Input sheet - Employee data'!LA63","v":0},{"$f":"'6 - Input sheet - Employee data'!LB63","v":0},{"$f":"'6 - Input sheet - Employee data'!LC63","v":0},{"$f":"'6 - Input sheet - Employee data'!LD63","v":0},{"$f":"'6 - Input sheet - Employee data'!LE63","v":0},{"$f":"'6 - Input sheet - Employee data'!LF63","v":0},{"$f":"'6 - Input sheet - Employee data'!LG63","v":0},{"$f":"'6 - Input sheet - Employee data'!LH63","v":0},{"$f":"'6 - Input sheet - Employee data'!LI63","v":0},{"$f":"'6 - Input sheet - Employee data'!LJ63","v":0},{"$f":"'6 - Input sheet - Employee data'!LK63","v":0},{"$f":"'6 - Input sheet - Employee data'!LL63","v":0},{"$f":"'6 - Input sheet - Employee data'!LM63","v":0},{"$f":"'6 - Input sheet - Employee data'!LN63","v":0},{"$f":"'6 - Input sheet - Employee data'!LO63","v":0},{"$f":"'6 - Input sheet - Employee data'!LP63","v":0},{"$f":"'6 - Input sheet - Employee data'!LQ63","v":0},{"$f":"'6 - Input sheet - Employee data'!LR63","v":0},{"$f":"'6 - Input sheet - Employee data'!LS63","v":0},{"$f":"'6 - Input sheet - Employee data'!LT63","v":0},{"$f":"'6 - Input sheet - Employee data'!LU63","v":0},{"$f":"'6 - Input sheet - Employee data'!LV63","v":0},{"$f":"'6 - Input sheet - Employee data'!LW63","v":0},{"$f":"'6 - Input sheet - Employee data'!LX63","v":0},{"$f":"'6 - Input sheet - Employee data'!LY63","v":0},{"$f":"'6 - Input sheet - Employee data'!LZ63","v":0},{"$f":"'6 - Input sheet - Employee data'!MA63","v":0},{"$f":"'6 - Input sheet - Employee data'!MB63","v":0},{"$f":"'6 - Input sheet - Employee data'!MC63","v":0},{"$f":"'6 - Input sheet - Employee data'!MD63","v":0},{"$f":"'6 - Input sheet - Employee data'!ME63","v":0},{"$f":"'6 - Input sheet - Employee data'!MF63","v":0},{"$f":"'6 - Input sheet - Employee data'!MG63","v":0},{"$f":"'6 - Input sheet - Employee data'!MH63","v":0},{"$f":"'6 - Input sheet - Employee data'!MI63","v":0},{"$f":"'6 - Input sheet - Employee data'!MJ63","v":0},{"$f":"'6 - Input sheet - Employee data'!MK63","v":0},{"$f":"'6 - Input sheet - Employee data'!ML63","v":0},{"$f":"'6 - Input sheet - Employee data'!MM63","v":0},{"$f":"'6 - Input sheet - Employee data'!MN63","v":0},{"$f":"'6 - Input sheet - Employee data'!MO63","v":0},{"$f":"'6 - Input sheet - Employee data'!MP63","v":0},{"$f":"'6 - Input sheet - Employee data'!MQ63","v":0},{"$f":"'6 - Input sheet - Employee data'!MR63","v":0},{"$f":"'6 - Input sheet - Employee data'!MS63","v":0},{"$f":"'6 - Input sheet - Employee data'!MT63","v":0},{"$f":"'6 - Input sheet - Employee data'!MU63","v":0},{"$f":"'6 - Input sheet - Employee data'!MV63","v":0},{"$f":"'6 - Input sheet - Employee data'!MW63","v":0},{"$f":"'6 - Input sheet - Employee data'!MX63","v":0},{"$f":"'6 - Input sheet - Employee data'!MY63","v":0},{"$f":"'6 - Input sheet - Employee data'!MZ63","v":0},{"$f":"'6 - Input sheet - Employee data'!NA63","v":0},{"$f":"'6 - Input sheet - Employee data'!NB63","v":0},{"$f":"'6 - Input sheet - Employee data'!NC63","v":0},{"$f":"'6 - Input sheet - Employee data'!ND63","v":0},{"$f":"'6 - Input sheet - Employee data'!NE63","v":0},{"$f":"'6 - Input sheet - Employee data'!NF63","v":0},{"$f":"'6 - Input sheet - Employee data'!NG63","v":0},{"$f":"'6 - Input sheet - Employee data'!NH63","v":0},{"$f":"'6 - Input sheet - Employee data'!NI63","v":0},{"$f":"'6 - Input sheet - Employee data'!NJ63","v":0},{"$f":"'6 - Input sheet - Employee data'!NK63","v":0},{"$f":"'6 - Input sheet - Employee data'!NL63","v":0},{"$f":"'6 - Input sheet - Employee data'!NM63","v":0},{"$f":"'6 - Input sheet - Employee data'!NN63","v":0},{"$f":"'6 - Input sheet - Employee data'!NO63","v":0},{"$f":"'6 - Input sheet - Employee data'!NP63","v":0},{"$f":"'6 - Input sheet - Employee data'!NQ63","v":0},{"$f":"'6 - Input sheet - Employee data'!NR63","v":0},{"$f":"'6 - Input sheet - Employee data'!NS63","v":0},{"$f":"'6 - Input sheet - Employee data'!NT63","v":0},{"$f":"'6 - Input sheet - Employee data'!NU63","v":0},{"$f":"'6 - Input sheet - Employee data'!NV63","v":0},{"$f":"'6 - Input sheet - Employee data'!NW63","v":0},{"$f":"'6 - Input sheet - Employee data'!NX63","v":0},{"$f":"'6 - Input sheet - Employee data'!NY63","v":0},{"$f":"'6 - Input sheet - Employee data'!NZ63","v":0},{"$f":"'6 - Input sheet - Employee data'!OA63","v":0},{"$f":"'6 - Input sheet - Employee data'!OB63","v":0},{"$f":"'6 - Input sheet - Employee data'!OC63","v":0},{"$f":"'6 - Input sheet - Employee data'!OD63","v":0},{"$f":"'6 - Input sheet - Employee data'!OE63","v":0},{"$f":"'6 - Input sheet - Employee data'!OF63","v":0},{"$f":"'6 - Input sheet - Employee data'!OG63","v":0},{"$f":"'6 - Input sheet - Employee data'!OH63","v":0},{"$f":"'6 - Input sheet - Employee data'!OI63","v":0},{"$f":"'6 - Input sheet - Employee data'!OJ63","v":0},{"$f":"'6 - Input sheet - Employee data'!OK63","v":0},{"$f":"'6 - Input sheet - Employee data'!OL63","v":0},{"$f":"'6 - Input sheet - Employee data'!OM63","v":0},{"$f":"'6 - Input sheet - Employee data'!ON63","v":0},{"$f":"'6 - Input sheet - Employee data'!OO63","v":0},{"$f":"'6 - Input sheet - Employee data'!OP63","v":0},{"$f":"'6 - Input sheet - Employee data'!OQ63","v":0},{"$f":"'6 - Input sheet - Employee data'!OR63","v":0},{"$f":"'6 - Input sheet - Employee data'!OS63","v":0},{"$f":"'6 - Input sheet - Employee data'!OT63","v":0},{"$f":"'6 - Input sheet - Employee data'!OU63","v":0},{"$f":"'6 - Input sheet - Employee data'!OV63","v":0},{"$f":"'6 - Input sheet - Employee data'!OW63","v":0},{"$f":"'6 - Input sheet - Employee data'!OX63","v":0},{"$f":"'6 - Input sheet - Employee data'!OY63","v":0},{"$f":"'6 - Input sheet - Employee data'!OZ63","v":0},{"$f":"'6 - Input sheet - Employee data'!PA63","v":0},{"$f":"'6 - Input sheet - Employee data'!PB63","v":0},{"$f":"'6 - Input sheet - Employee data'!PC63","v":0},{"$f":"'6 - Input sheet - Employee data'!PD63","v":0},{"$f":"'6 - Input sheet - Employee data'!PE63","v":0},{"$f":"'6 - Input sheet - Employee data'!PF63","v":0},{"$f":"'6 - Input sheet - Employee data'!PG63","v":0},{"$f":"'6 - Input sheet - Employee data'!PH63","v":0},{"$f":"'6 - Input sheet - Employee data'!PI63","v":0},{"$f":"'6 - Input sheet - Employee data'!PJ63","v":0},{"$f":"'6 - Input sheet - Employee data'!PK63","v":0},{"$f":"'6 - Input sheet - Employee data'!PL63","v":0},{"$f":"'6 - Input sheet - Employee data'!PM63","v":0},{"$f":"'6 - Input sheet - Employee data'!PN63","v":0},{"$f":"'6 - Input sheet - Employee data'!PO63","v":0},{"$f":"'6 - Input sheet - Employee data'!PP63","v":0},{"$f":"'6 - Input sheet - Employee data'!PQ63","v":0},{"$f":"'6 - Input sheet - Employee data'!PR63","v":0},{"$f":"'6 - Input sheet - Employee data'!PS63","v":0},{"$f":"'6 - Input sheet - Employee data'!PT63","v":0},{"$f":"'6 - Input sheet - Employee data'!PU63","v":0},{"$f":"'6 - Input sheet - Employee data'!PV63","v":0},{"$f":"'6 - Input sheet - Employee data'!PW63","v":0},{"$f":"'6 - Input sheet - Employee data'!PX63","v":0},{"$f":"'6 - Input sheet - Employee data'!PY63","v":0},{"$f":"'6 - Input sheet - Employee data'!PZ63","v":0},{"$f":"'6 - Input sheet - Employee data'!QA63","v":0},{"$f":"'6 - Input sheet - Employee data'!QB63","v":0},{"$f":"'6 - Input sheet - Employee data'!QC63","v":0},{"$f":"'6 - Input sheet - Employee data'!QD63","v":0},{"$f":"'6 - Input sheet - Employee data'!QE63","v":0},{"$f":"'6 - Input sheet - Employee data'!QF63","v":0},{"$f":"'6 - Input sheet - Employee data'!QG63","v":0},{"$f":"'6 - Input sheet - Employee data'!QH63","v":0},{"$f":"'6 - Input sheet - Employee data'!QI63","v":0},{"$f":"'6 - Input sheet - Employee data'!QJ63","v":0},{"$f":"'6 - Input sheet - Employee data'!QK63","v":0},{"$f":"'6 - Input sheet - Employee data'!QL63","v":0},{"$f":"'6 - Input sheet - Employee data'!QM63","v":0},{"$f":"'6 - Input sheet - Employee data'!QN63","v":0},{"$f":"'6 - Input sheet - Employee data'!QO63","v":0},{"$f":"'6 - Input sheet - Employee data'!QP63","v":0},{"$f":"'6 - Input sheet - Employee data'!QQ63","v":0},{"$f":"'6 - Input sheet - Employee data'!QR63","v":0},{"$f":"'6 - Input sheet - Employee data'!QS63","v":0},{"$f":"'6 - Input sheet - Employee data'!QT63","v":0},{"$f":"'6 - Input sheet - Employee data'!QU63","v":0},{"$f":"'6 - Input sheet - Employee data'!QV63","v":0},{"$f":"'6 - Input sheet - Employee data'!QW63","v":0},{"$f":"'6 - Input sheet - Employee data'!QX63","v":0},{"$f":"'6 - Input sheet - Employee data'!QY63","v":0},{"$f":"'6 - Input sheet - Employee data'!QZ63","v":0},{"$f":"'6 - Input sheet - Employee data'!RA63","v":0},{"$f":"'6 - Input sheet - Employee data'!RB63","v":0},{"$f":"'6 - Input sheet - Employee data'!RC63","v":0},{"$f":"'6 - Input sheet - Employee data'!RD63","v":0},{"$f":"'6 - Input sheet - Employee data'!RE63","v":0},{"$f":"'6 - Input sheet - Employee data'!RF63","v":0},{"$f":"'6 - Input sheet - Employee data'!RG63","v":0},{"$f":"'6 - Input sheet - Employee data'!RH63","v":0},{"$f":"'6 - Input sheet - Employee data'!RI63","v":0},{"$f":"'6 - Input sheet - Employee data'!RJ63","v":0},{"$f":"'6 - Input sheet - Employee data'!RK63","v":0},{"$f":"'6 - Input sheet - Employee data'!RL63","v":0},{"$f":"'6 - Input sheet - Employee data'!RM63","v":0},{"$f":"'6 - Input sheet - Employee data'!RN63","v":0},{"$f":"'6 - Input sheet - Employee data'!RO63","v":0},{"$f":"'6 - Input sheet - Employee data'!RP63","v":0},{"$f":"'6 - Input sheet - Employee data'!RQ63","v":0},{"$f":"'6 - Input sheet - Employee data'!RR63","v":0},{"$f":"'6 - Input sheet - Employee data'!RS63","v":0},{"$f":"'6 - Input sheet - Employee data'!RT63","v":0},{"$f":"'6 - Input sheet - Employee data'!RU63","v":0},{"$f":"'6 - Input sheet - Employee data'!RV63","v":0},{"$f":"'6 - Input sheet - Employee data'!RW63","v":0},{"$f":"'6 - Input sheet - Employee data'!RX63","v":0},{"$f":"'6 - Input sheet - Employee data'!RY63","v":0},{"$f":"'6 - Input sheet - Employee data'!RZ63","v":0},{"$f":"'6 - Input sheet - Employee data'!SA63","v":0},{"$f":"'6 - Input sheet - Employee data'!SB63","v":0},{"$f":"'6 - Input sheet - Employee data'!SC63","v":0},{"$f":"'6 - Input sheet - Employee data'!SD63","v":0},{"$f":"'6 - Input sheet - Employee data'!SE63","v":0},{"$f":"'6 - Input sheet - Employee data'!SF63","v":0},{"$f":"'6 - Input sheet - Employee data'!SG63","v":0},{"$f":"'6 - Input sheet - Employee data'!SH63","v":0}]
["Total Compensation",{"$f":"SUM(C24:SH24)","v":0},{"$f":"SUM(C14:C23)","v":0},{"$f":"SUM(D14:D23)","v":0},0,0,0,0,0,0,0,0,0,0,0,0,0,0,0,0,0,0,0,0,0,0,0,0,0,0,0,0,0,0,0,0,0,0,0,0,0,0,0,0,0,0,0,0,0,0,0,0,0,0,0,0,0,0,0,0,0,0,0,0,0,0,0,{"$f":"SUM(BP14:BP23)","v":0},0,0,0,0,0,0,0,0,0,0,0,0,0,0,0,0,0,0,0,0,0,0,0,0,0,0,0,0,0,0,0,0,0,0,0,0,0,0,0,0,0,0,0,0,0,0,0,0,0,0,0,0,0,0,0,0,0,0,0,0,0,0,0,{"$f":"SUM(EB14:EB23)","v":0},0,0,0,0,0,0,0,0,0,0,0,0,0,0,0,0,0,0,0,0,0,0,0,0,0,0,0,0,0,0,0,0,0,0,0,0,0,0,0,0,0,0,0,0,0,0,0,0,0,0,0,0,0,0,0,0,0,0,0,0,0,0,0,{"$f":"SUM(GN14:GN23)","v":0},0,0,0,0,0,0,0,0,0,0,0,0,0,0,0,0,0,0,0,0,0,0,0,0,0,0,0,0,0,0,0,0,0,0,0,0,0,0,0,0,0,0,0,0,0,0,0,0,0,0,0,0,0,0,0,0,0,0,0,0,0,0,0,{"$f":"SUM(IZ14:IZ23)","v":0},0,0,0,0,0,0,0,0,0,0,0,0,0,0,0,0,0,0,0,0,0,0,0,0,0,0,0,0,0,0,0,0,0,0,0,0,0,0,0,0,0,0,0,0,0,0,0,0,0,0,0,0,0,0,0,0,0,0,0,0,0,0,0,{"$f":"SUM(LL14:LL23)","v":0},0,0,0,0,0,0,0,0,0,0,0,0,0,0,0,0,0,0,0,0,0,0,0,0,0,0,0,0,0,0,0,0,0,0,0,0,0,0,0,0,0,0,0,0,0,0,0,0,0,0,0,0,0,0,0,0,0,0,0,0,0,0,0,{"$f":"SUM(NX14:NX23)","v":0},0,0,0,0,0,0,0,0,0,0,0,0,0,0,0,0,0,0,0,0,0,0,0,0,0,0,0,0,0,0,0,0,0,0,0,0,0,0,0,0,0,0,0,0,0,0,0,0,0,0,0,0,0,0,0,0,0,0,0,0,0,0,0,{"$f":"SUM(QJ14:QJ23)","v":0},0,0,0,0,0,0,0,0,0,0,0,0,0,0,0,0,0,0,0,0,0,0,0,0,0,0,0,0,0,0,0,0,0,0,0,0,0,0,0,0,0,0,0,0,0,0,0,0,0,0]
[]
["Total Hours During Covered Period",null,{"$f":"'5 - FTE reduction'!C36","v":0},{"$f":"'5 - FTE reduction'!D36","v":0},{"$f":"'5 - FTE reduction'!E36","v":0},{"$f":"'5 - FTE reduction'!F36","v":0},{"$f":"'5 - FTE reduction'!G36","v":0},{"$f":"'5 - FTE reduction'!H36","v":0},{"$f":"'5 - FTE reduction'!I36","v":0},{"$f":"'5 - FTE reduction'!J36","v":0},{"$f":"'5 - FTE reduction'!K36","v":0},{"$f":"'5 - FTE reduction'!L36","v":0},{"$f":"'5 - FTE reduction'!M36","v":0},{"$f":"'5 - FTE reduction'!N36","v":0},{"$f":"'5 - FTE reduction'!O36","v":0},{"$f":"'5 - FTE reduction'!P36","v":0},{"$f":"'5 - FTE reduction'!Q36","v":0},{"$f":"'5 - FTE reduction'!R36","v":0},{"$f":"'5 - FTE reduction'!S36","v":0},{"$f":"'5 - FTE reduction'!T36","v":0},{"$f":"'5 - FTE reduction'!U36","v":0},{"$f":"'5 - FTE reduction'!V36","v":0},{"$f":"'5 - FTE reduction'!W36","v":0},{"$f":"'5 - FTE reduction'!X36","v":0},{"$f":"'5 - FTE reduction'!Y36","v":0},{"$f":"'5 - FTE reduction'!Z36","v":0},{"$f":"'5 - FTE reduction'!AA36","v":0},{"$f":"'5 - FTE reduction'!AB36","v":0},{"$f":"'5 - FTE reduction'!AC36","v":0},{"$f":"'5 - FTE reduction'!AD36","v":0},{"$f":"'5 - FTE reduction'!AE36","v":0},{"$f":"'5 - FTE reduction'!AF36","v":0},{"$f":"'5 - FTE reduction'!AG36","v":0},{"$f":"'5 - FTE reduction'!AH36","v":0},{"$f":"'5 - FTE reduction'!AI36","v":0},{"$f":"'5 - FTE reduction'!AJ36","v":0},{"$f":"'5 - FTE reduction'!AK36","v":0},{"$f":"'5 - FTE reduction'!AL36","v":0},{"$f":"'5 - FTE reduction'!AM36","v":0},{"$f":"'5 - FTE reduction'!AN36","v":0},{"$f":"'5 - FTE reduction'!AO36","v":0},{"$f":"'5 - FTE reduction'!AP36","v":0},{"$f":"'5 - FTE reduction'!AQ36","v":0},{"$f":"'5 - FTE reduction'!AR36","v":0},{"$f":"'5 - FTE reduction'!AS36","v":0},{"$f":"'5 - FTE reduction'!AT36","v":0},{"$f":"'5 - FTE reduction'!AU36","v":0},{"$f":"'5 - FTE reduction'!AV36","v":0},{"$f":"'5 - FTE reduction'!AW36","v":0},{"$f":"'5 - FTE reduction'!AX36","v":0},{"$f":"'5 - FTE reduction'!AY36","v":0},{"$f":"'5 - FTE reduction'!AZ36","v":0},{"$f":"'5 - FTE reduction'!BA36","v":0},{"$f":"'5 - FTE reduction'!BB36","v":0},{"$f":"'5 - FTE reduction'!BC36","v":0},{"$f":"'5 - FTE reduction'!BD36","v":0},{"$f":"'5 - FTE reduction'!BE36","v":0},{"$f":"'5 - FTE reduction'!BF36","v":0},{"$f":"'5 - FTE reduction'!BG36","v":0},{"$f":"'5 - FTE reduction'!BH36","v":0},{"$f":"'5 - FTE reduction'!BI36","v":0},{"$f":"'5 - FTE reduction'!BJ36","v":0},{"$f":"'5 - FTE reduction'!BK36","v":0},{"$f":"'5 - FTE reduction'!BL36","v":0},{"$f":"'5 - FTE reduction'!BM36","v":0},{"$f":"'5 - FTE reduction'!BN36","v":0},{"$f":"'5 - FTE reduction'!BO36","v":0},{"$f":"'5 - FTE reduction'!BP36","v":0},{"$f":"'5 - FTE reduction'!BQ36","v":0},{"$f":"'5 - FTE reduction'!BR36","v":0},{"$f":"'5 - FTE reduction'!BS36","v":0},{"$f":"'5 - FTE reduction'!BT36","v":0},{"$f":"'5 - FTE reduction'!BU36","v":0},{"$f":"'5 - FTE reduction'!BV36","v":0},{"$f":"'5 - FTE reduction'!BW36","v":0},{"$f":"'5 - FTE reduction'!BX36","v":0},{"$f":"'5 - FTE reduction'!BY36","v":0},{"$f":"'5 - FTE reduction'!BZ36","v":0},{"$f":"'5 - FTE reduction'!CA36","v":0},{"$f":"'5 - FTE reduction'!CB36","v":0},{"$f":"'5 - FTE reduction'!CC36","v":0},{"$f":"'5 - FTE reduction'!CD36","v":0},{"$f":"'5 - FTE reduction'!CE36","v":0},{"$f":"'5 - FTE reduction'!CF36","v":0},{"$f":"'5 - FTE reduction'!CG36","v":0},{"$f":"'5 - FTE reduction'!CH36","v":0},{"$f":"'5 - FTE reduction'!CI36","v":0},{"$f":"'5 - FTE reduction'!CJ36","v":0},{"$f":"'5 - FTE reduction'!CK36","v":0},{"$f":"'5 - FTE reduction'!CL36","v":0},{"$f":"'5 - FTE reduction'!CM36","v":0},{"$f":"'5 - FTE reduction'!CN36","v":0},{"$f":"'5 - FTE reduction'!CO36","v":0},{"$f":"'5 - FTE reduction'!CP36","v":0},{"$f":"'5 - FTE reduction'!CQ36","v":0},{"$f":"'5 - FTE reduction'!CR36","v":0},{"$f":"'5 - FTE reduction'!CS36","v":0},{"$f":"'5 - FTE reduction'!CT36","v":0},{"$f":"'5 - FTE reduction'!CU36","v":0},{"$f":"'5 - FTE reduction'!CV36","v":0},{"$f":"'5 - FTE reduction'!CW36","v":0},{"$f":"'5 - FTE reduction'!CX36","v":0},{"$f":"'5 - FTE reduction'!CY36","v":0},{"$f":"'5 - FTE reduction'!CZ36","v":0},{"$f":"'5 - FTE reduction'!DA36","v":0},{"$f":"'5 - FTE reduction'!DB36","v":0},{"$f":"'5 - FTE reduction'!DC36","v":0},{"$f":"'5 - FTE reduction'!DD36","v":0},{"$f":"'5 - FTE reduction'!DE36","v":0},{"$f":"'5 - FTE reduction'!DF36","v":0},{"$f":"'5 - FTE reduction'!DG36","v":0},{"$f":"'5 - FTE reduction'!DH36","v":0},{"$f":"'5 - FTE reduction'!DI36","v":0},{"$f":"'5 - FTE reduction'!DJ36","v":0},{"$f":"'5 - FTE reduction'!DK36","v":0},{"$f":"'5 - FTE reduction'!DL36","v":0},{"$f":"'5 - FTE reduction'!DM36","v":0},{"$f":"'5 - FTE reduction'!DN36","v":0},{"$f":"'5 - FTE reduction'!DO36","v":0},{"$f":"'5 - FTE reduction'!DP36","v":0},{"$f":"'5 - FTE reduction'!DQ36","v":0},{"$f":"'5 - FTE reduction'!DR36","v":0},{"$f":"'5 - FTE reduction'!DS36","v":0},{"$f":"'5 - FTE reduction'!DT36","v":0},{"$f":"'5 - FTE reduction'!DU36","v":0},{"$f":"'5 - FTE reduction'!DV36","v":0},{"$f":"'5 - FTE reduction'!DW36","v":0},{"$f":"'5 - FTE reduction'!DX36","v":0},{"$f":"'5 - FTE reduction'!DY36","v":0},{"$f":"'5 - FTE reduction'!DZ36","v":0},{"$f":"'5 - FTE reduction'!EA36","v":0},{"$f":"'5 - FTE reduction'!EB36","v":0},{"$f":"'5 - FTE reduction'!EC36","v":0},{"$f":"'5 - FTE reduction'!ED36","v":0},{"$f":"'5 - FTE reduction'!EE36","v":0},{"$f":"'5 - FTE reduction'!EF36","v":0},{"$f":"'5 - FTE reduction'!EG36","v":0},{"$f":"'5 - FTE reduction'!EH36","v":0},{"$f":"'5 - FTE reduction'!EI36","v":0},{"$f":"'5 - FTE reduction'!EJ36","v":0},{"$f":"'5 - FTE reduction'!EK36","v":0},{"$f":"'5 - FTE reduction'!EL36","v":0},{"$f":"'5 - FTE reduction'!EM36","v":0},{"$f":"'5 - FTE reduction'!EN36","v":0},{"$f":"'5 - FTE reduction'!EO36","v":0},{"$f":"'5 - FTE reduction'!EP36","v":0},{"$f":"'5 - FTE reduction'!EQ36","v":0},{"$f":"'5 - FTE reduction'!ER36","v":0},{"$f":"'5 - FTE reduction'!ES36","v":0},{"$f":"'5 - FTE reduction'!ET36","v":0},{"$f":"'5 - FTE reduction'!EU36","v":0},{"$f":"'5 - FTE reduction'!EV36","v":0},{"$f":"'5 - FTE reduction'!EW36","v":0},{"$f":"'5 - FTE reduction'!EX36","v":0},{"$f":"'5 - FTE reduction'!EY36","v":0},{"$f":"'5 - FTE reduction'!EZ36","v":0},{"$f":"'5 - FTE reduction'!FA36","v":0},{"$f":"'5 - FTE reduction'!FB36","v":0},{"$f":"'5 - FTE reduction'!FC36","v":0},{"$f":"'5 - FTE reduction'!FD36","v":0},{"$f":"'5 - FTE reduction'!FE36","v":0},{"$f":"'5 - FTE reduction'!FF36","v":0},{"$f":"'5 - FTE reduction'!FG36","v":0},{"$f":"'5 - FTE reduction'!FH36","v":0},{"$f":"'5 - FTE reduction'!FI36","v":0},{"$f":"'5 - FTE reduction'!FJ36","v":0},{"$f":"'5 - FTE reduction'!FK36","v":0},{"$f":"'5 - FTE reduction'!FL36","v":0},{"$f":"'5 - FTE reduction'!FM36","v":0},{"$f":"'5 - FTE reduction'!FN36","v":0},{"$f":"'5 - FTE reduction'!FO36","v":0},{"$f":"'5 - FTE reduction'!FP36","v":0},{"$f":"'5 - FTE reduction'!FQ36","v":0},{"$f":"'5 - FTE reduction'!FR36","v":0},{"$f":"'5 - FTE reduction'!FS36","v":0},{"$f":"'5 - FTE reduction'!FT36","v":0},{"$f":"'5 - FTE reduction'!FU36","v":0},{"$f":"'5 - FTE reduction'!FV36","v":0},{"$f":"'5 - FTE reduction'!FW36","v":0},{"$f":"'5 - FTE reduction'!FX36","v":0},{"$f":"'5 - FTE reduction'!FY36","v":0},{"$f":"'5 - FTE reduction'!FZ36","v":0},{"$f":"'5 - FTE reduction'!GA36","v":0},{"$f":"'5 - FTE reduction'!GB36","v":0},{"$f":"'5 - FTE reduction'!GC36","v":0},{"$f":"'5 - FTE reduction'!GD36","v":0},{"$f":"'5 - FTE reduction'!GE36","v":0},{"$f":"'5 - FTE reduction'!GF36","v":0},{"$f":"'5 - FTE reduction'!GG36","v":0},{"$f":"'5 - FTE reduction'!GH36","v":0},{"$f":"'5 - FTE reduction'!GI36","v":0},{"$f":"'5 - FTE reduction'!GJ36","v":0},{"$f":"'5 - FTE reduction'!GK36","v":0},{"$f":"'5 - FTE reduction'!GL36","v":0},{"$f":"'5 - FTE reduction'!GM36","v":0},{"$f":"'5 - FTE reduction'!GN36","v":0},{"$f":"'5 - FTE reduction'!GO36","v":0},{"$f":"'5 - FTE reduction'!GP36","v":0},{"$f":"'5 - FTE reduction'!GQ36","v":0},{"$f":"'5 - FTE reduction'!GR36","v":0},{"$f":"'5 - FTE reduction'!GS36","v":0},{"$f":"'5 - FTE reduction'!GT36","v":0},{"$f":"'5 - FTE reduction'!GU36","v":0},{"$f":"'5 - FTE reduction'!GV36","v":0},{"$f":"'5 - FTE reduction'!GW36","v":0},{"$f":"'5 - FTE reduction'!GX36","v":0},{"$f":"'5 - FTE reduction'!GY36","v":0},{"$f":"'5 - FTE reduction'!GZ36","v":0},{"$f":"'5 - FTE reduction'!HA36","v":0},{"$f":"'5 - FTE reduction'!HB36","v":0},{"$f":"'5 - FTE reduction'!HC36","v":0},{"$f":"'5 - FTE reduction'!HD36","v":0},{"$f":"'5 - FTE reduction'!HE36","v":0},{"$f":"'5 - FTE reduction'!HF36","v":0},{"$f":"'5 - FTE reduction'!HG36","v":0},{"$f":"'5 - FTE reduction'!HH36","v":0},{"$f":"'5 - FTE reduction'!HI36","v":0},{"$f":"'5 - FTE reduction'!HJ36","v":0},{"$f":"'5 - FTE reduction'!HK36","v":0},{"$f":"'5 - FTE reduction'!HL36","v":0},{"$f":"'5 - FTE reduction'!HM36","v":0},{"$f":"'5 - FTE reduction'!HN36","v":0},{"$f":"'5 - FTE reduction'!HO36","v":0},{"$f":"'5 - FTE reduction'!HP36","v":0},{"$f":"'5 - FTE reduction'!HQ36","v":0},{"$f":"'5 - FTE reduction'!HR36","v":0},{"$f":"'5 - FTE reduction'!HS36","v":0},{"$f":"'5 - FTE reduction'!HT36","v":0},{"$f":"'5 - FTE reduction'!HU36","v":0},{"$f":"'5 - FTE reduction'!HV36","v":0},{"$f":"'5 - FTE reduction'!HW36","v":0},{"$f":"'5 - FTE reduction'!HX36","v":0},{"$f":"'5 - FTE reduction'!HY36","v":0},{"$f":"'5 - FTE reduction'!HZ36","v":0},{"$f":"'5 - FTE reduction'!IA36","v":0},{"$f":"'5 - FTE reduction'!IB36","v":0},{"$f":"'5 - FTE reduction'!IC36","v":0},{"$f":"'5 - FTE reduction'!ID36","v":0},{"$f":"'5 - FTE reduction'!IE36","v":0},{"$f":"'5 - FTE reduction'!IF36","v":0},{"$f":"'5 - FTE reduction'!IG36","v":0},{"$f":"'5 - FTE reduction'!IH36","v":0},{"$f":"'5 - FTE reduction'!II36","v":0},{"$f":"'5 - FTE reduction'!IJ36","v":0},{"$f":"'5 - FTE reduction'!IK36","v":0},{"$f":"'5 - FTE reduction'!IL36","v":0},{"$f":"'5 - FTE reduction'!IM36","v":0},{"$f":"'5 - FTE reduction'!IN36","v":0},{"$f":"'5 - FTE reduction'!IO36","v":0},{"$f":"'5 - FTE reduction'!IP36","v":0},{"$f":"'5 - FTE reduction'!IQ36","v":0},{"$f":"'5 - FTE reduction'!IR36","v":0},{"$f":"'5 - FTE reduction'!IS36","v":0},{"$f":"'5 - FTE reduction'!IT36","v":0},{"$f":"'5 - FTE reduction'!IU36","v":0},{"$f":"'5 - FTE reduction'!IV36","v":0},{"$f":"'5 - FTE reduction'!IW36","v":0},{"$f":"'5 - FTE reduction'!IX36","v":0},{"$f":"'5 - FTE reduction'!IY36","v":0},{"$f":"'5 - FTE reduction'!IZ36","v":0},{"$f":"'5 - FTE reduction'!JA36","v":0},{"$f":"'5 - FTE reduction'!JB36","v":0},{"$f":"'5 - FTE reduction'!JC36","v":0},{"$f":"'5 - FTE reduction'!JD36","v":0},{"$f":"'5 - FTE reduction'!JE36","v":0},{"$f":"'5 - FTE reduction'!JF36","v":0},{"$f":"'5 - FTE reduction'!JG36","v":0},{"$f":"'5 - FTE reduction'!JH36","v":0},{"$f":"'5 - FTE reduction'!JI36","v":0},{"$f":"'5 - FTE reduction'!JJ36","v":0},{"$f":"'5 - FTE reduction'!JK36","v":0},{"$f":"'5 - FTE reduction'!JL36","v":0},{"$f":"'5 - FTE reduction'!JM36","v":0},{"$f":"'5 - FTE reduction'!JN36","v":0},{"$f":"'5 - FTE reduction'!JO36","v":0},{"$f":"'5 - FTE reduction'!JP36","v":0},{"$f":"'5 - FTE reduction'!JQ36","v":0},{"$f":"'5 - FTE reduction'!JR36","v":0},{"$f":"'5 - FTE reduction'!JS36","v":0},{"$f":"'5 - FTE reduction'!JT36","v":0},{"$f":"'5 - FTE reduction'!JU36","v":0},{"$f":"'5 - FTE reduction'!JV36","v":0},{"$f":"'5 - FTE reduction'!JW36","v":0},{"$f":"'5 - FTE reduction'!JX36","v":0},{"$f":"'5 - FTE reduction'!JY36","v":0},{"$f":"'5 - FTE reduction'!JZ36","v":0},{"$f":"'5 - FTE reduction'!KA36","v":0},{"$f":"'5 - FTE reduction'!KB36","v":0},{"$f":"'5 - FTE reduction'!KC36","v":0},{"$f":"'5 - FTE reduction'!KD36","v":0},{"$f":"'5 - FTE reduction'!KE36","v":0},{"$f":"'5 - FTE reduction'!KF36","v":0},{"$f":"'5 - FTE reduction'!KG36","v":0},{"$f":"'5 - FTE reduction'!KH36","v":0},{"$f":"'5 - FTE reduction'!KI36","v":0},{"$f":"'5 - FTE reduction'!KJ36","v":0},{"$f":"'5 - FTE reduction'!KK36","v":0},{"$f":"'5 - FTE reduction'!KL36","v":0},{"$f":"'5 - FTE reduction'!KM36","v":0},{"$f":"'5 - FTE reduction'!KN36","v":0},{"$f":"'5 - FTE reduction'!KO36","v":0},{"$f":"'5 - FTE reduction'!KP36","v":0},{"$f":"'5 - FTE reduction'!KQ36","v":0},{"$f":"'5 - FTE reduction'!KR36","v":0},{"$f":"'5 - FTE reduction'!KS36","v":0},{"$f":"'5 - FTE reduction'!KT36","v":0},{"$f":"'5 - FTE reduction'!KU36","v":0},{"$f":"'5 - FTE reduction'!KV36","v":0},{"$f":"'5 - FTE reduction'!KW36","v":0},{"$f":"'5 - FTE reduction'!KX36","v":0},{"$f":"'5 - FTE reduction'!KY36","v":0},{"$f":"'5 - FTE reduction'!KZ36","v":0},{"$f":"'5 - FTE reduction'!LA36","v":0},{"$f":"'5 - FTE reduction'!LB36","v":0},{"$f":"'5 - FTE reduction'!LC36","v":0},{"$f":"'5 - FTE reduction'!LD36","v":0},{"$f":"'5 - FTE reduction'!LE36","v":0},{"$f":"'5 - FTE reduction'!LF36","v":0},{"$f":"'5 - FTE reduction'!LG36","v":0},{"$f":"'5 - FTE reduction'!LH36","v":0},{"$f":"'5 - FTE reduction'!LI36","v":0},{"$f":"'5 - FTE reduction'!LJ36","v":0},{"$f":"'5 - FTE reduction'!LK36","v":0},{"$f":"'5 - FTE reduction'!LL36","v":0},{"$f":"'5 - FTE reduction'!LM36","v":0},{"$f":"'5 - FTE reduction'!LN36","v":0},{"$f":"'5 - FTE reduction'!LO36","v":0},{"$f":"'5 - FTE reduction'!LP36","v":0},{"$f":"'5 - FTE reduction'!LQ36","v":0},{"$f":"'5 - FTE reduction'!LR36","v":0},{"$f":"'5 - FTE reduction'!LS36","v":0},{"$f":"'5 - FTE reduction'!LT36","v":0},{"$f":"'5 - FTE reduction'!LU36","v":0},{"$f":"'5 - FTE reduction'!LV36","v":0},{"$f":"'5 - FTE reduction'!LW36","v":0},{"$f":"'5 - FTE reduction'!LX36","v":0},{"$f":"'5 - FTE reduction'!LY36","v":0},{"$f":"'5 - FTE reduction'!LZ36","v":0},{"$f":"'5 - FTE reduction'!MA36","v":0},{"$f":"'5 - FTE reduction'!MB36","v":0},{"$f":"'5 - FTE reduction'!MC36","v":0},{"$f":"'5 - FTE reduction'!MD36","v":0},{"$f":"'5 - FTE reduction'!ME36","v":0},{"$f":"'5 - FTE reduction'!MF36","v":0},{"$f":"'5 - FTE reduction'!MG36","v":0},{"$f":"'5 - FTE reduction'!MH36","v":0},{"$f":"'5 - FTE reduction'!MI36","v":0},{"$f":"'5 - FTE reduction'!MJ36","v":0},{"$f":"'5 - FTE reduction'!MK36","v":0},{"$f":"'5 - FTE reduction'!ML36","v":0},{"$f":"'5 - FTE reduction'!MM36","v":0},{"$f":"'5 - FTE reduction'!MN36","v":0},{"$f":"'5 - FTE reduction'!MO36","v":0},{"$f":"'5 - FTE reduction'!MP36","v":0},{"$f":"'5 - FTE reduction'!MQ36","v":0},{"$f":"'5 - FTE reduction'!MR36","v":0},{"$f":"'5 - FTE reduction'!MS36","v":0},{"$f":"'5 - FTE reduction'!MT36","v":0},{"$f":"'5 - FTE reduction'!MU36","v":0},{"$f":"'5 - FTE reduction'!MV36","v":0},{"$f":"'5 - FTE reduction'!MW36","v":0},{"$f":"'5 - FTE reduction'!MX36","v":0},{"$f":"'5 - FTE reduction'!MY36","v":0},{"$f":"'5 - FTE reduction'!MZ36","v":0},{"$f":"'5 - FTE reduction'!NA36","v":0},{"$f":"'5 - FTE reduction'!NB36","v":0},{"$f":"'5 - FTE reduction'!NC36","v":0},{"$f":"'5 - FTE reduction'!ND36","v":0},{"$f":"'5 - FTE reduction'!NE36","v":0},{"$f":"'5 - FTE reduction'!NF36","v":0},{"$f":"'5 - FTE reduction'!NG36","v":0},{"$f":"'5 - FTE reduction'!NH36","v":0},{"$f":"'5 - FTE reduction'!NI36","v":0},{"$f":"'5 - FTE reduction'!NJ36","v":0},{"$f":"'5 - FTE reduction'!NK36","v":0},{"$f":"'5 - FTE reduction'!NL36","v":0},{"$f":"'5 - FTE reduction'!NM36","v":0},{"$f":"'5 - FTE reduction'!NN36","v":0},{"$f":"'5 - FTE reduction'!NO36","v":0},{"$f":"'5 - FTE reduction'!NP36","v":0},{"$f":"'5 - FTE reduction'!NQ36","v":0},{"$f":"'5 - FTE reduction'!NR36","v":0},{"$f":"'5 - FTE reduction'!NS36","v":0},{"$f":"'5 - FTE reduction'!NT36","v":0},{"$f":"'5 - FTE reduction'!NU36","v":0},{"$f":"'5 - FTE reduction'!NV36","v":0},{"$f":"'5 - FTE reduction'!NW36","v":0},{"$f":"'5 - FTE reduction'!NX36","v":0},{"$f":"'5 - FTE reduction'!NY36","v":0},{"$f":"'5 - FTE reduction'!NZ36","v":0},{"$f":"'5 - FTE reduction'!OA36","v":0},{"$f":"'5 - FTE reduction'!OB36","v":0},{"$f":"'5 - FTE reduction'!OC36","v":0},{"$f":"'5 - FTE reduction'!OD36","v":0},{"$f":"'5 - FTE reduction'!OE36","v":0},{"$f":"'5 - FTE reduction'!OF36","v":0},{"$f":"'5 - FTE reduction'!OG36","v":0},{"$f":"'5 - FTE reduction'!OH36","v":0},{"$f":"'5 - FTE reduction'!OI36","v":0},{"$f":"'5 - FTE reduction'!OJ36","v":0},{"$f":"'5 - FTE reduction'!OK36","v":0},{"$f":"'5 - FTE reduction'!OL36","v":0},{"$f":"'5 - FTE reduction'!OM36","v":0},{"$f":"'5 - FTE reduction'!ON36","v":0},{"$f":"'5 - FTE reduction'!OO36","v":0},{"$f":"'5 - FTE reduction'!OP36","v":0},{"$f":"'5 - FTE reduction'!OQ36","v":0},{"$f":"'5 - FTE reduction'!OR36","v":0},{"$f":"'5 - FTE reduction'!OS36","v":0},{"$f":"'5 - FTE reduction'!OT36","v":0},{"$f":"'5 - FTE reduction'!OU36","v":0},{"$f":"'5 - FTE reduction'!OV36","v":0},{"$f":"'5 - FTE reduction'!OW36","v":0},{"$f":"'5 - FTE reduction'!OX36","v":0},{"$f":"'5 - FTE reduction'!OY36","v":0},{"$f":"'5 - FTE reduction'!OZ36","v":0},{"$f":"'5 - FTE reduction'!PA36","v":0},{"$f":"'5 - FTE reduction'!PB36","v":0},{"$f":"'5 - FTE reduction'!PC36","v":0},{"$f":"'5 - FTE reduction'!PD36","v":0},{"$f":"'5 - FTE reduction'!PE36","v":0},{"$f":"'5 - FTE reduction'!PF36","v":0},{"$f":"'5 - FTE reduction'!PG36","v":0},{"$f":"'5 - FTE reduction'!PH36","v":0},{"$f":"'5 - FTE reduction'!PI36","v":0},{"$f":"'5 - FTE reduction'!PJ36","v":0},{"$f":"'5 - FTE reduction'!PK36","v":0},{"$f":"'5 - FTE reduction'!PL36","v":0},{"$f":"'5 - FTE reduction'!PM36","v":0},{"$f":"'5 - FTE reduction'!PN36","v":0},{"$f":"'5 - FTE reduction'!PO36","v":0},{"$f":"'5 - FTE reduction'!PP36","v":0},{"$f":"'5 - FTE reduction'!PQ36","v":0},{"$f":"'5 - FTE reduction'!PR36","v":0},{"$f":"'5 - FTE reduction'!PS36","v":0},{"$f":"'5 - FTE reduction'!PT36","v":0},{"$f":"'5 - FTE reduction'!PU36","v":0},{"$f":"'5 - FTE reduction'!PV36","v":0},{"$f":"'5 - FTE reduction'!PW36","v":0},{"$f":"'5 - FTE reduction'!PX36","v":0},{"$f":"'5 - FTE reduction'!PY36","v":0},{"$f":"'5 - FTE reduction'!PZ36","v":0},{"$f":"'5 - FTE reduction'!QA36","v":0},{"$f":"'5 - FTE reduction'!QB36","v":0},{"$f":"'5 - FTE reduction'!QC36","v":0},{"$f":"'5 - FTE reduction'!QD36","v":0},{"$f":"'5 - FTE reduction'!QE36","v":0},{"$f":"'5 - FTE reduction'!QF36","v":0},{"$f":"'5 - FTE reduction'!QG36","v":0},{"$f":"'5 - FTE reduction'!QH36","v":0},{"$f":"'5 - FTE reduction'!QI36","v":0},{"$f":"'5 - FTE reduction'!QJ36","v":0},{"$f":"'5 - FTE reduction'!QK36","v":0},{"$f":"'5 - FTE reduction'!QL36","v":0},{"$f":"'5 - FTE reduction'!QM36","v":0},{"$f":"'5 - FTE reduction'!QN36","v":0},{"$f":"'5 - FTE reduction'!QO36","v":0},{"$f":"'5 - FTE reduction'!QP36","v":0},{"$f":"'5 - FTE reduction'!QQ36","v":0},{"$f":"'5 - FTE reduction'!QR36","v":0},{"$f":"'5 - FTE reduction'!QS36","v":0},{"$f":"'5 - FTE reduction'!QT36","v":0},{"$f":"'5 - FTE reduction'!QU36","v":0},{"$f":"'5 - FTE reduction'!QV36","v":0},{"$f":"'5 - FTE reduction'!QW36","v":0},{"$f":"'5 - FTE reduction'!QX36","v":0},{"$f":"'5 - FTE reduction'!QY36","v":0},{"$f":"'5 - FTE reduction'!QZ36","v":0},{"$f":"'5 - FTE reduction'!RA36","v":0},{"$f":"'5 - FTE reduction'!RB36","v":0},{"$f":"'5 - FTE reduction'!RC36","v":0},{"$f":"'5 - FTE reduction'!RD36","v":0},{"$f":"'5 - FTE reduction'!RE36","v":0},{"$f":"'5 - FTE reduction'!RF36","v":0},{"$f":"'5 - FTE reduction'!RG36","v":0},{"$f":"'5 - FTE reduction'!RH36","v":0},{"$f":"'5 - FTE reduction'!RI36","v":0},{"$f":"'5 - FTE reduction'!RJ36","v":0},{"$f":"'5 - FTE reduction'!RK36","v":0},{"$f":"'5 - FTE reduction'!RL36","v":0},{"$f":"'5 - FTE reduction'!RM36","v":0},{"$f":"'5 - FTE reduction'!RN36","v":0},{"$f":"'5 - FTE reduction'!RO36","v":0},{"$f":"'5 - FTE reduction'!RP36","v":0},{"$f":"'5 - FTE reduction'!RQ36","v":0},{"$f":"'5 - FTE reduction'!RR36","v":0},{"$f":"'5 - FTE reduction'!RS36","v":0},{"$f":"'5 - FTE reduction'!RT36","v":0},{"$f":"'5 - FTE reduction'!RU36","v":0},{"$f":"'5 - FTE reduction'!RV36","v":0},{"$f":"'5 - FTE reduction'!RW36","v":0},{"$f":"'5 - FTE reduction'!RX36","v":0},{"$f":"'5 - FTE reduction'!RY36","v":0},{"$f":"'5 - FTE reduction'!RZ36","v":0},{"$f":"'5 - FTE reduction'!SA36","v":0},{"$f":"'5 - FTE reduction'!SB36","v":0},{"$f":"'5 - FTE reduction'!SC36","v":0},{"$f":"'5 - FTE reduction'!SD36","v":0},{"$f":"'5 - FTE reduction'!SE36","v":0},{"$f":"'5 - FTE reduction'!SF36","v":0},{"$f":"'5 - FTE reduction'!SG36","v":0},{"$f":"'5 - FTE reduction'!SH36","v":0}]
[]
["Average Rate for the Covered Period",null,{"$f":"IF(MIN(C24,C26)=0,0,IF(C9=\"Salaried-Other\",0,IF(C9=\"Salaried-No reduction\",0,C24/C26)))","v":0},0,0,0,0,0,0,0,0,0,0,0,0,0,0,0,0,0,0,0,0,0,0,0,0,0,0,0,0,0,0,0,0,0,0,0,0,0,0,0,0,0,0,0,0,0,0,0,0,0,0,0,0,0,0,0,0,0,0,0,0,0,0,0,{"$f":"IF(MIN(BO24,BO26)=0,0,IF(BO9=\"Salaried-Other\",0,IF(BO9=\"Salaried-No reduction\",0,BO24/BO26)))","v":0},0,0,0,0,0,0,0,0,0,0,0,0,0,0,0,0,0,0,0,0,0,0,0,0,0,0,0,0,0,0,0,0,0,0,0,0,0,0,0,0,0,0,0,0,0,0,0,0,0,0,0,0,0,0,0,0,0,0,0,0,0,0,0,{"$f":"IF(MIN(EA24,EA26)=0,0,IF(EA9=\"Salaried-Other\",0,IF(EA9=\"Salaried-No reduction\",0,EA24/EA26)))","v":0},0,0,0,0,0,0,0,0,0,0,0,0,0,0,0,0,0,0,0,0,0,0,0,0,0,0,0,0,0,0,0,0,0,0,0,0,0,0,0,0,0,0,0,0,0,0,0,0,0,0,0,0,0,0,0,0,0,0,0,0,0,0,0,{"$f":"IF(MIN(GM24,GM26)=0,0,IF(GM9=\"Salaried-Other\",0,IF(GM9=\"Salaried-No reduction\",0,GM24/GM26)))","v":0},0,0,0,0,0,0,0,0,0,0,0,0,0,0,0,0,0,0,0,0,0,0,0,0,0,0,0,0,0,0,0,0,0,0,0,0,0,0,0,0,0,0,0,0,0,0,0,0,0,0,0,0,0,0,0,0,0,0,0,0,0,0,0,{"$f":"IF(MIN(IY24,IY26)=0,0,IF(IY9=\"Salaried-Other\",0,IF(IY9=\"Salaried-No reduction\",0,IY24/IY26)))","v":0},0,0,0,0,0,0,0,0,0,0,0,0,0,0,0,0,0,0,0,0,0,0,0,0,0,0,0,0,0,0,0,0,0,0,0,0,0,0,0,0,0,0,0,0,0,0,0,0,0,0,0,0,0,0,0,0,0,0,0,0,0,0,0,{"$f":"IF(MIN(LK24,LK26)=0,0,IF(LK9=\"Salaried-Other\",0,IF(LK9=\"Salaried-No reduction\",0,LK24/LK26)))","v":0},0,0,0,0,0,0,0,0,0,0,0,0,0,0,0,0,0,0,0,0,0,0,0,0,0,0,0,0,0,0,0,0,0,0,0,0,0,0,0,0,0,0,0,0,0,0,0,0,0,0,0,0,0,0,0,0,0,0,0,0,0,0,0,{"$f":"IF(MIN(NW24,NW26)=0,0,IF(NW9=\"Salaried-Other\",0,IF(NW9=\"Salaried-No reduction\",0,NW24/NW26)))","v":0},0,0,0,0,0,0,0,0,0,0,0,0,0,0,0,0,0,0,0,0,0,0,0,0,0,0,0,0,0,0,0,0,0,0,0,0,0,0,0,0,0,0,0,0,0,0,0,0,0,0,0,0,0,0,0,0,0,0,0,0,0,0,0,{"$f":"IF(MIN(QI24,QI26)=0,0,IF(QI9=\"Salaried-Other\",0,IF(QI9=\"Salaried-No reduction\",0,QI24/QI26)))","v":0},0,0,0,0,0,0,0,0,0,0,0,0,0,0,0,0,0,0,0,0,0,0,0,0,0,0,0,0,0,0,0,0,0,0,0,0,0,0,0,0,0,0,0,0,0,0,0,0,0,0,0]
[]
[]
["Maximum Compensation for the 8 Week Covered Period",null,{"$f":"100000/52*8","v":15384.615384615385},{"$f":"100000/52*8","v":15384.615384615385},15384.615384615385,15384.615384615385,15384.615384615385,15384.615384615385,15384.615384615385,15384.615384615385,15384.615384615385,15384.615384615385,15384.615384615385,15384.615384615385,15384.615384615385,15384.615384615385,15384.615384615385,15384.615384615385,15384.615384615385,15384.615384615385,15384.615384615385,15384.615384615385,15384.615384615385,15384.615384615385,15384.615384615385,15384.615384615385,15384.615384615385,15384.615384615385,15384.615384615385,15384.615384615385,15384.615384615385,15384.615384615385,15384.615384615385,15384.615384615385,15384.615384615385,15384.615384615385,15384.615384615385,15384.615384615385,15384.615384615385,15384.615384615385,15384.615384615385,15384.615384615385,15384.615384615385,15384.615384615385,15384.615384615385,15384.615384615385,15384.615384615385,15384.615384615385,15384.615384615385,15384.615384615385,15384.615384615385,15384.615384615385,15384.615384615385,15384.615384615385,15384.615384615385,15384.615384615385,15384.615384615385,15384.615384615385,15384.615384615385,15384.615384615385,15384.615384615385,15384.615384615385,15384.615384615385,15384.615384615385,15384.615384615385,15384.615384615385,15384.615384615385,{"$f":"100000/52*8","v":15384.615384615385},15384.615384615385,15384.615384615385,15384.615384615385,15384.615384615385,15384.615384615385,15384.615384615385,15384.615384615385,15384.615384615385,15384.615384615385,15384.615384615385,15384.615384615385,15384.615384615385,15384.615384615385,15384.615384615385,15384.615384615385,15384.615384615385,15384.615384615385,15384.615384615385,15384.615384615385,15384.615384615385,15384.615384615385,15384.615384615385,15384.615384615385,15384.615384615385,15384.615384615385,15384.615384615385,15384.615384615385,15384.615384615385,15384.615384615385,15384.615384615385,15384.615384615385,15384.615384615385,15384.615384615385,15384.615384615385,15384.615384615385,15384.615384615385,15384.615384615385,15384.615384615385,15384.615384615385,15384.615384615385,15384.615384615385,15384.615384615385,15384.615384615385,15384.615384615385,15384.615384615385,15384.615384615385,15384.615384615385,15384.615384615385,15384.615384615385,15384.615384615385,15384.615384615385,15384.615384615385,15384.615384615385,15384.615384615385,15384.615384615385,15384.615384615385,15384.615384615385,15384.615384615385,15384.615384615385,15384.615384615385,15384.615384615385,15384.615384615385,15384.615384615385,{"$f":"100000/52*8","v":15384.615384615385},15384.615384615385,15384.615384615385,15384.615384615385,15384.615384615385,15384.615384615385,15384.615384615385,15384.615384615385,15384.615384615385,15384.615384615385,15384.615384615385,15384.615384615385,15384.615384615385,15384.615384615385,15384.615384615385,15384.615384615385,15384.615384615385,15384.615384615385,15384.615384615385,15384.615384615385,15384.615384615385,15384.615384615385,15384.615384615385,15384.615384615385,15384.615384615385,15384.615384615385,15384.615384615385,15384.615384615385,15384.615384615385,15384.615384615385,15384.615384615385,15384.615384615385,15384.615384615385,15384.615384615385,15384.615384615385,15384.615384615385,15384.615384615385,15384.615384615385,15384.615384615385,15384.615384615385,15384.615384615385,15384.615384615385,15384.615384615385,15384.615384615385,15384.615384615385,15384.615384615385,15384.615384615385,15384.615384615385,15384.615384615385,15384.615384615385,15384.615384615385,15384.615384615385,15384.615384615385,15384.615384615385,15384.615384615385,15384.615384615385,15384.615384615385,15384.615384615385,15384.615384615385,15384.615384615385,15384.615384615385,15384.615384615385,15384.615384615385,15384.615384615385,{"$f":"100000/52*8","v":15384.615384615385},15384.615384615385,15384.615384615385,15384.615384615385,15384.615384615385,15384.615384615385,15384.615384615385,15384.615384615385,15384.615384615385,15384.615384615385,15384.615384615385,15384.615384615385,15384.615384615385,15384.615384615385,15384.615384615385,15384.615384615385,15384.615384615385,15384.615384615385,15384.615384615385,15384.615384615385,15384.615384615385,15384.615384615385,15384.615384615385,15384.615384615385,15384.615384615385,15384.615384615385,15384.615384615385,15384.615384615385,15384.615384615385,15384.615384615385,15384.615384615385,15384.615384615385,15384.615384615385,15384.615384615385,15384.615384615385,15384.615384615385,15384.615384615385,15384.615384615385,15384.615384615385,15384.615384615385,15384.615384615385,15384.615384615385,15384.615384615385,15384.615384615385,15384.615384615385,15384.615384615385,15384.615384615385,15384.615384615385,15384.615384615385,15384.615384615385,15384.615384615385,15384.615384615385,15384.615384615385,15384.615384615385,15384.615384615385,15384.615384615385,15384.615384615385,15384.615384615385,15384.615384615385,15384.615384615385,15384.615384615385,15384.615384615385,15384.615384615385,15384.615384615385,{"$f":"100000/52*8","v":15384.615384615385},15384.615384615385,15384.615384615385,15384.615384615385,15384.615384615385,15384.615384615385,15384.615384615385,15384.615384615385,15384.615384615385,15384.615384615385,15384.615384615385,15384.615384615385,15384.615384615385,15384.615384615385,15384.615384615385,15384.615384615385,15384.615384615385,15384.615384615385,15384.615384615385,15384.615384615385,15384.615384615385,15384.615384615385,15384.615384615385,15384.615384615385,15384.615384615385,15384.615384615385,15384.615384615385,15384.615384615385,15384.615384615385,15384.615384615385,15384.615384615385,15384.615384615385,15384.615384615385,15384.615384615385,15384.615384615385,15384.615384615385,15384.615384615385,15384.615384615385,15384.615384615385,15384.615384615385,15384.615384615385,15384.615384615385,15384.615384615385,15384.615384615385,15384.615384615385,15384.615384615385,15384.615384615385,15384.615384615385,15384.615384615385,15384.615384615385,15384.615384615385,15384.615384615385,15384.615384615385,15384.615384615385,15384.615384615385,15384.615384615385,15384.615384615385,15384.615384615385,15384.615384615385,15384.615384615385,15384.615384615385,15384.615384615385,15384.615384615385,15384.615384615385,{"$f":"100000/52*8","v":15384.615384615385},15384.615384615385,15384.615384615385,15384.615384615385,15384.615384615385,15384.615384615385,15384.615384615385,15384.615384615385,15384.615384615385,15384.615384615385,15384.615384615385,15384.615384615385,15384.615384615385,15384.615384615385,15384.615384615385,15384.615384615385,15384.615384615385,15384.615384615385,15384.615384615385,15384.615384615385,15384.615384615385,15384.615384615385,15384.615384615385,15384.615384615385,15384.615384615385,15384.615384615385,15384.615384615385,15384.615384615385,15384.615384615385,15384.615384615385,15384.615384615385,15384.615384615385,15384.615384615385,15384.615384615385,15384.615384615385,15384.615384615385,15384.615384615385,15384.615384615385,15384.615384615385,15384.615384615385,15384.615384615385,15384.615384615385,15384.615384615385,15384.615384615385,15384.615384615385,15384.615384615385,15384.615384615385,15384.615384615385,15384.615384615385,15384.615384615385,15384.615384615385,15384.615384615385,15384.615384615385,15384.615384615385,15384.615384615385,15384.615384615385,15384.615384615385,15384.615384615385,15384.615384615385,15384.615384615385,15384.615384615385,15384.615384615385,15384.615384615385,15384.615384615385,{"$f":"100000/52*8","v":15384.615384615385},15384.615384615385,15384.615384615385,15384.615384615385,15384.615384615385,15384.615384615385,15384.615384615385,15384.615384615385,15384.615384615385,15384.615384615385,15384.615384615385,15384.615384615385,15384.615384615385,15384.615384615385,15384.615384615385,15384.615384615385,15384.615384615385,15384.615384615385,15384.615384615385,15384.615384615385,15384.615384615385,15384.615384615385,15384.615384615385,15384.615384615385,15384.615384615385,15384.615384615385,15384.615384615385,15384.615384615385,15384.615384615385,15384.615384615385,15384.615384615385,15384.615384615385,15384.615384615385,15384.615384615385,15384.615384615385,15384.615384615385,15384.615384615385,15384.615384615385,15384.615384615385,15384.615384615385,15384.615384615385,15384.615384615385,15384.615384615385,15384.615384615385,15384.615384615385,15384.615384615385,15384.615384615385,15384.615384615385,15384.615384615385,15384.615384615385,15384.615384615385,15384.615384615385,15384.615384615385,15384.615384615385,15384.615384615385,15384.615384615385,15384.615384615385,15384.615384615385,15384.615384615385,15384.615384615385,15384.615384615385,15384.615384615385,15384.615384615385,15384.615384615385,{"$f":"100000/52*8","v":15384.615384615385},15384.615384615385,15384.615384615385,15384.615384615385,15384.615384615385,15384.615384615385,15384.615384615385,15384.615384615385,15384.615384615385,15384.615384615385,15384.615384615385,15384.615384615385,15384.615384615385,15384.615384615385,15384.615384615385,15384.615384615385,15384.615384615385,15384.615384615385,15384.615384615385,15384.615384615385,15384.615384615385,15384.615384615385,15384.615384615385,15384.615384615385,15384.615384615385,15384.615384615385,15384.615384615385,15384.615384615385,15384.615384615385,15384.615384615385,15384.615384615385,15384.615384615385,15384.615384615385,15384.615384615385,15384.615384615385,15384.615384615385,15384.615384615385,15384.615384615385,15384.615384615385,15384.615384615385,15384.615384615385,15384.615384615385,15384.615384615385,15384.615384615385,15384.615384615385,15384.615384615385,15384.615384615385,15384.615384615385,15384.615384615385,15384.615384615385,15384.615384615385]
[]
["Entered compensation or $100K equivalent, whichever is less",null,{"$f":"MIN(C24,C31)","v":0},0,0,0,0,0,0,0,0,0,0,0,0,0,0,0,0,0,0,0,0,0,0,0,0,0,0,0,0,0,0,0,0,0,0,0,0,0,0,0,0,0,0,0,0,0,0,0,0,0,0,0,0,0,0,0,0,0,0,0,0,0,0,0,{"$f":"MIN(BO24,BO31)","v":0},0,0,0,0,0,0,0,0,0,0,0,0,0,0,0,0,0,0,0,0,0,0,0,0,0,0,0,0,0,0,0,0,0,0,0,0,0,0,0,0,0,0,0,0,0,0,0,0,0,0,0,0,0,0,0,0,0,0,0,0,0,0,0,{"$f":"MIN(EA24,EA31)","v":0},0,0,0,0,0,0,0,0,0,0,0,0,0,0,0,0,0,0,0,0,0,0,0,0,0,0,0,0,0,0,0,0,0,0,0,0,0,0,0,0,0,0,0,0,0,0,0,0,0,0,0,0,0,0,0,0,0,0,0,0,0,0,0,{"$f":"MIN(GM24,GM31)","v":0},0,0,0,0,0,0,0,0,0,0,0,0,0,0,0,0,0,0,0,0,0,0,0,0,0,0,0,0,0,0,0,0,0,0,0,0,0,0,0,0,0,0,0,0,0,0,0,0,0,0,0,0,0,0,0,0,0,0,0,0,0,0,0,{"$f":"MIN(IY24,IY31)","v":0},0,0,0,0,0,0,0,0,0,0,0,0,0,0,0,0,0,0,0,0,0,0,0,0,0,0,0,0,0,0,0,0,0,0,0,0,0,0,0,0,0,0,0,0,0,0,0,0,0,0,0,0,0,0,0,0,0,0,0,0,0,0,0,{"$f":"MIN(LK24,LK31)","v":0},0,0,0,0,0,0,0,0,0,0,0,0,0,0,0,0,0,0,0,0,0,0,0,0,0,0,0,0,0,0,0,0,0,0,0,0,0,0,0,0,0,0,0,0,0,0,0,0,0,0,0,0,0,0,0,0,0,0,0,0,0,0,0,{"$f":"MIN(NW24,NW31)","v":0},0,0,0,0,0,0,0,0,0,0,0,0,0,0,0,0,0,0,0,0,0,0,0,0,0,0,0,0,0,0,0,0,0,0,0,0,0,0,0,0,0,0,0,0,0,0,0,0,0,0,0,0,0,0,0,0,0,0,0,0,0,0,0,{"$f":"MIN(QI24,QI31)","v":0},0,0,0,0,0,0,0,0,0,0,0,0,0,0,0,0,0,0,0,0,0,0,0,0,0,0,0,0,0,0,0,0,0,0,0,0,0,0,0,0,0,0,0,0,0,0,0,0,0,0,0]
[]
["Compensation of Full Quarter Prior To The Loan (ex - 1Q 2020)",null,{"$f":"'6 - Input sheet - Employee data'!C70","v":0},{"$f":"'6 - Input sheet - Employee data'!D70","v":0},{"$f":"'6 - Input sheet - Employee data'!E70","v":0},{"$f":"'6 - Input sheet - Employee data'!F70","v":0},{"$f":"'6 - Input sheet - Employee data'!G70","v":0},{"$f":"'6 - Input sheet - Employee data'!H70","v":0},{"$f":"'6 - Input sheet - Employee data'!I70","v":0},{"$f":"'6 - Input sheet - Employee data'!J70","v":0},{"$f":"'6 - Input sheet - Employee data'!K70","v":0},{"$f":"'6 - Input sheet - Employee data'!L70","v":0},{"$f":"'6 - Input sheet - Employee data'!M70","v":0},{"$f":"'6 - Input sheet - Employee data'!N70","v":0},{"$f":"'6 - Input sheet - Employee data'!O70","v":0},{"$f":"'6 - Input sheet - Employee data'!P70","v":0},{"$f":"'6 - Input sheet - Employee data'!Q70","v":0},{"$f":"'6 - Input sheet - Employee data'!R70","v":0},{"$f":"'6 - Input sheet - Employee data'!S70","v":0},{"$f":"'6 - Input sheet - Employee data'!T70","v":0},{"$f":"'6 - Input sheet - Employee data'!U70","v":0},{"$f":"'6 - Input sheet - Employee data'!V70","v":0},{"$f":"'6 - Input sheet - Employee data'!W70","v":0},{"$f":"'6 - Input sheet - Employee data'!X70","v":0},{"$f":"'6 - Input sheet - Employee data'!Y70","v":0},{"$f":"'6 - Input sheet - Employee data'!Z70","v":0},{"$f":"'6 - Input sheet - Employee data'!AA70","v":0},{"$f":"'6 - Input sheet - Employee data'!AB70","v":0},{"$f":"'6 - Input sheet - Employee data'!AC70","v":0},{"$f":"'6 - Input sheet - Employee data'!AD70","v":0},{"$f":"'6 - Input sheet - Employee data'!AE70","v":0},{"$f":"'6 - Input sheet - Employee data'!AF70","v":0},{"$f":"'6 - Input sheet - Employee data'!AG70","v":0},{"$f":"'6 - Input sheet - Employee data'!AH70","v":0},{"$f":"'6 - Input sheet - Employee data'!AI70","v":0},{"$f":"'6 - Input sheet - Employee data'!AJ70","v":0},{"$f":"'6 - Input sheet - Employee data'!AK70","v":0},{"$f":"'6 - Input sheet - Employee data'!AL70","v":0},{"$f":"'6 - Input sheet - Employee data'!AM70","v":0},{"$f":"'6 - Input sheet - Employee data'!AN70","v":0},{"$f":"'6 - Input sheet - Employee data'!AO70","v":0},{"$f":"'6 - Input sheet - Employee data'!AP70","v":0},{"$f":"'6 - Input sheet - Employee data'!AQ70","v":0},{"$f":"'6 - Input sheet - Employee data'!AR70","v":0},{"$f":"'6 - Input sheet - Employee data'!AS70","v":0},{"$f":"'6 - Input sheet - Employee data'!AT70","v":0},{"$f":"'6 - Input sheet - Employee data'!AU70","v":0},{"$f":"'6 - Input sheet - Employee data'!AV70","v":0},{"$f":"'6 - Input sheet - Employee data'!AW70","v":0},{"$f":"'6 - Input sheet - Employee data'!AX70","v":0},{"$f":"'6 - Input sheet - Employee data'!AY70","v":0},{"$f":"'6 - Input sheet - Employee data'!AZ70","v":0},{"$f":"'6 - Input sheet - Employee data'!BA70","v":0},{"$f":"'6 - Input sheet - Employee data'!BB70","v":0},{"$f":"'6 - Input sheet - Employee data'!BC70","v":0},{"$f":"'6 - Input sheet - Employee data'!BD70","v":0},{"$f":"'6 - Input sheet - Employee data'!BE70","v":0},{"$f":"'6 - Input sheet - Employee data'!BF70","v":0},{"$f":"'6 - Input sheet - Employee data'!BG70","v":0},{"$f":"'6 - Input sheet - Employee data'!BH70","v":0},{"$f":"'6 - Input sheet - Employee data'!BI70","v":0},{"$f":"'6 - Input sheet - Employee data'!BJ70","v":0},{"$f":"'6 - Input sheet - Employee data'!BK70","v":0},{"$f":"'6 - Input sheet - Employee data'!BL70","v":0},{"$f":"'6 - Input sheet - Employee data'!BM70","v":0},{"$f":"'6 - Input sheet - Employee data'!BN70","v":0},{"$f":"'6 - Input sheet - Employee data'!BO70","v":0},{"$f":"'6 - Input sheet - Employee data'!BP70","v":0},{"$f":"'6 - Input sheet - Employee data'!BQ70","v":0},{"$f":"'6 - Input sheet - Employee data'!BR70","v":0},{"$f":"'6 - Input sheet - Employee data'!BS70","v":0},{"$f":"'6 - Input sheet - Employee data'!BT70","v":0},{"$f":"'6 - Input sheet - Employee data'!BU70","v":0},{"$f":"'6 - Input sheet - Employee data'!BV70","v":0},{"$f":"'6 - Input sheet - Employee data'!BW70","v":0},{"$f":"'6 - Input sheet - Employee data'!BX70","v":0},{"$f":"'6 - Input sheet - Employee data'!BY70","v":0},{"$f":"'6 - Input sheet - Employee data'!BZ70","v":0},{"$f":"'6 - Input sheet - Employee data'!CA70","v":0},{"$f":"'6 - Input sheet - Employee data'!CB70","v":0},{"$f":"'6 - Input sheet - Employee data'!CC70","v":0},{"$f":"'6 - Input sheet - Employee data'!CD70","v":0},{"$f":"'6 - Input sheet - Employee data'!CE70","v":0},{"$f":"'6 - Input sheet - Employee data'!CF70","v":0},{"$f":"'6 - Input sheet - Employee data'!CG70","v":0},{"$f":"'6 - Input sheet - Employee data'!CH70","v":0},{"$f":"'6 - Input sheet - Employee data'!CI70","v":0},{"$f":"'6 - Input sheet - Employee data'!CJ70","v":0},{"$f":"'6 - Input sheet - Employee data'!CK70","v":0},{"$f":"'6 - Input sheet - Employee data'!CL70","v":0},{"$f":"'6 - Input sheet - Employee data'!CM70","v":0},{"$f":"'6 - Input sheet - Employee data'!CN70","v":0},{"$f":"'6 - Input sheet - Employee data'!CO70","v":0},{"$f":"'6 - Input sheet - Employee data'!CP70","v":0},{"$f":"'6 - Input sheet - Employee data'!CQ70","v":0},{"$f":"'6 - Input sheet - Employee data'!CR70","v":0},{"$f":"'6 - Input sheet - Employee data'!CS70","v":0},{"$f":"'6 - Input sheet - Employee data'!CT70","v":0},{"$f":"'6 - Input sheet - Employee data'!CU70","v":0},{"$f":"'6 - Input sheet - Employee data'!CV70","v":0},{"$f":"'6 - Input sheet - Employee data'!CW70","v":0},{"$f":"'6 - Input sheet - Employee data'!CX70","v":0},{"$f":"'6 - Input sheet - Employee data'!CY70","v":0},{"$f":"'6 - Input sheet - Employee data'!CZ70","v":0},{"$f":"'6 - Input sheet - Employee data'!DA70","v":0},{"$f":"'6 - Input sheet - Employee data'!DB70","v":0},{"$f":"'6 - Input sheet - Employee data'!DC70","v":0},{"$f":"'6 - Input sheet - Employee data'!DD70","v":0},{"$f":"'6 - Input sheet - Employee data'!DE70","v":0},{"$f":"'6 - Input sheet - Employee data'!DF70","v":0},{"$f":"'6 - Input sheet - Employee data'!DG70","v":0},{"$f":"'6 - Input sheet - Employee data'!DH70","v":0},{"$f":"'6 - Input sheet - Employee data'!DI70","v":0},{"$f":"'6 - Input sheet - Employee data'!DJ70","v":0},{"$f":"'6 - Input sheet - Employee data'!DK70","v":0},{"$f":"'6 - Input sheet - Employee data'!DL70","v":0},{"$f":"'6 - Input sheet - Employee data'!DM70","v":0},{"$f":"'6 - Input sheet - Employee data'!DN70","v":0},{"$f":"'6 - Input sheet - Employee data'!DO70","v":0},{"$f":"'6 - Input sheet - Employee data'!DP70","v":0},{"$f":"'6 - Input sheet - Employee data'!DQ70","v":0},{"$f":"'6 - Input sheet - Employee data'!DR70","v":0},{"$f":"'6 - Input sheet - Employee data'!DS70","v":0},{"$f":"'6 - Input sheet - Employee data'!DT70","v":0},{"$f":"'6 - Input sheet - Employee data'!DU70","v":0},{"$f":"'6 - Input sheet - Employee data'!DV70","v":0},{"$f":"'6 - Input sheet - Employee data'!DW70","v":0},{"$f":"'6 - Input sheet - Employee data'!DX70","v":0},{"$f":"'6 - Input sheet - Employee data'!DY70","v":0},{"$f":"'6 - Input sheet - Employee data'!DZ70","v":0},{"$f":"'6 - Input sheet - Employee data'!EA70","v":0},{"$f":"'6 - Input sheet - Employee data'!EB70","v":0},{"$f":"'6 - Input sheet - Employee data'!EC70","v":0},{"$f":"'6 - Input sheet - Employee data'!ED70","v":0},{"$f":"'6 - Input sheet - Employee data'!EE70","v":0},{"$f":"'6 - Input sheet - Employee data'!EF70","v":0},{"$f":"'6 - Input sheet - Employee data'!EG70","v":0},{"$f":"'6 - Input sheet - Employee data'!EH70","v":0},{"$f":"'6 - Input sheet - Employee data'!EI70","v":0},{"$f":"'6 - Input sheet - Employee data'!EJ70","v":0},{"$f":"'6 - Input sheet - Employee data'!EK70","v":0},{"$f":"'6 - Input sheet - Employee data'!EL70","v":0},{"$f":"'6 - Input sheet - Employee data'!EM70","v":0},{"$f":"'6 - Input sheet - Employee data'!EN70","v":0},{"$f":"'6 - Input sheet - Employee data'!EO70","v":0},{"$f":"'6 - Input sheet - Employee data'!EP70","v":0},{"$f":"'6 - Input sheet - Employee data'!EQ70","v":0},{"$f":"'6 - Input sheet - Employee data'!ER70","v":0},{"$f":"'6 - Input sheet - Employee data'!ES70","v":0},{"$f":"'6 - Input sheet - Employee data'!ET70","v":0},{"$f":"'6 - Input sheet - Employee data'!EU70","v":0},{"$f":"'6 - Input sheet - Employee data'!EV70","v":0},{"$f":"'6 - Input sheet - Employee data'!EW70","v":0},{"$f":"'6 - Input sheet - Employee data'!EX70","v":0},{"$f":"'6 - Input sheet - Employee data'!EY70","v":0},{"$f":"'6 - Input sheet - Employee data'!EZ70","v":0},{"$f":"'6 - Input sheet - Employee data'!FA70","v":0},{"$f":"'6 - Input sheet - Employee data'!FB70","v":0},{"$f":"'6 - Input sheet - Employee data'!FC70","v":0},{"$f":"'6 - Input sheet - Employee data'!FD70","v":0},{"$f":"'6 - Input sheet - Employee data'!FE70","v":0},{"$f":"'6 - Input sheet - Employee data'!FF70","v":0},{"$f":"'6 - Input sheet - Employee data'!FG70","v":0},{"$f":"'6 - Input sheet - Employee data'!FH70","v":0},{"$f":"'6 - Input sheet - Employee data'!FI70","v":0},{"$f":"'6 - Input sheet - Employee data'!FJ70","v":0},{"$f":"'6 - Input sheet - Employee data'!FK70","v":0},{"$f":"'6 - Input sheet - Employee data'!FL70","v":0},{"$f":"'6 - Input sheet - Employee data'!FM70","v":0},{"$f":"'6 - Input sheet - Employee data'!FN70","v":0},{"$f":"'6 - Input sheet - Employee data'!FO70","v":0},{"$f":"'6 - Input sheet - Employee data'!FP70","v":0},{"$f":"'6 - Input sheet - Employee data'!FQ70","v":0},{"$f":"'6 - Input sheet - Employee data'!FR70","v":0},{"$f":"'6 - Input sheet - Employee data'!FS70","v":0},{"$f":"'6 - Input sheet - Employee data'!FT70","v":0},{"$f":"'6 - Input sheet - Employee data'!FU70","v":0},{"$f":"'6 - Input sheet - Employee data'!FV70","v":0},{"$f":"'6 - Input sheet - Employee data'!FW70","v":0},{"$f":"'6 - Input sheet - Employee data'!FX70","v":0},{"$f":"'6 - Input sheet - Employee data'!FY70","v":0},{"$f":"'6 - Input sheet - Employee data'!FZ70","v":0},{"$f":"'6 - Input sheet - Employee data'!GA70","v":0},{"$f":"'6 - Input sheet - Employee data'!GB70","v":0},{"$f":"'6 - Input sheet - Employee data'!GC70","v":0},{"$f":"'6 - Input sheet - Employee data'!GD70","v":0},{"$f":"'6 - Input sheet - Employee data'!GE70","v":0},{"$f":"'6 - Input sheet - Employee data'!GF70","v":0},{"$f":"'6 - Input sheet - Employee data'!GG70","v":0},{"$f":"'6 - Input sheet - Employee data'!GH70","v":0},{"$f":"'6 - Input sheet - Employee data'!GI70","v":0},{"$f":"'6 - Input sheet - Employee data'!GJ70","v":0},{"$f":"'6 - Input sheet - Employee data'!GK70","v":0},{"$f":"'6 - Input sheet - Employee data'!GL70","v":0},{"$f":"'6 - Input sheet - Employee data'!GM70","v":0},{"$f":"'6 - Input sheet - Employee data'!GN70","v":0},{"$f":"'6 - Input sheet - Employee data'!GO70","v":0},{"$f":"'6 - Input sheet - Employee data'!GP70","v":0},{"$f":"'6 - Input sheet - Employee data'!GQ70","v":0},{"$f":"'6 - Input sheet - Employee data'!GR70","v":0},{"$f":"'6 - Input sheet - Employee data'!GS70","v":0},{"$f":"'6 - Input sheet - Employee data'!GT70","v":0},{"$f":"'6 - Input sheet - Employee data'!GU70","v":0},{"$f":"'6 - Input sheet - Employee data'!GV70","v":0},{"$f":"'6 - Input sheet - Employee data'!GW70","v":0},{"$f":"'6 - Input sheet - Employee data'!GX70","v":0},{"$f":"'6 - Input sheet - Employee data'!GY70","v":0},{"$f":"'6 - Input sheet - Employee data'!GZ70","v":0},{"$f":"'6 - Input sheet - Employee data'!HA70","v":0},{"$f":"'6 - Input sheet - Employee data'!HB70","v":0},{"$f":"'6 - Input sheet - Employee data'!HC70","v":0},{"$f":"'6 - Input sheet - Employee data'!HD70","v":0},{"$f":"'6 - Input sheet - Employee data'!HE70","v":0},{"$f":"'6 - Input sheet - Employee data'!HF70","v":0},{"$f":"'6 - Input sheet - Employee data'!HG70","v":0},{"$f":"'6 - Input sheet - Employee data'!HH70","v":0},{"$f":"'6 - Input sheet - Employee data'!HI70","v":0},{"$f":"'6 - Input sheet - Employee data'!HJ70","v":0},{"$f":"'6 - Input sheet - Employee data'!HK70","v":0},{"$f":"'6 - Input sheet - Employee data'!HL70","v":0},{"$f":"'6 - Input sheet - Employee data'!HM70","v":0},{"$f":"'6 - Input sheet - Employee data'!HN70","v":0},{"$f":"'6 - Input sheet - Employee data'!HO70","v":0},{"$f":"'6 - Input sheet - Employee data'!HP70","v":0},{"$f":"'6 - Input sheet - Employee data'!HQ70","v":0},{"$f":"'6 - Input sheet - Employee data'!HR70","v":0},{"$f":"'6 - Input sheet - Employee data'!HS70","v":0},{"$f":"'6 - Input sheet - Employee data'!HT70","v":0},{"$f":"'6 - Input sheet - Employee data'!HU70","v":0},{"$f":"'6 - Input sheet - Employee data'!HV70","v":0},{"$f":"'6 - Input sheet - Employee data'!HW70","v":0},{"$f":"'6 - Input sheet - Employee data'!HX70","v":0},{"$f":"'6 - Input sheet - Employee data'!HY70","v":0},{"$f":"'6 - Input sheet - Employee data'!HZ70","v":0},{"$f":"'6 - Input sheet - Employee data'!IA70","v":0},{"$f":"'6 - Input sheet - Employee data'!IB70","v":0},{"$f":"'6 - Input sheet - Employee data'!IC70","v":0},{"$f":"'6 - Input sheet - Employee data'!ID70","v":0},{"$f":"'6 - Input sheet - Employee data'!IE70","v":0},{"$f":"'6 - Input sheet - Employee data'!IF70","v":0},{"$f":"'6 - Input sheet - Employee data'!IG70","v":0},{"$f":"'6 - Input sheet - Employee data'!IH70","v":0},{"$f":"'6 - Input sheet - Employee data'!II70","v":0},{"$f":"'6 - Input sheet - Employee data'!IJ70","v":0},{"$f":"'6 - Input sheet - Employee data'!IK70","v":0},{"$f":"'6 - Input sheet - Employee data'!IL70","v":0},{"$f":"'6 - Input sheet - Employee data'!IM70","v":0},{"$f":"'6 - Input sheet - Employee data'!IN70","v":0},{"$f":"'6 - Input sheet - Employee data'!IO70","v":0},{"$f":"'6 - Input sheet - Employee data'!IP70","v":0},{"$f":"'6 - Input sheet - Employee data'!IQ70","v":0},{"$f":"'6 - Input sheet - Employee data'!IR70","v":0},{"$f":"'6 - Input sheet - Employee data'!IS70","v":0},{"$f":"'6 - Input sheet - Employee data'!IT70","v":0},{"$f":"'6 - Input sheet - Employee data'!IU70","v":0},{"$f":"'6 - Input sheet - Employee data'!IV70","v":0},{"$f":"'6 - Input sheet - Employee data'!IW70","v":0},{"$f":"'6 - Input sheet - Employee data'!IX70","v":0},{"$f":"'6 - Input sheet - Employee data'!IY70","v":0},{"$f":"'6 - Input sheet - Employee data'!IZ70","v":0},{"$f":"'6 - Input sheet - Employee data'!JA70","v":0},{"$f":"'6 - Input sheet - Employee data'!JB70","v":0},{"$f":"'6 - Input sheet - Employee data'!JC70","v":0},{"$f":"'6 - Input sheet - Employee data'!JD70","v":0},{"$f":"'6 - Input sheet - Employee data'!JE70","v":0},{"$f":"'6 - Input sheet - Employee data'!JF70","v":0},{"$f":"'6 - Input sheet - Employee data'!JG70","v":0},{"$f":"'6 - Input sheet - Employee data'!JH70","v":0},{"$f":"'6 - Input sheet - Employee data'!JI70","v":0},{"$f":"'6 - Input sheet - Employee data'!JJ70","v":0},{"$f":"'6 - Input sheet - Employee data'!JK70","v":0},{"$f":"'6 - Input sheet - Employee data'!JL70","v":0},{"$f":"'6 - Input sheet - Employee data'!JM70","v":0},{"$f":"'6 - Input sheet - Employee data'!JN70","v":0},{"$f":"'6 - Input sheet - Employee data'!JO70","v":0},{"$f":"'6 - Input sheet - Employee data'!JP70","v":0},{"$f":"'6 - Input sheet - Employee data'!JQ70","v":0},{"$f":"'6 - Input sheet - Employee data'!JR70","v":0},{"$f":"'6 - Input sheet - Employee data'!JS70","v":0},{"$f":"'6 - Input sheet - Employee data'!JT70","v":0},{"$f":"'6 - Input sheet - Employee data'!JU70","v":0},{"$f":"'6 - Input sheet - Employee data'!JV70","v":0},{"$f":"'6 - Input sheet - Employee data'!JW70","v":0},{"$f":"'6 - Input sheet - Employee data'!JX70","v":0},{"$f":"'6 - Input sheet - Employee data'!JY70","v":0},{"$f":"'6 - Input sheet - Employee data'!JZ70","v":0},{"$f":"'6 - Input sheet - Employee data'!KA70","v":0},{"$f":"'6 - Input sheet - Employee data'!KB70","v":0},{"$f":"'6 - Input sheet - Employee data'!KC70","v":0},{"$f":"'6 - Input sheet - Employee data'!KD70","v":0},{"$f":"'6 - Input sheet - Employee data'!KE70","v":0},{"$f":"'6 - Input sheet - Employee data'!KF70","v":0},{"$f":"'6 - Input sheet - Employee data'!KG70","v":0},{"$f":"'6 - Input sheet - Employee data'!KH70","v":0},{"$f":"'6 - Input sheet - Employee data'!KI70","v":0},{"$f":"'6 - Input sheet - Employee data'!KJ70","v":0},{"$f":"'6 - Input sheet - Employee data'!KK70","v":0},{"$f":"'6 - Input sheet - Employee data'!KL70","v":0},{"$f":"'6 - Input sheet - Employee data'!KM70","v":0},{"$f":"'6 - Input sheet - Employee data'!KN70","v":0},{"$f":"'6 - Input sheet - Employee data'!KO70","v":0},{"$f":"'6 - Input sheet - Employee data'!KP70","v":0},{"$f":"'6 - Input sheet - Employee data'!KQ70","v":0},{"$f":"'6 - Input sheet - Employee data'!KR70","v":0},{"$f":"'6 - Input sheet - Employee data'!KS70","v":0},{"$f":"'6 - Input sheet - Employee data'!KT70","v":0},{"$f":"'6 - Input sheet - Employee data'!KU70","v":0},{"$f":"'6 - Input sheet - Employee data'!KV70","v":0},{"$f":"'6 - Input sheet - Employee data'!KW70","v":0},{"$f":"'6 - Input sheet - Employee data'!KX70","v":0},{"$f":"'6 - Input sheet - Employee data'!KY70","v":0},{"$f":"'6 - Input sheet - Employee data'!KZ70","v":0},{"$f":"'6 - Input sheet - Employee data'!LA70","v":0},{"$f":"'6 - Input sheet - Employee data'!LB70","v":0},{"$f":"'6 - Input sheet - Employee data'!LC70","v":0},{"$f":"'6 - Input sheet - Employee data'!LD70","v":0},{"$f":"'6 - Input sheet - Employee data'!LE70","v":0},{"$f":"'6 - Input sheet - Employee data'!LF70","v":0},{"$f":"'6 - Input sheet - Employee data'!LG70","v":0},{"$f":"'6 - Input sheet - Employee data'!LH70","v":0},{"$f":"'6 - Input sheet - Employee data'!LI70","v":0},{"$f":"'6 - Input sheet - Employee data'!LJ70","v":0},{"$f":"'6 - Input sheet - Employee data'!LK70","v":0},{"$f":"'6 - Input sheet - Employee data'!LL70","v":0},{"$f":"'6 - Input sheet - Employee data'!LM70","v":0},{"$f":"'6 - Input sheet - Employee data'!LN70","v":0},{"$f":"'6 - Input sheet - Employee data'!LO70","v":0},{"$f":"'6 - Input sheet - Employee data'!LP70","v":0},{"$f":"'6 - Input sheet - Employee data'!LQ70","v":0},{"$f":"'6 - Input sheet - Employee data'!LR70","v":0},{"$f":"'6 - Input sheet - Employee data'!LS70","v":0},{"$f":"'6 - Input sheet - Employee data'!LT70","v":0},{"$f":"'6 - Input sheet - Employee data'!LU70","v":0},{"$f":"'6 - Input sheet - Employee data'!LV70","v":0},{"$f":"'6 - Input sheet - Employee data'!LW70","v":0},{"$f":"'6 - Input sheet - Employee data'!LX70","v":0},{"$f":"'6 - Input sheet - Employee data'!LY70","v":0},{"$f":"'6 - Input sheet - Employee data'!LZ70","v":0},{"$f":"'6 - Input sheet - Employee data'!MA70","v":0},{"$f":"'6 - Input sheet - Employee data'!MB70","v":0},{"$f":"'6 - Input sheet - Employee data'!MC70","v":0},{"$f":"'6 - Input sheet - Employee data'!MD70","v":0},{"$f":"'6 - Input sheet - Employee data'!ME70","v":0},{"$f":"'6 - Input sheet - Employee data'!MF70","v":0},{"$f":"'6 - Input sheet - Employee data'!MG70","v":0},{"$f":"'6 - Input sheet - Employee data'!MH70","v":0},{"$f":"'6 - Input sheet - Employee data'!MI70","v":0},{"$f":"'6 - Input sheet - Employee data'!MJ70","v":0},{"$f":"'6 - Input sheet - Employee data'!MK70","v":0},{"$f":"'6 - Input sheet - Employee data'!ML70","v":0},{"$f":"'6 - Input sheet - Employee data'!MM70","v":0},{"$f":"'6 - Input sheet - Employee data'!MN70","v":0},{"$f":"'6 - Input sheet - Employee data'!MO70","v":0},{"$f":"'6 - Input sheet - Employee data'!MP70","v":0},{"$f":"'6 - Input sheet - Employee data'!MQ70","v":0},{"$f":"'6 - Input sheet - Employee data'!MR70","v":0},{"$f":"'6 - Input sheet - Employee data'!MS70","v":0},{"$f":"'6 - Input sheet - Employee data'!MT70","v":0},{"$f":"'6 - Input sheet - Employee data'!MU70","v":0},{"$f":"'6 - Input sheet - Employee data'!MV70","v":0},{"$f":"'6 - Input sheet - Employee data'!MW70","v":0},{"$f":"'6 - Input sheet - Employee data'!MX70","v":0},{"$f":"'6 - Input sheet - Employee data'!MY70","v":0},{"$f":"'6 - Input sheet - Employee data'!MZ70","v":0},{"$f":"'6 - Input sheet - Employee data'!NA70","v":0},{"$f":"'6 - Input sheet - Employee data'!NB70","v":0},{"$f":"'6 - Input sheet - Employee data'!NC70","v":0},{"$f":"'6 - Input sheet - Employee data'!ND70","v":0},{"$f":"'6 - Input sheet - Employee data'!NE70","v":0},{"$f":"'6 - Input sheet - Employee data'!NF70","v":0},{"$f":"'6 - Input sheet - Employee data'!NG70","v":0},{"$f":"'6 - Input sheet - Employee data'!NH70","v":0},{"$f":"'6 - Input sheet - Employee data'!NI70","v":0},{"$f":"'6 - Input sheet - Employee data'!NJ70","v":0},{"$f":"'6 - Input sheet - Employee data'!NK70","v":0},{"$f":"'6 - Input sheet - Employee data'!NL70","v":0},{"$f":"'6 - Input sheet - Employee data'!NM70","v":0},{"$f":"'6 - Input sheet - Employee data'!NN70","v":0},{"$f":"'6 - Input sheet - Employee data'!NO70","v":0},{"$f":"'6 - Input sheet - Employee data'!NP70","v":0},{"$f":"'6 - Input sheet - Employee data'!NQ70","v":0},{"$f":"'6 - Input sheet - Employee data'!NR70","v":0},{"$f":"'6 - Input sheet - Employee data'!NS70","v":0},{"$f":"'6 - Input sheet - Employee data'!NT70","v":0},{"$f":"'6 - Input sheet - Employee data'!NU70","v":0},{"$f":"'6 - Input sheet - Employee data'!NV70","v":0},{"$f":"'6 - Input sheet - Employee data'!NW70","v":0},{"$f":"'6 - Input sheet - Employee data'!NX70","v":0},{"$f":"'6 - Input sheet - Employee data'!NY70","v":0},{"$f":"'6 - Input sheet - Employee data'!NZ70","v":0},{"$f":"'6 - Input sheet - Employee data'!OA70","v":0},{"$f":"'6 - Input sheet - Employee data'!OB70","v":0},{"$f":"'6 - Input sheet - Employee data'!OC70","v":0},{"$f":"'6 - Input sheet - Employee data'!OD70","v":0},{"$f":"'6 - Input sheet - Employee data'!OE70","v":0},{"$f":"'6 - Input sheet - Employee data'!OF70","v":0},{"$f":"'6 - Input sheet - Employee data'!OG70","v":0},{"$f":"'6 - Input sheet - Employee data'!OH70","v":0},{"$f":"'6 - Input sheet - Employee data'!OI70","v":0},{"$f":"'6 - Input sheet - Employee data'!OJ70","v":0},{"$f":"'6 - Input sheet - Employee data'!OK70","v":0},{"$f":"'6 - Input sheet - Employee data'!OL70","v":0},{"$f":"'6 - Input sheet - Employee data'!OM70","v":0},{"$f":"'6 - Input sheet - Employee data'!ON70","v":0},{"$f":"'6 - Input sheet - Employee data'!OO70","v":0},{"$f":"'6 - Input sheet - Employee data'!OP70","v":0},{"$f":"'6 - Input sheet - Employee data'!OQ70","v":0},{"$f":"'6 - Input sheet - Employee data'!OR70","v":0},{"$f":"'6 - Input sheet - Employee data'!OS70","v":0},{"$f":"'6 - Input sheet - Employee data'!OT70","v":0},{"$f":"'6 - Input sheet - Employee data'!OU70","v":0},{"$f":"'6 - Input sheet - Employee data'!OV70","v":0},{"$f":"'6 - Input sheet - Employee data'!OW70","v":0},{"$f":"'6 - Input sheet - Employee data'!OX70","v":0},{"$f":"'6 - Input sheet - Employee data'!OY70","v":0},{"$f":"'6 - Input sheet - Employee data'!OZ70","v":0},{"$f":"'6 - Input sheet - Employee data'!PA70","v":0},{"$f":"'6 - Input sheet - Employee data'!PB70","v":0},{"$f":"'6 - Input sheet - Employee data'!PC70","v":0},{"$f":"'6 - Input sheet - Employee data'!PD70","v":0},{"$f":"'6 - Input sheet - Employee data'!PE70","v":0},{"$f":"'6 - Input sheet - Employee data'!PF70","v":0},{"$f":"'6 - Input sheet - Employee data'!PG70","v":0},{"$f":"'6 - Input sheet - Employee data'!PH70","v":0},{"$f":"'6 - Input sheet - Employee data'!PI70","v":0},{"$f":"'6 - Input sheet - Employee data'!PJ70","v":0},{"$f":"'6 - Input sheet - Employee data'!PK70","v":0},{"$f":"'6 - Input sheet - Employee data'!PL70","v":0},{"$f":"'6 - Input sheet - Employee data'!PM70","v":0},{"$f":"'6 - Input sheet - Employee data'!PN70","v":0},{"$f":"'6 - Input sheet - Employee data'!PO70","v":0},{"$f":"'6 - Input sheet - Employee data'!PP70","v":0},{"$f":"'6 - Input sheet - Employee data'!PQ70","v":0},{"$f":"'6 - Input sheet - Employee data'!PR70","v":0},{"$f":"'6 - Input sheet - Employee data'!PS70","v":0},{"$f":"'6 - Input sheet - Employee data'!PT70","v":0},{"$f":"'6 - Input sheet - Employee data'!PU70","v":0},{"$f":"'6 - Input sheet - Employee data'!PV70","v":0},{"$f":"'6 - Input sheet - Employee data'!PW70","v":0},{"$f":"'6 - Input sheet - Employee data'!PX70","v":0},{"$f":"'6 - Input sheet - Employee data'!PY70","v":0},{"$f":"'6 - Input sheet - Employee data'!PZ70","v":0},{"$f":"'6 - Input sheet - Employee data'!QA70","v":0},{"$f":"'6 - Input sheet - Employee data'!QB70","v":0},{"$f":"'6 - Input sheet - Employee data'!QC70","v":0},{"$f":"'6 - Input sheet - Employee data'!QD70","v":0},{"$f":"'6 - Input sheet - Employee data'!QE70","v":0},{"$f":"'6 - Input sheet - Employee data'!QF70","v":0},{"$f":"'6 - Input sheet - Employee data'!QG70","v":0},{"$f":"'6 - Input sheet - Employee data'!QH70","v":0},{"$f":"'6 - Input sheet - Employee data'!QI70","v":0},{"$f":"'6 - Input sheet - Employee data'!QJ70","v":0},{"$f":"'6 - Input sheet - Employee data'!QK70","v":0},{"$f":"'6 - Input sheet - Employee data'!QL70","v":0},{"$f":"'6 - Input sheet - Employee data'!QM70","v":0},{"$f":"'6 - Input sheet - Employee data'!QN70","v":0},{"$f":"'6 - Input sheet - Employee data'!QO70","v":0},{"$f":"'6 - Input sheet - Employee data'!QP70","v":0},{"$f":"'6 - Input sheet - Employee data'!QQ70","v":0},{"$f":"'6 - Input sheet - Employee data'!QR70","v":0},{"$f":"'6 - Input sheet - Employee data'!QS70","v":0},{"$f":"'6 - Input sheet - Employee data'!QT70","v":0},{"$f":"'6 - Input sheet - Employee data'!QU70","v":0},{"$f":"'6 - Input sheet - Employee data'!QV70","v":0},{"$f":"'6 - Input sheet - Employee data'!QW70","v":0},{"$f":"'6 - Input sheet - Employee data'!QX70","v":0},{"$f":"'6 - Input sheet - Employee data'!QY70","v":0},{"$f":"'6 - Input sheet - Employee data'!QZ70","v":0},{"$f":"'6 - Input sheet - Employee data'!RA70","v":0},{"$f":"'6 - Input sheet - Employee data'!RB70","v":0},{"$f":"'6 - Input sheet - Employee data'!RC70","v":0},{"$f":"'6 - Input sheet - Employee data'!RD70","v":0},{"$f":"'6 - Input sheet - Employee data'!RE70","v":0},{"$f":"'6 - Input sheet - Employee data'!RF70","v":0},{"$f":"'6 - Input sheet - Employee data'!RG70","v":0},{"$f":"'6 - Input sheet - Employee data'!RH70","v":0},{"$f":"'6 - Input sheet - Employee data'!RI70","v":0},{"$f":"'6 - Input sheet - Employee data'!RJ70","v":0},{"$f":"'6 - Input sheet - Employee data'!RK70","v":0},{"$f":"'6 - Input sheet - Employee data'!RL70","v":0},{"$f":"'6 - Input sheet - Employee data'!RM70","v":0},{"$f":"'6 - Input sheet - Employee data'!RN70","v":0},{"$f":"'6 - Input sheet - Employee data'!RO70","v":0},{"$f":"'6 - Input sheet - Employee data'!RP70","v":0},{"$f":"'6 - Input sheet - Employee data'!RQ70","v":0},{"$f":"'6 - Input sheet - Employee data'!RR70","v":0},{"$f":"'6 - Input sheet - Employee data'!RS70","v":0},{"$f":"'6 - Input sheet - Employee data'!RT70","v":0},{"$f":"'6 - Input sheet - Employee data'!RU70","v":0},{"$f":"'6 - Input sheet - Employee data'!RV70","v":0},{"$f":"'6 - Input sheet - Employee data'!RW70","v":0},{"$f":"'6 - Input sheet - Employee data'!RX70","v":0},{"$f":"'6 - Input sheet - Employee data'!RY70","v":0},{"$f":"'6 - Input sheet - Employee data'!RZ70","v":0},{"$f":"'6 - Input sheet - Employee data'!SA70","v":0},{"$f":"'6 - Input sheet - Employee data'!SB70","v":0},{"$f":"'6 - Input sheet - Employee data'!SC70","v":0},{"$f":"'6 - Input sheet - Employee data'!SD70","v":0},{"$f":"'6 - Input sheet - Employee data'!SE70","v":0},{"$f":"'6 - Input sheet - Employee data'!SF70","v":0},{"$f":"'6 - Input sheet - Employee data'!SG70","v":0},{"$f":"'6 - Input sheet - Employee data'!SH70","v":0}]
["Total hours worked in 1Q 2020 (if hourly)",null,{"$f":"'6 - Input sheet - Employee data'!C71","v":0},{"$f":"'6 - Input sheet - Employee data'!D71","v":0},{"$f":"'6 - Input sheet - Employee data'!E71","v":0},{"$f":"'6 - Input sheet - Employee data'!F71","v":0},{"$f":"'6 - Input sheet - Employee data'!G71","v":0},{"$f":"'6 - Input sheet - Employee data'!H71","v":0},{"$f":"'6 - Input sheet - Employee data'!I71","v":0},{"$f":"'6 - Input sheet - Employee data'!J71","v":0},{"$f":"'6 - Input sheet - Employee data'!K71","v":0},{"$f":"'6 - Input sheet - Employee data'!L71","v":0},{"$f":"'6 - Input sheet - Employee data'!M71","v":0},{"$f":"'6 - Input sheet - Employee data'!N71","v":0},{"$f":"'6 - Input sheet - Employee data'!O71","v":0},{"$f":"'6 - Input sheet - Employee data'!P71","v":0},{"$f":"'6 - Input sheet - Employee data'!Q71","v":0},{"$f":"'6 - Input sheet - Employee data'!R71","v":0},{"$f":"'6 - Input sheet - Employee data'!S71","v":0},{"$f":"'6 - Input sheet - Employee data'!T71","v":0},{"$f":"'6 - Input sheet - Employee data'!U71","v":0},{"$f":"'6 - Input sheet - Employee data'!V71","v":0},{"$f":"'6 - Input sheet - Employee data'!W71","v":0},{"$f":"'6 - Input sheet - Employee data'!X71","v":0},{"$f":"'6 - Input sheet - Employee data'!Y71","v":0},{"$f":"'6 - Input sheet - Employee data'!Z71","v":0},{"$f":"'6 - Input sheet - Employee data'!AA71","v":0},{"$f":"'6 - Input sheet - Employee data'!AB71","v":0},{"$f":"'6 - Input sheet - Employee data'!AC71","v":0},{"$f":"'6 - Input sheet - Employee data'!AD71","v":0},{"$f":"'6 - Input sheet - Employee data'!AE71","v":0},{"$f":"'6 - Input sheet - Employee data'!AF71","v":0},{"$f":"'6 - Input sheet - Employee data'!AG71","v":0},{"$f":"'6 - Input sheet - Employee data'!AH71","v":0},{"$f":"'6 - Input sheet - Employee data'!AI71","v":0},{"$f":"'6 - Input sheet - Employee data'!AJ71","v":0},{"$f":"'6 - Input sheet - Employee data'!AK71","v":0},{"$f":"'6 - Input sheet - Employee data'!AL71","v":0},{"$f":"'6 - Input sheet - Employee data'!AM71","v":0},{"$f":"'6 - Input sheet - Employee data'!AN71","v":0},{"$f":"'6 - Input sheet - Employee data'!AO71","v":0},{"$f":"'6 - Input sheet - Employee data'!AP71","v":0},{"$f":"'6 - Input sheet - Employee data'!AQ71","v":0},{"$f":"'6 - Input sheet - Employee data'!AR71","v":0},{"$f":"'6 - Input sheet - Employee data'!AS71","v":0},{"$f":"'6 - Input sheet - Employee data'!AT71","v":0},{"$f":"'6 - Input sheet - Employee data'!AU71","v":0},{"$f":"'6 - Input sheet - Employee data'!AV71","v":0},{"$f":"'6 - Input sheet - Employee data'!AW71","v":0},{"$f":"'6 - Input sheet - Employee data'!AX71","v":0},{"$f":"'6 - Input sheet - Employee data'!AY71","v":0},{"$f":"'6 - Input sheet - Employee data'!AZ71","v":0},{"$f":"'6 - Input sheet - Employee data'!BA71","v":0},{"$f":"'6 - Input sheet - Employee data'!BB71","v":0},{"$f":"'6 - Input sheet - Employee data'!BC71","v":0},{"$f":"'6 - Input sheet - Employee data'!BD71","v":0},{"$f":"'6 - Input sheet - Employee data'!BE71","v":0},{"$f":"'6 - Input sheet - Employee data'!BF71","v":0},{"$f":"'6 - Input sheet - Employee data'!BG71","v":0},{"$f":"'6 - Input sheet - Employee data'!BH71","v":0},{"$f":"'6 - Input sheet - Employee data'!BI71","v":0},{"$f":"'6 - Input sheet - Employee data'!BJ71","v":0},{"$f":"'6 - Input sheet - Employee data'!BK71","v":0},{"$f":"'6 - Input sheet - Employee data'!BL71","v":0},{"$f":"'6 - Input sheet - Employee data'!BM71","v":0},{"$f":"'6 - Input sheet - Employee data'!BN71","v":0},{"$f":"'6 - Input sheet - Employee data'!BO71","v":0},{"$f":"'6 - Input sheet - Employee data'!BP71","v":0},{"$f":"'6 - Input sheet - Employee data'!BQ71","v":0},{"$f":"'6 - Input sheet - Employee data'!BR71","v":0},{"$f":"'6 - Input sheet - Employee data'!BS71","v":0},{"$f":"'6 - Input sheet - Employee data'!BT71","v":0},{"$f":"'6 - Input sheet - Employee data'!BU71","v":0},{"$f":"'6 - Input sheet - Employee data'!BV71","v":0},{"$f":"'6 - Input sheet - Employee data'!BW71","v":0},{"$f":"'6 - Input sheet - Employee data'!BX71","v":0},{"$f":"'6 - Input sheet - Employee data'!BY71","v":0},{"$f":"'6 - Input sheet - Employee data'!BZ71","v":0},{"$f":"'6 - Input sheet - Employee data'!CA71","v":0},{"$f":"'6 - Input sheet - Employee data'!CB71","v":0},{"$f":"'6 - Input sheet - Employee data'!CC71","v":0},{"$f":"'6 - Input sheet - Employee data'!CD71","v":0},{"$f":"'6 - Input sheet - Employee data'!CE71","v":0},{"$f":"'6 - Input sheet - Employee data'!CF71","v":0},{"$f":"'6 - Input sheet - Employee data'!CG71","v":0},{"$f":"'6 - Input sheet - Employee data'!CH71","v":0},{"$f":"'6 - Input sheet - Employee data'!CI71","v":0},{"$f":"'6 - Input sheet - Employee data'!CJ71","v":0},{"$f":"'6 - Input sheet - Employee data'!CK71","v":0},{"$f":"'6 - Input sheet - Employee data'!CL71","v":0},{"$f":"'6 - Input sheet - Employee data'!CM71","v":0},{"$f":"'6 - Input sheet - Employee data'!CN71","v":0},{"$f":"'6 - Input sheet - Employee data'!CO71","v":0},{"$f":"'6 - Input sheet - Employee data'!CP71","v":0},{"$f":"'6 - Input sheet - Employee data'!CQ71","v":0},{"$f":"'6 - Input sheet - Employee data'!CR71","v":0},{"$f":"'6 - Input sheet - Employee data'!CS71","v":0},{"$f":"'6 - Input sheet - Employee data'!CT71","v":0},{"$f":"'6 - Input sheet - Employee data'!CU71","v":0},{"$f":"'6 - Input sheet - Employee data'!CV71","v":0},{"$f":"'6 - Input sheet - Employee data'!CW71","v":0},{"$f":"'6 - Input sheet - Employee data'!CX71","v":0},{"$f":"'6 - Input sheet - Employee data'!CY71","v":0},{"$f":"'6 - Input sheet - Employee data'!CZ71","v":0},{"$f":"'6 - Input sheet - Employee data'!DA71","v":0},{"$f":"'6 - Input sheet - Employee data'!DB71","v":0},{"$f":"'6 - Input sheet - Employee data'!DC71","v":0},{"$f":"'6 - Input sheet - Employee data'!DD71","v":0},{"$f":"'6 - Input sheet - Employee data'!DE71","v":0},{"$f":"'6 - Input sheet - Employee data'!DF71","v":0},{"$f":"'6 - Input sheet - Employee data'!DG71","v":0},{"$f":"'6 - Input sheet - Employee data'!DH71","v":0},{"$f":"'6 - Input sheet - Employee data'!DI71","v":0},{"$f":"'6 - Input sheet - Employee data'!DJ71","v":0},{"$f":"'6 - Input sheet - Employee data'!DK71","v":0},{"$f":"'6 - Input sheet - Employee data'!DL71","v":0},{"$f":"'6 - Input sheet - Employee data'!DM71","v":0},{"$f":"'6 - Input sheet - Employee data'!DN71","v":0},{"$f":"'6 - Input sheet - Employee data'!DO71","v":0},{"$f":"'6 - Input sheet - Employee data'!DP71","v":0},{"$f":"'6 - Input sheet - Employee data'!DQ71","v":0},{"$f":"'6 - Input sheet - Employee data'!DR71","v":0},{"$f":"'6 - Input sheet - Employee data'!DS71","v":0},{"$f":"'6 - Input sheet - Employee data'!DT71","v":0},{"$f":"'6 - Input sheet - Employee data'!DU71","v":0},{"$f":"'6 - Input sheet - Employee data'!DV71","v":0},{"$f":"'6 - Input sheet - Employee data'!DW71","v":0},{"$f":"'6 - Input sheet - Employee data'!DX71","v":0},{"$f":"'6 - Input sheet - Employee data'!DY71","v":0},{"$f":"'6 - Input sheet - Employee data'!DZ71","v":0},{"$f":"'6 - Input sheet - Employee data'!EA71","v":0},{"$f":"'6 - Input sheet - Employee data'!EB71","v":0},{"$f":"'6 - Input sheet - Employee data'!EC71","v":0},{"$f":"'6 - Input sheet - Employee data'!ED71","v":0},{"$f":"'6 - Input sheet - Employee data'!EE71","v":0},{"$f":"'6 - Input sheet - Employee data'!EF71","v":0},{"$f":"'6 - Input sheet - Employee data'!EG71","v":0},{"$f":"'6 - Input sheet - Employee data'!EH71","v":0},{"$f":"'6 - Input sheet - Employee data'!EI71","v":0},{"$f":"'6 - Input sheet - Employee data'!EJ71","v":0},{"$f":"'6 - Input sheet - Employee data'!EK71","v":0},{"$f":"'6 - Input sheet - Employee data'!EL71","v":0},{"$f":"'6 - Input sheet - Employee data'!EM71","v":0},{"$f":"'6 - Input sheet - Employee data'!EN71","v":0},{"$f":"'6 - Input sheet - Employee data'!EO71","v":0},{"$f":"'6 - Input sheet - Employee data'!EP71","v":0},{"$f":"'6 - Input sheet - Employee data'!EQ71","v":0},{"$f":"'6 - Input sheet - Employee data'!ER71","v":0},{"$f":"'6 - Input sheet - Employee data'!ES71","v":0},{"$f":"'6 - Input sheet - Employee data'!ET71","v":0},{"$f":"'6 - Input sheet - Employee data'!EU71","v":0},{"$f":"'6 - Input sheet - Employee data'!EV71","v":0},{"$f":"'6 - Input sheet - Employee data'!EW71","v":0},{"$f":"'6 - Input sheet - Employee data'!EX71","v":0},{"$f":"'6 - Input sheet - Employee data'!EY71","v":0},{"$f":"'6 - Input sheet - Employee data'!EZ71","v":0},{"$f":"'6 - Input sheet - Employee data'!FA71","v":0},{"$f":"'6 - Input sheet - Employee data'!FB71","v":0},{"$f":"'6 - Input sheet - Employee data'!FC71","v":0},{"$f":"'6 - Input sheet - Employee data'!FD71","v":0},{"$f":"'6 - Input sheet - Employee data'!FE71","v":0},{"$f":"'6 - Input sheet - Employee data'!FF71","v":0},{"$f":"'6 - Input sheet - Employee data'!FG71","v":0},{"$f":"'6 - Input sheet - Employee data'!FH71","v":0},{"$f":"'6 - Input sheet - Employee data'!FI71","v":0},{"$f":"'6 - Input sheet - Employee data'!FJ71","v":0},{"$f":"'6 - Input sheet - Employee data'!FK71","v":0},{"$f":"'6 - Input sheet - Employee data'!FL71","v":0},{"$f":"'6 - Input sheet - Employee data'!FM71","v":0},{"$f":"'6 - Input sheet - Employee data'!FN71","v":0},{"$f":"'6 - Input sheet - Employee data'!FO71","v":0},{"$f":"'6 - Input sheet - Employee data'!FP71","v":0},{"$f":"'6 - Input sheet - Employee data'!FQ71","v":0},{"$f":"'6 - Input sheet - Employee data'!FR71","v":0},{"$f":"'6 - Input sheet - Employee data'!FS71","v":0},{"$f":"'6 - Input sheet - Employee data'!FT71","v":0},{"$f":"'6 - Input sheet - Employee data'!FU71","v":0},{"$f":"'6 - Input sheet - Employee data'!FV71","v":0},{"$f":"'6 - Input sheet - Employee data'!FW71","v":0},{"$f":"'6 - Input sheet - Employee data'!FX71","v":0},{"$f":"'6 - Input sheet - Employee data'!FY71","v":0},{"$f":"'6 - Input sheet - Employee data'!FZ71","v":0},{"$f":"'6 - Input sheet - Employee data'!GA71","v":0},{"$f":"'6 - Input sheet - Employee data'!GB71","v":0},{"$f":"'6 - Input sheet - Employee data'!GC71","v":0},{"$f":"'6 - Input sheet - Employee data'!GD71","v":0},{"$f":"'6 - Input sheet - Employee data'!GE71","v":0},{"$f":"'6 - Input sheet - Employee data'!GF71","v":0},{"$f":"'6 - Input sheet - Employee data'!GG71","v":0},{"$f":"'6 - Input sheet - Employee data'!GH71","v":0},{"$f":"'6 - Input sheet - Employee data'!GI71","v":0},{"$f":"'6 - Input sheet - Employee data'!GJ71","v":0},{"$f":"'6 - Input sheet - Employee data'!GK71","v":0},{"$f":"'6 - Input sheet - Employee data'!GL71","v":0},{"$f":"'6 - Input sheet - Employee data'!GM71","v":0},{"$f":"'6 - Input sheet - Employee data'!GN71","v":0},{"$f":"'6 - Input sheet - Employee data'!GO71","v":0},{"$f":"'6 - Input sheet - Employee data'!GP71","v":0},{"$f":"'6 - Input sheet - Employee data'!GQ71","v":0},{"$f":"'6 - Input sheet - Employee data'!GR71","v":0},{"$f":"'6 - Input sheet - Employee data'!GS71","v":0},{"$f":"'6 - Input sheet - Employee data'!GT71","v":0},{"$f":"'6 - Input sheet - Employee data'!GU71","v":0},{"$f":"'6 - Input sheet - Employee data'!GV71","v":0},{"$f":"'6 - Input sheet - Employee data'!GW71","v":0},{"$f":"'6 - Input sheet - Employee data'!GX71","v":0},{"$f":"'6 - Input sheet - Employee data'!GY71","v":0},{"$f":"'6 - Input sheet - Employee data'!GZ71","v":0},{"$f":"'6 - Input sheet - Employee data'!HA71","v":0},{"$f":"'6 - Input sheet - Employee data'!HB71","v":0},{"$f":"'6 - Input sheet - Employee data'!HC71","v":0},{"$f":"'6 - Input sheet - Employee data'!HD71","v":0},{"$f":"'6 - Input sheet - Employee data'!HE71","v":0},{"$f":"'6 - Input sheet - Employee data'!HF71","v":0},{"$f":"'6 - Input sheet - Employee data'!HG71","v":0},{"$f":"'6 - Input sheet - Employee data'!HH71","v":0},{"$f":"'6 - Input sheet - Employee data'!HI71","v":0},{"$f":"'6 - Input sheet - Employee data'!HJ71","v":0},{"$f":"'6 - Input sheet - Employee data'!HK71","v":0},{"$f":"'6 - Input sheet - Employee data'!HL71","v":0},{"$f":"'6 - Input sheet - Employee data'!HM71","v":0},{"$f":"'6 - Input sheet - Employee data'!HN71","v":0},{"$f":"'6 - Input sheet - Employee data'!HO71","v":0},{"$f":"'6 - Input sheet - Employee data'!HP71","v":0},{"$f":"'6 - Input sheet - Employee data'!HQ71","v":0},{"$f":"'6 - Input sheet - Employee data'!HR71","v":0},{"$f":"'6 - Input sheet - Employee data'!HS71","v":0},{"$f":"'6 - Input sheet - Employee data'!HT71","v":0},{"$f":"'6 - Input sheet - Employee data'!HU71","v":0},{"$f":"'6 - Input sheet - Employee data'!HV71","v":0},{"$f":"'6 - Input sheet - Employee data'!HW71","v":0},{"$f":"'6 - Input sheet - Employee data'!HX71","v":0},{"$f":"'6 - Input sheet - Employee data'!HY71","v":0},{"$f":"'6 - Input sheet - Employee data'!HZ71","v":0},{"$f":"'6 - Input sheet - Employee data'!IA71","v":0},{"$f":"'6 - Input sheet - Employee data'!IB71","v":0},{"$f":"'6 - Input sheet - Employee data'!IC71","v":0},{"$f":"'6 - Input sheet - Employee data'!ID71","v":0},{"$f":"'6 - Input sheet - Employee data'!IE71","v":0},{"$f":"'6 - Input sheet - Employee data'!IF71","v":0},{"$f":"'6 - Input sheet - Employee data'!IG71","v":0},{"$f":"'6 - Input sheet - Employee data'!IH71","v":0},{"$f":"'6 - Input sheet - Employee data'!II71","v":0},{"$f":"'6 - Input sheet - Employee data'!IJ71","v":0},{"$f":"'6 - Input sheet - Employee data'!IK71","v":0},{"$f":"'6 - Input sheet - Employee data'!IL71","v":0},{"$f":"'6 - Input sheet - Employee data'!IM71","v":0},{"$f":"'6 - Input sheet - Employee data'!IN71","v":0},{"$f":"'6 - Input sheet - Employee data'!IO71","v":0},{"$f":"'6 - Input sheet - Employee data'!IP71","v":0},{"$f":"'6 - Input sheet - Employee data'!IQ71","v":0},{"$f":"'6 - Input sheet - Employee data'!IR71","v":0},{"$f":"'6 - Input sheet - Employee data'!IS71","v":0},{"$f":"'6 - Input sheet - Employee data'!IT71","v":0},{"$f":"'6 - Input sheet - Employee data'!IU71","v":0},{"$f":"'6 - Input sheet - Employee data'!IV71","v":0},{"$f":"'6 - Input sheet - Employee data'!IW71","v":0},{"$f":"'6 - Input sheet - Employee data'!IX71","v":0},{"$f":"'6 - Input sheet - Employee data'!IY71","v":0},{"$f":"'6 - Input sheet - Employee data'!IZ71","v":0},{"$f":"'6 - Input sheet - Employee data'!JA71","v":0},{"$f":"'6 - Input sheet - Employee data'!JB71","v":0},{"$f":"'6 - Input sheet - Employee data'!JC71","v":0},{"$f":"'6 - Input sheet - Employee data'!JD71","v":0},{"$f":"'6 - Input sheet - Employee data'!JE71","v":0},{"$f":"'6 - Input sheet - Employee data'!JF71","v":0},{"$f":"'6 - Input sheet - Employee data'!JG71","v":0},{"$f":"'6 - Input sheet - Employee data'!JH71","v":0},{"$f":"'6 - Input sheet - Employee data'!JI71","v":0},{"$f":"'6 - Input sheet - Employee data'!JJ71","v":0},{"$f":"'6 - Input sheet - Employee data'!JK71","v":0},{"$f":"'6 - Input sheet - Employee data'!JL71","v":0},{"$f":"'6 - Input sheet - Employee data'!JM71","v":0},{"$f":"'6 - Input sheet - Employee data'!JN71","v":0},{"$f":"'6 - Input sheet - Employee data'!JO71","v":0},{"$f":"'6 - Input sheet - Employee data'!JP71","v":0},{"$f":"'6 - Input sheet - Employee data'!JQ71","v":0},{"$f":"'6 - Input sheet - Employee data'!JR71","v":0},{"$f":"'6 - Input sheet - Employee data'!JS71","v":0},{"$f":"'6 - Input sheet - Employee data'!JT71","v":0},{"$f":"'6 - Input sheet - Employee data'!JU71","v":0},{"$f":"'6 - Input sheet - Employee data'!JV71","v":0},{"$f":"'6 - Input sheet - Employee data'!JW71","v":0},{"$f":"'6 - Input sheet - Employee data'!JX71","v":0},{"$f":"'6 - Input sheet - Employee data'!JY71","v":0},{"$f":"'6 - Input sheet - Employee data'!JZ71","v":0},{"$f":"'6 - Input sheet - Employee data'!KA71","v":0},{"$f":"'6 - Input sheet - Employee data'!KB71","v":0},{"$f":"'6 - Input sheet - Employee data'!KC71","v":0},{"$f":"'6 - Input sheet - Employee data'!KD71","v":0},{"$f":"'6 - Input sheet - Employee data'!KE71","v":0},{"$f":"'6 - Input sheet - Employee data'!KF71","v":0},{"$f":"'6 - Input sheet - Employee data'!KG71","v":0},{"$f":"'6 - Input sheet - Employee data'!KH71","v":0},{"$f":"'6 - Input sheet - Employee data'!KI71","v":0},{"$f":"'6 - Input sheet - Employee data'!KJ71","v":0},{"$f":"'6 - Input sheet - Employee data'!KK71","v":0},{"$f":"'6 - Input sheet - Employee data'!KL71","v":0},{"$f":"'6 - Input sheet - Employee data'!KM71","v":0},{"$f":"'6 - Input sheet - Employee data'!KN71","v":0},{"$f":"'6 - Input sheet - Employee data'!KO71","v":0},{"$f":"'6 - Input sheet - Employee data'!KP71","v":0},{"$f":"'6 - Input sheet - Employee data'!KQ71","v":0},{"$f":"'6 - Input sheet - Employee data'!KR71","v":0},{"$f":"'6 - Input sheet - Employee data'!KS71","v":0},{"$f":"'6 - Input sheet - Employee data'!KT71","v":0},{"$f":"'6 - Input sheet - Employee data'!KU71","v":0},{"$f":"'6 - Input sheet - Employee data'!KV71","v":0},{"$f":"'6 - Input sheet - Employee data'!KW71","v":0},{"$f":"'6 - Input sheet - Employee data'!KX71","v":0},{"$f":"'6 - Input sheet - Employee data'!KY71","v":0},{"$f":"'6 - Input sheet - Employee data'!KZ71","v":0},{"$f":"'6 - Input sheet - Employee data'!LA71","v":0},{"$f":"'6 - Input sheet - Employee data'!LB71","v":0},{"$f":"'6 - Input sheet - Employee data'!LC71","v":0},{"$f":"'6 - Input sheet - Employee data'!LD71","v":0},{"$f":"'6 - Input sheet - Employee data'!LE71","v":0},{"$f":"'6 - Input sheet - Employee data'!LF71","v":0},{"$f":"'6 - Input sheet - Employee data'!LG71","v":0},{"$f":"'6 - Input sheet - Employee data'!LH71","v":0},{"$f":"'6 - Input sheet - Employee data'!LI71","v":0},{"$f":"'6 - Input sheet - Employee data'!LJ71","v":0},{"$f":"'6 - Input sheet - Employee data'!LK71","v":0},{"$f":"'6 - Input sheet - Employee data'!LL71","v":0},{"$f":"'6 - Input sheet - Employee data'!LM71","v":0},{"$f":"'6 - Input sheet - Employee data'!LN71","v":0},{"$f":"'6 - Input sheet - Employee data'!LO71","v":0},{"$f":"'6 - Input sheet - Employee data'!LP71","v":0},{"$f":"'6 - Input sheet - Employee data'!LQ71","v":0},{"$f":"'6 - Input sheet - Employee data'!LR71","v":0},{"$f":"'6 - Input sheet - Employee data'!LS71","v":0},{"$f":"'6 - Input sheet - Employee data'!LT71","v":0},{"$f":"'6 - Input sheet - Employee data'!LU71","v":0},{"$f":"'6 - Input sheet - Employee data'!LV71","v":0},{"$f":"'6 - Input sheet - Employee data'!LW71","v":0},{"$f":"'6 - Input sheet - Employee data'!LX71","v":0},{"$f":"'6 - Input sheet - Employee data'!LY71","v":0},{"$f":"'6 - Input sheet - Employee data'!LZ71","v":0},{"$f":"'6 - Input sheet - Employee data'!MA71","v":0},{"$f":"'6 - Input sheet - Employee data'!MB71","v":0},{"$f":"'6 - Input sheet - Employee data'!MC71","v":0},{"$f":"'6 - Input sheet - Employee data'!MD71","v":0},{"$f":"'6 - Input sheet - Employee data'!ME71","v":0},{"$f":"'6 - Input sheet - Employee data'!MF71","v":0},{"$f":"'6 - Input sheet - Employee data'!MG71","v":0},{"$f":"'6 - Input sheet - Employee data'!MH71","v":0},{"$f":"'6 - Input sheet - Employee data'!MI71","v":0},{"$f":"'6 - Input sheet - Employee data'!MJ71","v":0},{"$f":"'6 - Input sheet - Employee data'!MK71","v":0},{"$f":"'6 - Input sheet - Employee data'!ML71","v":0},{"$f":"'6 - Input sheet - Employee data'!MM71","v":0},{"$f":"'6 - Input sheet - Employee data'!MN71","v":0},{"$f":"'6 - Input sheet - Employee data'!MO71","v":0},{"$f":"'6 - Input sheet - Employee data'!MP71","v":0},{"$f":"'6 - Input sheet - Employee data'!MQ71","v":0},{"$f":"'6 - Input sheet - Employee data'!MR71","v":0},{"$f":"'6 - Input sheet - Employee data'!MS71","v":0},{"$f":"'6 - Input sheet - Employee data'!MT71","v":0},{"$f":"'6 - Input sheet - Employee data'!MU71","v":0},{"$f":"'6 - Input sheet - Employee data'!MV71","v":0},{"$f":"'6 - Input sheet - Employee data'!MW71","v":0},{"$f":"'6 - Input sheet - Employee data'!MX71","v":0},{"$f":"'6 - Input sheet - Employee data'!MY71","v":0},{"$f":"'6 - Input sheet - Employee data'!MZ71","v":0},{"$f":"'6 - Input sheet - Employee data'!NA71","v":0},{"$f":"'6 - Input sheet - Employee data'!NB71","v":0},{"$f":"'6 - Input sheet - Employee data'!NC71","v":0},{"$f":"'6 - Input sheet - Employee data'!ND71","v":0},{"$f":"'6 - Input sheet - Employee data'!NE71","v":0},{"$f":"'6 - Input sheet - Employee data'!NF71","v":0},{"$f":"'6 - Input sheet - Employee data'!NG71","v":0},{"$f":"'6 - Input sheet - Employee data'!NH71","v":0},{"$f":"'6 - Input sheet - Employee data'!NI71","v":0},{"$f":"'6 - Input sheet - Employee data'!NJ71","v":0},{"$f":"'6 - Input sheet - Employee data'!NK71","v":0},{"$f":"'6 - Input sheet - Employee data'!NL71","v":0},{"$f":"'6 - Input sheet - Employee data'!NM71","v":0},{"$f":"'6 - Input sheet - Employee data'!NN71","v":0},{"$f":"'6 - Input sheet - Employee data'!NO71","v":0},{"$f":"'6 - Input sheet - Employee data'!NP71","v":0},{"$f":"'6 - Input sheet - Employee data'!NQ71","v":0},{"$f":"'6 - Input sheet - Employee data'!NR71","v":0},{"$f":"'6 - Input sheet - Employee data'!NS71","v":0},{"$f":"'6 - Input sheet - Employee data'!NT71","v":0},{"$f":"'6 - Input sheet - Employee data'!NU71","v":0},{"$f":"'6 - Input sheet - Employee data'!NV71","v":0},{"$f":"'6 - Input sheet - Employee data'!NW71","v":0},{"$f":"'6 - Input sheet - Employee data'!NX71","v":0},{"$f":"'6 - Input sheet - Employee data'!NY71","v":0},{"$f":"'6 - Input sheet - Employee data'!NZ71","v":0},{"$f":"'6 - Input sheet - Employee data'!OA71","v":0},{"$f":"'6 - Input sheet - Employee data'!OB71","v":0},{"$f":"'6 - Input sheet - Employee data'!OC71","v":0},{"$f":"'6 - Input sheet - Employee data'!OD71","v":0},{"$f":"'6 - Input sheet - Employee data'!OE71","v":0},{"$f":"'6 - Input sheet - Employee data'!OF71","v":0},{"$f":"'6 - Input sheet - Employee data'!OG71","v":0},{"$f":"'6 - Input sheet - Employee data'!OH71","v":0},{"$f":"'6 - Input sheet - Employee data'!OI71","v":0},{"$f":"'6 - Input sheet - Employee data'!OJ71","v":0},{"$f":"'6 - Input sheet - Employee data'!OK71","v":0},{"$f":"'6 - Input sheet - Employee data'!OL71","v":0},{"$f":"'6 - Input sheet - Employee data'!OM71","v":0},{"$f":"'6 - Input sheet - Employee data'!ON71","v":0},{"$f":"'6 - Input sheet - Employee data'!OO71","v":0},{"$f":"'6 - Input sheet - Employee data'!OP71","v":0},{"$f":"'6 - Input sheet - Employee data'!OQ71","v":0},{"$f":"'6 - Input sheet - Employee data'!OR71","v":0},{"$f":"'6 - Input sheet - Employee data'!OS71","v":0},{"$f":"'6 - Input sheet - Employee data'!OT71","v":0},{"$f":"'6 - Input sheet - Employee data'!OU71","v":0},{"$f":"'6 - Input sheet - Employee data'!OV71","v":0},{"$f":"'6 - Input sheet - Employee data'!OW71","v":0},{"$f":"'6 - Input sheet - Employee data'!OX71","v":0},{"$f":"'6 - Input sheet - Employee data'!OY71","v":0},{"$f":"'6 - Input sheet - Employee data'!OZ71","v":0},{"$f":"'6 - Input sheet - Employee data'!PA71","v":0},{"$f":"'6 - Input sheet - Employee data'!PB71","v":0},{"$f":"'6 - Input sheet - Employee data'!PC71","v":0},{"$f":"'6 - Input sheet - Employee data'!PD71","v":0},{"$f":"'6 - Input sheet - Employee data'!PE71","v":0},{"$f":"'6 - Input sheet - Employee data'!PF71","v":0},{"$f":"'6 - Input sheet - Employee data'!PG71","v":0},{"$f":"'6 - Input sheet - Employee data'!PH71","v":0},{"$f":"'6 - Input sheet - Employee data'!PI71","v":0},{"$f":"'6 - Input sheet - Employee data'!PJ71","v":0},{"$f":"'6 - Input sheet - Employee data'!PK71","v":0},{"$f":"'6 - Input sheet - Employee data'!PL71","v":0},{"$f":"'6 - Input sheet - Employee data'!PM71","v":0},{"$f":"'6 - Input sheet - Employee data'!PN71","v":0},{"$f":"'6 - Input sheet - Employee data'!PO71","v":0},{"$f":"'6 - Input sheet - Employee data'!PP71","v":0},{"$f":"'6 - Input sheet - Employee data'!PQ71","v":0},{"$f":"'6 - Input sheet - Employee data'!PR71","v":0},{"$f":"'6 - Input sheet - Employee data'!PS71","v":0},{"$f":"'6 - Input sheet - Employee data'!PT71","v":0},{"$f":"'6 - Input sheet - Employee data'!PU71","v":0},{"$f":"'6 - Input sheet - Employee data'!PV71","v":0},{"$f":"'6 - Input sheet - Employee data'!PW71","v":0},{"$f":"'6 - Input sheet - Employee data'!PX71","v":0},{"$f":"'6 - Input sheet - Employee data'!PY71","v":0},{"$f":"'6 - Input sheet - Employee data'!PZ71","v":0},{"$f":"'6 - Input sheet - Employee data'!QA71","v":0},{"$f":"'6 - Input sheet - Employee data'!QB71","v":0},{"$f":"'6 - Input sheet - Employee data'!QC71","v":0},{"$f":"'6 - Input sheet - Employee data'!QD71","v":0},{"$f":"'6 - Input sheet - Employee data'!QE71","v":0},{"$f":"'6 - Input sheet - Employee data'!QF71","v":0},{"$f":"'6 - Input sheet - Employee data'!QG71","v":0},{"$f":"'6 - Input sheet - Employee data'!QH71","v":0},{"$f":"'6 - Input sheet - Employee data'!QI71","v":0},{"$f":"'6 - Input sheet - Employee data'!QJ71","v":0},{"$f":"'6 - Input sheet - Employee data'!QK71","v":0},{"$f":"'6 - Input sheet - Employee data'!QL71","v":0},{"$f":"'6 - Input sheet - Employee data'!QM71","v":0},{"$f":"'6 - Input sheet - Employee data'!QN71","v":0},{"$f":"'6 - Input sheet - Employee data'!QO71","v":0},{"$f":"'6 - Input sheet - Employee data'!QP71","v":0},{"$f":"'6 - Input sheet - Employee data'!QQ71","v":0},{"$f":"'6 - Input sheet - Employee data'!QR71","v":0},{"$f":"'6 - Input sheet - Employee data'!QS71","v":0},{"$f":"'6 - Input sheet - Employee data'!QT71","v":0},{"$f":"'6 - Input sheet - Employee data'!QU71","v":0},{"$f":"'6 - Input sheet - Employee data'!QV71","v":0},{"$f":"'6 - Input sheet - Employee data'!QW71","v":0},{"$f":"'6 - Input sheet - Employee data'!QX71","v":0},{"$f":"'6 - Input sheet - Employee data'!QY71","v":0},{"$f":"'6 - Input sheet - Employee data'!QZ71","v":0},{"$f":"'6 - Input sheet - Employee data'!RA71","v":0},{"$f":"'6 - Input sheet - Employee data'!RB71","v":0},{"$f":"'6 - Input sheet - Employee data'!RC71","v":0},{"$f":"'6 - Input sheet - Employee data'!RD71","v":0},{"$f":"'6 - Input sheet - Employee data'!RE71","v":0},{"$f":"'6 - Input sheet - Employee data'!RF71","v":0},{"$f":"'6 - Input sheet - Employee data'!RG71","v":0},{"$f":"'6 - Input sheet - Employee data'!RH71","v":0},{"$f":"'6 - Input sheet - Employee data'!RI71","v":0},{"$f":"'6 - Input sheet - Employee data'!RJ71","v":0},{"$f":"'6 - Input sheet - Employee data'!RK71","v":0},{"$f":"'6 - Input sheet - Employee data'!RL71","v":0},{"$f":"'6 - Input sheet - Employee data'!RM71","v":0},{"$f":"'6 - Input sheet - Employee data'!RN71","v":0},{"$f":"'6 - Input sheet - Employee data'!RO71","v":0},{"$f":"'6 - Input sheet - Employee data'!RP71","v":0},{"$f":"'6 - Input sheet - Employee data'!RQ71","v":0},{"$f":"'6 - Input sheet - Employee data'!RR71","v":0},{"$f":"'6 - Input sheet - Employee data'!RS71","v":0},{"$f":"'6 - Input sheet - Employee data'!RT71","v":0},{"$f":"'6 - Input sheet - Employee data'!RU71","v":0},{"$f":"'6 - Input sheet - Employee data'!RV71","v":0},{"$f":"'6 - Input sheet - Employee data'!RW71","v":0},{"$f":"'6 - Input sheet - Employee data'!RX71","v":0},{"$f":"'6 - Input sheet - Employee data'!RY71","v":0},{"$f":"'6 - Input sheet - Employee data'!RZ71","v":0},{"$f":"'6 - Input sheet - Employee data'!SA71","v":0},{"$f":"'6 - Input sheet - Employee data'!SB71","v":0},{"$f":"'6 - Input sheet - Employee data'!SC71","v":0},{"$f":"'6 - Input sheet - Employee data'!SD71","v":0},{"$f":"'6 - Input sheet - Employee data'!SE71","v":0},{"$f":"'6 - Input sheet - Employee data'!SF71","v":0},{"$f":"'6 - Input sheet - Employee data'!SG71","v":0},{"$f":"'6 - Input sheet - Employee data'!SH71","v":0}]
[]
["Average Rate for the 1Q 2020",null,{"$f":"IF(MIN(C35,C36)=0,0,IF(C9=\"Salaried-Other\",0,IF(C9=\"Salaried-No reduction\",0,C35/C36)))","v":0},0,0,0,0,0,0,0,0,0,0,0,0,0,0,0,0,0,0,0,0,0,0,0,0,0,0,0,0,0,0,0,0,0,0,0,0,0,0,0,0,0,0,0,0,0,0,0,0,0,0,0,0,0,0,0,0,0,0,0,0,0,0,0,{"$f":"IF(MIN(BO35,BO36)=0,0,IF(BO9=\"Salaried-Other\",0,IF(BO9=\"Salaried-No reduction\",0,BO35/BO36)))","v":0},0,0,0,0,0,0,0,0,0,0,0,0,0,0,0,0,0,0,0,0,0,0,0,0,0,0,0,0,0,0,0,0,0,0,0,0,0,0,0,0,0,0,0,0,0,0,0,0,0,0,0,0,0,0,0,0,0,0,0,0,0,0,0,{"$f":"IF(MIN(EA35,EA36)=0,0,IF(EA9=\"Salaried-Other\",0,IF(EA9=\"Salaried-No reduction\",0,EA35/EA36)))","v":0},0,0,0,0,0,0,0,0,0,0,0,0,0,0,0,0,0,0,0,0,0,0,0,0,0,0,0,0,0,0,0,0,0,0,0,0,0,0,0,0,0,0,0,0,0,0,0,0,0,0,0,0,0,0,0,0,0,0,0,0,0,0,0,{"$f":"IF(MIN(GM35,GM36)=0,0,IF(GM9=\"Salaried-Other\",0,IF(GM9=\"Salaried-No reduction\",0,GM35/GM36)))","v":0},0,0,0,0,0,0,0,0,0,0,0,0,0,0,0,0,0,0,0,0,0,0,0,0,0,0,0,0,0,0,0,0,0,0,0,0,0,0,0,0,0,0,0,0,0,0,0,0,0,0,0,0,0,0,0,0,0,0,0,0,0,0,0,{"$f":"IF(MIN(IY35,IY36)=0,0,IF(IY9=\"Salaried-Other\",0,IF(IY9=\"Salaried-No reduction\",0,IY35/IY36)))","v":0},0,0,0,0,0,0,0,0,0,0,0,0,0,0,0,0,0,0,0,0,0,0,0,0,0,0,0,0,0,0,0,0,0,0,0,0,0,0,0,0,0,0,0,0,0,0,0,0,0,0,0,0,0,0,0,0,0,0,0,0,0,0,0,{"$f":"IF(MIN(LK35,LK36)=0,0,IF(LK9=\"Salaried-Other\",0,IF(LK9=\"Salaried-No reduction\",0,LK35/LK36)))","v":0},0,0,0,0,0,0,0,0,0,0,0,0,0,0,0,0,0,0,0,0,0,0,0,0,0,0,0,0,0,0,0,0,0,0,0,0,0,0,0,0,0,0,0,0,0,0,0,0,0,0,0,0,0,0,0,0,0,0,0,0,0,0,0,{"$f":"IF(MIN(NW35,NW36)=0,0,IF(NW9=\"Salaried-Other\",0,IF(NW9=\"Salaried-No reduction\",0,NW35/NW36)))","v":0},0,0,0,0,0,0,0,0,0,0,0,0,0,0,0,0,0,0,0,0,0,0,0,0,0,0,0,0,0,0,0,0,0,0,0,0,0,0,0,0,0,0,0,0,0,0,0,0,0,0,0,0,0,0,0,0,0,0,0,0,0,0,0,{"$f":"IF(MIN(QI35,QI36)=0,0,IF(QI9=\"Salaried-Other\",0,IF(QI9=\"Salaried-No reduction\",0,QI35/QI36)))","v":0},0,0,0,0,0,0,0,0,0,0,0,0,0,0,0,0,0,0,0,0,0,0,0,0,0,0,0,0,0,0,0,0,0,0,0,0,0,0,0,0,0,0,0,0,0,0,0,0,0,0,0]
[]
["Reduction ratio",null,{"$f":"C28/C38","v":{"$error":"#DIV/0!"}},{"$f":"D28/D38","v":{"$error":"#DIV/0!"}},{"$error":"#DIV/0!"},{"$error":"#DIV/0!"},{"$error":"#DIV/0!"},{"$error":"#DIV/0!"},{"$error":"#DIV/0!"},{"$error":"#DIV/0!"},{"$error":"#DIV/0!"},{"$error":"#DIV/0!"},{"$error":"#DIV/0!"},{"$error":"#DIV/0!"},{"$error":"#DIV/0!"},{"$error":"#DIV/0!"},{"$error":"#DIV/0!"},{"$error":"#DIV/0!"},{"$error":"#DIV/0!"},{"$error":"#DIV/0!"},{"$error":"#DIV/0!"},{"$error":"#DIV/0!"},{"$error":"#DIV/0!"},{"$error":"#DIV/0!"},{"$error":"#DIV/0!"},{"$error":"#DIV/0!"},{"$error":"#DIV/0!"},{"$error":"#DIV/0!"},{"$error":"#DIV/0!"},{"$error":"#DIV/0!"},{"$error":"#DIV/0!"},{"$error":"#DIV/0!"},{"$error":"#DIV/0!"},{"$error":"#DIV/0!"},{"$error":"#DIV/0!"},{"$error":"#DIV/0!"},{"$error":"#DIV/0!"},{"$error":"#DIV/0!"},{"$error":"#DIV/0!"},{"$error":"#DIV/0!"},{"$error":"#DIV/0!"},{"$error":"#DIV/0!"},{"$error":"#DIV/0!"},{"$error":"#DIV/0!"},{"$error":"#DIV/0!"},{"$error":"#DIV/0!"},{"$error":"#DIV/0!"},{"$error":"#DIV/0!"},{"$error":"#DIV/0!"},{"$error":"#DIV/0!"},{"$error":"#DIV/0!"},{"$error":"#DIV/0!"},{"$error":"#DIV/0!"},{"$error":"#DIV/0!"},{"$error":"#DIV/0!"},{"$error":"#DIV/0!"},{"$error":"#DIV/0!"},{"$error":"#DIV/0!"},{"$error":"#DIV/0!"},{"$error":"#DIV/0!"},{"$error":"#DIV/0!"},{"$error":"#DIV/0!"},{"$error":"#DIV/0!"},{"$error":"#DIV/0!"},{"$error":"#DIV/0!"},{"$error":"#DIV/0!"},{"$error":"#DIV/0!"},{"$f":"BP28/BP38","v":{"$error":"#DIV/0!"}},{"$error":"#DIV/0!"},{"$error":"#DIV/0!"},{"$error":"#DIV/0!"},{"$error":"#DIV/0!"},{"$error":"#DIV/0!"},{"$error":"#DIV/0!"},{"$error":"#DIV/0!"},{"$error":"#DIV/0!"},{"$error":"#DIV/0!"},{"$error":"#DIV/0!"},{"$error":"#DIV/0!"},{"$error":"#DIV/0!"},{"$error":"#DIV/0!"},{"$error":"#DIV/0!"},{"$error":"#DIV/0!"},{"$error":"#DIV/0!"},{"$error":"#DIV/0!"},{"$error":"#DIV/0!"},{"$error":"#DIV/0!"},{"$error":"#DIV/0!"},{"$error":"#DIV/0!"},{"$error":"#DIV/0!"},{"$error":"#DIV/0!"},{"$error":"#DIV/0!"},{"$error":"#DIV/0!"},{"$error":"#DIV/0!"},{"$error":"#DIV/0!"},{"$error":"#DIV/0!"},{"$error":"#DIV/0!"},{"$error":"#DIV/0!"},{"$error":"#DIV/0!"},{"$error":"#DIV/0!"},{"$error":"#DIV/0!"},{"$error":"#DIV/0!"},{"$error":"#DIV/0!"},{"$error":"#DIV/0!"},{"$error":"#DIV/0!"},{"$error":"#DIV/0!"},{"$error":"#DIV/0!"},{"$error":"#DIV/0!"},{"$error":"#DIV/0!"},{"$error":"#DIV/0!"},{"$error":"#DIV/0!"},{"$error":"#DIV/0!"},{"$error":"#DIV/0!"},{"$error":"#DIV/0!"},{"$error":"#DIV/0!"},{"$error":"#DIV/0!"},{"$error":"#DIV/0!"},{"$error":"#DIV/0!"},{"$error":"#DIV/0!"},{"$error":"#DIV/0!"},{"$error":"#DIV/0!"},{"$error":"#DIV/0!"},{"$error":"#DIV/0!"},{"$error":"#DIV/0!"},{"$error":"#DIV/0!"},{"$error":"#DIV/0!"},{"$error":"#DIV/0!"},{"$error":"#DIV/0!"},{"$error":"#DIV/0!"},{"$error":"#DIV/0!"},{"$error":"#DIV/0!"},{"$f":"EB28/EB38","v":{"$error":"#DIV/0!"}},{"$error":"#DIV/0!"},{"$error":"#DIV/0!"},{"$error":"#DIV/0!"},{"$error":"#DIV/0!"},{"$error":"#DIV/0!"},{"$error":"#DIV/0!"},{"$error":"#DIV/0!"},{"$error":"#DIV/0!"},{"$error":"#DIV/0!"},{"$error":"#DIV/0!"},{"$error":"#DIV/0!"},{"$error":"#DIV/0!"},{"$error":"#DIV/0!"},{"$error":"#DIV/0!"},{"$error":"#DIV/0!"},{"$error":"#DIV/0!"},{"$error":"#DIV/0!"},{"$error":"#DIV/0!"},{"$error":"#DIV/0!"},{"$error":"#DIV/0!"},{"$error":"#DIV/0!"},{"$error":"#DIV/0!"},{"$error":"#DIV/0!"},{"$error":"#DIV/0!"},{"$error":"#DIV/0!"},{"$error":"#DIV/0!"},{"$error":"#DIV/0!"},{"$error":"#DIV/0!"},{"$error":"#DIV/0!"},{"$error":"#DIV/0!"},{"$error":"#DIV/0!"},{"$error":"#DIV/0!"},{"$error":"#DIV/0!"},{"$error":"#DIV/0!"},{"$error":"#DIV/0!"},{"$error":"#DIV/0!"},{"$error":"#DIV/0!"},{"$error":"#DIV/0!"},{"$error":"#DIV/0!"},{"$error":"#DIV/0!"},{"$error":"#DIV/0!"},{"$error":"#DIV/0!"},{"$error":"#DIV/0!"},{"$error":"#DIV/0!"},{"$error":"#DIV/0!"},{"$error":"#DIV/0!"},{"$error":"#DIV/0!"},{"$error":"#DIV/0!"},{"$error":"#DIV/0!"},{"$error":"#DIV/0!"},{"$error":"#DIV/0!"},{"$error":"#DIV/0!"},{"$error":"#DIV/0!"},{"$error":"#DIV/0!"},{"$error":"#DIV/0!"},{"$error":"#DIV/0!"},{"$error":"#DIV/0!"},{"$error":"#DIV/0!"},{"$error":"#DIV/0!"},{"$error":"#DIV/0!"},{"$error":"#DIV/0!"},{"$error":"#DIV/0!"},{"$error":"#DIV/0!"},{"$f":"GN28/GN38","v":{"$error":"#DIV/0!"}},{"$error":"#DIV/0!"},{"$error":"#DIV/0!"},{"$error":"#DIV/0!"},{"$error":"#DIV/0!"},{"$error":"#DIV/0!"},{"$error":"#DIV/0!"},{"$error":"#DIV/0!"},{"$error":"#DIV/0!"},{"$error":"#DIV/0!"},{"$error":"#DIV/0!"},{"$error":"#DIV/0!"},{"$error":"#DIV/0!"},{"$error":"#DIV/0!"},{"$error":"#DIV/0!"},{"$error":"#DIV/0!"},{"$error":"#DIV/0!"},{"$error":"#DIV/0!"},{"$error":"#DIV/0!"},{"$error":"#DIV/0!"},{"$error":"#DIV/0!"},{"$error":"#DIV/0!"},{"$error":"#DIV/0!"},{"$error":"#DIV/0!"},{"$error":"#DIV/0!"},{"$error":"#DIV/0!"},{"$error":"#DIV/0!"},{"$error":"#DIV/0!"},{"$error":"#DIV/0!"},{"$error":"#DIV/0!"},{"$error":"#DIV/0!"},{"$error":"#DIV/0!"},{"$error":"#DIV/0!"},{"$error":"#DIV/0!"},{"$error":"#DIV/0!"},{"$error":"#DIV/0!"},{"$error":"#DIV/0!"},{"$error":"#DIV/0!"},{"$error":"#DIV/0!"},{"$error":"#DIV/0!"},{"$error":"#DIV/0!"},{"$error":"#DIV/0!"},{"$error":"#DIV/0!"},{"$error":"#DIV/0!"},{"$error":"#DIV/0!"},{"$error":"#DIV/0!"},{"$error":"#DIV/0!"},{"$error":"#DIV/0!"},{"$error":"#DIV/0!"},{"$error":"#DIV/0!"},{"$error":"#DIV/0!"},{"$error":"#DIV/0!"},{"$error":"#DIV/0!"},{"$error":"#DIV/0!"},{"$error":"#DIV/0!"},{"$error":"#DIV/0!"},{"$error":"#DIV/0!"},{"$error":"#DIV/0!"},{"$error":"#DIV/0!"},{"$error":"#DIV/0!"},{"$error":"#DIV/0!"},{"$error":"#DIV/0!"},{"$error":"#DIV/0!"},{"$error":"#DIV/0!"},{"$f":"IZ28/IZ38","v":{"$error":"#DIV/0!"}},{"$error":"#DIV/0!"},{"$error":"#DIV/0!"},{"$error":"#DIV/0!"},{"$error":"#DIV/0!"},{"$error":"#DIV/0!"},{"$error":"#DIV/0!"},{"$error":"#DIV/0!"},{"$error":"#DIV/0!"},{"$error":"#DIV/0!"},{"$error":"#DIV/0!"},{"$error":"#DIV/0!"},{"$error":"#DIV/0!"},{"$error":"#DIV/0!"},{"$error":"#DIV/0!"},{"$error":"#DIV/0!"},{"$error":"#DIV/0!"},{"$error":"#DIV/0!"},{"$error":"#DIV/0!"},{"$error":"#DIV/0!"},{"$error":"#DIV/0!"},{"$error":"#DIV/0!"},{"$error":"#DIV/0!"},{"$error":"#DIV/0!"},{"$error":"#DIV/0!"},{"$error":"#DIV/0!"},{"$error":"#DIV/0!"},{"$error":"#DIV/0!"},{"$error":"#DIV/0!"},{"$error":"#DIV/0!"},{"$error":"#DIV/0!"},{"$error":"#DIV/0!"},{"$error":"#DIV/0!"},{"$error":"#DIV/0!"},{"$error":"#DIV/0!"},{"$error":"#DIV/0!"},{"$error":"#DIV/0!"},{"$error":"#DIV/0!"},{"$error":"#DIV/0!"},{"$error":"#DIV/0!"},{"$error":"#DIV/0!"},{"$error":"#DIV/0!"},{"$error":"#DIV/0!"},{"$error":"#DIV/0!"},{"$error":"#DIV/0!"},{"$error":"#DIV/0!"},{"$error":"#DIV/0!"},{"$error":"#DIV/0!"},{"$error":"#DIV/0!"},{"$error":"#DIV/0!"},{"$error":"#DIV/0!"},{"$error":"#DIV/0!"},{"$error":"#DIV/0!"},{"$error":"#DIV/0!"},{"$error":"#DIV/0!"},{"$error":"#DIV/0!"},{"$error":"#DIV/0!"},{"$error":"#DIV/0!"},{"$error":"#DIV/0!"},{"$error":"#DIV/0!"},{"$error":"#DIV/0!"},{"$error":"#DIV/0!"},{"$error":"#DIV/0!"},{"$error":"#DIV/0!"},{"$f":"LL28/LL38","v":{"$error":"#DIV/0!"}},{"$error":"#DIV/0!"},{"$error":"#DIV/0!"},{"$error":"#DIV/0!"},{"$error":"#DIV/0!"},{"$error":"#DIV/0!"},{"$error":"#DIV/0!"},{"$error":"#DIV/0!"},{"$error":"#DIV/0!"},{"$error":"#DIV/0!"},{"$error":"#DIV/0!"},{"$error":"#DIV/0!"},{"$error":"#DIV/0!"},{"$error":"#DIV/0!"},{"$error":"#DIV/0!"},{"$error":"#DIV/0!"},{"$error":"#DIV/0!"},{"$error":"#DIV/0!"},{"$error":"#DIV/0!"},{"$error":"#DIV/0!"},{"$error":"#DIV/0!"},{"$error":"#DIV/0!"},{"$error":"#DIV/0!"},{"$error":"#DIV/0!"},{"$error":"#DIV/0!"},{"$error":"#DIV/0!"},{"$error":"#DIV/0!"},{"$error":"#DIV/0!"},{"$error":"#DIV/0!"},{"$error":"#DIV/0!"},{"$error":"#DIV/0!"},{"$error":"#DIV/0!"},{"$error":"#DIV/0!"},{"$error":"#DIV/0!"},{"$error":"#DIV/0!"},{"$error":"#DIV/0!"},{"$error":"#DIV/0!"},{"$error":"#DIV/0!"},{"$error":"#DIV/0!"},{"$error":"#DIV/0!"},{"$error":"#DIV/0!"},{"$error":"#DIV/0!"},{"$error":"#DIV/0!"},{"$error":"#DIV/0!"},{"$error":"#DIV/0!"},{"$error":"#DIV/0!"},{"$error":"#DIV/0!"},{"$error":"#DIV/0!"},{"$error":"#DIV/0!"},{"$error":"#DIV/0!"},{"$error":"#DIV/0!"},{"$error":"#DIV/0!"},{"$error":"#DIV/0!"},{"$error":"#DIV/0!"},{"$error":"#DIV/0!"},{"$error":"#DIV/0!"},{"$error":"#DIV/0!"},{"$error":"#DIV/0!"},{"$error":"#DIV/0!"},{"$error":"#DIV/0!"},{"$error":"#DIV/0!"},{"$error":"#DIV/0!"},{"$error":"#DIV/0!"},{"$error":"#DIV/0!"},{"$f":"NX28/NX38","v":{"$error":"#DIV/0!"}},{"$error":"#DIV/0!"},{"$error":"#DIV/0!"},{"$error":"#DIV/0!"},{"$error":"#DIV/0!"},{"$error":"#DIV/0!"},{"$error":"#DIV/0!"},{"$error":"#DIV/0!"},{"$error":"#DIV/0!"},{"$error":"#DIV/0!"},{"$error":"#DIV/0!"},{"$error":"#DIV/0!"},{"$error":"#DIV/0!"},{"$error":"#DIV/0!"},{"$error":"#DIV/0!"},{"$error":"#DIV/0!"},{"$error":"#DIV/0!"},{"$error":"#DIV/0!"},{"$error":"#DIV/0!"},{"$error":"#DIV/0!"},{"$error":"#DIV/0!"},{"$error":"#DIV/0!"},{"$error":"#DIV/0!"},{"$error":"#DIV/0!"},{"$error":"#DIV/0!"},{"$error":"#DIV/0!"},{"$error":"#DIV/0!"},{"$error":"#DIV/0!"},{"$error":"#DIV/0!"},{"$error":"#DIV/0!"},{"$error":"#DIV/0!"},{"$error":"#DIV/0!"},{"$error":"#DIV/0!"},{"$error":"#DIV/0!"},{"$error":"#DIV/0!"},{"$error":"#DIV/0!"},{"$error":"#DIV/0!"},{"$error":"#DIV/0!"},{"$error":"#DIV/0!"},{"$error":"#DIV/0!"},{"$error":"#DIV/0!"},{"$error":"#DIV/0!"},{"$error":"#DIV/0!"},{"$error":"#DIV/0!"},{"$error":"#DIV/0!"},{"$error":"#DIV/0!"},{"$error":"#DIV/0!"},{"$error":"#DIV/0!"},{"$error":"#DIV/0!"},{"$error":"#DIV/0!"},{"$error":"#DIV/0!"},{"$error":"#DIV/0!"},{"$error":"#DIV/0!"},{"$error":"#DIV/0!"},{"$error":"#DIV/0!"},{"$error":"#DIV/0!"},{"$error":"#DIV/0!"},{"$error":"#DIV/0!"},{"$error":"#DIV/0!"},{"$error":"#DIV/0!"},{"$error":"#DIV/0!"},{"$error":"#DIV/0!"},{"$error":"#DIV/0!"},{"$error":"#DIV/0!"},{"$f":"QJ28/QJ38","v":{"$error":"#DIV/0!"}},{"$error":"#DIV/0!"},{"$error":"#DIV/0!"},{"$error":"#DIV/0!"},{"$error":"#DIV/0!"},{"$error":"#DIV/0!"},{"$error":"#DIV/0!"},{"$error":"#DIV/0!"},{"$error":"#DIV/0!"},{"$error":"#DIV/0!"},{"$error":"#DIV/0!"},{"$error":"#DIV/0!"},{"$error":"#DIV/0!"},{"$error":"#DIV/0!"},{"$error":"#DIV/0!"},{"$error":"#DIV/0!"},{"$error":"#DIV/0!"},{"$error":"#DIV/0!"},{"$error":"#DIV/0!"},{"$error":"#DIV/0!"},{"$error":"#DIV/0!"},{"$error":"#DIV/0!"},{"$error":"#DIV/0!"},{"$error":"#DIV/0!"},{"$error":"#DIV/0!"},{"$error":"#DIV/0!"},{"$error":"#DIV/0!"},{"$error":"#DIV/0!"},{"$error":"#DIV/0!"},{"$error":"#DIV/0!"},{"$error":"#DIV/0!"},{"$error":"#DIV/0!"},{"$error":"#DIV/0!"},{"$error":"#DIV/0!"},{"$error":"#DIV/0!"},{"$error":"#DIV/0!"},{"$error":"#DIV/0!"},{"$error":"#DIV/0!"},{"$error":"#DIV/0!"},{"$error":"#DIV/0!"},{"$error":"#DIV/0!"},{"$error":"#DIV/0!"},{"$error":"#DIV/0!"},{"$error":"#DIV/0!"},{"$error":"#DIV/0!"},{"$error":"#DIV/0!"},{"$error":"#DIV/0!"},{"$error":"#DIV/0!"},{"$error":"#DIV/0!"},{"$error":"#DIV/0!"},{"$error":"#DIV/0!"}]
["75% of Average Rate",null,{"$f":"C38*0.75","v":0},{"$f":"D38*0.75","v":0},0,0,0,0,0,0,0,0,0,0,0,0,0,0,0,0,0,0,0,0,0,0,0,0,0,0,0,0,0,0,0,0,0,0,0,0,0,0,0,0,0,0,0,0,0,0,0,0,0,0,0,0,0,0,0,0,0,0,0,0,0,0,0,{"$f":"BP38*0.75","v":0},0,0,0,0,0,0,0,0,0,0,0,0,0,0,0,0,0,0,0,0,0,0,0,0,0,0,0,0,0,0,0,0,0,0,0,0,0,0,0,0,0,0,0,0,0,0,0,0,0,0,0,0,0,0,0,0,0,0,0,0,0,0,0,{"$f":"EB38*0.75","v":0},0,0,0,0,0,0,0,0,0,0,0,0,0,0,0,0,0,0,0,0,0,0,0,0,0,0,0,0,0,0,0,0,0,0,0,0,0,0,0,0,0,0,0,0,0,0,0,0,0,0,0,0,0,0,0,0,0,0,0,0,0,0,0,{"$f":"GN38*0.75","v":0},0,0,0,0,0,0,0,0,0,0,0,0,0,0,0,0,0,0,0,0,0,0,0,0,0,0,0,0,0,0,0,0,0,0,0,0,0,0,0,0,0,0,0,0,0,0,0,0,0,0,0,0,0,0,0,0,0,0,0,0,0,0,0,{"$f":"IZ38*0.75","v":0},0,0,0,0,0,0,0,0,0,0,0,0,0,0,0,0,0,0,0,0,0,0,0,0,0,0,0,0,0,0,0,0,0,0,0,0,0,0,0,0,0,0,0,0,0,0,0,0,0,0,0,0,0,0,0,0,0,0,0,0,0,0,0,{"$f":"LL38*0.75","v":0},0,0,0,0,0,0,0,0,0,0,0,0,0,0,0,0,0,0,0,0,0,0,0,0,0,0,0,0,0,0,0,0,0,0,0,0,0,0,0,0,0,0,0,0,0,0,0,0,0,0,0,0,0,0,0,0,0,0,0,0,0,0,0,{"$f":"NX38*0.75","v":0},0,0,0,0,0,0,0,0,0,0,0,0,0,0,0,0,0,0,0,0,0,0,0,0,0,0,0,0,0,0,0,0,0,0,0,0,0,0,0,0,0,0,0,0,0,0,0,0,0,0,0,0,0,0,0,0,0,0,0,0,0,0,0,{"$f":"QJ38*0.75","v":0},0,0,0,0,0,0,0,0,0,0,0,0,0,0,0,0,0,0,0,0,0,0,0,0,0,0,0,0,0,0,0,0,0,0,0,0,0,0,0,0,0,0,0,0,0,0,0,0,0,0]
["75% of Average Rate - Average Rate of Covered Period",null,{"$f":"IF((C41>C28),(C41-C28),0)","v":0},{"$f":"IF((D41>D28),(D41-D28),0)","v":0},0,0,0,0,0,0,0,0,0,0,0,0,0,0,0,0,0,0,0,0,0,0,0,0,0,0,0,0,0,0,0,0,0,0,0,0,0,0,0,0,0,0,0,0,0,0,0,0,0,0,0,0,0,0,0,0,0,0,0,0,0,0,0,{"$f":"IF((BP41>BP28),(BP41-BP28),0)","v":0},0,0,0,0,0,0,0,0,0,0,0,0,0,0,0,0,0,0,0,0,0,0,0,0,0,0,0,0,0,0,0,0,0,0,0,0,0,0,0,0,0,0,0,0,0,0,0,0,0,0,0,0,0,0,0,0,0,0,0,0,0,0,0,{"$f":"IF((EB41>EB28),(EB41-EB28),0)","v":0},0,0,0,0,0,0,0,0,0,0,0,0,0,0,0,0,0,0,0,0,0,0,0,0,0,0,0,0,0,0,0,0,0,0,0,0,0,0,0,0,0,0,0,0,0,0,0,0,0,0,0,0,0,0,0,0,0,0,0,0,0,0,0,{"$f":"IF((GN41>GN28),(GN41-GN28),0)","v":0},0,0,0,0,0,0,0,0,0,0,0,0,0,0,0,0,0,0,0,0,0,0,0,0,0,0,0,0,0,0,0,0,0,0,0,0,0,0,0,0,0,0,0,0,0,0,0,0,0,0,0,0,0,0,0,0,0,0,0,0,0,0,0,{"$f":"IF((IZ41>IZ28),(IZ41-IZ28),0)","v":0},0,0,0,0,0,0,0,0,0,0,0,0,0,0,0,0,0,0,0,0,0,0,0,0,0,0,0,0,0,0,0,0,0,0,0,0,0,0,0,0,0,0,0,0,0,0,0,0,0,0,0,0,0,0,0,0,0,0,0,0,0,0,0,{"$f":"IF((LL41>LL28),(LL41-LL28),0)","v":0},0,0,0,0,0,0,0,0,0,0,0,0,0,0,0,0,0,0,0,0,0,0,0,0,0,0,0,0,0,0,0,0,0,0,0,0,0,0,0,0,0,0,0,0,0,0,0,0,0,0,0,0,0,0,0,0,0,0,0,0,0,0,0,{"$f":"IF((NX41>NX28),(NX41-NX28),0)","v":0},0,0,0,0,0,0,0,0,0,0,0,0,0,0,0,0,0,0,0,0,0,0,0,0,0,0,0,0,0,0,0,0,0,0,0,0,0,0,0,0,0,0,0,0,0,0,0,0,0,0,0,0,0,0,0,0,0,0,0,0,0,0,0,{"$f":"IF((QJ41>QJ28),(QJ41-QJ28),0)","v":0},0,0,0,0,0,0,0,0,0,0,0,0,0,0,0,0,0,0,0,0,0,0,0,0,0,0,0,0,0,0,0,0,0,0,0,0,0,0,0,0,0,0,0,0,0,0,0,0,0,0]
[]
["Hours worked in 1Q 2020 / 13 weeks",null,{"$f":"C36/13","v":0},{"$f":"D36/13","v":0},0,0,0,0,0,0,0,0,0,0,0,0,0,0,0,0,0,0,0,0,0,0,0,0,0,0,0,0,0,0,0,0,0,0,0,0,0,0,0,0,0,0,0,0,0,0,0,0,0,0,0,0,0,0,0,0,0,0,0,0,0,0,0,{"$f":"BP36/13","v":0},0,0,0,0,0,0,0,0,0,0,0,0,0,0,0,0,0,0,0,0,0,0,0,0,0,0,0,0,0,0,0,0,0,0,0,0,0,0,0,0,0,0,0,0,0,0,0,0,0,0,0,0,0,0,0,0,0,0,0,0,0,0,0,{"$f":"EB36/13","v":0},0,0,0,0,0,0,0,0,0,0,0,0,0,0,0,0,0,0,0,0,0,0,0,0,0,0,0,0,0,0,0,0,0,0,0,0,0,0,0,0,0,0,0,0,0,0,0,0,0,0,0,0,0,0,0,0,0,0,0,0,0,0,0,{"$f":"GN36/13","v":0},0,0,0,0,0,0,0,0,0,0,0,0,0,0,0,0,0,0,0,0,0,0,0,0,0,0,0,0,0,0,0,0,0,0,0,0,0,0,0,0,0,0,0,0,0,0,0,0,0,0,0,0,0,0,0,0,0,0,0,0,0,0,0,{"$f":"IZ36/13","v":0},0,0,0,0,0,0,0,0,0,0,0,0,0,0,0,0,0,0,0,0,0,0,0,0,0,0,0,0,0,0,0,0,0,0,0,0,0,0,0,0,0,0,0,0,0,0,0,0,0,0,0,0,0,0,0,0,0,0,0,0,0,0,0,{"$f":"LL36/13","v":0},0,0,0,0,0,0,0,0,0,0,0,0,0,0,0,0,0,0,0,0,0,0,0,0,0,0,0,0,0,0,0,0,0,0,0,0,0,0,0,0,0,0,0,0,0,0,0,0,0,0,0,0,0,0,0,0,0,0,0,0,0,0,0,{"$f":"NX36/13","v":0},0,0,0,0,0,0,0,0,0,0,0,0,0,0,0,0,0,0,0,0,0,0,0,0,0,0,0,0,0,0,0,0,0,0,0,0,0,0,0,0,0,0,0,0,0,0,0,0,0,0,0,0,0,0,0,0,0,0,0,0,0,0,0,{"$f":"QJ36/13","v":0},0,0,0,0,0,0,0,0,0,0,0,0,0,0,0,0,0,0,0,0,0,0,0,0,0,0,0,0,0,0,0,0,0,0,0,0,0,0,0,0,0,0,0,0,0,0,0,0,0,0]
["Adj hours worked in 1Q 2020 X Differential rate",null,{"$f":"C44*C42*8","v":0},{"$f":"D44*D42*8","v":0},0,0,0,0,0,0,0,0,0,0,0,0,0,0,0,0,0,0,0,0,0,0,0,0,0,0,0,0,0,0,0,0,0,0,0,0,0,0,0,0,0,0,0,0,0,0,0,0,0,0,0,0,0,0,0,0,0,0,0,0,0,0,0,{"$f":"BP44*BP42*8","v":0},0,0,0,0,0,0,0,0,0,0,0,0,0,0,0,0,0,0,0,0,0,0,0,0,0,0,0,0,0,0,0,0,0,0,0,0,0,0,0,0,0,0,0,0,0,0,0,0,0,0,0,0,0,0,0,0,0,0,0,0,0,0,0,{"$f":"EB44*EB42*8","v":0},0,0,0,0,0,0,0,0,0,0,0,0,0,0,0,0,0,0,0,0,0,0,0,0,0,0,0,0,0,0,0,0,0,0,0,0,0,0,0,0,0,0,0,0,0,0,0,0,0,0,0,0,0,0,0,0,0,0,0,0,0,0,0,{"$f":"GN44*GN42*8","v":0},0,0,0,0,0,0,0,0,0,0,0,0,0,0,0,0,0,0,0,0,0,0,0,0,0,0,0,0,0,0,0,0,0,0,0,0,0,0,0,0,0,0,0,0,0,0,0,0,0,0,0,0,0,0,0,0,0,0,0,0,0,0,0,{"$f":"IZ44*IZ42*8","v":0},0,0,0,0,0,0,0,0,0,0,0,0,0,0,0,0,0,0,0,0,0,0,0,0,0,0,0,0,0,0,0,0,0,0,0,0,0,0,0,0,0,0,0,0,0,0,0,0,0,0,0,0,0,0,0,0,0,0,0,0,0,0,0,{"$f":"LL44*LL42*8","v":0},0,0,0,0,0,0,0,0,0,0,0,0,0,0,0,0,0,0,0,0,0,0,0,0,0,0,0,0,0,0,0,0,0,0,0,0,0,0,0,0,0,0,0,0,0,0,0,0,0,0,0,0,0,0,0,0,0,0,0,0,0,0,0,{"$f":"NX44*NX42*8","v":0},0,0,0,0,0,0,0,0,0,0,0,0,0,0,0,0,0,0,0,0,0,0,0,0,0,0,0,0,0,0,0,0,0,0,0,0,0,0,0,0,0,0,0,0,0,0,0,0,0,0,0,0,0,0,0,0,0,0,0,0,0,0,0,{"$f":"QJ44*QJ42*8","v":0},0,0,0,0,0,0,0,0,0,0,0,0,0,0,0,0,0,0,0,0,0,0,0,0,0,0,0,0,0,0,0,0,0,0,0,0,0,0,0,0,0,0,0,0,0,0,0,0,0,0]
[]
["8/13 of compensation of full quarter prior to loan",null,{"$f":"IF(C31<C24,0,IF(C35>25000,0,C35/13*8))","v":0},0,0,0,0,0,0,0,0,0,0,0,0,0,0,0,0,0,0,0,0,0,0,0,0,0,0,0,0,0,0,0,0,0,0,0,0,0,0,0,0,0,0,0,0,0,0,0,0,0,0,0,0,0,0,0,0,0,0,0,0,0,0,0,{"$f":"IF(BO31<BO24,0,IF(BO35>25000,0,BO35/13*8))","v":0},0,0,0,0,0,0,0,0,0,0,0,0,0,0,0,0,0,0,0,0,0,0,0,0,0,0,0,0,0,0,0,0,0,0,0,0,0,0,0,0,0,0,0,0,0,0,0,0,0,0,0,0,0,0,0,0,0,0,0,0,0,0,0,{"$f":"IF(EA31<EA24,0,IF(EA35>25000,0,EA35/13*8))","v":0},0,0,0,0,0,0,0,0,0,0,0,0,0,0,0,0,0,0,0,0,0,0,0,0,0,0,0,0,0,0,0,0,0,0,0,0,0,0,0,0,0,0,0,0,0,0,0,0,0,0,0,0,0,0,0,0,0,0,0,0,0,0,0,{"$f":"IF(GM31<GM24,0,IF(GM35>25000,0,GM35/13*8))","v":0},0,0,0,0,0,0,0,0,0,0,0,0,0,0,0,0,0,0,0,0,0,0,0,0,0,0,0,0,0,0,0,0,0,0,0,0,0,0,0,0,0,0,0,0,0,0,0,0,0,0,0,0,0,0,0,0,0,0,0,0,0,0,0,{"$f":"IF(IY31<IY24,0,IF(IY35>25000,0,IY35/13*8))","v":0},0,0,0,0,0,0,0,0,0,0,0,0,0,0,0,0,0,0,0,0,0,0,0,0,0,0,0,0,0,0,0,0,0,0,0,0,0,0,0,0,0,0,0,0,0,0,0,0,0,0,0,0,0,0,0,0,0,0,0,0,0,0,0,{"$f":"IF(LK31<LK24,0,IF(LK35>25000,0,LK35/13*8))","v":0},0,0,0,0,0,0,0,0,0,0,0,0,0,0,0,0,0,0,0,0,0,0,0,0,0,0,0,0,0,0,0,0,0,0,0,0,0,0,0,0,0,0,0,0,0,0,0,0,0,0,0,0,0,0,0,0,0,0,0,0,0,0,0,{"$f":"IF(NW31<NW24,0,IF(NW35>25000,0,NW35/13*8))","v":0},0,0,0,0,0,0,0,0,0,0,0,0,0,0,0,0,0,0,0,0,0,0,0,0,0,0,0,0,0,0,0,0,0,0,0,0,0,0,0,0,0,0,0,0,0,0,0,0,0,0,0,0,0,0,0,0,0,0,0,0,0,0,0,{"$f":"IF(QI31<QI24,0,IF(QI35>25000,0,QI35/13*8))","v":0},0,0,0,0,0,0,0,0,0,0,0,0,0,0,0,0,0,0,0,0,0,0,0,0,0,0,0,0,0,0,0,0,0,0,0,0,0,0,0,0,0,0,0,0,0,0,0,0,0,0,0]
[]
["Difference",null,{"$f":"IF(C24>C31,0,IF(C35>25000,0,C33-C47))","v":0},0,0,0,0,0,0,0,0,0,0,0,0,0,0,0,0,0,0,0,0,0,0,0,0,0,0,0,0,0,0,0,0,0,0,0,0,0,0,0,0,0,0,0,0,0,0,0,0,0,0,0,0,0,0,0,0,0,0,0,0,0,0,0,{"$f":"IF(BO24>BO31,0,IF(BO35>25000,0,BO33-BO47))","v":0},0,0,0,0,0,0,0,0,0,0,0,0,0,0,0,0,0,0,0,0,0,0,0,0,0,0,0,0,0,0,0,0,0,0,0,0,0,0,0,0,0,0,0,0,0,0,0,0,0,0,0,0,0,0,0,0,0,0,0,0,0,0,0,{"$f":"IF(EA24>EA31,0,IF(EA35>25000,0,EA33-EA47))","v":0},0,0,0,0,0,0,0,0,0,0,0,0,0,0,0,0,0,0,0,0,0,0,0,0,0,0,0,0,0,0,0,0,0,0,0,0,0,0,0,0,0,0,0,0,0,0,0,0,0,0,0,0,0,0,0,0,0,0,0,0,0,0,0,{"$f":"IF(GM24>GM31,0,IF(GM35>25000,0,GM33-GM47))","v":0},0,0,0,0,0,0,0,0,0,0,0,0,0,0,0,0,0,0,0,0,0,0,0,0,0,0,0,0,0,0,0,0,0,0,0,0,0,0,0,0,0,0,0,0,0,0,0,0,0,0,0,0,0,0,0,0,0,0,0,0,0,0,0,{"$f":"IF(IY24>IY31,0,IF(IY35>25000,0,IY33-IY47))","v":0},0,0,0,0,0,0,0,0,0,0,0,0,0,0,0,0,0,0,0,0,0,0,0,0,0,0,0,0,0,0,0,0,0,0,0,0,0,0,0,0,0,0,0,0,0,0,0,0,0,0,0,0,0,0,0,0,0,0,0,0,0,0,0,{"$f":"IF(LK24>LK31,0,IF(LK35>25000,0,LK33-LK47))","v":0},0,0,0,0,0,0,0,0,0,0,0,0,0,0,0,0,0,0,0,0,0,0,0,0,0,0,0,0,0,0,0,0,0,0,0,0,0,0,0,0,0,0,0,0,0,0,0,0,0,0,0,0,0,0,0,0,0,0,0,0,0,0,0,{"$f":"IF(NW24>NW31,0,IF(NW35>25000,0,NW33-NW47))","v":0},0,0,0,0,0,0,0,0,0,0,0,0,0,0,0,0,0,0,0,0,0,0,0,0,0,0,0,0,0,0,0,0,0,0,0,0,0,0,0,0,0,0,0,0,0,0,0,0,0,0,0,0,0,0,0,0,0,0,0,0,0,0,0,{"$f":"IF(QI24>QI31,0,IF(QI35>25000,0,QI33-QI47))","v":0},0,0,0,0,0,0,0,0,0,0,0,0,0,0,0,0,0,0,0,0,0,0,0,0,0,0,0,0,0,0,0,0,0,0,0,0,0,0,0,0,0,0,0,0,0,0,0,0,0,0,0]
[]
["25% of allowed reduction",null,{"$f":"IF(C49=0,0,-C47*0.25)","v":0},{"$f":"IF(D49=0,0,-D47*0.25)","v":0},0,0,0,0,0,0,0,0,0,0,0,0,0,0,0,0,0,0,0,0,0,0,0,0,0,0,0,0,0,0,0,0,0,0,0,0,0,0,0,0,0,0,0,0,0,0,0,0,0,0,0,0,0,0,0,0,0,0,0,0,0,0,0,{"$f":"IF(BP49=0,0,-BP47*0.25)","v":0},0,0,0,0,0,0,0,0,0,0,0,0,0,0,0,0,0,0,0,0,0,0,0,0,0,0,0,0,0,0,0,0,0,0,0,0,0,0,0,0,0,0,0,0,0,0,0,0,0,0,0,0,0,0,0,0,0,0,0,0,0,0,0,{"$f":"IF(EB49=0,0,-EB47*0.25)","v":0},0,0,0,0,0,0,0,0,0,0,0,0,0,0,0,0,0,0,0,0,0,0,0,0,0,0,0,0,0,0,0,0,0,0,0,0,0,0,0,0,0,0,0,0,0,0,0,0,0,0,0,0,0,0,0,0,0,0,0,0,0,0,0,{"$f":"IF(GN49=0,0,-GN47*0.25)","v":0},0,0,0,0,0,0,0,0,0,0,0,0,0,0,0,0,0,0,0,0,0,0,0,0,0,0,0,0,0,0,0,0,0,0,0,0,0,0,0,0,0,0,0,0,0,0,0,0,0,0,0,0,0,0,0,0,0,0,0,0,0,0,0,{"$f":"IF(IZ49=0,0,-IZ47*0.25)","v":0},0,0,0,0,0,0,0,0,0,0,0,0,0,0,0,0,0,0,0,0,0,0,0,0,0,0,0,0,0,0,0,0,0,0,0,0,0,0,0,0,0,0,0,0,0,0,0,0,0,0,0,0,0,0,0,0,0,0,0,0,0,0,0,{"$f":"IF(LL49=0,0,-LL47*0.25)","v":0},0,0,0,0,0,0,0,0,0,0,0,0,0,0,0,0,0,0,0,0,0,0,0,0,0,0,0,0,0,0,0,0,0,0,0,0,0,0,0,0,0,0,0,0,0,0,0,0,0,0,0,0,0,0,0,0,0,0,0,0,0,0,0,{"$f":"IF(NX49=0,0,-NX47*0.25)","v":0},0,0,0,0,0,0,0,0,0,0,0,0,0,0,0,0,0,0,0,0,0,0,0,0,0,0,0,0,0,0,0,0,0,0,0,0,0,0,0,0,0,0,0,0,0,0,0,0,0,0,0,0,0,0,0,0,0,0,0,0,0,0,0,{"$f":"IF(QJ49=0,0,-QJ47*0.25)","v":0},0,0,0,0,0,0,0,0,0,0,0,0,0,0,0,0,0,0,0,0,0,0,0,0,0,0,0,0,0,0,0,0,0,0,0,0,0,0,0,0,0,0,0,0,0,0,0,0,0,0]
[]
["1Q hourly rate"]
[]
["Excess of difference over allowed reduction",{"$f":"SUM(C55:SH55)","v":0},{"$f":"IF(C9=\"Salaried\",IF(C49-C51>0,0,C49-C51),-C45)","v":0},{"$f":"IF(D49-D51>0,0,D49-D51)","v":0},0,{"$f":"IF(F49-F51>0,0,F49-F51)","v":0},0,0,0,0,0,0,0,0,0,0,0,0,0,0,0,0,0,0,0,0,0,0,0,0,0,0,0,0,0,0,0,0,0,0,0,0,0,0,0,0,0,0,0,0,0,0,0,0,0,0,0,0,0,0,0,0,0,0,0,0,0,{"$f":"IF(BP49-BP51>0,0,BP49-BP51)","v":0},0,0,0,0,0,0,0,0,0,0,0,0,0,0,0,0,0,0,0,0,0,0,0,0,0,0,0,0,0,0,0,0,0,0,0,0,0,0,0,0,0,0,0,0,0,0,0,0,0,0,0,0,0,0,0,0,0,0,0,0,0,0,0,{"$f":"IF(EB49-EB51>0,0,EB49-EB51)","v":0},0,0,0,0,0,0,0,0,0,0,0,0,0,0,0,0,0,0,0,0,0,0,0,0,0,0,0,0,0,0,0,0,0,0,0,0,0,0,0,0,0,0,0,0,0,0,0,0,0,0,0,0,0,0,0,0,0,0,0,0,0,0,0,{"$f":"IF(GN49-GN51>0,0,GN49-GN51)","v":0},0,0,0,0,0,0,0,0,0,0,0,0,0,0,0,0,0,0,0,0,0,0,0,0,0,0,0,0,0,0,0,0,0,0,0,0,0,0,0,0,0,0,0,0,0,0,0,0,0,0,0,0,0,0,0,0,0,0,0,0,0,0,0,{"$f":"IF(IZ49-IZ51>0,0,IZ49-IZ51)","v":0},0,0,0,0,0,0,0,0,0,0,0,0,0,0,0,0,0,0,0,0,0,0,0,0,0,0,0,0,0,0,0,0,0,0,0,0,0,0,0,0,0,0,0,0,0,0,0,0,0,0,0,0,0,0,0,0,0,0,0,0,0,0,0,{"$f":"IF(LL49-LL51>0,0,LL49-LL51)","v":0},0,0,0,0,0,0,0,0,0,0,0,0,0,0,0,0,0,0,0,0,0,0,0,0,0,0,0,0,0,0,0,0,0,0,0,0,0,0,0,0,0,0,0,0,0,0,0,0,0,0,0,0,0,0,0,0,0,0,0,0,0,0,0,{"$f":"IF(NX49-NX51>0,0,NX49-NX51)","v":0},0,0,0,0,0,0,0,0,0,0,0,0,0,0,0,0,0,0,0,0,0,0,0,0,0,0,0,0,0,0,0,0,0,0,0,0,0,0,0,0,0,0,0,0,0,0,0,0,0,0,0,0,0,0,0,0,0,0,0,0,0,0,0,{"$f":"IF(QJ49-QJ51>0,0,QJ49-QJ51)","v":0},0,0,0,0,0,0,0,0,0,0,0,0,0,0,0,0,0,0,0,0,0,0,0,0,0,0,0,0,0,0,0,0,0,0,0,0,0,0,0,0,0,0,0,0,0,0,0,0,0,0]
[]
[]
["Annual salary/hourly wage as of February 15, 2020",null,{"$f":"'6 - Input sheet - Employee data'!C76","v":0},{"$f":"'6 - Input sheet - Employee data'!D76","v":0},{"$f":"'6 - Input sheet - Employee data'!E76","v":0},{"$f":"'6 - Input sheet - Employee data'!F76","v":0},{"$f":"'6 - Input sheet - Employee data'!G76","v":0},{"$f":"'6 - Input sheet - Employee data'!H76","v":0},{"$f":"'6 - Input sheet - Employee data'!I76","v":0},{"$f":"'6 - Input sheet - Employee data'!J76","v":0},{"$f":"'6 - Input sheet - Employee data'!K76","v":0},{"$f":"'6 - Input sheet - Employee data'!L76","v":0},{"$f":"'6 - Input sheet - Employee data'!M76","v":0},{"$f":"'6 - Input sheet - Employee data'!N76","v":0},{"$f":"'6 - Input sheet - Employee data'!O76","v":0},{"$f":"'6 - Input sheet - Employee data'!P76","v":0},{"$f":"'6 - Input sheet - Employee data'!Q76","v":0},{"$f":"'6 - Input sheet - Employee data'!R76","v":0},{"$f":"'6 - Input sheet - Employee data'!S76","v":0},{"$f":"'6 - Input sheet - Employee data'!T76","v":0},{"$f":"'6 - Input sheet - Employee data'!U76","v":0},{"$f":"'6 - Input sheet - Employee data'!V76","v":0},{"$f":"'6 - Input sheet - Employee data'!W76","v":0},{"$f":"'6 - Input sheet - Employee data'!X76","v":0},{"$f":"'6 - Input sheet - Employee data'!Y76","v":0},{"$f":"'6 - Input sheet - Employee data'!Z76","v":0},{"$f":"'6 - Input sheet - Employee data'!AA76","v":0},{"$f":"'6 - Input sheet - Employee data'!AB76","v":0},{"$f":"'6 - Input sheet - Employee data'!AC76","v":0},{"$f":"'6 - Input sheet - Employee data'!AD76","v":0},{"$f":"'6 - Input sheet - Employee data'!AE76","v":0},{"$f":"'6 - Input sheet - Employee data'!AF76","v":0},{"$f":"'6 - Input sheet - Employee data'!AG76","v":0},{"$f":"'6 - Input sheet - Employee data'!AH76","v":0},{"$f":"'6 - Input sheet - Employee data'!AI76","v":0},{"$f":"'6 - Input sheet - Employee data'!AJ76","v":0},{"$f":"'6 - Input sheet - Employee data'!AK76","v":0},{"$f":"'6 - Input sheet - Employee data'!AL76","v":0},{"$f":"'6 - Input sheet - Employee data'!AM76","v":0},{"$f":"'6 - Input sheet - Employee data'!AN76","v":0},{"$f":"'6 - Input sheet - Employee data'!AO76","v":0},{"$f":"'6 - Input sheet - Employee data'!AP76","v":0},{"$f":"'6 - Input sheet - Employee data'!AQ76","v":0},{"$f":"'6 - Input sheet - Employee data'!AR76","v":0},{"$f":"'6 - Input sheet - Employee data'!AS76","v":0},{"$f":"'6 - Input sheet - Employee data'!AT76","v":0},{"$f":"'6 - Input sheet - Employee data'!AU76","v":0},{"$f":"'6 - Input sheet - Employee data'!AV76","v":0},{"$f":"'6 - Input sheet - Employee data'!AW76","v":0},{"$f":"'6 - Input sheet - Employee data'!AX76","v":0},{"$f":"'6 - Input sheet - Employee data'!AY76","v":0},{"$f":"'6 - Input sheet - Employee data'!AZ76","v":0},{"$f":"'6 - Input sheet - Employee data'!BA76","v":0},{"$f":"'6 - Input sheet - Employee data'!BB76","v":0},{"$f":"'6 - Input sheet - Employee data'!BC76","v":0},{"$f":"'6 - Input sheet - Employee data'!BD76","v":0},{"$f":"'6 - Input sheet - Employee data'!BE76","v":0},{"$f":"'6 - Input sheet - Employee data'!BF76","v":0},{"$f":"'6 - Input sheet - Employee data'!BG76","v":0},{"$f":"'6 - Input sheet - Employee data'!BH76","v":0},{"$f":"'6 - Input sheet - Employee data'!BI76","v":0},{"$f":"'6 - Input sheet - Employee data'!BJ76","v":0},{"$f":"'6 - Input sheet - Employee data'!BK76","v":0},{"$f":"'6 - Input sheet - Employee data'!BL76","v":0},{"$f":"'6 - Input sheet - Employee data'!BM76","v":0},{"$f":"'6 - Input sheet - Employee data'!BN76","v":0},{"$f":"'6 - Input sheet - Employee data'!BO76","v":0},{"$f":"'6 - Input sheet - Employee data'!BP76","v":0},{"$f":"'6 - Input sheet - Employee data'!BQ76","v":0},{"$f":"'6 - Input sheet - Employee data'!BR76","v":0},{"$f":"'6 - Input sheet - Employee data'!BS76","v":0},{"$f":"'6 - Input sheet - Employee data'!BT76","v":0},{"$f":"'6 - Input sheet - Employee data'!BU76","v":0},{"$f":"'6 - Input sheet - Employee data'!BV76","v":0},{"$f":"'6 - Input sheet - Employee data'!BW76","v":0},{"$f":"'6 - Input sheet - Employee data'!BX76","v":0},{"$f":"'6 - Input sheet - Employee data'!BY76","v":0},{"$f":"'6 - Input sheet - Employee data'!BZ76","v":0},{"$f":"'6 - Input sheet - Employee data'!CA76","v":0},{"$f":"'6 - Input sheet - Employee data'!CB76","v":0},{"$f":"'6 - Input sheet - Employee data'!CC76","v":0},{"$f":"'6 - Input sheet - Employee data'!CD76","v":0},{"$f":"'6 - Input sheet - Employee data'!CE76","v":0},{"$f":"'6 - Input sheet - Employee data'!CF76","v":0},{"$f":"'6 - Input sheet - Employee data'!CG76","v":0},{"$f":"'6 - Input sheet - Employee data'!CH76","v":0},{"$f":"'6 - Input sheet - Employee data'!CI76","v":0},{"$f":"'6 - Input sheet - Employee data'!CJ76","v":0},{"$f":"'6 - Input sheet - Employee data'!CK76","v":0},{"$f":"'6 - Input sheet - Employee data'!CL76","v":0},{"$f":"'6 - Input sheet - Employee data'!CM76","v":0},{"$f":"'6 - Input sheet - Employee data'!CN76","v":0},{"$f":"'6 - Input sheet - Employee data'!CO76","v":0},{"$f":"'6 - Input sheet - Employee data'!CP76","v":0},{"$f":"'6 - Input sheet - Employee data'!CQ76","v":0},{"$f":"'6 - Input sheet - Employee data'!CR76","v":0},{"$f":"'6 - Input sheet - Employee data'!CS76","v":0},{"$f":"'6 - Input sheet - Employee data'!CT76","v":0},{"$f":"'6 - Input sheet - Employee data'!CU76","v":0},{"$f":"'6 - Input sheet - Employee data'!CV76","v":0},{"$f":"'6 - Input sheet - Employee data'!CW76","v":0},{"$f":"'6 - Input sheet - Employee data'!CX76","v":0},{"$f":"'6 - Input sheet - Employee data'!CY76","v":0},{"$f":"'6 - Input sheet - Employee data'!CZ76","v":0},{"$f":"'6 - Input sheet - Employee data'!DA76","v":0},{"$f":"'6 - Input sheet - Employee data'!DB76","v":0},{"$f":"'6 - Input sheet - Employee data'!DC76","v":0},{"$f":"'6 - Input sheet - Employee data'!DD76","v":0},{"$f":"'6 - Input sheet - Employee data'!DE76","v":0},{"$f":"'6 - Input sheet - Employee data'!DF76","v":0},{"$f":"'6 - Input sheet - Employee data'!DG76","v":0},{"$f":"'6 - Input sheet - Employee data'!DH76","v":0},{"$f":"'6 - Input sheet - Employee data'!DI76","v":0},{"$f":"'6 - Input sheet - Employee data'!DJ76","v":0},{"$f":"'6 - Input sheet - Employee data'!DK76","v":0},{"$f":"'6 - Input sheet - Employee data'!DL76","v":0},{"$f":"'6 - Input sheet - Employee data'!DM76","v":0},{"$f":"'6 - Input sheet - Employee data'!DN76","v":0},{"$f":"'6 - Input sheet - Employee data'!DO76","v":0},{"$f":"'6 - Input sheet - Employee data'!DP76","v":0},{"$f":"'6 - Input sheet - Employee data'!DQ76","v":0},{"$f":"'6 - Input sheet - Employee data'!DR76","v":0},{"$f":"'6 - Input sheet - Employee data'!DS76","v":0},{"$f":"'6 - Input sheet - Employee data'!DT76","v":0},{"$f":"'6 - Input sheet - Employee data'!DU76","v":0},{"$f":"'6 - Input sheet - Employee data'!DV76","v":0},{"$f":"'6 - Input sheet - Employee data'!DW76","v":0},{"$f":"'6 - Input sheet - Employee data'!DX76","v":0},{"$f":"'6 - Input sheet - Employee data'!DY76","v":0},{"$f":"'6 - Input sheet - Employee data'!DZ76","v":0},{"$f":"'6 - Input sheet - Employee data'!EA76","v":0},{"$f":"'6 - Input sheet - Employee data'!EB76","v":0},{"$f":"'6 - Input sheet - Employee data'!EC76","v":0},{"$f":"'6 - Input sheet - Employee data'!ED76","v":0},{"$f":"'6 - Input sheet - Employee data'!EE76","v":0},{"$f":"'6 - Input sheet - Employee data'!EF76","v":0},{"$f":"'6 - Input sheet - Employee data'!EG76","v":0},{"$f":"'6 - Input sheet - Employee data'!EH76","v":0},{"$f":"'6 - Input sheet - Employee data'!EI76","v":0},{"$f":"'6 - Input sheet - Employee data'!EJ76","v":0},{"$f":"'6 - Input sheet - Employee data'!EK76","v":0},{"$f":"'6 - Input sheet - Employee data'!EL76","v":0},{"$f":"'6 - Input sheet - Employee data'!EM76","v":0},{"$f":"'6 - Input sheet - Employee data'!EN76","v":0},{"$f":"'6 - Input sheet - Employee data'!EO76","v":0},{"$f":"'6 - Input sheet - Employee data'!EP76","v":0},{"$f":"'6 - Input sheet - Employee data'!EQ76","v":0},{"$f":"'6 - Input sheet - Employee data'!ER76","v":0},{"$f":"'6 - Input sheet - Employee data'!ES76","v":0},{"$f":"'6 - Input sheet - Employee data'!ET76","v":0},{"$f":"'6 - Input sheet - Employee data'!EU76","v":0},{"$f":"'6 - Input sheet - Employee data'!EV76","v":0},{"$f":"'6 - Input sheet - Employee data'!EW76","v":0},{"$f":"'6 - Input sheet - Employee data'!EX76","v":0},{"$f":"'6 - Input sheet - Employee data'!EY76","v":0},{"$f":"'6 - Input sheet - Employee data'!EZ76","v":0},{"$f":"'6 - Input sheet - Employee data'!FA76","v":0},{"$f":"'6 - Input sheet - Employee data'!FB76","v":0},{"$f":"'6 - Input sheet - Employee data'!FC76","v":0},{"$f":"'6 - Input sheet - Employee data'!FD76","v":0},{"$f":"'6 - Input sheet - Employee data'!FE76","v":0},{"$f":"'6 - Input sheet - Employee data'!FF76","v":0},{"$f":"'6 - Input sheet - Employee data'!FG76","v":0},{"$f":"'6 - Input sheet - Employee data'!FH76","v":0},{"$f":"'6 - Input sheet - Employee data'!FI76","v":0},{"$f":"'6 - Input sheet - Employee data'!FJ76","v":0},{"$f":"'6 - Input sheet - Employee data'!FK76","v":0},{"$f":"'6 - Input sheet - Employee data'!FL76","v":0},{"$f":"'6 - Input sheet - Employee data'!FM76","v":0},{"$f":"'6 - Input sheet - Employee data'!FN76","v":0},{"$f":"'6 - Input sheet - Employee data'!FO76","v":0},{"$f":"'6 - Input sheet - Employee data'!FP76","v":0},{"$f":"'6 - Input sheet - Employee data'!FQ76","v":0},{"$f":"'6 - Input sheet - Employee data'!FR76","v":0},{"$f":"'6 - Input sheet - Employee data'!FS76","v":0},{"$f":"'6 - Input sheet - Employee data'!FT76","v":0},{"$f":"'6 - Input sheet - Employee data'!FU76","v":0},{"$f":"'6 - Input sheet - Employee data'!FV76","v":0},{"$f":"'6 - Input sheet - Employee data'!FW76","v":0},{"$f":"'6 - Input sheet - Employee data'!FX76","v":0},{"$f":"'6 - Input sheet - Employee data'!FY76","v":0},{"$f":"'6 - Input sheet - Employee data'!FZ76","v":0},{"$f":"'6 - Input sheet - Employee data'!GA76","v":0},{"$f":"'6 - Input sheet - Employee data'!GB76","v":0},{"$f":"'6 - Input sheet - Employee data'!GC76","v":0},{"$f":"'6 - Input sheet - Employee data'!GD76","v":0},{"$f":"'6 - Input sheet - Employee data'!GE76","v":0},{"$f":"'6 - Input sheet - Employee data'!GF76","v":0},{"$f":"'6 - Input sheet - Employee data'!GG76","v":0},{"$f":"'6 - Input sheet - Employee data'!GH76","v":0},{"$f":"'6 - Input sheet - Employee data'!GI76","v":0},{"$f":"'6 - Input sheet - Employee data'!GJ76","v":0},{"$f":"'6 - Input sheet - Employee data'!GK76","v":0},{"$f":"'6 - Input sheet - Employee data'!GL76","v":0},{"$f":"'6 - Input sheet - Employee data'!GM76","v":0},{"$f":"'6 - Input sheet - Employee data'!GN76","v":0},{"$f":"'6 - Input sheet - Employee data'!GO76","v":0},{"$f":"'6 - Input sheet - Employee data'!GP76","v":0},{"$f":"'6 - Input sheet - Employee data'!GQ76","v":0},{"$f":"'6 - Input sheet - Employee data'!GR76","v":0},{"$f":"'6 - Input sheet - Employee data'!GS76","v":0},{"$f":"'6 - Input sheet - Employee data'!GT76","v":0},{"$f":"'6 - Input sheet - Employee data'!GU76","v":0},{"$f":"'6 - Input sheet - Employee data'!GV76","v":0},{"$f":"'6 - Input sheet - Employee data'!GW76","v":0},{"$f":"'6 - Input sheet - Employee data'!GX76","v":0},{"$f":"'6 - Input sheet - Employee data'!GY76","v":0},{"$f":"'6 - Input sheet - Employee data'!GZ76","v":0},{"$f":"'6 - Input sheet - Employee data'!HA76","v":0},{"$f":"'6 - Input sheet - Employee data'!HB76","v":0},{"$f":"'6 - Input sheet - Employee data'!HC76","v":0},{"$f":"'6 - Input sheet - Employee data'!HD76","v":0},{"$f":"'6 - Input sheet - Employee data'!HE76","v":0},{"$f":"'6 - Input sheet - Employee data'!HF76","v":0},{"$f":"'6 - Input sheet - Employee data'!HG76","v":0},{"$f":"'6 - Input sheet - Employee data'!HH76","v":0},{"$f":"'6 - Input sheet - Employee data'!HI76","v":0},{"$f":"'6 - Input sheet - Employee data'!HJ76","v":0},{"$f":"'6 - Input sheet - Employee data'!HK76","v":0},{"$f":"'6 - Input sheet - Employee data'!HL76","v":0},{"$f":"'6 - Input sheet - Employee data'!HM76","v":0},{"$f":"'6 - Input sheet - Employee data'!HN76","v":0},{"$f":"'6 - Input sheet - Employee data'!HO76","v":0},{"$f":"'6 - Input sheet - Employee data'!HP76","v":0},{"$f":"'6 - Input sheet - Employee data'!HQ76","v":0},{"$f":"'6 - Input sheet - Employee data'!HR76","v":0},{"$f":"'6 - Input sheet - Employee data'!HS76","v":0},{"$f":"'6 - Input sheet - Employee data'!HT76","v":0},{"$f":"'6 - Input sheet - Employee data'!HU76","v":0},{"$f":"'6 - Input sheet - Employee data'!HV76","v":0},{"$f":"'6 - Input sheet - Employee data'!HW76","v":0},{"$f":"'6 - Input sheet - Employee data'!HX76","v":0},{"$f":"'6 - Input sheet - Employee data'!HY76","v":0},{"$f":"'6 - Input sheet - Employee data'!HZ76","v":0},{"$f":"'6 - Input sheet - Employee data'!IA76","v":0},{"$f":"'6 - Input sheet - Employee data'!IB76","v":0},{"$f":"'6 - Input sheet - Employee data'!IC76","v":0},{"$f":"'6 - Input sheet - Employee data'!ID76","v":0},{"$f":"'6 - Input sheet - Employee data'!IE76","v":0},{"$f":"'6 - Input sheet - Employee data'!IF76","v":0},{"$f":"'6 - Input sheet - Employee data'!IG76","v":0},{"$f":"'6 - Input sheet - Employee data'!IH76","v":0},{"$f":"'6 - Input sheet - Employee data'!II76","v":0},{"$f":"'6 - Input sheet - Employee data'!IJ76","v":0},{"$f":"'6 - Input sheet - Employee data'!IK76","v":0},{"$f":"'6 - Input sheet - Employee data'!IL76","v":0},{"$f":"'6 - Input sheet - Employee data'!IM76","v":0},{"$f":"'6 - Input sheet - Employee data'!IN76","v":0},{"$f":"'6 - Input sheet - Employee data'!IO76","v":0},{"$f":"'6 - Input sheet - Employee data'!IP76","v":0},{"$f":"'6 - Input sheet - Employee data'!IQ76","v":0},{"$f":"'6 - Input sheet - Employee data'!IR76","v":0},{"$f":"'6 - Input sheet - Employee data'!IS76","v":0},{"$f":"'6 - Input sheet - Employee data'!IT76","v":0},{"$f":"'6 - Input sheet - Employee data'!IU76","v":0},{"$f":"'6 - Input sheet - Employee data'!IV76","v":0},{"$f":"'6 - Input sheet - Employee data'!IW76","v":0},{"$f":"'6 - Input sheet - Employee data'!IX76","v":0},{"$f":"'6 - Input sheet - Employee data'!IY76","v":0},{"$f":"'6 - Input sheet - Employee data'!IZ76","v":0},{"$f":"'6 - Input sheet - Employee data'!JA76","v":0},{"$f":"'6 - Input sheet - Employee data'!JB76","v":0},{"$f":"'6 - Input sheet - Employee data'!JC76","v":0},{"$f":"'6 - Input sheet - Employee data'!JD76","v":0},{"$f":"'6 - Input sheet - Employee data'!JE76","v":0},{"$f":"'6 - Input sheet - Employee data'!JF76","v":0},{"$f":"'6 - Input sheet - Employee data'!JG76","v":0},{"$f":"'6 - Input sheet - Employee data'!JH76","v":0},{"$f":"'6 - Input sheet - Employee data'!JI76","v":0},{"$f":"'6 - Input sheet - Employee data'!JJ76","v":0},{"$f":"'6 - Input sheet - Employee data'!JK76","v":0},{"$f":"'6 - Input sheet - Employee data'!JL76","v":0},{"$f":"'6 - Input sheet - Employee data'!JM76","v":0},{"$f":"'6 - Input sheet - Employee data'!JN76","v":0},{"$f":"'6 - Input sheet - Employee data'!JO76","v":0},{"$f":"'6 - Input sheet - Employee data'!JP76","v":0},{"$f":"'6 - Input sheet - Employee data'!JQ76","v":0},{"$f":"'6 - Input sheet - Employee data'!JR76","v":0},{"$f":"'6 - Input sheet - Employee data'!JS76","v":0},{"$f":"'6 - Input sheet - Employee data'!JT76","v":0},{"$f":"'6 - Input sheet - Employee data'!JU76","v":0},{"$f":"'6 - Input sheet - Employee data'!JV76","v":0},{"$f":"'6 - Input sheet - Employee data'!JW76","v":0},{"$f":"'6 - Input sheet - Employee data'!JX76","v":0},{"$f":"'6 - Input sheet - Employee data'!JY76","v":0},{"$f":"'6 - Input sheet - Employee data'!JZ76","v":0},{"$f":"'6 - Input sheet - Employee data'!KA76","v":0},{"$f":"'6 - Input sheet - Employee data'!KB76","v":0},{"$f":"'6 - Input sheet - Employee data'!KC76","v":0},{"$f":"'6 - Input sheet - Employee data'!KD76","v":0},{"$f":"'6 - Input sheet - Employee data'!KE76","v":0},{"$f":"'6 - Input sheet - Employee data'!KF76","v":0},{"$f":"'6 - Input sheet - Employee data'!KG76","v":0},{"$f":"'6 - Input sheet - Employee data'!KH76","v":0},{"$f":"'6 - Input sheet - Employee data'!KI76","v":0},{"$f":"'6 - Input sheet - Employee data'!KJ76","v":0},{"$f":"'6 - Input sheet - Employee data'!KK76","v":0},{"$f":"'6 - Input sheet - Employee data'!KL76","v":0},{"$f":"'6 - Input sheet - Employee data'!KM76","v":0},{"$f":"'6 - Input sheet - Employee data'!KN76","v":0},{"$f":"'6 - Input sheet - Employee data'!KO76","v":0},{"$f":"'6 - Input sheet - Employee data'!KP76","v":0},{"$f":"'6 - Input sheet - Employee data'!KQ76","v":0},{"$f":"'6 - Input sheet - Employee data'!KR76","v":0},{"$f":"'6 - Input sheet - Employee data'!KS76","v":0},{"$f":"'6 - Input sheet - Employee data'!KT76","v":0},{"$f":"'6 - Input sheet - Employee data'!KU76","v":0},{"$f":"'6 - Input sheet - Employee data'!KV76","v":0},{"$f":"'6 - Input sheet - Employee data'!KW76","v":0},{"$f":"'6 - Input sheet - Employee data'!KX76","v":0},{"$f":"'6 - Input sheet - Employee data'!KY76","v":0},{"$f":"'6 - Input sheet - Employee data'!KZ76","v":0},{"$f":"'6 - Input sheet - Employee data'!LA76","v":0},{"$f":"'6 - Input sheet - Employee data'!LB76","v":0},{"$f":"'6 - Input sheet - Employee data'!LC76","v":0},{"$f":"'6 - Input sheet - Employee data'!LD76","v":0},{"$f":"'6 - Input sheet - Employee data'!LE76","v":0},{"$f":"'6 - Input sheet - Employee data'!LF76","v":0},{"$f":"'6 - Input sheet - Employee data'!LG76","v":0},{"$f":"'6 - Input sheet - Employee data'!LH76","v":0},{"$f":"'6 - Input sheet - Employee data'!LI76","v":0},{"$f":"'6 - Input sheet - Employee data'!LJ76","v":0},{"$f":"'6 - Input sheet - Employee data'!LK76","v":0},{"$f":"'6 - Input sheet - Employee data'!LL76","v":0},{"$f":"'6 - Input sheet - Employee data'!LM76","v":0},{"$f":"'6 - Input sheet - Employee data'!LN76","v":0},{"$f":"'6 - Input sheet - Employee data'!LO76","v":0},{"$f":"'6 - Input sheet - Employee data'!LP76","v":0},{"$f":"'6 - Input sheet - Employee data'!LQ76","v":0},{"$f":"'6 - Input sheet - Employee data'!LR76","v":0},{"$f":"'6 - Input sheet - Employee data'!LS76","v":0},{"$f":"'6 - Input sheet - Employee data'!LT76","v":0},{"$f":"'6 - Input sheet - Employee data'!LU76","v":0},{"$f":"'6 - Input sheet - Employee data'!LV76","v":0},{"$f":"'6 - Input sheet - Employee data'!LW76","v":0},{"$f":"'6 - Input sheet - Employee data'!LX76","v":0},{"$f":"'6 - Input sheet - Employee data'!LY76","v":0},{"$f":"'6 - Input sheet - Employee data'!LZ76","v":0},{"$f":"'6 - Input sheet - Employee data'!MA76","v":0},{"$f":"'6 - Input sheet - Employee data'!MB76","v":0},{"$f":"'6 - Input sheet - Employee data'!MC76","v":0},{"$f":"'6 - Input sheet - Employee data'!MD76","v":0},{"$f":"'6 - Input sheet - Employee data'!ME76","v":0},{"$f":"'6 - Input sheet - Employee data'!MF76","v":0},{"$f":"'6 - Input sheet - Employee data'!MG76","v":0},{"$f":"'6 - Input sheet - Employee data'!MH76","v":0},{"$f":"'6 - Input sheet - Employee data'!MI76","v":0},{"$f":"'6 - Input sheet - Employee data'!MJ76","v":0},{"$f":"'6 - Input sheet - Employee data'!MK76","v":0},{"$f":"'6 - Input sheet - Employee data'!ML76","v":0},{"$f":"'6 - Input sheet - Employee data'!MM76","v":0},{"$f":"'6 - Input sheet - Employee data'!MN76","v":0},{"$f":"'6 - Input sheet - Employee data'!MO76","v":0},{"$f":"'6 - Input sheet - Employee data'!MP76","v":0},{"$f":"'6 - Input sheet - Employee data'!MQ76","v":0},{"$f":"'6 - Input sheet - Employee data'!MR76","v":0},{"$f":"'6 - Input sheet - Employee data'!MS76","v":0},{"$f":"'6 - Input sheet - Employee data'!MT76","v":0},{"$f":"'6 - Input sheet - Employee data'!MU76","v":0},{"$f":"'6 - Input sheet - Employee data'!MV76","v":0},{"$f":"'6 - Input sheet - Employee data'!MW76","v":0},{"$f":"'6 - Input sheet - Employee data'!MX76","v":0},{"$f":"'6 - Input sheet - Employee data'!MY76","v":0},{"$f":"'6 - Input sheet - Employee data'!MZ76","v":0},{"$f":"'6 - Input sheet - Employee data'!NA76","v":0},{"$f":"'6 - Input sheet - Employee data'!NB76","v":0},{"$f":"'6 - Input sheet - Employee data'!NC76","v":0},{"$f":"'6 - Input sheet - Employee data'!ND76","v":0},{"$f":"'6 - Input sheet - Employee data'!NE76","v":0},{"$f":"'6 - Input sheet - Employee data'!NF76","v":0},{"$f":"'6 - Input sheet - Employee data'!NG76","v":0},{"$f":"'6 - Input sheet - Employee data'!NH76","v":0},{"$f":"'6 - Input sheet - Employee data'!NI76","v":0},{"$f":"'6 - Input sheet - Employee data'!NJ76","v":0},{"$f":"'6 - Input sheet - Employee data'!NK76","v":0},{"$f":"'6 - Input sheet - Employee data'!NL76","v":0},{"$f":"'6 - Input sheet - Employee data'!NM76","v":0},{"$f":"'6 - Input sheet - Employee data'!NN76","v":0},{"$f":"'6 - Input sheet - Employee data'!NO76","v":0},{"$f":"'6 - Input sheet - Employee data'!NP76","v":0},{"$f":"'6 - Input sheet - Employee data'!NQ76","v":0},{"$f":"'6 - Input sheet - Employee data'!NR76","v":0},{"$f":"'6 - Input sheet - Employee data'!NS76","v":0},{"$f":"'6 - Input sheet - Employee data'!NT76","v":0},{"$f":"'6 - Input sheet - Employee data'!NU76","v":0},{"$f":"'6 - Input sheet - Employee data'!NV76","v":0},{"$f":"'6 - Input sheet - Employee data'!NW76","v":0},{"$f":"'6 - Input sheet - Employee data'!NX76","v":0},{"$f":"'6 - Input sheet - Employee data'!NY76","v":0},{"$f":"'6 - Input sheet - Employee data'!NZ76","v":0},{"$f":"'6 - Input sheet - Employee data'!OA76","v":0},{"$f":"'6 - Input sheet - Employee data'!OB76","v":0},{"$f":"'6 - Input sheet - Employee data'!OC76","v":0},{"$f":"'6 - Input sheet - Employee data'!OD76","v":0},{"$f":"'6 - Input sheet - Employee data'!OE76","v":0},{"$f":"'6 - Input sheet - Employee data'!OF76","v":0},{"$f":"'6 - Input sheet - Employee data'!OG76","v":0},{"$f":"'6 - Input sheet - Employee data'!OH76","v":0},{"$f":"'6 - Input sheet - Employee data'!OI76","v":0},{"$f":"'6 - Input sheet - Employee data'!OJ76","v":0},{"$f":"'6 - Input sheet - Employee data'!OK76","v":0},{"$f":"'6 - Input sheet - Employee data'!OL76","v":0},{"$f":"'6 - Input sheet - Employee data'!OM76","v":0},{"$f":"'6 - Input sheet - Employee data'!ON76","v":0},{"$f":"'6 - Input sheet - Employee data'!OO76","v":0},{"$f":"'6 - Input sheet - Employee data'!OP76","v":0},{"$f":"'6 - Input sheet - Employee data'!OQ76","v":0},{"$f":"'6 - Input sheet - Employee data'!OR76","v":0},{"$f":"'6 - Input sheet - Employee data'!OS76","v":0},{"$f":"'6 - Input sheet - Employee data'!OT76","v":0},{"$f":"'6 - Input sheet - Employee data'!OU76","v":0},{"$f":"'6 - Input sheet - Employee data'!OV76","v":0},{"$f":"'6 - Input sheet - Employee data'!OW76","v":0},{"$f":"'6 - Input sheet - Employee data'!OX76","v":0},{"$f":"'6 - Input sheet - Employee data'!OY76","v":0},{"$f":"'6 - Input sheet - Employee data'!OZ76","v":0},{"$f":"'6 - Input sheet - Employee data'!PA76","v":0},{"$f":"'6 - Input sheet - Employee data'!PB76","v":0},{"$f":"'6 - Input sheet - Employee data'!PC76","v":0},{"$f":"'6 - Input sheet - Employee data'!PD76","v":0},{"$f":"'6 - Input sheet - Employee data'!PE76","v":0},{"$f":"'6 - Input sheet - Employee data'!PF76","v":0},{"$f":"'6 - Input sheet - Employee data'!PG76","v":0},{"$f":"'6 - Input sheet - Employee data'!PH76","v":0},{"$f":"'6 - Input sheet - Employee data'!PI76","v":0},{"$f":"'6 - Input sheet - Employee data'!PJ76","v":0},{"$f":"'6 - Input sheet - Employee data'!PK76","v":0},{"$f":"'6 - Input sheet - Employee data'!PL76","v":0},{"$f":"'6 - Input sheet - Employee data'!PM76","v":0},{"$f":"'6 - Input sheet - Employee data'!PN76","v":0},{"$f":"'6 - Input sheet - Employee data'!PO76","v":0},{"$f":"'6 - Input sheet - Employee data'!PP76","v":0},{"$f":"'6 - Input sheet - Employee data'!PQ76","v":0},{"$f":"'6 - Input sheet - Employee data'!PR76","v":0},{"$f":"'6 - Input sheet - Employee data'!PS76","v":0},{"$f":"'6 - Input sheet - Employee data'!PT76","v":0},{"$f":"'6 - Input sheet - Employee data'!PU76","v":0},{"$f":"'6 - Input sheet - Employee data'!PV76","v":0},{"$f":"'6 - Input sheet - Employee data'!PW76","v":0},{"$f":"'6 - Input sheet - Employee data'!PX76","v":0},{"$f":"'6 - Input sheet - Employee data'!PY76","v":0},{"$f":"'6 - Input sheet - Employee data'!PZ76","v":0},{"$f":"'6 - Input sheet - Employee data'!QA76","v":0},{"$f":"'6 - Input sheet - Employee data'!QB76","v":0},{"$f":"'6 - Input sheet - Employee data'!QC76","v":0},{"$f":"'6 - Input sheet - Employee data'!QD76","v":0},{"$f":"'6 - Input sheet - Employee data'!QE76","v":0},{"$f":"'6 - Input sheet - Employee data'!QF76","v":0},{"$f":"'6 - Input sheet - Employee data'!QG76","v":0},{"$f":"'6 - Input sheet - Employee data'!QH76","v":0},{"$f":"'6 - Input sheet - Employee data'!QI76","v":0},{"$f":"'6 - Input sheet - Employee data'!QJ76","v":0},{"$f":"'6 - Input sheet - Employee data'!QK76","v":0},{"$f":"'6 - Input sheet - Employee data'!QL76","v":0},{"$f":"'6 - Input sheet - Employee data'!QM76","v":0},{"$f":"'6 - Input sheet - Employee data'!QN76","v":0},{"$f":"'6 - Input sheet - Employee data'!QO76","v":0},{"$f":"'6 - Input sheet - Employee data'!QP76","v":0},{"$f":"'6 - Input sheet - Employee data'!QQ76","v":0},{"$f":"'6 - Input sheet - Employee data'!QR76","v":0},{"$f":"'6 - Input sheet - Employee data'!QS76","v":0},{"$f":"'6 - Input sheet - Employee data'!QT76","v":0},{"$f":"'6 - Input sheet - Employee data'!QU76","v":0},{"$f":"'6 - Input sheet - Employee data'!QV76","v":0},{"$f":"'6 - Input sheet - Employee data'!QW76","v":0},{"$f":"'6 - Input sheet - Employee data'!QX76","v":0},{"$f":"'6 - Input sheet - Employee data'!QY76","v":0},{"$f":"'6 - Input sheet - Employee data'!QZ76","v":0},{"$f":"'6 - Input sheet - Employee data'!RA76","v":0},{"$f":"'6 - Input sheet - Employee data'!RB76","v":0},{"$f":"'6 - Input sheet - Employee data'!RC76","v":0},{"$f":"'6 - Input sheet - Employee data'!RD76","v":0},{"$f":"'6 - Input sheet - Employee data'!RE76","v":0},{"$f":"'6 - Input sheet - Employee data'!RF76","v":0},{"$f":"'6 - Input sheet - Employee data'!RG76","v":0},{"$f":"'6 - Input sheet - Employee data'!RH76","v":0},{"$f":"'6 - Input sheet - Employee data'!RI76","v":0},{"$f":"'6 - Input sheet - Employee data'!RJ76","v":0},{"$f":"'6 - Input sheet - Employee data'!RK76","v":0},{"$f":"'6 - Input sheet - Employee data'!RL76","v":0},{"$f":"'6 - Input sheet - Employee data'!RM76","v":0},{"$f":"'6 - Input sheet - Employee data'!RN76","v":0},{"$f":"'6 - Input sheet - Employee data'!RO76","v":0},{"$f":"'6 - Input sheet - Employee data'!RP76","v":0},{"$f":"'6 - Input sheet - Employee data'!RQ76","v":0},{"$f":"'6 - Input sheet - Employee data'!RR76","v":0},{"$f":"'6 - Input sheet - Employee data'!RS76","v":0},{"$f":"'6 - Input sheet - Employee data'!RT76","v":0},{"$f":"'6 - Input sheet - Employee data'!RU76","v":0},{"$f":"'6 - Input sheet - Employee data'!RV76","v":0},{"$f":"'6 - Input sheet - Employee data'!RW76","v":0},{"$f":"'6 - Input sheet - Employee data'!RX76","v":0},{"$f":"'6 - Input sheet - Employee data'!RY76","v":0},{"$f":"'6 - Input sheet - Employee data'!RZ76","v":0},{"$f":"'6 - Input sheet - Employee data'!SA76","v":0},{"$f":"'6 - Input sheet - Employee data'!SB76","v":0},{"$f":"'6 - Input sheet - Employee data'!SC76","v":0},{"$f":"'6 - Input sheet - Employee data'!SD76","v":0},{"$f":"'6 - Input sheet - Employee data'!SE76","v":0},{"$f":"'6 - Input sheet - Employee data'!SF76","v":0},{"$f":"'6 - Input sheet - Employee data'!SG76","v":0},{"$f":"'6 - Input sheet - Employee data'!SH76","v":0}]
[]
["Annual salary/hourly wage between 2/15/2020 - 4/26/2020",null,{"$f":"'6 - Input sheet - Employee data'!C77","v":0},{"$f":"'6 - Input sheet - Employee data'!D77","v":0},{"$f":"'6 - Input sheet - Employee data'!E77","v":0},{"$f":"'6 - Input sheet - Employee data'!F77","v":0},{"$f":"'6 - Input sheet - Employee data'!G77","v":0},{"$f":"'6 - Input sheet - Employee data'!H77","v":0},{"$f":"'6 - Input sheet - Employee data'!I77","v":0},{"$f":"'6 - Input sheet - Employee data'!J77","v":0},{"$f":"'6 - Input sheet - Employee data'!K77","v":0},{"$f":"'6 - Input sheet - Employee data'!L77","v":0},{"$f":"'6 - Input sheet - Employee data'!M77","v":0},{"$f":"'6 - Input sheet - Employee data'!N77","v":0},{"$f":"'6 - Input sheet - Employee data'!O77","v":0},{"$f":"'6 - Input sheet - Employee data'!P77","v":0},{"$f":"'6 - Input sheet - Employee data'!Q77","v":0},{"$f":"'6 - Input sheet - Employee data'!R77","v":0},{"$f":"'6 - Input sheet - Employee data'!S77","v":0},{"$f":"'6 - Input sheet - Employee data'!T77","v":0},{"$f":"'6 - Input sheet - Employee data'!U77","v":0},{"$f":"'6 - Input sheet - Employee data'!V77","v":0},{"$f":"'6 - Input sheet - Employee data'!W77","v":0},{"$f":"'6 - Input sheet - Employee data'!X77","v":0},{"$f":"'6 - Input sheet - Employee data'!Y77","v":0},{"$f":"'6 - Input sheet - Employee data'!Z77","v":0},{"$f":"'6 - Input sheet - Employee data'!AA77","v":0},{"$f":"'6 - Input sheet - Employee data'!AB77","v":0},{"$f":"'6 - Input sheet - Employee data'!AC77","v":0},{"$f":"'6 - Input sheet - Employee data'!AD77","v":0},{"$f":"'6 - Input sheet - Employee data'!AE77","v":0},{"$f":"'6 - Input sheet - Employee data'!AF77","v":0},{"$f":"'6 - Input sheet - Employee data'!AG77","v":0},{"$f":"'6 - Input sheet - Employee data'!AH77","v":0},{"$f":"'6 - Input sheet - Employee data'!AI77","v":0},{"$f":"'6 - Input sheet - Employee data'!AJ77","v":0},{"$f":"'6 - Input sheet - Employee data'!AK77","v":0},{"$f":"'6 - Input sheet - Employee data'!AL77","v":0},{"$f":"'6 - Input sheet - Employee data'!AM77","v":0},{"$f":"'6 - Input sheet - Employee data'!AN77","v":0},{"$f":"'6 - Input sheet - Employee data'!AO77","v":0},{"$f":"'6 - Input sheet - Employee data'!AP77","v":0},{"$f":"'6 - Input sheet - Employee data'!AQ77","v":0},{"$f":"'6 - Input sheet - Employee data'!AR77","v":0},{"$f":"'6 - Input sheet - Employee data'!AS77","v":0},{"$f":"'6 - Input sheet - Employee data'!AT77","v":0},{"$f":"'6 - Input sheet - Employee data'!AU77","v":0},{"$f":"'6 - Input sheet - Employee data'!AV77","v":0},{"$f":"'6 - Input sheet - Employee data'!AW77","v":0},{"$f":"'6 - Input sheet - Employee data'!AX77","v":0},{"$f":"'6 - Input sheet - Employee data'!AY77","v":0},{"$f":"'6 - Input sheet - Employee data'!AZ77","v":0},{"$f":"'6 - Input sheet - Employee data'!BA77","v":0},{"$f":"'6 - Input sheet - Employee data'!BB77","v":0},{"$f":"'6 - Input sheet - Employee data'!BC77","v":0},{"$f":"'6 - Input sheet - Employee data'!BD77","v":0},{"$f":"'6 - Input sheet - Employee data'!BE77","v":0},{"$f":"'6 - Input sheet - Employee data'!BF77","v":0},{"$f":"'6 - Input sheet - Employee data'!BG77","v":0},{"$f":"'6 - Input sheet - Employee data'!BH77","v":0},{"$f":"'6 - Input sheet - Employee data'!BI77","v":0},{"$f":"'6 - Input sheet - Employee data'!BJ77","v":0},{"$f":"'6 - Input sheet - Employee data'!BK77","v":0},{"$f":"'6 - Input sheet - Employee data'!BL77","v":0},{"$f":"'6 - Input sheet - Employee data'!BM77","v":0},{"$f":"'6 - Input sheet - Employee data'!BN77","v":0},{"$f":"'6 - Input sheet - Employee data'!BO77","v":0},{"$f":"'6 - Input sheet - Employee data'!BP77","v":0},{"$f":"'6 - Input sheet - Employee data'!BQ77","v":0},{"$f":"'6 - Input sheet - Employee data'!BR77","v":0},{"$f":"'6 - Input sheet - Employee data'!BS77","v":0},{"$f":"'6 - Input sheet - Employee data'!BT77","v":0},{"$f":"'6 - Input sheet - Employee data'!BU77","v":0},{"$f":"'6 - Input sheet - Employee data'!BV77","v":0},{"$f":"'6 - Input sheet - Employee data'!BW77","v":0},{"$f":"'6 - Input sheet - Employee data'!BX77","v":0},{"$f":"'6 - Input sheet - Employee data'!BY77","v":0},{"$f":"'6 - Input sheet - Employee data'!BZ77","v":0},{"$f":"'6 - Input sheet - Employee data'!CA77","v":0},{"$f":"'6 - Input sheet - Employee data'!CB77","v":0},{"$f":"'6 - Input sheet - Employee data'!CC77","v":0},{"$f":"'6 - Input sheet - Employee data'!CD77","v":0},{"$f":"'6 - Input sheet - Employee data'!CE77","v":0},{"$f":"'6 - Input sheet - Employee data'!CF77","v":0},{"$f":"'6 - Input sheet - Employee data'!CG77","v":0},{"$f":"'6 - Input sheet - Employee data'!CH77","v":0},{"$f":"'6 - Input sheet - Employee data'!CI77","v":0},{"$f":"'6 - Input sheet - Employee data'!CJ77","v":0},{"$f":"'6 - Input sheet - Employee data'!CK77","v":0},{"$f":"'6 - Input sheet - Employee data'!CL77","v":0},{"$f":"'6 - Input sheet - Employee data'!CM77","v":0},{"$f":"'6 - Input sheet - Employee data'!CN77","v":0},{"$f":"'6 - Input sheet - Employee data'!CO77","v":0},{"$f":"'6 - Input sheet - Employee data'!CP77","v":0},{"$f":"'6 - Input sheet - Employee data'!CQ77","v":0},{"$f":"'6 - Input sheet - Employee data'!CR77","v":0},{"$f":"'6 - Input sheet - Employee data'!CS77","v":0},{"$f":"'6 - Input sheet - Employee data'!CT77","v":0},{"$f":"'6 - Input sheet - Employee data'!CU77","v":0},{"$f":"'6 - Input sheet - Employee data'!CV77","v":0},{"$f":"'6 - Input sheet - Employee data'!CW77","v":0},{"$f":"'6 - Input sheet - Employee data'!CX77","v":0},{"$f":"'6 - Input sheet - Employee data'!CY77","v":0},{"$f":"'6 - Input sheet - Employee data'!CZ77","v":0},{"$f":"'6 - Input sheet - Employee data'!DA77","v":0},{"$f":"'6 - Input sheet - Employee data'!DB77","v":0},{"$f":"'6 - Input sheet - Employee data'!DC77","v":0},{"$f":"'6 - Input sheet - Employee data'!DD77","v":0},{"$f":"'6 - Input sheet - Employee data'!DE77","v":0},{"$f":"'6 - Input sheet - Employee data'!DF77","v":0},{"$f":"'6 - Input sheet - Employee data'!DG77","v":0},{"$f":"'6 - Input sheet - Employee data'!DH77","v":0},{"$f":"'6 - Input sheet - Employee data'!DI77","v":0},{"$f":"'6 - Input sheet - Employee data'!DJ77","v":0},{"$f":"'6 - Input sheet - Employee data'!DK77","v":0},{"$f":"'6 - Input sheet - Employee data'!DL77","v":0},{"$f":"'6 - Input sheet - Employee data'!DM77","v":0},{"$f":"'6 - Input sheet - Employee data'!DN77","v":0},{"$f":"'6 - Input sheet - Employee data'!DO77","v":0},{"$f":"'6 - Input sheet - Employee data'!DP77","v":0},{"$f":"'6 - Input sheet - Employee data'!DQ77","v":0},{"$f":"'6 - Input sheet - Employee data'!DR77","v":0},{"$f":"'6 - Input sheet - Employee data'!DS77","v":0},{"$f":"'6 - Input sheet - Employee data'!DT77","v":0},{"$f":"'6 - Input sheet - Employee data'!DU77","v":0},{"$f":"'6 - Input sheet - Employee data'!DV77","v":0},{"$f":"'6 - Input sheet - Employee data'!DW77","v":0},{"$f":"'6 - Input sheet - Employee data'!DX77","v":0},{"$f":"'6 - Input sheet - Employee data'!DY77","v":0},{"$f":"'6 - Input sheet - Employee data'!DZ77","v":0},{"$f":"'6 - Input sheet - Employee data'!EA77","v":0},{"$f":"'6 - Input sheet - Employee data'!EB77","v":0},{"$f":"'6 - Input sheet - Employee data'!EC77","v":0},{"$f":"'6 - Input sheet - Employee data'!ED77","v":0},{"$f":"'6 - Input sheet - Employee data'!EE77","v":0},{"$f":"'6 - Input sheet - Employee data'!EF77","v":0},{"$f":"'6 - Input sheet - Employee data'!EG77","v":0},{"$f":"'6 - Input sheet - Employee data'!EH77","v":0},{"$f":"'6 - Input sheet - Employee data'!EI77","v":0},{"$f":"'6 - Input sheet - Employee data'!EJ77","v":0},{"$f":"'6 - Input sheet - Employee data'!EK77","v":0},{"$f":"'6 - Input sheet - Employee data'!EL77","v":0},{"$f":"'6 - Input sheet - Employee data'!EM77","v":0},{"$f":"'6 - Input sheet - Employee data'!EN77","v":0},{"$f":"'6 - Input sheet - Employee data'!EO77","v":0},{"$f":"'6 - Input sheet - Employee data'!EP77","v":0},{"$f":"'6 - Input sheet - Employee data'!EQ77","v":0},{"$f":"'6 - Input sheet - Employee data'!ER77","v":0},{"$f":"'6 - Input sheet - Employee data'!ES77","v":0},{"$f":"'6 - Input sheet - Employee data'!ET77","v":0},{"$f":"'6 - Input sheet - Employee data'!EU77","v":0},{"$f":"'6 - Input sheet - Employee data'!EV77","v":0},{"$f":"'6 - Input sheet - Employee data'!EW77","v":0},{"$f":"'6 - Input sheet - Employee data'!EX77","v":0},{"$f":"'6 - Input sheet - Employee data'!EY77","v":0},{"$f":"'6 - Input sheet - Employee data'!EZ77","v":0},{"$f":"'6 - Input sheet - Employee data'!FA77","v":0},{"$f":"'6 - Input sheet - Employee data'!FB77","v":0},{"$f":"'6 - Input sheet - Employee data'!FC77","v":0},{"$f":"'6 - Input sheet - Employee data'!FD77","v":0},{"$f":"'6 - Input sheet - Employee data'!FE77","v":0},{"$f":"'6 - Input sheet - Employee data'!FF77","v":0},{"$f":"'6 - Input sheet - Employee data'!FG77","v":0},{"$f":"'6 - Input sheet - Employee data'!FH77","v":0},{"$f":"'6 - Input sheet - Employee data'!FI77","v":0},{"$f":"'6 - Input sheet - Employee data'!FJ77","v":0},{"$f":"'6 - Input sheet - Employee data'!FK77","v":0},{"$f":"'6 - Input sheet - Employee data'!FL77","v":0},{"$f":"'6 - Input sheet - Employee data'!FM77","v":0},{"$f":"'6 - Input sheet - Employee data'!FN77","v":0},{"$f":"'6 - Input sheet - Employee data'!FO77","v":0},{"$f":"'6 - Input sheet - Employee data'!FP77","v":0},{"$f":"'6 - Input sheet - Employee data'!FQ77","v":0},{"$f":"'6 - Input sheet - Employee data'!FR77","v":0},{"$f":"'6 - Input sheet - Employee data'!FS77","v":0},{"$f":"'6 - Input sheet - Employee data'!FT77","v":0},{"$f":"'6 - Input sheet - Employee data'!FU77","v":0},{"$f":"'6 - Input sheet - Employee data'!FV77","v":0},{"$f":"'6 - Input sheet - Employee data'!FW77","v":0},{"$f":"'6 - Input sheet - Employee data'!FX77","v":0},{"$f":"'6 - Input sheet - Employee data'!FY77","v":0},{"$f":"'6 - Input sheet - Employee data'!FZ77","v":0},{"$f":"'6 - Input sheet - Employee data'!GA77","v":0},{"$f":"'6 - Input sheet - Employee data'!GB77","v":0},{"$f":"'6 - Input sheet - Employee data'!GC77","v":0},{"$f":"'6 - Input sheet - Employee data'!GD77","v":0},{"$f":"'6 - Input sheet - Employee data'!GE77","v":0},{"$f":"'6 - Input sheet - Employee data'!GF77","v":0},{"$f":"'6 - Input sheet - Employee data'!GG77","v":0},{"$f":"'6 - Input sheet - Employee data'!GH77","v":0},{"$f":"'6 - Input sheet - Employee data'!GI77","v":0},{"$f":"'6 - Input sheet - Employee data'!GJ77","v":0},{"$f":"'6 - Input sheet - Employee data'!GK77","v":0},{"$f":"'6 - Input sheet - Employee data'!GL77","v":0},{"$f":"'6 - Input sheet - Employee data'!GM77","v":0},{"$f":"'6 - Input sheet - Employee data'!GN77","v":0},{"$f":"'6 - Input sheet - Employee data'!GO77","v":0},{"$f":"'6 - Input sheet - Employee data'!GP77","v":0},{"$f":"'6 - Input sheet - Employee data'!GQ77","v":0},{"$f":"'6 - Input sheet - Employee data'!GR77","v":0},{"$f":"'6 - Input sheet - Employee data'!GS77","v":0},{"$f":"'6 - Input sheet - Employee data'!GT77","v":0},{"$f":"'6 - Input sheet - Employee data'!GU77","v":0},{"$f":"'6 - Input sheet - Employee data'!GV77","v":0},{"$f":"'6 - Input sheet - Employee data'!GW77","v":0},{"$f":"'6 - Input sheet - Employee data'!GX77","v":0},{"$f":"'6 - Input sheet - Employee data'!GY77","v":0},{"$f":"'6 - Input sheet - Employee data'!GZ77","v":0},{"$f":"'6 - Input sheet - Employee data'!HA77","v":0},{"$f":"'6 - Input sheet - Employee data'!HB77","v":0},{"$f":"'6 - Input sheet - Employee data'!HC77","v":0},{"$f":"'6 - Input sheet - Employee data'!HD77","v":0},{"$f":"'6 - Input sheet - Employee data'!HE77","v":0},{"$f":"'6 - Input sheet - Employee data'!HF77","v":0},{"$f":"'6 - Input sheet - Employee data'!HG77","v":0},{"$f":"'6 - Input sheet - Employee data'!HH77","v":0},{"$f":"'6 - Input sheet - Employee data'!HI77","v":0},{"$f":"'6 - Input sheet - Employee data'!HJ77","v":0},{"$f":"'6 - Input sheet - Employee data'!HK77","v":0},{"$f":"'6 - Input sheet - Employee data'!HL77","v":0},{"$f":"'6 - Input sheet - Employee data'!HM77","v":0},{"$f":"'6 - Input sheet - Employee data'!HN77","v":0},{"$f":"'6 - Input sheet - Employee data'!HO77","v":0},{"$f":"'6 - Input sheet - Employee data'!HP77","v":0},{"$f":"'6 - Input sheet - Employee data'!HQ77","v":0},{"$f":"'6 - Input sheet - Employee data'!HR77","v":0},{"$f":"'6 - Input sheet - Employee data'!HS77","v":0},{"$f":"'6 - Input sheet - Employee data'!HT77","v":0},{"$f":"'6 - Input sheet - Employee data'!HU77","v":0},{"$f":"'6 - Input sheet - Employee data'!HV77","v":0},{"$f":"'6 - Input sheet - Employee data'!HW77","v":0},{"$f":"'6 - Input sheet - Employee data'!HX77","v":0},{"$f":"'6 - Input sheet - Employee data'!HY77","v":0},{"$f":"'6 - Input sheet - Employee data'!HZ77","v":0},{"$f":"'6 - Input sheet - Employee data'!IA77","v":0},{"$f":"'6 - Input sheet - Employee data'!IB77","v":0},{"$f":"'6 - Input sheet - Employee data'!IC77","v":0},{"$f":"'6 - Input sheet - Employee data'!ID77","v":0},{"$f":"'6 - Input sheet - Employee data'!IE77","v":0},{"$f":"'6 - Input sheet - Employee data'!IF77","v":0},{"$f":"'6 - Input sheet - Employee data'!IG77","v":0},{"$f":"'6 - Input sheet - Employee data'!IH77","v":0},{"$f":"'6 - Input sheet - Employee data'!II77","v":0},{"$f":"'6 - Input sheet - Employee data'!IJ77","v":0},{"$f":"'6 - Input sheet - Employee data'!IK77","v":0},{"$f":"'6 - Input sheet - Employee data'!IL77","v":0},{"$f":"'6 - Input sheet - Employee data'!IM77","v":0},{"$f":"'6 - Input sheet - Employee data'!IN77","v":0},{"$f":"'6 - Input sheet - Employee data'!IO77","v":0},{"$f":"'6 - Input sheet - Employee data'!IP77","v":0},{"$f":"'6 - Input sheet - Employee data'!IQ77","v":0},{"$f":"'6 - Input sheet - Employee data'!IR77","v":0},{"$f":"'6 - Input sheet - Employee data'!IS77","v":0},{"$f":"'6 - Input sheet - Employee data'!IT77","v":0},{"$f":"'6 - Input sheet - Employee data'!IU77","v":0},{"$f":"'6 - Input sheet - Employee data'!IV77","v":0},{"$f":"'6 - Input sheet - Employee data'!IW77","v":0},{"$f":"'6 - Input sheet - Employee data'!IX77","v":0},{"$f":"'6 - Input sheet - Employee data'!IY77","v":0},{"$f":"'6 - Input sheet - Employee data'!IZ77","v":0},{"$f":"'6 - Input sheet - Employee data'!JA77","v":0},{"$f":"'6 - Input sheet - Employee data'!JB77","v":0},{"$f":"'6 - Input sheet - Employee data'!JC77","v":0},{"$f":"'6 - Input sheet - Employee data'!JD77","v":0},{"$f":"'6 - Input sheet - Employee data'!JE77","v":0},{"$f":"'6 - Input sheet - Employee data'!JF77","v":0},{"$f":"'6 - Input sheet - Employee data'!JG77","v":0},{"$f":"'6 - Input sheet - Employee data'!JH77","v":0},{"$f":"'6 - Input sheet - Employee data'!JI77","v":0},{"$f":"'6 - Input sheet - Employee data'!JJ77","v":0},{"$f":"'6 - Input sheet - Employee data'!JK77","v":0},{"$f":"'6 - Input sheet - Employee data'!JL77","v":0},{"$f":"'6 - Input sheet - Employee data'!JM77","v":0},{"$f":"'6 - Input sheet - Employee data'!JN77","v":0},{"$f":"'6 - Input sheet - Employee data'!JO77","v":0},{"$f":"'6 - Input sheet - Employee data'!JP77","v":0},{"$f":"'6 - Input sheet - Employee data'!JQ77","v":0},{"$f":"'6 - Input sheet - Employee data'!JR77","v":0},{"$f":"'6 - Input sheet - Employee data'!JS77","v":0},{"$f":"'6 - Input sheet - Employee data'!JT77","v":0},{"$f":"'6 - Input sheet - Employee data'!JU77","v":0},{"$f":"'6 - Input sheet - Employee data'!JV77","v":0},{"$f":"'6 - Input sheet - Employee data'!JW77","v":0},{"$f":"'6 - Input sheet - Employee data'!JX77","v":0},{"$f":"'6 - Input sheet - Employee data'!JY77","v":0},{"$f":"'6 - Input sheet - Employee data'!JZ77","v":0},{"$f":"'6 - Input sheet - Employee data'!KA77","v":0},{"$f":"'6 - Input sheet - Employee data'!KB77","v":0},{"$f":"'6 - Input sheet - Employee data'!KC77","v":0},{"$f":"'6 - Input sheet - Employee data'!KD77","v":0},{"$f":"'6 - Input sheet - Employee data'!KE77","v":0},{"$f":"'6 - Input sheet - Employee data'!KF77","v":0},{"$f":"'6 - Input sheet - Employee data'!KG77","v":0},{"$f":"'6 - Input sheet - Employee data'!KH77","v":0},{"$f":"'6 - Input sheet - Employee data'!KI77","v":0},{"$f":"'6 - Input sheet - Employee data'!KJ77","v":0},{"$f":"'6 - Input sheet - Employee data'!KK77","v":0},{"$f":"'6 - Input sheet - Employee data'!KL77","v":0},{"$f":"'6 - Input sheet - Employee data'!KM77","v":0},{"$f":"'6 - Input sheet - Employee data'!KN77","v":0},{"$f":"'6 - Input sheet - Employee data'!KO77","v":0},{"$f":"'6 - Input sheet - Employee data'!KP77","v":0},{"$f":"'6 - Input sheet - Employee data'!KQ77","v":0},{"$f":"'6 - Input sheet - Employee data'!KR77","v":0},{"$f":"'6 - Input sheet - Employee data'!KS77","v":0},{"$f":"'6 - Input sheet - Employee data'!KT77","v":0},{"$f":"'6 - Input sheet - Employee data'!KU77","v":0},{"$f":"'6 - Input sheet - Employee data'!KV77","v":0},{"$f":"'6 - Input sheet - Employee data'!KW77","v":0},{"$f":"'6 - Input sheet - Employee data'!KX77","v":0},{"$f":"'6 - Input sheet - Employee data'!KY77","v":0},{"$f":"'6 - Input sheet - Employee data'!KZ77","v":0},{"$f":"'6 - Input sheet - Employee data'!LA77","v":0},{"$f":"'6 - Input sheet - Employee data'!LB77","v":0},{"$f":"'6 - Input sheet - Employee data'!LC77","v":0},{"$f":"'6 - Input sheet - Employee data'!LD77","v":0},{"$f":"'6 - Input sheet - Employee data'!LE77","v":0},{"$f":"'6 - Input sheet - Employee data'!LF77","v":0},{"$f":"'6 - Input sheet - Employee data'!LG77","v":0},{"$f":"'6 - Input sheet - Employee data'!LH77","v":0},{"$f":"'6 - Input sheet - Employee data'!LI77","v":0},{"$f":"'6 - Input sheet - Employee data'!LJ77","v":0},{"$f":"'6 - Input sheet - Employee data'!LK77","v":0},{"$f":"'6 - Input sheet - Employee data'!LL77","v":0},{"$f":"'6 - Input sheet - Employee data'!LM77","v":0},{"$f":"'6 - Input sheet - Employee data'!LN77","v":0},{"$f":"'6 - Input sheet - Employee data'!LO77","v":0},{"$f":"'6 - Input sheet - Employee data'!LP77","v":0},{"$f":"'6 - Input sheet - Employee data'!LQ77","v":0},{"$f":"'6 - Input sheet - Employee data'!LR77","v":0},{"$f":"'6 - Input sheet - Employee data'!LS77","v":0},{"$f":"'6 - Input sheet - Employee data'!LT77","v":0},{"$f":"'6 - Input sheet - Employee data'!LU77","v":0},{"$f":"'6 - Input sheet - Employee data'!LV77","v":0},{"$f":"'6 - Input sheet - Employee data'!LW77","v":0},{"$f":"'6 - Input sheet - Employee data'!LX77","v":0},{"$f":"'6 - Input sheet - Employee data'!LY77","v":0},{"$f":"'6 - Input sheet - Employee data'!LZ77","v":0},{"$f":"'6 - Input sheet - Employee data'!MA77","v":0},{"$f":"'6 - Input sheet - Employee data'!MB77","v":0},{"$f":"'6 - Input sheet - Employee data'!MC77","v":0},{"$f":"'6 - Input sheet - Employee data'!MD77","v":0},{"$f":"'6 - Input sheet - Employee data'!ME77","v":0},{"$f":"'6 - Input sheet - Employee data'!MF77","v":0},{"$f":"'6 - Input sheet - Employee data'!MG77","v":0},{"$f":"'6 - Input sheet - Employee data'!MH77","v":0},{"$f":"'6 - Input sheet - Employee data'!MI77","v":0},{"$f":"'6 - Input sheet - Employee data'!MJ77","v":0},{"$f":"'6 - Input sheet - Employee data'!MK77","v":0},{"$f":"'6 - Input sheet - Employee data'!ML77","v":0},{"$f":"'6 - Input sheet - Employee data'!MM77","v":0},{"$f":"'6 - Input sheet - Employee data'!MN77","v":0},{"$f":"'6 - Input sheet - Employee data'!MO77","v":0},{"$f":"'6 - Input sheet - Employee data'!MP77","v":0},{"$f":"'6 - Input sheet - Employee data'!MQ77","v":0},{"$f":"'6 - Input sheet - Employee data'!MR77","v":0},{"$f":"'6 - Input sheet - Employee data'!MS77","v":0},{"$f":"'6 - Input sheet - Employee data'!MT77","v":0},{"$f":"'6 - Input sheet - Employee data'!MU77","v":0},{"$f":"'6 - Input sheet - Employee data'!MV77","v":0},{"$f":"'6 - Input sheet - Employee data'!MW77","v":0},{"$f":"'6 - Input sheet - Employee data'!MX77","v":0},{"$f":"'6 - Input sheet - Employee data'!MY77","v":0},{"$f":"'6 - Input sheet - Employee data'!MZ77","v":0},{"$f":"'6 - Input sheet - Employee data'!NA77","v":0},{"$f":"'6 - Input sheet - Employee data'!NB77","v":0},{"$f":"'6 - Input sheet - Employee data'!NC77","v":0},{"$f":"'6 - Input sheet - Employee data'!ND77","v":0},{"$f":"'6 - Input sheet - Employee data'!NE77","v":0},{"$f":"'6 - Input sheet - Employee data'!NF77","v":0},{"$f":"'6 - Input sheet - Employee data'!NG77","v":0},{"$f":"'6 - Input sheet - Employee data'!NH77","v":0},{"$f":"'6 - Input sheet - Employee data'!NI77","v":0},{"$f":"'6 - Input sheet - Employee data'!NJ77","v":0},{"$f":"'6 - Input sheet - Employee data'!NK77","v":0},{"$f":"'6 - Input sheet - Employee data'!NL77","v":0},{"$f":"'6 - Input sheet - Employee data'!NM77","v":0},{"$f":"'6 - Input sheet - Employee data'!NN77","v":0},{"$f":"'6 - Input sheet - Employee data'!NO77","v":0},{"$f":"'6 - Input sheet - Employee data'!NP77","v":0},{"$f":"'6 - Input sheet - Employee data'!NQ77","v":0},{"$f":"'6 - Input sheet - Employee data'!NR77","v":0},{"$f":"'6 - Input sheet - Employee data'!NS77","v":0},{"$f":"'6 - Input sheet - Employee data'!NT77","v":0},{"$f":"'6 - Input sheet - Employee data'!NU77","v":0},{"$f":"'6 - Input sheet - Employee data'!NV77","v":0},{"$f":"'6 - Input sheet - Employee data'!NW77","v":0},{"$f":"'6 - Input sheet - Employee data'!NX77","v":0},{"$f":"'6 - Input sheet - Employee data'!NY77","v":0},{"$f":"'6 - Input sheet - Employee data'!NZ77","v":0},{"$f":"'6 - Input sheet - Employee data'!OA77","v":0},{"$f":"'6 - Input sheet - Employee data'!OB77","v":0},{"$f":"'6 - Input sheet - Employee data'!OC77","v":0},{"$f":"'6 - Input sheet - Employee data'!OD77","v":0},{"$f":"'6 - Input sheet - Employee data'!OE77","v":0},{"$f":"'6 - Input sheet - Employee data'!OF77","v":0},{"$f":"'6 - Input sheet - Employee data'!OG77","v":0},{"$f":"'6 - Input sheet - Employee data'!OH77","v":0},{"$f":"'6 - Input sheet - Employee data'!OI77","v":0},{"$f":"'6 - Input sheet - Employee data'!OJ77","v":0},{"$f":"'6 - Input sheet - Employee data'!OK77","v":0},{"$f":"'6 - Input sheet - Employee data'!OL77","v":0},{"$f":"'6 - Input sheet - Employee data'!OM77","v":0},{"$f":"'6 - Input sheet - Employee data'!ON77","v":0},{"$f":"'6 - Input sheet - Employee data'!OO77","v":0},{"$f":"'6 - Input sheet - Employee data'!OP77","v":0},{"$f":"'6 - Input sheet - Employee data'!OQ77","v":0},{"$f":"'6 - Input sheet - Employee data'!OR77","v":0},{"$f":"'6 - Input sheet - Employee data'!OS77","v":0},{"$f":"'6 - Input sheet - Employee data'!OT77","v":0},{"$f":"'6 - Input sheet - Employee data'!OU77","v":0},{"$f":"'6 - Input sheet - Employee data'!OV77","v":0},{"$f":"'6 - Input sheet - Employee data'!OW77","v":0},{"$f":"'6 - Input sheet - Employee data'!OX77","v":0},{"$f":"'6 - Input sheet - Employee data'!OY77","v":0},{"$f":"'6 - Input sheet - Employee data'!OZ77","v":0},{"$f":"'6 - Input sheet - Employee data'!PA77","v":0},{"$f":"'6 - Input sheet - Employee data'!PB77","v":0},{"$f":"'6 - Input sheet - Employee data'!PC77","v":0},{"$f":"'6 - Input sheet - Employee data'!PD77","v":0},{"$f":"'6 - Input sheet - Employee data'!PE77","v":0},{"$f":"'6 - Input sheet - Employee data'!PF77","v":0},{"$f":"'6 - Input sheet - Employee data'!PG77","v":0},{"$f":"'6 - Input sheet - Employee data'!PH77","v":0},{"$f":"'6 - Input sheet - Employee data'!PI77","v":0},{"$f":"'6 - Input sheet - Employee data'!PJ77","v":0},{"$f":"'6 - Input sheet - Employee data'!PK77","v":0},{"$f":"'6 - Input sheet - Employee data'!PL77","v":0},{"$f":"'6 - Input sheet - Employee data'!PM77","v":0},{"$f":"'6 - Input sheet - Employee data'!PN77","v":0},{"$f":"'6 - Input sheet - Employee data'!PO77","v":0},{"$f":"'6 - Input sheet - Employee data'!PP77","v":0},{"$f":"'6 - Input sheet - Employee data'!PQ77","v":0},{"$f":"'6 - Input sheet - Employee data'!PR77","v":0},{"$f":"'6 - Input sheet - Employee data'!PS77","v":0},{"$f":"'6 - Input sheet - Employee data'!PT77","v":0},{"$f":"'6 - Input sheet - Employee data'!PU77","v":0},{"$f":"'6 - Input sheet - Employee data'!PV77","v":0},{"$f":"'6 - Input sheet - Employee data'!PW77","v":0},{"$f":"'6 - Input sheet - Employee data'!PX77","v":0},{"$f":"'6 - Input sheet - Employee data'!PY77","v":0},{"$f":"'6 - Input sheet - Employee data'!PZ77","v":0},{"$f":"'6 - Input sheet - Employee data'!QA77","v":0},{"$f":"'6 - Input sheet - Employee data'!QB77","v":0},{"$f":"'6 - Input sheet - Employee data'!QC77","v":0},{"$f":"'6 - Input sheet - Employee data'!QD77","v":0},{"$f":"'6 - Input sheet - Employee data'!QE77","v":0},{"$f":"'6 - Input sheet - Employee data'!QF77","v":0},{"$f":"'6 - Input sheet - Employee data'!QG77","v":0},{"$f":"'6 - Input sheet - Employee data'!QH77","v":0},{"$f":"'6 - Input sheet - Employee data'!QI77","v":0},{"$f":"'6 - Input sheet - Employee data'!QJ77","v":0},{"$f":"'6 - Input sheet - Employee data'!QK77","v":0},{"$f":"'6 - Input sheet - Employee data'!QL77","v":0},{"$f":"'6 - Input sheet - Employee data'!QM77","v":0},{"$f":"'6 - Input sheet - Employee data'!QN77","v":0},{"$f":"'6 - Input sheet - Employee data'!QO77","v":0},{"$f":"'6 - Input sheet - Employee data'!QP77","v":0},{"$f":"'6 - Input sheet - Employee data'!QQ77","v":0},{"$f":"'6 - Input sheet - Employee data'!QR77","v":0},{"$f":"'6 - Input sheet - Employee data'!QS77","v":0},{"$f":"'6 - Input sheet - Employee data'!QT77","v":0},{"$f":"'6 - Input sheet - Employee data'!QU77","v":0},{"$f":"'6 - Input sheet - Employee data'!QV77","v":0},{"$f":"'6 - Input sheet - Employee data'!QW77","v":0},{"$f":"'6 - Input sheet - Employee data'!QX77","v":0},{"$f":"'6 - Input sheet - Employee data'!QY77","v":0},{"$f":"'6 - Input sheet - Employee data'!QZ77","v":0},{"$f":"'6 - Input sheet - Employee data'!RA77","v":0},{"$f":"'6 - Input sheet - Employee data'!RB77","v":0},{"$f":"'6 - Input sheet - Employee data'!RC77","v":0},{"$f":"'6 - Input sheet - Employee data'!RD77","v":0},{"$f":"'6 - Input sheet - Employee data'!RE77","v":0},{"$f":"'6 - Input sheet - Employee data'!RF77","v":0},{"$f":"'6 - Input sheet - Employee data'!RG77","v":0},{"$f":"'6 - Input sheet - Employee data'!RH77","v":0},{"$f":"'6 - Input sheet - Employee data'!RI77","v":0},{"$f":"'6 - Input sheet - Employee data'!RJ77","v":0},{"$f":"'6 - Input sheet - Employee data'!RK77","v":0},{"$f":"'6 - Input sheet - Employee data'!RL77","v":0},{"$f":"'6 - Input sheet - Employee data'!RM77","v":0},{"$f":"'6 - Input sheet - Employee data'!RN77","v":0},{"$f":"'6 - Input sheet - Employee data'!RO77","v":0},{"$f":"'6 - Input sheet - Employee data'!RP77","v":0},{"$f":"'6 - Input sheet - Employee data'!RQ77","v":0},{"$f":"'6 - Input sheet - Employee data'!RR77","v":0},{"$f":"'6 - Input sheet - Employee data'!RS77","v":0},{"$f":"'6 - Input sheet - Employee data'!RT77","v":0},{"$f":"'6 - Input sheet - Employee data'!RU77","v":0},{"$f":"'6 - Input sheet - Employee data'!RV77","v":0},{"$f":"'6 - Input sheet - Employee data'!RW77","v":0},{"$f":"'6 - Input sheet - Employee data'!RX77","v":0},{"$f":"'6 - Input sheet - Employee data'!RY77","v":0},{"$f":"'6 - Input sheet - Employee data'!RZ77","v":0},{"$f":"'6 - Input sheet - Employee data'!SA77","v":0},{"$f":"'6 - Input sheet - Employee data'!SB77","v":0},{"$f":"'6 - Input sheet - Employee data'!SC77","v":0},{"$f":"'6 - Input sheet - Employee data'!SD77","v":0},{"$f":"'6 - Input sheet - Employee data'!SE77","v":0},{"$f":"'6 - Input sheet - Employee data'!SF77","v":0},{"$f":"'6 - Input sheet - Employee data'!SG77","v":0},{"$f":"'6 - Input sheet - Employee data'!SH77","v":0}]
[]
["Annual salary/hourly wage as of June 30, 2020",null,{"$f":"'6 - Input sheet - Employee data'!C79","v":0},{"$f":"'6 - Input sheet - Employee data'!D79","v":0},{"$f":"'6 - Input sheet - Employee data'!E79","v":0},{"$f":"'6 - Input sheet - Employee data'!F79","v":0},{"$f":"'6 - Input sheet - Employee data'!G79","v":0},{"$f":"'6 - Input sheet - Employee data'!H79","v":0},{"$f":"'6 - Input sheet - Employee data'!I79","v":0},{"$f":"'6 - Input sheet - Employee data'!J79","v":0},{"$f":"'6 - Input sheet - Employee data'!K79","v":0},{"$f":"'6 - Input sheet - Employee data'!L79","v":0},{"$f":"'6 - Input sheet - Employee data'!M79","v":0},{"$f":"'6 - Input sheet - Employee data'!N79","v":0},{"$f":"'6 - Input sheet - Employee data'!O79","v":0},{"$f":"'6 - Input sheet - Employee data'!P79","v":0},{"$f":"'6 - Input sheet - Employee data'!Q79","v":0},{"$f":"'6 - Input sheet - Employee data'!R79","v":0},{"$f":"'6 - Input sheet - Employee data'!S79","v":0},{"$f":"'6 - Input sheet - Employee data'!T79","v":0},{"$f":"'6 - Input sheet - Employee data'!U79","v":0},{"$f":"'6 - Input sheet - Employee data'!V79","v":0},{"$f":"'6 - Input sheet - Employee data'!W79","v":0},{"$f":"'6 - Input sheet - Employee data'!X79","v":0},{"$f":"'6 - Input sheet - Employee data'!Y79","v":0},{"$f":"'6 - Input sheet - Employee data'!Z79","v":0},{"$f":"'6 - Input sheet - Employee data'!AA79","v":0},{"$f":"'6 - Input sheet - Employee data'!AB79","v":0},{"$f":"'6 - Input sheet - Employee data'!AC79","v":0},{"$f":"'6 - Input sheet - Employee data'!AD79","v":0},{"$f":"'6 - Input sheet - Employee data'!AE79","v":0},{"$f":"'6 - Input sheet - Employee data'!AF79","v":0},{"$f":"'6 - Input sheet - Employee data'!AG79","v":0},{"$f":"'6 - Input sheet - Employee data'!AH79","v":0},{"$f":"'6 - Input sheet - Employee data'!AI79","v":0},{"$f":"'6 - Input sheet - Employee data'!AJ79","v":0},{"$f":"'6 - Input sheet - Employee data'!AK79","v":0},{"$f":"'6 - Input sheet - Employee data'!AL79","v":0},{"$f":"'6 - Input sheet - Employee data'!AM79","v":0},{"$f":"'6 - Input sheet - Employee data'!AN79","v":0},{"$f":"'6 - Input sheet - Employee data'!AO79","v":0},{"$f":"'6 - Input sheet - Employee data'!AP79","v":0},{"$f":"'6 - Input sheet - Employee data'!AQ79","v":0},{"$f":"'6 - Input sheet - Employee data'!AR79","v":0},{"$f":"'6 - Input sheet - Employee data'!AS79","v":0},{"$f":"'6 - Input sheet - Employee data'!AT79","v":0},{"$f":"'6 - Input sheet - Employee data'!AU79","v":0},{"$f":"'6 - Input sheet - Employee data'!AV79","v":0},{"$f":"'6 - Input sheet - Employee data'!AW79","v":0},{"$f":"'6 - Input sheet - Employee data'!AX79","v":0},{"$f":"'6 - Input sheet - Employee data'!AY79","v":0},{"$f":"'6 - Input sheet - Employee data'!AZ79","v":0},{"$f":"'6 - Input sheet - Employee data'!BA79","v":0},{"$f":"'6 - Input sheet - Employee data'!BB79","v":0},{"$f":"'6 - Input sheet - Employee data'!BC79","v":0},{"$f":"'6 - Input sheet - Employee data'!BD79","v":0},{"$f":"'6 - Input sheet - Employee data'!BE79","v":0},{"$f":"'6 - Input sheet - Employee data'!BF79","v":0},{"$f":"'6 - Input sheet - Employee data'!BG79","v":0},{"$f":"'6 - Input sheet - Employee data'!BH79","v":0},{"$f":"'6 - Input sheet - Employee data'!BI79","v":0},{"$f":"'6 - Input sheet - Employee data'!BJ79","v":0},{"$f":"'6 - Input sheet - Employee data'!BK79","v":0},{"$f":"'6 - Input sheet - Employee data'!BL79","v":0},{"$f":"'6 - Input sheet - Employee data'!BM79","v":0},{"$f":"'6 - Input sheet - Employee data'!BN79","v":0},{"$f":"'6 - Input sheet - Employee data'!BO79","v":0},{"$f":"'6 - Input sheet - Employee data'!BP79","v":0},{"$f":"'6 - Input sheet - Employee data'!BQ79","v":0},{"$f":"'6 - Input sheet - Employee data'!BR79","v":0},{"$f":"'6 - Input sheet - Employee data'!BS79","v":0},{"$f":"'6 - Input sheet - Employee data'!BT79","v":0},{"$f":"'6 - Input sheet - Employee data'!BU79","v":0},{"$f":"'6 - Input sheet - Employee data'!BV79","v":0},{"$f":"'6 - Input sheet - Employee data'!BW79","v":0},{"$f":"'6 - Input sheet - Employee data'!BX79","v":0},{"$f":"'6 - Input sheet - Employee data'!BY79","v":0},{"$f":"'6 - Input sheet - Employee data'!BZ79","v":0},{"$f":"'6 - Input sheet - Employee data'!CA79","v":0},{"$f":"'6 - Input sheet - Employee data'!CB79","v":0},{"$f":"'6 - Input sheet - Employee data'!CC79","v":0},{"$f":"'6 - Input sheet - Employee data'!CD79","v":0},{"$f":"'6 - Input sheet - Employee data'!CE79","v":0},{"$f":"'6 - Input sheet - Employee data'!CF79","v":0},{"$f":"'6 - Input sheet - Employee data'!CG79","v":0},{"$f":"'6 - Input sheet - Employee data'!CH79","v":0},{"$f":"'6 - Input sheet - Employee data'!CI79","v":0},{"$f":"'6 - Input sheet - Employee data'!CJ79","v":0},{"$f":"'6 - Input sheet - Employee data'!CK79","v":0},{"$f":"'6 - Input sheet - Employee data'!CL79","v":0},{"$f":"'6 - Input sheet - Employee data'!CM79","v":0},{"$f":"'6 - Input sheet - Employee data'!CN79","v":0},{"$f":"'6 - Input sheet - Employee data'!CO79","v":0},{"$f":"'6 - Input sheet - Employee data'!CP79","v":0},{"$f":"'6 - Input sheet - Employee data'!CQ79","v":0},{"$f":"'6 - Input sheet - Employee data'!CR79","v":0},{"$f":"'6 - Input sheet - Employee data'!CS79","v":0},{"$f":"'6 - Input sheet - Employee data'!CT79","v":0},{"$f":"'6 - Input sheet - Employee data'!CU79","v":0},{"$f":"'6 - Input sheet - Employee data'!CV79","v":0},{"$f":"'6 - Input sheet - Employee data'!CW79","v":0},{"$f":"'6 - Input sheet - Employee data'!CX79","v":0},{"$f":"'6 - Input sheet - Employee data'!CY79","v":0},{"$f":"'6 - Input sheet - Employee data'!CZ79","v":0},{"$f":"'6 - Input sheet - Employee data'!DA79","v":0},{"$f":"'6 - Input sheet - Employee data'!DB79","v":0},{"$f":"'6 - Input sheet - Employee data'!DC79","v":0},{"$f":"'6 - Input sheet - Employee data'!DD79","v":0},{"$f":"'6 - Input sheet - Employee data'!DE79","v":0},{"$f":"'6 - Input sheet - Employee data'!DF79","v":0},{"$f":"'6 - Input sheet - Employee data'!DG79","v":0},{"$f":"'6 - Input sheet - Employee data'!DH79","v":0},{"$f":"'6 - Input sheet - Employee data'!DI79","v":0},{"$f":"'6 - Input sheet - Employee data'!DJ79","v":0},{"$f":"'6 - Input sheet - Employee data'!DK79","v":0},{"$f":"'6 - Input sheet - Employee data'!DL79","v":0},{"$f":"'6 - Input sheet - Employee data'!DM79","v":0},{"$f":"'6 - Input sheet - Employee data'!DN79","v":0},{"$f":"'6 - Input sheet - Employee data'!DO79","v":0},{"$f":"'6 - Input sheet - Employee data'!DP79","v":0},{"$f":"'6 - Input sheet - Employee data'!DQ79","v":0},{"$f":"'6 - Input sheet - Employee data'!DR79","v":0},{"$f":"'6 - Input sheet - Employee data'!DS79","v":0},{"$f":"'6 - Input sheet - Employee data'!DT79","v":0},{"$f":"'6 - Input sheet - Employee data'!DU79","v":0},{"$f":"'6 - Input sheet - Employee data'!DV79","v":0},{"$f":"'6 - Input sheet - Employee data'!DW79","v":0},{"$f":"'6 - Input sheet - Employee data'!DX79","v":0},{"$f":"'6 - Input sheet - Employee data'!DY79","v":0},{"$f":"'6 - Input sheet - Employee data'!DZ79","v":0},{"$f":"'6 - Input sheet - Employee data'!EA79","v":0},{"$f":"'6 - Input sheet - Employee data'!EB79","v":0},{"$f":"'6 - Input sheet - Employee data'!EC79","v":0},{"$f":"'6 - Input sheet - Employee data'!ED79","v":0},{"$f":"'6 - Input sheet - Employee data'!EE79","v":0},{"$f":"'6 - Input sheet - Employee data'!EF79","v":0},{"$f":"'6 - Input sheet - Employee data'!EG79","v":0},{"$f":"'6 - Input sheet - Employee data'!EH79","v":0},{"$f":"'6 - Input sheet - Employee data'!EI79","v":0},{"$f":"'6 - Input sheet - Employee data'!EJ79","v":0},{"$f":"'6 - Input sheet - Employee data'!EK79","v":0},{"$f":"'6 - Input sheet - Employee data'!EL79","v":0},{"$f":"'6 - Input sheet - Employee data'!EM79","v":0},{"$f":"'6 - Input sheet - Employee data'!EN79","v":0},{"$f":"'6 - Input sheet - Employee data'!EO79","v":0},{"$f":"'6 - Input sheet - Employee data'!EP79","v":0},{"$f":"'6 - Input sheet - Employee data'!EQ79","v":0},{"$f":"'6 - Input sheet - Employee data'!ER79","v":0},{"$f":"'6 - Input sheet - Employee data'!ES79","v":0},{"$f":"'6 - Input sheet - Employee data'!ET79","v":0},{"$f":"'6 - Input sheet - Employee data'!EU79","v":0},{"$f":"'6 - Input sheet - Employee data'!EV79","v":0},{"$f":"'6 - Input sheet - Employee data'!EW79","v":0},{"$f":"'6 - Input sheet - Employee data'!EX79","v":0},{"$f":"'6 - Input sheet - Employee data'!EY79","v":0},{"$f":"'6 - Input sheet - Employee data'!EZ79","v":0},{"$f":"'6 - Input sheet - Employee data'!FA79","v":0},{"$f":"'6 - Input sheet - Employee data'!FB79","v":0},{"$f":"'6 - Input sheet - Employee data'!FC79","v":0},{"$f":"'6 - Input sheet - Employee data'!FD79","v":0},{"$f":"'6 - Input sheet - Employee data'!FE79","v":0},{"$f":"'6 - Input sheet - Employee data'!FF79","v":0},{"$f":"'6 - Input sheet - Employee data'!FG79","v":0},{"$f":"'6 - Input sheet - Employee data'!FH79","v":0},{"$f":"'6 - Input sheet - Employee data'!FI79","v":0},{"$f":"'6 - Input sheet - Employee data'!FJ79","v":0},{"$f":"'6 - Input sheet - Employee data'!FK79","v":0},{"$f":"'6 - Input sheet - Employee data'!FL79","v":0},{"$f":"'6 - Input sheet - Employee data'!FM79","v":0},{"$f":"'6 - Input sheet - Employee data'!FN79","v":0},{"$f":"'6 - Input sheet - Employee data'!FO79","v":0},{"$f":"'6 - Input sheet - Employee data'!FP79","v":0},{"$f":"'6 - Input sheet - Employee data'!FQ79","v":0},{"$f":"'6 - Input sheet - Employee data'!FR79","v":0},{"$f":"'6 - Input sheet - Employee data'!FS79","v":0},{"$f":"'6 - Input sheet - Employee data'!FT79","v":0},{"$f":"'6 - Input sheet - Employee data'!FU79","v":0},{"$f":"'6 - Input sheet - Employee data'!FV79","v":0},{"$f":"'6 - Input sheet - Employee data'!FW79","v":0},{"$f":"'6 - Input sheet - Employee data'!FX79","v":0},{"$f":"'6 - Input sheet - Employee data'!FY79","v":0},{"$f":"'6 - Input sheet - Employee data'!FZ79","v":0},{"$f":"'6 - Input sheet - Employee data'!GA79","v":0},{"$f":"'6 - Input sheet - Employee data'!GB79","v":0},{"$f":"'6 - Input sheet - Employee data'!GC79","v":0},{"$f":"'6 - Input sheet - Employee data'!GD79","v":0},{"$f":"'6 - Input sheet - Employee data'!GE79","v":0},{"$f":"'6 - Input sheet - Employee data'!GF79","v":0},{"$f":"'6 - Input sheet - Employee data'!GG79","v":0},{"$f":"'6 - Input sheet - Employee data'!GH79","v":0},{"$f":"'6 - Input sheet - Employee data'!GI79","v":0},{"$f":"'6 - Input sheet - Employee data'!GJ79","v":0},{"$f":"'6 - Input sheet - Employee data'!GK79","v":0},{"$f":"'6 - Input sheet - Employee data'!GL79","v":0},{"$f":"'6 - Input sheet - Employee data'!GM79","v":0},{"$f":"'6 - Input sheet - Employee data'!GN79","v":0},{"$f":"'6 - Input sheet - Employee data'!GO79","v":0},{"$f":"'6 - Input sheet - Employee data'!GP79","v":0},{"$f":"'6 - Input sheet - Employee data'!GQ79","v":0},{"$f":"'6 - Input sheet - Employee data'!GR79","v":0},{"$f":"'6 - Input sheet - Employee data'!GS79","v":0},{"$f":"'6 - Input sheet - Employee data'!GT79","v":0},{"$f":"'6 - Input sheet - Employee data'!GU79","v":0},{"$f":"'6 - Input sheet - Employee data'!GV79","v":0},{"$f":"'6 - Input sheet - Employee data'!GW79","v":0},{"$f":"'6 - Input sheet - Employee data'!GX79","v":0},{"$f":"'6 - Input sheet - Employee data'!GY79","v":0},{"$f":"'6 - Input sheet - Employee data'!GZ79","v":0},{"$f":"'6 - Input sheet - Employee data'!HA79","v":0},{"$f":"'6 - Input sheet - Employee data'!HB79","v":0},{"$f":"'6 - Input sheet - Employee data'!HC79","v":0},{"$f":"'6 - Input sheet - Employee data'!HD79","v":0},{"$f":"'6 - Input sheet - Employee data'!HE79","v":0},{"$f":"'6 - Input sheet - Employee data'!HF79","v":0},{"$f":"'6 - Input sheet - Employee data'!HG79","v":0},{"$f":"'6 - Input sheet - Employee data'!HH79","v":0},{"$f":"'6 - Input sheet - Employee data'!HI79","v":0},{"$f":"'6 - Input sheet - Employee data'!HJ79","v":0},{"$f":"'6 - Input sheet - Employee data'!HK79","v":0},{"$f":"'6 - Input sheet - Employee data'!HL79","v":0},{"$f":"'6 - Input sheet - Employee data'!HM79","v":0},{"$f":"'6 - Input sheet - Employee data'!HN79","v":0},{"$f":"'6 - Input sheet - Employee data'!HO79","v":0},{"$f":"'6 - Input sheet - Employee data'!HP79","v":0},{"$f":"'6 - Input sheet - Employee data'!HQ79","v":0},{"$f":"'6 - Input sheet - Employee data'!HR79","v":0},{"$f":"'6 - Input sheet - Employee data'!HS79","v":0},{"$f":"'6 - Input sheet - Employee data'!HT79","v":0},{"$f":"'6 - Input sheet - Employee data'!HU79","v":0},{"$f":"'6 - Input sheet - Employee data'!HV79","v":0},{"$f":"'6 - Input sheet - Employee data'!HW79","v":0},{"$f":"'6 - Input sheet - Employee data'!HX79","v":0},{"$f":"'6 - Input sheet - Employee data'!HY79","v":0},{"$f":"'6 - Input sheet - Employee data'!HZ79","v":0},{"$f":"'6 - Input sheet - Employee data'!IA79","v":0},{"$f":"'6 - Input sheet - Employee data'!IB79","v":0},{"$f":"'6 - Input sheet - Employee data'!IC79","v":0},{"$f":"'6 - Input sheet - Employee data'!ID79","v":0},{"$f":"'6 - Input sheet - Employee data'!IE79","v":0},{"$f":"'6 - Input sheet - Employee data'!IF79","v":0},{"$f":"'6 - Input sheet - Employee data'!IG79","v":0},{"$f":"'6 - Input sheet - Employee data'!IH79","v":0},{"$f":"'6 - Input sheet - Employee data'!II79","v":0},{"$f":"'6 - Input sheet - Employee data'!IJ79","v":0},{"$f":"'6 - Input sheet - Employee data'!IK79","v":0},{"$f":"'6 - Input sheet - Employee data'!IL79","v":0},{"$f":"'6 - Input sheet - Employee data'!IM79","v":0},{"$f":"'6 - Input sheet - Employee data'!IN79","v":0},{"$f":"'6 - Input sheet - Employee data'!IO79","v":0},{"$f":"'6 - Input sheet - Employee data'!IP79","v":0},{"$f":"'6 - Input sheet - Employee data'!IQ79","v":0},{"$f":"'6 - Input sheet - Employee data'!IR79","v":0},{"$f":"'6 - Input sheet - Employee data'!IS79","v":0},{"$f":"'6 - Input sheet - Employee data'!IT79","v":0},{"$f":"'6 - Input sheet - Employee data'!IU79","v":0},{"$f":"'6 - Input sheet - Employee data'!IV79","v":0},{"$f":"'6 - Input sheet - Employee data'!IW79","v":0},{"$f":"'6 - Input sheet - Employee data'!IX79","v":0},{"$f":"'6 - Input sheet - Employee data'!IY79","v":0},{"$f":"'6 - Input sheet - Employee data'!IZ79","v":0},{"$f":"'6 - Input sheet - Employee data'!JA79","v":0},{"$f":"'6 - Input sheet - Employee data'!JB79","v":0},{"$f":"'6 - Input sheet - Employee data'!JC79","v":0},{"$f":"'6 - Input sheet - Employee data'!JD79","v":0},{"$f":"'6 - Input sheet - Employee data'!JE79","v":0},{"$f":"'6 - Input sheet - Employee data'!JF79","v":0},{"$f":"'6 - Input sheet - Employee data'!JG79","v":0},{"$f":"'6 - Input sheet - Employee data'!JH79","v":0},{"$f":"'6 - Input sheet - Employee data'!JI79","v":0},{"$f":"'6 - Input sheet - Employee data'!JJ79","v":0},{"$f":"'6 - Input sheet - Employee data'!JK79","v":0},{"$f":"'6 - Input sheet - Employee data'!JL79","v":0},{"$f":"'6 - Input sheet - Employee data'!JM79","v":0},{"$f":"'6 - Input sheet - Employee data'!JN79","v":0},{"$f":"'6 - Input sheet - Employee data'!JO79","v":0},{"$f":"'6 - Input sheet - Employee data'!JP79","v":0},{"$f":"'6 - Input sheet - Employee data'!JQ79","v":0},{"$f":"'6 - Input sheet - Employee data'!JR79","v":0},{"$f":"'6 - Input sheet - Employee data'!JS79","v":0},{"$f":"'6 - Input sheet - Employee data'!JT79","v":0},{"$f":"'6 - Input sheet - Employee data'!JU79","v":0},{"$f":"'6 - Input sheet - Employee data'!JV79","v":0},{"$f":"'6 - Input sheet - Employee data'!JW79","v":0},{"$f":"'6 - Input sheet - Employee data'!JX79","v":0},{"$f":"'6 - Input sheet - Employee data'!JY79","v":0},{"$f":"'6 - Input sheet - Employee data'!JZ79","v":0},{"$f":"'6 - Input sheet - Employee data'!KA79","v":0},{"$f":"'6 - Input sheet - Employee data'!KB79","v":0},{"$f":"'6 - Input sheet - Employee data'!KC79","v":0},{"$f":"'6 - Input sheet - Employee data'!KD79","v":0},{"$f":"'6 - Input sheet - Employee data'!KE79","v":0},{"$f":"'6 - Input sheet - Employee data'!KF79","v":0},{"$f":"'6 - Input sheet - Employee data'!KG79","v":0},{"$f":"'6 - Input sheet - Employee data'!KH79","v":0},{"$f":"'6 - Input sheet - Employee data'!KI79","v":0},{"$f":"'6 - Input sheet - Employee data'!KJ79","v":0},{"$f":"'6 - Input sheet - Employee data'!KK79","v":0},{"$f":"'6 - Input sheet - Employee data'!KL79","v":0},{"$f":"'6 - Input sheet - Employee data'!KM79","v":0},{"$f":"'6 - Input sheet - Employee data'!KN79","v":0},{"$f":"'6 - Input sheet - Employee data'!KO79","v":0},{"$f":"'6 - Input sheet - Employee data'!KP79","v":0},{"$f":"'6 - Input sheet - Employee data'!KQ79","v":0},{"$f":"'6 - Input sheet - Employee data'!KR79","v":0},{"$f":"'6 - Input sheet - Employee data'!KS79","v":0},{"$f":"'6 - Input sheet - Employee data'!KT79","v":0},{"$f":"'6 - Input sheet - Employee data'!KU79","v":0},{"$f":"'6 - Input sheet - Employee data'!KV79","v":0},{"$f":"'6 - Input sheet - Employee data'!KW79","v":0},{"$f":"'6 - Input sheet - Employee data'!KX79","v":0},{"$f":"'6 - Input sheet - Employee data'!KY79","v":0},{"$f":"'6 - Input sheet - Employee data'!KZ79","v":0},{"$f":"'6 - Input sheet - Employee data'!LA79","v":0},{"$f":"'6 - Input sheet - Employee data'!LB79","v":0},{"$f":"'6 - Input sheet - Employee data'!LC79","v":0},{"$f":"'6 - Input sheet - Employee data'!LD79","v":0},{"$f":"'6 - Input sheet - Employee data'!LE79","v":0},{"$f":"'6 - Input sheet - Employee data'!LF79","v":0},{"$f":"'6 - Input sheet - Employee data'!LG79","v":0},{"$f":"'6 - Input sheet - Employee data'!LH79","v":0},{"$f":"'6 - Input sheet - Employee data'!LI79","v":0},{"$f":"'6 - Input sheet - Employee data'!LJ79","v":0},{"$f":"'6 - Input sheet - Employee data'!LK79","v":0},{"$f":"'6 - Input sheet - Employee data'!LL79","v":0},{"$f":"'6 - Input sheet - Employee data'!LM79","v":0},{"$f":"'6 - Input sheet - Employee data'!LN79","v":0},{"$f":"'6 - Input sheet - Employee data'!LO79","v":0},{"$f":"'6 - Input sheet - Employee data'!LP79","v":0},{"$f":"'6 - Input sheet - Employee data'!LQ79","v":0},{"$f":"'6 - Input sheet - Employee data'!LR79","v":0},{"$f":"'6 - Input sheet - Employee data'!LS79","v":0},{"$f":"'6 - Input sheet - Employee data'!LT79","v":0},{"$f":"'6 - Input sheet - Employee data'!LU79","v":0},{"$f":"'6 - Input sheet - Employee data'!LV79","v":0},{"$f":"'6 - Input sheet - Employee data'!LW79","v":0},{"$f":"'6 - Input sheet - Employee data'!LX79","v":0},{"$f":"'6 - Input sheet - Employee data'!LY79","v":0},{"$f":"'6 - Input sheet - Employee data'!LZ79","v":0},{"$f":"'6 - Input sheet - Employee data'!MA79","v":0},{"$f":"'6 - Input sheet - Employee data'!MB79","v":0},{"$f":"'6 - Input sheet - Employee data'!MC79","v":0},{"$f":"'6 - Input sheet - Employee data'!MD79","v":0},{"$f":"'6 - Input sheet - Employee data'!ME79","v":0},{"$f":"'6 - Input sheet - Employee data'!MF79","v":0},{"$f":"'6 - Input sheet - Employee data'!MG79","v":0},{"$f":"'6 - Input sheet - Employee data'!MH79","v":0},{"$f":"'6 - Input sheet - Employee data'!MI79","v":0},{"$f":"'6 - Input sheet - Employee data'!MJ79","v":0},{"$f":"'6 - Input sheet - Employee data'!MK79","v":0},{"$f":"'6 - Input sheet - Employee data'!ML79","v":0},{"$f":"'6 - Input sheet - Employee data'!MM79","v":0},{"$f":"'6 - Input sheet - Employee data'!MN79","v":0},{"$f":"'6 - Input sheet - Employee data'!MO79","v":0},{"$f":"'6 - Input sheet - Employee data'!MP79","v":0},{"$f":"'6 - Input sheet - Employee data'!MQ79","v":0},{"$f":"'6 - Input sheet - Employee data'!MR79","v":0},{"$f":"'6 - Input sheet - Employee data'!MS79","v":0},{"$f":"'6 - Input sheet - Employee data'!MT79","v":0},{"$f":"'6 - Input sheet - Employee data'!MU79","v":0},{"$f":"'6 - Input sheet - Employee data'!MV79","v":0},{"$f":"'6 - Input sheet - Employee data'!MW79","v":0},{"$f":"'6 - Input sheet - Employee data'!MX79","v":0},{"$f":"'6 - Input sheet - Employee data'!MY79","v":0},{"$f":"'6 - Input sheet - Employee data'!MZ79","v":0},{"$f":"'6 - Input sheet - Employee data'!NA79","v":0},{"$f":"'6 - Input sheet - Employee data'!NB79","v":0},{"$f":"'6 - Input sheet - Employee data'!NC79","v":0},{"$f":"'6 - Input sheet - Employee data'!ND79","v":0},{"$f":"'6 - Input sheet - Employee data'!NE79","v":0},{"$f":"'6 - Input sheet - Employee data'!NF79","v":0},{"$f":"'6 - Input sheet - Employee data'!NG79","v":0},{"$f":"'6 - Input sheet - Employee data'!NH79","v":0},{"$f":"'6 - Input sheet - Employee data'!NI79","v":0},{"$f":"'6 - Input sheet - Employee data'!NJ79","v":0},{"$f":"'6 - Input sheet - Employee data'!NK79","v":0},{"$f":"'6 - Input sheet - Employee data'!NL79","v":0},{"$f":"'6 - Input sheet - Employee data'!NM79","v":0},{"$f":"'6 - Input sheet - Employee data'!NN79","v":0},{"$f":"'6 - Input sheet - Employee data'!NO79","v":0},{"$f":"'6 - Input sheet - Employee data'!NP79","v":0},{"$f":"'6 - Input sheet - Employee data'!NQ79","v":0},{"$f":"'6 - Input sheet - Employee data'!NR79","v":0},{"$f":"'6 - Input sheet - Employee data'!NS79","v":0},{"$f":"'6 - Input sheet - Employee data'!NT79","v":0},{"$f":"'6 - Input sheet - Employee data'!NU79","v":0},{"$f":"'6 - Input sheet - Employee data'!NV79","v":0},{"$f":"'6 - Input sheet - Employee data'!NW79","v":0},{"$f":"'6 - Input sheet - Employee data'!NX79","v":0},{"$f":"'6 - Input sheet - Employee data'!NY79","v":0},{"$f":"'6 - Input sheet - Employee data'!NZ79","v":0},{"$f":"'6 - Input sheet - Employee data'!OA79","v":0},{"$f":"'6 - Input sheet - Employee data'!OB79","v":0},{"$f":"'6 - Input sheet - Employee data'!OC79","v":0},{"$f":"'6 - Input sheet - Employee data'!OD79","v":0},{"$f":"'6 - Input sheet - Employee data'!OE79","v":0},{"$f":"'6 - Input sheet - Employee data'!OF79","v":0},{"$f":"'6 - Input sheet - Employee data'!OG79","v":0},{"$f":"'6 - Input sheet - Employee data'!OH79","v":0},{"$f":"'6 - Input sheet - Employee data'!OI79","v":0},{"$f":"'6 - Input sheet - Employee data'!OJ79","v":0},{"$f":"'6 - Input sheet - Employee data'!OK79","v":0},{"$f":"'6 - Input sheet - Employee data'!OL79","v":0},{"$f":"'6 - Input sheet - Employee data'!OM79","v":0},{"$f":"'6 - Input sheet - Employee data'!ON79","v":0},{"$f":"'6 - Input sheet - Employee data'!OO79","v":0},{"$f":"'6 - Input sheet - Employee data'!OP79","v":0},{"$f":"'6 - Input sheet - Employee data'!OQ79","v":0},{"$f":"'6 - Input sheet - Employee data'!OR79","v":0},{"$f":"'6 - Input sheet - Employee data'!OS79","v":0},{"$f":"'6 - Input sheet - Employee data'!OT79","v":0},{"$f":"'6 - Input sheet - Employee data'!OU79","v":0},{"$f":"'6 - Input sheet - Employee data'!OV79","v":0},{"$f":"'6 - Input sheet - Employee data'!OW79","v":0},{"$f":"'6 - Input sheet - Employee data'!OX79","v":0},{"$f":"'6 - Input sheet - Employee data'!OY79","v":0},{"$f":"'6 - Input sheet - Employee data'!OZ79","v":0},{"$f":"'6 - Input sheet - Employee data'!PA79","v":0},{"$f":"'6 - Input sheet - Employee data'!PB79","v":0},{"$f":"'6 - Input sheet - Employee data'!PC79","v":0},{"$f":"'6 - Input sheet - Employee data'!PD79","v":0},{"$f":"'6 - Input sheet - Employee data'!PE79","v":0},{"$f":"'6 - Input sheet - Employee data'!PF79","v":0},{"$f":"'6 - Input sheet - Employee data'!PG79","v":0},{"$f":"'6 - Input sheet - Employee data'!PH79","v":0},{"$f":"'6 - Input sheet - Employee data'!PI79","v":0},{"$f":"'6 - Input sheet - Employee data'!PJ79","v":0},{"$f":"'6 - Input sheet - Employee data'!PK79","v":0},{"$f":"'6 - Input sheet - Employee data'!PL79","v":0},{"$f":"'6 - Input sheet - Employee data'!PM79","v":0},{"$f":"'6 - Input sheet - Employee data'!PN79","v":0},{"$f":"'6 - Input sheet - Employee data'!PO79","v":0},{"$f":"'6 - Input sheet - Employee data'!PP79","v":0},{"$f":"'6 - Input sheet - Employee data'!PQ79","v":0},{"$f":"'6 - Input sheet - Employee data'!PR79","v":0},{"$f":"'6 - Input sheet - Employee data'!PS79","v":0},{"$f":"'6 - Input sheet - Employee data'!PT79","v":0},{"$f":"'6 - Input sheet - Employee data'!PU79","v":0},{"$f":"'6 - Input sheet - Employee data'!PV79","v":0},{"$f":"'6 - Input sheet - Employee data'!PW79","v":0},{"$f":"'6 - Input sheet - Employee data'!PX79","v":0},{"$f":"'6 - Input sheet - Employee data'!PY79","v":0},{"$f":"'6 - Input sheet - Employee data'!PZ79","v":0},{"$f":"'6 - Input sheet - Employee data'!QA79","v":0},{"$f":"'6 - Input sheet - Employee data'!QB79","v":0},{"$f":"'6 - Input sheet - Employee data'!QC79","v":0},{"$f":"'6 - Input sheet - Employee data'!QD79","v":0},{"$f":"'6 - Input sheet - Employee data'!QE79","v":0},{"$f":"'6 - Input sheet - Employee data'!QF79","v":0},{"$f":"'6 - Input sheet - Employee data'!QG79","v":0},{"$f":"'6 - Input sheet - Employee data'!QH79","v":0},{"$f":"'6 - Input sheet - Employee data'!QI79","v":0},{"$f":"'6 - Input sheet - Employee data'!QJ79","v":0},{"$f":"'6 - Input sheet - Employee data'!QK79","v":0},{"$f":"'6 - Input sheet - Employee data'!QL79","v":0},{"$f":"'6 - Input sheet - Employee data'!QM79","v":0},{"$f":"'6 - Input sheet - Employee data'!QN79","v":0},{"$f":"'6 - Input sheet - Employee data'!QO79","v":0},{"$f":"'6 - Input sheet - Employee data'!QP79","v":0},{"$f":"'6 - Input sheet - Employee data'!QQ79","v":0},{"$f":"'6 - Input sheet - Employee data'!QR79","v":0},{"$f":"'6 - Input sheet - Employee data'!QS79","v":0},{"$f":"'6 - Input sheet - Employee data'!QT79","v":0},{"$f":"'6 - Input sheet - Employee data'!QU79","v":0},{"$f":"'6 - Input sheet - Employee data'!QV79","v":0},{"$f":"'6 - Input sheet - Employee data'!QW79","v":0},{"$f":"'6 - Input sheet - Employee data'!QX79","v":0},{"$f":"'6 - Input sheet - Employee data'!QY79","v":0},{"$f":"'6 - Input sheet - Employee data'!QZ79","v":0},{"$f":"'6 - Input sheet - Employee data'!RA79","v":0},{"$f":"'6 - Input sheet - Employee data'!RB79","v":0},{"$f":"'6 - Input sheet - Employee data'!RC79","v":0},{"$f":"'6 - Input sheet - Employee data'!RD79","v":0},{"$f":"'6 - Input sheet - Employee data'!RE79","v":0},{"$f":"'6 - Input sheet - Employee data'!RF79","v":0},{"$f":"'6 - Input sheet - Employee data'!RG79","v":0},{"$f":"'6 - Input sheet - Employee data'!RH79","v":0},{"$f":"'6 - Input sheet - Employee data'!RI79","v":0},{"$f":"'6 - Input sheet - Employee data'!RJ79","v":0},{"$f":"'6 - Input sheet - Employee data'!RK79","v":0},{"$f":"'6 - Input sheet - Employee data'!RL79","v":0},{"$f":"'6 - Input sheet - Employee data'!RM79","v":0},{"$f":"'6 - Input sheet - Employee data'!RN79","v":0},{"$f":"'6 - Input sheet - Employee data'!RO79","v":0},{"$f":"'6 - Input sheet - Employee data'!RP79","v":0},{"$f":"'6 - Input sheet - Employee data'!RQ79","v":0},{"$f":"'6 - Input sheet - Employee data'!RR79","v":0},{"$f":"'6 - Input sheet - Employee data'!RS79","v":0},{"$f":"'6 - Input sheet - Employee data'!RT79","v":0},{"$f":"'6 - Input sheet - Employee data'!RU79","v":0},{"$f":"'6 - Input sheet - Employee data'!RV79","v":0},{"$f":"'6 - Input sheet - Employee data'!RW79","v":0},{"$f":"'6 - Input sheet - Employee data'!RX79","v":0},{"$f":"'6 - Input sheet - Employee data'!RY79","v":0},{"$f":"'6 - Input sheet - Employee data'!RZ79","v":0},{"$f":"'6 - Input sheet - Employee data'!SA79","v":0},{"$f":"'6 - Input sheet - Employee data'!SB79","v":0},{"$f":"'6 - Input sheet - Employee data'!SC79","v":0},{"$f":"'6 - Input sheet - Employee data'!SD79","v":0},{"$f":"'6 - Input sheet - Employee data'!SE79","v":0},{"$f":"'6 - Input sheet - Employee data'!SF79","v":0},{"$f":"'6 - Input sheet - Employee data'!SG79","v":0},{"$f":"'6 - Input sheet - Employee data'!SH79","v":0}]
[]
["Safe harbor met?",null,{"$f":"IF(C58+C60+C62=0,\"NO\",(IF(C58>C60,IF(C58>C62,\"NO\",\"YES\"),\"YES\")))","v":"NO"},{"$f":"IF(D58+D60+D62=0,\"NO\",(IF(D58>D60,IF(D58>D62,\"NO\",\"YES\"),\"YES\")))","v":"NO"},"NO","NO","NO","NO","NO","NO","NO","NO","NO","NO","NO","NO","NO","NO","NO","NO","NO","NO","NO","NO","NO","NO","NO","NO","NO","NO","NO","NO","NO","NO","NO","NO","NO","NO","NO","NO","NO","NO","NO","NO","NO","NO","NO","NO","NO","NO","NO","NO","NO","NO","NO","NO","NO","NO","NO","NO","NO","NO","NO","NO","NO","NO","NO",{"$f":"IF(BP58+BP60+BP62=0,\"NO\",(IF(BP58>BP60,IF(BP58>BP62,\"NO\",\"YES\"),\"YES\")))","v":"NO"},"NO","NO","NO","NO","NO","NO","NO","NO","NO","NO","NO","NO","NO","NO","NO","NO","NO","NO","NO","NO","NO","NO","NO","NO","NO","NO","NO","NO","NO","NO","NO","NO","NO","NO","NO","NO","NO","NO","NO","NO","NO","NO","NO","NO","NO","NO","NO","NO","NO","NO","NO","NO","NO","NO","NO","NO","NO","NO","NO","NO","NO","NO","NO",{"$f":"IF(EB58+EB60+EB62=0,\"NO\",(IF(EB58>EB60,IF(EB58>EB62,\"NO\",\"YES\"),\"YES\")))","v":"NO"},"NO","NO","NO","NO","NO","NO","NO","NO","NO","NO","NO","NO","NO","NO","NO","NO","NO","NO","NO","NO","NO","NO","NO","NO","NO","NO","NO","NO","NO","NO","NO","NO","NO","NO","NO","NO","NO","NO","NO","NO","NO","NO","NO","NO","NO","NO","NO","NO","NO","NO","NO","NO","NO","NO","NO","NO","NO","NO","NO","NO","NO","NO","NO",{"$f":"IF(GN58+GN60+GN62=0,\"NO\",(IF(GN58>GN60,IF(GN58>GN62,\"NO\",\"YES\"),\"YES\")))","v":"NO"},"NO","NO","NO","NO","NO","NO","NO","NO","NO","NO","NO","NO","NO","NO","NO","NO","NO","NO","NO","NO","NO","NO","NO","NO","NO","NO","NO","NO","NO","NO","NO","NO","NO","NO","NO","NO","NO","NO","NO","NO","NO","NO","NO","NO","NO","NO","NO","NO","NO","NO","NO","NO","NO","NO","NO","NO","NO","NO","NO","NO","NO","NO","NO",{"$f":"IF(IZ58+IZ60+IZ62=0,\"NO\",(IF(IZ58>IZ60,IF(IZ58>IZ62,\"NO\",\"YES\"),\"YES\")))","v":"NO"},"NO","NO","NO","NO","NO","NO","NO","NO","NO","NO","NO","NO","NO","NO","NO","NO","NO","NO","NO","NO","NO","NO","NO","NO","NO","NO","NO","NO","NO","NO","NO","NO","NO","NO","NO","NO","NO","NO","NO","NO","NO","NO","NO","NO","NO","NO","NO","NO","NO","NO","NO","NO","NO","NO","NO","NO","NO","NO","NO","NO","NO","NO","NO",{"$f":"IF(LL58+LL60+LL62=0,\"NO\",(IF(LL58>LL60,IF(LL58>LL62,\"NO\",\"YES\"),\"YES\")))","v":"NO"},"NO","NO","NO","NO","NO","NO","NO","NO","NO","NO","NO","NO","NO","NO","NO","NO","NO","NO","NO","NO","NO","NO","NO","NO","NO","NO","NO","NO","NO","NO","NO","NO","NO","NO","NO","NO","NO","NO","NO","NO","NO","NO","NO","NO","NO","NO","NO","NO","NO","NO","NO","NO","NO","NO","NO","NO","NO","NO","NO","NO","NO","NO","NO",{"$f":"IF(NX58+NX60+NX62=0,\"NO\",(IF(NX58>NX60,IF(NX58>NX62,\"NO\",\"YES\"),\"YES\")))","v":"NO"},"NO","NO","NO","NO","NO","NO","NO","NO","NO","NO","NO","NO","NO","NO","NO","NO","NO","NO","NO","NO","NO","NO","NO","NO","NO","NO","NO","NO","NO","NO","NO","NO","NO","NO","NO","NO","NO","NO","NO","NO","NO","NO","NO","NO","NO","NO","NO","NO","NO","NO","NO","NO","NO","NO","NO","NO","NO","NO","NO","NO","NO","NO","NO",{"$f":"IF(QJ58+QJ60+QJ62=0,\"NO\",(IF(QJ58>QJ60,IF(QJ58>QJ62,\"NO\",\"YES\"),\"YES\")))","v":"NO"},"NO","NO","NO","NO","NO","NO","NO","NO","NO","NO","NO","NO","NO","NO","NO","NO","NO","NO","NO","NO","NO","NO","NO","NO","NO","NO","NO","NO","NO","NO","NO","NO","NO","NO","NO","NO","NO","NO","NO","NO","NO","NO","NO","NO","NO","NO","NO","NO","NO","NO"]
[]
["Select \"yes\" if any of the following is true, and if the employee was not replaced…..."]
["1) Payroll reduction eliminated or job offered prior to/by 6/30/20"]
["2) Employee was fired for cause"]
["3) Employee voluntarily resigned"]
["4) Employee voluntarily requested a reduction in hours",null,{"$f":"'6 - Input sheet - Employee data'!C20","v":"No"},{"$f":"'6 - Input sheet - Employee data'!D20","v":"No"},{"$f":"'6 - Input sheet - Employee data'!E20","v":"No"},{"$f":"'6 - Input sheet - Employee data'!F20","v":"No"},{"$f":"'6 - Input sheet - Employee data'!G20","v":"No"},{"$f":"'6 - Input sheet - Employee data'!H20","v":"No"},{"$f":"'6 - Input sheet - Employee data'!I20","v":"No"},{"$f":"'6 - Input sheet - Employee data'!J20","v":"No"},{"$f":"'6 - Input sheet - Employee data'!K20","v":"No"},{"$f":"'6 - Input sheet - Employee data'!L20","v":"No"},{"$f":"'6 - Input sheet - Employee data'!M20","v":"No"},{"$f":"'6 - Input sheet - Employee data'!N20","v":"No"},{"$f":"'6 - Input sheet - Employee data'!O20","v":"No"},{"$f":"'6 - Input sheet - Employee data'!P20","v":"No"},{"$f":"'6 - Input sheet - Employee data'!Q20","v":"No"},{"$f":"'6 - Input sheet - Employee data'!R20","v":"No"},{"$f":"'6 - Input sheet - Employee data'!S20","v":"No"},{"$f":"'6 - Input sheet - Employee data'!T20","v":"No"},{"$f":"'6 - Input sheet - Employee data'!U20","v":"No"},{"$f":"'6 - Input sheet - Employee data'!V20","v":"No"},{"$f":"'6 - Input sheet - Employee data'!W20","v":"No"},{"$f":"'6 - Input sheet - Employee data'!X20","v":"No"},{"$f":"'6 - Input sheet - Employee data'!Y20","v":"No"},{"$f":"'6 - Input sheet - Employee data'!Z20","v":"No"},{"$f":"'6 - Input sheet - Employee data'!AA20","v":"No"},{"$f":"'6 - Input sheet - Employee data'!AB20","v":"No"},{"$f":"'6 - Input sheet - Employee data'!AC20","v":"No"},{"$f":"'6 - Input sheet - Employee data'!AD20","v":"No"},{"$f":"'6 - Input sheet - Employee data'!AE20","v":"No"},{"$f":"'6 - Input sheet - Employee data'!AF20","v":"No"},{"$f":"'6 - Input sheet - Employee data'!AG20","v":"No"},{"$f":"'6 - Input sheet - Employee data'!AH20","v":"No"},{"$f":"'6 - Input sheet - Employee data'!AI20","v":"No"},{"$f":"'6 - Input sheet - Employee data'!AJ20","v":"No"},{"$f":"'6 - Input sheet - Employee data'!AK20","v":"No"},{"$f":"'6 - Input sheet - Employee data'!AL20","v":"No"},{"$f":"'6 - Input sheet - Employee data'!AM20","v":"No"},{"$f":"'6 - Input sheet - Employee data'!AN20","v":"No"},{"$f":"'6 - Input sheet - Employee data'!AO20","v":"No"},{"$f":"'6 - Input sheet - Employee data'!AP20","v":"No"},{"$f":"'6 - Input sheet - Employee data'!AQ20","v":"No"},{"$f":"'6 - Input sheet - Employee data'!AR20","v":"No"},{"$f":"'6 - Input sheet - Employee data'!AS20","v":"No"},{"$f":"'6 - Input sheet - Employee data'!AT20","v":"No"},{"$f":"'6 - Input sheet - Employee data'!AU20","v":"No"},{"$f":"'6 - Input sheet - Employee data'!AV20","v":"No"},{"$f":"'6 - Input sheet - Employee data'!AW20","v":"No"},{"$f":"'6 - Input sheet - Employee data'!AX20","v":"No"},{"$f":"'6 - Input sheet - Employee data'!AY20","v":"No"},{"$f":"'6 - Input sheet - Employee data'!AZ20","v":"No"},{"$f":"'6 - Input sheet - Employee data'!BA20","v":"No"},{"$f":"'6 - Input sheet - Employee data'!BB20","v":"No"},{"$f":"'6 - Input sheet - Employee data'!BC20","v":"No"},{"$f":"'6 - Input sheet - Employee data'!BD20","v":"No"},{"$f":"'6 - Input sheet - Employee data'!BE20","v":"No"},{"$f":"'6 - Input sheet - Employee data'!BF20","v":"No"},{"$f":"'6 - Input sheet - Employee data'!BG20","v":"No"},{"$f":"'6 - Input sheet - Employee data'!BH20","v":"No"},{"$f":"'6 - Input sheet - Employee data'!BI20","v":"No"},{"$f":"'6 - Input sheet - Employee data'!BJ20","v":"No"},{"$f":"'6 - Input sheet - Employee data'!BK20","v":"No"},{"$f":"'6 - Input sheet - Employee data'!BL20","v":"No"},{"$f":"'6 - Input sheet - Employee data'!BM20","v":"No"},{"$f":"'6 - Input sheet - Employee data'!BN20","v":"No"},{"$f":"'6 - Input sheet - Employee data'!BO20","v":"No"},{"$f":"'6 - Input sheet - Employee data'!BP20","v":"No"},{"$f":"'6 - Input sheet - Employee data'!BQ20","v":"No"},{"$f":"'6 - Input sheet - Employee data'!BR20","v":"No"},{"$f":"'6 - Input sheet - Employee data'!BS20","v":"No"},{"$f":"'6 - Input sheet - Employee data'!BT20","v":"No"},{"$f":"'6 - Input sheet - Employee data'!BU20","v":"No"},{"$f":"'6 - Input sheet - Employee data'!BV20","v":"No"},{"$f":"'6 - Input sheet - Employee data'!BW20","v":"No"},{"$f":"'6 - Input sheet - Employee data'!BX20","v":"No"},{"$f":"'6 - Input sheet - Employee data'!BY20","v":"No"},{"$f":"'6 - Input sheet - Employee data'!BZ20","v":"No"},{"$f":"'6 - Input sheet - Employee data'!CA20","v":"No"},{"$f":"'6 - Input sheet - Employee data'!CB20","v":"No"},{"$f":"'6 - Input sheet - Employee data'!CC20","v":"No"},{"$f":"'6 - Input sheet - Employee data'!CD20","v":"No"},{"$f":"'6 - Input sheet - Employee data'!CE20","v":"No"},{"$f":"'6 - Input sheet - Employee data'!CF20","v":"No"},{"$f":"'6 - Input sheet - Employee data'!CG20","v":"No"},{"$f":"'6 - Input sheet - Employee data'!CH20","v":"No"},{"$f":"'6 - Input sheet - Employee data'!CI20","v":"No"},{"$f":"'6 - Input sheet - Employee data'!CJ20","v":"No"},{"$f":"'6 - Input sheet - Employee data'!CK20","v":"No"},{"$f":"'6 - Input sheet - Employee data'!CL20","v":"No"},{"$f":"'6 - Input sheet - Employee data'!CM20","v":"No"},{"$f":"'6 - Input sheet - Employee data'!CN20","v":"No"},{"$f":"'6 - Input sheet - Employee data'!CO20","v":"No"},{"$f":"'6 - Input sheet - Employee data'!CP20","v":"No"},{"$f":"'6 - Input sheet - Employee data'!CQ20","v":"No"},{"$f":"'6 - Input sheet - Employee data'!CR20","v":"No"},{"$f":"'6 - Input sheet - Employee data'!CS20","v":"No"},{"$f":"'6 - Input sheet - Employee data'!CT20","v":"No"},{"$f":"'6 - Input sheet - Employee data'!CU20","v":"No"},{"$f":"'6 - Input sheet - Employee data'!CV20","v":"No"},{"$f":"'6 - Input sheet - Employee data'!CW20","v":"No"},{"$f":"'6 - Input sheet - Employee data'!CX20","v":"No"},{"$f":"'6 - Input sheet - Employee data'!CY20","v":"No"},{"$f":"'6 - Input sheet - Employee data'!CZ20","v":"No"},{"$f":"'6 - Input sheet - Employee data'!DA20","v":"No"},{"$f":"'6 - Input sheet - Employee data'!DB20","v":"No"},{"$f":"'6 - Input sheet - Employee data'!DC20","v":"No"},{"$f":"'6 - Input sheet - Employee data'!DD20","v":"No"},{"$f":"'6 - Input sheet - Employee data'!DE20","v":"No"},{"$f":"'6 - Input sheet - Employee data'!DF20","v":"No"},{"$f":"'6 - Input sheet - Employee data'!DG20","v":"No"},{"$f":"'6 - Input sheet - Employee data'!DH20","v":"No"},{"$f":"'6 - Input sheet - Employee data'!DI20","v":"No"},{"$f":"'6 - Input sheet - Employee data'!DJ20","v":"No"},{"$f":"'6 - Input sheet - Employee data'!DK20","v":"No"},{"$f":"'6 - Input sheet - Employee data'!DL20","v":"No"},{"$f":"'6 - Input sheet - Employee data'!DM20","v":"No"},{"$f":"'6 - Input sheet - Employee data'!DN20","v":"No"},{"$f":"'6 - Input sheet - Employee data'!DO20","v":"No"},{"$f":"'6 - Input sheet - Employee data'!DP20","v":"No"},{"$f":"'6 - Input sheet - Employee data'!DQ20","v":"No"},{"$f":"'6 - Input sheet - Employee data'!DR20","v":"No"},{"$f":"'6 - Input sheet - Employee data'!DS20","v":"No"},{"$f":"'6 - Input sheet - Employee data'!DT20","v":"No"},{"$f":"'6 - Input sheet - Employee data'!DU20","v":"No"},{"$f":"'6 - Input sheet - Employee data'!DV20","v":"No"},{"$f":"'6 - Input sheet - Employee data'!DW20","v":"No"},{"$f":"'6 - Input sheet - Employee data'!DX20","v":"No"},{"$f":"'6 - Input sheet - Employee data'!DY20","v":"No"},{"$f":"'6 - Input sheet - Employee data'!DZ20","v":"No"},{"$f":"'6 - Input sheet - Employee data'!EA20","v":"No"},{"$f":"'6 - Input sheet - Employee data'!EB20","v":"No"},{"$f":"'6 - Input sheet - Employee data'!EC20","v":"No"},{"$f":"'6 - Input sheet - Employee data'!ED20","v":"No"},{"$f":"'6 - Input sheet - Employee data'!EE20","v":"No"},{"$f":"'6 - Input sheet - Employee data'!EF20","v":"No"},{"$f":"'6 - Input sheet - Employee data'!EG20","v":"No"},{"$f":"'6 - Input sheet - Employee data'!EH20","v":"No"},{"$f":"'6 - Input sheet - Employee data'!EI20","v":"No"},{"$f":"'6 - Input sheet - Employee data'!EJ20","v":"No"},{"$f":"'6 - Input sheet - Employee data'!EK20","v":"No"},{"$f":"'6 - Input sheet - Employee data'!EL20","v":"No"},{"$f":"'6 - Input sheet - Employee data'!EM20","v":"No"},{"$f":"'6 - Input sheet - Employee data'!EN20","v":"No"},{"$f":"'6 - Input sheet - Employee data'!EO20","v":"No"},{"$f":"'6 - Input sheet - Employee data'!EP20","v":"No"},{"$f":"'6 - Input sheet - Employee data'!EQ20","v":"No"},{"$f":"'6 - Input sheet - Employee data'!ER20","v":"No"},{"$f":"'6 - Input sheet - Employee data'!ES20","v":"No"},{"$f":"'6 - Input sheet - Employee data'!ET20","v":"No"},{"$f":"'6 - Input sheet - Employee data'!EU20","v":"No"},{"$f":"'6 - Input sheet - Employee data'!EV20","v":"No"},{"$f":"'6 - Input sheet - Employee data'!EW20","v":"No"},{"$f":"'6 - Input sheet - Employee data'!EX20","v":"No"},{"$f":"'6 - Input sheet - Employee data'!EY20","v":"No"},{"$f":"'6 - Input sheet - Employee data'!EZ20","v":"No"},{"$f":"'6 - Input sheet - Employee data'!FA20","v":"No"},{"$f":"'6 - Input sheet - Employee data'!FB20","v":"No"},{"$f":"'6 - Input sheet - Employee data'!FC20","v":"No"},{"$f":"'6 - Input sheet - Employee data'!FD20","v":"No"},{"$f":"'6 - Input sheet - Employee data'!FE20","v":"No"},{"$f":"'6 - Input sheet - Employee data'!FF20","v":"No"},{"$f":"'6 - Input sheet - Employee data'!FG20","v":"No"},{"$f":"'6 - Input sheet - Employee data'!FH20","v":"No"},{"$f":"'6 - Input sheet - Employee data'!FI20","v":"No"},{"$f":"'6 - Input sheet - Employee data'!FJ20","v":"No"},{"$f":"'6 - Input sheet - Employee data'!FK20","v":"No"},{"$f":"'6 - Input sheet - Employee data'!FL20","v":"No"},{"$f":"'6 - Input sheet - Employee data'!FM20","v":"No"},{"$f":"'6 - Input sheet - Employee data'!FN20","v":"No"},{"$f":"'6 - Input sheet - Employee data'!FO20","v":"No"},{"$f":"'6 - Input sheet - Employee data'!FP20","v":"No"},{"$f":"'6 - Input sheet - Employee data'!FQ20","v":"No"},{"$f":"'6 - Input sheet - Employee data'!FR20","v":"No"},{"$f":"'6 - Input sheet - Employee data'!FS20","v":"No"},{"$f":"'6 - Input sheet - Employee data'!FT20","v":"No"},{"$f":"'6 - Input sheet - Employee data'!FU20","v":"No"},{"$f":"'6 - Input sheet - Employee data'!FV20","v":"No"},{"$f":"'6 - Input sheet - Employee data'!FW20","v":"No"},{"$f":"'6 - Input sheet - Employee data'!FX20","v":"No"},{"$f":"'6 - Input sheet - Employee data'!FY20","v":"No"},{"$f":"'6 - Input sheet - Employee data'!FZ20","v":"No"},{"$f":"'6 - Input sheet - Employee data'!GA20","v":"No"},{"$f":"'6 - Input sheet - Employee data'!GB20","v":"No"},{"$f":"'6 - Input sheet - Employee data'!GC20","v":"No"},{"$f":"'6 - Input sheet - Employee data'!GD20","v":"No"},{"$f":"'6 - Input sheet - Employee data'!GE20","v":"No"},{"$f":"'6 - Input sheet - Employee data'!GF20","v":"No"},{"$f":"'6 - Input sheet - Employee data'!GG20","v":"No"},{"$f":"'6 - Input sheet - Employee data'!GH20","v":"No"},{"$f":"'6 - Input sheet - Employee data'!GI20","v":"No"},{"$f":"'6 - Input sheet - Employee data'!GJ20","v":"No"},{"$f":"'6 - Input sheet - Employee data'!GK20","v":"No"},{"$f":"'6 - Input sheet - Employee data'!GL20","v":"No"},{"$f":"'6 - Input sheet - Employee data'!GM20","v":"No"},{"$f":"'6 - Input sheet - Employee data'!GN20","v":"No"},{"$f":"'6 - Input sheet - Employee data'!GO20","v":"No"},{"$f":"'6 - Input sheet - Employee data'!GP20","v":"No"},{"$f":"'6 - Input sheet - Employee data'!GQ20","v":"No"},{"$f":"'6 - Input sheet - Employee data'!GR20","v":"No"},{"$f":"'6 - Input sheet - Employee data'!GS20","v":"No"},{"$f":"'6 - Input sheet - Employee data'!GT20","v":"No"},{"$f":"'6 - Input sheet - Employee data'!GU20","v":"No"},{"$f":"'6 - Input sheet - Employee data'!GV20","v":"No"},{"$f":"'6 - Input sheet - Employee data'!GW20","v":"No"},{"$f":"'6 - Input sheet - Employee data'!GX20","v":"No"},{"$f":"'6 - Input sheet - Employee data'!GY20","v":"No"},{"$f":"'6 - Input sheet - Employee data'!GZ20","v":"No"},{"$f":"'6 - Input sheet - Employee data'!HA20","v":"No"},{"$f":"'6 - Input sheet - Employee data'!HB20","v":"No"},{"$f":"'6 - Input sheet - Employee data'!HC20","v":"No"},{"$f":"'6 - Input sheet - Employee data'!HD20","v":"No"},{"$f":"'6 - Input sheet - Employee data'!HE20","v":"No"},{"$f":"'6 - Input sheet - Employee data'!HF20","v":"No"},{"$f":"'6 - Input sheet - Employee data'!HG20","v":"No"},{"$f":"'6 - Input sheet - Employee data'!HH20","v":"No"},{"$f":"'6 - Input sheet - Employee data'!HI20","v":"No"},{"$f":"'6 - Input sheet - Employee data'!HJ20","v":"No"},{"$f":"'6 - Input sheet - Employee data'!HK20","v":"No"},{"$f":"'6 - Input sheet - Employee data'!HL20","v":"No"},{"$f":"'6 - Input sheet - Employee data'!HM20","v":"No"},{"$f":"'6 - Input sheet - Employee data'!HN20","v":"No"},{"$f":"'6 - Input sheet - Employee data'!HO20","v":"No"},{"$f":"'6 - Input sheet - Employee data'!HP20","v":"No"},{"$f":"'6 - Input sheet - Employee data'!HQ20","v":"No"},{"$f":"'6 - Input sheet - Employee data'!HR20","v":"No"},{"$f":"'6 - Input sheet - Employee data'!HS20","v":"No"},{"$f":"'6 - Input sheet - Employee data'!HT20","v":"No"},{"$f":"'6 - Input sheet - Employee data'!HU20","v":"No"},{"$f":"'6 - Input sheet - Employee data'!HV20","v":"No"},{"$f":"'6 - Input sheet - Employee data'!HW20","v":"No"},{"$f":"'6 - Input sheet - Employee data'!HX20","v":"No"},{"$f":"'6 - Input sheet - Employee data'!HY20","v":"No"},{"$f":"'6 - Input sheet - Employee data'!HZ20","v":"No"},{"$f":"'6 - Input sheet - Employee data'!IA20","v":"No"},{"$f":"'6 - Input sheet - Employee data'!IB20","v":"No"},{"$f":"'6 - Input sheet - Employee data'!IC20","v":"No"},{"$f":"'6 - Input sheet - Employee data'!ID20","v":"No"},{"$f":"'6 - Input sheet - Employee data'!IE20","v":"No"},{"$f":"'6 - Input sheet - Employee data'!IF20","v":"No"},{"$f":"'6 - Input sheet - Employee data'!IG20","v":"No"},{"$f":"'6 - Input sheet - Employee data'!IH20","v":"No"},{"$f":"'6 - Input sheet - Employee data'!II20","v":"No"},{"$f":"'6 - Input sheet - Employee data'!IJ20","v":"No"},{"$f":"'6 - Input sheet - Employee data'!IK20","v":"No"},{"$f":"'6 - Input sheet - Employee data'!IL20","v":"No"},{"$f":"'6 - Input sheet - Employee data'!IM20","v":"No"},{"$f":"'6 - Input sheet - Employee data'!IN20","v":"No"},{"$f":"'6 - Input sheet - Employee data'!IO20","v":"No"},{"$f":"'6 - Input sheet - Employee data'!IP20","v":"No"},{"$f":"'6 - Input sheet - Employee data'!IQ20","v":"No"},{"$f":"'6 - Input sheet - Employee data'!IR20","v":"No"},{"$f":"'6 - Input sheet - Employee data'!IS20","v":"No"},{"$f":"'6 - Input sheet - Employee data'!IT20","v":"No"},{"$f":"'6 - Input sheet - Employee data'!IU20","v":"No"},{"$f":"'6 - Input sheet - Employee data'!IV20","v":"No"},{"$f":"'6 - Input sheet - Employee data'!IW20","v":"No"},{"$f":"'6 - Input sheet - Employee data'!IX20","v":"No"},{"$f":"'6 - Input sheet - Employee data'!IY20","v":"No"},{"$f":"'6 - Input sheet - Employee data'!IZ20","v":"No"},{"$f":"'6 - Input sheet - Employee data'!JA20","v":"No"},{"$f":"'6 - Input sheet - Employee data'!JB20","v":"No"},{"$f":"'6 - Input sheet - Employee data'!JC20","v":"No"},{"$f":"'6 - Input sheet - Employee data'!JD20","v":"No"},{"$f":"'6 - Input sheet - Employee data'!JE20","v":"No"},{"$f":"'6 - Input sheet - Employee data'!JF20","v":"No"},{"$f":"'6 - Input sheet - Employee data'!JG20","v":"No"},{"$f":"'6 - Input sheet - Employee data'!JH20","v":"No"},{"$f":"'6 - Input sheet - Employee data'!JI20","v":"No"},{"$f":"'6 - Input sheet - Employee data'!JJ20","v":"No"},{"$f":"'6 - Input sheet - Employee data'!JK20","v":"No"},{"$f":"'6 - Input sheet - Employee data'!JL20","v":"No"},{"$f":"'6 - Input sheet - Employee data'!JM20","v":"No"},{"$f":"'6 - Input sheet - Employee data'!JN20","v":"No"},{"$f":"'6 - Input sheet - Employee data'!JO20","v":"No"},{"$f":"'6 - Input sheet - Employee data'!JP20","v":"No"},{"$f":"'6 - Input sheet - Employee data'!JQ20","v":"No"},{"$f":"'6 - Input sheet - Employee data'!JR20","v":"No"},{"$f":"'6 - Input sheet - Employee data'!JS20","v":"No"},{"$f":"'6 - Input sheet - Employee data'!JT20","v":"No"},{"$f":"'6 - Input sheet - Employee data'!JU20","v":"No"},{"$f":"'6 - Input sheet - Employee data'!JV20","v":"No"},{"$f":"'6 - Input sheet - Employee data'!JW20","v":"No"},{"$f":"'6 - Input sheet - Employee data'!JX20","v":"No"},{"$f":"'6 - Input sheet - Employee data'!JY20","v":"No"},{"$f":"'6 - Input sheet - Employee data'!JZ20","v":"No"},{"$f":"'6 - Input sheet - Employee data'!KA20","v":"No"},{"$f":"'6 - Input sheet - Employee data'!KB20","v":"No"},{"$f":"'6 - Input sheet - Employee data'!KC20","v":"No"},{"$f":"'6 - Input sheet - Employee data'!KD20","v":"No"},{"$f":"'6 - Input sheet - Employee data'!KE20","v":"No"},{"$f":"'6 - Input sheet - Employee data'!KF20","v":"No"},{"$f":"'6 - Input sheet - Employee data'!KG20","v":"No"},{"$f":"'6 - Input sheet - Employee data'!KH20","v":"No"},{"$f":"'6 - Input sheet - Employee data'!KI20","v":"No"},{"$f":"'6 - Input sheet - Employee data'!KJ20","v":"No"},{"$f":"'6 - Input sheet - Employee data'!KK20","v":"No"},{"$f":"'6 - Input sheet - Employee data'!KL20","v":"No"},{"$f":"'6 - Input sheet - Employee data'!KM20","v":"No"},{"$f":"'6 - Input sheet - Employee data'!KN20","v":"No"},{"$f":"'6 - Input sheet - Employee data'!KO20","v":"No"},{"$f":"'6 - Input sheet - Employee data'!KP20","v":"No"},{"$f":"'6 - Input sheet - Employee data'!KQ20","v":"No"},{"$f":"'6 - Input sheet - Employee data'!KR20","v":"No"},{"$f":"'6 - Input sheet - Employee data'!KS20","v":"No"},{"$f":"'6 - Input sheet - Employee data'!KT20","v":"No"},{"$f":"'6 - Input sheet - Employee data'!KU20","v":"No"},{"$f":"'6 - Input sheet - Employee data'!KV20","v":"No"},{"$f":"'6 - Input sheet - Employee data'!KW20","v":"No"},{"$f":"'6 - Input sheet - Employee data'!KX20","v":"No"},{"$f":"'6 - Input sheet - Employee data'!KY20","v":"No"},{"$f":"'6 - Input sheet - Employee data'!KZ20","v":"No"},{"$f":"'6 - Input sheet - Employee data'!LA20","v":"No"},{"$f":"'6 - Input sheet - Employee data'!LB20","v":"No"},{"$f":"'6 - Input sheet - Employee data'!LC20","v":"No"},{"$f":"'6 - Input sheet - Employee data'!LD20","v":"No"},{"$f":"'6 - Input sheet - Employee data'!LE20","v":"No"},{"$f":"'6 - Input sheet - Employee data'!LF20","v":"No"},{"$f":"'6 - Input sheet - Employee data'!LG20","v":"No"},{"$f":"'6 - Input sheet - Employee data'!LH20","v":"No"},{"$f":"'6 - Input sheet - Employee data'!LI20","v":"No"},{"$f":"'6 - Input sheet - Employee data'!LJ20","v":"No"},{"$f":"'6 - Input sheet - Employee data'!LK20","v":"No"},{"$f":"'6 - Input sheet - Employee data'!LL20","v":"No"},{"$f":"'6 - Input sheet - Employee data'!LM20","v":"No"},{"$f":"'6 - Input sheet - Employee data'!LN20","v":"No"},{"$f":"'6 - Input sheet - Employee data'!LO20","v":"No"},{"$f":"'6 - Input sheet - Employee data'!LP20","v":"No"},{"$f":"'6 - Input sheet - Employee data'!LQ20","v":"No"},{"$f":"'6 - Input sheet - Employee data'!LR20","v":"No"},{"$f":"'6 - Input sheet - Employee data'!LS20","v":"No"},{"$f":"'6 - Input sheet - Employee data'!LT20","v":"No"},{"$f":"'6 - Input sheet - Employee data'!LU20","v":"No"},{"$f":"'6 - Input sheet - Employee data'!LV20","v":"No"},{"$f":"'6 - Input sheet - Employee data'!LW20","v":"No"},{"$f":"'6 - Input sheet - Employee data'!LX20","v":"No"},{"$f":"'6 - Input sheet - Employee data'!LY20","v":"No"},{"$f":"'6 - Input sheet - Employee data'!LZ20","v":"No"},{"$f":"'6 - Input sheet - Employee data'!MA20","v":"No"},{"$f":"'6 - Input sheet - Employee data'!MB20","v":"No"},{"$f":"'6 - Input sheet - Employee data'!MC20","v":"No"},{"$f":"'6 - Input sheet - Employee data'!MD20","v":"No"},{"$f":"'6 - Input sheet - Employee data'!ME20","v":"No"},{"$f":"'6 - Input sheet - Employee data'!MF20","v":"No"},{"$f":"'6 - Input sheet - Employee data'!MG20","v":"No"},{"$f":"'6 - Input sheet - Employee data'!MH20","v":"No"},{"$f":"'6 - Input sheet - Employee data'!MI20","v":"No"},{"$f":"'6 - Input sheet - Employee data'!MJ20","v":"No"},{"$f":"'6 - Input sheet - Employee data'!MK20","v":"No"},{"$f":"'6 - Input sheet - Employee data'!ML20","v":"No"},{"$f":"'6 - Input sheet - Employee data'!MM20","v":"No"},{"$f":"'6 - Input sheet - Employee data'!MN20","v":"No"},{"$f":"'6 - Input sheet - Employee data'!MO20","v":"No"},{"$f":"'6 - Input sheet - Employee data'!MP20","v":"No"},{"$f":"'6 - Input sheet - Employee data'!MQ20","v":"No"},{"$f":"'6 - Input sheet - Employee data'!MR20","v":"No"},{"$f":"'6 - Input sheet - Employee data'!MS20","v":"No"},{"$f":"'6 - Input sheet - Employee data'!MT20","v":"No"},{"$f":"'6 - Input sheet - Employee data'!MU20","v":"No"},{"$f":"'6 - Input sheet - Employee data'!MV20","v":"No"},{"$f":"'6 - Input sheet - Employee data'!MW20","v":"No"},{"$f":"'6 - Input sheet - Employee data'!MX20","v":"No"},{"$f":"'6 - Input sheet - Employee data'!MY20","v":"No"},{"$f":"'6 - Input sheet - Employee data'!MZ20","v":"No"},{"$f":"'6 - Input sheet - Employee data'!NA20","v":"No"},{"$f":"'6 - Input sheet - Employee data'!NB20","v":"No"},{"$f":"'6 - Input sheet - Employee data'!NC20","v":"No"},{"$f":"'6 - Input sheet - Employee data'!ND20","v":"No"},{"$f":"'6 - Input sheet - Employee data'!NE20","v":"No"},{"$f":"'6 - Input sheet - Employee data'!NF20","v":"No"},{"$f":"'6 - Input sheet - Employee data'!NG20","v":"No"},{"$f":"'6 - Input sheet - Employee data'!NH20","v":"No"},{"$f":"'6 - Input sheet - Employee data'!NI20","v":"No"},{"$f":"'6 - Input sheet - Employee data'!NJ20","v":"No"},{"$f":"'6 - Input sheet - Employee data'!NK20","v":"No"},{"$f":"'6 - Input sheet - Employee data'!NL20","v":"No"},{"$f":"'6 - Input sheet - Employee data'!NM20","v":"No"},{"$f":"'6 - Input sheet - Employee data'!NN20","v":"No"},{"$f":"'6 - Input sheet - Employee data'!NO20","v":"No"},{"$f":"'6 - Input sheet - Employee data'!NP20","v":"No"},{"$f":"'6 - Input sheet - Employee data'!NQ20","v":"No"},{"$f":"'6 - Input sheet - Employee data'!NR20","v":"No"},{"$f":"'6 - Input sheet - Employee data'!NS20","v":"No"},{"$f":"'6 - Input sheet - Employee data'!NT20","v":"No"},{"$f":"'6 - Input sheet - Employee data'!NU20","v":"No"},{"$f":"'6 - Input sheet - Employee data'!NV20","v":"No"},{"$f":"'6 - Input sheet - Employee data'!NW20","v":"No"},{"$f":"'6 - Input sheet - Employee data'!NX20","v":"No"},{"$f":"'6 - Input sheet - Employee data'!NY20","v":"No"},{"$f":"'6 - Input sheet - Employee data'!NZ20","v":"No"},{"$f":"'6 - Input sheet - Employee data'!OA20","v":"No"},{"$f":"'6 - Input sheet - Employee data'!OB20","v":"No"},{"$f":"'6 - Input sheet - Employee data'!OC20","v":"No"},{"$f":"'6 - Input sheet - Employee data'!OD20","v":"No"},{"$f":"'6 - Input sheet - Employee data'!OE20","v":"No"},{"$f":"'6 - Input sheet - Employee data'!OF20","v":"No"},{"$f":"'6 - Input sheet - Employee data'!OG20","v":"No"},{"$f":"'6 - Input sheet - Employee data'!OH20","v":"No"},{"$f":"'6 - Input sheet - Employee data'!OI20","v":"No"},{"$f":"'6 - Input sheet - Employee data'!OJ20","v":"No"},{"$f":"'6 - Input sheet - Employee data'!OK20","v":"No"},{"$f":"'6 - Input sheet - Employee data'!OL20","v":"No"},{"$f":"'6 - Input sheet - Employee data'!OM20","v":"No"},{"$f":"'6 - Input sheet - Employee data'!ON20","v":"No"},{"$f":"'6 - Input sheet - Employee data'!OO20","v":"No"},{"$f":"'6 - Input sheet - Employee data'!OP20","v":"No"},{"$f":"'6 - Input sheet - Employee data'!OQ20","v":"No"},{"$f":"'6 - Input sheet - Employee data'!OR20","v":"No"},{"$f":"'6 - Input sheet - Employee data'!OS20","v":"No"},{"$f":"'6 - Input sheet - Employee data'!OT20","v":"No"},{"$f":"'6 - Input sheet - Employee data'!OU20","v":"No"},{"$f":"'6 - Input sheet - Employee data'!OV20","v":"No"},{"$f":"'6 - Input sheet - Employee data'!OW20","v":"No"},{"$f":"'6 - Input sheet - Employee data'!OX20","v":"No"},{"$f":"'6 - Input sheet - Employee data'!OY20","v":"No"},{"$f":"'6 - Input sheet - Employee data'!OZ20","v":"No"},{"$f":"'6 - Input sheet - Employee data'!PA20","v":"No"},{"$f":"'6 - Input sheet - Employee data'!PB20","v":"No"},{"$f":"'6 - Input sheet - Employee data'!PC20","v":"No"},{"$f":"'6 - Input sheet - Employee data'!PD20","v":"No"},{"$f":"'6 - Input sheet - Employee data'!PE20","v":"No"},{"$f":"'6 - Input sheet - Employee data'!PF20","v":"No"},{"$f":"'6 - Input sheet - Employee data'!PG20","v":"No"},{"$f":"'6 - Input sheet - Employee data'!PH20","v":"No"},{"$f":"'6 - Input sheet - Employee data'!PI20","v":"No"},{"$f":"'6 - Input sheet - Employee data'!PJ20","v":"No"},{"$f":"'6 - Input sheet - Employee data'!PK20","v":"No"},{"$f":"'6 - Input sheet - Employee data'!PL20","v":"No"},{"$f":"'6 - Input sheet - Employee data'!PM20","v":"No"},{"$f":"'6 - Input sheet - Employee data'!PN20","v":"No"},{"$f":"'6 - Input sheet - Employee data'!PO20","v":"No"},{"$f":"'6 - Input sheet - Employee data'!PP20","v":"No"},{"$f":"'6 - Input sheet - Employee data'!PQ20","v":"No"},{"$f":"'6 - Input sheet - Employee data'!PR20","v":"No"},{"$f":"'6 - Input sheet - Employee data'!PS20","v":"No"},{"$f":"'6 - Input sheet - Employee data'!PT20","v":"No"},{"$f":"'6 - Input sheet - Employee data'!PU20","v":"No"},{"$f":"'6 - Input sheet - Employee data'!PV20","v":"No"},{"$f":"'6 - Input sheet - Employee data'!PW20","v":"No"},{"$f":"'6 - Input sheet - Employee data'!PX20","v":"No"},{"$f":"'6 - Input sheet - Employee data'!PY20","v":"No"},{"$f":"'6 - Input sheet - Employee data'!PZ20","v":"No"},{"$f":"'6 - Input sheet - Employee data'!QA20","v":"No"},{"$f":"'6 - Input sheet - Employee data'!QB20","v":"No"},{"$f":"'6 - Input sheet - Employee data'!QC20","v":"No"},{"$f":"'6 - Input sheet - Employee data'!QD20","v":"No"},{"$f":"'6 - Input sheet - Employee data'!QE20","v":"No"},{"$f":"'6 - Input sheet - Employee data'!QF20","v":"No"},{"$f":"'6 - Input sheet - Employee data'!QG20","v":"No"},{"$f":"'6 - Input sheet - Employee data'!QH20","v":"No"},{"$f":"'6 - Input sheet - Employee data'!QI20","v":"No"},{"$f":"'6 - Input sheet - Employee data'!QJ20","v":"No"},{"$f":"'6 - Input sheet - Employee data'!QK20","v":"No"},{"$f":"'6 - Input sheet - Employee data'!QL20","v":"No"},{"$f":"'6 - Input sheet - Employee data'!QM20","v":"No"},{"$f":"'6 - Input sheet - Employee data'!QN20","v":"No"},{"$f":"'6 - Input sheet - Employee data'!QO20","v":"No"},{"$f":"'6 - Input sheet - Employee data'!QP20","v":"No"},{"$f":"'6 - Input sheet - Employee data'!QQ20","v":"No"},{"$f":"'6 - Input sheet - Employee data'!QR20","v":"No"},{"$f":"'6 - Input sheet - Employee data'!QS20","v":"No"},{"$f":"'6 - Input sheet - Employee data'!QT20","v":"No"},{"$f":"'6 - Input sheet - Employee data'!QU20","v":"No"},{"$f":"'6 - Input sheet - Employee data'!QV20","v":"No"},{"$f":"'6 - Input sheet - Employee data'!QW20","v":"No"},{"$f":"'6 - Input sheet - Employee data'!QX20","v":"No"},{"$f":"'6 - Input sheet - Employee data'!QY20","v":"No"},{"$f":"'6 - Input sheet - Employee data'!QZ20","v":"No"},{"$f":"'6 - Input sheet - Employee data'!RA20","v":"No"},{"$f":"'6 - Input sheet - Employee data'!RB20","v":"No"},{"$f":"'6 - Input sheet - Employee data'!RC20","v":"No"},{"$f":"'6 - Input sheet - Employee data'!RD20","v":"No"},{"$f":"'6 - Input sheet - Employee data'!RE20","v":"No"},{"$f":"'6 - Input sheet - Employee data'!RF20","v":"No"},{"$f":"'6 - Input sheet - Employee data'!RG20","v":"No"},{"$f":"'6 - Input sheet - Employee data'!RH20","v":"No"},{"$f":"'6 - Input sheet - Employee data'!RI20","v":"No"},{"$f":"'6 - Input sheet - Employee data'!RJ20","v":"No"},{"$f":"'6 - Input sheet - Employee data'!RK20","v":"No"},{"$f":"'6 - Input sheet - Employee data'!RL20","v":"No"},{"$f":"'6 - Input sheet - Employee data'!RM20","v":"No"},{"$f":"'6 - Input sheet - Employee data'!RN20","v":"No"},{"$f":"'6 - Input sheet - Employee data'!RO20","v":"No"},{"$f":"'6 - Input sheet - Employee data'!RP20","v":"No"},{"$f":"'6 - Input sheet - Employee data'!RQ20","v":"No"},{"$f":"'6 - Input sheet - Employee data'!RR20","v":"No"},{"$f":"'6 - Input sheet - Employee data'!RS20","v":"No"},{"$f":"'6 - Input sheet - Employee data'!RT20","v":"No"},{"$f":"'6 - Input sheet - Employee data'!RU20","v":"No"},{"$f":"'6 - Input sheet - Employee data'!RV20","v":"No"},{"$f":"'6 - Input sheet - Employee data'!RW20","v":"No"},{"$f":"'6 - Input sheet - Employee data'!RX20","v":"No"},{"$f":"'6 - Input sheet - Employee data'!RY20","v":"No"},{"$f":"'6 - Input sheet - Employee data'!RZ20","v":"No"},{"$f":"'6 - Input sheet - Employee data'!SA20","v":"No"},{"$f":"'6 - Input sheet - Employee data'!SB20","v":"No"},{"$f":"'6 - Input sheet - Employee data'!SC20","v":"No"},{"$f":"'6 - Input sheet - Employee data'!SD20","v":"No"},{"$f":"'6 - Input sheet - Employee data'!SE20","v":"No"},{"$f":"'6 - Input sheet - Employee data'!SF20","v":"No"},{"$f":"'6 - Input sheet - Employee data'!SG20","v":"No"},{"$f":"'6 - Input sheet - Employee data'!SH20","v":"No"}]
[]
[]
["Salary reduction from above",null,{"$f":"C55","v":0},{"$f":"D55","v":0},0,0,0,0,0,0,0,0,0,0,0,0,0,0,0,0,0,0,0,0,0,0,0,0,0,0,0,0,0,0,0,0,0,0,0,0,0,0,0,0,0,0,0,0,0,0,0,0,0,0,0,0,0,0,0,0,0,0,0,0,0,0,0,{"$f":"BP55","v":0},0,0,0,0,0,0,0,0,0,0,0,0,0,0,0,0,0,0,0,0,0,0,0,0,0,0,0,0,0,0,0,0,0,0,0,0,0,0,0,0,0,0,0,0,0,0,0,0,0,0,0,0,0,0,0,0,0,0,0,0,0,0,0,{"$f":"EB55","v":0},0,0,0,0,0,0,0,0,0,0,0,0,0,0,0,0,0,0,0,0,0,0,0,0,0,0,0,0,0,0,0,0,0,0,0,0,0,0,0,0,0,0,0,0,0,0,0,0,0,0,0,0,0,0,0,0,0,0,0,0,0,0,0,{"$f":"GN55","v":0},0,0,0,0,0,0,0,0,0,0,0,0,0,0,0,0,0,0,0,0,0,0,0,0,0,0,0,0,0,0,0,0,0,0,0,0,0,0,0,0,0,0,0,0,0,0,0,0,0,0,0,0,0,0,0,0,0,0,0,0,0,0,0,{"$f":"IZ55","v":0},0,0,0,0,0,0,0,0,0,0,0,0,0,0,0,0,0,0,0,0,0,0,0,0,0,0,0,0,0,0,0,0,0,0,0,0,0,0,0,0,0,0,0,0,0,0,0,0,0,0,0,0,0,0,0,0,0,0,0,0,0,0,0,{"$f":"LL55","v":0},0,0,0,0,0,0,0,0,0,0,0,0,0,0,0,0,0,0,0,0,0,0,0,0,0,0,0,0,0,0,0,0,0,0,0,0,0,0,0,0,0,0,0,0,0,0,0,0,0,0,0,0,0,0,0,0,0,0,0,0,0,0,0,{"$f":"NX55","v":0},0,0,0,0,0,0,0,0,0,0,0,0,0,0,0,0,0,0,0,0,0,0,0,0,0,0,0,0,0,0,0,0,0,0,0,0,0,0,0,0,0,0,0,0,0,0,0,0,0,0,0,0,0,0,0,0,0,0,0,0,0,0,0,{"$f":"QJ55","v":0},0,0,0,0,0,0,0,0,0,0,0,0,0,0,0,0,0,0,0,0,0,0,0,0,0,0,0,0,0,0,0,0,0,0,0,0,0,0,0,0,0,0,0,0,0,0,0,0,0,0]
[]
[]
["Reductions eliminated",{"$f":"SUM(C76:SH76)","v":0},{"$f":"IF('6 - Input sheet - Employee data'!C16=\"No\",-C55,IF(C70=\"Yes\",-C55,IF(C64=\"Yes\",-C55,IF('5 - FTE reduction'!C46=\"FTER\",-C55,0))))","v":0},{"$f":"IF('6 - Input sheet - Employee data'!D16=\"No\",-D55,IF(D70=\"Yes\",-D55,IF(D64=\"Yes\",-D55,IF('5 - FTE reduction'!D46=\"FTER\",-D55,0))))","v":0},{"$f":"IF('6 - Input sheet - Employee data'!E16=\"No\",-E55,IF(E70=\"Yes\",-E55,IF(E64=\"Yes\",-E55,IF('5 - FTE reduction'!E46=\"FTER\",-E55,0))))","v":0},{"$f":"IF('6 - Input sheet - Employee data'!F16=\"No\",-F55,IF(F70=\"Yes\",-F55,IF(F64=\"Yes\",-F55,IF('5 - FTE reduction'!F46=\"FTER\",-F55,0))))","v":0},{"$f":"IF('6 - Input sheet - Employee data'!G16=\"No\",-G55,IF(G70=\"Yes\",-G55,IF(G64=\"Yes\",-G55,IF('5 - FTE reduction'!G46=\"FTER\",-G55,0))))","v":0},{"$f":"IF('6 - Input sheet - Employee data'!H16=\"No\",-H55,IF(H70=\"Yes\",-H55,IF(H64=\"Yes\",-H55,IF('5 - FTE reduction'!H46=\"FTER\",-H55,0))))","v":0},{"$f":"IF('6 - Input sheet - Employee data'!I16=\"No\",-I55,IF(I70=\"Yes\",-I55,IF(I64=\"Yes\",-I55,IF('5 - FTE reduction'!I46=\"FTER\",-I55,0))))","v":0},{"$f":"IF('6 - Input sheet - Employee data'!J16=\"No\",-J55,IF(J70=\"Yes\",-J55,IF(J64=\"Yes\",-J55,IF('5 - FTE reduction'!J46=\"FTER\",-J55,0))))","v":0},{"$f":"IF('6 - Input sheet - Employee data'!K16=\"No\",-K55,IF(K70=\"Yes\",-K55,IF(K64=\"Yes\",-K55,IF('5 - FTE reduction'!K46=\"FTER\",-K55,0))))","v":0},{"$f":"IF('6 - Input sheet - Employee data'!L16=\"No\",-L55,IF(L70=\"Yes\",-L55,IF(L64=\"Yes\",-L55,IF('5 - FTE reduction'!L46=\"FTER\",-L55,0))))","v":0},{"$f":"IF('6 - Input sheet - Employee data'!M16=\"No\",-M55,IF(M70=\"Yes\",-M55,IF(M64=\"Yes\",-M55,IF('5 - FTE reduction'!M46=\"FTER\",-M55,0))))","v":0},{"$f":"IF('6 - Input sheet - Employee data'!N16=\"No\",-N55,IF(N70=\"Yes\",-N55,IF(N64=\"Yes\",-N55,IF('5 - FTE reduction'!N46=\"FTER\",-N55,0))))","v":0},{"$f":"IF('6 - Input sheet - Employee data'!O16=\"No\",-O55,IF(O70=\"Yes\",-O55,IF(O64=\"Yes\",-O55,IF('5 - FTE reduction'!O46=\"FTER\",-O55,0))))","v":0},{"$f":"IF('6 - Input sheet - Employee data'!P16=\"No\",-P55,IF(P70=\"Yes\",-P55,IF(P64=\"Yes\",-P55,IF('5 - FTE reduction'!P46=\"FTER\",-P55,0))))","v":0},{"$f":"IF('6 - Input sheet - Employee data'!Q16=\"No\",-Q55,IF(Q70=\"Yes\",-Q55,IF(Q64=\"Yes\",-Q55,IF('5 - FTE reduction'!Q46=\"FTER\",-Q55,0))))","v":0},{"$f":"IF('6 - Input sheet - Employee data'!R16=\"No\",-R55,IF(R70=\"Yes\",-R55,IF(R64=\"Yes\",-R55,IF('5 - FTE reduction'!R46=\"FTER\",-R55,0))))","v":0},{"$f":"IF('6 - Input sheet - Employee data'!S16=\"No\",-S55,IF(S70=\"Yes\",-S55,IF(S64=\"Yes\",-S55,IF('5 - FTE reduction'!S46=\"FTER\",-S55,0))))","v":0},{"$f":"IF('6 - Input sheet - Employee data'!T16=\"No\",-T55,IF(T70=\"Yes\",-T55,IF(T64=\"Yes\",-T55,IF('5 - FTE reduction'!T46=\"FTER\",-T55,0))))","v":0},{"$f":"IF('6 - Input sheet - Employee data'!U16=\"No\",-U55,IF(U70=\"Yes\",-U55,IF(U64=\"Yes\",-U55,IF('5 - FTE reduction'!U46=\"FTER\",-U55,0))))","v":0},{"$f":"IF('6 - Input sheet - Employee data'!V16=\"No\",-V55,IF(V70=\"Yes\",-V55,IF(V64=\"Yes\",-V55,IF('5 - FTE reduction'!V46=\"FTER\",-V55,0))))","v":0},{"$f":"IF('6 - Input sheet - Employee data'!W16=\"No\",-W55,IF(W70=\"Yes\",-W55,IF(W64=\"Yes\",-W55,IF('5 - FTE reduction'!W46=\"FTER\",-W55,0))))","v":0},{"$f":"IF('6 - Input sheet - Employee data'!X16=\"No\",-X55,IF(X70=\"Yes\",-X55,IF(X64=\"Yes\",-X55,IF('5 - FTE reduction'!X46=\"FTER\",-X55,0))))","v":0},{"$f":"IF('6 - Input sheet - Employee data'!Y16=\"No\",-Y55,IF(Y70=\"Yes\",-Y55,IF(Y64=\"Yes\",-Y55,IF('5 - FTE reduction'!Y46=\"FTER\",-Y55,0))))","v":0},{"$f":"IF('6 - Input sheet - Employee data'!Z16=\"No\",-Z55,IF(Z70=\"Yes\",-Z55,IF(Z64=\"Yes\",-Z55,IF('5 - FTE reduction'!Z46=\"FTER\",-Z55,0))))","v":0},{"$f":"IF('6 - Input sheet - Employee data'!AA16=\"No\",-AA55,IF(AA70=\"Yes\",-AA55,IF(AA64=\"Yes\",-AA55,IF('5 - FTE reduction'!AA46=\"FTER\",-AA55,0))))","v":0},{"$f":"IF('6 - Input sheet - Employee data'!AB16=\"No\",-AB55,IF(AB70=\"Yes\",-AB55,IF(AB64=\"Yes\",-AB55,IF('5 - FTE reduction'!AB46=\"FTER\",-AB55,0))))","v":0},{"$f":"IF('6 - Input sheet - Employee data'!AC16=\"No\",-AC55,IF(AC70=\"Yes\",-AC55,IF(AC64=\"Yes\",-AC55,IF('5 - FTE reduction'!AC46=\"FTER\",-AC55,0))))","v":0},{"$f":"IF('6 - Input sheet - Employee data'!AD16=\"No\",-AD55,IF(AD70=\"Yes\",-AD55,IF(AD64=\"Yes\",-AD55,IF('5 - FTE reduction'!AD46=\"FTER\",-AD55,0))))","v":0},{"$f":"IF('6 - Input sheet - Employee data'!AE16=\"No\",-AE55,IF(AE70=\"Yes\",-AE55,IF(AE64=\"Yes\",-AE55,IF('5 - FTE reduction'!AE46=\"FTER\",-AE55,0))))","v":0},{"$f":"IF('6 - Input sheet - Employee data'!AF16=\"No\",-AF55,IF(AF70=\"Yes\",-AF55,IF(AF64=\"Yes\",-AF55,IF('5 - FTE reduction'!AF46=\"FTER\",-AF55,0))))","v":0},{"$f":"IF('6 - Input sheet - Employee data'!AG16=\"No\",-AG55,IF(AG70=\"Yes\",-AG55,IF(AG64=\"Yes\",-AG55,IF('5 - FTE reduction'!AG46=\"FTER\",-AG55,0))))","v":0},{"$f":"IF('6 - Input sheet - Employee data'!AH16=\"No\",-AH55,IF(AH70=\"Yes\",-AH55,IF(AH64=\"Yes\",-AH55,IF('5 - FTE reduction'!AH46=\"FTER\",-AH55,0))))","v":0},{"$f":"IF('6 - Input sheet - Employee data'!AI16=\"No\",-AI55,IF(AI70=\"Yes\",-AI55,IF(AI64=\"Yes\",-AI55,IF('5 - FTE reduction'!AI46=\"FTER\",-AI55,0))))","v":0},{"$f":"IF('6 - Input sheet - Employee data'!AJ16=\"No\",-AJ55,IF(AJ70=\"Yes\",-AJ55,IF(AJ64=\"Yes\",-AJ55,IF('5 - FTE reduction'!AJ46=\"FTER\",-AJ55,0))))","v":0},{"$f":"IF('6 - Input sheet - Employee data'!AK16=\"No\",-AK55,IF(AK70=\"Yes\",-AK55,IF(AK64=\"Yes\",-AK55,IF('5 - FTE reduction'!AK46=\"FTER\",-AK55,0))))","v":0},{"$f":"IF('6 - Input sheet - Employee data'!AL16=\"No\",-AL55,IF(AL70=\"Yes\",-AL55,IF(AL64=\"Yes\",-AL55,IF('5 - FTE reduction'!AL46=\"FTER\",-AL55,0))))","v":0},{"$f":"IF('6 - Input sheet - Employee data'!AM16=\"No\",-AM55,IF(AM70=\"Yes\",-AM55,IF(AM64=\"Yes\",-AM55,IF('5 - FTE reduction'!AM46=\"FTER\",-AM55,0))))","v":0},{"$f":"IF('6 - Input sheet - Employee data'!AN16=\"No\",-AN55,IF(AN70=\"Yes\",-AN55,IF(AN64=\"Yes\",-AN55,IF('5 - FTE reduction'!AN46=\"FTER\",-AN55,0))))","v":0},{"$f":"IF('6 - Input sheet - Employee data'!AO16=\"No\",-AO55,IF(AO70=\"Yes\",-AO55,IF(AO64=\"Yes\",-AO55,IF('5 - FTE reduction'!AO46=\"FTER\",-AO55,0))))","v":0},{"$f":"IF('6 - Input sheet - Employee data'!AP16=\"No\",-AP55,IF(AP70=\"Yes\",-AP55,IF(AP64=\"Yes\",-AP55,IF('5 - FTE reduction'!AP46=\"FTER\",-AP55,0))))","v":0},{"$f":"IF('6 - Input sheet - Employee data'!AQ16=\"No\",-AQ55,IF(AQ70=\"Yes\",-AQ55,IF(AQ64=\"Yes\",-AQ55,IF('5 - FTE reduction'!AQ46=\"FTER\",-AQ55,0))))","v":0},{"$f":"IF('6 - Input sheet - Employee data'!AR16=\"No\",-AR55,IF(AR70=\"Yes\",-AR55,IF(AR64=\"Yes\",-AR55,IF('5 - FTE reduction'!AR46=\"FTER\",-AR55,0))))","v":0},{"$f":"IF('6 - Input sheet - Employee data'!AS16=\"No\",-AS55,IF(AS70=\"Yes\",-AS55,IF(AS64=\"Yes\",-AS55,IF('5 - FTE reduction'!AS46=\"FTER\",-AS55,0))))","v":0},{"$f":"IF('6 - Input sheet - Employee data'!AT16=\"No\",-AT55,IF(AT70=\"Yes\",-AT55,IF(AT64=\"Yes\",-AT55,IF('5 - FTE reduction'!AT46=\"FTER\",-AT55,0))))","v":0},{"$f":"IF('6 - Input sheet - Employee data'!AU16=\"No\",-AU55,IF(AU70=\"Yes\",-AU55,IF(AU64=\"Yes\",-AU55,IF('5 - FTE reduction'!AU46=\"FTER\",-AU55,0))))","v":0},{"$f":"IF('6 - Input sheet - Employee data'!AV16=\"No\",-AV55,IF(AV70=\"Yes\",-AV55,IF(AV64=\"Yes\",-AV55,IF('5 - FTE reduction'!AV46=\"FTER\",-AV55,0))))","v":0},{"$f":"IF('6 - Input sheet - Employee data'!AW16=\"No\",-AW55,IF(AW70=\"Yes\",-AW55,IF(AW64=\"Yes\",-AW55,IF('5 - FTE reduction'!AW46=\"FTER\",-AW55,0))))","v":0},{"$f":"IF('6 - Input sheet - Employee data'!AX16=\"No\",-AX55,IF(AX70=\"Yes\",-AX55,IF(AX64=\"Yes\",-AX55,IF('5 - FTE reduction'!AX46=\"FTER\",-AX55,0))))","v":0},{"$f":"IF('6 - Input sheet - Employee data'!AY16=\"No\",-AY55,IF(AY70=\"Yes\",-AY55,IF(AY64=\"Yes\",-AY55,IF('5 - FTE reduction'!AY46=\"FTER\",-AY55,0))))","v":0},{"$f":"IF('6 - Input sheet - Employee data'!AZ16=\"No\",-AZ55,IF(AZ70=\"Yes\",-AZ55,IF(AZ64=\"Yes\",-AZ55,IF('5 - FTE reduction'!AZ46=\"FTER\",-AZ55,0))))","v":0},{"$f":"IF('6 - Input sheet - Employee data'!BA16=\"No\",-BA55,IF(BA70=\"Yes\",-BA55,IF(BA64=\"Yes\",-BA55,IF('5 - FTE reduction'!BA46=\"FTER\",-BA55,0))))","v":0},{"$f":"IF('6 - Input sheet - Employee data'!BB16=\"No\",-BB55,IF(BB70=\"Yes\",-BB55,IF(BB64=\"Yes\",-BB55,IF('5 - FTE reduction'!BB46=\"FTER\",-BB55,0))))","v":0},{"$f":"IF('6 - Input sheet - Employee data'!BC16=\"No\",-BC55,IF(BC70=\"Yes\",-BC55,IF(BC64=\"Yes\",-BC55,IF('5 - FTE reduction'!BC46=\"FTER\",-BC55,0))))","v":0},{"$f":"IF('6 - Input sheet - Employee data'!BD16=\"No\",-BD55,IF(BD70=\"Yes\",-BD55,IF(BD64=\"Yes\",-BD55,IF('5 - FTE reduction'!BD46=\"FTER\",-BD55,0))))","v":0},{"$f":"IF('6 - Input sheet - Employee data'!BE16=\"No\",-BE55,IF(BE70=\"Yes\",-BE55,IF(BE64=\"Yes\",-BE55,IF('5 - FTE reduction'!BE46=\"FTER\",-BE55,0))))","v":0},{"$f":"IF('6 - Input sheet - Employee data'!BF16=\"No\",-BF55,IF(BF70=\"Yes\",-BF55,IF(BF64=\"Yes\",-BF55,IF('5 - FTE reduction'!BF46=\"FTER\",-BF55,0))))","v":0},{"$f":"IF('6 - Input sheet - Employee data'!BG16=\"No\",-BG55,IF(BG70=\"Yes\",-BG55,IF(BG64=\"Yes\",-BG55,IF('5 - FTE reduction'!BG46=\"FTER\",-BG55,0))))","v":0},{"$f":"IF('6 - Input sheet - Employee data'!BH16=\"No\",-BH55,IF(BH70=\"Yes\",-BH55,IF(BH64=\"Yes\",-BH55,IF('5 - FTE reduction'!BH46=\"FTER\",-BH55,0))))","v":0},{"$f":"IF('6 - Input sheet - Employee data'!BI16=\"No\",-BI55,IF(BI70=\"Yes\",-BI55,IF(BI64=\"Yes\",-BI55,IF('5 - FTE reduction'!BI46=\"FTER\",-BI55,0))))","v":0},{"$f":"IF('6 - Input sheet - Employee data'!BJ16=\"No\",-BJ55,IF(BJ70=\"Yes\",-BJ55,IF(BJ64=\"Yes\",-BJ55,IF('5 - FTE reduction'!BJ46=\"FTER\",-BJ55,0))))","v":0},{"$f":"IF('6 - Input sheet - Employee data'!BK16=\"No\",-BK55,IF(BK70=\"Yes\",-BK55,IF(BK64=\"Yes\",-BK55,IF('5 - FTE reduction'!BK46=\"FTER\",-BK55,0))))","v":0},{"$f":"IF('6 - Input sheet - Employee data'!BL16=\"No\",-BL55,IF(BL70=\"Yes\",-BL55,IF(BL64=\"Yes\",-BL55,IF('5 - FTE reduction'!BL46=\"FTER\",-BL55,0))))","v":0},{"$f":"IF('6 - Input sheet - Employee data'!BM16=\"No\",-BM55,IF(BM70=\"Yes\",-BM55,IF(BM64=\"Yes\",-BM55,IF('5 - FTE reduction'!BM46=\"FTER\",-BM55,0))))","v":0},{"$f":"IF('6 - Input sheet - Employee data'!BN16=\"No\",-BN55,IF(BN70=\"Yes\",-BN55,IF(BN64=\"Yes\",-BN55,IF('5 - FTE reduction'!BN46=\"FTER\",-BN55,0))))","v":0},{"$f":"IF('6 - Input sheet - Employee data'!BO16=\"No\",-BO55,IF(BO70=\"Yes\",-BO55,IF(BO64=\"Yes\",-BO55,IF('5 - FTE reduction'!BO46=\"FTER\",-BO55,0))))","v":0},{"$f":"IF('6 - Input sheet - Employee data'!BP16=\"No\",-BP55,IF(BP70=\"Yes\",-BP55,IF(BP64=\"Yes\",-BP55,IF('5 - FTE reduction'!BP46=\"FTER\",-BP55,0))))","v":0},{"$f":"IF('6 - Input sheet - Employee data'!BQ16=\"No\",-BQ55,IF(BQ70=\"Yes\",-BQ55,IF(BQ64=\"Yes\",-BQ55,IF('5 - FTE reduction'!BQ46=\"FTER\",-BQ55,0))))","v":0},{"$f":"IF('6 - Input sheet - Employee data'!BR16=\"No\",-BR55,IF(BR70=\"Yes\",-BR55,IF(BR64=\"Yes\",-BR55,IF('5 - FTE reduction'!BR46=\"FTER\",-BR55,0))))","v":0},{"$f":"IF('6 - Input sheet - Employee data'!BS16=\"No\",-BS55,IF(BS70=\"Yes\",-BS55,IF(BS64=\"Yes\",-BS55,IF('5 - FTE reduction'!BS46=\"FTER\",-BS55,0))))","v":0},{"$f":"IF('6 - Input sheet - Employee data'!BT16=\"No\",-BT55,IF(BT70=\"Yes\",-BT55,IF(BT64=\"Yes\",-BT55,IF('5 - FTE reduction'!BT46=\"FTER\",-BT55,0))))","v":0},{"$f":"IF('6 - Input sheet - Employee data'!BU16=\"No\",-BU55,IF(BU70=\"Yes\",-BU55,IF(BU64=\"Yes\",-BU55,IF('5 - FTE reduction'!BU46=\"FTER\",-BU55,0))))","v":0},{"$f":"IF('6 - Input sheet - Employee data'!BV16=\"No\",-BV55,IF(BV70=\"Yes\",-BV55,IF(BV64=\"Yes\",-BV55,IF('5 - FTE reduction'!BV46=\"FTER\",-BV55,0))))","v":0},{"$f":"IF('6 - Input sheet - Employee data'!BW16=\"No\",-BW55,IF(BW70=\"Yes\",-BW55,IF(BW64=\"Yes\",-BW55,IF('5 - FTE reduction'!BW46=\"FTER\",-BW55,0))))","v":0},{"$f":"IF('6 - Input sheet - Employee data'!BX16=\"No\",-BX55,IF(BX70=\"Yes\",-BX55,IF(BX64=\"Yes\",-BX55,IF('5 - FTE reduction'!BX46=\"FTER\",-BX55,0))))","v":0},{"$f":"IF('6 - Input sheet - Employee data'!BY16=\"No\",-BY55,IF(BY70=\"Yes\",-BY55,IF(BY64=\"Yes\",-BY55,IF('5 - FTE reduction'!BY46=\"FTER\",-BY55,0))))","v":0},{"$f":"IF('6 - Input sheet - Employee data'!BZ16=\"No\",-BZ55,IF(BZ70=\"Yes\",-BZ55,IF(BZ64=\"Yes\",-BZ55,IF('5 - FTE reduction'!BZ46=\"FTER\",-BZ55,0))))","v":0},{"$f":"IF('6 - Input sheet - Employee data'!CA16=\"No\",-CA55,IF(CA70=\"Yes\",-CA55,IF(CA64=\"Yes\",-CA55,IF('5 - FTE reduction'!CA46=\"FTER\",-CA55,0))))","v":0},{"$f":"IF('6 - Input sheet - Employee data'!CB16=\"No\",-CB55,IF(CB70=\"Yes\",-CB55,IF(CB64=\"Yes\",-CB55,IF('5 - FTE reduction'!CB46=\"FTER\",-CB55,0))))","v":0},{"$f":"IF('6 - Input sheet - Employee data'!CC16=\"No\",-CC55,IF(CC70=\"Yes\",-CC55,IF(CC64=\"Yes\",-CC55,IF('5 - FTE reduction'!CC46=\"FTER\",-CC55,0))))","v":0},{"$f":"IF('6 - Input sheet - Employee data'!CD16=\"No\",-CD55,IF(CD70=\"Yes\",-CD55,IF(CD64=\"Yes\",-CD55,IF('5 - FTE reduction'!CD46=\"FTER\",-CD55,0))))","v":0},{"$f":"IF('6 - Input sheet - Employee data'!CE16=\"No\",-CE55,IF(CE70=\"Yes\",-CE55,IF(CE64=\"Yes\",-CE55,IF('5 - FTE reduction'!CE46=\"FTER\",-CE55,0))))","v":0},{"$f":"IF('6 - Input sheet - Employee data'!CF16=\"No\",-CF55,IF(CF70=\"Yes\",-CF55,IF(CF64=\"Yes\",-CF55,IF('5 - FTE reduction'!CF46=\"FTER\",-CF55,0))))","v":0},{"$f":"IF('6 - Input sheet - Employee data'!CG16=\"No\",-CG55,IF(CG70=\"Yes\",-CG55,IF(CG64=\"Yes\",-CG55,IF('5 - FTE reduction'!CG46=\"FTER\",-CG55,0))))","v":0},{"$f":"IF('6 - Input sheet - Employee data'!CH16=\"No\",-CH55,IF(CH70=\"Yes\",-CH55,IF(CH64=\"Yes\",-CH55,IF('5 - FTE reduction'!CH46=\"FTER\",-CH55,0))))","v":0},{"$f":"IF('6 - Input sheet - Employee data'!CI16=\"No\",-CI55,IF(CI70=\"Yes\",-CI55,IF(CI64=\"Yes\",-CI55,IF('5 - FTE reduction'!CI46=\"FTER\",-CI55,0))))","v":0},{"$f":"IF('6 - Input sheet - Employee data'!CJ16=\"No\",-CJ55,IF(CJ70=\"Yes\",-CJ55,IF(CJ64=\"Yes\",-CJ55,IF('5 - FTE reduction'!CJ46=\"FTER\",-CJ55,0))))","v":0},{"$f":"IF('6 - Input sheet - Employee data'!CK16=\"No\",-CK55,IF(CK70=\"Yes\",-CK55,IF(CK64=\"Yes\",-CK55,IF('5 - FTE reduction'!CK46=\"FTER\",-CK55,0))))","v":0},{"$f":"IF('6 - Input sheet - Employee data'!CL16=\"No\",-CL55,IF(CL70=\"Yes\",-CL55,IF(CL64=\"Yes\",-CL55,IF('5 - FTE reduction'!CL46=\"FTER\",-CL55,0))))","v":0},{"$f":"IF('6 - Input sheet - Employee data'!CM16=\"No\",-CM55,IF(CM70=\"Yes\",-CM55,IF(CM64=\"Yes\",-CM55,IF('5 - FTE reduction'!CM46=\"FTER\",-CM55,0))))","v":0},{"$f":"IF('6 - Input sheet - Employee data'!CN16=\"No\",-CN55,IF(CN70=\"Yes\",-CN55,IF(CN64=\"Yes\",-CN55,IF('5 - FTE reduction'!CN46=\"FTER\",-CN55,0))))","v":0},{"$f":"IF('6 - Input sheet - Employee data'!CO16=\"No\",-CO55,IF(CO70=\"Yes\",-CO55,IF(CO64=\"Yes\",-CO55,IF('5 - FTE reduction'!CO46=\"FTER\",-CO55,0))))","v":0},{"$f":"IF('6 - Input sheet - Employee data'!CP16=\"No\",-CP55,IF(CP70=\"Yes\",-CP55,IF(CP64=\"Yes\",-CP55,IF('5 - FTE reduction'!CP46=\"FTER\",-CP55,0))))","v":0},{"$f":"IF('6 - Input sheet - Employee data'!CQ16=\"No\",-CQ55,IF(CQ70=\"Yes\",-CQ55,IF(CQ64=\"Yes\",-CQ55,IF('5 - FTE reduction'!CQ46=\"FTER\",-CQ55,0))))","v":0},{"$f":"IF('6 - Input sheet - Employee data'!CR16=\"No\",-CR55,IF(CR70=\"Yes\",-CR55,IF(CR64=\"Yes\",-CR55,IF('5 - FTE reduction'!CR46=\"FTER\",-CR55,0))))","v":0},{"$f":"IF('6 - Input sheet - Employee data'!CS16=\"No\",-CS55,IF(CS70=\"Yes\",-CS55,IF(CS64=\"Yes\",-CS55,IF('5 - FTE reduction'!CS46=\"FTER\",-CS55,0))))","v":0},{"$f":"IF('6 - Input sheet - Employee data'!CT16=\"No\",-CT55,IF(CT70=\"Yes\",-CT55,IF(CT64=\"Yes\",-CT55,IF('5 - FTE reduction'!CT46=\"FTER\",-CT55,0))))","v":0},{"$f":"IF('6 - Input sheet - Employee data'!CU16=\"No\",-CU55,IF(CU70=\"Yes\",-CU55,IF(CU64=\"Yes\",-CU55,IF('5 - FTE reduction'!CU46=\"FTER\",-CU55,0))))","v":0},{"$f":"IF('6 - Input sheet - Employee data'!CV16=\"No\",-CV55,IF(CV70=\"Yes\",-CV55,IF(CV64=\"Yes\",-CV55,IF('5 - FTE reduction'!CV46=\"FTER\",-CV55,0))))","v":0},{"$f":"IF('6 - Input sheet - Employee data'!CW16=\"No\",-CW55,IF(CW70=\"Yes\",-CW55,IF(CW64=\"Yes\",-CW55,IF('5 - FTE reduction'!CW46=\"FTER\",-CW55,0))))","v":0},{"$f":"IF('6 - Input sheet - Employee data'!CX16=\"No\",-CX55,IF(CX70=\"Yes\",-CX55,IF(CX64=\"Yes\",-CX55,IF('5 - FTE reduction'!CX46=\"FTER\",-CX55,0))))","v":0},{"$f":"IF('6 - Input sheet - Employee data'!CY16=\"No\",-CY55,IF(CY70=\"Yes\",-CY55,IF(CY64=\"Yes\",-CY55,IF('5 - FTE reduction'!CY46=\"FTER\",-CY55,0))))","v":0},{"$f":"IF('6 - Input sheet - Employee data'!CZ16=\"No\",-CZ55,IF(CZ70=\"Yes\",-CZ55,IF(CZ64=\"Yes\",-CZ55,IF('5 - FTE reduction'!CZ46=\"FTER\",-CZ55,0))))","v":0},{"$f":"IF('6 - Input sheet - Employee data'!DA16=\"No\",-DA55,IF(DA70=\"Yes\",-DA55,IF(DA64=\"Yes\",-DA55,IF('5 - FTE reduction'!DA46=\"FTER\",-DA55,0))))","v":0},{"$f":"IF('6 - Input sheet - Employee data'!DB16=\"No\",-DB55,IF(DB70=\"Yes\",-DB55,IF(DB64=\"Yes\",-DB55,IF('5 - FTE reduction'!DB46=\"FTER\",-DB55,0))))","v":0},{"$f":"IF('6 - Input sheet - Employee data'!DC16=\"No\",-DC55,IF(DC70=\"Yes\",-DC55,IF(DC64=\"Yes\",-DC55,IF('5 - FTE reduction'!DC46=\"FTER\",-DC55,0))))","v":0},{"$f":"IF('6 - Input sheet - Employee data'!DD16=\"No\",-DD55,IF(DD70=\"Yes\",-DD55,IF(DD64=\"Yes\",-DD55,IF('5 - FTE reduction'!DD46=\"FTER\",-DD55,0))))","v":0},{"$f":"IF('6 - Input sheet - Employee data'!DE16=\"No\",-DE55,IF(DE70=\"Yes\",-DE55,IF(DE64=\"Yes\",-DE55,IF('5 - FTE reduction'!DE46=\"FTER\",-DE55,0))))","v":0},{"$f":"IF('6 - Input sheet - Employee data'!DF16=\"No\",-DF55,IF(DF70=\"Yes\",-DF55,IF(DF64=\"Yes\",-DF55,IF('5 - FTE reduction'!DF46=\"FTER\",-DF55,0))))","v":0},{"$f":"IF('6 - Input sheet - Employee data'!DG16=\"No\",-DG55,IF(DG70=\"Yes\",-DG55,IF(DG64=\"Yes\",-DG55,IF('5 - FTE reduction'!DG46=\"FTER\",-DG55,0))))","v":0},{"$f":"IF('6 - Input sheet - Employee data'!DH16=\"No\",-DH55,IF(DH70=\"Yes\",-DH55,IF(DH64=\"Yes\",-DH55,IF('5 - FTE reduction'!DH46=\"FTER\",-DH55,0))))","v":0},{"$f":"IF('6 - Input sheet - Employee data'!DI16=\"No\",-DI55,IF(DI70=\"Yes\",-DI55,IF(DI64=\"Yes\",-DI55,IF('5 - FTE reduction'!DI46=\"FTER\",-DI55,0))))","v":0},{"$f":"IF('6 - Input sheet - Employee data'!DJ16=\"No\",-DJ55,IF(DJ70=\"Yes\",-DJ55,IF(DJ64=\"Yes\",-DJ55,IF('5 - FTE reduction'!DJ46=\"FTER\",-DJ55,0))))","v":0},{"$f":"IF('6 - Input sheet - Employee data'!DK16=\"No\",-DK55,IF(DK70=\"Yes\",-DK55,IF(DK64=\"Yes\",-DK55,IF('5 - FTE reduction'!DK46=\"FTER\",-DK55,0))))","v":0},{"$f":"IF('6 - Input sheet - Employee data'!DL16=\"No\",-DL55,IF(DL70=\"Yes\",-DL55,IF(DL64=\"Yes\",-DL55,IF('5 - FTE reduction'!DL46=\"FTER\",-DL55,0))))","v":0},{"$f":"IF('6 - Input sheet - Employee data'!DM16=\"No\",-DM55,IF(DM70=\"Yes\",-DM55,IF(DM64=\"Yes\",-DM55,IF('5 - FTE reduction'!DM46=\"FTER\",-DM55,0))))","v":0},{"$f":"IF('6 - Input sheet - Employee data'!DN16=\"No\",-DN55,IF(DN70=\"Yes\",-DN55,IF(DN64=\"Yes\",-DN55,IF('5 - FTE reduction'!DN46=\"FTER\",-DN55,0))))","v":0},{"$f":"IF('6 - Input sheet - Employee data'!DO16=\"No\",-DO55,IF(DO70=\"Yes\",-DO55,IF(DO64=\"Yes\",-DO55,IF('5 - FTE reduction'!DO46=\"FTER\",-DO55,0))))","v":0},{"$f":"IF('6 - Input sheet - Employee data'!DP16=\"No\",-DP55,IF(DP70=\"Yes\",-DP55,IF(DP64=\"Yes\",-DP55,IF('5 - FTE reduction'!DP46=\"FTER\",-DP55,0))))","v":0},{"$f":"IF('6 - Input sheet - Employee data'!DQ16=\"No\",-DQ55,IF(DQ70=\"Yes\",-DQ55,IF(DQ64=\"Yes\",-DQ55,IF('5 - FTE reduction'!DQ46=\"FTER\",-DQ55,0))))","v":0},{"$f":"IF('6 - Input sheet - Employee data'!DR16=\"No\",-DR55,IF(DR70=\"Yes\",-DR55,IF(DR64=\"Yes\",-DR55,IF('5 - FTE reduction'!DR46=\"FTER\",-DR55,0))))","v":0},{"$f":"IF('6 - Input sheet - Employee data'!DS16=\"No\",-DS55,IF(DS70=\"Yes\",-DS55,IF(DS64=\"Yes\",-DS55,IF('5 - FTE reduction'!DS46=\"FTER\",-DS55,0))))","v":0},{"$f":"IF('6 - Input sheet - Employee data'!DT16=\"No\",-DT55,IF(DT70=\"Yes\",-DT55,IF(DT64=\"Yes\",-DT55,IF('5 - FTE reduction'!DT46=\"FTER\",-DT55,0))))","v":0},{"$f":"IF('6 - Input sheet - Employee data'!DU16=\"No\",-DU55,IF(DU70=\"Yes\",-DU55,IF(DU64=\"Yes\",-DU55,IF('5 - FTE reduction'!DU46=\"FTER\",-DU55,0))))","v":0},{"$f":"IF('6 - Input sheet - Employee data'!DV16=\"No\",-DV55,IF(DV70=\"Yes\",-DV55,IF(DV64=\"Yes\",-DV55,IF('5 - FTE reduction'!DV46=\"FTER\",-DV55,0))))","v":0},{"$f":"IF('6 - Input sheet - Employee data'!DW16=\"No\",-DW55,IF(DW70=\"Yes\",-DW55,IF(DW64=\"Yes\",-DW55,IF('5 - FTE reduction'!DW46=\"FTER\",-DW55,0))))","v":0},{"$f":"IF('6 - Input sheet - Employee data'!DX16=\"No\",-DX55,IF(DX70=\"Yes\",-DX55,IF(DX64=\"Yes\",-DX55,IF('5 - FTE reduction'!DX46=\"FTER\",-DX55,0))))","v":0},{"$f":"IF('6 - Input sheet - Employee data'!DY16=\"No\",-DY55,IF(DY70=\"Yes\",-DY55,IF(DY64=\"Yes\",-DY55,IF('5 - FTE reduction'!DY46=\"FTER\",-DY55,0))))","v":0},{"$f":"IF('6 - Input sheet - Employee data'!DZ16=\"No\",-DZ55,IF(DZ70=\"Yes\",-DZ55,IF(DZ64=\"Yes\",-DZ55,IF('5 - FTE reduction'!DZ46=\"FTER\",-DZ55,0))))","v":0},{"$f":"IF('6 - Input sheet - Employee data'!EA16=\"No\",-EA55,IF(EA70=\"Yes\",-EA55,IF(EA64=\"Yes\",-EA55,IF('5 - FTE reduction'!EA46=\"FTER\",-EA55,0))))","v":0},{"$f":"IF('6 - Input sheet - Employee data'!EB16=\"No\",-EB55,IF(EB70=\"Yes\",-EB55,IF(EB64=\"Yes\",-EB55,IF('5 - FTE reduction'!EB46=\"FTER\",-EB55,0))))","v":0},{"$f":"IF('6 - Input sheet - Employee data'!EC16=\"No\",-EC55,IF(EC70=\"Yes\",-EC55,IF(EC64=\"Yes\",-EC55,IF('5 - FTE reduction'!EC46=\"FTER\",-EC55,0))))","v":0},{"$f":"IF('6 - Input sheet - Employee data'!ED16=\"No\",-ED55,IF(ED70=\"Yes\",-ED55,IF(ED64=\"Yes\",-ED55,IF('5 - FTE reduction'!ED46=\"FTER\",-ED55,0))))","v":0},{"$f":"IF('6 - Input sheet - Employee data'!EE16=\"No\",-EE55,IF(EE70=\"Yes\",-EE55,IF(EE64=\"Yes\",-EE55,IF('5 - FTE reduction'!EE46=\"FTER\",-EE55,0))))","v":0},{"$f":"IF('6 - Input sheet - Employee data'!EF16=\"No\",-EF55,IF(EF70=\"Yes\",-EF55,IF(EF64=\"Yes\",-EF55,IF('5 - FTE reduction'!EF46=\"FTER\",-EF55,0))))","v":0},{"$f":"IF('6 - Input sheet - Employee data'!EG16=\"No\",-EG55,IF(EG70=\"Yes\",-EG55,IF(EG64=\"Yes\",-EG55,IF('5 - FTE reduction'!EG46=\"FTER\",-EG55,0))))","v":0},{"$f":"IF('6 - Input sheet - Employee data'!EH16=\"No\",-EH55,IF(EH70=\"Yes\",-EH55,IF(EH64=\"Yes\",-EH55,IF('5 - FTE reduction'!EH46=\"FTER\",-EH55,0))))","v":0},{"$f":"IF('6 - Input sheet - Employee data'!EI16=\"No\",-EI55,IF(EI70=\"Yes\",-EI55,IF(EI64=\"Yes\",-EI55,IF('5 - FTE reduction'!EI46=\"FTER\",-EI55,0))))","v":0},{"$f":"IF('6 - Input sheet - Employee data'!EJ16=\"No\",-EJ55,IF(EJ70=\"Yes\",-EJ55,IF(EJ64=\"Yes\",-EJ55,IF('5 - FTE reduction'!EJ46=\"FTER\",-EJ55,0))))","v":0},{"$f":"IF('6 - Input sheet - Employee data'!EK16=\"No\",-EK55,IF(EK70=\"Yes\",-EK55,IF(EK64=\"Yes\",-EK55,IF('5 - FTE reduction'!EK46=\"FTER\",-EK55,0))))","v":0},{"$f":"IF('6 - Input sheet - Employee data'!EL16=\"No\",-EL55,IF(EL70=\"Yes\",-EL55,IF(EL64=\"Yes\",-EL55,IF('5 - FTE reduction'!EL46=\"FTER\",-EL55,0))))","v":0},{"$f":"IF('6 - Input sheet - Employee data'!EM16=\"No\",-EM55,IF(EM70=\"Yes\",-EM55,IF(EM64=\"Yes\",-EM55,IF('5 - FTE reduction'!EM46=\"FTER\",-EM55,0))))","v":0},{"$f":"IF('6 - Input sheet - Employee data'!EN16=\"No\",-EN55,IF(EN70=\"Yes\",-EN55,IF(EN64=\"Yes\",-EN55,IF('5 - FTE reduction'!EN46=\"FTER\",-EN55,0))))","v":0},{"$f":"IF('6 - Input sheet - Employee data'!EO16=\"No\",-EO55,IF(EO70=\"Yes\",-EO55,IF(EO64=\"Yes\",-EO55,IF('5 - FTE reduction'!EO46=\"FTER\",-EO55,0))))","v":0},{"$f":"IF('6 - Input sheet - Employee data'!EP16=\"No\",-EP55,IF(EP70=\"Yes\",-EP55,IF(EP64=\"Yes\",-EP55,IF('5 - FTE reduction'!EP46=\"FTER\",-EP55,0))))","v":0},{"$f":"IF('6 - Input sheet - Employee data'!EQ16=\"No\",-EQ55,IF(EQ70=\"Yes\",-EQ55,IF(EQ64=\"Yes\",-EQ55,IF('5 - FTE reduction'!EQ46=\"FTER\",-EQ55,0))))","v":0},{"$f":"IF('6 - Input sheet - Employee data'!ER16=\"No\",-ER55,IF(ER70=\"Yes\",-ER55,IF(ER64=\"Yes\",-ER55,IF('5 - FTE reduction'!ER46=\"FTER\",-ER55,0))))","v":0},{"$f":"IF('6 - Input sheet - Employee data'!ES16=\"No\",-ES55,IF(ES70=\"Yes\",-ES55,IF(ES64=\"Yes\",-ES55,IF('5 - FTE reduction'!ES46=\"FTER\",-ES55,0))))","v":0},{"$f":"IF('6 - Input sheet - Employee data'!ET16=\"No\",-ET55,IF(ET70=\"Yes\",-ET55,IF(ET64=\"Yes\",-ET55,IF('5 - FTE reduction'!ET46=\"FTER\",-ET55,0))))","v":0},{"$f":"IF('6 - Input sheet - Employee data'!EU16=\"No\",-EU55,IF(EU70=\"Yes\",-EU55,IF(EU64=\"Yes\",-EU55,IF('5 - FTE reduction'!EU46=\"FTER\",-EU55,0))))","v":0},{"$f":"IF('6 - Input sheet - Employee data'!EV16=\"No\",-EV55,IF(EV70=\"Yes\",-EV55,IF(EV64=\"Yes\",-EV55,IF('5 - FTE reduction'!EV46=\"FTER\",-EV55,0))))","v":0},{"$f":"IF('6 - Input sheet - Employee data'!EW16=\"No\",-EW55,IF(EW70=\"Yes\",-EW55,IF(EW64=\"Yes\",-EW55,IF('5 - FTE reduction'!EW46=\"FTER\",-EW55,0))))","v":0},{"$f":"IF('6 - Input sheet - Employee data'!EX16=\"No\",-EX55,IF(EX70=\"Yes\",-EX55,IF(EX64=\"Yes\",-EX55,IF('5 - FTE reduction'!EX46=\"FTER\",-EX55,0))))","v":0},{"$f":"IF('6 - Input sheet - Employee data'!EY16=\"No\",-EY55,IF(EY70=\"Yes\",-EY55,IF(EY64=\"Yes\",-EY55,IF('5 - FTE reduction'!EY46=\"FTER\",-EY55,0))))","v":0},{"$f":"IF('6 - Input sheet - Employee data'!EZ16=\"No\",-EZ55,IF(EZ70=\"Yes\",-EZ55,IF(EZ64=\"Yes\",-EZ55,IF('5 - FTE reduction'!EZ46=\"FTER\",-EZ55,0))))","v":0},{"$f":"IF('6 - Input sheet - Employee data'!FA16=\"No\",-FA55,IF(FA70=\"Yes\",-FA55,IF(FA64=\"Yes\",-FA55,IF('5 - FTE reduction'!FA46=\"FTER\",-FA55,0))))","v":0},{"$f":"IF('6 - Input sheet - Employee data'!FB16=\"No\",-FB55,IF(FB70=\"Yes\",-FB55,IF(FB64=\"Yes\",-FB55,IF('5 - FTE reduction'!FB46=\"FTER\",-FB55,0))))","v":0},{"$f":"IF('6 - Input sheet - Employee data'!FC16=\"No\",-FC55,IF(FC70=\"Yes\",-FC55,IF(FC64=\"Yes\",-FC55,IF('5 - FTE reduction'!FC46=\"FTER\",-FC55,0))))","v":0},{"$f":"IF('6 - Input sheet - Employee data'!FD16=\"No\",-FD55,IF(FD70=\"Yes\",-FD55,IF(FD64=\"Yes\",-FD55,IF('5 - FTE reduction'!FD46=\"FTER\",-FD55,0))))","v":0},{"$f":"IF('6 - Input sheet - Employee data'!FE16=\"No\",-FE55,IF(FE70=\"Yes\",-FE55,IF(FE64=\"Yes\",-FE55,IF('5 - FTE reduction'!FE46=\"FTER\",-FE55,0))))","v":0},{"$f":"IF('6 - Input sheet - Employee data'!FF16=\"No\",-FF55,IF(FF70=\"Yes\",-FF55,IF(FF64=\"Yes\",-FF55,IF('5 - FTE reduction'!FF46=\"FTER\",-FF55,0))))","v":0},{"$f":"IF('6 - Input sheet - Employee data'!FG16=\"No\",-FG55,IF(FG70=\"Yes\",-FG55,IF(FG64=\"Yes\",-FG55,IF('5 - FTE reduction'!FG46=\"FTER\",-FG55,0))))","v":0},{"$f":"IF('6 - Input sheet - Employee data'!FH16=\"No\",-FH55,IF(FH70=\"Yes\",-FH55,IF(FH64=\"Yes\",-FH55,IF('5 - FTE reduction'!FH46=\"FTER\",-FH55,0))))","v":0},{"$f":"IF('6 - Input sheet - Employee data'!FI16=\"No\",-FI55,IF(FI70=\"Yes\",-FI55,IF(FI64=\"Yes\",-FI55,IF('5 - FTE reduction'!FI46=\"FTER\",-FI55,0))))","v":0},{"$f":"IF('6 - Input sheet - Employee data'!FJ16=\"No\",-FJ55,IF(FJ70=\"Yes\",-FJ55,IF(FJ64=\"Yes\",-FJ55,IF('5 - FTE reduction'!FJ46=\"FTER\",-FJ55,0))))","v":0},{"$f":"IF('6 - Input sheet - Employee data'!FK16=\"No\",-FK55,IF(FK70=\"Yes\",-FK55,IF(FK64=\"Yes\",-FK55,IF('5 - FTE reduction'!FK46=\"FTER\",-FK55,0))))","v":0},{"$f":"IF('6 - Input sheet - Employee data'!FL16=\"No\",-FL55,IF(FL70=\"Yes\",-FL55,IF(FL64=\"Yes\",-FL55,IF('5 - FTE reduction'!FL46=\"FTER\",-FL55,0))))","v":0},{"$f":"IF('6 - Input sheet - Employee data'!FM16=\"No\",-FM55,IF(FM70=\"Yes\",-FM55,IF(FM64=\"Yes\",-FM55,IF('5 - FTE reduction'!FM46=\"FTER\",-FM55,0))))","v":0},{"$f":"IF('6 - Input sheet - Employee data'!FN16=\"No\",-FN55,IF(FN70=\"Yes\",-FN55,IF(FN64=\"Yes\",-FN55,IF('5 - FTE reduction'!FN46=\"FTER\",-FN55,0))))","v":0},{"$f":"IF('6 - Input sheet - Employee data'!FO16=\"No\",-FO55,IF(FO70=\"Yes\",-FO55,IF(FO64=\"Yes\",-FO55,IF('5 - FTE reduction'!FO46=\"FTER\",-FO55,0))))","v":0},{"$f":"IF('6 - Input sheet - Employee data'!FP16=\"No\",-FP55,IF(FP70=\"Yes\",-FP55,IF(FP64=\"Yes\",-FP55,IF('5 - FTE reduction'!FP46=\"FTER\",-FP55,0))))","v":0},{"$f":"IF('6 - Input sheet - Employee data'!FQ16=\"No\",-FQ55,IF(FQ70=\"Yes\",-FQ55,IF(FQ64=\"Yes\",-FQ55,IF('5 - FTE reduction'!FQ46=\"FTER\",-FQ55,0))))","v":0},{"$f":"IF('6 - Input sheet - Employee data'!FR16=\"No\",-FR55,IF(FR70=\"Yes\",-FR55,IF(FR64=\"Yes\",-FR55,IF('5 - FTE reduction'!FR46=\"FTER\",-FR55,0))))","v":0},{"$f":"IF('6 - Input sheet - Employee data'!FS16=\"No\",-FS55,IF(FS70=\"Yes\",-FS55,IF(FS64=\"Yes\",-FS55,IF('5 - FTE reduction'!FS46=\"FTER\",-FS55,0))))","v":0},{"$f":"IF('6 - Input sheet - Employee data'!FT16=\"No\",-FT55,IF(FT70=\"Yes\",-FT55,IF(FT64=\"Yes\",-FT55,IF('5 - FTE reduction'!FT46=\"FTER\",-FT55,0))))","v":0},{"$f":"IF('6 - Input sheet - Employee data'!FU16=\"No\",-FU55,IF(FU70=\"Yes\",-FU55,IF(FU64=\"Yes\",-FU55,IF('5 - FTE reduction'!FU46=\"FTER\",-FU55,0))))","v":0},{"$f":"IF('6 - Input sheet - Employee data'!FV16=\"No\",-FV55,IF(FV70=\"Yes\",-FV55,IF(FV64=\"Yes\",-FV55,IF('5 - FTE reduction'!FV46=\"FTER\",-FV55,0))))","v":0},{"$f":"IF('6 - Input sheet - Employee data'!FW16=\"No\",-FW55,IF(FW70=\"Yes\",-FW55,IF(FW64=\"Yes\",-FW55,IF('5 - FTE reduction'!FW46=\"FTER\",-FW55,0))))","v":0},{"$f":"IF('6 - Input sheet - Employee data'!FX16=\"No\",-FX55,IF(FX70=\"Yes\",-FX55,IF(FX64=\"Yes\",-FX55,IF('5 - FTE reduction'!FX46=\"FTER\",-FX55,0))))","v":0},{"$f":"IF('6 - Input sheet - Employee data'!FY16=\"No\",-FY55,IF(FY70=\"Yes\",-FY55,IF(FY64=\"Yes\",-FY55,IF('5 - FTE reduction'!FY46=\"FTER\",-FY55,0))))","v":0},{"$f":"IF('6 - Input sheet - Employee data'!FZ16=\"No\",-FZ55,IF(FZ70=\"Yes\",-FZ55,IF(FZ64=\"Yes\",-FZ55,IF('5 - FTE reduction'!FZ46=\"FTER\",-FZ55,0))))","v":0},{"$f":"IF('6 - Input sheet - Employee data'!GA16=\"No\",-GA55,IF(GA70=\"Yes\",-GA55,IF(GA64=\"Yes\",-GA55,IF('5 - FTE reduction'!GA46=\"FTER\",-GA55,0))))","v":0},{"$f":"IF('6 - Input sheet - Employee data'!GB16=\"No\",-GB55,IF(GB70=\"Yes\",-GB55,IF(GB64=\"Yes\",-GB55,IF('5 - FTE reduction'!GB46=\"FTER\",-GB55,0))))","v":0},{"$f":"IF('6 - Input sheet - Employee data'!GC16=\"No\",-GC55,IF(GC70=\"Yes\",-GC55,IF(GC64=\"Yes\",-GC55,IF('5 - FTE reduction'!GC46=\"FTER\",-GC55,0))))","v":0},{"$f":"IF('6 - Input sheet - Employee data'!GD16=\"No\",-GD55,IF(GD70=\"Yes\",-GD55,IF(GD64=\"Yes\",-GD55,IF('5 - FTE reduction'!GD46=\"FTER\",-GD55,0))))","v":0},{"$f":"IF('6 - Input sheet - Employee data'!GE16=\"No\",-GE55,IF(GE70=\"Yes\",-GE55,IF(GE64=\"Yes\",-GE55,IF('5 - FTE reduction'!GE46=\"FTER\",-GE55,0))))","v":0},{"$f":"IF('6 - Input sheet - Employee data'!GF16=\"No\",-GF55,IF(GF70=\"Yes\",-GF55,IF(GF64=\"Yes\",-GF55,IF('5 - FTE reduction'!GF46=\"FTER\",-GF55,0))))","v":0},{"$f":"IF('6 - Input sheet - Employee data'!GG16=\"No\",-GG55,IF(GG70=\"Yes\",-GG55,IF(GG64=\"Yes\",-GG55,IF('5 - FTE reduction'!GG46=\"FTER\",-GG55,0))))","v":0},{"$f":"IF('6 - Input sheet - Employee data'!GH16=\"No\",-GH55,IF(GH70=\"Yes\",-GH55,IF(GH64=\"Yes\",-GH55,IF('5 - FTE reduction'!GH46=\"FTER\",-GH55,0))))","v":0},{"$f":"IF('6 - Input sheet - Employee data'!GI16=\"No\",-GI55,IF(GI70=\"Yes\",-GI55,IF(GI64=\"Yes\",-GI55,IF('5 - FTE reduction'!GI46=\"FTER\",-GI55,0))))","v":0},{"$f":"IF('6 - Input sheet - Employee data'!GJ16=\"No\",-GJ55,IF(GJ70=\"Yes\",-GJ55,IF(GJ64=\"Yes\",-GJ55,IF('5 - FTE reduction'!GJ46=\"FTER\",-GJ55,0))))","v":0},{"$f":"IF('6 - Input sheet - Employee data'!GK16=\"No\",-GK55,IF(GK70=\"Yes\",-GK55,IF(GK64=\"Yes\",-GK55,IF('5 - FTE reduction'!GK46=\"FTER\",-GK55,0))))","v":0},{"$f":"IF('6 - Input sheet - Employee data'!GL16=\"No\",-GL55,IF(GL70=\"Yes\",-GL55,IF(GL64=\"Yes\",-GL55,IF('5 - FTE reduction'!GL46=\"FTER\",-GL55,0))))","v":0},{"$f":"IF('6 - Input sheet - Employee data'!GM16=\"No\",-GM55,IF(GM70=\"Yes\",-GM55,IF(GM64=\"Yes\",-GM55,IF('5 - FTE reduction'!GM46=\"FTER\",-GM55,0))))","v":0},{"$f":"IF('6 - Input sheet - Employee data'!GN16=\"No\",-GN55,IF(GN70=\"Yes\",-GN55,IF(GN64=\"Yes\",-GN55,IF('5 - FTE reduction'!GN46=\"FTER\",-GN55,0))))","v":0},{"$f":"IF('6 - Input sheet - Employee data'!GO16=\"No\",-GO55,IF(GO70=\"Yes\",-GO55,IF(GO64=\"Yes\",-GO55,IF('5 - FTE reduction'!GO46=\"FTER\",-GO55,0))))","v":0},{"$f":"IF('6 - Input sheet - Employee data'!GP16=\"No\",-GP55,IF(GP70=\"Yes\",-GP55,IF(GP64=\"Yes\",-GP55,IF('5 - FTE reduction'!GP46=\"FTER\",-GP55,0))))","v":0},{"$f":"IF('6 - Input sheet - Employee data'!GQ16=\"No\",-GQ55,IF(GQ70=\"Yes\",-GQ55,IF(GQ64=\"Yes\",-GQ55,IF('5 - FTE reduction'!GQ46=\"FTER\",-GQ55,0))))","v":0},{"$f":"IF('6 - Input sheet - Employee data'!GR16=\"No\",-GR55,IF(GR70=\"Yes\",-GR55,IF(GR64=\"Yes\",-GR55,IF('5 - FTE reduction'!GR46=\"FTER\",-GR55,0))))","v":0},{"$f":"IF('6 - Input sheet - Employee data'!GS16=\"No\",-GS55,IF(GS70=\"Yes\",-GS55,IF(GS64=\"Yes\",-GS55,IF('5 - FTE reduction'!GS46=\"FTER\",-GS55,0))))","v":0},{"$f":"IF('6 - Input sheet - Employee data'!GT16=\"No\",-GT55,IF(GT70=\"Yes\",-GT55,IF(GT64=\"Yes\",-GT55,IF('5 - FTE reduction'!GT46=\"FTER\",-GT55,0))))","v":0},{"$f":"IF('6 - Input sheet - Employee data'!GU16=\"No\",-GU55,IF(GU70=\"Yes\",-GU55,IF(GU64=\"Yes\",-GU55,IF('5 - FTE reduction'!GU46=\"FTER\",-GU55,0))))","v":0},{"$f":"IF('6 - Input sheet - Employee data'!GV16=\"No\",-GV55,IF(GV70=\"Yes\",-GV55,IF(GV64=\"Yes\",-GV55,IF('5 - FTE reduction'!GV46=\"FTER\",-GV55,0))))","v":0},{"$f":"IF('6 - Input sheet - Employee data'!GW16=\"No\",-GW55,IF(GW70=\"Yes\",-GW55,IF(GW64=\"Yes\",-GW55,IF('5 - FTE reduction'!GW46=\"FTER\",-GW55,0))))","v":0},{"$f":"IF('6 - Input sheet - Employee data'!GX16=\"No\",-GX55,IF(GX70=\"Yes\",-GX55,IF(GX64=\"Yes\",-GX55,IF('5 - FTE reduction'!GX46=\"FTER\",-GX55,0))))","v":0},{"$f":"IF('6 - Input sheet - Employee data'!GY16=\"No\",-GY55,IF(GY70=\"Yes\",-GY55,IF(GY64=\"Yes\",-GY55,IF('5 - FTE reduction'!GY46=\"FTER\",-GY55,0))))","v":0},{"$f":"IF('6 - Input sheet - Employee data'!GZ16=\"No\",-GZ55,IF(GZ70=\"Yes\",-GZ55,IF(GZ64=\"Yes\",-GZ55,IF('5 - FTE reduction'!GZ46=\"FTER\",-GZ55,0))))","v":0},{"$f":"IF('6 - Input sheet - Employee data'!HA16=\"No\",-HA55,IF(HA70=\"Yes\",-HA55,IF(HA64=\"Yes\",-HA55,IF('5 - FTE reduction'!HA46=\"FTER\",-HA55,0))))","v":0},{"$f":"IF('6 - Input sheet - Employee data'!HB16=\"No\",-HB55,IF(HB70=\"Yes\",-HB55,IF(HB64=\"Yes\",-HB55,IF('5 - FTE reduction'!HB46=\"FTER\",-HB55,0))))","v":0},{"$f":"IF('6 - Input sheet - Employee data'!HC16=\"No\",-HC55,IF(HC70=\"Yes\",-HC55,IF(HC64=\"Yes\",-HC55,IF('5 - FTE reduction'!HC46=\"FTER\",-HC55,0))))","v":0},{"$f":"IF('6 - Input sheet - Employee data'!HD16=\"No\",-HD55,IF(HD70=\"Yes\",-HD55,IF(HD64=\"Yes\",-HD55,IF('5 - FTE reduction'!HD46=\"FTER\",-HD55,0))))","v":0},{"$f":"IF('6 - Input sheet - Employee data'!HE16=\"No\",-HE55,IF(HE70=\"Yes\",-HE55,IF(HE64=\"Yes\",-HE55,IF('5 - FTE reduction'!HE46=\"FTER\",-HE55,0))))","v":0},{"$f":"IF('6 - Input sheet - Employee data'!HF16=\"No\",-HF55,IF(HF70=\"Yes\",-HF55,IF(HF64=\"Yes\",-HF55,IF('5 - FTE reduction'!HF46=\"FTER\",-HF55,0))))","v":0},{"$f":"IF('6 - Input sheet - Employee data'!HG16=\"No\",-HG55,IF(HG70=\"Yes\",-HG55,IF(HG64=\"Yes\",-HG55,IF('5 - FTE reduction'!HG46=\"FTER\",-HG55,0))))","v":0},{"$f":"IF('6 - Input sheet - Employee data'!HH16=\"No\",-HH55,IF(HH70=\"Yes\",-HH55,IF(HH64=\"Yes\",-HH55,IF('5 - FTE reduction'!HH46=\"FTER\",-HH55,0))))","v":0},{"$f":"IF('6 - Input sheet - Employee data'!HI16=\"No\",-HI55,IF(HI70=\"Yes\",-HI55,IF(HI64=\"Yes\",-HI55,IF('5 - FTE reduction'!HI46=\"FTER\",-HI55,0))))","v":0},{"$f":"IF('6 - Input sheet - Employee data'!HJ16=\"No\",-HJ55,IF(HJ70=\"Yes\",-HJ55,IF(HJ64=\"Yes\",-HJ55,IF('5 - FTE reduction'!HJ46=\"FTER\",-HJ55,0))))","v":0},{"$f":"IF('6 - Input sheet - Employee data'!HK16=\"No\",-HK55,IF(HK70=\"Yes\",-HK55,IF(HK64=\"Yes\",-HK55,IF('5 - FTE reduction'!HK46=\"FTER\",-HK55,0))))","v":0},{"$f":"IF('6 - Input sheet - Employee data'!HL16=\"No\",-HL55,IF(HL70=\"Yes\",-HL55,IF(HL64=\"Yes\",-HL55,IF('5 - FTE reduction'!HL46=\"FTER\",-HL55,0))))","v":0},{"$f":"IF('6 - Input sheet - Employee data'!HM16=\"No\",-HM55,IF(HM70=\"Yes\",-HM55,IF(HM64=\"Yes\",-HM55,IF('5 - FTE reduction'!HM46=\"FTER\",-HM55,0))))","v":0},{"$f":"IF('6 - Input sheet - Employee data'!HN16=\"No\",-HN55,IF(HN70=\"Yes\",-HN55,IF(HN64=\"Yes\",-HN55,IF('5 - FTE reduction'!HN46=\"FTER\",-HN55,0))))","v":0},{"$f":"IF('6 - Input sheet - Employee data'!HO16=\"No\",-HO55,IF(HO70=\"Yes\",-HO55,IF(HO64=\"Yes\",-HO55,IF('5 - FTE reduction'!HO46=\"FTER\",-HO55,0))))","v":0},{"$f":"IF('6 - Input sheet - Employee data'!HP16=\"No\",-HP55,IF(HP70=\"Yes\",-HP55,IF(HP64=\"Yes\",-HP55,IF('5 - FTE reduction'!HP46=\"FTER\",-HP55,0))))","v":0},{"$f":"IF('6 - Input sheet - Employee data'!HQ16=\"No\",-HQ55,IF(HQ70=\"Yes\",-HQ55,IF(HQ64=\"Yes\",-HQ55,IF('5 - FTE reduction'!HQ46=\"FTER\",-HQ55,0))))","v":0},{"$f":"IF('6 - Input sheet - Employee data'!HR16=\"No\",-HR55,IF(HR70=\"Yes\",-HR55,IF(HR64=\"Yes\",-HR55,IF('5 - FTE reduction'!HR46=\"FTER\",-HR55,0))))","v":0},{"$f":"IF('6 - Input sheet - Employee data'!HS16=\"No\",-HS55,IF(HS70=\"Yes\",-HS55,IF(HS64=\"Yes\",-HS55,IF('5 - FTE reduction'!HS46=\"FTER\",-HS55,0))))","v":0},{"$f":"IF('6 - Input sheet - Employee data'!HT16=\"No\",-HT55,IF(HT70=\"Yes\",-HT55,IF(HT64=\"Yes\",-HT55,IF('5 - FTE reduction'!HT46=\"FTER\",-HT55,0))))","v":0},{"$f":"IF('6 - Input sheet - Employee data'!HU16=\"No\",-HU55,IF(HU70=\"Yes\",-HU55,IF(HU64=\"Yes\",-HU55,IF('5 - FTE reduction'!HU46=\"FTER\",-HU55,0))))","v":0},{"$f":"IF('6 - Input sheet - Employee data'!HV16=\"No\",-HV55,IF(HV70=\"Yes\",-HV55,IF(HV64=\"Yes\",-HV55,IF('5 - FTE reduction'!HV46=\"FTER\",-HV55,0))))","v":0},{"$f":"IF('6 - Input sheet - Employee data'!HW16=\"No\",-HW55,IF(HW70=\"Yes\",-HW55,IF(HW64=\"Yes\",-HW55,IF('5 - FTE reduction'!HW46=\"FTER\",-HW55,0))))","v":0},{"$f":"IF('6 - Input sheet - Employee data'!HX16=\"No\",-HX55,IF(HX70=\"Yes\",-HX55,IF(HX64=\"Yes\",-HX55,IF('5 - FTE reduction'!HX46=\"FTER\",-HX55,0))))","v":0},{"$f":"IF('6 - Input sheet - Employee data'!HY16=\"No\",-HY55,IF(HY70=\"Yes\",-HY55,IF(HY64=\"Yes\",-HY55,IF('5 - FTE reduction'!HY46=\"FTER\",-HY55,0))))","v":0},{"$f":"IF('6 - Input sheet - Employee data'!HZ16=\"No\",-HZ55,IF(HZ70=\"Yes\",-HZ55,IF(HZ64=\"Yes\",-HZ55,IF('5 - FTE reduction'!HZ46=\"FTER\",-HZ55,0))))","v":0},{"$f":"IF('6 - Input sheet - Employee data'!IA16=\"No\",-IA55,IF(IA70=\"Yes\",-IA55,IF(IA64=\"Yes\",-IA55,IF('5 - FTE reduction'!IA46=\"FTER\",-IA55,0))))","v":0},{"$f":"IF('6 - Input sheet - Employee data'!IB16=\"No\",-IB55,IF(IB70=\"Yes\",-IB55,IF(IB64=\"Yes\",-IB55,IF('5 - FTE reduction'!IB46=\"FTER\",-IB55,0))))","v":0},{"$f":"IF('6 - Input sheet - Employee data'!IC16=\"No\",-IC55,IF(IC70=\"Yes\",-IC55,IF(IC64=\"Yes\",-IC55,IF('5 - FTE reduction'!IC46=\"FTER\",-IC55,0))))","v":0},{"$f":"IF('6 - Input sheet - Employee data'!ID16=\"No\",-ID55,IF(ID70=\"Yes\",-ID55,IF(ID64=\"Yes\",-ID55,IF('5 - FTE reduction'!ID46=\"FTER\",-ID55,0))))","v":0},{"$f":"IF('6 - Input sheet - Employee data'!IE16=\"No\",-IE55,IF(IE70=\"Yes\",-IE55,IF(IE64=\"Yes\",-IE55,IF('5 - FTE reduction'!IE46=\"FTER\",-IE55,0))))","v":0},{"$f":"IF('6 - Input sheet - Employee data'!IF16=\"No\",-IF55,IF(IF70=\"Yes\",-IF55,IF(IF64=\"Yes\",-IF55,IF('5 - FTE reduction'!IF46=\"FTER\",-IF55,0))))","v":0},{"$f":"IF('6 - Input sheet - Employee data'!IG16=\"No\",-IG55,IF(IG70=\"Yes\",-IG55,IF(IG64=\"Yes\",-IG55,IF('5 - FTE reduction'!IG46=\"FTER\",-IG55,0))))","v":0},{"$f":"IF('6 - Input sheet - Employee data'!IH16=\"No\",-IH55,IF(IH70=\"Yes\",-IH55,IF(IH64=\"Yes\",-IH55,IF('5 - FTE reduction'!IH46=\"FTER\",-IH55,0))))","v":0},{"$f":"IF('6 - Input sheet - Employee data'!II16=\"No\",-II55,IF(II70=\"Yes\",-II55,IF(II64=\"Yes\",-II55,IF('5 - FTE reduction'!II46=\"FTER\",-II55,0))))","v":0},{"$f":"IF('6 - Input sheet - Employee data'!IJ16=\"No\",-IJ55,IF(IJ70=\"Yes\",-IJ55,IF(IJ64=\"Yes\",-IJ55,IF('5 - FTE reduction'!IJ46=\"FTER\",-IJ55,0))))","v":0},{"$f":"IF('6 - Input sheet - Employee data'!IK16=\"No\",-IK55,IF(IK70=\"Yes\",-IK55,IF(IK64=\"Yes\",-IK55,IF('5 - FTE reduction'!IK46=\"FTER\",-IK55,0))))","v":0},{"$f":"IF('6 - Input sheet - Employee data'!IL16=\"No\",-IL55,IF(IL70=\"Yes\",-IL55,IF(IL64=\"Yes\",-IL55,IF('5 - FTE reduction'!IL46=\"FTER\",-IL55,0))))","v":0},{"$f":"IF('6 - Input sheet - Employee data'!IM16=\"No\",-IM55,IF(IM70=\"Yes\",-IM55,IF(IM64=\"Yes\",-IM55,IF('5 - FTE reduction'!IM46=\"FTER\",-IM55,0))))","v":0},{"$f":"IF('6 - Input sheet - Employee data'!IN16=\"No\",-IN55,IF(IN70=\"Yes\",-IN55,IF(IN64=\"Yes\",-IN55,IF('5 - FTE reduction'!IN46=\"FTER\",-IN55,0))))","v":0},{"$f":"IF('6 - Input sheet - Employee data'!IO16=\"No\",-IO55,IF(IO70=\"Yes\",-IO55,IF(IO64=\"Yes\",-IO55,IF('5 - FTE reduction'!IO46=\"FTER\",-IO55,0))))","v":0},{"$f":"IF('6 - Input sheet - Employee data'!IP16=\"No\",-IP55,IF(IP70=\"Yes\",-IP55,IF(IP64=\"Yes\",-IP55,IF('5 - FTE reduction'!IP46=\"FTER\",-IP55,0))))","v":0},{"$f":"IF('6 - Input sheet - Employee data'!IQ16=\"No\",-IQ55,IF(IQ70=\"Yes\",-IQ55,IF(IQ64=\"Yes\",-IQ55,IF('5 - FTE reduction'!IQ46=\"FTER\",-IQ55,0))))","v":0},{"$f":"IF('6 - Input sheet - Employee data'!IR16=\"No\",-IR55,IF(IR70=\"Yes\",-IR55,IF(IR64=\"Yes\",-IR55,IF('5 - FTE reduction'!IR46=\"FTER\",-IR55,0))))","v":0},{"$f":"IF('6 - Input sheet - Employee data'!IS16=\"No\",-IS55,IF(IS70=\"Yes\",-IS55,IF(IS64=\"Yes\",-IS55,IF('5 - FTE reduction'!IS46=\"FTER\",-IS55,0))))","v":0},{"$f":"IF('6 - Input sheet - Employee data'!IT16=\"No\",-IT55,IF(IT70=\"Yes\",-IT55,IF(IT64=\"Yes\",-IT55,IF('5 - FTE reduction'!IT46=\"FTER\",-IT55,0))))","v":0},{"$f":"IF('6 - Input sheet - Employee data'!IU16=\"No\",-IU55,IF(IU70=\"Yes\",-IU55,IF(IU64=\"Yes\",-IU55,IF('5 - FTE reduction'!IU46=\"FTER\",-IU55,0))))","v":0},{"$f":"IF('6 - Input sheet - Employee data'!IV16=\"No\",-IV55,IF(IV70=\"Yes\",-IV55,IF(IV64=\"Yes\",-IV55,IF('5 - FTE reduction'!IV46=\"FTER\",-IV55,0))))","v":0},{"$f":"IF('6 - Input sheet - Employee data'!IW16=\"No\",-IW55,IF(IW70=\"Yes\",-IW55,IF(IW64=\"Yes\",-IW55,IF('5 - FTE reduction'!IW46=\"FTER\",-IW55,0))))","v":0},{"$f":"IF('6 - Input sheet - Employee data'!IX16=\"No\",-IX55,IF(IX70=\"Yes\",-IX55,IF(IX64=\"Yes\",-IX55,IF('5 - FTE reduction'!IX46=\"FTER\",-IX55,0))))","v":0},{"$f":"IF('6 - Input sheet - Employee data'!IY16=\"No\",-IY55,IF(IY70=\"Yes\",-IY55,IF(IY64=\"Yes\",-IY55,IF('5 - FTE reduction'!IY46=\"FTER\",-IY55,0))))","v":0},{"$f":"IF('6 - Input sheet - Employee data'!IZ16=\"No\",-IZ55,IF(IZ70=\"Yes\",-IZ55,IF(IZ64=\"Yes\",-IZ55,IF('5 - FTE reduction'!IZ46=\"FTER\",-IZ55,0))))","v":0},{"$f":"IF('6 - Input sheet - Employee data'!JA16=\"No\",-JA55,IF(JA70=\"Yes\",-JA55,IF(JA64=\"Yes\",-JA55,IF('5 - FTE reduction'!JA46=\"FTER\",-JA55,0))))","v":0},{"$f":"IF('6 - Input sheet - Employee data'!JB16=\"No\",-JB55,IF(JB70=\"Yes\",-JB55,IF(JB64=\"Yes\",-JB55,IF('5 - FTE reduction'!JB46=\"FTER\",-JB55,0))))","v":0},{"$f":"IF('6 - Input sheet - Employee data'!JC16=\"No\",-JC55,IF(JC70=\"Yes\",-JC55,IF(JC64=\"Yes\",-JC55,IF('5 - FTE reduction'!JC46=\"FTER\",-JC55,0))))","v":0},{"$f":"IF('6 - Input sheet - Employee data'!JD16=\"No\",-JD55,IF(JD70=\"Yes\",-JD55,IF(JD64=\"Yes\",-JD55,IF('5 - FTE reduction'!JD46=\"FTER\",-JD55,0))))","v":0},{"$f":"IF('6 - Input sheet - Employee data'!JE16=\"No\",-JE55,IF(JE70=\"Yes\",-JE55,IF(JE64=\"Yes\",-JE55,IF('5 - FTE reduction'!JE46=\"FTER\",-JE55,0))))","v":0},{"$f":"IF('6 - Input sheet - Employee data'!JF16=\"No\",-JF55,IF(JF70=\"Yes\",-JF55,IF(JF64=\"Yes\",-JF55,IF('5 - FTE reduction'!JF46=\"FTER\",-JF55,0))))","v":0},{"$f":"IF('6 - Input sheet - Employee data'!JG16=\"No\",-JG55,IF(JG70=\"Yes\",-JG55,IF(JG64=\"Yes\",-JG55,IF('5 - FTE reduction'!JG46=\"FTER\",-JG55,0))))","v":0},{"$f":"IF('6 - Input sheet - Employee data'!JH16=\"No\",-JH55,IF(JH70=\"Yes\",-JH55,IF(JH64=\"Yes\",-JH55,IF('5 - FTE reduction'!JH46=\"FTER\",-JH55,0))))","v":0},{"$f":"IF('6 - Input sheet - Employee data'!JI16=\"No\",-JI55,IF(JI70=\"Yes\",-JI55,IF(JI64=\"Yes\",-JI55,IF('5 - FTE reduction'!JI46=\"FTER\",-JI55,0))))","v":0},{"$f":"IF('6 - Input sheet - Employee data'!JJ16=\"No\",-JJ55,IF(JJ70=\"Yes\",-JJ55,IF(JJ64=\"Yes\",-JJ55,IF('5 - FTE reduction'!JJ46=\"FTER\",-JJ55,0))))","v":0},{"$f":"IF('6 - Input sheet - Employee data'!JK16=\"No\",-JK55,IF(JK70=\"Yes\",-JK55,IF(JK64=\"Yes\",-JK55,IF('5 - FTE reduction'!JK46=\"FTER\",-JK55,0))))","v":0},{"$f":"IF('6 - Input sheet - Employee data'!JL16=\"No\",-JL55,IF(JL70=\"Yes\",-JL55,IF(JL64=\"Yes\",-JL55,IF('5 - FTE reduction'!JL46=\"FTER\",-JL55,0))))","v":0},{"$f":"IF('6 - Input sheet - Employee data'!JM16=\"No\",-JM55,IF(JM70=\"Yes\",-JM55,IF(JM64=\"Yes\",-JM55,IF('5 - FTE reduction'!JM46=\"FTER\",-JM55,0))))","v":0},{"$f":"IF('6 - Input sheet - Employee data'!JN16=\"No\",-JN55,IF(JN70=\"Yes\",-JN55,IF(JN64=\"Yes\",-JN55,IF('5 - FTE reduction'!JN46=\"FTER\",-JN55,0))))","v":0},{"$f":"IF('6 - Input sheet - Employee data'!JO16=\"No\",-JO55,IF(JO70=\"Yes\",-JO55,IF(JO64=\"Yes\",-JO55,IF('5 - FTE reduction'!JO46=\"FTER\",-JO55,0))))","v":0},{"$f":"IF('6 - Input sheet - Employee data'!JP16=\"No\",-JP55,IF(JP70=\"Yes\",-JP55,IF(JP64=\"Yes\",-JP55,IF('5 - FTE reduction'!JP46=\"FTER\",-JP55,0))))","v":0},{"$f":"IF('6 - Input sheet - Employee data'!JQ16=\"No\",-JQ55,IF(JQ70=\"Yes\",-JQ55,IF(JQ64=\"Yes\",-JQ55,IF('5 - FTE reduction'!JQ46=\"FTER\",-JQ55,0))))","v":0},{"$f":"IF('6 - Input sheet - Employee data'!JR16=\"No\",-JR55,IF(JR70=\"Yes\",-JR55,IF(JR64=\"Yes\",-JR55,IF('5 - FTE reduction'!JR46=\"FTER\",-JR55,0))))","v":0},{"$f":"IF('6 - Input sheet - Employee data'!JS16=\"No\",-JS55,IF(JS70=\"Yes\",-JS55,IF(JS64=\"Yes\",-JS55,IF('5 - FTE reduction'!JS46=\"FTER\",-JS55,0))))","v":0},{"$f":"IF('6 - Input sheet - Employee data'!JT16=\"No\",-JT55,IF(JT70=\"Yes\",-JT55,IF(JT64=\"Yes\",-JT55,IF('5 - FTE reduction'!JT46=\"FTER\",-JT55,0))))","v":0},{"$f":"IF('6 - Input sheet - Employee data'!JU16=\"No\",-JU55,IF(JU70=\"Yes\",-JU55,IF(JU64=\"Yes\",-JU55,IF('5 - FTE reduction'!JU46=\"FTER\",-JU55,0))))","v":0},{"$f":"IF('6 - Input sheet - Employee data'!JV16=\"No\",-JV55,IF(JV70=\"Yes\",-JV55,IF(JV64=\"Yes\",-JV55,IF('5 - FTE reduction'!JV46=\"FTER\",-JV55,0))))","v":0},{"$f":"IF('6 - Input sheet - Employee data'!JW16=\"No\",-JW55,IF(JW70=\"Yes\",-JW55,IF(JW64=\"Yes\",-JW55,IF('5 - FTE reduction'!JW46=\"FTER\",-JW55,0))))","v":0},{"$f":"IF('6 - Input sheet - Employee data'!JX16=\"No\",-JX55,IF(JX70=\"Yes\",-JX55,IF(JX64=\"Yes\",-JX55,IF('5 - FTE reduction'!JX46=\"FTER\",-JX55,0))))","v":0},{"$f":"IF('6 - Input sheet - Employee data'!JY16=\"No\",-JY55,IF(JY70=\"Yes\",-JY55,IF(JY64=\"Yes\",-JY55,IF('5 - FTE reduction'!JY46=\"FTER\",-JY55,0))))","v":0},{"$f":"IF('6 - Input sheet - Employee data'!JZ16=\"No\",-JZ55,IF(JZ70=\"Yes\",-JZ55,IF(JZ64=\"Yes\",-JZ55,IF('5 - FTE reduction'!JZ46=\"FTER\",-JZ55,0))))","v":0},{"$f":"IF('6 - Input sheet - Employee data'!KA16=\"No\",-KA55,IF(KA70=\"Yes\",-KA55,IF(KA64=\"Yes\",-KA55,IF('5 - FTE reduction'!KA46=\"FTER\",-KA55,0))))","v":0},{"$f":"IF('6 - Input sheet - Employee data'!KB16=\"No\",-KB55,IF(KB70=\"Yes\",-KB55,IF(KB64=\"Yes\",-KB55,IF('5 - FTE reduction'!KB46=\"FTER\",-KB55,0))))","v":0},{"$f":"IF('6 - Input sheet - Employee data'!KC16=\"No\",-KC55,IF(KC70=\"Yes\",-KC55,IF(KC64=\"Yes\",-KC55,IF('5 - FTE reduction'!KC46=\"FTER\",-KC55,0))))","v":0},{"$f":"IF('6 - Input sheet - Employee data'!KD16=\"No\",-KD55,IF(KD70=\"Yes\",-KD55,IF(KD64=\"Yes\",-KD55,IF('5 - FTE reduction'!KD46=\"FTER\",-KD55,0))))","v":0},{"$f":"IF('6 - Input sheet - Employee data'!KE16=\"No\",-KE55,IF(KE70=\"Yes\",-KE55,IF(KE64=\"Yes\",-KE55,IF('5 - FTE reduction'!KE46=\"FTER\",-KE55,0))))","v":0},{"$f":"IF('6 - Input sheet - Employee data'!KF16=\"No\",-KF55,IF(KF70=\"Yes\",-KF55,IF(KF64=\"Yes\",-KF55,IF('5 - FTE reduction'!KF46=\"FTER\",-KF55,0))))","v":0},{"$f":"IF('6 - Input sheet - Employee data'!KG16=\"No\",-KG55,IF(KG70=\"Yes\",-KG55,IF(KG64=\"Yes\",-KG55,IF('5 - FTE reduction'!KG46=\"FTER\",-KG55,0))))","v":0},{"$f":"IF('6 - Input sheet - Employee data'!KH16=\"No\",-KH55,IF(KH70=\"Yes\",-KH55,IF(KH64=\"Yes\",-KH55,IF('5 - FTE reduction'!KH46=\"FTER\",-KH55,0))))","v":0},{"$f":"IF('6 - Input sheet - Employee data'!KI16=\"No\",-KI55,IF(KI70=\"Yes\",-KI55,IF(KI64=\"Yes\",-KI55,IF('5 - FTE reduction'!KI46=\"FTER\",-KI55,0))))","v":0},{"$f":"IF('6 - Input sheet - Employee data'!KJ16=\"No\",-KJ55,IF(KJ70=\"Yes\",-KJ55,IF(KJ64=\"Yes\",-KJ55,IF('5 - FTE reduction'!KJ46=\"FTER\",-KJ55,0))))","v":0},{"$f":"IF('6 - Input sheet - Employee data'!KK16=\"No\",-KK55,IF(KK70=\"Yes\",-KK55,IF(KK64=\"Yes\",-KK55,IF('5 - FTE reduction'!KK46=\"FTER\",-KK55,0))))","v":0},{"$f":"IF('6 - Input sheet - Employee data'!KL16=\"No\",-KL55,IF(KL70=\"Yes\",-KL55,IF(KL64=\"Yes\",-KL55,IF('5 - FTE reduction'!KL46=\"FTER\",-KL55,0))))","v":0},{"$f":"IF('6 - Input sheet - Employee data'!KM16=\"No\",-KM55,IF(KM70=\"Yes\",-KM55,IF(KM64=\"Yes\",-KM55,IF('5 - FTE reduction'!KM46=\"FTER\",-KM55,0))))","v":0},{"$f":"IF('6 - Input sheet - Employee data'!KN16=\"No\",-KN55,IF(KN70=\"Yes\",-KN55,IF(KN64=\"Yes\",-KN55,IF('5 - FTE reduction'!KN46=\"FTER\",-KN55,0))))","v":0},{"$f":"IF('6 - Input sheet - Employee data'!KO16=\"No\",-KO55,IF(KO70=\"Yes\",-KO55,IF(KO64=\"Yes\",-KO55,IF('5 - FTE reduction'!KO46=\"FTER\",-KO55,0))))","v":0},{"$f":"IF('6 - Input sheet - Employee data'!KP16=\"No\",-KP55,IF(KP70=\"Yes\",-KP55,IF(KP64=\"Yes\",-KP55,IF('5 - FTE reduction'!KP46=\"FTER\",-KP55,0))))","v":0},{"$f":"IF('6 - Input sheet - Employee data'!KQ16=\"No\",-KQ55,IF(KQ70=\"Yes\",-KQ55,IF(KQ64=\"Yes\",-KQ55,IF('5 - FTE reduction'!KQ46=\"FTER\",-KQ55,0))))","v":0},{"$f":"IF('6 - Input sheet - Employee data'!KR16=\"No\",-KR55,IF(KR70=\"Yes\",-KR55,IF(KR64=\"Yes\",-KR55,IF('5 - FTE reduction'!KR46=\"FTER\",-KR55,0))))","v":0},{"$f":"IF('6 - Input sheet - Employee data'!KS16=\"No\",-KS55,IF(KS70=\"Yes\",-KS55,IF(KS64=\"Yes\",-KS55,IF('5 - FTE reduction'!KS46=\"FTER\",-KS55,0))))","v":0},{"$f":"IF('6 - Input sheet - Employee data'!KT16=\"No\",-KT55,IF(KT70=\"Yes\",-KT55,IF(KT64=\"Yes\",-KT55,IF('5 - FTE reduction'!KT46=\"FTER\",-KT55,0))))","v":0},{"$f":"IF('6 - Input sheet - Employee data'!KU16=\"No\",-KU55,IF(KU70=\"Yes\",-KU55,IF(KU64=\"Yes\",-KU55,IF('5 - FTE reduction'!KU46=\"FTER\",-KU55,0))))","v":0},{"$f":"IF('6 - Input sheet - Employee data'!KV16=\"No\",-KV55,IF(KV70=\"Yes\",-KV55,IF(KV64=\"Yes\",-KV55,IF('5 - FTE reduction'!KV46=\"FTER\",-KV55,0))))","v":0},{"$f":"IF('6 - Input sheet - Employee data'!KW16=\"No\",-KW55,IF(KW70=\"Yes\",-KW55,IF(KW64=\"Yes\",-KW55,IF('5 - FTE reduction'!KW46=\"FTER\",-KW55,0))))","v":0},{"$f":"IF('6 - Input sheet - Employee data'!KX16=\"No\",-KX55,IF(KX70=\"Yes\",-KX55,IF(KX64=\"Yes\",-KX55,IF('5 - FTE reduction'!KX46=\"FTER\",-KX55,0))))","v":0},{"$f":"IF('6 - Input sheet - Employee data'!KY16=\"No\",-KY55,IF(KY70=\"Yes\",-KY55,IF(KY64=\"Yes\",-KY55,IF('5 - FTE reduction'!KY46=\"FTER\",-KY55,0))))","v":0},{"$f":"IF('6 - Input sheet - Employee data'!KZ16=\"No\",-KZ55,IF(KZ70=\"Yes\",-KZ55,IF(KZ64=\"Yes\",-KZ55,IF('5 - FTE reduction'!KZ46=\"FTER\",-KZ55,0))))","v":0},{"$f":"IF('6 - Input sheet - Employee data'!LA16=\"No\",-LA55,IF(LA70=\"Yes\",-LA55,IF(LA64=\"Yes\",-LA55,IF('5 - FTE reduction'!LA46=\"FTER\",-LA55,0))))","v":0},{"$f":"IF('6 - Input sheet - Employee data'!LB16=\"No\",-LB55,IF(LB70=\"Yes\",-LB55,IF(LB64=\"Yes\",-LB55,IF('5 - FTE reduction'!LB46=\"FTER\",-LB55,0))))","v":0},{"$f":"IF('6 - Input sheet - Employee data'!LC16=\"No\",-LC55,IF(LC70=\"Yes\",-LC55,IF(LC64=\"Yes\",-LC55,IF('5 - FTE reduction'!LC46=\"FTER\",-LC55,0))))","v":0},{"$f":"IF('6 - Input sheet - Employee data'!LD16=\"No\",-LD55,IF(LD70=\"Yes\",-LD55,IF(LD64=\"Yes\",-LD55,IF('5 - FTE reduction'!LD46=\"FTER\",-LD55,0))))","v":0},{"$f":"IF('6 - Input sheet - Employee data'!LE16=\"No\",-LE55,IF(LE70=\"Yes\",-LE55,IF(LE64=\"Yes\",-LE55,IF('5 - FTE reduction'!LE46=\"FTER\",-LE55,0))))","v":0},{"$f":"IF('6 - Input sheet - Employee data'!LF16=\"No\",-LF55,IF(LF70=\"Yes\",-LF55,IF(LF64=\"Yes\",-LF55,IF('5 - FTE reduction'!LF46=\"FTER\",-LF55,0))))","v":0},{"$f":"IF('6 - Input sheet - Employee data'!LG16=\"No\",-LG55,IF(LG70=\"Yes\",-LG55,IF(LG64=\"Yes\",-LG55,IF('5 - FTE reduction'!LG46=\"FTER\",-LG55,0))))","v":0},{"$f":"IF('6 - Input sheet - Employee data'!LH16=\"No\",-LH55,IF(LH70=\"Yes\",-LH55,IF(LH64=\"Yes\",-LH55,IF('5 - FTE reduction'!LH46=\"FTER\",-LH55,0))))","v":0},{"$f":"IF('6 - Input sheet - Employee data'!LI16=\"No\",-LI55,IF(LI70=\"Yes\",-LI55,IF(LI64=\"Yes\",-LI55,IF('5 - FTE reduction'!LI46=\"FTER\",-LI55,0))))","v":0},{"$f":"IF('6 - Input sheet - Employee data'!LJ16=\"No\",-LJ55,IF(LJ70=\"Yes\",-LJ55,IF(LJ64=\"Yes\",-LJ55,IF('5 - FTE reduction'!LJ46=\"FTER\",-LJ55,0))))","v":0},{"$f":"IF('6 - Input sheet - Employee data'!LK16=\"No\",-LK55,IF(LK70=\"Yes\",-LK55,IF(LK64=\"Yes\",-LK55,IF('5 - FTE reduction'!LK46=\"FTER\",-LK55,0))))","v":0},{"$f":"IF('6 - Input sheet - Employee data'!LL16=\"No\",-LL55,IF(LL70=\"Yes\",-LL55,IF(LL64=\"Yes\",-LL55,IF('5 - FTE reduction'!LL46=\"FTER\",-LL55,0))))","v":0},{"$f":"IF('6 - Input sheet - Employee data'!LM16=\"No\",-LM55,IF(LM70=\"Yes\",-LM55,IF(LM64=\"Yes\",-LM55,IF('5 - FTE reduction'!LM46=\"FTER\",-LM55,0))))","v":0},{"$f":"IF('6 - Input sheet - Employee data'!LN16=\"No\",-LN55,IF(LN70=\"Yes\",-LN55,IF(LN64=\"Yes\",-LN55,IF('5 - FTE reduction'!LN46=\"FTER\",-LN55,0))))","v":0},{"$f":"IF('6 - Input sheet - Employee data'!LO16=\"No\",-LO55,IF(LO70=\"Yes\",-LO55,IF(LO64=\"Yes\",-LO55,IF('5 - FTE reduction'!LO46=\"FTER\",-LO55,0))))","v":0},{"$f":"IF('6 - Input sheet - Employee data'!LP16=\"No\",-LP55,IF(LP70=\"Yes\",-LP55,IF(LP64=\"Yes\",-LP55,IF('5 - FTE reduction'!LP46=\"FTER\",-LP55,0))))","v":0},{"$f":"IF('6 - Input sheet - Employee data'!LQ16=\"No\",-LQ55,IF(LQ70=\"Yes\",-LQ55,IF(LQ64=\"Yes\",-LQ55,IF('5 - FTE reduction'!LQ46=\"FTER\",-LQ55,0))))","v":0},{"$f":"IF('6 - Input sheet - Employee data'!LR16=\"No\",-LR55,IF(LR70=\"Yes\",-LR55,IF(LR64=\"Yes\",-LR55,IF('5 - FTE reduction'!LR46=\"FTER\",-LR55,0))))","v":0},{"$f":"IF('6 - Input sheet - Employee data'!LS16=\"No\",-LS55,IF(LS70=\"Yes\",-LS55,IF(LS64=\"Yes\",-LS55,IF('5 - FTE reduction'!LS46=\"FTER\",-LS55,0))))","v":0},{"$f":"IF('6 - Input sheet - Employee data'!LT16=\"No\",-LT55,IF(LT70=\"Yes\",-LT55,IF(LT64=\"Yes\",-LT55,IF('5 - FTE reduction'!LT46=\"FTER\",-LT55,0))))","v":0},{"$f":"IF('6 - Input sheet - Employee data'!LU16=\"No\",-LU55,IF(LU70=\"Yes\",-LU55,IF(LU64=\"Yes\",-LU55,IF('5 - FTE reduction'!LU46=\"FTER\",-LU55,0))))","v":0},{"$f":"IF('6 - Input sheet - Employee data'!LV16=\"No\",-LV55,IF(LV70=\"Yes\",-LV55,IF(LV64=\"Yes\",-LV55,IF('5 - FTE reduction'!LV46=\"FTER\",-LV55,0))))","v":0},{"$f":"IF('6 - Input sheet - Employee data'!LW16=\"No\",-LW55,IF(LW70=\"Yes\",-LW55,IF(LW64=\"Yes\",-LW55,IF('5 - FTE reduction'!LW46=\"FTER\",-LW55,0))))","v":0},{"$f":"IF('6 - Input sheet - Employee data'!LX16=\"No\",-LX55,IF(LX70=\"Yes\",-LX55,IF(LX64=\"Yes\",-LX55,IF('5 - FTE reduction'!LX46=\"FTER\",-LX55,0))))","v":0},{"$f":"IF('6 - Input sheet - Employee data'!LY16=\"No\",-LY55,IF(LY70=\"Yes\",-LY55,IF(LY64=\"Yes\",-LY55,IF('5 - FTE reduction'!LY46=\"FTER\",-LY55,0))))","v":0},{"$f":"IF('6 - Input sheet - Employee data'!LZ16=\"No\",-LZ55,IF(LZ70=\"Yes\",-LZ55,IF(LZ64=\"Yes\",-LZ55,IF('5 - FTE reduction'!LZ46=\"FTER\",-LZ55,0))))","v":0},{"$f":"IF('6 - Input sheet - Employee data'!MA16=\"No\",-MA55,IF(MA70=\"Yes\",-MA55,IF(MA64=\"Yes\",-MA55,IF('5 - FTE reduction'!MA46=\"FTER\",-MA55,0))))","v":0},{"$f":"IF('6 - Input sheet - Employee data'!MB16=\"No\",-MB55,IF(MB70=\"Yes\",-MB55,IF(MB64=\"Yes\",-MB55,IF('5 - FTE reduction'!MB46=\"FTER\",-MB55,0))))","v":0},{"$f":"IF('6 - Input sheet - Employee data'!MC16=\"No\",-MC55,IF(MC70=\"Yes\",-MC55,IF(MC64=\"Yes\",-MC55,IF('5 - FTE reduction'!MC46=\"FTER\",-MC55,0))))","v":0},{"$f":"IF('6 - Input sheet - Employee data'!MD16=\"No\",-MD55,IF(MD70=\"Yes\",-MD55,IF(MD64=\"Yes\",-MD55,IF('5 - FTE reduction'!MD46=\"FTER\",-MD55,0))))","v":0},{"$f":"IF('6 - Input sheet - Employee data'!ME16=\"No\",-ME55,IF(ME70=\"Yes\",-ME55,IF(ME64=\"Yes\",-ME55,IF('5 - FTE reduction'!ME46=\"FTER\",-ME55,0))))","v":0},{"$f":"IF('6 - Input sheet - Employee data'!MF16=\"No\",-MF55,IF(MF70=\"Yes\",-MF55,IF(MF64=\"Yes\",-MF55,IF('5 - FTE reduction'!MF46=\"FTER\",-MF55,0))))","v":0},{"$f":"IF('6 - Input sheet - Employee data'!MG16=\"No\",-MG55,IF(MG70=\"Yes\",-MG55,IF(MG64=\"Yes\",-MG55,IF('5 - FTE reduction'!MG46=\"FTER\",-MG55,0))))","v":0},{"$f":"IF('6 - Input sheet - Employee data'!MH16=\"No\",-MH55,IF(MH70=\"Yes\",-MH55,IF(MH64=\"Yes\",-MH55,IF('5 - FTE reduction'!MH46=\"FTER\",-MH55,0))))","v":0},{"$f":"IF('6 - Input sheet - Employee data'!MI16=\"No\",-MI55,IF(MI70=\"Yes\",-MI55,IF(MI64=\"Yes\",-MI55,IF('5 - FTE reduction'!MI46=\"FTER\",-MI55,0))))","v":0},{"$f":"IF('6 - Input sheet - Employee data'!MJ16=\"No\",-MJ55,IF(MJ70=\"Yes\",-MJ55,IF(MJ64=\"Yes\",-MJ55,IF('5 - FTE reduction'!MJ46=\"FTER\",-MJ55,0))))","v":0},{"$f":"IF('6 - Input sheet - Employee data'!MK16=\"No\",-MK55,IF(MK70=\"Yes\",-MK55,IF(MK64=\"Yes\",-MK55,IF('5 - FTE reduction'!MK46=\"FTER\",-MK55,0))))","v":0},{"$f":"IF('6 - Input sheet - Employee data'!ML16=\"No\",-ML55,IF(ML70=\"Yes\",-ML55,IF(ML64=\"Yes\",-ML55,IF('5 - FTE reduction'!ML46=\"FTER\",-ML55,0))))","v":0},{"$f":"IF('6 - Input sheet - Employee data'!MM16=\"No\",-MM55,IF(MM70=\"Yes\",-MM55,IF(MM64=\"Yes\",-MM55,IF('5 - FTE reduction'!MM46=\"FTER\",-MM55,0))))","v":0},{"$f":"IF('6 - Input sheet - Employee data'!MN16=\"No\",-MN55,IF(MN70=\"Yes\",-MN55,IF(MN64=\"Yes\",-MN55,IF('5 - FTE reduction'!MN46=\"FTER\",-MN55,0))))","v":0},{"$f":"IF('6 - Input sheet - Employee data'!MO16=\"No\",-MO55,IF(MO70=\"Yes\",-MO55,IF(MO64=\"Yes\",-MO55,IF('5 - FTE reduction'!MO46=\"FTER\",-MO55,0))))","v":0},{"$f":"IF('6 - Input sheet - Employee data'!MP16=\"No\",-MP55,IF(MP70=\"Yes\",-MP55,IF(MP64=\"Yes\",-MP55,IF('5 - FTE reduction'!MP46=\"FTER\",-MP55,0))))","v":0},{"$f":"IF('6 - Input sheet - Employee data'!MQ16=\"No\",-MQ55,IF(MQ70=\"Yes\",-MQ55,IF(MQ64=\"Yes\",-MQ55,IF('5 - FTE reduction'!MQ46=\"FTER\",-MQ55,0))))","v":0},{"$f":"IF('6 - Input sheet - Employee data'!MR16=\"No\",-MR55,IF(MR70=\"Yes\",-MR55,IF(MR64=\"Yes\",-MR55,IF('5 - FTE reduction'!MR46=\"FTER\",-MR55,0))))","v":0},{"$f":"IF('6 - Input sheet - Employee data'!MS16=\"No\",-MS55,IF(MS70=\"Yes\",-MS55,IF(MS64=\"Yes\",-MS55,IF('5 - FTE reduction'!MS46=\"FTER\",-MS55,0))))","v":0},{"$f":"IF('6 - Input sheet - Employee data'!MT16=\"No\",-MT55,IF(MT70=\"Yes\",-MT55,IF(MT64=\"Yes\",-MT55,IF('5 - FTE reduction'!MT46=\"FTER\",-MT55,0))))","v":0},{"$f":"IF('6 - Input sheet - Employee data'!MU16=\"No\",-MU55,IF(MU70=\"Yes\",-MU55,IF(MU64=\"Yes\",-MU55,IF('5 - FTE reduction'!MU46=\"FTER\",-MU55,0))))","v":0},{"$f":"IF('6 - Input sheet - Employee data'!MV16=\"No\",-MV55,IF(MV70=\"Yes\",-MV55,IF(MV64=\"Yes\",-MV55,IF('5 - FTE reduction'!MV46=\"FTER\",-MV55,0))))","v":0},{"$f":"IF('6 - Input sheet - Employee data'!MW16=\"No\",-MW55,IF(MW70=\"Yes\",-MW55,IF(MW64=\"Yes\",-MW55,IF('5 - FTE reduction'!MW46=\"FTER\",-MW55,0))))","v":0},{"$f":"IF('6 - Input sheet - Employee data'!MX16=\"No\",-MX55,IF(MX70=\"Yes\",-MX55,IF(MX64=\"Yes\",-MX55,IF('5 - FTE reduction'!MX46=\"FTER\",-MX55,0))))","v":0},{"$f":"IF('6 - Input sheet - Employee data'!MY16=\"No\",-MY55,IF(MY70=\"Yes\",-MY55,IF(MY64=\"Yes\",-MY55,IF('5 - FTE reduction'!MY46=\"FTER\",-MY55,0))))","v":0},{"$f":"IF('6 - Input sheet - Employee data'!MZ16=\"No\",-MZ55,IF(MZ70=\"Yes\",-MZ55,IF(MZ64=\"Yes\",-MZ55,IF('5 - FTE reduction'!MZ46=\"FTER\",-MZ55,0))))","v":0},{"$f":"IF('6 - Input sheet - Employee data'!NA16=\"No\",-NA55,IF(NA70=\"Yes\",-NA55,IF(NA64=\"Yes\",-NA55,IF('5 - FTE reduction'!NA46=\"FTER\",-NA55,0))))","v":0},{"$f":"IF('6 - Input sheet - Employee data'!NB16=\"No\",-NB55,IF(NB70=\"Yes\",-NB55,IF(NB64=\"Yes\",-NB55,IF('5 - FTE reduction'!NB46=\"FTER\",-NB55,0))))","v":0},{"$f":"IF('6 - Input sheet - Employee data'!NC16=\"No\",-NC55,IF(NC70=\"Yes\",-NC55,IF(NC64=\"Yes\",-NC55,IF('5 - FTE reduction'!NC46=\"FTER\",-NC55,0))))","v":0},{"$f":"IF('6 - Input sheet - Employee data'!ND16=\"No\",-ND55,IF(ND70=\"Yes\",-ND55,IF(ND64=\"Yes\",-ND55,IF('5 - FTE reduction'!ND46=\"FTER\",-ND55,0))))","v":0},{"$f":"IF('6 - Input sheet - Employee data'!NE16=\"No\",-NE55,IF(NE70=\"Yes\",-NE55,IF(NE64=\"Yes\",-NE55,IF('5 - FTE reduction'!NE46=\"FTER\",-NE55,0))))","v":0},{"$f":"IF('6 - Input sheet - Employee data'!NF16=\"No\",-NF55,IF(NF70=\"Yes\",-NF55,IF(NF64=\"Yes\",-NF55,IF('5 - FTE reduction'!NF46=\"FTER\",-NF55,0))))","v":0},{"$f":"IF('6 - Input sheet - Employee data'!NG16=\"No\",-NG55,IF(NG70=\"Yes\",-NG55,IF(NG64=\"Yes\",-NG55,IF('5 - FTE reduction'!NG46=\"FTER\",-NG55,0))))","v":0},{"$f":"IF('6 - Input sheet - Employee data'!NH16=\"No\",-NH55,IF(NH70=\"Yes\",-NH55,IF(NH64=\"Yes\",-NH55,IF('5 - FTE reduction'!NH46=\"FTER\",-NH55,0))))","v":0},{"$f":"IF('6 - Input sheet - Employee data'!NI16=\"No\",-NI55,IF(NI70=\"Yes\",-NI55,IF(NI64=\"Yes\",-NI55,IF('5 - FTE reduction'!NI46=\"FTER\",-NI55,0))))","v":0},{"$f":"IF('6 - Input sheet - Employee data'!NJ16=\"No\",-NJ55,IF(NJ70=\"Yes\",-NJ55,IF(NJ64=\"Yes\",-NJ55,IF('5 - FTE reduction'!NJ46=\"FTER\",-NJ55,0))))","v":0},{"$f":"IF('6 - Input sheet - Employee data'!NK16=\"No\",-NK55,IF(NK70=\"Yes\",-NK55,IF(NK64=\"Yes\",-NK55,IF('5 - FTE reduction'!NK46=\"FTER\",-NK55,0))))","v":0},{"$f":"IF('6 - Input sheet - Employee data'!NL16=\"No\",-NL55,IF(NL70=\"Yes\",-NL55,IF(NL64=\"Yes\",-NL55,IF('5 - FTE reduction'!NL46=\"FTER\",-NL55,0))))","v":0},{"$f":"IF('6 - Input sheet - Employee data'!NM16=\"No\",-NM55,IF(NM70=\"Yes\",-NM55,IF(NM64=\"Yes\",-NM55,IF('5 - FTE reduction'!NM46=\"FTER\",-NM55,0))))","v":0},{"$f":"IF('6 - Input sheet - Employee data'!NN16=\"No\",-NN55,IF(NN70=\"Yes\",-NN55,IF(NN64=\"Yes\",-NN55,IF('5 - FTE reduction'!NN46=\"FTER\",-NN55,0))))","v":0},{"$f":"IF('6 - Input sheet - Employee data'!NO16=\"No\",-NO55,IF(NO70=\"Yes\",-NO55,IF(NO64=\"Yes\",-NO55,IF('5 - FTE reduction'!NO46=\"FTER\",-NO55,0))))","v":0},{"$f":"IF('6 - Input sheet - Employee data'!NP16=\"No\",-NP55,IF(NP70=\"Yes\",-NP55,IF(NP64=\"Yes\",-NP55,IF('5 - FTE reduction'!NP46=\"FTER\",-NP55,0))))","v":0},{"$f":"IF('6 - Input sheet - Employee data'!NQ16=\"No\",-NQ55,IF(NQ70=\"Yes\",-NQ55,IF(NQ64=\"Yes\",-NQ55,IF('5 - FTE reduction'!NQ46=\"FTER\",-NQ55,0))))","v":0},{"$f":"IF('6 - Input sheet - Employee data'!NR16=\"No\",-NR55,IF(NR70=\"Yes\",-NR55,IF(NR64=\"Yes\",-NR55,IF('5 - FTE reduction'!NR46=\"FTER\",-NR55,0))))","v":0},{"$f":"IF('6 - Input sheet - Employee data'!NS16=\"No\",-NS55,IF(NS70=\"Yes\",-NS55,IF(NS64=\"Yes\",-NS55,IF('5 - FTE reduction'!NS46=\"FTER\",-NS55,0))))","v":0},{"$f":"IF('6 - Input sheet - Employee data'!NT16=\"No\",-NT55,IF(NT70=\"Yes\",-NT55,IF(NT64=\"Yes\",-NT55,IF('5 - FTE reduction'!NT46=\"FTER\",-NT55,0))))","v":0},{"$f":"IF('6 - Input sheet - Employee data'!NU16=\"No\",-NU55,IF(NU70=\"Yes\",-NU55,IF(NU64=\"Yes\",-NU55,IF('5 - FTE reduction'!NU46=\"FTER\",-NU55,0))))","v":0},{"$f":"IF('6 - Input sheet - Employee data'!NV16=\"No\",-NV55,IF(NV70=\"Yes\",-NV55,IF(NV64=\"Yes\",-NV55,IF('5 - FTE reduction'!NV46=\"FTER\",-NV55,0))))","v":0},{"$f":"IF('6 - Input sheet - Employee data'!NW16=\"No\",-NW55,IF(NW70=\"Yes\",-NW55,IF(NW64=\"Yes\",-NW55,IF('5 - FTE reduction'!NW46=\"FTER\",-NW55,0))))","v":0},{"$f":"IF('6 - Input sheet - Employee data'!NX16=\"No\",-NX55,IF(NX70=\"Yes\",-NX55,IF(NX64=\"Yes\",-NX55,IF('5 - FTE reduction'!NX46=\"FTER\",-NX55,0))))","v":0},{"$f":"IF('6 - Input sheet - Employee data'!NY16=\"No\",-NY55,IF(NY70=\"Yes\",-NY55,IF(NY64=\"Yes\",-NY55,IF('5 - FTE reduction'!NY46=\"FTER\",-NY55,0))))","v":0},{"$f":"IF('6 - Input sheet - Employee data'!NZ16=\"No\",-NZ55,IF(NZ70=\"Yes\",-NZ55,IF(NZ64=\"Yes\",-NZ55,IF('5 - FTE reduction'!NZ46=\"FTER\",-NZ55,0))))","v":0},{"$f":"IF('6 - Input sheet - Employee data'!OA16=\"No\",-OA55,IF(OA70=\"Yes\",-OA55,IF(OA64=\"Yes\",-OA55,IF('5 - FTE reduction'!OA46=\"FTER\",-OA55,0))))","v":0},{"$f":"IF('6 - Input sheet - Employee data'!OB16=\"No\",-OB55,IF(OB70=\"Yes\",-OB55,IF(OB64=\"Yes\",-OB55,IF('5 - FTE reduction'!OB46=\"FTER\",-OB55,0))))","v":0},{"$f":"IF('6 - Input sheet - Employee data'!OC16=\"No\",-OC55,IF(OC70=\"Yes\",-OC55,IF(OC64=\"Yes\",-OC55,IF('5 - FTE reduction'!OC46=\"FTER\",-OC55,0))))","v":0},{"$f":"IF('6 - Input sheet - Employee data'!OD16=\"No\",-OD55,IF(OD70=\"Yes\",-OD55,IF(OD64=\"Yes\",-OD55,IF('5 - FTE reduction'!OD46=\"FTER\",-OD55,0))))","v":0},{"$f":"IF('6 - Input sheet - Employee data'!OE16=\"No\",-OE55,IF(OE70=\"Yes\",-OE55,IF(OE64=\"Yes\",-OE55,IF('5 - FTE reduction'!OE46=\"FTER\",-OE55,0))))","v":0},{"$f":"IF('6 - Input sheet - Employee data'!OF16=\"No\",-OF55,IF(OF70=\"Yes\",-OF55,IF(OF64=\"Yes\",-OF55,IF('5 - FTE reduction'!OF46=\"FTER\",-OF55,0))))","v":0},{"$f":"IF('6 - Input sheet - Employee data'!OG16=\"No\",-OG55,IF(OG70=\"Yes\",-OG55,IF(OG64=\"Yes\",-OG55,IF('5 - FTE reduction'!OG46=\"FTER\",-OG55,0))))","v":0},{"$f":"IF('6 - Input sheet - Employee data'!OH16=\"No\",-OH55,IF(OH70=\"Yes\",-OH55,IF(OH64=\"Yes\",-OH55,IF('5 - FTE reduction'!OH46=\"FTER\",-OH55,0))))","v":0},{"$f":"IF('6 - Input sheet - Employee data'!OI16=\"No\",-OI55,IF(OI70=\"Yes\",-OI55,IF(OI64=\"Yes\",-OI55,IF('5 - FTE reduction'!OI46=\"FTER\",-OI55,0))))","v":0},{"$f":"IF('6 - Input sheet - Employee data'!OJ16=\"No\",-OJ55,IF(OJ70=\"Yes\",-OJ55,IF(OJ64=\"Yes\",-OJ55,IF('5 - FTE reduction'!OJ46=\"FTER\",-OJ55,0))))","v":0},{"$f":"IF('6 - Input sheet - Employee data'!OK16=\"No\",-OK55,IF(OK70=\"Yes\",-OK55,IF(OK64=\"Yes\",-OK55,IF('5 - FTE reduction'!OK46=\"FTER\",-OK55,0))))","v":0},{"$f":"IF('6 - Input sheet - Employee data'!OL16=\"No\",-OL55,IF(OL70=\"Yes\",-OL55,IF(OL64=\"Yes\",-OL55,IF('5 - FTE reduction'!OL46=\"FTER\",-OL55,0))))","v":0},{"$f":"IF('6 - Input sheet - Employee data'!OM16=\"No\",-OM55,IF(OM70=\"Yes\",-OM55,IF(OM64=\"Yes\",-OM55,IF('5 - FTE reduction'!OM46=\"FTER\",-OM55,0))))","v":0},{"$f":"IF('6 - Input sheet - Employee data'!ON16=\"No\",-ON55,IF(ON70=\"Yes\",-ON55,IF(ON64=\"Yes\",-ON55,IF('5 - FTE reduction'!ON46=\"FTER\",-ON55,0))))","v":0},{"$f":"IF('6 - Input sheet - Employee data'!OO16=\"No\",-OO55,IF(OO70=\"Yes\",-OO55,IF(OO64=\"Yes\",-OO55,IF('5 - FTE reduction'!OO46=\"FTER\",-OO55,0))))","v":0},{"$f":"IF('6 - Input sheet - Employee data'!OP16=\"No\",-OP55,IF(OP70=\"Yes\",-OP55,IF(OP64=\"Yes\",-OP55,IF('5 - FTE reduction'!OP46=\"FTER\",-OP55,0))))","v":0},{"$f":"IF('6 - Input sheet - Employee data'!OQ16=\"No\",-OQ55,IF(OQ70=\"Yes\",-OQ55,IF(OQ64=\"Yes\",-OQ55,IF('5 - FTE reduction'!OQ46=\"FTER\",-OQ55,0))))","v":0},{"$f":"IF('6 - Input sheet - Employee data'!OR16=\"No\",-OR55,IF(OR70=\"Yes\",-OR55,IF(OR64=\"Yes\",-OR55,IF('5 - FTE reduction'!OR46=\"FTER\",-OR55,0))))","v":0},{"$f":"IF('6 - Input sheet - Employee data'!OS16=\"No\",-OS55,IF(OS70=\"Yes\",-OS55,IF(OS64=\"Yes\",-OS55,IF('5 - FTE reduction'!OS46=\"FTER\",-OS55,0))))","v":0},{"$f":"IF('6 - Input sheet - Employee data'!OT16=\"No\",-OT55,IF(OT70=\"Yes\",-OT55,IF(OT64=\"Yes\",-OT55,IF('5 - FTE reduction'!OT46=\"FTER\",-OT55,0))))","v":0},{"$f":"IF('6 - Input sheet - Employee data'!OU16=\"No\",-OU55,IF(OU70=\"Yes\",-OU55,IF(OU64=\"Yes\",-OU55,IF('5 - FTE reduction'!OU46=\"FTER\",-OU55,0))))","v":0},{"$f":"IF('6 - Input sheet - Employee data'!OV16=\"No\",-OV55,IF(OV70=\"Yes\",-OV55,IF(OV64=\"Yes\",-OV55,IF('5 - FTE reduction'!OV46=\"FTER\",-OV55,0))))","v":0},{"$f":"IF('6 - Input sheet - Employee data'!OW16=\"No\",-OW55,IF(OW70=\"Yes\",-OW55,IF(OW64=\"Yes\",-OW55,IF('5 - FTE reduction'!OW46=\"FTER\",-OW55,0))))","v":0},{"$f":"IF('6 - Input sheet - Employee data'!OX16=\"No\",-OX55,IF(OX70=\"Yes\",-OX55,IF(OX64=\"Yes\",-OX55,IF('5 - FTE reduction'!OX46=\"FTER\",-OX55,0))))","v":0},{"$f":"IF('6 - Input sheet - Employee data'!OY16=\"No\",-OY55,IF(OY70=\"Yes\",-OY55,IF(OY64=\"Yes\",-OY55,IF('5 - FTE reduction'!OY46=\"FTER\",-OY55,0))))","v":0},{"$f":"IF('6 - Input sheet - Employee data'!OZ16=\"No\",-OZ55,IF(OZ70=\"Yes\",-OZ55,IF(OZ64=\"Yes\",-OZ55,IF('5 - FTE reduction'!OZ46=\"FTER\",-OZ55,0))))","v":0},{"$f":"IF('6 - Input sheet - Employee data'!PA16=\"No\",-PA55,IF(PA70=\"Yes\",-PA55,IF(PA64=\"Yes\",-PA55,IF('5 - FTE reduction'!PA46=\"FTER\",-PA55,0))))","v":0},{"$f":"IF('6 - Input sheet - Employee data'!PB16=\"No\",-PB55,IF(PB70=\"Yes\",-PB55,IF(PB64=\"Yes\",-PB55,IF('5 - FTE reduction'!PB46=\"FTER\",-PB55,0))))","v":0},{"$f":"IF('6 - Input sheet - Employee data'!PC16=\"No\",-PC55,IF(PC70=\"Yes\",-PC55,IF(PC64=\"Yes\",-PC55,IF('5 - FTE reduction'!PC46=\"FTER\",-PC55,0))))","v":0},{"$f":"IF('6 - Input sheet - Employee data'!PD16=\"No\",-PD55,IF(PD70=\"Yes\",-PD55,IF(PD64=\"Yes\",-PD55,IF('5 - FTE reduction'!PD46=\"FTER\",-PD55,0))))","v":0},{"$f":"IF('6 - Input sheet - Employee data'!PE16=\"No\",-PE55,IF(PE70=\"Yes\",-PE55,IF(PE64=\"Yes\",-PE55,IF('5 - FTE reduction'!PE46=\"FTER\",-PE55,0))))","v":0},{"$f":"IF('6 - Input sheet - Employee data'!PF16=\"No\",-PF55,IF(PF70=\"Yes\",-PF55,IF(PF64=\"Yes\",-PF55,IF('5 - FTE reduction'!PF46=\"FTER\",-PF55,0))))","v":0},{"$f":"IF('6 - Input sheet - Employee data'!PG16=\"No\",-PG55,IF(PG70=\"Yes\",-PG55,IF(PG64=\"Yes\",-PG55,IF('5 - FTE reduction'!PG46=\"FTER\",-PG55,0))))","v":0},{"$f":"IF('6 - Input sheet - Employee data'!PH16=\"No\",-PH55,IF(PH70=\"Yes\",-PH55,IF(PH64=\"Yes\",-PH55,IF('5 - FTE reduction'!PH46=\"FTER\",-PH55,0))))","v":0},{"$f":"IF('6 - Input sheet - Employee data'!PI16=\"No\",-PI55,IF(PI70=\"Yes\",-PI55,IF(PI64=\"Yes\",-PI55,IF('5 - FTE reduction'!PI46=\"FTER\",-PI55,0))))","v":0},{"$f":"IF('6 - Input sheet - Employee data'!PJ16=\"No\",-PJ55,IF(PJ70=\"Yes\",-PJ55,IF(PJ64=\"Yes\",-PJ55,IF('5 - FTE reduction'!PJ46=\"FTER\",-PJ55,0))))","v":0},{"$f":"IF('6 - Input sheet - Employee data'!PK16=\"No\",-PK55,IF(PK70=\"Yes\",-PK55,IF(PK64=\"Yes\",-PK55,IF('5 - FTE reduction'!PK46=\"FTER\",-PK55,0))))","v":0},{"$f":"IF('6 - Input sheet - Employee data'!PL16=\"No\",-PL55,IF(PL70=\"Yes\",-PL55,IF(PL64=\"Yes\",-PL55,IF('5 - FTE reduction'!PL46=\"FTER\",-PL55,0))))","v":0},{"$f":"IF('6 - Input sheet - Employee data'!PM16=\"No\",-PM55,IF(PM70=\"Yes\",-PM55,IF(PM64=\"Yes\",-PM55,IF('5 - FTE reduction'!PM46=\"FTER\",-PM55,0))))","v":0},{"$f":"IF('6 - Input sheet - Employee data'!PN16=\"No\",-PN55,IF(PN70=\"Yes\",-PN55,IF(PN64=\"Yes\",-PN55,IF('5 - FTE reduction'!PN46=\"FTER\",-PN55,0))))","v":0},{"$f":"IF('6 - Input sheet - Employee data'!PO16=\"No\",-PO55,IF(PO70=\"Yes\",-PO55,IF(PO64=\"Yes\",-PO55,IF('5 - FTE reduction'!PO46=\"FTER\",-PO55,0))))","v":0},{"$f":"IF('6 - Input sheet - Employee data'!PP16=\"No\",-PP55,IF(PP70=\"Yes\",-PP55,IF(PP64=\"Yes\",-PP55,IF('5 - FTE reduction'!PP46=\"FTER\",-PP55,0))))","v":0},{"$f":"IF('6 - Input sheet - Employee data'!PQ16=\"No\",-PQ55,IF(PQ70=\"Yes\",-PQ55,IF(PQ64=\"Yes\",-PQ55,IF('5 - FTE reduction'!PQ46=\"FTER\",-PQ55,0))))","v":0},{"$f":"IF('6 - Input sheet - Employee data'!PR16=\"No\",-PR55,IF(PR70=\"Yes\",-PR55,IF(PR64=\"Yes\",-PR55,IF('5 - FTE reduction'!PR46=\"FTER\",-PR55,0))))","v":0},{"$f":"IF('6 - Input sheet - Employee data'!PS16=\"No\",-PS55,IF(PS70=\"Yes\",-PS55,IF(PS64=\"Yes\",-PS55,IF('5 - FTE reduction'!PS46=\"FTER\",-PS55,0))))","v":0},{"$f":"IF('6 - Input sheet - Employee data'!PT16=\"No\",-PT55,IF(PT70=\"Yes\",-PT55,IF(PT64=\"Yes\",-PT55,IF('5 - FTE reduction'!PT46=\"FTER\",-PT55,0))))","v":0},{"$f":"IF('6 - Input sheet - Employee data'!PU16=\"No\",-PU55,IF(PU70=\"Yes\",-PU55,IF(PU64=\"Yes\",-PU55,IF('5 - FTE reduction'!PU46=\"FTER\",-PU55,0))))","v":0},{"$f":"IF('6 - Input sheet - Employee data'!PV16=\"No\",-PV55,IF(PV70=\"Yes\",-PV55,IF(PV64=\"Yes\",-PV55,IF('5 - FTE reduction'!PV46=\"FTER\",-PV55,0))))","v":0},{"$f":"IF('6 - Input sheet - Employee data'!PW16=\"No\",-PW55,IF(PW70=\"Yes\",-PW55,IF(PW64=\"Yes\",-PW55,IF('5 - FTE reduction'!PW46=\"FTER\",-PW55,0))))","v":0},{"$f":"IF('6 - Input sheet - Employee data'!PX16=\"No\",-PX55,IF(PX70=\"Yes\",-PX55,IF(PX64=\"Yes\",-PX55,IF('5 - FTE reduction'!PX46=\"FTER\",-PX55,0))))","v":0},{"$f":"IF('6 - Input sheet - Employee data'!PY16=\"No\",-PY55,IF(PY70=\"Yes\",-PY55,IF(PY64=\"Yes\",-PY55,IF('5 - FTE reduction'!PY46=\"FTER\",-PY55,0))))","v":0},{"$f":"IF('6 - Input sheet - Employee data'!PZ16=\"No\",-PZ55,IF(PZ70=\"Yes\",-PZ55,IF(PZ64=\"Yes\",-PZ55,IF('5 - FTE reduction'!PZ46=\"FTER\",-PZ55,0))))","v":0},{"$f":"IF('6 - Input sheet - Employee data'!QA16=\"No\",-QA55,IF(QA70=\"Yes\",-QA55,IF(QA64=\"Yes\",-QA55,IF('5 - FTE reduction'!QA46=\"FTER\",-QA55,0))))","v":0},{"$f":"IF('6 - Input sheet - Employee data'!QB16=\"No\",-QB55,IF(QB70=\"Yes\",-QB55,IF(QB64=\"Yes\",-QB55,IF('5 - FTE reduction'!QB46=\"FTER\",-QB55,0))))","v":0},{"$f":"IF('6 - Input sheet - Employee data'!QC16=\"No\",-QC55,IF(QC70=\"Yes\",-QC55,IF(QC64=\"Yes\",-QC55,IF('5 - FTE reduction'!QC46=\"FTER\",-QC55,0))))","v":0},{"$f":"IF('6 - Input sheet - Employee data'!QD16=\"No\",-QD55,IF(QD70=\"Yes\",-QD55,IF(QD64=\"Yes\",-QD55,IF('5 - FTE reduction'!QD46=\"FTER\",-QD55,0))))","v":0},{"$f":"IF('6 - Input sheet - Employee data'!QE16=\"No\",-QE55,IF(QE70=\"Yes\",-QE55,IF(QE64=\"Yes\",-QE55,IF('5 - FTE reduction'!QE46=\"FTER\",-QE55,0))))","v":0},{"$f":"IF('6 - Input sheet - Employee data'!QF16=\"No\",-QF55,IF(QF70=\"Yes\",-QF55,IF(QF64=\"Yes\",-QF55,IF('5 - FTE reduction'!QF46=\"FTER\",-QF55,0))))","v":0},{"$f":"IF('6 - Input sheet - Employee data'!QG16=\"No\",-QG55,IF(QG70=\"Yes\",-QG55,IF(QG64=\"Yes\",-QG55,IF('5 - FTE reduction'!QG46=\"FTER\",-QG55,0))))","v":0},{"$f":"IF('6 - Input sheet - Employee data'!QH16=\"No\",-QH55,IF(QH70=\"Yes\",-QH55,IF(QH64=\"Yes\",-QH55,IF('5 - FTE reduction'!QH46=\"FTER\",-QH55,0))))","v":0},{"$f":"IF('6 - Input sheet - Employee data'!QI16=\"No\",-QI55,IF(QI70=\"Yes\",-QI55,IF(QI64=\"Yes\",-QI55,IF('5 - FTE reduction'!QI46=\"FTER\",-QI55,0))))","v":0},{"$f":"IF('6 - Input sheet - Employee data'!QJ16=\"No\",-QJ55,IF(QJ70=\"Yes\",-QJ55,IF(QJ64=\"Yes\",-QJ55,IF('5 - FTE reduction'!QJ46=\"FTER\",-QJ55,0))))","v":0},{"$f":"IF('6 - Input sheet - Employee data'!QK16=\"No\",-QK55,IF(QK70=\"Yes\",-QK55,IF(QK64=\"Yes\",-QK55,IF('5 - FTE reduction'!QK46=\"FTER\",-QK55,0))))","v":0},{"$f":"IF('6 - Input sheet - Employee data'!QL16=\"No\",-QL55,IF(QL70=\"Yes\",-QL55,IF(QL64=\"Yes\",-QL55,IF('5 - FTE reduction'!QL46=\"FTER\",-QL55,0))))","v":0},{"$f":"IF('6 - Input sheet - Employee data'!QM16=\"No\",-QM55,IF(QM70=\"Yes\",-QM55,IF(QM64=\"Yes\",-QM55,IF('5 - FTE reduction'!QM46=\"FTER\",-QM55,0))))","v":0},{"$f":"IF('6 - Input sheet - Employee data'!QN16=\"No\",-QN55,IF(QN70=\"Yes\",-QN55,IF(QN64=\"Yes\",-QN55,IF('5 - FTE reduction'!QN46=\"FTER\",-QN55,0))))","v":0},{"$f":"IF('6 - Input sheet - Employee data'!QO16=\"No\",-QO55,IF(QO70=\"Yes\",-QO55,IF(QO64=\"Yes\",-QO55,IF('5 - FTE reduction'!QO46=\"FTER\",-QO55,0))))","v":0},{"$f":"IF('6 - Input sheet - Employee data'!QP16=\"No\",-QP55,IF(QP70=\"Yes\",-QP55,IF(QP64=\"Yes\",-QP55,IF('5 - FTE reduction'!QP46=\"FTER\",-QP55,0))))","v":0},{"$f":"IF('6 - Input sheet - Employee data'!QQ16=\"No\",-QQ55,IF(QQ70=\"Yes\",-QQ55,IF(QQ64=\"Yes\",-QQ55,IF('5 - FTE reduction'!QQ46=\"FTER\",-QQ55,0))))","v":0},{"$f":"IF('6 - Input sheet - Employee data'!QR16=\"No\",-QR55,IF(QR70=\"Yes\",-QR55,IF(QR64=\"Yes\",-QR55,IF('5 - FTE reduction'!QR46=\"FTER\",-QR55,0))))","v":0},{"$f":"IF('6 - Input sheet - Employee data'!QS16=\"No\",-QS55,IF(QS70=\"Yes\",-QS55,IF(QS64=\"Yes\",-QS55,IF('5 - FTE reduction'!QS46=\"FTER\",-QS55,0))))","v":0},{"$f":"IF('6 - Input sheet - Employee data'!QT16=\"No\",-QT55,IF(QT70=\"Yes\",-QT55,IF(QT64=\"Yes\",-QT55,IF('5 - FTE reduction'!QT46=\"FTER\",-QT55,0))))","v":0},{"$f":"IF('6 - Input sheet - Employee data'!QU16=\"No\",-QU55,IF(QU70=\"Yes\",-QU55,IF(QU64=\"Yes\",-QU55,IF('5 - FTE reduction'!QU46=\"FTER\",-QU55,0))))","v":0},{"$f":"IF('6 - Input sheet - Employee data'!QV16=\"No\",-QV55,IF(QV70=\"Yes\",-QV55,IF(QV64=\"Yes\",-QV55,IF('5 - FTE reduction'!QV46=\"FTER\",-QV55,0))))","v":0},{"$f":"IF('6 - Input sheet - Employee data'!QW16=\"No\",-QW55,IF(QW70=\"Yes\",-QW55,IF(QW64=\"Yes\",-QW55,IF('5 - FTE reduction'!QW46=\"FTER\",-QW55,0))))","v":0},{"$f":"IF('6 - Input sheet - Employee data'!QX16=\"No\",-QX55,IF(QX70=\"Yes\",-QX55,IF(QX64=\"Yes\",-QX55,IF('5 - FTE reduction'!QX46=\"FTER\",-QX55,0))))","v":0},{"$f":"IF('6 - Input sheet - Employee data'!QY16=\"No\",-QY55,IF(QY70=\"Yes\",-QY55,IF(QY64=\"Yes\",-QY55,IF('5 - FTE reduction'!QY46=\"FTER\",-QY55,0))))","v":0},{"$f":"IF('6 - Input sheet - Employee data'!QZ16=\"No\",-QZ55,IF(QZ70=\"Yes\",-QZ55,IF(QZ64=\"Yes\",-QZ55,IF('5 - FTE reduction'!QZ46=\"FTER\",-QZ55,0))))","v":0},{"$f":"IF('6 - Input sheet - Employee data'!RA16=\"No\",-RA55,IF(RA70=\"Yes\",-RA55,IF(RA64=\"Yes\",-RA55,IF('5 - FTE reduction'!RA46=\"FTER\",-RA55,0))))","v":0},{"$f":"IF('6 - Input sheet - Employee data'!RB16=\"No\",-RB55,IF(RB70=\"Yes\",-RB55,IF(RB64=\"Yes\",-RB55,IF('5 - FTE reduction'!RB46=\"FTER\",-RB55,0))))","v":0},{"$f":"IF('6 - Input sheet - Employee data'!RC16=\"No\",-RC55,IF(RC70=\"Yes\",-RC55,IF(RC64=\"Yes\",-RC55,IF('5 - FTE reduction'!RC46=\"FTER\",-RC55,0))))","v":0},{"$f":"IF('6 - Input sheet - Employee data'!RD16=\"No\",-RD55,IF(RD70=\"Yes\",-RD55,IF(RD64=\"Yes\",-RD55,IF('5 - FTE reduction'!RD46=\"FTER\",-RD55,0))))","v":0},{"$f":"IF('6 - Input sheet - Employee data'!RE16=\"No\",-RE55,IF(RE70=\"Yes\",-RE55,IF(RE64=\"Yes\",-RE55,IF('5 - FTE reduction'!RE46=\"FTER\",-RE55,0))))","v":0},{"$f":"IF('6 - Input sheet - Employee data'!RF16=\"No\",-RF55,IF(RF70=\"Yes\",-RF55,IF(RF64=\"Yes\",-RF55,IF('5 - FTE reduction'!RF46=\"FTER\",-RF55,0))))","v":0},{"$f":"IF('6 - Input sheet - Employee data'!RG16=\"No\",-RG55,IF(RG70=\"Yes\",-RG55,IF(RG64=\"Yes\",-RG55,IF('5 - FTE reduction'!RG46=\"FTER\",-RG55,0))))","v":0},{"$f":"IF('6 - Input sheet - Employee data'!RH16=\"No\",-RH55,IF(RH70=\"Yes\",-RH55,IF(RH64=\"Yes\",-RH55,IF('5 - FTE reduction'!RH46=\"FTER\",-RH55,0))))","v":0},{"$f":"IF('6 - Input sheet - Employee data'!RI16=\"No\",-RI55,IF(RI70=\"Yes\",-RI55,IF(RI64=\"Yes\",-RI55,IF('5 - FTE reduction'!RI46=\"FTER\",-RI55,0))))","v":0},{"$f":"IF('6 - Input sheet - Employee data'!RJ16=\"No\",-RJ55,IF(RJ70=\"Yes\",-RJ55,IF(RJ64=\"Yes\",-RJ55,IF('5 - FTE reduction'!RJ46=\"FTER\",-RJ55,0))))","v":0},{"$f":"IF('6 - Input sheet - Employee data'!RK16=\"No\",-RK55,IF(RK70=\"Yes\",-RK55,IF(RK64=\"Yes\",-RK55,IF('5 - FTE reduction'!RK46=\"FTER\",-RK55,0))))","v":0},{"$f":"IF('6 - Input sheet - Employee data'!RL16=\"No\",-RL55,IF(RL70=\"Yes\",-RL55,IF(RL64=\"Yes\",-RL55,IF('5 - FTE reduction'!RL46=\"FTER\",-RL55,0))))","v":0},{"$f":"IF('6 - Input sheet - Employee data'!RM16=\"No\",-RM55,IF(RM70=\"Yes\",-RM55,IF(RM64=\"Yes\",-RM55,IF('5 - FTE reduction'!RM46=\"FTER\",-RM55,0))))","v":0},{"$f":"IF('6 - Input sheet - Employee data'!RN16=\"No\",-RN55,IF(RN70=\"Yes\",-RN55,IF(RN64=\"Yes\",-RN55,IF('5 - FTE reduction'!RN46=\"FTER\",-RN55,0))))","v":0},{"$f":"IF('6 - Input sheet - Employee data'!RO16=\"No\",-RO55,IF(RO70=\"Yes\",-RO55,IF(RO64=\"Yes\",-RO55,IF('5 - FTE reduction'!RO46=\"FTER\",-RO55,0))))","v":0},{"$f":"IF('6 - Input sheet - Employee data'!RP16=\"No\",-RP55,IF(RP70=\"Yes\",-RP55,IF(RP64=\"Yes\",-RP55,IF('5 - FTE reduction'!RP46=\"FTER\",-RP55,0))))","v":0},{"$f":"IF('6 - Input sheet - Employee data'!RQ16=\"No\",-RQ55,IF(RQ70=\"Yes\",-RQ55,IF(RQ64=\"Yes\",-RQ55,IF('5 - FTE reduction'!RQ46=\"FTER\",-RQ55,0))))","v":0},{"$f":"IF('6 - Input sheet - Employee data'!RR16=\"No\",-RR55,IF(RR70=\"Yes\",-RR55,IF(RR64=\"Yes\",-RR55,IF('5 - FTE reduction'!RR46=\"FTER\",-RR55,0))))","v":0},{"$f":"IF('6 - Input sheet - Employee data'!RS16=\"No\",-RS55,IF(RS70=\"Yes\",-RS55,IF(RS64=\"Yes\",-RS55,IF('5 - FTE reduction'!RS46=\"FTER\",-RS55,0))))","v":0},{"$f":"IF('6 - Input sheet - Employee data'!RT16=\"No\",-RT55,IF(RT70=\"Yes\",-RT55,IF(RT64=\"Yes\",-RT55,IF('5 - FTE reduction'!RT46=\"FTER\",-RT55,0))))","v":0},{"$f":"IF('6 - Input sheet - Employee data'!RU16=\"No\",-RU55,IF(RU70=\"Yes\",-RU55,IF(RU64=\"Yes\",-RU55,IF('5 - FTE reduction'!RU46=\"FTER\",-RU55,0))))","v":0},{"$f":"IF('6 - Input sheet - Employee data'!RV16=\"No\",-RV55,IF(RV70=\"Yes\",-RV55,IF(RV64=\"Yes\",-RV55,IF('5 - FTE reduction'!RV46=\"FTER\",-RV55,0))))","v":0},{"$f":"IF('6 - Input sheet - Employee data'!RW16=\"No\",-RW55,IF(RW70=\"Yes\",-RW55,IF(RW64=\"Yes\",-RW55,IF('5 - FTE reduction'!RW46=\"FTER\",-RW55,0))))","v":0},{"$f":"IF('6 - Input sheet - Employee data'!RX16=\"No\",-RX55,IF(RX70=\"Yes\",-RX55,IF(RX64=\"Yes\",-RX55,IF('5 - FTE reduction'!RX46=\"FTER\",-RX55,0))))","v":0},{"$f":"IF('6 - Input sheet - Employee data'!RY16=\"No\",-RY55,IF(RY70=\"Yes\",-RY55,IF(RY64=\"Yes\",-RY55,IF('5 - FTE reduction'!RY46=\"FTER\",-RY55,0))))","v":0},{"$f":"IF('6 - Input sheet - Employee data'!RZ16=\"No\",-RZ55,IF(RZ70=\"Yes\",-RZ55,IF(RZ64=\"Yes\",-RZ55,IF('5 - FTE reduction'!RZ46=\"FTER\",-RZ55,0))))","v":0},{"$f":"IF('6 - Input sheet - Employee data'!SA16=\"No\",-SA55,IF(SA70=\"Yes\",-SA55,IF(SA64=\"Yes\",-SA55,IF('5 - FTE reduction'!SA46=\"FTER\",-SA55,0))))","v":0},{"$f":"IF('6 - Input sheet - Employee data'!SB16=\"No\",-SB55,IF(SB70=\"Yes\",-SB55,IF(SB64=\"Yes\",-SB55,IF('5 - FTE reduction'!SB46=\"FTER\",-SB55,0))))","v":0},{"$f":"IF('6 - Input sheet - Employee data'!SC16=\"No\",-SC55,IF(SC70=\"Yes\",-SC55,IF(SC64=\"Yes\",-SC55,IF('5 - FTE reduction'!SC46=\"FTER\",-SC55,0))))","v":0},{"$f":"IF('6 - Input sheet - Employee data'!SD16=\"No\",-SD55,IF(SD70=\"Yes\",-SD55,IF(SD64=\"Yes\",-SD55,IF('5 - FTE reduction'!SD46=\"FTER\",-SD55,0))))","v":0},{"$f":"IF('6 - Input sheet - Employee data'!SE16=\"No\",-SE55,IF(SE70=\"Yes\",-SE55,IF(SE64=\"Yes\",-SE55,IF('5 - FTE reduction'!SE46=\"FTER\",-SE55,0))))","v":0},{"$f":"IF('6 - Input sheet - Employee data'!SF16=\"No\",-SF55,IF(SF70=\"Yes\",-SF55,IF(SF64=\"Yes\",-SF55,IF('5 - FTE reduction'!SF46=\"FTER\",-SF55,0))))","v":0},{"$f":"IF('6 - Input sheet - Employee data'!SG16=\"No\",-SG55,IF(SG70=\"Yes\",-SG55,IF(SG64=\"Yes\",-SG55,IF('5 - FTE reduction'!SG46=\"FTER\",-SG55,0))))","v":0},{"$f":"IF('6 - Input sheet - Employee data'!SH16=\"No\",-SH55,IF(SH70=\"Yes\",-SH55,IF(SH64=\"Yes\",-SH55,IF('5 - FTE reduction'!SH46=\"FTER\",-SH55,0))))","v":0}]
[null,null,1,2,3,4,5,6,7,8,9,10,11,12,13,14,15,16,17,18,19,20,21,22,23,24,25,26,27,28,29,30,31,32,33,34,35,36,37,38,39,40,41,42,43,44,45,46,47,48,49,50,51,52,53,54,55,56,57,58,59,60,61,62,63,64,65,66,67,68,69,70,71,72,73,74,75,76,77,78,79,80,81,82,83,84,85,86,87,88,89,90,91,92,93,94,95,96,97,98,99,100,101,102,103,104,105,106,107,108,109,110,111,112,113,114,115,116,117,118,119,120,121,122,123,124,125,126,127,128,129,130,131,132,133,134,135,136,137,138,139,140,141,142,143,144,145,146,147,148,149,150,151,152,153,154,155,156,157,158,159,160,161,162,163,164,165,166,167,168,169,170,171,172,173,174,175,176,177,178,179,180,181,182,183,184,185,186,187,188,189,190,191,192,193,194,195,196,197,198,199,200,201,202,203,204,205,206,207,208,209,210,211,212,213,214,215,216,217,218,219,220,221,222,223,224,225,226,227,228,229,230,231,232,233,234,235,236,237,238,239,240,241,242,243,244,245,246,247,248,249,250,251,252,253,254,255,256,257,258,259,260,261,262,263,264,265,266,267,268,269,270,271,272,273,274,275,276,277,278,279,280,281,282,283,284,285,286,287,288,289,290,291,292,293,294,295,296,297,298,299,300,301,302,303,304,305,306,307,308,309,310,311,312,313,314,315,316,317,318,319,320,321,322,323,324,325,326,327,328,329,330,331,332,333,334,335,336,337,338,339,340,341,342,343,344,345,346,347,348,349,350,351,352,353,354,355,356,357,358,359,360,361,362,363,364,365,366,367,368,369,370,371,372,373,374,375,376,377,378,379,380,381,382,383,384,385,386,387,388,389,390,391,392,393,394,395,396,397,398,399,400,401,402,403,404,405,406,407,408,409,410,411,412,413,414,415,416,417,418,419,420,421,422,423,424,425,426,427,428,429,430,431,432,433,434,435,436,437,438,439,440,441,442,443,444,445,446,447,448,449,450,451,452,453,454,455,456,457,458,459,460,461,462,463,464,465,466,467,468,469,470,471,472,473,474,475,476,477,478,479,480,481,482,483,484,485,486,487,488,489,490,491,492,493,494,495,496,497,498,499,500]
["ADJUSTMENT TO FORGIVENESS BASE",{"$f":"SUM(B55:B76)","v":0},{"$f":"SUM(C73:C76)","v":0},{"$f":"SUM(D73:D76)","v":0},{"$f":"SUM(E73:E76)","v":0},0,0,0,0,0,0,0,0,0,0,0,0,0,0,0,0,0,0,0,0,0,0,0,0,0,0,0,0,0,0,0,0,0,0,0,0,0,0,0,0,0,0,0,0,0,0,0,0,0,0,0,0,0,0,0,0,0,0,0,0,0,0,0,{"$f":"SUM(BQ73:BQ76)","v":0},0,0,0,0,0,0,0,0,0,0,0,0,0,0,0,0,0,0,0,0,0,0,0,0,0,0,0,0,0,0,0,0,0,0,0,0,0,0,0,0,0,0,0,0,0,0,0,0,0,0,0,0,0,0,0,0,0,0,0,0,0,0,0,{"$f":"SUM(EC73:EC76)","v":0},0,0,0,0,0,0,0,0,0,0,0,0,0,0,0,0,0,0,0,0,0,0,0,0,0,0,0,0,0,0,0,0,0,0,0,0,0,0,0,0,0,0,0,0,0,0,0,0,0,0,0,0,0,0,0,0,0,0,0,0,0,0,0,{"$f":"SUM(GO73:GO76)","v":0},0,0,0,0,0,0,0,0,0,0,0,0,0,0,0,0,0,0,0,0,0,0,0,0,0,0,0,0,0,0,0,0,0,0,0,0,0,0,0,0,0,0,0,0,0,0,0,0,0,0,0,0,0,0,0,0,0,0,0,0,0,0,0,{"$f":"SUM(JA73:JA76)","v":0},0,0,0,0,0,0,0,0,0,0,0,0,0,0,0,0,0,0,0,0,0,0,0,0,0,0,0,0,0,0,0,0,0,0,0,0,0,0,0,0,0,0,0,0,0,0,0,0,0,0,0,0,0,0,0,0,0,0,0,0,0,0,0,{"$f":"SUM(LM73:LM76)","v":0},0,0,0,0,0,0,0,0,0,0,0,0,0,0,0,0,0,0,0,0,0,0,0,0,0,0,0,0,0,0,0,0,0,0,0,0,0,0,0,0,0,0,0,0,0,0,0,0,0,0,0,0,0,0,0,0,0,0,0,0,0,0,0,{"$f":"SUM(NY73:NY76)","v":0},0,0,0,0,0,0,0,0,0,0,0,0,0,0,0,0,0,0,0,0,0,0,0,0,0,0,0,0,0,0,0,0,0,0,0,0,0,0,0,0,0,0,0,0,0,0,0,0,0,0,0,0,0,0,0,0,0,0,0,0,0,0,0,{"$f":"SUM(QK73:QK76)","v":0},0,0,0,0,0,0,0,0,0,0,0,0,0,0,0,0,0,0,0,0,0,0,0,0,0,0,0,0,0,0,0,0,0,0,0,0,0,0,0,0,0,0,0,0,0,0,0,0,0]
[null,null,null,{"$f":"IF(D35>25000,\"Over $100K Equiv\",IF(D24>D31,\"Over $100K Equiv\",\"\"))","v":""},"","","","","","","","","","","","","","","","","","","","","","","","","","","","","","","","","","","","","","","","","","","","","","","","","","","","","","","","","","","","","","","",{"$f":"IF(BP35>25000,\"Over $100K Equiv\",IF(BP24>BP31,\"Over $100K Equiv\",\"\"))","v":""},"","","","","","","","","","","","","","","","","","","","","","","","","","","","","","","","","","","","","","","","","","","","","","","","","","","","","","","","","","","","","","","",{"$f":"IF(EB35>25000,\"Over $100K Equiv\",IF(EB24>EB31,\"Over $100K Equiv\",\"\"))","v":""},"","","","","","","","","","","","","","","","","","","","","","","","","","","","","","","","","","","","","","","","","","","","","","","","","","","","","","","","","","","","","","","",{"$f":"IF(GN35>25000,\"Over $100K Equiv\",IF(GN24>GN31,\"Over $100K Equiv\",\"\"))","v":""},"","","","","","","","","","","","","","","","","","","","","","","","","","","","","","","","","","","","","","","","","","","","","","","","","","","","","","","","","","","","","","","",{"$f":"IF(IZ35>25000,\"Over $100K Equiv\",IF(IZ24>IZ31,\"Over $100K Equiv\",\"\"))","v":""},"","","","","","","","","","","","","","","","","","","","","","","","","","","","","","","","","","","","","","","","","","","","","","","","","","","","","","","","","","","","","","","",{"$f":"IF(LL35>25000,\"Over $100K Equiv\",IF(LL24>LL31,\"Over $100K Equiv\",\"\"))","v":""},"","","","","","","","","","","","","","","","","","","","","","","","","","","","","","","","","","","","","","","","","","","","","","","","","","","","","","","","","","","","","","","",{"$f":"IF(NX35>25000,\"Over $100K Equiv\",IF(NX24>NX31,\"Over $100K Equiv\",\"\"))","v":""},"","","","","","","","","","","","","","","","","","","","","","","","","","","","","","","","","","","","","","","","","","","","","","","","","","","","","","","","","","","","","","","",{"$f":"IF(QJ35>25000,\"Over $100K Equiv\",IF(QJ24>QJ31,\"Over $100K Equiv\",\"\"))","v":""},"","","","","","","","","","","","","","","","","","","","","","","","","","","","","","","","","","","","","","","","","","","","","","","","","",""]
[null,null,{"$f":"IF(C8=\"Yes\",\"Table 2\",\"\")","v":""},"","","","","","","","","","","","","","","","","","","","","","","","","","","","","","","","","","","","","","","","","","","","","","","","","","","","","","","","","","","","","","","",{"$f":"IF(BO8=\"Yes\",\"Table 2\",\"\")","v":""},"","","","","","","","","","","","","","","","","","","","","","","","","","","","","","","","","","","","","","","","","","","","","","","","","","","","","","","","","","","","","","","",{"$f":"IF(EA8=\"Yes\",\"Table 2\",\"\")","v":""},"","","","","","","","","","","","","","","","","","","","","","","","","","","","","","","","","","","","","","","","","","","","","","","","","","","","","","","","","","","","","","","",{"$f":"IF(GM8=\"Yes\",\"Table 2\",\"\")","v":""},"","","","","","","","","","","","","","","","","","","","","","","","","","","","","","","","","","","","","","","","","","","","","","","","","","","","","","","","","","","","","","","",{"$f":"IF(IY8=\"Yes\",\"Table 2\",\"\")","v":""},"","","","","","","","","","","","","","","","","","","","","","","","","","","","","","","","","","","","","","","","","","","","","","","","","","","","","","","","","","","","","","","",{"$f":"IF(LK8=\"Yes\",\"Table 2\",\"\")","v":""},"","","","","","","","","","","","","","","","","","","","","","","","","","","","","","","","","","","","","","","","","","","","","","","","","","","","","","","","","","","","","","","",{"$f":"IF(NW8=\"Yes\",\"Table 2\",\"\")","v":""},"","","","","","","","","","","","","","","","","","","","","","","","","","","","","","","","","","","","","","","","","","","","","","","","","","","","","","","","","","","","","","","",{"$f":"IF(QI8=\"Yes\",\"Table 2\",\"\")","v":""},"","","","","","","","","","","","","","","","","","","","","","","","","","","","","","","","","","","","","","","","","","","","","","","","","","",""]
[]
["ASSUMPTIONS"]
["1) Employee can be excluded from this schedule if an employee received during any pay period in 2019, an annualized payroll or wage of more than $100,000."]
[]
[]
[]
["This workbook is provided by Sasserath & Zoraian, LLP and is intended solely for general informational and educational purposes. It is not intended in any way as financial, securities, insurance, tax or legal advice or services, or as a solicitation for any financial, securities, insurance, tax or legal product or service. Please consult with your financial, securities, insurance, tax and/or legal advisors for advice regarding your specific circumstances. The calculations herein are estimates based on our interpretation of the bill signed into law on March 27, 2020 under the CARES Act."]
[]
[]
[null,"Employee #","Name","Identifier","Compensation","Payroll Reduction","Average FTE","Table"]
[null,1,{"$f":"HLOOKUP(B91,$C$5:$SH$7,2,FALSE)","v":"Name"},{"$f":"HLOOKUP(B91,$C$5:$SH$7,3,FALSE)","v":"Identifier"},{"$f":"HLOOKUP(B91,$C$11:$SH$33,23,FALSE)","v":0},{"$f":"HLOOKUP(B91,$C$77:$SH$78,2,FALSE)","v":0},{"$f":"HLOOKUP(B91,'5 - FTE reduction'!$C$35:$SH$42,8)","v":0},{"$f":"HLOOKUP(B91,$C$77:$SH$80,4,FALSE)","v":""}]
[null,2,{"$f":"HLOOKUP(B92,$C$5:$SH$7,2,FALSE)","v":"Name"},{"$f":"HLOOKUP(B92,$C$5:$SH$7,3,FALSE)","v":"Identifier"},{"$f":"HLOOKUP(B92,$C$11:$SH$33,23,FALSE)","v":0},{"$f":"HLOOKUP(B92,$C$77:$SH$78,2,FALSE)","v":0},{"$f":"HLOOKUP(B92,'5 - FTE reduction'!$C$35:$SH$42,8)","v":0},{"$f":"HLOOKUP(B92,$C$77:$SH$80,4,FALSE)","v":""}]
[null,3,"Name","Identifier",0,{"$f":"HLOOKUP(B93,$C$77:$SH$78,2,FALSE)","v":0},{"$f":"HLOOKUP(B93,'5 - FTE reduction'!$C$35:$SH$42,8)","v":0},""]
[null,4,"Name","Identifier",0,0,{"$f":"HLOOKUP(B94,'5 - FTE reduction'!$C$35:$SH$42,8)","v":0},""]
[null,5,"Name","Identifier",0,0,{"$f":"HLOOKUP(B95,'5 - FTE reduction'!$C$35:$SH$42,8)","v":0},""]
[null,6,"Name","Identifier",0,0,{"$f":"HLOOKUP(B96,'5 - FTE reduction'!$C$35:$SH$42,8)","v":0},""]
[null,7,"Name","Identifier",0,0,{"$f":"HLOOKUP(B97,'5 - FTE reduction'!$C$35:$SH$42,8)","v":0},""]
[null,8,"Name","Identifier",0,0,{"$f":"HLOOKUP(B98,'5 - FTE reduction'!$C$35:$SH$42,8)","v":0},""]
[null,9,"Name","Identifier",0,0,{"$f":"HLOOKUP(B99,'5 - FTE reduction'!$C$35:$SH$42,8)","v":0},""]
[null,10,"Name","Identifier",0,0,{"$f":"HLOOKUP(B100,'5 - FTE reduction'!$C$35:$SH$42,8)","v":0},""]
[null,11,"Name","Identifier",0,0,{"$f":"HLOOKUP(B101,'5 - FTE reduction'!$C$35:$SH$42,8)","v":0},""]
[null,12,"Name","Identifier",0,0,{"$f":"HLOOKUP(B102,'5 - FTE reduction'!$C$35:$SH$42,8)","v":0},""]
[null,13,"Name","Identifier",0,0,{"$f":"HLOOKUP(B103,'5 - FTE reduction'!$C$35:$SH$42,8)","v":0},""]
[null,14,"Name","Identifier",0,0,{"$f":"HLOOKUP(B104,'5 - FTE reduction'!$C$35:$SH$42,8)","v":0},""]
[null,15,"Name","Identifier",0,0,{"$f":"HLOOKUP(B105,'5 - FTE reduction'!$C$35:$SH$42,8)","v":0},""]
[null,16,"Name","Identifier",0,0,{"$f":"HLOOKUP(B106,'5 - FTE reduction'!$C$35:$SH$42,8)","v":0},""]
[null,17,"Name","Identifier",0,0,{"$f":"HLOOKUP(B107,'5 - FTE reduction'!$C$35:$SH$42,8)","v":0},""]
[null,18,"Name","Identifier",0,0,{"$f":"HLOOKUP(B108,'5 - FTE reduction'!$C$35:$SH$42,8)","v":0},""]
[null,19,"Name","Identifier",0,0,{"$f":"HLOOKUP(B109,'5 - FTE reduction'!$C$35:$SH$42,8)","v":0},""]
[null,20,"Name","Identifier",0,0,{"$f":"HLOOKUP(B110,'5 - FTE reduction'!$C$35:$SH$42,8)","v":0},""]
[null,21,"Name","Identifier",0,0,{"$f":"HLOOKUP(B111,'5 - FTE reduction'!$C$35:$SH$42,8)","v":0},""]
[null,22,"Name","Identifier",0,0,{"$f":"HLOOKUP(B112,'5 - FTE reduction'!$C$35:$SH$42,8)","v":0},""]
[null,23,"Name","Identifier",0,0,{"$f":"HLOOKUP(B113,'5 - FTE reduction'!$C$35:$SH$42,8)","v":0},""]
[null,24,"Name","Identifier",0,0,{"$f":"HLOOKUP(B114,'5 - FTE reduction'!$C$35:$SH$42,8)","v":0},""]
[null,25,"Name","Identifier",0,0,{"$f":"HLOOKUP(B115,'5 - FTE reduction'!$C$35:$SH$42,8)","v":0},""]
[null,26,"Name","Identifier",0,0,{"$f":"HLOOKUP(B116,'5 - FTE reduction'!$C$35:$SH$42,8)","v":0},""]
[null,27,"Name","Identifier",0,0,{"$f":"HLOOKUP(B117,'5 - FTE reduction'!$C$35:$SH$42,8)","v":0},""]
[null,28,"Name","Identifier",0,0,{"$f":"HLOOKUP(B118,'5 - FTE reduction'!$C$35:$SH$42,8)","v":0},""]
[null,29,"Name","Identifier",0,0,{"$f":"HLOOKUP(B119,'5 - FTE reduction'!$C$35:$SH$42,8)","v":0},""]
[null,30,"Name","Identifier",0,0,{"$f":"HLOOKUP(B120,'5 - FTE reduction'!$C$35:$SH$42,8)","v":0},""]
[null,31,"Name","Identifier",0,0,{"$f":"HLOOKUP(B121,'5 - FTE reduction'!$C$35:$SH$42,8)","v":0},""]
[null,32,"Name","Identifier",0,0,{"$f":"HLOOKUP(B122,'5 - FTE reduction'!$C$35:$SH$42,8)","v":0},""]
[null,33,"Name","Identifier",0,0,{"$f":"HLOOKUP(B123,'5 - FTE reduction'!$C$35:$SH$42,8)","v":0},""]
[null,34,"Name","Identifier",0,0,{"$f":"HLOOKUP(B124,'5 - FTE reduction'!$C$35:$SH$42,8)","v":0},""]
[null,35,"Name","Identifier",0,0,{"$f":"HLOOKUP(B125,'5 - FTE reduction'!$C$35:$SH$42,8)","v":0},""]
[null,36,"Name","Identifier",0,0,{"$f":"HLOOKUP(B126,'5 - FTE reduction'!$C$35:$SH$42,8)","v":0},""]
[null,37,"Name","Identifier",0,0,{"$f":"HLOOKUP(B127,'5 - FTE reduction'!$C$35:$SH$42,8)","v":0},""]
[null,38,"Name","Identifier",0,0,{"$f":"HLOOKUP(B128,'5 - FTE reduction'!$C$35:$SH$42,8)","v":0},""]
[null,39,"Name","Identifier",0,0,{"$f":"HLOOKUP(B129,'5 - FTE reduction'!$C$35:$SH$42,8)","v":0},""]
[null,40,"Name","Identifier",0,0,{"$f":"HLOOKUP(B130,'5 - FTE reduction'!$C$35:$SH$42,8)","v":0},""]
[null,41,"Name","Identifier",0,0,{"$f":"HLOOKUP(B131,'5 - FTE reduction'!$C$35:$SH$42,8)","v":0},""]
[null,42,"Name","Identifier",0,0,{"$f":"HLOOKUP(B132,'5 - FTE reduction'!$C$35:$SH$42,8)","v":0},""]
[null,43,"Name","Identifier",0,0,{"$f":"HLOOKUP(B133,'5 - FTE reduction'!$C$35:$SH$42,8)","v":0},""]
[null,44,"Name","Identifier",0,0,{"$f":"HLOOKUP(B134,'5 - FTE reduction'!$C$35:$SH$42,8)","v":0},""]
[null,45,"Name","Identifier",0,0,{"$f":"HLOOKUP(B135,'5 - FTE reduction'!$C$35:$SH$42,8)","v":0},""]
[null,46,"Name","Identifier",0,0,{"$f":"HLOOKUP(B136,'5 - FTE reduction'!$C$35:$SH$42,8)","v":0},""]
[null,47,"Name","Identifier",0,0,{"$f":"HLOOKUP(B137,'5 - FTE reduction'!$C$35:$SH$42,8)","v":0},""]
[null,48,"Name","Identifier",0,0,{"$f":"HLOOKUP(B138,'5 - FTE reduction'!$C$35:$SH$42,8)","v":0},""]
[null,49,"Name","Identifier",0,0,{"$f":"HLOOKUP(B139,'5 - FTE reduction'!$C$35:$SH$42,8)","v":0},""]
[null,50,"Name","Identifier",0,0,{"$f":"HLOOKUP(B140,'5 - FTE reduction'!$C$35:$SH$42,8)","v":0},""]
[null,51,"Name","Identifier",0,0,{"$f":"HLOOKUP(B141,'5 - FTE reduction'!$C$35:$SH$42,8)","v":0},""]
[null,52,"Name","Identifier",0,0,{"$f":"HLOOKUP(B142,'5 - FTE reduction'!$C$35:$SH$42,8)","v":0},""]
[null,53,"Name","Identifier",0,0,{"$f":"HLOOKUP(B143,'5 - FTE reduction'!$C$35:$SH$42,8)","v":0},""]
[null,54,"Name","Identifier",0,0,{"$f":"HLOOKUP(B144,'5 - FTE reduction'!$C$35:$SH$42,8)","v":0},""]
[null,55,"Name","Identifier",0,0,{"$f":"HLOOKUP(B145,'5 - FTE reduction'!$C$35:$SH$42,8)","v":0},""]
[null,56,"Name","Identifier",0,0,{"$f":"HLOOKUP(B146,'5 - FTE reduction'!$C$35:$SH$42,8)","v":0},""]
[null,57,"Name","Identifier",0,0,{"$f":"HLOOKUP(B147,'5 - FTE reduction'!$C$35:$SH$42,8)","v":0},""]
[null,58,"Name","Identifier",0,0,{"$f":"HLOOKUP(B148,'5 - FTE reduction'!$C$35:$SH$42,8)","v":0},""]
[null,59,"Name","Identifier",0,0,{"$f":"HLOOKUP(B149,'5 - FTE reduction'!$C$35:$SH$42,8)","v":0},""]
[null,60,"Name","Identifier",0,0,{"$f":"HLOOKUP(B150,'5 - FTE reduction'!$C$35:$SH$42,8)","v":0},""]
[null,61,"Name","Identifier",0,0,{"$f":"HLOOKUP(B151,'5 - FTE reduction'!$C$35:$SH$42,8)","v":0},""]
[null,62,"Name","Identifier",0,0,{"$f":"HLOOKUP(B152,'5 - FTE reduction'!$C$35:$SH$42,8)","v":0},""]
[null,63,"Name","Identifier",0,0,{"$f":"HLOOKUP(B153,'5 - FTE reduction'!$C$35:$SH$42,8)","v":0},""]
[null,64,"Name","Identifier",0,0,{"$f":"HLOOKUP(B154,'5 - FTE reduction'!$C$35:$SH$42,8)","v":0},""]
[null,65,"Name","Identifier",0,0,{"$f":"HLOOKUP(B155,'5 - FTE reduction'!$C$35:$SH$42,8)","v":0},""]
[null,66,{"$f":"HLOOKUP(B156,$C$5:$SH$7,2,FALSE)","v":"Name"},{"$f":"HLOOKUP(B156,$C$5:$SH$7,3,FALSE)","v":"Identifier"},{"$f":"HLOOKUP(B156,$C$11:$SH$33,23,FALSE)","v":0},0,{"$f":"HLOOKUP(B156,'5 - FTE reduction'!$C$35:$SH$42,8)","v":0},{"$f":"HLOOKUP(B156,$C$77:$SH$80,4,FALSE)","v":""}]
[null,67,"Name","Identifier",0,{"$f":"HLOOKUP(B157,$C$77:$SH$78,2,FALSE)","v":0},{"$f":"HLOOKUP(B157,'5 - FTE reduction'!$C$35:$SH$42,8)","v":0},""]
[null,68,"Name","Identifier",0,0,{"$f":"HLOOKUP(B158,'5 - FTE reduction'!$C$35:$SH$42,8)","v":0},""]
[null,69,"Name","Identifier",0,0,{"$f":"HLOOKUP(B159,'5 - FTE reduction'!$C$35:$SH$42,8)","v":0},""]
[null,70,"Name","Identifier",0,0,{"$f":"HLOOKUP(B160,'5 - FTE reduction'!$C$35:$SH$42,8)","v":0},""]
[null,71,"Name","Identifier",0,0,{"$f":"HLOOKUP(B161,'5 - FTE reduction'!$C$35:$SH$42,8)","v":0},""]
[null,72,"Name","Identifier",0,0,{"$f":"HLOOKUP(B162,'5 - FTE reduction'!$C$35:$SH$42,8)","v":0},""]
[null,73,"Name","Identifier",0,0,{"$f":"HLOOKUP(B163,'5 - FTE reduction'!$C$35:$SH$42,8)","v":0},""]
[null,74,"Name","Identifier",0,0,{"$f":"HLOOKUP(B164,'5 - FTE reduction'!$C$35:$SH$42,8)","v":0},""]
[null,75,"Name","Identifier",0,0,{"$f":"HLOOKUP(B165,'5 - FTE reduction'!$C$35:$SH$42,8)","v":0},""]
[null,76,"Name","Identifier",0,0,{"$f":"HLOOKUP(B166,'5 - FTE reduction'!$C$35:$SH$42,8)","v":0},""]
[null,77,"Name","Identifier",0,0,{"$f":"HLOOKUP(B167,'5 - FTE reduction'!$C$35:$SH$42,8)","v":0},""]
[null,78,"Name","Identifier",0,0,{"$f":"HLOOKUP(B168,'5 - FTE reduction'!$C$35:$SH$42,8)","v":0},""]
[null,79,"Name","Identifier",0,0,{"$f":"HLOOKUP(B169,'5 - FTE reduction'!$C$35:$SH$42,8)","v":0},""]
[null,80,"Name","Identifier",0,0,{"$f":"HLOOKUP(B170,'5 - FTE reduction'!$C$35:$SH$42,8)","v":0},""]
[null,81,"Name","Identifier",0,0,{"$f":"HLOOKUP(B171,'5 - FTE reduction'!$C$35:$SH$42,8)","v":0},""]
[null,82,"Name","Identifier",0,0,{"$f":"HLOOKUP(B172,'5 - FTE reduction'!$C$35:$SH$42,8)","v":0},""]
[null,83,"Name","Identifier",0,0,{"$f":"HLOOKUP(B173,'5 - FTE reduction'!$C$35:$SH$42,8)","v":0},""]
[null,84,"Name","Identifier",0,0,{"$f":"HLOOKUP(B174,'5 - FTE reduction'!$C$35:$SH$42,8)","v":0},""]
[null,85,"Name","Identifier",0,0,{"$f":"HLOOKUP(B175,'5 - FTE reduction'!$C$35:$SH$42,8)","v":0},""]
[null,86,"Name","Identifier",0,0,{"$f":"HLOOKUP(B176,'5 - FTE reduction'!$C$35:$SH$42,8)","v":0},""]
[null,87,"Name","Identifier",0,0,{"$f":"HLOOKUP(B177,'5 - FTE reduction'!$C$35:$SH$42,8)","v":0},""]
[null,88,"Name","Identifier",0,0,{"$f":"HLOOKUP(B178,'5 - FTE reduction'!$C$35:$SH$42,8)","v":0},""]
[null,89,"Name","Identifier",0,0,{"$f":"HLOOKUP(B179,'5 - FTE reduction'!$C$35:$SH$42,8)","v":0},""]
[null,90,"Name","Identifier",0,0,{"$f":"HLOOKUP(B180,'5 - FTE reduction'!$C$35:$SH$42,8)","v":0},""]
[null,91,"Name","Identifier",0,0,{"$f":"HLOOKUP(B181,'5 - FTE reduction'!$C$35:$SH$42,8)","v":0},""]
[null,92,"Name","Identifier",0,0,{"$f":"HLOOKUP(B182,'5 - FTE reduction'!$C$35:$SH$42,8)","v":0},""]
[null,93,"Name","Identifier",0,0,{"$f":"HLOOKUP(B183,'5 - FTE reduction'!$C$35:$SH$42,8)","v":0},""]
[null,94,"Name","Identifier",0,0,{"$f":"HLOOKUP(B184,'5 - FTE reduction'!$C$35:$SH$42,8)","v":0},""]
[null,95,"Name","Identifier",0,0,{"$f":"HLOOKUP(B185,'5 - FTE reduction'!$C$35:$SH$42,8)","v":0},""]
[null,96,"Name","Identifier",0,0,{"$f":"HLOOKUP(B186,'5 - FTE reduction'!$C$35:$SH$42,8)","v":0},""]
[null,97,"Name","Identifier",0,0,{"$f":"HLOOKUP(B187,'5 - FTE reduction'!$C$35:$SH$42,8)","v":0},""]
[null,98,"Name","Identifier",0,0,{"$f":"HLOOKUP(B188,'5 - FTE reduction'!$C$35:$SH$42,8)","v":0},""]
[null,99,"Name","Identifier",0,0,{"$f":"HLOOKUP(B189,'5 - FTE reduction'!$C$35:$SH$42,8)","v":0},""]
[null,100,"Name","Identifier",0,0,{"$f":"HLOOKUP(B190,'5 - FTE reduction'!$C$35:$SH$42,8)","v":0},""]
[null,101,"Name","Identifier",0,0,{"$f":"HLOOKUP(B191,'5 - FTE reduction'!$C$35:$SH$42,8)","v":0},""]
[null,102,"Name","Identifier",0,0,{"$f":"HLOOKUP(B192,'5 - FTE reduction'!$C$35:$SH$42,8)","v":0},""]
[null,103,"Name","Identifier",0,0,{"$f":"HLOOKUP(B193,'5 - FTE reduction'!$C$35:$SH$42,8)","v":0},""]
[null,104,"Name","Identifier",0,0,{"$f":"HLOOKUP(B194,'5 - FTE reduction'!$C$35:$SH$42,8)","v":0},""]
[null,105,"Name","Identifier",0,0,{"$f":"HLOOKUP(B195,'5 - FTE reduction'!$C$35:$SH$42,8)","v":0},""]
[null,106,"Name","Identifier",0,0,{"$f":"HLOOKUP(B196,'5 - FTE reduction'!$C$35:$SH$42,8)","v":0},""]
[null,107,"Name","Identifier",0,0,{"$f":"HLOOKUP(B197,'5 - FTE reduction'!$C$35:$SH$42,8)","v":0},""]
[null,108,"Name","Identifier",0,0,{"$f":"HLOOKUP(B198,'5 - FTE reduction'!$C$35:$SH$42,8)","v":0},""]
[null,109,"Name","Identifier",0,0,{"$f":"HLOOKUP(B199,'5 - FTE reduction'!$C$35:$SH$42,8)","v":0},""]
[null,110,"Name","Identifier",0,0,{"$f":"HLOOKUP(B200,'5 - FTE reduction'!$C$35:$SH$42,8)","v":0},""]
[null,111,"Name","Identifier",0,0,{"$f":"HLOOKUP(B201,'5 - FTE reduction'!$C$35:$SH$42,8)","v":0},""]
[null,112,"Name","Identifier",0,0,{"$f":"HLOOKUP(B202,'5 - FTE reduction'!$C$35:$SH$42,8)","v":0},""]
[null,113,"Name","Identifier",0,0,{"$f":"HLOOKUP(B203,'5 - FTE reduction'!$C$35:$SH$42,8)","v":0},""]
[null,114,"Name","Identifier",0,0,{"$f":"HLOOKUP(B204,'5 - FTE reduction'!$C$35:$SH$42,8)","v":0},""]
[null,115,"Name","Identifier",0,0,{"$f":"HLOOKUP(B205,'5 - FTE reduction'!$C$35:$SH$42,8)","v":0},""]
[null,116,"Name","Identifier",0,0,{"$f":"HLOOKUP(B206,'5 - FTE reduction'!$C$35:$SH$42,8)","v":0},""]
[null,117,"Name","Identifier",0,0,{"$f":"HLOOKUP(B207,'5 - FTE reduction'!$C$35:$SH$42,8)","v":0},""]
[null,118,"Name","Identifier",0,0,{"$f":"HLOOKUP(B208,'5 - FTE reduction'!$C$35:$SH$42,8)","v":0},""]
[null,119,"Name","Identifier",0,0,{"$f":"HLOOKUP(B209,'5 - FTE reduction'!$C$35:$SH$42,8)","v":0},""]
[null,120,"Name","Identifier",0,0,{"$f":"HLOOKUP(B210,'5 - FTE reduction'!$C$35:$SH$42,8)","v":0},""]
[null,121,"Name","Identifier",0,0,{"$f":"HLOOKUP(B211,'5 - FTE reduction'!$C$35:$SH$42,8)","v":0},""]
[null,122,"Name","Identifier",0,0,{"$f":"HLOOKUP(B212,'5 - FTE reduction'!$C$35:$SH$42,8)","v":0},""]
[null,123,"Name","Identifier",0,0,{"$f":"HLOOKUP(B213,'5 - FTE reduction'!$C$35:$SH$42,8)","v":0},""]
[null,124,"Name","Identifier",0,0,{"$f":"HLOOKUP(B214,'5 - FTE reduction'!$C$35:$SH$42,8)","v":0},""]
[null,125,"Name","Identifier",0,0,{"$f":"HLOOKUP(B215,'5 - FTE reduction'!$C$35:$SH$42,8)","v":0},""]
[null,126,"Name","Identifier",0,0,{"$f":"HLOOKUP(B216,'5 - FTE reduction'!$C$35:$SH$42,8)","v":0},""]
[null,127,"Name","Identifier",0,0,{"$f":"HLOOKUP(B217,'5 - FTE reduction'!$C$35:$SH$42,8)","v":0},""]
[null,128,"Name","Identifier",0,0,{"$f":"HLOOKUP(B218,'5 - FTE reduction'!$C$35:$SH$42,8)","v":0},""]
[null,129,"Name","Identifier",0,0,{"$f":"HLOOKUP(B219,'5 - FTE reduction'!$C$35:$SH$42,8)","v":0},""]
[null,130,{"$f":"HLOOKUP(B220,$C$5:$SH$7,2,FALSE)","v":"Name"},{"$f":"HLOOKUP(B220,$C$5:$SH$7,3,FALSE)","v":"Identifier"},{"$f":"HLOOKUP(B220,$C$11:$SH$33,23,FALSE)","v":0},0,{"$f":"HLOOKUP(B220,'5 - FTE reduction'!$C$35:$SH$42,8)","v":0},{"$f":"HLOOKUP(B220,$C$77:$SH$80,4,FALSE)","v":""}]
[null,131,"Name","Identifier",0,{"$f":"HLOOKUP(B221,$C$77:$SH$78,2,FALSE)","v":0},{"$f":"HLOOKUP(B221,'5 - FTE reduction'!$C$35:$SH$42,8)","v":0},""]
[null,132,"Name","Identifier",0,0,{"$f":"HLOOKUP(B222,'5 - FTE reduction'!$C$35:$SH$42,8)","v":0},""]
[null,133,"Name","Identifier",0,0,{"$f":"HLOOKUP(B223,'5 - FTE reduction'!$C$35:$SH$42,8)","v":0},""]
[null,134,"Name","Identifier",0,0,{"$f":"HLOOKUP(B224,'5 - FTE reduction'!$C$35:$SH$42,8)","v":0},""]
[null,135,"Name","Identifier",0,0,{"$f":"HLOOKUP(B225,'5 - FTE reduction'!$C$35:$SH$42,8)","v":0},""]
[null,136,"Name","Identifier",0,0,{"$f":"HLOOKUP(B226,'5 - FTE reduction'!$C$35:$SH$42,8)","v":0},""]
[null,137,"Name","Identifier",0,0,{"$f":"HLOOKUP(B227,'5 - FTE reduction'!$C$35:$SH$42,8)","v":0},""]
[null,138,"Name","Identifier",0,0,{"$f":"HLOOKUP(B228,'5 - FTE reduction'!$C$35:$SH$42,8)","v":0},""]
[null,139,"Name","Identifier",0,0,{"$f":"HLOOKUP(B229,'5 - FTE reduction'!$C$35:$SH$42,8)","v":0},""]
[null,140,"Name","Identifier",0,0,{"$f":"HLOOKUP(B230,'5 - FTE reduction'!$C$35:$SH$42,8)","v":0},""]
[null,141,"Name","Identifier",0,0,{"$f":"HLOOKUP(B231,'5 - FTE reduction'!$C$35:$SH$42,8)","v":0},""]
[null,142,"Name","Identifier",0,0,{"$f":"HLOOKUP(B232,'5 - FTE reduction'!$C$35:$SH$42,8)","v":0},""]
[null,143,"Name","Identifier",0,0,{"$f":"HLOOKUP(B233,'5 - FTE reduction'!$C$35:$SH$42,8)","v":0},""]
[null,144,"Name","Identifier",0,0,{"$f":"HLOOKUP(B234,'5 - FTE reduction'!$C$35:$SH$42,8)","v":0},""]
[null,145,"Name","Identifier",0,0,{"$f":"HLOOKUP(B235,'5 - FTE reduction'!$C$35:$SH$42,8)","v":0},""]
[null,146,"Name","Identifier",0,0,{"$f":"HLOOKUP(B236,'5 - FTE reduction'!$C$35:$SH$42,8)","v":0},""]
[null,147,"Name","Identifier",0,0,{"$f":"HLOOKUP(B237,'5 - FTE reduction'!$C$35:$SH$42,8)","v":0},""]
[null,148,"Name","Identifier",0,0,{"$f":"HLOOKUP(B238,'5 - FTE reduction'!$C$35:$SH$42,8)","v":0},""]
[null,149,"Name","Identifier",0,0,{"$f":"HLOOKUP(B239,'5 - FTE reduction'!$C$35:$SH$42,8)","v":0},""]
[null,150,"Name","Identifier",0,0,{"$f":"HLOOKUP(B240,'5 - FTE reduction'!$C$35:$SH$42,8)","v":0},""]
[null,151,"Name","Identifier",0,0,{"$f":"HLOOKUP(B241,'5 - FTE reduction'!$C$35:$SH$42,8)","v":0},""]
[null,152,"Name","Identifier",0,0,{"$f":"HLOOKUP(B242,'5 - FTE reduction'!$C$35:$SH$42,8)","v":0},""]
[null,153,"Name","Identifier",0,0,{"$f":"HLOOKUP(B243,'5 - FTE reduction'!$C$35:$SH$42,8)","v":0},""]
[null,154,"Name","Identifier",0,0,{"$f":"HLOOKUP(B244,'5 - FTE reduction'!$C$35:$SH$42,8)","v":0},""]
[null,155,"Name","Identifier",0,0,{"$f":"HLOOKUP(B245,'5 - FTE reduction'!$C$35:$SH$42,8)","v":0},""]
[null,156,"Name","Identifier",0,0,{"$f":"HLOOKUP(B246,'5 - FTE reduction'!$C$35:$SH$42,8)","v":0},""]
[null,157,"Name","Identifier",0,0,{"$f":"HLOOKUP(B247,'5 - FTE reduction'!$C$35:$SH$42,8)","v":0},""]
[null,158,"Name","Identifier",0,0,{"$f":"HLOOKUP(B248,'5 - FTE reduction'!$C$35:$SH$42,8)","v":0},""]
[null,159,"Name","Identifier",0,0,{"$f":"HLOOKUP(B249,'5 - FTE reduction'!$C$35:$SH$42,8)","v":0},""]
[null,160,"Name","Identifier",0,0,{"$f":"HLOOKUP(B250,'5 - FTE reduction'!$C$35:$SH$42,8)","v":0},""]
[null,161,"Name","Identifier",0,0,{"$f":"HLOOKUP(B251,'5 - FTE reduction'!$C$35:$SH$42,8)","v":0},""]
[null,162,"Name","Identifier",0,0,{"$f":"HLOOKUP(B252,'5 - FTE reduction'!$C$35:$SH$42,8)","v":0},""]
[null,163,"Name","Identifier",0,0,{"$f":"HLOOKUP(B253,'5 - FTE reduction'!$C$35:$SH$42,8)","v":0},""]
[null,164,"Name","Identifier",0,0,{"$f":"HLOOKUP(B254,'5 - FTE reduction'!$C$35:$SH$42,8)","v":0},""]
[null,165,"Name","Identifier",0,0,{"$f":"HLOOKUP(B255,'5 - FTE reduction'!$C$35:$SH$42,8)","v":0},""]
[null,166,"Name","Identifier",0,0,{"$f":"HLOOKUP(B256,'5 - FTE reduction'!$C$35:$SH$42,8)","v":0},""]
[null,167,"Name","Identifier",0,0,{"$f":"HLOOKUP(B257,'5 - FTE reduction'!$C$35:$SH$42,8)","v":0},""]
[null,168,"Name","Identifier",0,0,{"$f":"HLOOKUP(B258,'5 - FTE reduction'!$C$35:$SH$42,8)","v":0},""]
[null,169,"Name","Identifier",0,0,{"$f":"HLOOKUP(B259,'5 - FTE reduction'!$C$35:$SH$42,8)","v":0},""]
[null,170,"Name","Identifier",0,0,{"$f":"HLOOKUP(B260,'5 - FTE reduction'!$C$35:$SH$42,8)","v":0},""]
[null,171,"Name","Identifier",0,0,{"$f":"HLOOKUP(B261,'5 - FTE reduction'!$C$35:$SH$42,8)","v":0},""]
[null,172,"Name","Identifier",0,0,{"$f":"HLOOKUP(B262,'5 - FTE reduction'!$C$35:$SH$42,8)","v":0},""]
[null,173,"Name","Identifier",0,0,{"$f":"HLOOKUP(B263,'5 - FTE reduction'!$C$35:$SH$42,8)","v":0},""]
[null,174,"Name","Identifier",0,0,{"$f":"HLOOKUP(B264,'5 - FTE reduction'!$C$35:$SH$42,8)","v":0},""]
[null,175,"Name","Identifier",0,0,{"$f":"HLOOKUP(B265,'5 - FTE reduction'!$C$35:$SH$42,8)","v":0},""]
[null,176,"Name","Identifier",0,0,{"$f":"HLOOKUP(B266,'5 - FTE reduction'!$C$35:$SH$42,8)","v":0},""]
[null,177,"Name","Identifier",0,0,{"$f":"HLOOKUP(B267,'5 - FTE reduction'!$C$35:$SH$42,8)","v":0},""]
[null,178,"Name","Identifier",0,0,{"$f":"HLOOKUP(B268,'5 - FTE reduction'!$C$35:$SH$42,8)","v":0},""]
[null,179,"Name","Identifier",0,0,{"$f":"HLOOKUP(B269,'5 - FTE reduction'!$C$35:$SH$42,8)","v":0},""]
[null,180,"Name","Identifier",0,0,{"$f":"HLOOKUP(B270,'5 - FTE reduction'!$C$35:$SH$42,8)","v":0},""]
[null,181,"Name","Identifier",0,0,{"$f":"HLOOKUP(B271,'5 - FTE reduction'!$C$35:$SH$42,8)","v":0},""]
[null,182,"Name","Identifier",0,0,{"$f":"HLOOKUP(B272,'5 - FTE reduction'!$C$35:$SH$42,8)","v":0},""]
[null,183,"Name","Identifier",0,0,{"$f":"HLOOKUP(B273,'5 - FTE reduction'!$C$35:$SH$42,8)","v":0},""]
[null,184,"Name","Identifier",0,0,{"$f":"HLOOKUP(B274,'5 - FTE reduction'!$C$35:$SH$42,8)","v":0},""]
[null,185,"Name","Identifier",0,0,{"$f":"HLOOKUP(B275,'5 - FTE reduction'!$C$35:$SH$42,8)","v":0},""]
[null,186,"Name","Identifier",0,0,{"$f":"HLOOKUP(B276,'5 - FTE reduction'!$C$35:$SH$42,8)","v":0},""]
[null,187,"Name","Identifier",0,0,{"$f":"HLOOKUP(B277,'5 - FTE reduction'!$C$35:$SH$42,8)","v":0},""]
[null,188,"Name","Identifier",0,0,{"$f":"HLOOKUP(B278,'5 - FTE reduction'!$C$35:$SH$42,8)","v":0},""]
[null,189,"Name","Identifier",0,0,{"$f":"HLOOKUP(B279,'5 - FTE reduction'!$C$35:$SH$42,8)","v":0},""]
[null,190,"Name","Identifier",0,0,{"$f":"HLOOKUP(B280,'5 - FTE reduction'!$C$35:$SH$42,8)","v":0},""]
[null,191,"Name","Identifier",0,0,{"$f":"HLOOKUP(B281,'5 - FTE reduction'!$C$35:$SH$42,8)","v":0},""]
[null,192,"Name","Identifier",0,0,{"$f":"HLOOKUP(B282,'5 - FTE reduction'!$C$35:$SH$42,8)","v":0},""]
[null,193,"Name","Identifier",0,0,{"$f":"HLOOKUP(B283,'5 - FTE reduction'!$C$35:$SH$42,8)","v":0},""]
[null,194,{"$f":"HLOOKUP(B284,$C$5:$SH$7,2,FALSE)","v":"Name"},{"$f":"HLOOKUP(B284,$C$5:$SH$7,3,FALSE)","v":"Identifier"},{"$f":"HLOOKUP(B284,$C$11:$SH$33,23,FALSE)","v":0},0,{"$f":"HLOOKUP(B284,'5 - FTE reduction'!$C$35:$SH$42,8)","v":0},{"$f":"HLOOKUP(B284,$C$77:$SH$80,4,FALSE)","v":""}]
[null,195,"Name","Identifier",0,{"$f":"HLOOKUP(B285,$C$77:$SH$78,2,FALSE)","v":0},{"$f":"HLOOKUP(B285,'5 - FTE reduction'!$C$35:$SH$42,8)","v":0},""]
[null,196,"Name","Identifier",0,0,{"$f":"HLOOKUP(B286,'5 - FTE reduction'!$C$35:$SH$42,8)","v":0},""]
[null,197,"Name","Identifier",0,0,{"$f":"HLOOKUP(B287,'5 - FTE reduction'!$C$35:$SH$42,8)","v":0},""]
[null,198,"Name","Identifier",0,0,{"$f":"HLOOKUP(B288,'5 - FTE reduction'!$C$35:$SH$42,8)","v":0},""]
[null,199,"Name","Identifier",0,0,{"$f":"HLOOKUP(B289,'5 - FTE reduction'!$C$35:$SH$42,8)","v":0},""]
[null,200,"Name","Identifier",0,0,{"$f":"HLOOKUP(B290,'5 - FTE reduction'!$C$35:$SH$42,8)","v":0},""]
[null,201,"Name","Identifier",0,0,{"$f":"HLOOKUP(B291,'5 - FTE reduction'!$C$35:$SH$42,8)","v":0},""]
[null,202,"Name","Identifier",0,0,{"$f":"HLOOKUP(B292,'5 - FTE reduction'!$C$35:$SH$42,8)","v":0},""]
[null,203,"Name","Identifier",0,0,{"$f":"HLOOKUP(B293,'5 - FTE reduction'!$C$35:$SH$42,8)","v":0},""]
[null,204,"Name","Identifier",0,0,{"$f":"HLOOKUP(B294,'5 - FTE reduction'!$C$35:$SH$42,8)","v":0},""]
[null,205,"Name","Identifier",0,0,{"$f":"HLOOKUP(B295,'5 - FTE reduction'!$C$35:$SH$42,8)","v":0},""]
[null,206,"Name","Identifier",0,0,{"$f":"HLOOKUP(B296,'5 - FTE reduction'!$C$35:$SH$42,8)","v":0},""]
[null,207,"Name","Identifier",0,0,{"$f":"HLOOKUP(B297,'5 - FTE reduction'!$C$35:$SH$42,8)","v":0},""]
[null,208,"Name","Identifier",0,0,{"$f":"HLOOKUP(B298,'5 - FTE reduction'!$C$35:$SH$42,8)","v":0},""]
[null,209,"Name","Identifier",0,0,{"$f":"HLOOKUP(B299,'5 - FTE reduction'!$C$35:$SH$42,8)","v":0},""]
[null,210,"Name","Identifier",0,0,{"$f":"HLOOKUP(B300,'5 - FTE reduction'!$C$35:$SH$42,8)","v":0},""]
[null,211,"Name","Identifier",0,0,{"$f":"HLOOKUP(B301,'5 - FTE reduction'!$C$35:$SH$42,8)","v":0},""]
[null,212,"Name","Identifier",0,0,{"$f":"HLOOKUP(B302,'5 - FTE reduction'!$C$35:$SH$42,8)","v":0},""]
[null,213,"Name","Identifier",0,0,{"$f":"HLOOKUP(B303,'5 - FTE reduction'!$C$35:$SH$42,8)","v":0},""]
[null,214,"Name","Identifier",0,0,{"$f":"HLOOKUP(B304,'5 - FTE reduction'!$C$35:$SH$42,8)","v":0},""]
[null,215,"Name","Identifier",0,0,{"$f":"HLOOKUP(B305,'5 - FTE reduction'!$C$35:$SH$42,8)","v":0},""]
[null,216,"Name","Identifier",0,0,{"$f":"HLOOKUP(B306,'5 - FTE reduction'!$C$35:$SH$42,8)","v":0},""]
[null,217,"Name","Identifier",0,0,{"$f":"HLOOKUP(B307,'5 - FTE reduction'!$C$35:$SH$42,8)","v":0},""]
[null,218,"Name","Identifier",0,0,{"$f":"HLOOKUP(B308,'5 - FTE reduction'!$C$35:$SH$42,8)","v":0},""]
[null,219,"Name","Identifier",0,0,{"$f":"HLOOKUP(B309,'5 - FTE reduction'!$C$35:$SH$42,8)","v":0},""]
[null,220,"Name","Identifier",0,0,{"$f":"HLOOKUP(B310,'5 - FTE reduction'!$C$35:$SH$42,8)","v":0},""]
[null,221,"Name","Identifier",0,0,{"$f":"HLOOKUP(B311,'5 - FTE reduction'!$C$35:$SH$42,8)","v":0},""]
[null,222,"Name","Identifier",0,0,{"$f":"HLOOKUP(B312,'5 - FTE reduction'!$C$35:$SH$42,8)","v":0},""]
[null,223,"Name","Identifier",0,0,{"$f":"HLOOKUP(B313,'5 - FTE reduction'!$C$35:$SH$42,8)","v":0},""]
[null,224,"Name","Identifier",0,0,{"$f":"HLOOKUP(B314,'5 - FTE reduction'!$C$35:$SH$42,8)","v":0},""]
[null,225,"Name","Identifier",0,0,{"$f":"HLOOKUP(B315,'5 - FTE reduction'!$C$35:$SH$42,8)","v":0},""]
[null,226,"Name","Identifier",0,0,{"$f":"HLOOKUP(B316,'5 - FTE reduction'!$C$35:$SH$42,8)","v":0},""]
[null,227,"Name","Identifier",0,0,{"$f":"HLOOKUP(B317,'5 - FTE reduction'!$C$35:$SH$42,8)","v":0},""]
[null,228,"Name","Identifier",0,0,{"$f":"HLOOKUP(B318,'5 - FTE reduction'!$C$35:$SH$42,8)","v":0},""]
[null,229,"Name","Identifier",0,0,{"$f":"HLOOKUP(B319,'5 - FTE reduction'!$C$35:$SH$42,8)","v":0},""]
[null,230,"Name","Identifier",0,0,{"$f":"HLOOKUP(B320,'5 - FTE reduction'!$C$35:$SH$42,8)","v":0},""]
[null,231,"Name","Identifier",0,0,{"$f":"HLOOKUP(B321,'5 - FTE reduction'!$C$35:$SH$42,8)","v":0},""]
[null,232,"Name","Identifier",0,0,{"$f":"HLOOKUP(B322,'5 - FTE reduction'!$C$35:$SH$42,8)","v":0},""]
[null,233,"Name","Identifier",0,0,{"$f":"HLOOKUP(B323,'5 - FTE reduction'!$C$35:$SH$42,8)","v":0},""]
[null,234,"Name","Identifier",0,0,{"$f":"HLOOKUP(B324,'5 - FTE reduction'!$C$35:$SH$42,8)","v":0},""]
[null,235,"Name","Identifier",0,0,{"$f":"HLOOKUP(B325,'5 - FTE reduction'!$C$35:$SH$42,8)","v":0},""]
[null,236,"Name","Identifier",0,0,{"$f":"HLOOKUP(B326,'5 - FTE reduction'!$C$35:$SH$42,8)","v":0},""]
[null,237,"Name","Identifier",0,0,{"$f":"HLOOKUP(B327,'5 - FTE reduction'!$C$35:$SH$42,8)","v":0},""]
[null,238,"Name","Identifier",0,0,{"$f":"HLOOKUP(B328,'5 - FTE reduction'!$C$35:$SH$42,8)","v":0},""]
[null,239,"Name","Identifier",0,0,{"$f":"HLOOKUP(B329,'5 - FTE reduction'!$C$35:$SH$42,8)","v":0},""]
[null,240,"Name","Identifier",0,0,{"$f":"HLOOKUP(B330,'5 - FTE reduction'!$C$35:$SH$42,8)","v":0},""]
[null,241,"Name","Identifier",0,0,{"$f":"HLOOKUP(B331,'5 - FTE reduction'!$C$35:$SH$42,8)","v":0},""]
[null,242,"Name","Identifier",0,0,{"$f":"HLOOKUP(B332,'5 - FTE reduction'!$C$35:$SH$42,8)","v":0},""]
[null,243,"Name","Identifier",0,0,{"$f":"HLOOKUP(B333,'5 - FTE reduction'!$C$35:$SH$42,8)","v":0},""]
[null,244,"Name","Identifier",0,0,{"$f":"HLOOKUP(B334,'5 - FTE reduction'!$C$35:$SH$42,8)","v":0},""]
[null,245,"Name","Identifier",0,0,{"$f":"HLOOKUP(B335,'5 - FTE reduction'!$C$35:$SH$42,8)","v":0},""]
[null,246,"Name","Identifier",0,0,{"$f":"HLOOKUP(B336,'5 - FTE reduction'!$C$35:$SH$42,8)","v":0},""]
[null,247,"Name","Identifier",0,0,{"$f":"HLOOKUP(B337,'5 - FTE reduction'!$C$35:$SH$42,8)","v":0},""]
[null,248,"Name","Identifier",0,0,{"$f":"HLOOKUP(B338,'5 - FTE reduction'!$C$35:$SH$42,8)","v":0},""]
[null,249,"Name","Identifier",0,0,{"$f":"HLOOKUP(B339,'5 - FTE reduction'!$C$35:$SH$42,8)","v":0},""]
[null,250,"Name","Identifier",0,0,{"$f":"HLOOKUP(B340,'5 - FTE reduction'!$C$35:$SH$42,8)","v":0},""]
[null,251,"Name","Identifier",0,0,{"$f":"HLOOKUP(B341,'5 - FTE reduction'!$C$35:$SH$42,8)","v":0},""]
[null,252,"Name","Identifier",0,0,{"$f":"HLOOKUP(B342,'5 - FTE reduction'!$C$35:$SH$42,8)","v":0},""]
[null,253,"Name","Identifier",0,0,{"$f":"HLOOKUP(B343,'5 - FTE reduction'!$C$35:$SH$42,8)","v":0},""]
[null,254,"Name","Identifier",0,0,{"$f":"HLOOKUP(B344,'5 - FTE reduction'!$C$35:$SH$42,8)","v":0},""]
[null,255,"Name","Identifier",0,0,{"$f":"HLOOKUP(B345,'5 - FTE reduction'!$C$35:$SH$42,8)","v":0},""]
[null,256,"Name","Identifier",0,0,{"$f":"HLOOKUP(B346,'5 - FTE reduction'!$C$35:$SH$42,8)","v":0},""]
[null,257,"Name","Identifier",0,0,{"$f":"HLOOKUP(B347,'5 - FTE reduction'!$C$35:$SH$42,8)","v":0},""]
[null,258,{"$f":"HLOOKUP(B348,$C$5:$SH$7,2,FALSE)","v":"Name"},{"$f":"HLOOKUP(B348,$C$5:$SH$7,3,FALSE)","v":"Identifier"},{"$f":"HLOOKUP(B348,$C$11:$SH$33,23,FALSE)","v":0},0,{"$f":"HLOOKUP(B348,'5 - FTE reduction'!$C$35:$SH$42,8)","v":0},{"$f":"HLOOKUP(B348,$C$77:$SH$80,4,FALSE)","v":""}]
[null,259,"Name","Identifier",0,{"$f":"HLOOKUP(B349,$C$77:$SH$78,2,FALSE)","v":0},{"$f":"HLOOKUP(B349,'5 - FTE reduction'!$C$35:$SH$42,8)","v":0},""]
[null,260,"Name","Identifier",0,0,{"$f":"HLOOKUP(B350,'5 - FTE reduction'!$C$35:$SH$42,8)","v":0},""]
[null,261,"Name","Identifier",0,0,{"$f":"HLOOKUP(B351,'5 - FTE reduction'!$C$35:$SH$42,8)","v":0},""]
[null,262,"Name","Identifier",0,0,{"$f":"HLOOKUP(B352,'5 - FTE reduction'!$C$35:$SH$42,8)","v":0},""]
[null,263,"Name","Identifier",0,0,{"$f":"HLOOKUP(B353,'5 - FTE reduction'!$C$35:$SH$42,8)","v":0},""]
[null,264,"Name","Identifier",0,0,{"$f":"HLOOKUP(B354,'5 - FTE reduction'!$C$35:$SH$42,8)","v":0},""]
[null,265,"Name","Identifier",0,0,{"$f":"HLOOKUP(B355,'5 - FTE reduction'!$C$35:$SH$42,8)","v":0},""]
[null,266,"Name","Identifier",0,0,{"$f":"HLOOKUP(B356,'5 - FTE reduction'!$C$35:$SH$42,8)","v":0},""]
[null,267,"Name","Identifier",0,0,{"$f":"HLOOKUP(B357,'5 - FTE reduction'!$C$35:$SH$42,8)","v":0},""]
[null,268,"Name","Identifier",0,0,{"$f":"HLOOKUP(B358,'5 - FTE reduction'!$C$35:$SH$42,8)","v":0},""]
[null,269,"Name","Identifier",0,0,{"$f":"HLOOKUP(B359,'5 - FTE reduction'!$C$35:$SH$42,8)","v":0},""]
[null,270,"Name","Identifier",0,0,{"$f":"HLOOKUP(B360,'5 - FTE reduction'!$C$35:$SH$42,8)","v":0},""]
[null,271,"Name","Identifier",0,0,{"$f":"HLOOKUP(B361,'5 - FTE reduction'!$C$35:$SH$42,8)","v":0},""]
[null,272,"Name","Identifier",0,0,{"$f":"HLOOKUP(B362,'5 - FTE reduction'!$C$35:$SH$42,8)","v":0},""]
[null,273,"Name","Identifier",0,0,{"$f":"HLOOKUP(B363,'5 - FTE reduction'!$C$35:$SH$42,8)","v":0},""]
[null,274,"Name","Identifier",0,0,{"$f":"HLOOKUP(B364,'5 - FTE reduction'!$C$35:$SH$42,8)","v":0},""]
[null,275,"Name","Identifier",0,0,{"$f":"HLOOKUP(B365,'5 - FTE reduction'!$C$35:$SH$42,8)","v":0},""]
[null,276,"Name","Identifier",0,0,{"$f":"HLOOKUP(B366,'5 - FTE reduction'!$C$35:$SH$42,8)","v":0},""]
[null,277,"Name","Identifier",0,0,{"$f":"HLOOKUP(B367,'5 - FTE reduction'!$C$35:$SH$42,8)","v":0},""]
[null,278,"Name","Identifier",0,0,{"$f":"HLOOKUP(B368,'5 - FTE reduction'!$C$35:$SH$42,8)","v":0},""]
[null,279,"Name","Identifier",0,0,{"$f":"HLOOKUP(B369,'5 - FTE reduction'!$C$35:$SH$42,8)","v":0},""]
[null,280,"Name","Identifier",0,0,{"$f":"HLOOKUP(B370,'5 - FTE reduction'!$C$35:$SH$42,8)","v":0},""]
[null,281,"Name","Identifier",0,0,{"$f":"HLOOKUP(B371,'5 - FTE reduction'!$C$35:$SH$42,8)","v":0},""]
[null,282,"Name","Identifier",0,0,{"$f":"HLOOKUP(B372,'5 - FTE reduction'!$C$35:$SH$42,8)","v":0},""]
[null,283,"Name","Identifier",0,0,{"$f":"HLOOKUP(B373,'5 - FTE reduction'!$C$35:$SH$42,8)","v":0},""]
[null,284,"Name","Identifier",0,0,{"$f":"HLOOKUP(B374,'5 - FTE reduction'!$C$35:$SH$42,8)","v":0},""]
[null,285,"Name","Identifier",0,0,{"$f":"HLOOKUP(B375,'5 - FTE reduction'!$C$35:$SH$42,8)","v":0},""]
[null,286,"Name","Identifier",0,0,{"$f":"HLOOKUP(B376,'5 - FTE reduction'!$C$35:$SH$42,8)","v":0},""]
[null,287,"Name","Identifier",0,0,{"$f":"HLOOKUP(B377,'5 - FTE reduction'!$C$35:$SH$42,8)","v":0},""]
[null,288,"Name","Identifier",0,0,{"$f":"HLOOKUP(B378,'5 - FTE reduction'!$C$35:$SH$42,8)","v":0},""]
[null,289,"Name","Identifier",0,0,{"$f":"HLOOKUP(B379,'5 - FTE reduction'!$C$35:$SH$42,8)","v":0},""]
[null,290,"Name","Identifier",0,0,{"$f":"HLOOKUP(B380,'5 - FTE reduction'!$C$35:$SH$42,8)","v":0},""]
[null,291,"Name","Identifier",0,0,{"$f":"HLOOKUP(B381,'5 - FTE reduction'!$C$35:$SH$42,8)","v":0},""]
[null,292,"Name","Identifier",0,0,{"$f":"HLOOKUP(B382,'5 - FTE reduction'!$C$35:$SH$42,8)","v":0},""]
[null,293,"Name","Identifier",0,0,{"$f":"HLOOKUP(B383,'5 - FTE reduction'!$C$35:$SH$42,8)","v":0},""]
[null,294,"Name","Identifier",0,0,{"$f":"HLOOKUP(B384,'5 - FTE reduction'!$C$35:$SH$42,8)","v":0},""]
[null,295,"Name","Identifier",0,0,{"$f":"HLOOKUP(B385,'5 - FTE reduction'!$C$35:$SH$42,8)","v":0},""]
[null,296,"Name","Identifier",0,0,{"$f":"HLOOKUP(B386,'5 - FTE reduction'!$C$35:$SH$42,8)","v":0},""]
[null,297,"Name","Identifier",0,0,{"$f":"HLOOKUP(B387,'5 - FTE reduction'!$C$35:$SH$42,8)","v":0},""]
[null,298,"Name","Identifier",0,0,{"$f":"HLOOKUP(B388,'5 - FTE reduction'!$C$35:$SH$42,8)","v":0},""]
[null,299,"Name","Identifier",0,0,{"$f":"HLOOKUP(B389,'5 - FTE reduction'!$C$35:$SH$42,8)","v":0},""]
[null,300,"Name","Identifier",0,0,{"$f":"HLOOKUP(B390,'5 - FTE reduction'!$C$35:$SH$42,8)","v":0},""]
[null,301,"Name","Identifier",0,0,{"$f":"HLOOKUP(B391,'5 - FTE reduction'!$C$35:$SH$42,8)","v":0},""]
[null,302,"Name","Identifier",0,0,{"$f":"HLOOKUP(B392,'5 - FTE reduction'!$C$35:$SH$42,8)","v":0},""]
[null,303,"Name","Identifier",0,0,{"$f":"HLOOKUP(B393,'5 - FTE reduction'!$C$35:$SH$42,8)","v":0},""]
[null,304,"Name","Identifier",0,0,{"$f":"HLOOKUP(B394,'5 - FTE reduction'!$C$35:$SH$42,8)","v":0},""]
[null,305,"Name","Identifier",0,0,{"$f":"HLOOKUP(B395,'5 - FTE reduction'!$C$35:$SH$42,8)","v":0},""]
[null,306,"Name","Identifier",0,0,{"$f":"HLOOKUP(B396,'5 - FTE reduction'!$C$35:$SH$42,8)","v":0},""]
[null,307,"Name","Identifier",0,0,{"$f":"HLOOKUP(B397,'5 - FTE reduction'!$C$35:$SH$42,8)","v":0},""]
[null,308,"Name","Identifier",0,0,{"$f":"HLOOKUP(B398,'5 - FTE reduction'!$C$35:$SH$42,8)","v":0},""]
[null,309,"Name","Identifier",0,0,{"$f":"HLOOKUP(B399,'5 - FTE reduction'!$C$35:$SH$42,8)","v":0},""]
[null,310,"Name","Identifier",0,0,{"$f":"HLOOKUP(B400,'5 - FTE reduction'!$C$35:$SH$42,8)","v":0},""]
[null,311,"Name","Identifier",0,0,{"$f":"HLOOKUP(B401,'5 - FTE reduction'!$C$35:$SH$42,8)","v":0},""]
[null,312,"Name","Identifier",0,0,{"$f":"HLOOKUP(B402,'5 - FTE reduction'!$C$35:$SH$42,8)","v":0},""]
[null,313,"Name","Identifier",0,0,{"$f":"HLOOKUP(B403,'5 - FTE reduction'!$C$35:$SH$42,8)","v":0},""]
[null,314,"Name","Identifier",0,0,{"$f":"HLOOKUP(B404,'5 - FTE reduction'!$C$35:$SH$42,8)","v":0},""]
[null,315,"Name","Identifier",0,0,{"$f":"HLOOKUP(B405,'5 - FTE reduction'!$C$35:$SH$42,8)","v":0},""]
[null,316,"Name","Identifier",0,0,{"$f":"HLOOKUP(B406,'5 - FTE reduction'!$C$35:$SH$42,8)","v":0},""]
[null,317,"Name","Identifier",0,0,{"$f":"HLOOKUP(B407,'5 - FTE reduction'!$C$35:$SH$42,8)","v":0},""]
[null,318,"Name","Identifier",0,0,{"$f":"HLOOKUP(B408,'5 - FTE reduction'!$C$35:$SH$42,8)","v":0},""]
[null,319,"Name","Identifier",0,0,{"$f":"HLOOKUP(B409,'5 - FTE reduction'!$C$35:$SH$42,8)","v":0},""]
[null,320,"Name","Identifier",0,0,{"$f":"HLOOKUP(B410,'5 - FTE reduction'!$C$35:$SH$42,8)","v":0},""]
[null,321,"Name","Identifier",0,0,{"$f":"HLOOKUP(B411,'5 - FTE reduction'!$C$35:$SH$42,8)","v":0},""]
[null,322,{"$f":"HLOOKUP(B412,$C$5:$SH$7,2,FALSE)","v":"Name"},{"$f":"HLOOKUP(B412,$C$5:$SH$7,3,FALSE)","v":"Identifier"},{"$f":"HLOOKUP(B412,$C$11:$SH$33,23,FALSE)","v":0},0,{"$f":"HLOOKUP(B412,'5 - FTE reduction'!$C$35:$SH$42,8)","v":0},{"$f":"HLOOKUP(B412,$C$77:$SH$80,4,FALSE)","v":""}]
[null,323,"Name","Identifier",0,{"$f":"HLOOKUP(B413,$C$77:$SH$78,2,FALSE)","v":0},{"$f":"HLOOKUP(B413,'5 - FTE reduction'!$C$35:$SH$42,8)","v":0},""]
[null,324,"Name","Identifier",0,0,{"$f":"HLOOKUP(B414,'5 - FTE reduction'!$C$35:$SH$42,8)","v":0},""]
[null,325,"Name","Identifier",0,0,{"$f":"HLOOKUP(B415,'5 - FTE reduction'!$C$35:$SH$42,8)","v":0},""]
[null,326,"Name","Identifier",0,0,{"$f":"HLOOKUP(B416,'5 - FTE reduction'!$C$35:$SH$42,8)","v":0},""]
[null,327,"Name","Identifier",0,0,{"$f":"HLOOKUP(B417,'5 - FTE reduction'!$C$35:$SH$42,8)","v":0},""]
[null,328,"Name","Identifier",0,0,{"$f":"HLOOKUP(B418,'5 - FTE reduction'!$C$35:$SH$42,8)","v":0},""]
[null,329,"Name","Identifier",0,0,{"$f":"HLOOKUP(B419,'5 - FTE reduction'!$C$35:$SH$42,8)","v":0},""]
[null,330,"Name","Identifier",0,0,{"$f":"HLOOKUP(B420,'5 - FTE reduction'!$C$35:$SH$42,8)","v":0},""]
[null,331,"Name","Identifier",0,0,{"$f":"HLOOKUP(B421,'5 - FTE reduction'!$C$35:$SH$42,8)","v":0},""]
[null,332,"Name","Identifier",0,0,{"$f":"HLOOKUP(B422,'5 - FTE reduction'!$C$35:$SH$42,8)","v":0},""]
[null,333,"Name","Identifier",0,0,{"$f":"HLOOKUP(B423,'5 - FTE reduction'!$C$35:$SH$42,8)","v":0},""]
[null,334,"Name","Identifier",0,0,{"$f":"HLOOKUP(B424,'5 - FTE reduction'!$C$35:$SH$42,8)","v":0},""]
[null,335,"Name","Identifier",0,0,{"$f":"HLOOKUP(B425,'5 - FTE reduction'!$C$35:$SH$42,8)","v":0},""]
[null,336,"Name","Identifier",0,0,{"$f":"HLOOKUP(B426,'5 - FTE reduction'!$C$35:$SH$42,8)","v":0},""]
[null,337,"Name","Identifier",0,0,{"$f":"HLOOKUP(B427,'5 - FTE reduction'!$C$35:$SH$42,8)","v":0},""]
[null,338,"Name","Identifier",0,0,{"$f":"HLOOKUP(B428,'5 - FTE reduction'!$C$35:$SH$42,8)","v":0},""]
[null,339,"Name","Identifier",0,0,{"$f":"HLOOKUP(B429,'5 - FTE reduction'!$C$35:$SH$42,8)","v":0},""]
[null,340,"Name","Identifier",0,0,{"$f":"HLOOKUP(B430,'5 - FTE reduction'!$C$35:$SH$42,8)","v":0},""]
[null,341,"Name","Identifier",0,0,{"$f":"HLOOKUP(B431,'5 - FTE reduction'!$C$35:$SH$42,8)","v":0},""]
[null,342,"Name","Identifier",0,0,{"$f":"HLOOKUP(B432,'5 - FTE reduction'!$C$35:$SH$42,8)","v":0},""]
[null,343,"Name","Identifier",0,0,{"$f":"HLOOKUP(B433,'5 - FTE reduction'!$C$35:$SH$42,8)","v":0},""]
[null,344,"Name","Identifier",0,0,{"$f":"HLOOKUP(B434,'5 - FTE reduction'!$C$35:$SH$42,8)","v":0},""]
[null,345,"Name","Identifier",0,0,{"$f":"HLOOKUP(B435,'5 - FTE reduction'!$C$35:$SH$42,8)","v":0},""]
[null,346,"Name","Identifier",0,0,{"$f":"HLOOKUP(B436,'5 - FTE reduction'!$C$35:$SH$42,8)","v":0},""]
[null,347,"Name","Identifier",0,0,{"$f":"HLOOKUP(B437,'5 - FTE reduction'!$C$35:$SH$42,8)","v":0},""]
[null,348,"Name","Identifier",0,0,{"$f":"HLOOKUP(B438,'5 - FTE reduction'!$C$35:$SH$42,8)","v":0},""]
[null,349,"Name","Identifier",0,0,{"$f":"HLOOKUP(B439,'5 - FTE reduction'!$C$35:$SH$42,8)","v":0},""]
[null,350,"Name","Identifier",0,0,{"$f":"HLOOKUP(B440,'5 - FTE reduction'!$C$35:$SH$42,8)","v":0},""]
[null,351,"Name","Identifier",0,0,{"$f":"HLOOKUP(B441,'5 - FTE reduction'!$C$35:$SH$42,8)","v":0},""]
[null,352,"Name","Identifier",0,0,{"$f":"HLOOKUP(B442,'5 - FTE reduction'!$C$35:$SH$42,8)","v":0},""]
[null,353,"Name","Identifier",0,0,{"$f":"HLOOKUP(B443,'5 - FTE reduction'!$C$35:$SH$42,8)","v":0},""]
[null,354,"Name","Identifier",0,0,{"$f":"HLOOKUP(B444,'5 - FTE reduction'!$C$35:$SH$42,8)","v":0},""]
[null,355,"Name","Identifier",0,0,{"$f":"HLOOKUP(B445,'5 - FTE reduction'!$C$35:$SH$42,8)","v":0},""]
[null,356,"Name","Identifier",0,0,{"$f":"HLOOKUP(B446,'5 - FTE reduction'!$C$35:$SH$42,8)","v":0},""]
[null,357,"Name","Identifier",0,0,{"$f":"HLOOKUP(B447,'5 - FTE reduction'!$C$35:$SH$42,8)","v":0},""]
[null,358,"Name","Identifier",0,0,{"$f":"HLOOKUP(B448,'5 - FTE reduction'!$C$35:$SH$42,8)","v":0},""]
[null,359,"Name","Identifier",0,0,{"$f":"HLOOKUP(B449,'5 - FTE reduction'!$C$35:$SH$42,8)","v":0},""]
[null,360,"Name","Identifier",0,0,{"$f":"HLOOKUP(B450,'5 - FTE reduction'!$C$35:$SH$42,8)","v":0},""]
[null,361,"Name","Identifier",0,0,{"$f":"HLOOKUP(B451,'5 - FTE reduction'!$C$35:$SH$42,8)","v":0},""]
[null,362,"Name","Identifier",0,0,{"$f":"HLOOKUP(B452,'5 - FTE reduction'!$C$35:$SH$42,8)","v":0},""]
[null,363,"Name","Identifier",0,0,{"$f":"HLOOKUP(B453,'5 - FTE reduction'!$C$35:$SH$42,8)","v":0},""]
[null,364,"Name","Identifier",0,0,{"$f":"HLOOKUP(B454,'5 - FTE reduction'!$C$35:$SH$42,8)","v":0},""]
[null,365,"Name","Identifier",0,0,{"$f":"HLOOKUP(B455,'5 - FTE reduction'!$C$35:$SH$42,8)","v":0},""]
[null,366,"Name","Identifier",0,0,{"$f":"HLOOKUP(B456,'5 - FTE reduction'!$C$35:$SH$42,8)","v":0},""]
[null,367,"Name","Identifier",0,0,{"$f":"HLOOKUP(B457,'5 - FTE reduction'!$C$35:$SH$42,8)","v":0},""]
[null,368,"Name","Identifier",0,0,{"$f":"HLOOKUP(B458,'5 - FTE reduction'!$C$35:$SH$42,8)","v":0},""]
[null,369,"Name","Identifier",0,0,{"$f":"HLOOKUP(B459,'5 - FTE reduction'!$C$35:$SH$42,8)","v":0},""]
[null,370,"Name","Identifier",0,0,{"$f":"HLOOKUP(B460,'5 - FTE reduction'!$C$35:$SH$42,8)","v":0},""]
[null,371,"Name","Identifier",0,0,{"$f":"HLOOKUP(B461,'5 - FTE reduction'!$C$35:$SH$42,8)","v":0},""]
[null,372,"Name","Identifier",0,0,{"$f":"HLOOKUP(B462,'5 - FTE reduction'!$C$35:$SH$42,8)","v":0},""]
[null,373,"Name","Identifier",0,0,{"$f":"HLOOKUP(B463,'5 - FTE reduction'!$C$35:$SH$42,8)","v":0},""]
[null,374,"Name","Identifier",0,0,{"$f":"HLOOKUP(B464,'5 - FTE reduction'!$C$35:$SH$42,8)","v":0},""]
[null,375,"Name","Identifier",0,0,{"$f":"HLOOKUP(B465,'5 - FTE reduction'!$C$35:$SH$42,8)","v":0},""]
[null,376,"Name","Identifier",0,0,{"$f":"HLOOKUP(B466,'5 - FTE reduction'!$C$35:$SH$42,8)","v":0},""]
[null,377,"Name","Identifier",0,0,{"$f":"HLOOKUP(B467,'5 - FTE reduction'!$C$35:$SH$42,8)","v":0},""]
[null,378,"Name","Identifier",0,0,{"$f":"HLOOKUP(B468,'5 - FTE reduction'!$C$35:$SH$42,8)","v":0},""]
[null,379,"Name","Identifier",0,0,{"$f":"HLOOKUP(B469,'5 - FTE reduction'!$C$35:$SH$42,8)","v":0},""]
[null,380,"Name","Identifier",0,0,{"$f":"HLOOKUP(B470,'5 - FTE reduction'!$C$35:$SH$42,8)","v":0},""]
[null,381,"Name","Identifier",0,0,{"$f":"HLOOKUP(B471,'5 - FTE reduction'!$C$35:$SH$42,8)","v":0},""]
[null,382,"Name","Identifier",0,0,{"$f":"HLOOKUP(B472,'5 - FTE reduction'!$C$35:$SH$42,8)","v":0},""]
[null,383,"Name","Identifier",0,0,{"$f":"HLOOKUP(B473,'5 - FTE reduction'!$C$35:$SH$42,8)","v":0},""]
[null,384,"Name","Identifier",0,0,{"$f":"HLOOKUP(B474,'5 - FTE reduction'!$C$35:$SH$42,8)","v":0},""]
[null,385,"Name","Identifier",0,0,{"$f":"HLOOKUP(B475,'5 - FTE reduction'!$C$35:$SH$42,8)","v":0},""]
[null,386,{"$f":"HLOOKUP(B476,$C$5:$SH$7,2,FALSE)","v":"Name"},{"$f":"HLOOKUP(B476,$C$5:$SH$7,3,FALSE)","v":"Identifier"},{"$f":"HLOOKUP(B476,$C$11:$SH$33,23,FALSE)","v":0},0,{"$f":"HLOOKUP(B476,'5 - FTE reduction'!$C$35:$SH$42,8)","v":0},{"$f":"HLOOKUP(B476,$C$77:$SH$80,4,FALSE)","v":""}]
[null,387,"Name","Identifier",0,{"$f":"HLOOKUP(B477,$C$77:$SH$78,2,FALSE)","v":0},{"$f":"HLOOKUP(B477,'5 - FTE reduction'!$C$35:$SH$42,8)","v":0},""]
[null,388,"Name","Identifier",0,0,{"$f":"HLOOKUP(B478,'5 - FTE reduction'!$C$35:$SH$42,8)","v":0},""]
[null,389,"Name","Identifier",0,0,{"$f":"HLOOKUP(B479,'5 - FTE reduction'!$C$35:$SH$42,8)","v":0},""]
[null,390,"Name","Identifier",0,0,{"$f":"HLOOKUP(B480,'5 - FTE reduction'!$C$35:$SH$42,8)","v":0},""]
[null,391,"Name","Identifier",0,0,{"$f":"HLOOKUP(B481,'5 - FTE reduction'!$C$35:$SH$42,8)","v":0},""]
[null,392,"Name","Identifier",0,0,{"$f":"HLOOKUP(B482,'5 - FTE reduction'!$C$35:$SH$42,8)","v":0},""]
[null,393,"Name","Identifier",0,0,{"$f":"HLOOKUP(B483,'5 - FTE reduction'!$C$35:$SH$42,8)","v":0},""]
[null,394,"Name","Identifier",0,0,{"$f":"HLOOKUP(B484,'5 - FTE reduction'!$C$35:$SH$42,8)","v":0},""]
[null,395,"Name","Identifier",0,0,{"$f":"HLOOKUP(B485,'5 - FTE reduction'!$C$35:$SH$42,8)","v":0},""]
[null,396,"Name","Identifier",0,0,{"$f":"HLOOKUP(B486,'5 - FTE reduction'!$C$35:$SH$42,8)","v":0},""]
[null,397,"Name","Identifier",0,0,{"$f":"HLOOKUP(B487,'5 - FTE reduction'!$C$35:$SH$42,8)","v":0},""]
[null,398,"Name","Identifier",0,0,{"$f":"HLOOKUP(B488,'5 - FTE reduction'!$C$35:$SH$42,8)","v":0},""]
[null,399,"Name","Identifier",0,0,{"$f":"HLOOKUP(B489,'5 - FTE reduction'!$C$35:$SH$42,8)","v":0},""]
[null,400,"Name","Identifier",0,0,{"$f":"HLOOKUP(B490,'5 - FTE reduction'!$C$35:$SH$42,8)","v":0},""]
[null,401,"Name","Identifier",0,0,{"$f":"HLOOKUP(B491,'5 - FTE reduction'!$C$35:$SH$42,8)","v":0},""]
[null,402,"Name","Identifier",0,0,{"$f":"HLOOKUP(B492,'5 - FTE reduction'!$C$35:$SH$42,8)","v":0},""]
[null,403,"Name","Identifier",0,0,{"$f":"HLOOKUP(B493,'5 - FTE reduction'!$C$35:$SH$42,8)","v":0},""]
[null,404,"Name","Identifier",0,0,{"$f":"HLOOKUP(B494,'5 - FTE reduction'!$C$35:$SH$42,8)","v":0},""]
[null,405,"Name","Identifier",0,0,{"$f":"HLOOKUP(B495,'5 - FTE reduction'!$C$35:$SH$42,8)","v":0},""]
[null,406,"Name","Identifier",0,0,{"$f":"HLOOKUP(B496,'5 - FTE reduction'!$C$35:$SH$42,8)","v":0},""]
[null,407,"Name","Identifier",0,0,{"$f":"HLOOKUP(B497,'5 - FTE reduction'!$C$35:$SH$42,8)","v":0},""]
[null,408,"Name","Identifier",0,0,{"$f":"HLOOKUP(B498,'5 - FTE reduction'!$C$35:$SH$42,8)","v":0},""]
[null,409,"Name","Identifier",0,0,{"$f":"HLOOKUP(B499,'5 - FTE reduction'!$C$35:$SH$42,8)","v":0},""]
[null,410,"Name","Identifier",0,0,{"$f":"HLOOKUP(B500,'5 - FTE reduction'!$C$35:$SH$42,8)","v":0},""]
[null,411,"Name","Identifier",0,0,{"$f":"HLOOKUP(B501,'5 - FTE reduction'!$C$35:$SH$42,8)","v":0},""]
[null,412,"Name","Identifier",0,0,{"$f":"HLOOKUP(B502,'5 - FTE reduction'!$C$35:$SH$42,8)","v":0},""]
[null,413,"Name","Identifier",0,0,{"$f":"HLOOKUP(B503,'5 - FTE reduction'!$C$35:$SH$42,8)","v":0},""]
[null,414,"Name","Identifier",0,0,{"$f":"HLOOKUP(B504,'5 - FTE reduction'!$C$35:$SH$42,8)","v":0},""]
[null,415,"Name","Identifier",0,0,{"$f":"HLOOKUP(B505,'5 - FTE reduction'!$C$35:$SH$42,8)","v":0},""]
[null,416,"Name","Identifier",0,0,{"$f":"HLOOKUP(B506,'5 - FTE reduction'!$C$35:$SH$42,8)","v":0},""]
[null,417,"Name","Identifier",0,0,{"$f":"HLOOKUP(B507,'5 - FTE reduction'!$C$35:$SH$42,8)","v":0},""]
[null,418,"Name","Identifier",0,0,{"$f":"HLOOKUP(B508,'5 - FTE reduction'!$C$35:$SH$42,8)","v":0},""]
[null,419,"Name","Identifier",0,0,{"$f":"HLOOKUP(B509,'5 - FTE reduction'!$C$35:$SH$42,8)","v":0},""]
[null,420,"Name","Identifier",0,0,{"$f":"HLOOKUP(B510,'5 - FTE reduction'!$C$35:$SH$42,8)","v":0},""]
[null,421,"Name","Identifier",0,0,{"$f":"HLOOKUP(B511,'5 - FTE reduction'!$C$35:$SH$42,8)","v":0},""]
[null,422,"Name","Identifier",0,0,{"$f":"HLOOKUP(B512,'5 - FTE reduction'!$C$35:$SH$42,8)","v":0},""]
[null,423,"Name","Identifier",0,0,{"$f":"HLOOKUP(B513,'5 - FTE reduction'!$C$35:$SH$42,8)","v":0},""]
[null,424,"Name","Identifier",0,0,{"$f":"HLOOKUP(B514,'5 - FTE reduction'!$C$35:$SH$42,8)","v":0},""]
[null,425,"Name","Identifier",0,0,{"$f":"HLOOKUP(B515,'5 - FTE reduction'!$C$35:$SH$42,8)","v":0},""]
[null,426,"Name","Identifier",0,0,{"$f":"HLOOKUP(B516,'5 - FTE reduction'!$C$35:$SH$42,8)","v":0},""]
[null,427,"Name","Identifier",0,0,{"$f":"HLOOKUP(B517,'5 - FTE reduction'!$C$35:$SH$42,8)","v":0},""]
[null,428,"Name","Identifier",0,0,{"$f":"HLOOKUP(B518,'5 - FTE reduction'!$C$35:$SH$42,8)","v":0},""]
[null,429,"Name","Identifier",0,0,{"$f":"HLOOKUP(B519,'5 - FTE reduction'!$C$35:$SH$42,8)","v":0},""]
[null,430,"Name","Identifier",0,0,{"$f":"HLOOKUP(B520,'5 - FTE reduction'!$C$35:$SH$42,8)","v":0},""]
[null,431,"Name","Identifier",0,0,{"$f":"HLOOKUP(B521,'5 - FTE reduction'!$C$35:$SH$42,8)","v":0},""]
[null,432,"Name","Identifier",0,0,{"$f":"HLOOKUP(B522,'5 - FTE reduction'!$C$35:$SH$42,8)","v":0},""]
[null,433,"Name","Identifier",0,0,{"$f":"HLOOKUP(B523,'5 - FTE reduction'!$C$35:$SH$42,8)","v":0},""]
[null,434,"Name","Identifier",0,0,{"$f":"HLOOKUP(B524,'5 - FTE reduction'!$C$35:$SH$42,8)","v":0},""]
[null,435,"Name","Identifier",0,0,{"$f":"HLOOKUP(B525,'5 - FTE reduction'!$C$35:$SH$42,8)","v":0},""]
[null,436,"Name","Identifier",0,0,{"$f":"HLOOKUP(B526,'5 - FTE reduction'!$C$35:$SH$42,8)","v":0},""]
[null,437,"Name","Identifier",0,0,{"$f":"HLOOKUP(B527,'5 - FTE reduction'!$C$35:$SH$42,8)","v":0},""]
[null,438,"Name","Identifier",0,0,{"$f":"HLOOKUP(B528,'5 - FTE reduction'!$C$35:$SH$42,8)","v":0},""]
[null,439,"Name","Identifier",0,0,{"$f":"HLOOKUP(B529,'5 - FTE reduction'!$C$35:$SH$42,8)","v":0},""]
[null,440,"Name","Identifier",0,0,{"$f":"HLOOKUP(B530,'5 - FTE reduction'!$C$35:$SH$42,8)","v":0},""]
[null,441,"Name","Identifier",0,0,{"$f":"HLOOKUP(B531,'5 - FTE reduction'!$C$35:$SH$42,8)","v":0},""]
[null,442,"Name","Identifier",0,0,{"$f":"HLOOKUP(B532,'5 - FTE reduction'!$C$35:$SH$42,8)","v":0},""]
[null,443,"Name","Identifier",0,0,{"$f":"HLOOKUP(B533,'5 - FTE reduction'!$C$35:$SH$42,8)","v":0},""]
[null,444,"Name","Identifier",0,0,{"$f":"HLOOKUP(B534,'5 - FTE reduction'!$C$35:$SH$42,8)","v":0},""]
[null,445,"Name","Identifier",0,0,{"$f":"HLOOKUP(B535,'5 - FTE reduction'!$C$35:$SH$42,8)","v":0},""]
[null,446,"Name","Identifier",0,0,{"$f":"HLOOKUP(B536,'5 - FTE reduction'!$C$35:$SH$42,8)","v":0},""]
[null,447,"Name","Identifier",0,0,{"$f":"HLOOKUP(B537,'5 - FTE reduction'!$C$35:$SH$42,8)","v":0},""]
[null,448,"Name","Identifier",0,0,{"$f":"HLOOKUP(B538,'5 - FTE reduction'!$C$35:$SH$42,8)","v":0},""]
[null,449,"Name","Identifier",0,0,{"$f":"HLOOKUP(B539,'5 - FTE reduction'!$C$35:$SH$42,8)","v":0},""]
[null,450,{"$f":"HLOOKUP(B540,$C$5:$SH$7,2,FALSE)","v":"Name"},{"$f":"HLOOKUP(B540,$C$5:$SH$7,3,FALSE)","v":"Identifier"},{"$f":"HLOOKUP(B540,$C$11:$SH$33,23,FALSE)","v":0},0,{"$f":"HLOOKUP(B540,'5 - FTE reduction'!$C$35:$SH$42,8)","v":0},{"$f":"HLOOKUP(B540,$C$77:$SH$80,4,FALSE)","v":""}]
[null,451,"Name","Identifier",0,{"$f":"HLOOKUP(B541,$C$77:$SH$78,2,FALSE)","v":0},{"$f":"HLOOKUP(B541,'5 - FTE reduction'!$C$35:$SH$42,8)","v":0},""]
[null,452,"Name","Identifier",0,0,{"$f":"HLOOKUP(B542,'5 - FTE reduction'!$C$35:$SH$42,8)","v":0},""]
[null,453,"Name","Identifier",0,0,{"$f":"HLOOKUP(B543,'5 - FTE reduction'!$C$35:$SH$42,8)","v":0},""]
[null,454,"Name","Identifier",0,0,{"$f":"HLOOKUP(B544,'5 - FTE reduction'!$C$35:$SH$42,8)","v":0},""]
[null,455,"Name","Identifier",0,0,{"$f":"HLOOKUP(B545,'5 - FTE reduction'!$C$35:$SH$42,8)","v":0},""]
[null,456,"Name","Identifier",0,0,{"$f":"HLOOKUP(B546,'5 - FTE reduction'!$C$35:$SH$42,8)","v":0},""]
[null,457,"Name","Identifier",0,0,{"$f":"HLOOKUP(B547,'5 - FTE reduction'!$C$35:$SH$42,8)","v":0},""]
[null,458,"Name","Identifier",0,0,{"$f":"HLOOKUP(B548,'5 - FTE reduction'!$C$35:$SH$42,8)","v":0},""]
[null,459,"Name","Identifier",0,0,{"$f":"HLOOKUP(B549,'5 - FTE reduction'!$C$35:$SH$42,8)","v":0},""]
[null,460,"Name","Identifier",0,0,{"$f":"HLOOKUP(B550,'5 - FTE reduction'!$C$35:$SH$42,8)","v":0},""]
[null,461,"Name","Identifier",0,0,{"$f":"HLOOKUP(B551,'5 - FTE reduction'!$C$35:$SH$42,8)","v":0},""]
[null,462,"Name","Identifier",0,0,{"$f":"HLOOKUP(B552,'5 - FTE reduction'!$C$35:$SH$42,8)","v":0},""]
[null,463,"Name","Identifier",0,0,{"$f":"HLOOKUP(B553,'5 - FTE reduction'!$C$35:$SH$42,8)","v":0},""]
[null,464,"Name","Identifier",0,0,{"$f":"HLOOKUP(B554,'5 - FTE reduction'!$C$35:$SH$42,8)","v":0},""]
[null,465,"Name","Identifier",0,0,{"$f":"HLOOKUP(B555,'5 - FTE reduction'!$C$35:$SH$42,8)","v":0},""]
[null,466,"Name","Identifier",0,0,{"$f":"HLOOKUP(B556,'5 - FTE reduction'!$C$35:$SH$42,8)","v":0},""]
[null,467,"Name","Identifier",0,0,{"$f":"HLOOKUP(B557,'5 - FTE reduction'!$C$35:$SH$42,8)","v":0},""]
[null,468,"Name","Identifier",0,0,{"$f":"HLOOKUP(B558,'5 - FTE reduction'!$C$35:$SH$42,8)","v":0},""]
[null,469,"Name","Identifier",0,0,{"$f":"HLOOKUP(B559,'5 - FTE reduction'!$C$35:$SH$42,8)","v":0},""]
[null,470,"Name","Identifier",0,0,{"$f":"HLOOKUP(B560,'5 - FTE reduction'!$C$35:$SH$42,8)","v":0},""]
[null,471,"Name","Identifier",0,0,{"$f":"HLOOKUP(B561,'5 - FTE reduction'!$C$35:$SH$42,8)","v":0},""]
[null,472,"Name","Identifier",0,0,{"$f":"HLOOKUP(B562,'5 - FTE reduction'!$C$35:$SH$42,8)","v":0},""]
[null,473,"Name","Identifier",0,0,{"$f":"HLOOKUP(B563,'5 - FTE reduction'!$C$35:$SH$42,8)","v":0},""]
[null,474,"Name","Identifier",0,0,{"$f":"HLOOKUP(B564,'5 - FTE reduction'!$C$35:$SH$42,8)","v":0},""]
[null,475,"Name","Identifier",0,0,{"$f":"HLOOKUP(B565,'5 - FTE reduction'!$C$35:$SH$42,8)","v":0},""]
[null,476,"Name","Identifier",0,0,{"$f":"HLOOKUP(B566,'5 - FTE reduction'!$C$35:$SH$42,8)","v":0},""]
[null,477,"Name","Identifier",0,0,{"$f":"HLOOKUP(B567,'5 - FTE reduction'!$C$35:$SH$42,8)","v":0},""]
[null,478,"Name","Identifier",0,0,{"$f":"HLOOKUP(B568,'5 - FTE reduction'!$C$35:$SH$42,8)","v":0},""]
[null,479,"Name","Identifier",0,0,{"$f":"HLOOKUP(B569,'5 - FTE reduction'!$C$35:$SH$42,8)","v":0},""]
[null,480,"Name","Identifier",0,0,{"$f":"HLOOKUP(B570,'5 - FTE reduction'!$C$35:$SH$42,8)","v":0},""]
[null,481,"Name","Identifier",0,0,{"$f":"HLOOKUP(B571,'5 - FTE reduction'!$C$35:$SH$42,8)","v":0},""]
[null,482,"Name","Identifier",0,0,{"$f":"HLOOKUP(B572,'5 - FTE reduction'!$C$35:$SH$42,8)","v":0},""]
[null,483,"Name","Identifier",0,0,{"$f":"HLOOKUP(B573,'5 - FTE reduction'!$C$35:$SH$42,8)","v":0},""]
[null,484,"Name","Identifier",0,0,{"$f":"HLOOKUP(B574,'5 - FTE reduction'!$C$35:$SH$42,8)","v":0},""]
[null,485,"Name","Identifier",0,0,{"$f":"HLOOKUP(B575,'5 - FTE reduction'!$C$35:$SH$42,8)","v":0},""]
[null,486,"Name","Identifier",0,0,{"$f":"HLOOKUP(B576,'5 - FTE reduction'!$C$35:$SH$42,8)","v":0},""]
[null,487,"Name","Identifier",0,0,{"$f":"HLOOKUP(B577,'5 - FTE reduction'!$C$35:$SH$42,8)","v":0},""]
[null,488,"Name","Identifier",0,0,{"$f":"HLOOKUP(B578,'5 - FTE reduction'!$C$35:$SH$42,8)","v":0},""]
[null,489,"Name","Identifier",0,0,{"$f":"HLOOKUP(B579,'5 - FTE reduction'!$C$35:$SH$42,8)","v":0},""]
[null,490,"Name","Identifier",0,0,{"$f":"HLOOKUP(B580,'5 - FTE reduction'!$C$35:$SH$42,8)","v":0},""]
[null,491,"Name","Identifier",0,0,{"$f":"HLOOKUP(B581,'5 - FTE reduction'!$C$35:$SH$42,8)","v":0},""]
[null,492,"Name","Identifier",0,0,{"$f":"HLOOKUP(B582,'5 - FTE reduction'!$C$35:$SH$42,8)","v":0},""]
[null,493,"Name","Identifier",0,0,{"$f":"HLOOKUP(B583,'5 - FTE reduction'!$C$35:$SH$42,8)","v":0},""]
[null,494,"Name","Identifier",0,0,{"$f":"HLOOKUP(B584,'5 - FTE reduction'!$C$35:$SH$42,8)","v":0},""]
[null,495,"Name","Identifier",0,0,{"$f":"HLOOKUP(B585,'5 - FTE reduction'!$C$35:$SH$42,8)","v":0},""]
[null,496,"Name","Identifier",0,0,{"$f":"HLOOKUP(B586,'5 - FTE reduction'!$C$35:$SH$42,8)","v":0},""]
[null,497,"Name","Identifier",0,0,{"$f":"HLOOKUP(B587,'5 - FTE reduction'!$C$35:$SH$42,8)","v":0},""]
[null,498,"Name","Identifier",0,0,{"$f":"HLOOKUP(B588,'5 - FTE reduction'!$C$35:$SH$42,8)","v":0},""]
[null,499,"Name","Identifier",0,0,{"$f":"HLOOKUP(B589,'5 - FTE reduction'!$C$35:$SH$42,8)","v":0},""]
[null,500,"Name","Identifier",0,0,{"$f":"HLOOKUP(B590,'5 - FTE reduction'!$C$35:$SH$42,8)","v":0},""]
[null,null,null,null,{"$f":"SUM(E91:E590)","v":0}]

{"sheet":"5 - FTE reduction","index":7,"n_rows":101,"n_cols":502,"rows_kept":101,"cut":false,"hidden":false,"merged":[]}
["Paycheck Protection Program",null,"Employee","Sasserath & Zoraian, LLP ",null,"Salaried-Other","YES","Weekly"]
["FTE reduction",null,"Other","(631) 368-3110",null,"Salaried-No reduction","NO","Bi-weekly"]
[null,null,null,"www.sz-cpas.com",null,"Hourly",null,"Semi-monthly"]
[null,null,null,null,null,null,null,"Monthly"]
[]
["Employee or Other Qualified Payee Name",null,{"$f":"'6 - Input sheet - Employee data'!C12","v":"Name"},{"$f":"'6 - Input sheet - Employee data'!D12","v":"Name"},{"$f":"'6 - Input sheet - Employee data'!E12","v":"Name"},{"$f":"'6 - Input sheet - Employee data'!F12","v":"Name"},{"$f":"'6 - Input sheet - Employee data'!G12","v":"Name"},{"$f":"'6 - Input sheet - Employee data'!H12","v":"Name"},{"$f":"'6 - Input sheet - Employee data'!I12","v":"Name"},{"$f":"'6 - Input sheet - Employee data'!J12","v":"Name"},{"$f":"'6 - Input sheet - Employee data'!K12","v":"Name"},{"$f":"'6 - Input sheet - Employee data'!L12","v":"Name"},{"$f":"'6 - Input sheet - Employee data'!M12","v":"Name"},{"$f":"'6 - Input sheet - Employee data'!N12","v":"Name"},{"$f":"'6 - Input sheet - Employee data'!O12","v":"Name"},{"$f":"'6 - Input sheet - Employee data'!P12","v":"Name"},{"$f":"'6 - Input sheet - Employee data'!Q12","v":"Name"},{"$f":"'6 - Input sheet - Employee data'!R12","v":"Name"},{"$f":"'6 - Input sheet - Employee data'!S12","v":"Name"},{"$f":"'6 - Input sheet - Employee data'!T12","v":"Name"},{"$f":"'6 - Input sheet - Employee data'!U12","v":"Name"},{"$f":"'6 - Input sheet - Employee data'!V12","v":"Name"},{"$f":"'6 - Input sheet - Employee data'!W12","v":"Name"},{"$f":"'6 - Input sheet - Employee data'!X12","v":"Name"},{"$f":"'6 - Input sheet - Employee data'!Y12","v":"Name"},{"$f":"'6 - Input sheet - Employee data'!Z12","v":"Name"},{"$f":"'6 - Input sheet - Employee data'!AA12","v":"Name"},{"$f":"'6 - Input sheet - Employee data'!AB12","v":"Name"},{"$f":"'6 - Input sheet - Employee data'!AC12","v":"Name"},{"$f":"'6 - Input sheet - Employee data'!AD12","v":"Name"},{"$f":"'6 - Input sheet - Employee data'!AE12","v":"Name"},{"$f":"'6 - Input sheet - Employee data'!AF12","v":"Name"},{"$f":"'6 - Input sheet - Employee data'!AG12","v":"Name"},{"$f":"'6 - Input sheet - Employee data'!AH12","v":"Name"},{"$f":"'6 - Input sheet - Employee data'!AI12","v":"Name"},{"$f":"'6 - Input sheet - Employee data'!AJ12","v":"Name"},{"$f":"'6 - Input sheet - Employee data'!AK12","v":"Name"},{"$f":"'6 - Input sheet - Employee data'!AL12","v":"Name"},{"$f":"'6 - Input sheet - Employee data'!AM12","v":"Name"},{"$f":"'6 - Input sheet - Employee data'!AN12","v":"Name"},{"$f":"'6 - Input sheet - Employee data'!AO12","v":"Name"},{"$f":"'6 - Input sheet - Employee data'!AP12","v":"Name"},{"$f":"'6 - Input sheet - Employee data'!AQ12","v":"Name"},{"$f":"'6 - Input sheet - Employee data'!AR12","v":"Name"},{"$f":"'6 - Input sheet - Employee data'!AS12","v":"Name"},{"$f":"'6 - Input sheet - Employee data'!AT12","v":"Name"},{"$f":"'6 - Input sheet - Employee data'!AU12","v":"Name"},{"$f":"'6 - Input sheet - Employee data'!AV12","v":"Name"},{"$f":"'6 - Input sheet - Employee data'!AW12","v":"Name"},{"$f":"'6 - Input sheet - Employee data'!AX12","v":"Name"},{"$f":"'6 - Input sheet - Employee data'!AY12","v":"Name"},{"$f":"'6 - Input sheet - Employee data'!AZ12","v":"Name"},{"$f":"'6 - Input sheet - Employee data'!BA12","v":"Name"},{"$f":"'6 - Input sheet - Employee data'!BB12","v":"Name"},{"$f":"'6 - Input sheet - Employee data'!BC12","v":"Name"},{"$f":"'6 - Input sheet - Employee data'!BD12","v":"Name"},{"$f":"'6 - Input sheet - Employee data'!BE12","v":"Name"},{"$f":"'6 - Input sheet - Employee data'!BF12","v":"Name"},{"$f":"'6 - Input sheet - Employee data'!BG12","v":"Name"},{"$f":"'6 - Input sheet - Employee data'!BH12","v":"Name"},{"$f":"'6 - Input sheet - Employee data'!BI12","v":"Name"},{"$f":"'6 - Input sheet - Employee data'!BJ12","v":"Name"},{"$f":"'6 - Input sheet - Employee data'!BK12","v":"Name"},{"$f":"'6 - Input sheet - Employee data'!BL12","v":"Name"},{"$f":"'6 - Input sheet - Employee data'!BM12","v":"Name"},{"$f":"'6 - Input sheet - Employee data'!BN12","v":"Name"},{"$f":"'6 - Input sheet - Employee data'!BO12","v":"Name"},{"$f":"'6 - Input sheet - Employee data'!BP12","v":"Name"},{"$f":"'6 - Input sheet - Employee data'!BQ12","v":"Name"},{"$f":"'6 - Input sheet - Employee data'!BR12","v":"Name"},{"$f":"'6 - Input sheet - Employee data'!BS12","v":"Name"},{"$f":"'6 - Input sheet - Employee data'!BT12","v":"Name"},{"$f":"'6 - Input sheet - Employee data'!BU12","v":"Name"},{"$f":"'6 - Input sheet - Employee data'!BV12","v":"Name"},{"$f":"'6 - Input sheet - Employee data'!BW12","v":"Name"},{"$f":"'6 - Input sheet - Employee data'!BX12","v":"Name"},{"$f":"'6 - Input sheet - Employee data'!BY12","v":"Name"},{"$f":"'6 - Input sheet - Employee data'!BZ12","v":"Name"},{"$f":"'6 - Input sheet - Employee data'!CA12","v":"Name"},{"$f":"'6 - Input sheet - Employee data'!CB12","v":"Name"},{"$f":"'6 - Input sheet - Employee data'!CC12","v":"Name"},{"$f":"'6 - Input sheet - Employee data'!CD12","v":"Name"},{"$f":"'6 - Input sheet - Employee data'!CE12","v":"Name"},{"$f":"'6 - Input sheet - Employee data'!CF12","v":"Name"},{"$f":"'6 - Input sheet - Employee data'!CG12","v":"Name"},{"$f":"'6 - Input sheet - Employee data'!CH12","v":"Name"},{"$f":"'6 - Input sheet - Employee data'!CI12","v":"Name"},{"$f":"'6 - Input sheet - Employee data'!CJ12","v":"Name"},{"$f":"'6 - Input sheet - Employee data'!CK12","v":"Name"},{"$f":"'6 - Input sheet - Employee data'!CL12","v":"Name"},{"$f":"'6 - Input sheet - Employee data'!CM12","v":"Name"},{"$f":"'6 - Input sheet - Employee data'!CN12","v":"Name"},{"$f":"'6 - Input sheet - Employee data'!CO12","v":"Name"},{"$f":"'6 - Input sheet - Employee data'!CP12","v":"Name"},{"$f":"'6 - Input sheet - Employee data'!CQ12","v":"Name"},{"$f":"'6 - Input sheet - Employee data'!CR12","v":"Name"},{"$f":"'6 - Input sheet - Employee data'!CS12","v":"Name"},{"$f":"'6 - Input sheet - Employee data'!CT12","v":"Name"},{"$f":"'6 - Input sheet - Employee data'!CU12","v":"Name"},{"$f":"'6 - Input sheet - Employee data'!CV12","v":"Name"},{"$f":"'6 - Input sheet - Employee data'!CW12","v":"Name"},{"$f":"'6 - Input sheet - Employee data'!CX12","v":"Name"},{"$f":"'6 - Input sheet - Employee data'!CY12","v":"Name"},{"$f":"'6 - Input sheet - Employee data'!CZ12","v":"Name"},{"$f":"'6 - Input sheet - Employee data'!DA12","v":"Name"},{"$f":"'6 - Input sheet - Employee data'!DB12","v":"Name"},{"$f":"'6 - Input sheet - Employee data'!DC12","v":"Name"},{"$f":"'6 - Input sheet - Employee data'!DD12","v":"Name"},{"$f":"'6 - Input sheet - Employee data'!DE12","v":"Name"},{"$f":"'6 - Input sheet - Employee data'!DF12","v":"Name"},{"$f":"'6 - Input sheet - Employee data'!DG12","v":"Name"},{"$f":"'6 - Input sheet - Employee data'!DH12","v":"Name"},{"$f":"'6 - Input sheet - Employee data'!DI12","v":"Name"},{"$f":"'6 - Input sheet - Employee data'!DJ12","v":"Name"},{"$f":"'6 - Input sheet - Employee data'!DK12","v":"Name"},{"$f":"'6 - Input sheet - Employee data'!DL12","v":"Name"},{"$f":"'6 - Input sheet - Employee data'!DM12","v":"Name"},{"$f":"'6 - Input sheet - Employee data'!DN12","v":"Name"},{"$f":"'6 - Input sheet - Employee data'!DO12","v":"Name"},{"$f":"'6 - Input sheet - Employee data'!DP12","v":"Name"},{"$f":"'6 - Input sheet - Employee data'!DQ12","v":"Name"},{"$f":"'6 - Input sheet - Employee data'!DR12","v":"Name"},{"$f":"'6 - Input sheet - Employee data'!DS12","v":"Name"},{"$f":"'6 - Input sheet - Employee data'!DT12","v":"Name"},{"$f":"'6 - Input sheet - Employee data'!DU12","v":"Name"},{"$f":"'6 - Input sheet - Employee data'!DV12","v":"Name"},{"$f":"'6 - Input sheet - Employee data'!DW12","v":"Name"},{"$f":"'6 - Input sheet - Employee data'!DX12","v":"Name"},{"$f":"'6 - Input sheet - Employee data'!DY12","v":"Name"},{"$f":"'6 - Input sheet - Employee data'!DZ12","v":"Name"},{"$f":"'6 - Input sheet - Employee data'!EA12","v":"Name"},{"$f":"'6 - Input sheet - Employee data'!EB12","v":"Name"},{"$f":"'6 - Input sheet - Employee data'!EC12","v":"Name"},{"$f":"'6 - Input sheet - Employee data'!ED12","v":"Name"},{"$f":"'6 - Input sheet - Employee data'!EE12","v":"Name"},{"$f":"'6 - Input sheet - Employee data'!EF12","v":"Name"},{"$f":"'6 - Input sheet - Employee data'!EG12","v":"Name"},{"$f":"'6 - Input sheet - Employee data'!EH12","v":"Name"},{"$f":"'6 - Input sheet - Employee data'!EI12","v":"Name"},{"$f":"'6 - Input sheet - Employee data'!EJ12","v":"Name"},{"$f":"'6 - Input sheet - Employee data'!EK12","v":"Name"},{"$f":"'6 - Input sheet - Employee data'!EL12","v":"Name"},{"$f":"'6 - Input sheet - Employee data'!EM12","v":"Name"},{"$f":"'6 - Input sheet - Employee data'!EN12","v":"Name"},{"$f":"'6 - Input sheet - Employee data'!EO12","v":"Name"},{"$f":"'6 - Input sheet - Employee data'!EP12","v":"Name"},{"$f":"'6 - Input sheet - Employee data'!EQ12","v":"Name"},{"$f":"'6 - Input sheet - Employee data'!ER12","v":"Name"},{"$f":"'6 - Input sheet - Employee data'!ES12","v":"Name"},{"$f":"'6 - Input sheet - Employee data'!ET12","v":"Name"},{"$f":"'6 - Input sheet - Employee data'!EU12","v":"Name"},{"$f":"'6 - Input sheet - Employee data'!EV12","v":"Name"},{"$f":"'6 - Input sheet - Employee data'!EW12","v":"Name"},{"$f":"'6 - Input sheet - Employee data'!EX12","v":"Name"},{"$f":"'6 - Input sheet - Employee data'!EY12","v":"Name"},{"$f":"'6 - Input sheet - Employee data'!EZ12","v":"Name"},{"$f":"'6 - Input sheet - Employee data'!FA12","v":"Name"},{"$f":"'6 - Input sheet - Employee data'!FB12","v":"Name"},{"$f":"'6 - Input sheet - Employee data'!FC12","v":"Name"},{"$f":"'6 - Input sheet - Employee data'!FD12","v":"Name"},{"$f":"'6 - Input sheet - Employee data'!FE12","v":"Name"},{"$f":"'6 - Input sheet - Employee data'!FF12","v":"Name"},{"$f":"'6 - Input sheet - Employee data'!FG12","v":"Name"},{"$f":"'6 - Input sheet - Employee data'!FH12","v":"Name"},{"$f":"'6 - Input sheet - Employee data'!FI12","v":"Name"},{"$f":"'6 - Input sheet - Employee data'!FJ12","v":"Name"},{"$f":"'6 - Input sheet - Employee data'!FK12","v":"Name"},{"$f":"'6 - Input sheet - Employee data'!FL12","v":"Name"},{"$f":"'6 - Input sheet - Employee data'!FM12","v":"Name"},{"$f":"'6 - Input sheet - Employee data'!FN12","v":"Name"},{"$f":"'6 - Input sheet - Employee data'!FO12","v":"Name"},{"$f":"'6 - Input sheet - Employee data'!FP12","v":"Name"},{"$f":"'6 - Input sheet - Employee data'!FQ12","v":"Name"},{"$f":"'6 - Input sheet - Employee data'!FR12","v":"Name"},{"$f":"'6 - Input sheet - Employee data'!FS12","v":"Name"},{"$f":"'6 - Input sheet - Employee data'!FT12","v":"Name"},{"$f":"'6 - Input sheet - Employee data'!FU12","v":"Name"},{"$f":"'6 - Input sheet - Employee data'!FV12","v":"Name"},{"$f":"'6 - Input sheet - Employee data'!FW12","v":"Name"},{"$f":"'6 - Input sheet - Employee data'!FX12","v":"Name"},{"$f":"'6 - Input sheet - Employee data'!FY12","v":"Name"},{"$f":"'6 - Input sheet - Employee data'!FZ12","v":"Name"},{"$f":"'6 - Input sheet - Employee data'!GA12","v":"Name"},{"$f":"'6 - Input sheet - Employee data'!GB12","v":"Name"},{"$f":"'6 - Input sheet - Employee data'!GC12","v":"Name"},{"$f":"'6 - Input sheet - Employee data'!GD12","v":"Name"},{"$f":"'6 - Input sheet - Employee data'!GE12","v":"Name"},{"$f":"'6 - Input sheet - Employee data'!GF12","v":"Name"},{"$f":"'6 - Input sheet - Employee data'!GG12","v":"Name"},{"$f":"'6 - Input sheet - Employee data'!GH12","v":"Name"},{"$f":"'6 - Input sheet - Employee data'!GI12","v":"Name"},{"$f":"'6 - Input sheet - Employee data'!GJ12","v":"Name"},{"$f":"'6 - Input sheet - Employee data'!GK12","v":"Name"},{"$f":"'6 - Input sheet - Employee data'!GL12","v":"Name"},{"$f":"'6 - Input sheet - Employee data'!GM12","v":"Name"},{"$f":"'6 - Input sheet - Employee data'!GN12","v":"Name"},{"$f":"'6 - Input sheet - Employee data'!GO12","v":"Name"},{"$f":"'6 - Input sheet - Employee data'!GP12","v":"Name"},{"$f":"'6 - Input sheet - Employee data'!GQ12","v":"Name"},{"$f":"'6 - Input sheet - Employee data'!GR12","v":"Name"},{"$f":"'6 - Input sheet - Employee data'!GS12","v":"Name"},{"$f":"'6 - Input sheet - Employee data'!GT12","v":"Name"},{"$f":"'6 - Input sheet - Employee data'!GU12","v":"Name"},{"$f":"'6 - Input sheet - Employee data'!GV12","v":"Name"},{"$f":"'6 - Input sheet - Employee data'!GW12","v":"Name"},{"$f":"'6 - Input sheet - Employee data'!GX12","v":"Name"},{"$f":"'6 - Input sheet - Employee data'!GY12","v":"Name"},{"$f":"'6 - Input sheet - Employee data'!GZ12","v":"Name"},{"$f":"'6 - Input sheet - Employee data'!HA12","v":"Name"},{"$f":"'6 - Input sheet - Employee data'!HB12","v":"Name"},{"$f":"'6 - Input sheet - Employee data'!HC12","v":"Name"},{"$f":"'6 - Input sheet - Employee data'!HD12","v":"Name"},{"$f":"'6 - Input sheet - Employee data'!HE12","v":"Name"},{"$f":"'6 - Input sheet - Employee data'!HF12","v":"Name"},{"$f":"'6 - Input sheet - Employee data'!HG12","v":"Name"},{"$f":"'6 - Input sheet - Employee data'!HH12","v":"Name"},{"$f":"'6 - Input sheet - Employee data'!HI12","v":"Name"},{"$f":"'6 - Input sheet - Employee data'!HJ12","v":"Name"},{"$f":"'6 - Input sheet - Employee data'!HK12","v":"Name"},{"$f":"'6 - Input sheet - Employee data'!HL12","v":"Name"},{"$f":"'6 - Input sheet - Employee data'!HM12","v":"Name"},{"$f":"'6 - Input sheet - Employee data'!HN12","v":"Name"},{"$f":"'6 - Input sheet - Employee data'!HO12","v":"Name"},{"$f":"'6 - Input sheet - Employee data'!HP12","v":"Name"},{"$f":"'6 - Input sheet - Employee data'!HQ12","v":"Name"},{"$f":"'6 - Input sheet - Employee data'!HR12","v":"Name"},{"$f":"'6 - Input sheet - Employee data'!HS12","v":"Name"},{"$f":"'6 - Input sheet - Employee data'!HT12","v":"Name"},{"$f":"'6 - Input sheet - Employee data'!HU12","v":"Name"},{"$f":"'6 - Input sheet - Employee data'!HV12","v":"Name"},{"$f":"'6 - Input sheet - Employee data'!HW12","v":"Name"},{"$f":"'6 - Input sheet - Employee data'!HX12","v":"Name"},{"$f":"'6 - Input sheet - Employee data'!HY12","v":"Name"},{"$f":"'6 - Input sheet - Employee data'!HZ12","v":"Name"},{"$f":"'6 - Input sheet - Employee data'!IA12","v":"Name"},{"$f":"'6 - Input sheet - Employee data'!IB12","v":"Name"},{"$f":"'6 - Input sheet - Employee data'!IC12","v":"Name"},{"$f":"'6 - Input sheet - Employee data'!ID12","v":"Name"},{"$f":"'6 - Input sheet - Employee data'!IE12","v":"Name"},{"$f":"'6 - Input sheet - Employee data'!IF12","v":"Name"},{"$f":"'6 - Input sheet - Employee data'!IG12","v":"Name"},{"$f":"'6 - Input sheet - Employee data'!IH12","v":"Name"},{"$f":"'6 - Input sheet - Employee data'!II12","v":"Name"},{"$f":"'6 - Input sheet - Employee data'!IJ12","v":"Name"},{"$f":"'6 - Input sheet - Employee data'!IK12","v":"Name"},{"$f":"'6 - Input sheet - Employee data'!IL12","v":"Name"},{"$f":"'6 - Input sheet - Employee data'!IM12","v":"Name"},{"$f":"'6 - Input sheet - Employee data'!IN12","v":"Name"},{"$f":"'6 - Input sheet - Employee data'!IO12","v":"Name"},{"$f":"'6 - Input sheet - Employee data'!IP12","v":"Name"},{"$f":"'6 - Input sheet - Employee data'!IQ12","v":"Name"},{"$f":"'6 - Input sheet - Employee data'!IR12","v":"Name"},{"$f":"'6 - Input sheet - Employee data'!IS12","v":"Name"},{"$f":"'6 - Input sheet - Employee data'!IT12","v":"Name"},{"$f":"'6 - Input sheet - Employee data'!IU12","v":"Name"},{"$f":"'6 - Input sheet - Employee data'!IV12","v":"Name"},{"$f":"'6 - Input sheet - Employee data'!IW12","v":"Name"},{"$f":"'6 - Input sheet - Employee data'!IX12","v":"Name"},{"$f":"'6 - Input sheet - Employee data'!IY12","v":"Name"},{"$f":"'6 - Input sheet - Employee data'!IZ12","v":"Name"},{"$f":"'6 - Input sheet - Employee data'!JA12","v":"Name"},{"$f":"'6 - Input sheet - Employee data'!JB12","v":"Name"},{"$f":"'6 - Input sheet - Employee data'!JC12","v":"Name"},{"$f":"'6 - Input sheet - Employee data'!JD12","v":"Name"},{"$f":"'6 - Input sheet - Employee data'!JE12","v":"Name"},{"$f":"'6 - Input sheet - Employee data'!JF12","v":"Name"},{"$f":"'6 - Input sheet - Employee data'!JG12","v":"Name"},{"$f":"'6 - Input sheet - Employee data'!JH12","v":"Name"},{"$f":"'6 - Input sheet - Employee data'!JI12","v":"Name"},{"$f":"'6 - Input sheet - Employee data'!JJ12","v":"Name"},{"$f":"'6 - Input sheet - Employee data'!JK12","v":"Name"},{"$f":"'6 - Input sheet - Employee data'!JL12","v":"Name"},{"$f":"'6 - Input sheet - Employee data'!JM12","v":"Name"},{"$f":"'6 - Input sheet - Employee data'!JN12","v":"Name"},{"$f":"'6 - Input sheet - Employee data'!JO12","v":"Name"},{"$f":"'6 - Input sheet - Employee data'!JP12","v":"Name"},{"$f":"'6 - Input sheet - Employee data'!JQ12","v":"Name"},{"$f":"'6 - Input sheet - Employee data'!JR12","v":"Name"},{"$f":"'6 - Input sheet - Employee data'!JS12","v":"Name"},{"$f":"'6 - Input sheet - Employee data'!JT12","v":"Name"},{"$f":"'6 - Input sheet - Employee data'!JU12","v":"Name"},{"$f":"'6 - Input sheet - Employee data'!JV12","v":"Name"},{"$f":"'6 - Input sheet - Employee data'!JW12","v":"Name"},{"$f":"'6 - Input sheet - Employee data'!JX12","v":"Name"},{"$f":"'6 - Input sheet - Employee data'!JY12","v":"Name"},{"$f":"'6 - Input sheet - Employee data'!JZ12","v":"Name"},{"$f":"'6 - Input sheet - Employee data'!KA12","v":"Name"},{"$f":"'6 - Input sheet - Employee data'!KB12","v":"Name"},{"$f":"'6 - Input sheet - Employee data'!KC12","v":"Name"},{"$f":"'6 - Input sheet - Employee data'!KD12","v":"Name"},{"$f":"'6 - Input sheet - Employee data'!KE12","v":"Name"},{"$f":"'6 - Input sheet - Employee data'!KF12","v":"Name"},{"$f":"'6 - Input sheet - Employee data'!KG12","v":"Name"},{"$f":"'6 - Input sheet - Employee data'!KH12","v":"Name"},{"$f":"'6 - Input sheet - Employee data'!KI12","v":"Name"},{"$f":"'6 - Input sheet - Employee data'!KJ12","v":"Name"},{"$f":"'6 - Input sheet - Employee data'!KK12","v":"Name"},{"$f":"'6 - Input sheet - Employee data'!KL12","v":"Name"},{"$f":"'6 - Input sheet - Employee data'!KM12","v":"Name"},{"$f":"'6 - Input sheet - Employee data'!KN12","v":"Name"},{"$f":"'6 - Input sheet - Employee data'!KO12","v":"Name"},{"$f":"'6 - Input sheet - Employee data'!KP12","v":"Name"},{"$f":"'6 - Input sheet - Employee data'!KQ12","v":"Name"},{"$f":"'6 - Input sheet - Employee data'!KR12","v":"Name"},{"$f":"'6 - Input sheet - Employee data'!KS12","v":"Name"},{"$f":"'6 - Input sheet - Employee data'!KT12","v":"Name"},{"$f":"'6 - Input sheet - Employee data'!KU12","v":"Name"},{"$f":"'6 - Input sheet - Employee data'!KV12","v":"Name"},{"$f":"'6 - Input sheet - Employee data'!KW12","v":"Name"},{"$f":"'6 - Input sheet - Employee data'!KX12","v":"Name"},{"$f":"'6 - Input sheet - Employee data'!KY12","v":"Name"},{"$f":"'6 - Input sheet - Employee data'!KZ12","v":"Name"},{"$f":"'6 - Input sheet - Employee data'!LA12","v":"Name"},{"$f":"'6 - Input sheet - Employee data'!LB12","v":"Name"},{"$f":"'6 - Input sheet - Employee data'!LC12","v":"Name"},{"$f":"'6 - Input sheet - Employee data'!LD12","v":"Name"},{"$f":"'6 - Input sheet - Employee data'!LE12","v":"Name"},{"$f":"'6 - Input sheet - Employee data'!LF12","v":"Name"},{"$f":"'6 - Input sheet - Employee data'!LG12","v":"Name"},{"$f":"'6 - Input sheet - Employee data'!LH12","v":"Name"},{"$f":"'6 - Input sheet - Employee data'!LI12","v":"Name"},{"$f":"'6 - Input sheet - Employee data'!LJ12","v":"Name"},{"$f":"'6 - Input sheet - Employee data'!LK12","v":"Name"},{"$f":"'6 - Input sheet - Employee data'!LL12","v":"Name"},{"$f":"'6 - Input sheet - Employee data'!LM12","v":"Name"},{"$f":"'6 - Input sheet - Employee data'!LN12","v":"Name"},{"$f":"'6 - Input sheet - Employee data'!LO12","v":"Name"},{"$f":"'6 - Input sheet - Employee data'!LP12","v":"Name"},{"$f":"'6 - Input sheet - Employee data'!LQ12","v":"Name"},{"$f":"'6 - Input sheet - Employee data'!LR12","v":"Name"},{"$f":"'6 - Input sheet - Employee data'!LS12","v":"Name"},{"$f":"'6 - Input sheet - Employee data'!LT12","v":"Name"},{"$f":"'6 - Input sheet - Employee data'!LU12","v":"Name"},{"$f":"'6 - Input sheet - Employee data'!LV12","v":"Name"},{"$f":"'6 - Input sheet - Employee data'!LW12","v":"Name"},{"$f":"'6 - Input sheet - Employee data'!LX12","v":"Name"},{"$f":"'6 - Input sheet - Employee data'!LY12","v":"Name"},{"$f":"'6 - Input sheet - Employee data'!LZ12","v":"Name"},{"$f":"'6 - Input sheet - Employee data'!MA12","v":"Name"},{"$f":"'6 - Input sheet - Employee data'!MB12","v":"Name"},{"$f":"'6 - Input sheet - Employee data'!MC12","v":"Name"},{"$f":"'6 - Input sheet - Employee data'!MD12","v":"Name"},{"$f":"'6 - Input sheet - Employee data'!ME12","v":"Name"},{"$f":"'6 - Input sheet - Employee data'!MF12","v":"Name"},{"$f":"'6 - Input sheet - Employee data'!MG12","v":"Name"},{"$f":"'6 - Input sheet - Employee data'!MH12","v":"Name"},{"$f":"'6 - Input sheet - Employee data'!MI12","v":"Name"},{"$f":"'6 - Input sheet - Employee data'!MJ12","v":"Name"},{"$f":"'6 - Input sheet - Employee data'!MK12","v":"Name"},{"$f":"'6 - Input sheet - Employee data'!ML12","v":"Name"},{"$f":"'6 - Input sheet - Employee data'!MM12","v":"Name"},{"$f":"'6 - Input sheet - Employee data'!MN12","v":"Name"},{"$f":"'6 - Input sheet - Employee data'!MO12","v":"Name"},{"$f":"'6 - Input sheet - Employee data'!MP12","v":"Name"},{"$f":"'6 - Input sheet - Employee data'!MQ12","v":"Name"},{"$f":"'6 - Input sheet - Employee data'!MR12","v":"Name"},{"$f":"'6 - Input sheet - Employee data'!MS12","v":"Name"},{"$f":"'6 - Input sheet - Employee data'!MT12","v":"Name"},{"$f":"'6 - Input sheet - Employee data'!MU12","v":"Name"},{"$f":"'6 - Input sheet - Employee data'!MV12","v":"Name"},{"$f":"'6 - Input sheet - Employee data'!MW12","v":"Name"},{"$f":"'6 - Input sheet - Employee data'!MX12","v":"Name"},{"$f":"'6 - Input sheet - Employee data'!MY12","v":"Name"},{"$f":"'6 - Input sheet - Employee data'!MZ12","v":"Name"},{"$f":"'6 - Input sheet - Employee data'!NA12","v":"Name"},{"$f":"'6 - Input sheet - Employee data'!NB12","v":"Name"},{"$f":"'6 - Input sheet - Employee data'!NC12","v":"Name"},{"$f":"'6 - Input sheet - Employee data'!ND12","v":"Name"},{"$f":"'6 - Input sheet - Employee data'!NE12","v":"Name"},{"$f":"'6 - Input sheet - Employee data'!NF12","v":"Name"},{"$f":"'6 - Input sheet - Employee data'!NG12","v":"Name"},{"$f":"'6 - Input sheet - Employee data'!NH12","v":"Name"},{"$f":"'6 - Input sheet - Employee data'!NI12","v":"Name"},{"$f":"'6 - Input sheet - Employee data'!NJ12","v":"Name"},{"$f":"'6 - Input sheet - Employee data'!NK12","v":"Name"},{"$f":"'6 - Input sheet - Employee data'!NL12","v":"Name"},{"$f":"'6 - Input sheet - Employee data'!NM12","v":"Name"},{"$f":"'6 - Input sheet - Employee data'!NN12","v":"Name"},{"$f":"'6 - Input sheet - Employee data'!NO12","v":"Name"},{"$f":"'6 - Input sheet - Employee data'!NP12","v":"Name"},{"$f":"'6 - Input sheet - Employee data'!NQ12","v":"Name"},{"$f":"'6 - Input sheet - Employee data'!NR12","v":"Name"},{"$f":"'6 - Input sheet - Employee data'!NS12","v":"Name"},{"$f":"'6 - Input sheet - Employee data'!NT12","v":"Name"},{"$f":"'6 - Input sheet - Employee data'!NU12","v":"Name"},{"$f":"'6 - Input sheet - Employee data'!NV12","v":"Name"},{"$f":"'6 - Input sheet - Employee data'!NW12","v":"Name"},{"$f":"'6 - Input sheet - Employee data'!NX12","v":"Name"},{"$f":"'6 - Input sheet - Employee data'!NY12","v":"Name"},{"$f":"'6 - Input sheet - Employee data'!NZ12","v":"Name"},{"$f":"'6 - Input sheet - Employee data'!OA12","v":"Name"},{"$f":"'6 - Input sheet - Employee data'!OB12","v":"Name"},{"$f":"'6 - Input sheet - Employee data'!OC12","v":"Name"},{"$f":"'6 - Input sheet - Employee data'!OD12","v":"Name"},{"$f":"'6 - Input sheet - Employee data'!OE12","v":"Name"},{"$f":"'6 - Input sheet - Employee data'!OF12","v":"Name"},{"$f":"'6 - Input sheet - Employee data'!OG12","v":"Name"},{"$f":"'6 - Input sheet - Employee data'!OH12","v":"Name"},{"$f":"'6 - Input sheet - Employee data'!OI12","v":"Name"},{"$f":"'6 - Input sheet - Employee data'!OJ12","v":"Name"},{"$f":"'6 - Input sheet - Employee data'!OK12","v":"Name"},{"$f":"'6 - Input sheet - Employee data'!OL12","v":"Name"},{"$f":"'6 - Input sheet - Employee data'!OM12","v":"Name"},{"$f":"'6 - Input sheet - Employee data'!ON12","v":"Name"},{"$f":"'6 - Input sheet - Employee data'!OO12","v":"Name"},{"$f":"'6 - Input sheet - Employee data'!OP12","v":"Name"},{"$f":"'6 - Input sheet - Employee data'!OQ12","v":"Name"},{"$f":"'6 - Input sheet - Employee data'!OR12","v":"Name"},{"$f":"'6 - Input sheet - Employee data'!OS12","v":"Name"},{"$f":"'6 - Input sheet - Employee data'!OT12","v":"Name"},{"$f":"'6 - Input sheet - Employee data'!OU12","v":"Name"},{"$f":"'6 - Input sheet - Employee data'!OV12","v":"Name"},{"$f":"'6 - Input sheet - Employee data'!OW12","v":"Name"},{"$f":"'6 - Input sheet - Employee data'!OX12","v":"Name"},{"$f":"'6 - Input sheet - Employee data'!OY12","v":"Name"},{"$f":"'6 - Input sheet - Employee data'!OZ12","v":"Name"},{"$f":"'6 - Input sheet - Employee data'!PA12","v":"Name"},{"$f":"'6 - Input sheet - Employee data'!PB12","v":"Name"},{"$f":"'6 - Input sheet - Employee data'!PC12","v":"Name"},{"$f":"'6 - Input sheet - Employee data'!PD12","v":"Name"},{"$f":"'6 - Input sheet - Employee data'!PE12","v":"Name"},{"$f":"'6 - Input sheet - Employee data'!PF12","v":"Name"},{"$f":"'6 - Input sheet - Employee data'!PG12","v":"Name"},{"$f":"'6 - Input sheet - Employee data'!PH12","v":"Name"},{"$f":"'6 - Input sheet - Employee data'!PI12","v":"Name"},{"$f":"'6 - Input sheet - Employee data'!PJ12","v":"Name"},{"$f":"'6 - Input sheet - Employee data'!PK12","v":"Name"},{"$f":"'6 - Input sheet - Employee data'!PL12","v":"Name"},{"$f":"'6 - Input sheet - Employee data'!PM12","v":"Name"},{"$f":"'6 - Input sheet - Employee data'!PN12","v":"Name"},{"$f":"'6 - Input sheet - Employee data'!PO12","v":"Name"},{"$f":"'6 - Input sheet - Employee data'!PP12","v":"Name"},{"$f":"'6 - Input sheet - Employee data'!PQ12","v":"Name"},{"$f":"'6 - Input sheet - Employee data'!PR12","v":"Name"},{"$f":"'6 - Input sheet - Employee data'!PS12","v":"Name"},{"$f":"'6 - Input sheet - Employee data'!PT12","v":"Name"},{"$f":"'6 - Input sheet - Employee data'!PU12","v":"Name"},{"$f":"'6 - Input sheet - Employee data'!PV12","v":"Name"},{"$f":"'6 - Input sheet - Employee data'!PW12","v":"Name"},{"$f":"'6 - Input sheet - Employee data'!PX12","v":"Name"},{"$f":"'6 - Input sheet - Employee data'!PY12","v":"Name"},{"$f":"'6 - Input sheet - Employee data'!PZ12","v":"Name"},{"$f":"'6 - Input sheet - Employee data'!QA12","v":"Name"},{"$f":"'6 - Input sheet - Employee data'!QB12","v":"Name"},{"$f":"'6 - Input sheet - Employee data'!QC12","v":"Name"},{"$f":"'6 - Input sheet - Employee data'!QD12","v":"Name"},{"$f":"'6 - Input sheet - Employee data'!QE12","v":"Name"},{"$f":"'6 - Input sheet - Employee data'!QF12","v":"Name"},{"$f":"'6 - Input sheet - Employee data'!QG12","v":"Name"},{"$f":"'6 - Input sheet - Employee data'!QH12","v":"Name"},{"$f":"'6 - Input sheet - Employee data'!QI12","v":"Name"},{"$f":"'6 - Input sheet - Employee data'!QJ12","v":"Name"},{"$f":"'6 - Input sheet - Employee data'!QK12","v":"Name"},{"$f":"'6 - Input sheet - Employee data'!QL12","v":"Name"},{"$f":"'6 - Input sheet - Employee data'!QM12","v":"Name"},{"$f":"'6 - Input sheet - Employee data'!QN12","v":"Name"},{"$f":"'6 - Input sheet - Employee data'!QO12","v":"Name"},{"$f":"'6 - Input sheet - Employee data'!QP12","v":"Name"},{"$f":"'6 - Input sheet - Employee data'!QQ12","v":"Name"},{"$f":"'6 - Input sheet - Employee data'!QR12","v":"Name"},{"$f":"'6 - Input sheet - Employee data'!QS12","v":"Name"},{"$f":"'6 - Input sheet - Employee data'!QT12","v":"Name"},{"$f":"'6 - Input sheet - Employee data'!QU12","v":"Name"},{"$f":"'6 - Input sheet - Employee data'!QV12","v":"Name"},{"$f":"'6 - Input sheet - Employee data'!QW12","v":"Name"},{"$f":"'6 - Input sheet - Employee data'!QX12","v":"Name"},{"$f":"'6 - Input sheet - Employee data'!QY12","v":"Name"},{"$f":"'6 - Input sheet - Employee data'!QZ12","v":"Name"},{"$f":"'6 - Input sheet - Employee data'!RA12","v":"Name"},{"$f":"'6 - Input sheet - Employee data'!RB12","v":"Name"},{"$f":"'6 - Input sheet - Employee data'!RC12","v":"Name"},{"$f":"'6 - Input sheet - Employee data'!RD12","v":"Name"},{"$f":"'6 - Input sheet - Employee data'!RE12","v":"Name"},{"$f":"'6 - Input sheet - Employee data'!RF12","v":"Name"},{"$f":"'6 - Input sheet - Employee data'!RG12","v":"Name"},{"$f":"'6 - Input sheet - Employee data'!RH12","v":"Name"},{"$f":"'6 - Input sheet - Employee data'!RI12","v":"Name"},{"$f":"'6 - Input sheet - Employee data'!RJ12","v":"Name"},{"$f":"'6 - Input sheet - Employee data'!RK12","v":"Name"},{"$f":"'6 - Input sheet - Employee data'!RL12","v":"Name"},{"$f":"'6 - Input sheet - Employee data'!RM12","v":"Name"},{"$f":"'6 - Input sheet - Employee data'!RN12","v":"Name"},{"$f":"'6 - Input sheet - Employee data'!RO12","v":"Name"},{"$f":"'6 - Input sheet - Employee data'!RP12","v":"Name"},{"$f":"'6 - Input sheet - Employee data'!RQ12","v":"Name"},{"$f":"'6 - Input sheet - Employee data'!RR12","v":"Name"},{"$f":"'6 - Input sheet - Employee data'!RS12","v":"Name"},{"$f":"'6 - Input sheet - Employee data'!RT12","v":"Name"},{"$f":"'6 - Input sheet - Employee data'!RU12","v":"Name"},{"$f":"'6 - Input sheet - Employee data'!RV12","v":"Name"},{"$f":"'6 - Input sheet - Employee data'!RW12","v":"Name"},{"$f":"'6 - Input sheet - Employee data'!RX12","v":"Name"},{"$f":"'6 - Input sheet - Employee data'!RY12","v":"Name"},{"$f":"'6 - Input sheet - Employee data'!RZ12","v":"Name"},{"$f":"'6 - Input sheet - Employee data'!SA12","v":"Name"},{"$f":"'6 - Input sheet - Employee data'!SB12","v":"Name"},{"$f":"'6 - Input sheet - Employee data'!SC12","v":"Name"},{"$f":"'6 - Input sheet - Employee data'!SD12","v":"Name"},{"$f":"'6 - Input sheet - Employee data'!SE12","v":"Name"},{"$f":"'6 - Input sheet - Employee data'!SF12","v":"Name"},{"$f":"'6 - Input sheet - Employee data'!SG12","v":"Name"},{"$f":"'6 - Input sheet - Employee data'!SH12","v":"Name"}]
["Employee or Other Qualified Payee Identifier",null,{"$f":"'6 - Input sheet - Employee data'!C13","v":"Identifier"},{"$f":"'6 - Input sheet - Employee data'!D13","v":"Identifier"},{"$f":"'6 - Input sheet - Employee data'!E13","v":"Identifier"},{"$f":"'6 - Input sheet - Employee data'!F13","v":"Identifier"},{"$f":"'6 - Input sheet - Employee data'!G13","v":"Identifier"},{"$f":"'6 - Input sheet - Employee data'!H13","v":"Identifier"},{"$f":"'6 - Input sheet - Employee data'!I13","v":"Identifier"},{"$f":"'6 - Input sheet - Employee data'!J13","v":"Identifier"},{"$f":"'6 - Input sheet - Employee data'!K13","v":"Identifier"},{"$f":"'6 - Input sheet - Employee data'!L13","v":"Identifier"},{"$f":"'6 - Input sheet - Employee data'!M13","v":"Identifier"},{"$f":"'6 - Input sheet - Employee data'!N13","v":"Identifier"},{"$f":"'6 - Input sheet - Employee data'!O13","v":"Identifier"},{"$f":"'6 - Input sheet - Employee data'!P13","v":"Identifier"},{"$f":"'6 - Input sheet - Employee data'!Q13","v":"Identifier"},{"$f":"'6 - Input sheet - Employee data'!R13","v":"Identifier"},{"$f":"'6 - Input sheet - Employee data'!S13","v":"Identifier"},{"$f":"'6 - Input sheet - Employee data'!T13","v":"Identifier"},{"$f":"'6 - Input sheet - Employee data'!U13","v":"Identifier"},{"$f":"'6 - Input sheet - Employee data'!V13","v":"Identifier"},{"$f":"'6 - Input sheet - Employee data'!W13","v":"Identifier"},{"$f":"'6 - Input sheet - Employee data'!X13","v":"Identifier"},{"$f":"'6 - Input sheet - Employee data'!Y13","v":"Identifier"},{"$f":"'6 - Input sheet - Employee data'!Z13","v":"Identifier"},{"$f":"'6 - Input sheet - Employee data'!AA13","v":"Identifier"},{"$f":"'6 - Input sheet - Employee data'!AB13","v":"Identifier"},{"$f":"'6 - Input sheet - Employee data'!AC13","v":"Identifier"},{"$f":"'6 - Input sheet - Employee data'!AD13","v":"Identifier"},{"$f":"'6 - Input sheet - Employee data'!AE13","v":"Identifier"},{"$f":"'6 - Input sheet - Employee data'!AF13","v":"Identifier"},{"$f":"'6 - Input sheet - Employee data'!AG13","v":"Identifier"},{"$f":"'6 - Input sheet - Employee data'!AH13","v":"Identifier"},{"$f":"'6 - Input sheet - Employee data'!AI13","v":"Identifier"},{"$f":"'6 - Input sheet - Employee data'!AJ13","v":"Identifier"},{"$f":"'6 - Input sheet - Employee data'!AK13","v":"Identifier"},{"$f":"'6 - Input sheet - Employee data'!AL13","v":"Identifier"},{"$f":"'6 - Input sheet - Employee data'!AM13","v":"Identifier"},{"$f":"'6 - Input sheet - Employee data'!AN13","v":"Identifier"},{"$f":"'6 - Input sheet - Employee data'!AO13","v":"Identifier"},{"$f":"'6 - Input sheet - Employee data'!AP13","v":"Identifier"},{"$f":"'6 - Input sheet - Employee data'!AQ13","v":"Identifier"},{"$f":"'6 - Input sheet - Employee data'!AR13","v":"Identifier"},{"$f":"'6 - Input sheet - Employee data'!AS13","v":"Identifier"},{"$f":"'6 - Input sheet - Employee data'!AT13","v":"Identifier"},{"$f":"'6 - Input sheet - Employee data'!AU13","v":"Identifier"},{"$f":"'6 - Input sheet - Employee data'!AV13","v":"Identifier"},{"$f":"'6 - Input sheet - Employee data'!AW13","v":"Identifier"},{"$f":"'6 - Input sheet - Employee data'!AX13","v":"Identifier"},{"$f":"'6 - Input sheet - Employee data'!AY13","v":"Identifier"},{"$f":"'6 - Input sheet - Employee data'!AZ13","v":"Identifier"},{"$f":"'6 - Input sheet - Employee data'!BA13","v":"Identifier"},{"$f":"'6 - Input sheet - Employee data'!BB13","v":"Identifier"},{"$f":"'6 - Input sheet - Employee data'!BC13","v":"Identifier"},{"$f":"'6 - Input sheet - Employee data'!BD13","v":"Identifier"},{"$f":"'6 - Input sheet - Employee data'!BE13","v":"Identifier"},{"$f":"'6 - Input sheet - Employee data'!BF13","v":"Identifier"},{"$f":"'6 - Input sheet - Employee data'!BG13","v":"Identifier"},{"$f":"'6 - Input sheet - Employee data'!BH13","v":"Identifier"},{"$f":"'6 - Input sheet - Employee data'!BI13","v":"Identifier"},{"$f":"'6 - Input sheet - Employee data'!BJ13","v":"Identifier"},{"$f":"'6 - Input sheet - Employee data'!BK13","v":"Identifier"},{"$f":"'6 - Input sheet - Employee data'!BL13","v":"Identifier"},{"$f":"'6 - Input sheet - Employee data'!BM13","v":"Identifier"},{"$f":"'6 - Input sheet - Employee data'!BN13","v":"Identifier"},{"$f":"'6 - Input sheet - Employee data'!BO13","v":"Identifier"},{"$f":"'6 - Input sheet - Employee data'!BP13","v":"Identifier"},{"$f":"'6 - Input sheet - Employee data'!BQ13","v":"Identifier"},{"$f":"'6 - Input sheet - Employee data'!BR13","v":"Identifier"},{"$f":"'6 - Input sheet - Employee data'!BS13","v":"Identifier"},{"$f":"'6 - Input sheet - Employee data'!BT13","v":"Identifier"},{"$f":"'6 - Input sheet - Employee data'!BU13","v":"Identifier"},{"$f":"'6 - Input sheet - Employee data'!BV13","v":"Identifier"},{"$f":"'6 - Input sheet - Employee data'!BW13","v":"Identifier"},{"$f":"'6 - Input sheet - Employee data'!BX13","v":"Identifier"},{"$f":"'6 - Input sheet - Employee data'!BY13","v":"Identifier"},{"$f":"'6 - Input sheet - Employee data'!BZ13","v":"Identifier"},{"$f":"'6 - Input sheet - Employee data'!CA13","v":"Identifier"},{"$f":"'6 - Input sheet - Employee data'!CB13","v":"Identifier"},{"$f":"'6 - Input sheet - Employee data'!CC13","v":"Identifier"},{"$f":"'6 - Input sheet - Employee data'!CD13","v":"Identifier"},{"$f":"'6 - Input sheet - Employee data'!CE13","v":"Identifier"},{"$f":"'6 - Input sheet - Employee data'!CF13","v":"Identifier"},{"$f":"'6 - Input sheet - Employee data'!CG13","v":"Identifier"},{"$f":"'6 - Input sheet - Employee data'!CH13","v":"Identifier"},{"$f":"'6 - Input sheet - Employee data'!CI13","v":"Identifier"},{"$f":"'6 - Input sheet - Employee data'!CJ13","v":"Identifier"},{"$f":"'6 - Input sheet - Employee data'!CK13","v":"Identifier"},{"$f":"'6 - Input sheet - Employee data'!CL13","v":"Identifier"},{"$f":"'6 - Input sheet - Employee data'!CM13","v":"Identifier"},{"$f":"'6 - Input sheet - Employee data'!CN13","v":"Identifier"},{"$f":"'6 - Input sheet - Employee data'!CO13","v":"Identifier"},{"$f":"'6 - Input sheet - Employee data'!CP13","v":"Identifier"},{"$f":"'6 - Input sheet - Employee data'!CQ13","v":"Identifier"},{"$f":"'6 - Input sheet - Employee data'!CR13","v":"Identifier"},{"$f":"'6 - Input sheet - Employee data'!CS13","v":"Identifier"},{"$f":"'6 - Input sheet - Employee data'!CT13","v":"Identifier"},{"$f":"'6 - Input sheet - Employee data'!CU13","v":"Identifier"},{"$f":"'6 - Input sheet - Employee data'!CV13","v":"Identifier"},{"$f":"'6 - Input sheet - Employee data'!CW13","v":"Identifier"},{"$f":"'6 - Input sheet - Employee data'!CX13","v":"Identifier"},{"$f":"'6 - Input sheet - Employee data'!CY13","v":"Identifier"},{"$f":"'6 - Input sheet - Employee data'!CZ13","v":"Identifier"},{"$f":"'6 - Input sheet - Employee data'!DA13","v":"Identifier"},{"$f":"'6 - Input sheet - Employee data'!DB13","v":"Identifier"},{"$f":"'6 - Input sheet - Employee data'!DC13","v":"Identifier"},{"$f":"'6 - Input sheet - Employee data'!DD13","v":"Identifier"},{"$f":"'6 - Input sheet - Employee data'!DE13","v":"Identifier"},{"$f":"'6 - Input sheet - Employee data'!DF13","v":"Identifier"},{"$f":"'6 - Input sheet - Employee data'!DG13","v":"Identifier"},{"$f":"'6 - Input sheet - Employee data'!DH13","v":"Identifier"},{"$f":"'6 - Input sheet - Employee data'!DI13","v":"Identifier"},{"$f":"'6 - Input sheet - Employee data'!DJ13","v":"Identifier"},{"$f":"'6 - Input sheet - Employee data'!DK13","v":"Identifier"},{"$f":"'6 - Input sheet - Employee data'!DL13","v":"Identifier"},{"$f":"'6 - Input sheet - Employee data'!DM13","v":"Identifier"},{"$f":"'6 - Input sheet - Employee data'!DN13","v":"Identifier"},{"$f":"'6 - Input sheet - Employee data'!DO13","v":"Identifier"},{"$f":"'6 - Input sheet - Employee data'!DP13","v":"Identifier"},{"$f":"'6 - Input sheet - Employee data'!DQ13","v":"Identifier"},{"$f":"'6 - Input sheet - Employee data'!DR13","v":"Identifier"},{"$f":"'6 - Input sheet - Employee data'!DS13","v":"Identifier"},{"$f":"'6 - Input sheet - Employee data'!DT13","v":"Identifier"},{"$f":"'6 - Input sheet - Employee data'!DU13","v":"Identifier"},{"$f":"'6 - Input sheet - Employee data'!DV13","v":"Identifier"},{"$f":"'6 - Input sheet - Employee data'!DW13","v":"Identifier"},{"$f":"'6 - Input sheet - Employee data'!DX13","v":"Identifier"},{"$f":"'6 - Input sheet - Employee data'!DY13","v":"Identifier"},{"$f":"'6 - Input sheet - Employee data'!DZ13","v":"Identifier"},{"$f":"'6 - Input sheet - Employee data'!EA13","v":"Identifier"},{"$f":"'6 - Input sheet - Employee data'!EB13","v":"Identifier"},{"$f":"'6 - Input sheet - Employee data'!EC13","v":"Identifier"},{"$f":"'6 - Input sheet - Employee data'!ED13","v":"Identifier"},{"$f":"'6 - Input sheet - Employee data'!EE13","v":"Identifier"},{"$f":"'6 - Input sheet - Employee data'!EF13","v":"Identifier"},{"$f":"'6 - Input sheet - Employee data'!EG13","v":"Identifier"},{"$f":"'6 - Input sheet - Employee data'!EH13","v":"Identifier"},{"$f":"'6 - Input sheet - Employee data'!EI13","v":"Identifier"},{"$f":"'6 - Input sheet - Employee data'!EJ13","v":"Identifier"},{"$f":"'6 - Input sheet - Employee data'!EK13","v":"Identifier"},{"$f":"'6 - Input sheet - Employee data'!EL13","v":"Identifier"},{"$f":"'6 - Input sheet - Employee data'!EM13","v":"Identifier"},{"$f":"'6 - Input sheet - Employee data'!EN13","v":"Identifier"},{"$f":"'6 - Input sheet - Employee data'!EO13","v":"Identifier"},{"$f":"'6 - Input sheet - Employee data'!EP13","v":"Identifier"},{"$f":"'6 - Input sheet - Employee data'!EQ13","v":"Identifier"},{"$f":"'6 - Input sheet - Employee data'!ER13","v":"Identifier"},{"$f":"'6 - Input sheet - Employee data'!ES13","v":"Identifier"},{"$f":"'6 - Input sheet - Employee data'!ET13","v":"Identifier"},{"$f":"'6 - Input sheet - Employee data'!EU13","v":"Identifier"},{"$f":"'6 - Input sheet - Employee data'!EV13","v":"Identifier"},{"$f":"'6 - Input sheet - Employee data'!EW13","v":"Identifier"},{"$f":"'6 - Input sheet - Employee data'!EX13","v":"Identifier"},{"$f":"'6 - Input sheet - Employee data'!EY13","v":"Identifier"},{"$f":"'6 - Input sheet - Employee data'!EZ13","v":"Identifier"},{"$f":"'6 - Input sheet - Employee data'!FA13","v":"Identifier"},{"$f":"'6 - Input sheet - Employee data'!FB13","v":"Identifier"},{"$f":"'6 - Input sheet - Employee data'!FC13","v":"Identifier"},{"$f":"'6 - Input sheet - Employee data'!FD13","v":"Identifier"},{"$f":"'6 - Input sheet - Employee data'!FE13","v":"Identifier"},{"$f":"'6 - Input sheet - Employee data'!FF13","v":"Identifier"},{"$f":"'6 - Input sheet - Employee data'!FG13","v":"Identifier"},{"$f":"'6 - Input sheet - Employee data'!FH13","v":"Identifier"},{"$f":"'6 - Input sheet - Employee data'!FI13","v":"Identifier"},{"$f":"'6 - Input sheet - Employee data'!FJ13","v":"Identifier"},{"$f":"'6 - Input sheet - Employee data'!FK13","v":"Identifier"},{"$f":"'6 - Input sheet - Employee data'!FL13","v":"Identifier"},{"$f":"'6 - Input sheet - Employee data'!FM13","v":"Identifier"},{"$f":"'6 - Input sheet - Employee data'!FN13","v":"Identifier"},{"$f":"'6 - Input sheet - Employee data'!FO13","v":"Identifier"},{"$f":"'6 - Input sheet - Employee data'!FP13","v":"Identifier"},{"$f":"'6 - Input sheet - Employee data'!FQ13","v":"Identifier"},{"$f":"'6 - Input sheet - Employee data'!FR13","v":"Identifier"},{"$f":"'6 - Input sheet - Employee data'!FS13","v":"Identifier"},{"$f":"'6 - Input sheet - Employee data'!FT13","v":"Identifier"},{"$f":"'6 - Input sheet - Employee data'!FU13","v":"Identifier"},{"$f":"'6 - Input sheet - Employee data'!FV13","v":"Identifier"},{"$f":"'6 - Input sheet - Employee data'!FW13","v":"Identifier"},{"$f":"'6 - Input sheet - Employee data'!FX13","v":"Identifier"},{"$f":"'6 - Input sheet - Employee data'!FY13","v":"Identifier"},{"$f":"'6 - Input sheet - Employee data'!FZ13","v":"Identifier"},{"$f":"'6 - Input sheet - Employee data'!GA13","v":"Identifier"},{"$f":"'6 - Input sheet - Employee data'!GB13","v":"Identifier"},{"$f":"'6 - Input sheet - Employee data'!GC13","v":"Identifier"},{"$f":"'6 - Input sheet - Employee data'!GD13","v":"Identifier"},{"$f":"'6 - Input sheet - Employee data'!GE13","v":"Identifier"},{"$f":"'6 - Input sheet - Employee data'!GF13","v":"Identifier"},{"$f":"'6 - Input sheet - Employee data'!GG13","v":"Identifier"},{"$f":"'6 - Input sheet - Employee data'!GH13","v":"Identifier"},{"$f":"'6 - Input sheet - Employee data'!GI13","v":"Identifier"},{"$f":"'6 - Input sheet - Employee data'!GJ13","v":"Identifier"},{"$f":"'6 - Input sheet - Employee data'!GK13","v":"Identifier"},{"$f":"'6 - Input sheet - Employee data'!GL13","v":"Identifier"},{"$f":"'6 - Input sheet - Employee data'!GM13","v":"Identifier"},{"$f":"'6 - Input sheet - Employee data'!GN13","v":"Identifier"},{"$f":"'6 - Input sheet - Employee data'!GO13","v":"Identifier"},{"$f":"'6 - Input sheet - Employee data'!GP13","v":"Identifier"},{"$f":"'6 - Input sheet - Employee data'!GQ13","v":"Identifier"},{"$f":"'6 - Input sheet - Employee data'!GR13","v":"Identifier"},{"$f":"'6 - Input sheet - Employee data'!GS13","v":"Identifier"},{"$f":"'6 - Input sheet - Employee data'!GT13","v":"Identifier"},{"$f":"'6 - Input sheet - Employee data'!GU13","v":"Identifier"},{"$f":"'6 - Input sheet - Employee data'!GV13","v":"Identifier"},{"$f":"'6 - Input sheet - Employee data'!GW13","v":"Identifier"},{"$f":"'6 - Input sheet - Employee data'!GX13","v":"Identifier"},{"$f":"'6 - Input sheet - Employee data'!GY13","v":"Identifier"},{"$f":"'6 - Input sheet - Employee data'!GZ13","v":"Identifier"},{"$f":"'6 - Input sheet - Employee data'!HA13","v":"Identifier"},{"$f":"'6 - Input sheet - Employee data'!HB13","v":"Identifier"},{"$f":"'6 - Input sheet - Employee data'!HC13","v":"Identifier"},{"$f":"'6 - Input sheet - Employee data'!HD13","v":"Identifier"},{"$f":"'6 - Input sheet - Employee data'!HE13","v":"Identifier"},{"$f":"'6 - Input sheet - Employee data'!HF13","v":"Identifier"},{"$f":"'6 - Input sheet - Employee data'!HG13","v":"Identifier"},{"$f":"'6 - Input sheet - Employee data'!HH13","v":"Identifier"},{"$f":"'6 - Input sheet - Employee data'!HI13","v":"Identifier"},{"$f":"'6 - Input sheet - Employee data'!HJ13","v":"Identifier"},{"$f":"'6 - Input sheet - Employee data'!HK13","v":"Identifier"},{"$f":"'6 - Input sheet - Employee data'!HL13","v":"Identifier"},{"$f":"'6 - Input sheet - Employee data'!HM13","v":"Identifier"},{"$f":"'6 - Input sheet - Employee data'!HN13","v":"Identifier"},{"$f":"'6 - Input sheet - Employee data'!HO13","v":"Identifier"},{"$f":"'6 - Input sheet - Employee data'!HP13","v":"Identifier"},{"$f":"'6 - Input sheet - Employee data'!HQ13","v":"Identifier"},{"$f":"'6 - Input sheet - Employee data'!HR13","v":"Identifier"},{"$f":"'6 - Input sheet - Employee data'!HS13","v":"Identifier"},{"$f":"'6 - Input sheet - Employee data'!HT13","v":"Identifier"},{"$f":"'6 - Input sheet - Employee data'!HU13","v":"Identifier"},{"$f":"'6 - Input sheet - Employee data'!HV13","v":"Identifier"},{"$f":"'6 - Input sheet - Employee data'!HW13","v":"Identifier"},{"$f":"'6 - Input sheet - Employee data'!HX13","v":"Identifier"},{"$f":"'6 - Input sheet - Employee data'!HY13","v":"Identifier"},{"$f":"'6 - Input sheet - Employee data'!HZ13","v":"Identifier"},{"$f":"'6 - Input sheet - Employee data'!IA13","v":"Identifier"},{"$f":"'6 - Input sheet - Employee data'!IB13","v":"Identifier"},{"$f":"'6 - Input sheet - Employee data'!IC13","v":"Identifier"},{"$f":"'6 - Input sheet - Employee data'!ID13","v":"Identifier"},{"$f":"'6 - Input sheet - Employee data'!IE13","v":"Identifier"},{"$f":"'6 - Input sheet - Employee data'!IF13","v":"Identifier"},{"$f":"'6 - Input sheet - Employee data'!IG13","v":"Identifier"},{"$f":"'6 - Input sheet - Employee data'!IH13","v":"Identifier"},{"$f":"'6 - Input sheet - Employee data'!II13","v":"Identifier"},{"$f":"'6 - Input sheet - Employee data'!IJ13","v":"Identifier"},{"$f":"'6 - Input sheet - Employee data'!IK13","v":"Identifier"},{"$f":"'6 - Input sheet - Employee data'!IL13","v":"Identifier"},{"$f":"'6 - Input sheet - Employee data'!IM13","v":"Identifier"},{"$f":"'6 - Input sheet - Employee data'!IN13","v":"Identifier"},{"$f":"'6 - Input sheet - Employee data'!IO13","v":"Identifier"},{"$f":"'6 - Input sheet - Employee data'!IP13","v":"Identifier"},{"$f":"'6 - Input sheet - Employee data'!IQ13","v":"Identifier"},{"$f":"'6 - Input sheet - Employee data'!IR13","v":"Identifier"},{"$f":"'6 - Input sheet - Employee data'!IS13","v":"Identifier"},{"$f":"'6 - Input sheet - Employee data'!IT13","v":"Identifier"},{"$f":"'6 - Input sheet - Employee data'!IU13","v":"Identifier"},{"$f":"'6 - Input sheet - Employee data'!IV13","v":"Identifier"},{"$f":"'6 - Input sheet - Employee data'!IW13","v":"Identifier"},{"$f":"'6 - Input sheet - Employee data'!IX13","v":"Identifier"},{"$f":"'6 - Input sheet - Employee data'!IY13","v":"Identifier"},{"$f":"'6 - Input sheet - Employee data'!IZ13","v":"Identifier"},{"$f":"'6 - Input sheet - Employee data'!JA13","v":"Identifier"},{"$f":"'6 - Input sheet - Employee data'!JB13","v":"Identifier"},{"$f":"'6 - Input sheet - Employee data'!JC13","v":"Identifier"},{"$f":"'6 - Input sheet - Employee data'!JD13","v":"Identifier"},{"$f":"'6 - Input sheet - Employee data'!JE13","v":"Identifier"},{"$f":"'6 - Input sheet - Employee data'!JF13","v":"Identifier"},{"$f":"'6 - Input sheet - Employee data'!JG13","v":"Identifier"},{"$f":"'6 - Input sheet - Employee data'!JH13","v":"Identifier"},{"$f":"'6 - Input sheet - Employee data'!JI13","v":"Identifier"},{"$f":"'6 - Input sheet - Employee data'!JJ13","v":"Identifier"},{"$f":"'6 - Input sheet - Employee data'!JK13","v":"Identifier"},{"$f":"'6 - Input sheet - Employee data'!JL13","v":"Identifier"},{"$f":"'6 - Input sheet - Employee data'!JM13","v":"Identifier"},{"$f":"'6 - Input sheet - Employee data'!JN13","v":"Identifier"},{"$f":"'6 - Input sheet - Employee data'!JO13","v":"Identifier"},{"$f":"'6 - Input sheet - Employee data'!JP13","v":"Identifier"},{"$f":"'6 - Input sheet - Employee data'!JQ13","v":"Identifier"},{"$f":"'6 - Input sheet - Employee data'!JR13","v":"Identifier"},{"$f":"'6 - Input sheet - Employee data'!JS13","v":"Identifier"},{"$f":"'6 - Input sheet - Employee data'!JT13","v":"Identifier"},{"$f":"'6 - Input sheet - Employee data'!JU13","v":"Identifier"},{"$f":"'6 - Input sheet - Employee data'!JV13","v":"Identifier"},{"$f":"'6 - Input sheet - Employee data'!JW13","v":"Identifier"},{"$f":"'6 - Input sheet - Employee data'!JX13","v":"Identifier"},{"$f":"'6 - Input sheet - Employee data'!JY13","v":"Identifier"},{"$f":"'6 - Input sheet - Employee data'!JZ13","v":"Identifier"},{"$f":"'6 - Input sheet - Employee data'!KA13","v":"Identifier"},{"$f":"'6 - Input sheet - Employee data'!KB13","v":"Identifier"},{"$f":"'6 - Input sheet - Employee data'!KC13","v":"Identifier"},{"$f":"'6 - Input sheet - Employee data'!KD13","v":"Identifier"},{"$f":"'6 - Input sheet - Employee data'!KE13","v":"Identifier"},{"$f":"'6 - Input sheet - Employee data'!KF13","v":"Identifier"},{"$f":"'6 - Input sheet - Employee data'!KG13","v":"Identifier"},{"$f":"'6 - Input sheet - Employee data'!KH13","v":"Identifier"},{"$f":"'6 - Input sheet - Employee data'!KI13","v":"Identifier"},{"$f":"'6 - Input sheet - Employee data'!KJ13","v":"Identifier"},{"$f":"'6 - Input sheet - Employee data'!KK13","v":"Identifier"},{"$f":"'6 - Input sheet - Employee data'!KL13","v":"Identifier"},{"$f":"'6 - Input sheet - Employee data'!KM13","v":"Identifier"},{"$f":"'6 - Input sheet - Employee data'!KN13","v":"Identifier"},{"$f":"'6 - Input sheet - Employee data'!KO13","v":"Identifier"},{"$f":"'6 - Input sheet - Employee data'!KP13","v":"Identifier"},{"$f":"'6 - Input sheet - Employee data'!KQ13","v":"Identifier"},{"$f":"'6 - Input sheet - Employee data'!KR13","v":"Identifier"},{"$f":"'6 - Input sheet - Employee data'!KS13","v":"Identifier"},{"$f":"'6 - Input sheet - Employee data'!KT13","v":"Identifier"},{"$f":"'6 - Input sheet - Employee data'!KU13","v":"Identifier"},{"$f":"'6 - Input sheet - Employee data'!KV13","v":"Identifier"},{"$f":"'6 - Input sheet - Employee data'!KW13","v":"Identifier"},{"$f":"'6 - Input sheet - Employee data'!KX13","v":"Identifier"},{"$f":"'6 - Input sheet - Employee data'!KY13","v":"Identifier"},{"$f":"'6 - Input sheet - Employee data'!KZ13","v":"Identifier"},{"$f":"'6 - Input sheet - Employee data'!LA13","v":"Identifier"},{"$f":"'6 - Input sheet - Employee data'!LB13","v":"Identifier"},{"$f":"'6 - Input sheet - Employee data'!LC13","v":"Identifier"},{"$f":"'6 - Input sheet - Employee data'!LD13","v":"Identifier"},{"$f":"'6 - Input sheet - Employee data'!LE13","v":"Identifier"},{"$f":"'6 - Input sheet - Employee data'!LF13","v":"Identifier"},{"$f":"'6 - Input sheet - Employee data'!LG13","v":"Identifier"},{"$f":"'6 - Input sheet - Employee data'!LH13","v":"Identifier"},{"$f":"'6 - Input sheet - Employee data'!LI13","v":"Identifier"},{"$f":"'6 - Input sheet - Employee data'!LJ13","v":"Identifier"},{"$f":"'6 - Input sheet - Employee data'!LK13","v":"Identifier"},{"$f":"'6 - Input sheet - Employee data'!LL13","v":"Identifier"},{"$f":"'6 - Input sheet - Employee data'!LM13","v":"Identifier"},{"$f":"'6 - Input sheet - Employee data'!LN13","v":"Identifier"},{"$f":"'6 - Input sheet - Employee data'!LO13","v":"Identifier"},{"$f":"'6 - Input sheet - Employee data'!LP13","v":"Identifier"},{"$f":"'6 - Input sheet - Employee data'!LQ13","v":"Identifier"},{"$f":"'6 - Input sheet - Employee data'!LR13","v":"Identifier"},{"$f":"'6 - Input sheet - Employee data'!LS13","v":"Identifier"},{"$f":"'6 - Input sheet - Employee data'!LT13","v":"Identifier"},{"$f":"'6 - Input sheet - Employee data'!LU13","v":"Identifier"},{"$f":"'6 - Input sheet - Employee data'!LV13","v":"Identifier"},{"$f":"'6 - Input sheet - Employee data'!LW13","v":"Identifier"},{"$f":"'6 - Input sheet - Employee data'!LX13","v":"Identifier"},{"$f":"'6 - Input sheet - Employee data'!LY13","v":"Identifier"},{"$f":"'6 - Input sheet - Employee data'!LZ13","v":"Identifier"},{"$f":"'6 - Input sheet - Employee data'!MA13","v":"Identifier"},{"$f":"'6 - Input sheet - Employee data'!MB13","v":"Identifier"},{"$f":"'6 - Input sheet - Employee data'!MC13","v":"Identifier"},{"$f":"'6 - Input sheet - Employee data'!MD13","v":"Identifier"},{"$f":"'6 - Input sheet - Employee data'!ME13","v":"Identifier"},{"$f":"'6 - Input sheet - Employee data'!MF13","v":"Identifier"},{"$f":"'6 - Input sheet - Employee data'!MG13","v":"Identifier"},{"$f":"'6 - Input sheet - Employee data'!MH13","v":"Identifier"},{"$f":"'6 - Input sheet - Employee data'!MI13","v":"Identifier"},{"$f":"'6 - Input sheet - Employee data'!MJ13","v":"Identifier"},{"$f":"'6 - Input sheet - Employee data'!MK13","v":"Identifier"},{"$f":"'6 - Input sheet - Employee data'!ML13","v":"Identifier"},{"$f":"'6 - Input sheet - Employee data'!MM13","v":"Identifier"},{"$f":"'6 - Input sheet - Employee data'!MN13","v":"Identifier"},{"$f":"'6 - Input sheet - Employee data'!MO13","v":"Identifier"},{"$f":"'6 - Input sheet - Employee data'!MP13","v":"Identifier"},{"$f":"'6 - Input sheet - Employee data'!MQ13","v":"Identifier"},{"$f":"'6 - Input sheet - Employee data'!MR13","v":"Identifier"},{"$f":"'6 - Input sheet - Employee data'!MS13","v":"Identifier"},{"$f":"'6 - Input sheet - Employee data'!MT13","v":"Identifier"},{"$f":"'6 - Input sheet - Employee data'!MU13","v":"Identifier"},{"$f":"'6 - Input sheet - Employee data'!MV13","v":"Identifier"},{"$f":"'6 - Input sheet - Employee data'!MW13","v":"Identifier"},{"$f":"'6 - Input sheet - Employee data'!MX13","v":"Identifier"},{"$f":"'6 - Input sheet - Employee data'!MY13","v":"Identifier"},{"$f":"'6 - Input sheet - Employee data'!MZ13","v":"Identifier"},{"$f":"'6 - Input sheet - Employee data'!NA13","v":"Identifier"},{"$f":"'6 - Input sheet - Employee data'!NB13","v":"Identifier"},{"$f":"'6 - Input sheet - Employee data'!NC13","v":"Identifier"},{"$f":"'6 - Input sheet - Employee data'!ND13","v":"Identifier"},{"$f":"'6 - Input sheet - Employee data'!NE13","v":"Identifier"},{"$f":"'6 - Input sheet - Employee data'!NF13","v":"Identifier"},{"$f":"'6 - Input sheet - Employee data'!NG13","v":"Identifier"},{"$f":"'6 - Input sheet - Employee data'!NH13","v":"Identifier"},{"$f":"'6 - Input sheet - Employee data'!NI13","v":"Identifier"},{"$f":"'6 - Input sheet - Employee data'!NJ13","v":"Identifier"},{"$f":"'6 - Input sheet - Employee data'!NK13","v":"Identifier"},{"$f":"'6 - Input sheet - Employee data'!NL13","v":"Identifier"},{"$f":"'6 - Input sheet - Employee data'!NM13","v":"Identifier"},{"$f":"'6 - Input sheet - Employee data'!NN13","v":"Identifier"},{"$f":"'6 - Input sheet - Employee data'!NO13","v":"Identifier"},{"$f":"'6 - Input sheet - Employee data'!NP13","v":"Identifier"},{"$f":"'6 - Input sheet - Employee data'!NQ13","v":"Identifier"},{"$f":"'6 - Input sheet - Employee data'!NR13","v":"Identifier"},{"$f":"'6 - Input sheet - Employee data'!NS13","v":"Identifier"},{"$f":"'6 - Input sheet - Employee data'!NT13","v":"Identifier"},{"$f":"'6 - Input sheet - Employee data'!NU13","v":"Identifier"},{"$f":"'6 - Input sheet - Employee data'!NV13","v":"Identifier"},{"$f":"'6 - Input sheet - Employee data'!NW13","v":"Identifier"},{"$f":"'6 - Input sheet - Employee data'!NX13","v":"Identifier"},{"$f":"'6 - Input sheet - Employee data'!NY13","v":"Identifier"},{"$f":"'6 - Input sheet - Employee data'!NZ13","v":"Identifier"},{"$f":"'6 - Input sheet - Employee data'!OA13","v":"Identifier"},{"$f":"'6 - Input sheet - Employee data'!OB13","v":"Identifier"},{"$f":"'6 - Input sheet - Employee data'!OC13","v":"Identifier"},{"$f":"'6 - Input sheet - Employee data'!OD13","v":"Identifier"},{"$f":"'6 - Input sheet - Employee data'!OE13","v":"Identifier"},{"$f":"'6 - Input sheet - Employee data'!OF13","v":"Identifier"},{"$f":"'6 - Input sheet - Employee data'!OG13","v":"Identifier"},{"$f":"'6 - Input sheet - Employee data'!OH13","v":"Identifier"},{"$f":"'6 - Input sheet - Employee data'!OI13","v":"Identifier"},{"$f":"'6 - Input sheet - Employee data'!OJ13","v":"Identifier"},{"$f":"'6 - Input sheet - Employee data'!OK13","v":"Identifier"},{"$f":"'6 - Input sheet - Employee data'!OL13","v":"Identifier"},{"$f":"'6 - Input sheet - Employee data'!OM13","v":"Identifier"},{"$f":"'6 - Input sheet - Employee data'!ON13","v":"Identifier"},{"$f":"'6 - Input sheet - Employee data'!OO13","v":"Identifier"},{"$f":"'6 - Input sheet - Employee data'!OP13","v":"Identifier"},{"$f":"'6 - Input sheet - Employee data'!OQ13","v":"Identifier"},{"$f":"'6 - Input sheet - Employee data'!OR13","v":"Identifier"},{"$f":"'6 - Input sheet - Employee data'!OS13","v":"Identifier"},{"$f":"'6 - Input sheet - Employee data'!OT13","v":"Identifier"},{"$f":"'6 - Input sheet - Employee data'!OU13","v":"Identifier"},{"$f":"'6 - Input sheet - Employee data'!OV13","v":"Identifier"},{"$f":"'6 - Input sheet - Employee data'!OW13","v":"Identifier"},{"$f":"'6 - Input sheet - Employee data'!OX13","v":"Identifier"},{"$f":"'6 - Input sheet - Employee data'!OY13","v":"Identifier"},{"$f":"'6 - Input sheet - Employee data'!OZ13","v":"Identifier"},{"$f":"'6 - Input sheet - Employee data'!PA13","v":"Identifier"},{"$f":"'6 - Input sheet - Employee data'!PB13","v":"Identifier"},{"$f":"'6 - Input sheet - Employee data'!PC13","v":"Identifier"},{"$f":"'6 - Input sheet - Employee data'!PD13","v":"Identifier"},{"$f":"'6 - Input sheet - Employee data'!PE13","v":"Identifier"},{"$f":"'6 - Input sheet - Employee data'!PF13","v":"Identifier"},{"$f":"'6 - Input sheet - Employee data'!PG13","v":"Identifier"},{"$f":"'6 - Input sheet - Employee data'!PH13","v":"Identifier"},{"$f":"'6 - Input sheet - Employee data'!PI13","v":"Identifier"},{"$f":"'6 - Input sheet - Employee data'!PJ13","v":"Identifier"},{"$f":"'6 - Input sheet - Employee data'!PK13","v":"Identifier"},{"$f":"'6 - Input sheet - Employee data'!PL13","v":"Identifier"},{"$f":"'6 - Input sheet - Employee data'!PM13","v":"Identifier"},{"$f":"'6 - Input sheet - Employee data'!PN13","v":"Identifier"},{"$f":"'6 - Input sheet - Employee data'!PO13","v":"Identifier"},{"$f":"'6 - Input sheet - Employee data'!PP13","v":"Identifier"},{"$f":"'6 - Input sheet - Employee data'!PQ13","v":"Identifier"},{"$f":"'6 - Input sheet - Employee data'!PR13","v":"Identifier"},{"$f":"'6 - Input sheet - Employee data'!PS13","v":"Identifier"},{"$f":"'6 - Input sheet - Employee data'!PT13","v":"Identifier"},{"$f":"'6 - Input sheet - Employee data'!PU13","v":"Identifier"},{"$f":"'6 - Input sheet - Employee data'!PV13","v":"Identifier"},{"$f":"'6 - Input sheet - Employee data'!PW13","v":"Identifier"},{"$f":"'6 - Input sheet - Employee data'!PX13","v":"Identifier"},{"$f":"'6 - Input sheet - Employee data'!PY13","v":"Identifier"},{"$f":"'6 - Input sheet - Employee data'!PZ13","v":"Identifier"},{"$f":"'6 - Input sheet - Employee data'!QA13","v":"Identifier"},{"$f":"'6 - Input sheet - Employee data'!QB13","v":"Identifier"},{"$f":"'6 - Input sheet - Employee data'!QC13","v":"Identifier"},{"$f":"'6 - Input sheet - Employee data'!QD13","v":"Identifier"},{"$f":"'6 - Input sheet - Employee data'!QE13","v":"Identifier"},{"$f":"'6 - Input sheet - Employee data'!QF13","v":"Identifier"},{"$f":"'6 - Input sheet - Employee data'!QG13","v":"Identifier"},{"$f":"'6 - Input sheet - Employee data'!QH13","v":"Identifier"},{"$f":"'6 - Input sheet - Employee data'!QI13","v":"Identifier"},{"$f":"'6 - Input sheet - Employee data'!QJ13","v":"Identifier"},{"$f":"'6 - Input sheet - Employee data'!QK13","v":"Identifier"},{"$f":"'6 - Input sheet - Employee data'!QL13","v":"Identifier"},{"$f":"'6 - Input sheet - Employee data'!QM13","v":"Identifier"},{"$f":"'6 - Input sheet - Employee data'!QN13","v":"Identifier"},{"$f":"'6 - Input sheet - Employee data'!QO13","v":"Identifier"},{"$f":"'6 - Input sheet - Employee data'!QP13","v":"Identifier"},{"$f":"'6 - Input sheet - Employee data'!QQ13","v":"Identifier"},{"$f":"'6 - Input sheet - Employee data'!QR13","v":"Identifier"},{"$f":"'6 - Input sheet - Employee data'!QS13","v":"Identifier"},{"$f":"'6 - Input sheet - Employee data'!QT13","v":"Identifier"},{"$f":"'6 - Input sheet - Employee data'!QU13","v":"Identifier"},{"$f":"'6 - Input sheet - Employee data'!QV13","v":"Identifier"},{"$f":"'6 - Input sheet - Employee data'!QW13","v":"Identifier"},{"$f":"'6 - Input sheet - Employee data'!QX13","v":"Identifier"},{"$f":"'6 - Input sheet - Employee data'!QY13","v":"Identifier"},{"$f":"'6 - Input sheet - Employee data'!QZ13","v":"Identifier"},{"$f":"'6 - Input sheet - Employee data'!RA13","v":"Identifier"},{"$f":"'6 - Input sheet - Employee data'!RB13","v":"Identifier"},{"$f":"'6 - Input sheet - Employee data'!RC13","v":"Identifier"},{"$f":"'6 - Input sheet - Employee data'!RD13","v":"Identifier"},{"$f":"'6 - Input sheet - Employee data'!RE13","v":"Identifier"},{"$f":"'6 - Input sheet - Employee data'!RF13","v":"Identifier"},{"$f":"'6 - Input sheet - Employee data'!RG13","v":"Identifier"},{"$f":"'6 - Input sheet - Employee data'!RH13","v":"Identifier"},{"$f":"'6 - Input sheet - Employee data'!RI13","v":"Identifier"},{"$f":"'6 - Input sheet - Employee data'!RJ13","v":"Identifier"},{"$f":"'6 - Input sheet - Employee data'!RK13","v":"Identifier"},{"$f":"'6 - Input sheet - Employee data'!RL13","v":"Identifier"},{"$f":"'6 - Input sheet - Employee data'!RM13","v":"Identifier"},{"$f":"'6 - Input sheet - Employee data'!RN13","v":"Identifier"},{"$f":"'6 - Input sheet - Employee data'!RO13","v":"Identifier"},{"$f":"'6 - Input sheet - Employee data'!RP13","v":"Identifier"},{"$f":"'6 - Input sheet - Employee data'!RQ13","v":"Identifier"},{"$f":"'6 - Input sheet - Employee data'!RR13","v":"Identifier"},{"$f":"'6 - Input sheet - Employee data'!RS13","v":"Identifier"},{"$f":"'6 - Input sheet - Employee data'!RT13","v":"Identifier"},{"$f":"'6 - Input sheet - Employee data'!RU13","v":"Identifier"},{"$f":"'6 - Input sheet - Employee data'!RV13","v":"Identifier"},{"$f":"'6 - Input sheet - Employee data'!RW13","v":"Identifier"},{"$f":"'6 - Input sheet - Employee data'!RX13","v":"Identifier"},{"$f":"'6 - Input sheet - Employee data'!RY13","v":"Identifier"},{"$f":"'6 - Input sheet - Employee data'!RZ13","v":"Identifier"},{"$f":"'6 - Input sheet - Employee data'!SA13","v":"Identifier"},{"$f":"'6 - Input sheet - Employee data'!SB13","v":"Identifier"},{"$f":"'6 - Input sheet - Employee data'!SC13","v":"Identifier"},{"$f":"'6 - Input sheet - Employee data'!SD13","v":"Identifier"},{"$f":"'6 - Input sheet - Employee data'!SE13","v":"Identifier"},{"$f":"'6 - Input sheet - Employee data'!SF13","v":"Identifier"},{"$f":"'6 - Input sheet - Employee data'!SG13","v":"Identifier"},{"$f":"'6 - Input sheet - Employee data'!SH13","v":"Identifier"}]
["Type of Employee",null,{"$f":"'6 - Input sheet - Employee data'!C15","v":0},{"$f":"'6 - Input sheet - Employee data'!D15","v":0},{"$f":"'6 - Input sheet - Employee data'!E15","v":0},{"$f":"'6 - Input sheet - Employee data'!F15","v":0},{"$f":"'6 - Input sheet - Employee data'!G15","v":0},{"$f":"'6 - Input sheet - Employee data'!H15","v":0},{"$f":"'6 - Input sheet - Employee data'!I15","v":0},{"$f":"'6 - Input sheet - Employee data'!J15","v":0},{"$f":"'6 - Input sheet - Employee data'!K15","v":0},{"$f":"'6 - Input sheet - Employee data'!L15","v":0},{"$f":"'6 - Input sheet - Employee data'!M15","v":0},{"$f":"'6 - Input sheet - Employee data'!N15","v":0},{"$f":"'6 - Input sheet - Employee data'!O15","v":0},{"$f":"'6 - Input sheet - Employee data'!P15","v":0},{"$f":"'6 - Input sheet - Employee data'!Q15","v":0},{"$f":"'6 - Input sheet - Employee data'!R15","v":0},{"$f":"'6 - Input sheet - Employee data'!S15","v":0},{"$f":"'6 - Input sheet - Employee data'!T15","v":0},{"$f":"'6 - Input sheet - Employee data'!U15","v":0},{"$f":"'6 - Input sheet - Employee data'!V15","v":0},{"$f":"'6 - Input sheet - Employee data'!W15","v":0},{"$f":"'6 - Input sheet - Employee data'!X15","v":0},{"$f":"'6 - Input sheet - Employee data'!Y15","v":0},{"$f":"'6 - Input sheet - Employee data'!Z15","v":0},{"$f":"'6 - Input sheet - Employee data'!AA15","v":0},{"$f":"'6 - Input sheet - Employee data'!AB15","v":0},{"$f":"'6 - Input sheet - Employee data'!AC15","v":0},{"$f":"'6 - Input sheet - Employee data'!AD15","v":0},{"$f":"'6 - Input sheet - Employee data'!AE15","v":0},{"$f":"'6 - Input sheet - Employee data'!AF15","v":0},{"$f":"'6 - Input sheet - Employee data'!AG15","v":0},{"$f":"'6 - Input sheet - Employee data'!AH15","v":0},{"$f":"'6 - Input sheet - Employee data'!AI15","v":0},{"$f":"'6 - Input sheet - Employee data'!AJ15","v":0},{"$f":"'6 - Input sheet - Employee data'!AK15","v":0},{"$f":"'6 - Input sheet - Employee data'!AL15","v":0},{"$f":"'6 - Input sheet - Employee data'!AM15","v":0},{"$f":"'6 - Input sheet - Employee data'!AN15","v":0},{"$f":"'6 - Input sheet - Employee data'!AO15","v":0},{"$f":"'6 - Input sheet - Employee data'!AP15","v":0},{"$f":"'6 - Input sheet - Employee data'!AQ15","v":0},{"$f":"'6 - Input sheet - Employee data'!AR15","v":0},{"$f":"'6 - Input sheet - Employee data'!AS15","v":0},{"$f":"'6 - Input sheet - Employee data'!AT15","v":0},{"$f":"'6 - Input sheet - Employee data'!AU15","v":0},{"$f":"'6 - Input sheet - Employee data'!AV15","v":0},{"$f":"'6 - Input sheet - Employee data'!AW15","v":0},{"$f":"'6 - Input sheet - Employee data'!AX15","v":0},{"$f":"'6 - Input sheet - Employee data'!AY15","v":0},{"$f":"'6 - Input sheet - Employee data'!AZ15","v":0},{"$f":"'6 - Input sheet - Employee data'!BA15","v":0},{"$f":"'6 - Input sheet - Employee data'!BB15","v":0},{"$f":"'6 - Input sheet - Employee data'!BC15","v":0},{"$f":"'6 - Input sheet - Employee data'!BD15","v":0},{"$f":"'6 - Input sheet - Employee data'!BE15","v":0},{"$f":"'6 - Input sheet - Employee data'!BF15","v":0},{"$f":"'6 - Input sheet - Employee data'!BG15","v":0},{"$f":"'6 - Input sheet - Employee data'!BH15","v":0},{"$f":"'6 - Input sheet - Employee data'!BI15","v":0},{"$f":"'6 - Input sheet - Employee data'!BJ15","v":0},{"$f":"'6 - Input sheet - Employee data'!BK15","v":0},{"$f":"'6 - Input sheet - Employee data'!BL15","v":0},{"$f":"'6 - Input sheet - Employee data'!BM15","v":0},{"$f":"'6 - Input sheet - Employee data'!BN15","v":0},{"$f":"'6 - Input sheet - Employee data'!BO15","v":0},{"$f":"'6 - Input sheet - Employee data'!BP15","v":0},{"$f":"'6 - Input sheet - Employee data'!BQ15","v":0},{"$f":"'6 - Input sheet - Employee data'!BR15","v":0},{"$f":"'6 - Input sheet - Employee data'!BS15","v":0},{"$f":"'6 - Input sheet - Employee data'!BT15","v":0},{"$f":"'6 - Input sheet - Employee data'!BU15","v":0},{"$f":"'6 - Input sheet - Employee data'!BV15","v":0},{"$f":"'6 - Input sheet - Employee data'!BW15","v":0},{"$f":"'6 - Input sheet - Employee data'!BX15","v":0},{"$f":"'6 - Input sheet - Employee data'!BY15","v":0},{"$f":"'6 - Input sheet - Employee data'!BZ15","v":0},{"$f":"'6 - Input sheet - Employee data'!CA15","v":0},{"$f":"'6 - Input sheet - Employee data'!CB15","v":0},{"$f":"'6 - Input sheet - Employee data'!CC15","v":0},{"$f":"'6 - Input sheet - Employee data'!CD15","v":0},{"$f":"'6 - Input sheet - Employee data'!CE15","v":0},{"$f":"'6 - Input sheet - Employee data'!CF15","v":0},{"$f":"'6 - Input sheet - Employee data'!CG15","v":0},{"$f":"'6 - Input sheet - Employee data'!CH15","v":0},{"$f":"'6 - Input sheet - Employee data'!CI15","v":0},{"$f":"'6 - Input sheet - Employee data'!CJ15","v":0},{"$f":"'6 - Input sheet - Employee data'!CK15","v":0},{"$f":"'6 - Input sheet - Employee data'!CL15","v":0},{"$f":"'6 - Input sheet - Employee data'!CM15","v":0},{"$f":"'6 - Input sheet - Employee data'!CN15","v":0},{"$f":"'6 - Input sheet - Employee data'!CO15","v":0},{"$f":"'6 - Input sheet - Employee data'!CP15","v":0},{"$f":"'6 - Input sheet - Employee data'!CQ15","v":0},{"$f":"'6 - Input sheet - Employee data'!CR15","v":0},{"$f":"'6 - Input sheet - Employee data'!CS15","v":0},{"$f":"'6 - Input sheet - Employee data'!CT15","v":0},{"$f":"'6 - Input sheet - Employee data'!CU15","v":0},{"$f":"'6 - Input sheet - Employee data'!CV15","v":0},{"$f":"'6 - Input sheet - Employee data'!CW15","v":0},{"$f":"'6 - Input sheet - Employee data'!CX15","v":0},{"$f":"'6 - Input sheet - Employee data'!CY15","v":0},{"$f":"'6 - Input sheet - Employee data'!CZ15","v":0},{"$f":"'6 - Input sheet - Employee data'!DA15","v":0},{"$f":"'6 - Input sheet - Employee data'!DB15","v":0},{"$f":"'6 - Input sheet - Employee data'!DC15","v":0},{"$f":"'6 - Input sheet - Employee data'!DD15","v":0},{"$f":"'6 - Input sheet - Employee data'!DE15","v":0},{"$f":"'6 - Input sheet - Employee data'!DF15","v":0},{"$f":"'6 - Input sheet - Employee data'!DG15","v":0},{"$f":"'6 - Input sheet - Employee data'!DH15","v":0},{"$f":"'6 - Input sheet - Employee data'!DI15","v":0},{"$f":"'6 - Input sheet - Employee data'!DJ15","v":0},{"$f":"'6 - Input sheet - Employee data'!DK15","v":0},{"$f":"'6 - Input sheet - Employee data'!DL15","v":0},{"$f":"'6 - Input sheet - Employee data'!DM15","v":0},{"$f":"'6 - Input sheet - Employee data'!DN15","v":0},{"$f":"'6 - Input sheet - Employee data'!DO15","v":0},{"$f":"'6 - Input sheet - Employee data'!DP15","v":0},{"$f":"'6 - Input sheet - Employee data'!DQ15","v":0},{"$f":"'6 - Input sheet - Employee data'!DR15","v":0},{"$f":"'6 - Input sheet - Employee data'!DS15","v":0},{"$f":"'6 - Input sheet - Employee data'!DT15","v":0},{"$f":"'6 - Input sheet - Employee data'!DU15","v":0},{"$f":"'6 - Input sheet - Employee data'!DV15","v":0},{"$f":"'6 - Input sheet - Employee data'!DW15","v":0},{"$f":"'6 - Input sheet - Employee data'!DX15","v":0},{"$f":"'6 - Input sheet - Employee data'!DY15","v":0},{"$f":"'6 - Input sheet - Employee data'!DZ15","v":0},{"$f":"'6 - Input sheet - Employee data'!EA15","v":0},{"$f":"'6 - Input sheet - Employee data'!EB15","v":0},{"$f":"'6 - Input sheet - Employee data'!EC15","v":0},{"$f":"'6 - Input sheet - Employee data'!ED15","v":0},{"$f":"'6 - Input sheet - Employee data'!EE15","v":0},{"$f":"'6 - Input sheet - Employee data'!EF15","v":0},{"$f":"'6 - Input sheet - Employee data'!EG15","v":0},{"$f":"'6 - Input sheet - Employee data'!EH15","v":0},{"$f":"'6 - Input sheet - Employee data'!EI15","v":0},{"$f":"'6 - Input sheet - Employee data'!EJ15","v":0},{"$f":"'6 - Input sheet - Employee data'!EK15","v":0},{"$f":"'6 - Input sheet - Employee data'!EL15","v":0},{"$f":"'6 - Input sheet - Employee data'!EM15","v":0},{"$f":"'6 - Input sheet - Employee data'!EN15","v":0},{"$f":"'6 - Input sheet - Employee data'!EO15","v":0},{"$f":"'6 - Input sheet - Employee data'!EP15","v":0},{"$f":"'6 - Input sheet - Employee data'!EQ15","v":0},{"$f":"'6 - Input sheet - Employee data'!ER15","v":0},{"$f":"'6 - Input sheet - Employee data'!ES15","v":0},{"$f":"'6 - Input sheet - Employee data'!ET15","v":0},{"$f":"'6 - Input sheet - Employee data'!EU15","v":0},{"$f":"'6 - Input sheet - Employee data'!EV15","v":0},{"$f":"'6 - Input sheet - Employee data'!EW15","v":0},{"$f":"'6 - Input sheet - Employee data'!EX15","v":0},{"$f":"'6 - Input sheet - Employee data'!EY15","v":0},{"$f":"'6 - Input sheet - Employee data'!EZ15","v":0},{"$f":"'6 - Input sheet - Employee data'!FA15","v":0},{"$f":"'6 - Input sheet - Employee data'!FB15","v":0},{"$f":"'6 - Input sheet - Employee data'!FC15","v":0},{"$f":"'6 - Input sheet - Employee data'!FD15","v":0},{"$f":"'6 - Input sheet - Employee data'!FE15","v":0},{"$f":"'6 - Input sheet - Employee data'!FF15","v":0},{"$f":"'6 - Input sheet - Employee data'!FG15","v":0},{"$f":"'6 - Input sheet - Employee data'!FH15","v":0},{"$f":"'6 - Input sheet - Employee data'!FI15","v":0},{"$f":"'6 - Input sheet - Employee data'!FJ15","v":0},{"$f":"'6 - Input sheet - Employee data'!FK15","v":0},{"$f":"'6 - Input sheet - Employee data'!FL15","v":0},{"$f":"'6 - Input sheet - Employee data'!FM15","v":0},{"$f":"'6 - Input sheet - Employee data'!FN15","v":0},{"$f":"'6 - Input sheet - Employee data'!FO15","v":0},{"$f":"'6 - Input sheet - Employee data'!FP15","v":0},{"$f":"'6 - Input sheet - Employee data'!FQ15","v":0},{"$f":"'6 - Input sheet - Employee data'!FR15","v":0},{"$f":"'6 - Input sheet - Employee data'!FS15","v":0},{"$f":"'6 - Input sheet - Employee data'!FT15","v":0},{"$f":"'6 - Input sheet - Employee data'!FU15","v":0},{"$f":"'6 - Input sheet - Employee data'!FV15","v":0},{"$f":"'6 - Input sheet - Employee data'!FW15","v":0},{"$f":"'6 - Input sheet - Employee data'!FX15","v":0},{"$f":"'6 - Input sheet - Employee data'!FY15","v":0},{"$f":"'6 - Input sheet - Employee data'!FZ15","v":0},{"$f":"'6 - Input sheet - Employee data'!GA15","v":0},{"$f":"'6 - Input sheet - Employee data'!GB15","v":0},{"$f":"'6 - Input sheet - Employee data'!GC15","v":0},{"$f":"'6 - Input sheet - Employee data'!GD15","v":0},{"$f":"'6 - Input sheet - Employee data'!GE15","v":0},{"$f":"'6 - Input sheet - Employee data'!GF15","v":0},{"$f":"'6 - Input sheet - Employee data'!GG15","v":0},{"$f":"'6 - Input sheet - Employee data'!GH15","v":0},{"$f":"'6 - Input sheet - Employee data'!GI15","v":0},{"$f":"'6 - Input sheet - Employee data'!GJ15","v":0},{"$f":"'6 - Input sheet - Employee data'!GK15","v":0},{"$f":"'6 - Input sheet - Employee data'!GL15","v":0},{"$f":"'6 - Input sheet - Employee data'!GM15","v":0},{"$f":"'6 - Input sheet - Employee data'!GN15","v":0},{"$f":"'6 - Input sheet - Employee data'!GO15","v":0},{"$f":"'6 - Input sheet - Employee data'!GP15","v":0},{"$f":"'6 - Input sheet - Employee data'!GQ15","v":0},{"$f":"'6 - Input sheet - Employee data'!GR15","v":0},{"$f":"'6 - Input sheet - Employee data'!GS15","v":0},{"$f":"'6 - Input sheet - Employee data'!GT15","v":0},{"$f":"'6 - Input sheet - Employee data'!GU15","v":0},{"$f":"'6 - Input sheet - Employee data'!GV15","v":0},{"$f":"'6 - Input sheet - Employee data'!GW15","v":0},{"$f":"'6 - Input sheet - Employee data'!GX15","v":0},{"$f":"'6 - Input sheet - Employee data'!GY15","v":0},{"$f":"'6 - Input sheet - Employee data'!GZ15","v":0},{"$f":"'6 - Input sheet - Employee data'!HA15","v":0},{"$f":"'6 - Input sheet - Employee data'!HB15","v":0},{"$f":"'6 - Input sheet - Employee data'!HC15","v":0},{"$f":"'6 - Input sheet - Employee data'!HD15","v":0},{"$f":"'6 - Input sheet - Employee data'!HE15","v":0},{"$f":"'6 - Input sheet - Employee data'!HF15","v":0},{"$f":"'6 - Input sheet - Employee data'!HG15","v":0},{"$f":"'6 - Input sheet - Employee data'!HH15","v":0},{"$f":"'6 - Input sheet - Employee data'!HI15","v":0},{"$f":"'6 - Input sheet - Employee data'!HJ15","v":0},{"$f":"'6 - Input sheet - Employee data'!HK15","v":0},{"$f":"'6 - Input sheet - Employee data'!HL15","v":0},{"$f":"'6 - Input sheet - Employee data'!HM15","v":0},{"$f":"'6 - Input sheet - Employee data'!HN15","v":0},{"$f":"'6 - Input sheet - Employee data'!HO15","v":0},{"$f":"'6 - Input sheet - Employee data'!HP15","v":0},{"$f":"'6 - Input sheet - Employee data'!HQ15","v":0},{"$f":"'6 - Input sheet - Employee data'!HR15","v":0},{"$f":"'6 - Input sheet - Employee data'!HS15","v":0},{"$f":"'6 - Input sheet - Employee data'!HT15","v":0},{"$f":"'6 - Input sheet - Employee data'!HU15","v":0},{"$f":"'6 - Input sheet - Employee data'!HV15","v":0},{"$f":"'6 - Input sheet - Employee data'!HW15","v":0},{"$f":"'6 - Input sheet - Employee data'!HX15","v":0},{"$f":"'6 - Input sheet - Employee data'!HY15","v":0},{"$f":"'6 - Input sheet - Employee data'!HZ15","v":0},{"$f":"'6 - Input sheet - Employee data'!IA15","v":0},{"$f":"'6 - Input sheet - Employee data'!IB15","v":0},{"$f":"'6 - Input sheet - Employee data'!IC15","v":0},{"$f":"'6 - Input sheet - Employee data'!ID15","v":0},{"$f":"'6 - Input sheet - Employee data'!IE15","v":0},{"$f":"'6 - Input sheet - Employee data'!IF15","v":0},{"$f":"'6 - Input sheet - Employee data'!IG15","v":0},{"$f":"'6 - Input sheet - Employee data'!IH15","v":0},{"$f":"'6 - Input sheet - Employee data'!II15","v":0},{"$f":"'6 - Input sheet - Employee data'!IJ15","v":0},{"$f":"'6 - Input sheet - Employee data'!IK15","v":0},{"$f":"'6 - Input sheet - Employee data'!IL15","v":0},{"$f":"'6 - Input sheet - Employee data'!IM15","v":0},{"$f":"'6 - Input sheet - Employee data'!IN15","v":0},{"$f":"'6 - Input sheet - Employee data'!IO15","v":0},{"$f":"'6 - Input sheet - Employee data'!IP15","v":0},{"$f":"'6 - Input sheet - Employee data'!IQ15","v":0},{"$f":"'6 - Input sheet - Employee data'!IR15","v":0},{"$f":"'6 - Input sheet - Employee data'!IS15","v":0},{"$f":"'6 - Input sheet - Employee data'!IT15","v":0},{"$f":"'6 - Input sheet - Employee data'!IU15","v":0},{"$f":"'6 - Input sheet - Employee data'!IV15","v":0},{"$f":"'6 - Input sheet - Employee data'!IW15","v":0},{"$f":"'6 - Input sheet - Employee data'!IX15","v":0},{"$f":"'6 - Input sheet - Employee data'!IY15","v":0},{"$f":"'6 - Input sheet - Employee data'!IZ15","v":0},{"$f":"'6 - Input sheet - Employee data'!JA15","v":0},{"$f":"'6 - Input sheet - Employee data'!JB15","v":0},{"$f":"'6 - Input sheet - Employee data'!JC15","v":0},{"$f":"'6 - Input sheet - Employee data'!JD15","v":0},{"$f":"'6 - Input sheet - Employee data'!JE15","v":0},{"$f":"'6 - Input sheet - Employee data'!JF15","v":0},{"$f":"'6 - Input sheet - Employee data'!JG15","v":0},{"$f":"'6 - Input sheet - Employee data'!JH15","v":0},{"$f":"'6 - Input sheet - Employee data'!JI15","v":0},{"$f":"'6 - Input sheet - Employee data'!JJ15","v":0},{"$f":"'6 - Input sheet - Employee data'!JK15","v":0},{"$f":"'6 - Input sheet - Employee data'!JL15","v":0},{"$f":"'6 - Input sheet - Employee data'!JM15","v":0},{"$f":"'6 - Input sheet - Employee data'!JN15","v":0},{"$f":"'6 - Input sheet - Employee data'!JO15","v":0},{"$f":"'6 - Input sheet - Employee data'!JP15","v":0},{"$f":"'6 - Input sheet - Employee data'!JQ15","v":0},{"$f":"'6 - Input sheet - Employee data'!JR15","v":0},{"$f":"'6 - Input sheet - Employee data'!JS15","v":0},{"$f":"'6 - Input sheet - Employee data'!JT15","v":0},{"$f":"'6 - Input sheet - Employee data'!JU15","v":0},{"$f":"'6 - Input sheet - Employee data'!JV15","v":0},{"$f":"'6 - Input sheet - Employee data'!JW15","v":0},{"$f":"'6 - Input sheet - Employee data'!JX15","v":0},{"$f":"'6 - Input sheet - Employee data'!JY15","v":0},{"$f":"'6 - Input sheet - Employee data'!JZ15","v":0},{"$f":"'6 - Input sheet - Employee data'!KA15","v":0},{"$f":"'6 - Input sheet - Employee data'!KB15","v":0},{"$f":"'6 - Input sheet - Employee data'!KC15","v":0},{"$f":"'6 - Input sheet - Employee data'!KD15","v":0},{"$f":"'6 - Input sheet - Employee data'!KE15","v":0},{"$f":"'6 - Input sheet - Employee data'!KF15","v":0},{"$f":"'6 - Input sheet - Employee data'!KG15","v":0},{"$f":"'6 - Input sheet - Employee data'!KH15","v":0},{"$f":"'6 - Input sheet - Employee data'!KI15","v":0},{"$f":"'6 - Input sheet - Employee data'!KJ15","v":0},{"$f":"'6 - Input sheet - Employee data'!KK15","v":0},{"$f":"'6 - Input sheet - Employee data'!KL15","v":0},{"$f":"'6 - Input sheet - Employee data'!KM15","v":0},{"$f":"'6 - Input sheet - Employee data'!KN15","v":0},{"$f":"'6 - Input sheet - Employee data'!KO15","v":0},{"$f":"'6 - Input sheet - Employee data'!KP15","v":0},{"$f":"'6 - Input sheet - Employee data'!KQ15","v":0},{"$f":"'6 - Input sheet - Employee data'!KR15","v":0},{"$f":"'6 - Input sheet - Employee data'!KS15","v":0},{"$f":"'6 - Input sheet - Employee data'!KT15","v":0},{"$f":"'6 - Input sheet - Employee data'!KU15","v":0},{"$f":"'6 - Input sheet - Employee data'!KV15","v":0},{"$f":"'6 - Input sheet - Employee data'!KW15","v":0},{"$f":"'6 - Input sheet - Employee data'!KX15","v":0},{"$f":"'6 - Input sheet - Employee data'!KY15","v":0},{"$f":"'6 - Input sheet - Employee data'!KZ15","v":0},{"$f":"'6 - Input sheet - Employee data'!LA15","v":0},{"$f":"'6 - Input sheet - Employee data'!LB15","v":0},{"$f":"'6 - Input sheet - Employee data'!LC15","v":0},{"$f":"'6 - Input sheet - Employee data'!LD15","v":0},{"$f":"'6 - Input sheet - Employee data'!LE15","v":0},{"$f":"'6 - Input sheet - Employee data'!LF15","v":0},{"$f":"'6 - Input sheet - Employee data'!LG15","v":0},{"$f":"'6 - Input sheet - Employee data'!LH15","v":0},{"$f":"'6 - Input sheet - Employee data'!LI15","v":0},{"$f":"'6 - Input sheet - Employee data'!LJ15","v":0},{"$f":"'6 - Input sheet - Employee data'!LK15","v":0},{"$f":"'6 - Input sheet - Employee data'!LL15","v":0},{"$f":"'6 - Input sheet - Employee data'!LM15","v":0},{"$f":"'6 - Input sheet - Employee data'!LN15","v":0},{"$f":"'6 - Input sheet - Employee data'!LO15","v":0},{"$f":"'6 - Input sheet - Employee data'!LP15","v":0},{"$f":"'6 - Input sheet - Employee data'!LQ15","v":0},{"$f":"'6 - Input sheet - Employee data'!LR15","v":0},{"$f":"'6 - Input sheet - Employee data'!LS15","v":0},{"$f":"'6 - Input sheet - Employee data'!LT15","v":0},{"$f":"'6 - Input sheet - Employee data'!LU15","v":0},{"$f":"'6 - Input sheet - Employee data'!LV15","v":0},{"$f":"'6 - Input sheet - Employee data'!LW15","v":0},{"$f":"'6 - Input sheet - Employee data'!LX15","v":0},{"$f":"'6 - Input sheet - Employee data'!LY15","v":0},{"$f":"'6 - Input sheet - Employee data'!LZ15","v":0},{"$f":"'6 - Input sheet - Employee data'!MA15","v":0},{"$f":"'6 - Input sheet - Employee data'!MB15","v":0},{"$f":"'6 - Input sheet - Employee data'!MC15","v":0},{"$f":"'6 - Input sheet - Employee data'!MD15","v":0},{"$f":"'6 - Input sheet - Employee data'!ME15","v":0},{"$f":"'6 - Input sheet - Employee data'!MF15","v":0},{"$f":"'6 - Input sheet - Employee data'!MG15","v":0},{"$f":"'6 - Input sheet - Employee data'!MH15","v":0},{"$f":"'6 - Input sheet - Employee data'!MI15","v":0},{"$f":"'6 - Input sheet - Employee data'!MJ15","v":0},{"$f":"'6 - Input sheet - Employee data'!MK15","v":0},{"$f":"'6 - Input sheet - Employee data'!ML15","v":0},{"$f":"'6 - Input sheet - Employee data'!MM15","v":0},{"$f":"'6 - Input sheet - Employee data'!MN15","v":0},{"$f":"'6 - Input sheet - Employee data'!MO15","v":0},{"$f":"'6 - Input sheet - Employee data'!MP15","v":0},{"$f":"'6 - Input sheet - Employee data'!MQ15","v":0},{"$f":"'6 - Input sheet - Employee data'!MR15","v":0},{"$f":"'6 - Input sheet - Employee data'!MS15","v":0},{"$f":"'6 - Input sheet - Employee data'!MT15","v":0},{"$f":"'6 - Input sheet - Employee data'!MU15","v":0},{"$f":"'6 - Input sheet - Employee data'!MV15","v":0},{"$f":"'6 - Input sheet - Employee data'!MW15","v":0},{"$f":"'6 - Input sheet - Employee data'!MX15","v":0},{"$f":"'6 - Input sheet - Employee data'!MY15","v":0},{"$f":"'6 - Input sheet - Employee data'!MZ15","v":0},{"$f":"'6 - Input sheet - Employee data'!NA15","v":0},{"$f":"'6 - Input sheet - Employee data'!NB15","v":0},{"$f":"'6 - Input sheet - Employee data'!NC15","v":0},{"$f":"'6 - Input sheet - Employee data'!ND15","v":0},{"$f":"'6 - Input sheet - Employee data'!NE15","v":0},{"$f":"'6 - Input sheet - Employee data'!NF15","v":0},{"$f":"'6 - Input sheet - Employee data'!NG15","v":0},{"$f":"'6 - Input sheet - Employee data'!NH15","v":0},{"$f":"'6 - Input sheet - Employee data'!NI15","v":0},{"$f":"'6 - Input sheet - Employee data'!NJ15","v":0},{"$f":"'6 - Input sheet - Employee data'!NK15","v":0},{"$f":"'6 - Input sheet - Employee data'!NL15","v":0},{"$f":"'6 - Input sheet - Employee data'!NM15","v":0},{"$f":"'6 - Input sheet - Employee data'!NN15","v":0},{"$f":"'6 - Input sheet - Employee data'!NO15","v":0},{"$f":"'6 - Input sheet - Employee data'!NP15","v":0},{"$f":"'6 - Input sheet - Employee data'!NQ15","v":0},{"$f":"'6 - Input sheet - Employee data'!NR15","v":0},{"$f":"'6 - Input sheet - Employee data'!NS15","v":0},{"$f":"'6 - Input sheet - Employee data'!NT15","v":0},{"$f":"'6 - Input sheet - Employee data'!NU15","v":0},{"$f":"'6 - Input sheet - Employee data'!NV15","v":0},{"$f":"'6 - Input sheet - Employee data'!NW15","v":0},{"$f":"'6 - Input sheet - Employee data'!NX15","v":0},{"$f":"'6 - Input sheet - Employee data'!NY15","v":0},{"$f":"'6 - Input sheet - Employee data'!NZ15","v":0},{"$f":"'6 - Input sheet - Employee data'!OA15","v":0},{"$f":"'6 - Input sheet - Employee data'!OB15","v":0},{"$f":"'6 - Input sheet - Employee data'!OC15","v":0},{"$f":"'6 - Input sheet - Employee data'!OD15","v":0},{"$f":"'6 - Input sheet - Employee data'!OE15","v":0},{"$f":"'6 - Input sheet - Employee data'!OF15","v":0},{"$f":"'6 - Input sheet - Employee data'!OG15","v":0},{"$f":"'6 - Input sheet - Employee data'!OH15","v":0},{"$f":"'6 - Input sheet - Employee data'!OI15","v":0},{"$f":"'6 - Input sheet - Employee data'!OJ15","v":0},{"$f":"'6 - Input sheet - Employee data'!OK15","v":0},{"$f":"'6 - Input sheet - Employee data'!OL15","v":0},{"$f":"'6 - Input sheet - Employee data'!OM15","v":0},{"$f":"'6 - Input sheet - Employee data'!ON15","v":0},{"$f":"'6 - Input sheet - Employee data'!OO15","v":0},{"$f":"'6 - Input sheet - Employee data'!OP15","v":0},{"$f":"'6 - Input sheet - Employee data'!OQ15","v":0},{"$f":"'6 - Input sheet - Employee data'!OR15","v":0},{"$f":"'6 - Input sheet - Employee data'!OS15","v":0},{"$f":"'6 - Input sheet - Employee data'!OT15","v":0},{"$f":"'6 - Input sheet - Employee data'!OU15","v":0},{"$f":"'6 - Input sheet - Employee data'!OV15","v":0},{"$f":"'6 - Input sheet - Employee data'!OW15","v":0},{"$f":"'6 - Input sheet - Employee data'!OX15","v":0},{"$f":"'6 - Input sheet - Employee data'!OY15","v":0},{"$f":"'6 - Input sheet - Employee data'!OZ15","v":0},{"$f":"'6 - Input sheet - Employee data'!PA15","v":0},{"$f":"'6 - Input sheet - Employee data'!PB15","v":0},{"$f":"'6 - Input sheet - Employee data'!PC15","v":0},{"$f":"'6 - Input sheet - Employee data'!PD15","v":0},{"$f":"'6 - Input sheet - Employee data'!PE15","v":0},{"$f":"'6 - Input sheet - Employee data'!PF15","v":0},{"$f":"'6 - Input sheet - Employee data'!PG15","v":0},{"$f":"'6 - Input sheet - Employee data'!PH15","v":0},{"$f":"'6 - Input sheet - Employee data'!PI15","v":0},{"$f":"'6 - Input sheet - Employee data'!PJ15","v":0},{"$f":"'6 - Input sheet - Employee data'!PK15","v":0},{"$f":"'6 - Input sheet - Employee data'!PL15","v":0},{"$f":"'6 - Input sheet - Employee data'!PM15","v":0},{"$f":"'6 - Input sheet - Employee data'!PN15","v":0},{"$f":"'6 - Input sheet - Employee data'!PO15","v":0},{"$f":"'6 - Input sheet - Employee data'!PP15","v":0},{"$f":"'6 - Input sheet - Employee data'!PQ15","v":0},{"$f":"'6 - Input sheet - Employee data'!PR15","v":0},{"$f":"'6 - Input sheet - Employee data'!PS15","v":0},{"$f":"'6 - Input sheet - Employee data'!PT15","v":0},{"$f":"'6 - Input sheet - Employee data'!PU15","v":0},{"$f":"'6 - Input sheet - Employee data'!PV15","v":0},{"$f":"'6 - Input sheet - Employee data'!PW15","v":0},{"$f":"'6 - Input sheet - Employee data'!PX15","v":0},{"$f":"'6 - Input sheet - Employee data'!PY15","v":0},{"$f":"'6 - Input sheet - Employee data'!PZ15","v":0},{"$f":"'6 - Input sheet - Employee data'!QA15","v":0},{"$f":"'6 - Input sheet - Employee data'!QB15","v":0},{"$f":"'6 - Input sheet - Employee data'!QC15","v":0},{"$f":"'6 - Input sheet - Employee data'!QD15","v":0},{"$f":"'6 - Input sheet - Employee data'!QE15","v":0},{"$f":"'6 - Input sheet - Employee data'!QF15","v":0},{"$f":"'6 - Input sheet - Employee data'!QG15","v":0},{"$f":"'6 - Input sheet - Employee data'!QH15","v":0},{"$f":"'6 - Input sheet - Employee data'!QI15","v":0},{"$f":"'6 - Input sheet - Employee data'!QJ15","v":0},{"$f":"'6 - Input sheet - Employee data'!QK15","v":0},{"$f":"'6 - Input sheet - Employee data'!QL15","v":0},{"$f":"'6 - Input sheet - Employee data'!QM15","v":0},{"$f":"'6 - Input sheet - Employee data'!QN15","v":0},{"$f":"'6 - Input sheet - Employee data'!QO15","v":0},{"$f":"'6 - Input sheet - Employee data'!QP15","v":0},{"$f":"'6 - Input sheet - Employee data'!QQ15","v":0},{"$f":"'6 - Input sheet - Employee data'!QR15","v":0},{"$f":"'6 - Input sheet - Employee data'!QS15","v":0},{"$f":"'6 - Input sheet - Employee data'!QT15","v":0},{"$f":"'6 - Input sheet - Employee data'!QU15","v":0},{"$f":"'6 - Input sheet - Employee data'!QV15","v":0},{"$f":"'6 - Input sheet - Employee data'!QW15","v":0},{"$f":"'6 - Input sheet - Employee data'!QX15","v":0},{"$f":"'6 - Input sheet - Employee data'!QY15","v":0},{"$f":"'6 - Input sheet - Employee data'!QZ15","v":0},{"$f":"'6 - Input sheet - Employee data'!RA15","v":0},{"$f":"'6 - Input sheet - Employee data'!RB15","v":0},{"$f":"'6 - Input sheet - Employee data'!RC15","v":0},{"$f":"'6 - Input sheet - Employee data'!RD15","v":0},{"$f":"'6 - Input sheet - Employee data'!RE15","v":0},{"$f":"'6 - Input sheet - Employee data'!RF15","v":0},{"$f":"'6 - Input sheet - Employee data'!RG15","v":0},{"$f":"'6 - Input sheet - Employee data'!RH15","v":0},{"$f":"'6 - Input sheet - Employee data'!RI15","v":0},{"$f":"'6 - Input sheet - Employee data'!RJ15","v":0},{"$f":"'6 - Input sheet - Employee data'!RK15","v":0},{"$f":"'6 - Input sheet - Employee data'!RL15","v":0},{"$f":"'6 - Input sheet - Employee data'!RM15","v":0},{"$f":"'6 - Input sheet - Employee data'!RN15","v":0},{"$f":"'6 - Input sheet - Employee data'!RO15","v":0},{"$f":"'6 - Input sheet - Employee data'!RP15","v":0},{"$f":"'6 - Input sheet - Employee data'!RQ15","v":0},{"$f":"'6 - Input sheet - Employee data'!RR15","v":0},{"$f":"'6 - Input sheet - Employee data'!RS15","v":0},{"$f":"'6 - Input sheet - Employee data'!RT15","v":0},{"$f":"'6 - Input sheet - Employee data'!RU15","v":0},{"$f":"'6 - Input sheet - Employee data'!RV15","v":0},{"$f":"'6 - Input sheet - Employee data'!RW15","v":0},{"$f":"'6 - Input sheet - Employee data'!RX15","v":0},{"$f":"'6 - Input sheet - Employee data'!RY15","v":0},{"$f":"'6 - Input sheet - Employee data'!RZ15","v":0},{"$f":"'6 - Input sheet - Employee data'!SA15","v":0},{"$f":"'6 - Input sheet - Employee data'!SB15","v":0},{"$f":"'6 - Input sheet - Employee data'!SC15","v":0},{"$f":"'6 - Input sheet - Employee data'!SD15","v":0},{"$f":"'6 - Input sheet - Employee data'!SE15","v":0},{"$f":"'6 - Input sheet - Employee data'!SF15","v":0},{"$f":"'6 - Input sheet - Employee data'!SG15","v":0},{"$f":"'6 - Input sheet - Employee data'!SH15","v":0}]
[]
[null,"Total",{"$f":"1","v":1},{"$f":"C10+1","v":2},{"$f":"D10+1","v":3},4,5,6,7,8,9,10,11,12,13,14,15,16,17,18,19,20,21,22,23,24,25,26,27,28,29,30,31,32,33,34,35,36,37,38,39,40,41,42,43,44,45,46,47,48,49,50,51,52,53,54,55,56,57,58,59,60,61,62,63,64,65,66,{"$f":"BP10+1","v":67},68,69,70,71,72,73,74,75,76,77,78,79,80,81,82,83,84,85,86,87,88,89,90,91,92,93,94,95,96,97,98,99,100,101,102,103,104,105,106,107,108,109,110,111,112,113,114,115,116,117,118,119,120,121,122,123,124,125,126,127,128,129,130,{"$f":"EB10+1","v":131},132,133,134,135,136,137,138,139,140,141,142,143,144,145,146,147,148,149,150,151,152,153,154,155,156,157,158,159,160,161,162,163,164,165,166,167,168,169,170,171,172,173,174,175,176,177,178,179,180,181,182,183,184,185,186,187,188,189,190,191,192,193,194,{"$f":"GN10+1","v":195},196,197,198,199,200,201,202,203,204,205,206,207,208,209,210,211,212,213,214,215,216,217,218,219,220,221,222,223,224,225,226,227,228,229,230,231,232,233,234,235,236,237,238,239,240,241,242,243,244,245,246,247,248,249,250,251,252,253,254,255,256,257,258,{"$f":"IZ10+1","v":259},260,261,262,263,264,265,266,267,268,269,270,271,272,273,274,275,276,277,278,279,280,281,282,283,284,285,286,287,288,289,290,291,292,293,294,295,296,297,298,299,300,301,302,303,304,305,306,307,308,309,310,311,312,313,314,315,316,317,318,319,320,321,322,{"$f":"LL10+1","v":323},324,325,326,327,328,329,330,331,332,333,334,335,336,337,338,339,340,341,342,343,344,345,346,347,348,349,350,351,352,353,354,355,356,357,358,359,360,361,362,363,364,365,366,367,368,369,370,371,372,373,374,375,376,377,378,379,380,381,382,383,384,385,386,{"$f":"NX10+1","v":387},388,389,390,391,392,393,394,395,396,397,398,399,400,401,402,403,404,405,406,407,408,409,410,411,412,413,414,415,416,417,418,419,420,421,422,423,424,425,426,427,428,429,430,431,432,433,434,435,436,437,438,439,440,441,442,443,444,445,446,447,448,449,450,{"$f":"QJ10+1","v":451},452,453,454,455,456,457,458,459,460,461,462,463,464,465,466,467,468,469,470,471,472,473,474,475,476,477,478,479,480,481,482,483,484,485,486,487,488,489,490,491,492,493,494,495,496,497,498,499,500]
[]
["FTE simplified calculation method?",{"$f":"'6 - Input sheet - Employee data'!B18","v":"No"}]
["Period type",{"$f":"'6 - Input sheet - Employee data'!B17","v":"Weekly"},{"$f":"IF(B13=\"Weekly\",40,IF(B13=\"Bi-weekly\",80,IF(B13=\"Semi-monthly\",85,170)))","v":40},"Hrs"]
[null,"Periods",{"$f":"IF(B13=\"Weekly\",20,IF(B13=\"Bi-weekly\",10,IF(B13=\"Semi-monthly\",9,5)))","v":20},{"$f":"IF(B13=\"Weekly\",9,IF(B13=\"Bi-weekly\",5,IF(B13=\"Semi-monthly\",4,2)))","v":9},{"$f":"IF(B13=\"Weekly\",8,IF(B13=\"Bi-weekly\",4,IF(B13=\"Semi-monthly\",4,2)))","v":8},{"$f":"IF(B13=\"Weekly\",11,IF(B13=\"Bi-weekly\",6,IF(B13=\"Semi-monthly\",6,3)))","v":11}]
[null,null,"2/15/19 - 6/30/19","1/1/20 - 2/29/20","PPP Loan Period","2/15/20 - 4/26/20"]
["BASE PERIOD"]
["   Hours - February 15, 2019 to June 30, 2019",null,{"$f":"'6 - Input sheet - Employee data'!C30","v":0},{"$f":"'6 - Input sheet - Employee data'!D30","v":0},{"$f":"'6 - Input sheet - Employee data'!E30","v":0},{"$f":"'6 - Input sheet - Employee data'!F30","v":0},{"$f":"'6 - Input sheet - Employee data'!G30","v":0},{"$f":"'6 - Input sheet - Employee data'!H30","v":0},{"$f":"'6 - Input sheet - Employee data'!I30","v":0},{"$f":"'6 - Input sheet - Employee data'!J30","v":0},{"$f":"'6 - Input sheet - Employee data'!K30","v":0},{"$f":"'6 - Input sheet - Employee data'!L30","v":0},{"$f":"'6 - Input sheet - Employee data'!M30","v":0},{"$f":"'6 - Input sheet - Employee data'!N30","v":0},{"$f":"'6 - Input sheet - Employee data'!O30","v":0},{"$f":"'6 - Input sheet - Employee data'!P30","v":0},{"$f":"'6 - Input sheet - Employee data'!Q30","v":0},{"$f":"'6 - Input sheet - Employee data'!R30","v":0},{"$f":"'6 - Input sheet - Employee data'!S30","v":0},{"$f":"'6 - Input sheet - Employee data'!T30","v":0},{"$f":"'6 - Input sheet - Employee data'!U30","v":0},{"$f":"'6 - Input sheet - Employee data'!V30","v":0},{"$f":"'6 - Input sheet - Employee data'!W30","v":0},{"$f":"'6 - Input sheet - Employee data'!X30","v":0},{"$f":"'6 - Input sheet - Employee data'!Y30","v":0},{"$f":"'6 - Input sheet - Employee data'!Z30","v":0},{"$f":"'6 - Input sheet - Employee data'!AA30","v":0},{"$f":"'6 - Input sheet - Employee data'!AB30","v":0},{"$f":"'6 - Input sheet - Employee data'!AC30","v":0},{"$f":"'6 - Input sheet - Employee data'!AD30","v":0},{"$f":"'6 - Input sheet - Employee data'!AE30","v":0},{"$f":"'6 - Input sheet - Employee data'!AF30","v":0},{"$f":"'6 - Input sheet - Employee data'!AG30","v":0},{"$f":"'6 - Input sheet - Employee data'!AH30","v":0},{"$f":"'6 - Input sheet - Employee data'!AI30","v":0},{"$f":"'6 - Input sheet - Employee data'!AJ30","v":0},{"$f":"'6 - Input sheet - Employee data'!AK30","v":0},{"$f":"'6 - Input sheet - Employee data'!AL30","v":0},{"$f":"'6 - Input sheet - Employee data'!AM30","v":0},{"$f":"'6 - Input sheet - Employee data'!AN30","v":0},{"$f":"'6 - Input sheet - Employee data'!AO30","v":0},{"$f":"'6 - Input sheet - Employee data'!AP30","v":0},{"$f":"'6 - Input sheet - Employee data'!AQ30","v":0},{"$f":"'6 - Input sheet - Employee data'!AR30","v":0},{"$f":"'6 - Input sheet - Employee data'!AS30","v":0},{"$f":"'6 - Input sheet - Employee data'!AT30","v":0},{"$f":"'6 - Input sheet - Employee data'!AU30","v":0},{"$f":"'6 - Input sheet - Employee data'!AV30","v":0},{"$f":"'6 - Input sheet - Employee data'!AW30","v":0},{"$f":"'6 - Input sheet - Employee data'!AX30","v":0},{"$f":"'6 - Input sheet - Employee data'!AY30","v":0},{"$f":"'6 - Input sheet - Employee data'!AZ30","v":0},{"$f":"'6 - Input sheet - Employee data'!BA30","v":0},{"$f":"'6 - Input sheet - Employee data'!BB30","v":0},{"$f":"'6 - Input sheet - Employee data'!BC30","v":0},{"$f":"'6 - Input sheet - Employee data'!BD30","v":0},{"$f":"'6 - Input sheet - Employee data'!BE30","v":0},{"$f":"'6 - Input sheet - Employee data'!BF30","v":0},{"$f":"'6 - Input sheet - Employee data'!BG30","v":0},{"$f":"'6 - Input sheet - Employee data'!BH30","v":0},{"$f":"'6 - Input sheet - Employee data'!BI30","v":0},{"$f":"'6 - Input sheet - Employee data'!BJ30","v":0},{"$f":"'6 - Input sheet - Employee data'!BK30","v":0},{"$f":"'6 - Input sheet - Employee data'!BL30","v":0},{"$f":"'6 - Input sheet - Employee data'!BM30","v":0},{"$f":"'6 - Input sheet - Employee data'!BN30","v":0},{"$f":"'6 - Input sheet - Employee data'!BO30","v":0},{"$f":"'6 - Input sheet - Employee data'!BP30","v":0},{"$f":"'6 - Input sheet - Employee data'!BQ30","v":0},{"$f":"'6 - Input sheet - Employee data'!BR30","v":0},{"$f":"'6 - Input sheet - Employee data'!BS30","v":0},{"$f":"'6 - Input sheet - Employee data'!BT30","v":0},{"$f":"'6 - Input sheet - Employee data'!BU30","v":0},{"$f":"'6 - Input sheet - Employee data'!BV30","v":0},{"$f":"'6 - Input sheet - Employee data'!BW30","v":0},{"$f":"'6 - Input sheet - Employee data'!BX30","v":0},{"$f":"'6 - Input sheet - Employee data'!BY30","v":0},{"$f":"'6 - Input sheet - Employee data'!BZ30","v":0},{"$f":"'6 - Input sheet - Employee data'!CA30","v":0},{"$f":"'6 - Input sheet - Employee data'!CB30","v":0},{"$f":"'6 - Input sheet - Employee data'!CC30","v":0},{"$f":"'6 - Input sheet - Employee data'!CD30","v":0},{"$f":"'6 - Input sheet - Employee data'!CE30","v":0},{"$f":"'6 - Input sheet - Employee data'!CF30","v":0},{"$f":"'6 - Input sheet - Employee data'!CG30","v":0},{"$f":"'6 - Input sheet - Employee data'!CH30","v":0},{"$f":"'6 - Input sheet - Employee data'!CI30","v":0},{"$f":"'6 - Input sheet - Employee data'!CJ30","v":0},{"$f":"'6 - Input sheet - Employee data'!CK30","v":0},{"$f":"'6 - Input sheet - Employee data'!CL30","v":0},{"$f":"'6 - Input sheet - Employee data'!CM30","v":0},{"$f":"'6 - Input sheet - Employee data'!CN30","v":0},{"$f":"'6 - Input sheet - Employee data'!CO30","v":0},{"$f":"'6 - Input sheet - Employee data'!CP30","v":0},{"$f":"'6 - Input sheet - Employee data'!CQ30","v":0},{"$f":"'6 - Input sheet - Employee data'!CR30","v":0},{"$f":"'6 - Input sheet - Employee data'!CS30","v":0},{"$f":"'6 - Input sheet - Employee data'!CT30","v":0},{"$f":"'6 - Input sheet - Employee data'!CU30","v":0},{"$f":"'6 - Input sheet - Employee data'!CV30","v":0},{"$f":"'6 - Input sheet - Employee data'!CW30","v":0},{"$f":"'6 - Input sheet - Employee data'!CX30","v":0},{"$f":"'6 - Input sheet - Employee data'!CY30","v":0},{"$f":"'6 - Input sheet - Employee data'!CZ30","v":0},{"$f":"'6 - Input sheet - Employee data'!DA30","v":0},{"$f":"'6 - Input sheet - Employee data'!DB30","v":0},{"$f":"'6 - Input sheet - Employee data'!DC30","v":0},{"$f":"'6 - Input sheet - Employee data'!DD30","v":0},{"$f":"'6 - Input sheet - Employee data'!DE30","v":0},{"$f":"'6 - Input sheet - Employee data'!DF30","v":0},{"$f":"'6 - Input sheet - Employee data'!DG30","v":0},{"$f":"'6 - Input sheet - Employee data'!DH30","v":0},{"$f":"'6 - Input sheet - Employee data'!DI30","v":0},{"$f":"'6 - Input sheet - Employee data'!DJ30","v":0},{"$f":"'6 - Input sheet - Employee data'!DK30","v":0},{"$f":"'6 - Input sheet - Employee data'!DL30","v":0},{"$f":"'6 - Input sheet - Employee data'!DM30","v":0},{"$f":"'6 - Input sheet - Employee data'!DN30","v":0},{"$f":"'6 - Input sheet - Employee data'!DO30","v":0},{"$f":"'6 - Input sheet - Employee data'!DP30","v":0},{"$f":"'6 - Input sheet - Employee data'!DQ30","v":0},{"$f":"'6 - Input sheet - Employee data'!DR30","v":0},{"$f":"'6 - Input sheet - Employee data'!DS30","v":0},{"$f":"'6 - Input sheet - Employee data'!DT30","v":0},{"$f":"'6 - Input sheet - Employee data'!DU30","v":0},{"$f":"'6 - Input sheet - Employee data'!DV30","v":0},{"$f":"'6 - Input sheet - Employee data'!DW30","v":0},{"$f":"'6 - Input sheet - Employee data'!DX30","v":0},{"$f":"'6 - Input sheet - Employee data'!DY30","v":0},{"$f":"'6 - Input sheet - Employee data'!DZ30","v":0},{"$f":"'6 - Input sheet - Employee data'!EA30","v":0},{"$f":"'6 - Input sheet - Employee data'!EB30","v":0},{"$f":"'6 - Input sheet - Employee data'!EC30","v":0},{"$f":"'6 - Input sheet - Employee data'!ED30","v":0},{"$f":"'6 - Input sheet - Employee data'!EE30","v":0},{"$f":"'6 - Input sheet - Employee data'!EF30","v":0},{"$f":"'6 - Input sheet - Employee data'!EG30","v":0},{"$f":"'6 - Input sheet - Employee data'!EH30","v":0},{"$f":"'6 - Input sheet - Employee data'!EI30","v":0},{"$f":"'6 - Input sheet - Employee data'!EJ30","v":0},{"$f":"'6 - Input sheet - Employee data'!EK30","v":0},{"$f":"'6 - Input sheet - Employee data'!EL30","v":0},{"$f":"'6 - Input sheet - Employee data'!EM30","v":0},{"$f":"'6 - Input sheet - Employee data'!EN30","v":0},{"$f":"'6 - Input sheet - Employee data'!EO30","v":0},{"$f":"'6 - Input sheet - Employee data'!EP30","v":0},{"$f":"'6 - Input sheet - Employee data'!EQ30","v":0},{"$f":"'6 - Input sheet - Employee data'!ER30","v":0},{"$f":"'6 - Input sheet - Employee data'!ES30","v":0},{"$f":"'6 - Input sheet - Employee data'!ET30","v":0},{"$f":"'6 - Input sheet - Employee data'!EU30","v":0},{"$f":"'6 - Input sheet - Employee data'!EV30","v":0},{"$f":"'6 - Input sheet - Employee data'!EW30","v":0},{"$f":"'6 - Input sheet - Employee data'!EX30","v":0},{"$f":"'6 - Input sheet - Employee data'!EY30","v":0},{"$f":"'6 - Input sheet - Employee data'!EZ30","v":0},{"$f":"'6 - Input sheet - Employee data'!FA30","v":0},{"$f":"'6 - Input sheet - Employee data'!FB30","v":0},{"$f":"'6 - Input sheet - Employee data'!FC30","v":0},{"$f":"'6 - Input sheet - Employee data'!FD30","v":0},{"$f":"'6 - Input sheet - Employee data'!FE30","v":0},{"$f":"'6 - Input sheet - Employee data'!FF30","v":0},{"$f":"'6 - Input sheet - Employee data'!FG30","v":0},{"$f":"'6 - Input sheet - Employee data'!FH30","v":0},{"$f":"'6 - Input sheet - Employee data'!FI30","v":0},{"$f":"'6 - Input sheet - Employee data'!FJ30","v":0},{"$f":"'6 - Input sheet - Employee data'!FK30","v":0},{"$f":"'6 - Input sheet - Employee data'!FL30","v":0},{"$f":"'6 - Input sheet - Employee data'!FM30","v":0},{"$f":"'6 - Input sheet - Employee data'!FN30","v":0},{"$f":"'6 - Input sheet - Employee data'!FO30","v":0},{"$f":"'6 - Input sheet - Employee data'!FP30","v":0},{"$f":"'6 - Input sheet - Employee data'!FQ30","v":0},{"$f":"'6 - Input sheet - Employee data'!FR30","v":0},{"$f":"'6 - Input sheet - Employee data'!FS30","v":0},{"$f":"'6 - Input sheet - Employee data'!FT30","v":0},{"$f":"'6 - Input sheet - Employee data'!FU30","v":0},{"$f":"'6 - Input sheet - Employee data'!FV30","v":0},{"$f":"'6 - Input sheet - Employee data'!FW30","v":0},{"$f":"'6 - Input sheet - Employee data'!FX30","v":0},{"$f":"'6 - Input sheet - Employee data'!FY30","v":0},{"$f":"'6 - Input sheet - Employee data'!FZ30","v":0},{"$f":"'6 - Input sheet - Employee data'!GA30","v":0},{"$f":"'6 - Input sheet - Employee data'!GB30","v":0},{"$f":"'6 - Input sheet - Employee data'!GC30","v":0},{"$f":"'6 - Input sheet - Employee data'!GD30","v":0},{"$f":"'6 - Input sheet - Employee data'!GE30","v":0},{"$f":"'6 - Input sheet - Employee data'!GF30","v":0},{"$f":"'6 - Input sheet - Employee data'!GG30","v":0},{"$f":"'6 - Input sheet - Employee data'!GH30","v":0},{"$f":"'6 - Input sheet - Employee data'!GI30","v":0},{"$f":"'6 - Input sheet - Employee data'!GJ30","v":0},{"$f":"'6 - Input sheet - Employee data'!GK30","v":0},{"$f":"'6 - Input sheet - Employee data'!GL30","v":0},{"$f":"'6 - Input sheet - Employee data'!GM30","v":0},{"$f":"'6 - Input sheet - Employee data'!GN30","v":0},{"$f":"'6 - Input sheet - Employee data'!GO30","v":0},{"$f":"'6 - Input sheet - Employee data'!GP30","v":0},{"$f":"'6 - Input sheet - Employee data'!GQ30","v":0},{"$f":"'6 - Input sheet - Employee data'!GR30","v":0},{"$f":"'6 - Input sheet - Employee data'!GS30","v":0},{"$f":"'6 - Input sheet - Employee data'!GT30","v":0},{"$f":"'6 - Input sheet - Employee data'!GU30","v":0},{"$f":"'6 - Input sheet - Employee data'!GV30","v":0},{"$f":"'6 - Input sheet - Employee data'!GW30","v":0},{"$f":"'6 - Input sheet - Employee data'!GX30","v":0},{"$f":"'6 - Input sheet - Employee data'!GY30","v":0},{"$f":"'6 - Input sheet - Employee data'!GZ30","v":0},{"$f":"'6 - Input sheet - Employee data'!HA30","v":0},{"$f":"'6 - Input sheet - Employee data'!HB30","v":0},{"$f":"'6 - Input sheet - Employee data'!HC30","v":0},{"$f":"'6 - Input sheet - Employee data'!HD30","v":0},{"$f":"'6 - Input sheet - Employee data'!HE30","v":0},{"$f":"'6 - Input sheet - Employee data'!HF30","v":0},{"$f":"'6 - Input sheet - Employee data'!HG30","v":0},{"$f":"'6 - Input sheet - Employee data'!HH30","v":0},{"$f":"'6 - Input sheet - Employee data'!HI30","v":0},{"$f":"'6 - Input sheet - Employee data'!HJ30","v":0},{"$f":"'6 - Input sheet - Employee data'!HK30","v":0},{"$f":"'6 - Input sheet - Employee data'!HL30","v":0},{"$f":"'6 - Input sheet - Employee data'!HM30","v":0},{"$f":"'6 - Input sheet - Employee data'!HN30","v":0},{"$f":"'6 - Input sheet - Employee data'!HO30","v":0},{"$f":"'6 - Input sheet - Employee data'!HP30","v":0},{"$f":"'6 - Input sheet - Employee data'!HQ30","v":0},{"$f":"'6 - Input sheet - Employee data'!HR30","v":0},{"$f":"'6 - Input sheet - Employee data'!HS30","v":0},{"$f":"'6 - Input sheet - Employee data'!HT30","v":0},{"$f":"'6 - Input sheet - Employee data'!HU30","v":0},{"$f":"'6 - Input sheet - Employee data'!HV30","v":0},{"$f":"'6 - Input sheet - Employee data'!HW30","v":0},{"$f":"'6 - Input sheet - Employee data'!HX30","v":0},{"$f":"'6 - Input sheet - Employee data'!HY30","v":0},{"$f":"'6 - Input sheet - Employee data'!HZ30","v":0},{"$f":"'6 - Input sheet - Employee data'!IA30","v":0},{"$f":"'6 - Input sheet - Employee data'!IB30","v":0},{"$f":"'6 - Input sheet - Employee data'!IC30","v":0},{"$f":"'6 - Input sheet - Employee data'!ID30","v":0},{"$f":"'6 - Input sheet - Employee data'!IE30","v":0},{"$f":"'6 - Input sheet - Employee data'!IF30","v":0},{"$f":"'6 - Input sheet - Employee data'!IG30","v":0},{"$f":"'6 - Input sheet - Employee data'!IH30","v":0},{"$f":"'6 - Input sheet - Employee data'!II30","v":0},{"$f":"'6 - Input sheet - Employee data'!IJ30","v":0},{"$f":"'6 - Input sheet - Employee data'!IK30","v":0},{"$f":"'6 - Input sheet - Employee data'!IL30","v":0},{"$f":"'6 - Input sheet - Employee data'!IM30","v":0},{"$f":"'6 - Input sheet - Employee data'!IN30","v":0},{"$f":"'6 - Input sheet - Employee data'!IO30","v":0},{"$f":"'6 - Input sheet - Employee data'!IP30","v":0},{"$f":"'6 - Input sheet - Employee data'!IQ30","v":0},{"$f":"'6 - Input sheet - Employee data'!IR30","v":0},{"$f":"'6 - Input sheet - Employee data'!IS30","v":0},{"$f":"'6 - Input sheet - Employee data'!IT30","v":0},{"$f":"'6 - Input sheet - Employee data'!IU30","v":0},{"$f":"'6 - Input sheet - Employee data'!IV30","v":0},{"$f":"'6 - Input sheet - Employee data'!IW30","v":0},{"$f":"'6 - Input sheet - Employee data'!IX30","v":0},{"$f":"'6 - Input sheet - Employee data'!IY30","v":0},{"$f":"'6 - Input sheet - Employee data'!IZ30","v":0},{"$f":"'6 - Input sheet - Employee data'!JA30","v":0},{"$f":"'6 - Input sheet - Employee data'!JB30","v":0},{"$f":"'6 - Input sheet - Employee data'!JC30","v":0},{"$f":"'6 - Input sheet - Employee data'!JD30","v":0},{"$f":"'6 - Input sheet - Employee data'!JE30","v":0},{"$f":"'6 - Input sheet - Employee data'!JF30","v":0},{"$f":"'6 - Input sheet - Employee data'!JG30","v":0},{"$f":"'6 - Input sheet - Employee data'!JH30","v":0},{"$f":"'6 - Input sheet - Employee data'!JI30","v":0},{"$f":"'6 - Input sheet - Employee data'!JJ30","v":0},{"$f":"'6 - Input sheet - Employee data'!JK30","v":0},{"$f":"'6 - Input sheet - Employee data'!JL30","v":0},{"$f":"'6 - Input sheet - Employee data'!JM30","v":0},{"$f":"'6 - Input sheet - Employee data'!JN30","v":0},{"$f":"'6 - Input sheet - Employee data'!JO30","v":0},{"$f":"'6 - Input sheet - Employee data'!JP30","v":0},{"$f":"'6 - Input sheet - Employee data'!JQ30","v":0},{"$f":"'6 - Input sheet - Employee data'!JR30","v":0},{"$f":"'6 - Input sheet - Employee data'!JS30","v":0},{"$f":"'6 - Input sheet - Employee data'!JT30","v":0},{"$f":"'6 - Input sheet - Employee data'!JU30","v":0},{"$f":"'6 - Input sheet - Employee data'!JV30","v":0},{"$f":"'6 - Input sheet - Employee data'!JW30","v":0},{"$f":"'6 - Input sheet - Employee data'!JX30","v":0},{"$f":"'6 - Input sheet - Employee data'!JY30","v":0},{"$f":"'6 - Input sheet - Employee data'!JZ30","v":0},{"$f":"'6 - Input sheet - Employee data'!KA30","v":0},{"$f":"'6 - Input sheet - Employee data'!KB30","v":0},{"$f":"'6 - Input sheet - Employee data'!KC30","v":0},{"$f":"'6 - Input sheet - Employee data'!KD30","v":0},{"$f":"'6 - Input sheet - Employee data'!KE30","v":0},{"$f":"'6 - Input sheet - Employee data'!KF30","v":0},{"$f":"'6 - Input sheet - Employee data'!KG30","v":0},{"$f":"'6 - Input sheet - Employee data'!KH30","v":0},{"$f":"'6 - Input sheet - Employee data'!KI30","v":0},{"$f":"'6 - Input sheet - Employee data'!KJ30","v":0},{"$f":"'6 - Input sheet - Employee data'!KK30","v":0},{"$f":"'6 - Input sheet - Employee data'!KL30","v":0},{"$f":"'6 - Input sheet - Employee data'!KM30","v":0},{"$f":"'6 - Input sheet - Employee data'!KN30","v":0},{"$f":"'6 - Input sheet - Employee data'!KO30","v":0},{"$f":"'6 - Input sheet - Employee data'!KP30","v":0},{"$f":"'6 - Input sheet - Employee data'!KQ30","v":0},{"$f":"'6 - Input sheet - Employee data'!KR30","v":0},{"$f":"'6 - Input sheet - Employee data'!KS30","v":0},{"$f":"'6 - Input sheet - Employee data'!KT30","v":0},{"$f":"'6 - Input sheet - Employee data'!KU30","v":0},{"$f":"'6 - Input sheet - Employee data'!KV30","v":0},{"$f":"'6 - Input sheet - Employee data'!KW30","v":0},{"$f":"'6 - Input sheet - Employee data'!KX30","v":0},{"$f":"'6 - Input sheet - Employee data'!KY30","v":0},{"$f":"'6 - Input sheet - Employee data'!KZ30","v":0},{"$f":"'6 - Input sheet - Employee data'!LA30","v":0},{"$f":"'6 - Input sheet - Employee data'!LB30","v":0},{"$f":"'6 - Input sheet - Employee data'!LC30","v":0},{"$f":"'6 - Input sheet - Employee data'!LD30","v":0},{"$f":"'6 - Input sheet - Employee data'!LE30","v":0},{"$f":"'6 - Input sheet - Employee data'!LF30","v":0},{"$f":"'6 - Input sheet - Employee data'!LG30","v":0},{"$f":"'6 - Input sheet - Employee data'!LH30","v":0},{"$f":"'6 - Input sheet - Employee data'!LI30","v":0},{"$f":"'6 - Input sheet - Employee data'!LJ30","v":0},{"$f":"'6 - Input sheet - Employee data'!LK30","v":0},{"$f":"'6 - Input sheet - Employee data'!LL30","v":0},{"$f":"'6 - Input sheet - Employee data'!LM30","v":0},{"$f":"'6 - Input sheet - Employee data'!LN30","v":0},{"$f":"'6 - Input sheet - Employee data'!LO30","v":0},{"$f":"'6 - Input sheet - Employee data'!LP30","v":0},{"$f":"'6 - Input sheet - Employee data'!LQ30","v":0},{"$f":"'6 - Input sheet - Employee data'!LR30","v":0},{"$f":"'6 - Input sheet - Employee data'!LS30","v":0},{"$f":"'6 - Input sheet - Employee data'!LT30","v":0},{"$f":"'6 - Input sheet - Employee data'!LU30","v":0},{"$f":"'6 - Input sheet - Employee data'!LV30","v":0},{"$f":"'6 - Input sheet - Employee data'!LW30","v":0},{"$f":"'6 - Input sheet - Employee data'!LX30","v":0},{"$f":"'6 - Input sheet - Employee data'!LY30","v":0},{"$f":"'6 - Input sheet - Employee data'!LZ30","v":0},{"$f":"'6 - Input sheet - Employee data'!MA30","v":0},{"$f":"'6 - Input sheet - Employee data'!MB30","v":0},{"$f":"'6 - Input sheet - Employee data'!MC30","v":0},{"$f":"'6 - Input sheet - Employee data'!MD30","v":0},{"$f":"'6 - Input sheet - Employee data'!ME30","v":0},{"$f":"'6 - Input sheet - Employee data'!MF30","v":0},{"$f":"'6 - Input sheet - Employee data'!MG30","v":0},{"$f":"'6 - Input sheet - Employee data'!MH30","v":0},{"$f":"'6 - Input sheet - Employee data'!MI30","v":0},{"$f":"'6 - Input sheet - Employee data'!MJ30","v":0},{"$f":"'6 - Input sheet - Employee data'!MK30","v":0},{"$f":"'6 - Input sheet - Employee data'!ML30","v":0},{"$f":"'6 - Input sheet - Employee data'!MM30","v":0},{"$f":"'6 - Input sheet - Employee data'!MN30","v":0},{"$f":"'6 - Input sheet - Employee data'!MO30","v":0},{"$f":"'6 - Input sheet - Employee data'!MP30","v":0},{"$f":"'6 - Input sheet - Employee data'!MQ30","v":0},{"$f":"'6 - Input sheet - Employee data'!MR30","v":0},{"$f":"'6 - Input sheet - Employee data'!MS30","v":0},{"$f":"'6 - Input sheet - Employee data'!MT30","v":0},{"$f":"'6 - Input sheet - Employee data'!MU30","v":0},{"$f":"'6 - Input sheet - Employee data'!MV30","v":0},{"$f":"'6 - Input sheet - Employee data'!MW30","v":0},{"$f":"'6 - Input sheet - Employee data'!MX30","v":0},{"$f":"'6 - Input sheet - Employee data'!MY30","v":0},{"$f":"'6 - Input sheet - Employee data'!MZ30","v":0},{"$f":"'6 - Input sheet - Employee data'!NA30","v":0},{"$f":"'6 - Input sheet - Employee data'!NB30","v":0},{"$f":"'6 - Input sheet - Employee data'!NC30","v":0},{"$f":"'6 - Input sheet - Employee data'!ND30","v":0},{"$f":"'6 - Input sheet - Employee data'!NE30","v":0},{"$f":"'6 - Input sheet - Employee data'!NF30","v":0},{"$f":"'6 - Input sheet - Employee data'!NG30","v":0},{"$f":"'6 - Input sheet - Employee data'!NH30","v":0},{"$f":"'6 - Input sheet - Employee data'!NI30","v":0},{"$f":"'6 - Input sheet - Employee data'!NJ30","v":0},{"$f":"'6 - Input sheet - Employee data'!NK30","v":0},{"$f":"'6 - Input sheet - Employee data'!NL30","v":0},{"$f":"'6 - Input sheet - Employee data'!NM30","v":0},{"$f":"'6 - Input sheet - Employee data'!NN30","v":0},{"$f":"'6 - Input sheet - Employee data'!NO30","v":0},{"$f":"'6 - Input sheet - Employee data'!NP30","v":0},{"$f":"'6 - Input sheet - Employee data'!NQ30","v":0},{"$f":"'6 - Input sheet - Employee data'!NR30","v":0},{"$f":"'6 - Input sheet - Employee data'!NS30","v":0},{"$f":"'6 - Input sheet - Employee data'!NT30","v":0},{"$f":"'6 - Input sheet - Employee data'!NU30","v":0},{"$f":"'6 - Input sheet - Employee data'!NV30","v":0},{"$f":"'6 - Input sheet - Employee data'!NW30","v":0},{"$f":"'6 - Input sheet - Employee data'!NX30","v":0},{"$f":"'6 - Input sheet - Employee data'!NY30","v":0},{"$f":"'6 - Input sheet - Employee data'!NZ30","v":0},{"$f":"'6 - Input sheet - Employee data'!OA30","v":0},{"$f":"'6 - Input sheet - Employee data'!OB30","v":0},{"$f":"'6 - Input sheet - Employee data'!OC30","v":0},{"$f":"'6 - Input sheet - Employee data'!OD30","v":0},{"$f":"'6 - Input sheet - Employee data'!OE30","v":0},{"$f":"'6 - Input sheet - Employee data'!OF30","v":0},{"$f":"'6 - Input sheet - Employee data'!OG30","v":0},{"$f":"'6 - Input sheet - Employee data'!OH30","v":0},{"$f":"'6 - Input sheet - Employee data'!OI30","v":0},{"$f":"'6 - Input sheet - Employee data'!OJ30","v":0},{"$f":"'6 - Input sheet - Employee data'!OK30","v":0},{"$f":"'6 - Input sheet - Employee data'!OL30","v":0},{"$f":"'6 - Input sheet - Employee data'!OM30","v":0},{"$f":"'6 - Input sheet - Employee data'!ON30","v":0},{"$f":"'6 - Input sheet - Employee data'!OO30","v":0},{"$f":"'6 - Input sheet - Employee data'!OP30","v":0},{"$f":"'6 - Input sheet - Employee data'!OQ30","v":0},{"$f":"'6 - Input sheet - Employee data'!OR30","v":0},{"$f":"'6 - Input sheet - Employee data'!OS30","v":0},{"$f":"'6 - Input sheet - Employee data'!OT30","v":0},{"$f":"'6 - Input sheet - Employee data'!OU30","v":0},{"$f":"'6 - Input sheet - Employee data'!OV30","v":0},{"$f":"'6 - Input sheet - Employee data'!OW30","v":0},{"$f":"'6 - Input sheet - Employee data'!OX30","v":0},{"$f":"'6 - Input sheet - Employee data'!OY30","v":0},{"$f":"'6 - Input sheet - Employee data'!OZ30","v":0},{"$f":"'6 - Input sheet - Employee data'!PA30","v":0},{"$f":"'6 - Input sheet - Employee data'!PB30","v":0},{"$f":"'6 - Input sheet - Employee data'!PC30","v":0},{"$f":"'6 - Input sheet - Employee data'!PD30","v":0},{"$f":"'6 - Input sheet - Employee data'!PE30","v":0},{"$f":"'6 - Input sheet - Employee data'!PF30","v":0},{"$f":"'6 - Input sheet - Employee data'!PG30","v":0},{"$f":"'6 - Input sheet - Employee data'!PH30","v":0},{"$f":"'6 - Input sheet - Employee data'!PI30","v":0},{"$f":"'6 - Input sheet - Employee data'!PJ30","v":0},{"$f":"'6 - Input sheet - Employee data'!PK30","v":0},{"$f":"'6 - Input sheet - Employee data'!PL30","v":0},{"$f":"'6 - Input sheet - Employee data'!PM30","v":0},{"$f":"'6 - Input sheet - Employee data'!PN30","v":0},{"$f":"'6 - Input sheet - Employee data'!PO30","v":0},{"$f":"'6 - Input sheet - Employee data'!PP30","v":0},{"$f":"'6 - Input sheet - Employee data'!PQ30","v":0},{"$f":"'6 - Input sheet - Employee data'!PR30","v":0},{"$f":"'6 - Input sheet - Employee data'!PS30","v":0},{"$f":"'6 - Input sheet - Employee data'!PT30","v":0},{"$f":"'6 - Input sheet - Employee data'!PU30","v":0},{"$f":"'6 - Input sheet - Employee data'!PV30","v":0},{"$f":"'6 - Input sheet - Employee data'!PW30","v":0},{"$f":"'6 - Input sheet - Employee data'!PX30","v":0},{"$f":"'6 - Input sheet - Employee data'!PY30","v":0},{"$f":"'6 - Input sheet - Employee data'!PZ30","v":0},{"$f":"'6 - Input sheet - Employee data'!QA30","v":0},{"$f":"'6 - Input sheet - Employee data'!QB30","v":0},{"$f":"'6 - Input sheet - Employee data'!QC30","v":0},{"$f":"'6 - Input sheet - Employee data'!QD30","v":0},{"$f":"'6 - Input sheet - Employee data'!QE30","v":0},{"$f":"'6 - Input sheet - Employee data'!QF30","v":0},{"$f":"'6 - Input sheet - Employee data'!QG30","v":0},{"$f":"'6 - Input sheet - Employee data'!QH30","v":0},{"$f":"'6 - Input sheet - Employee data'!QI30","v":0},{"$f":"'6 - Input sheet - Employee data'!QJ30","v":0},{"$f":"'6 - Input sheet - Employee data'!QK30","v":0},{"$f":"'6 - Input sheet - Employee data'!QL30","v":0},{"$f":"'6 - Input sheet - Employee data'!QM30","v":0},{"$f":"'6 - Input sheet - Employee data'!QN30","v":0},{"$f":"'6 - Input sheet - Employee data'!QO30","v":0},{"$f":"'6 - Input sheet - Employee data'!QP30","v":0},{"$f":"'6 - Input sheet - Employee data'!QQ30","v":0},{"$f":"'6 - Input sheet - Employee data'!QR30","v":0},{"$f":"'6 - Input sheet - Employee data'!QS30","v":0},{"$f":"'6 - Input sheet - Employee data'!QT30","v":0},{"$f":"'6 - Input sheet - Employee data'!QU30","v":0},{"$f":"'6 - Input sheet - Employee data'!QV30","v":0},{"$f":"'6 - Input sheet - Employee data'!QW30","v":0},{"$f":"'6 - Input sheet - Employee data'!QX30","v":0},{"$f":"'6 - Input sheet - Employee data'!QY30","v":0},{"$f":"'6 - Input sheet - Employee data'!QZ30","v":0},{"$f":"'6 - Input sheet - Employee data'!RA30","v":0},{"$f":"'6 - Input sheet - Employee data'!RB30","v":0},{"$f":"'6 - Input sheet - Employee data'!RC30","v":0},{"$f":"'6 - Input sheet - Employee data'!RD30","v":0},{"$f":"'6 - Input sheet - Employee data'!RE30","v":0},{"$f":"'6 - Input sheet - Employee data'!RF30","v":0},{"$f":"'6 - Input sheet - Employee data'!RG30","v":0},{"$f":"'6 - Input sheet - Employee data'!RH30","v":0},{"$f":"'6 - Input sheet - Employee data'!RI30","v":0},{"$f":"'6 - Input sheet - Employee data'!RJ30","v":0},{"$f":"'6 - Input sheet - Employee data'!RK30","v":0},{"$f":"'6 - Input sheet - Employee data'!RL30","v":0},{"$f":"'6 - Input sheet - Employee data'!RM30","v":0},{"$f":"'6 - Input sheet - Employee data'!RN30","v":0},{"$f":"'6 - Input sheet - Employee data'!RO30","v":0},{"$f":"'6 - Input sheet - Employee data'!RP30","v":0},{"$f":"'6 - Input sheet - Employee data'!RQ30","v":0},{"$f":"'6 - Input sheet - Employee data'!RR30","v":0},{"$f":"'6 - Input sheet - Employee data'!RS30","v":0},{"$f":"'6 - Input sheet - Employee data'!RT30","v":0},{"$f":"'6 - Input sheet - Employee data'!RU30","v":0},{"$f":"'6 - Input sheet - Employee data'!RV30","v":0},{"$f":"'6 - Input sheet - Employee data'!RW30","v":0},{"$f":"'6 - Input sheet - Employee data'!RX30","v":0},{"$f":"'6 - Input sheet - Employee data'!RY30","v":0},{"$f":"'6 - Input sheet - Employee data'!RZ30","v":0},{"$f":"'6 - Input sheet - Employee data'!SA30","v":0},{"$f":"'6 - Input sheet - Employee data'!SB30","v":0},{"$f":"'6 - Input sheet - Employee data'!SC30","v":0},{"$f":"'6 - Input sheet - Employee data'!SD30","v":0},{"$f":"'6 - Input sheet - Employee data'!SE30","v":0},{"$f":"'6 - Input sheet - Employee data'!SF30","v":0},{"$f":"'6 - Input sheet - Employee data'!SG30","v":0},{"$f":"'6 - Input sheet - Employee data'!SH30","v":0}]
["   Employed - February 15, 2019 to June 30, 2019",null,{"$f":"'6 - Input sheet - Employee data'!C31","v":"Yes"},{"$f":"'6 - Input sheet - Employee data'!D31","v":"Yes"},{"$f":"'6 - Input sheet - Employee data'!E31","v":"Yes"},{"$f":"'6 - Input sheet - Employee data'!F31","v":"Yes"},{"$f":"'6 - Input sheet - Employee data'!G31","v":"Yes"},{"$f":"'6 - Input sheet - Employee data'!H31","v":"Yes"},{"$f":"'6 - Input sheet - Employee data'!I31","v":"Yes"},{"$f":"'6 - Input sheet - Employee data'!J31","v":"Yes"},{"$f":"'6 - Input sheet - Employee data'!K31","v":"Yes"},{"$f":"'6 - Input sheet - Employee data'!L31","v":"Yes"},{"$f":"'6 - Input sheet - Employee data'!M31","v":"Yes"},{"$f":"'6 - Input sheet - Employee data'!N31","v":"Yes"},{"$f":"'6 - Input sheet - Employee data'!O31","v":"Yes"},{"$f":"'6 - Input sheet - Employee data'!P31","v":"Yes"},{"$f":"'6 - Input sheet - Employee data'!Q31","v":"Yes"},{"$f":"'6 - Input sheet - Employee data'!R31","v":"Yes"},{"$f":"'6 - Input sheet - Employee data'!S31","v":"Yes"},{"$f":"'6 - Input sheet - Employee data'!T31","v":"Yes"},{"$f":"'6 - Input sheet - Employee data'!U31","v":"Yes"},{"$f":"'6 - Input sheet - Employee data'!V31","v":"Yes"},{"$f":"'6 - Input sheet - Employee data'!W31","v":"Yes"},{"$f":"'6 - Input sheet - Employee data'!X31","v":"Yes"},{"$f":"'6 - Input sheet - Employee data'!Y31","v":"Yes"},{"$f":"'6 - Input sheet - Employee data'!Z31","v":"Yes"},{"$f":"'6 - Input sheet - Employee data'!AA31","v":"Yes"},{"$f":"'6 - Input sheet - Employee data'!AB31","v":"Yes"},{"$f":"'6 - Input sheet - Employee data'!AC31","v":"Yes"},{"$f":"'6 - Input sheet - Employee data'!AD31","v":"Yes"},{"$f":"'6 - Input sheet - Employee data'!AE31","v":"Yes"},{"$f":"'6 - Input sheet - Employee data'!AF31","v":"Yes"},{"$f":"'6 - Input sheet - Employee data'!AG31","v":"Yes"},{"$f":"'6 - Input sheet - Employee data'!AH31","v":"Yes"},{"$f":"'6 - Input sheet - Employee data'!AI31","v":"Yes"},{"$f":"'6 - Input sheet - Employee data'!AJ31","v":"Yes"},{"$f":"'6 - Input sheet - Employee data'!AK31","v":"Yes"},{"$f":"'6 - Input sheet - Employee data'!AL31","v":"Yes"},{"$f":"'6 - Input sheet - Employee data'!AM31","v":"Yes"},{"$f":"'6 - Input sheet - Employee data'!AN31","v":"Yes"},{"$f":"'6 - Input sheet - Employee data'!AO31","v":"Yes"},{"$f":"'6 - Input sheet - Employee data'!AP31","v":"Yes"},{"$f":"'6 - Input sheet - Employee data'!AQ31","v":"Yes"},{"$f":"'6 - Input sheet - Employee data'!AR31","v":"Yes"},{"$f":"'6 - Input sheet - Employee data'!AS31","v":"Yes"},{"$f":"'6 - Input sheet - Employee data'!AT31","v":"Yes"},{"$f":"'6 - Input sheet - Employee data'!AU31","v":"Yes"},{"$f":"'6 - Input sheet - Employee data'!AV31","v":"Yes"},{"$f":"'6 - Input sheet - Employee data'!AW31","v":"Yes"},{"$f":"'6 - Input sheet - Employee data'!AX31","v":"Yes"},{"$f":"'6 - Input sheet - Employee data'!AY31","v":"Yes"},{"$f":"'6 - Input sheet - Employee data'!AZ31","v":"Yes"},{"$f":"'6 - Input sheet - Employee data'!BA31","v":"Yes"},{"$f":"'6 - Input sheet - Employee data'!BB31","v":"Yes"},{"$f":"'6 - Input sheet - Employee data'!BC31","v":"Yes"},{"$f":"'6 - Input sheet - Employee data'!BD31","v":"Yes"},{"$f":"'6 - Input sheet - Employee data'!BE31","v":"Yes"},{"$f":"'6 - Input sheet - Employee data'!BF31","v":"Yes"},{"$f":"'6 - Input sheet - Employee data'!BG31","v":"Yes"},{"$f":"'6 - Input sheet - Employee data'!BH31","v":"Yes"},{"$f":"'6 - Input sheet - Employee data'!BI31","v":"Yes"},{"$f":"'6 - Input sheet - Employee data'!BJ31","v":"Yes"},{"$f":"'6 - Input sheet - Employee data'!BK31","v":"Yes"},{"$f":"'6 - Input sheet - Employee data'!BL31","v":"Yes"},{"$f":"'6 - Input sheet - Employee data'!BM31","v":"Yes"},{"$f":"'6 - Input sheet - Employee data'!BN31","v":"Yes"},{"$f":"'6 - Input sheet - Employee data'!BO31","v":"Yes"},{"$f":"'6 - Input sheet - Employee data'!BP31","v":"Yes"},{"$f":"'6 - Input sheet - Employee data'!BQ31","v":"Yes"},{"$f":"'6 - Input sheet - Employee data'!BR31","v":"Yes"},{"$f":"'6 - Input sheet - Employee data'!BS31","v":"Yes"},{"$f":"'6 - Input sheet - Employee data'!BT31","v":"Yes"},{"$f":"'6 - Input sheet - Employee data'!BU31","v":"Yes"},{"$f":"'6 - Input sheet - Employee data'!BV31","v":"Yes"},{"$f":"'6 - Input sheet - Employee data'!BW31","v":"Yes"},{"$f":"'6 - Input sheet - Employee data'!BX31","v":"Yes"},{"$f":"'6 - Input sheet - Employee data'!BY31","v":"Yes"},{"$f":"'6 - Input sheet - Employee data'!BZ31","v":"Yes"},{"$f":"'6 - Input sheet - Employee data'!CA31","v":"Yes"},{"$f":"'6 - Input sheet - Employee data'!CB31","v":"Yes"},{"$f":"'6 - Input sheet - Employee data'!CC31","v":"Yes"},{"$f":"'6 - Input sheet - Employee data'!CD31","v":"Yes"},{"$f":"'6 - Input sheet - Employee data'!CE31","v":"Yes"},{"$f":"'6 - Input sheet - Employee data'!CF31","v":"Yes"},{"$f":"'6 - Input sheet - Employee data'!CG31","v":"Yes"},{"$f":"'6 - Input sheet - Employee data'!CH31","v":"Yes"},{"$f":"'6 - Input sheet - Employee data'!CI31","v":"Yes"},{"$f":"'6 - Input sheet - Employee data'!CJ31","v":"Yes"},{"$f":"'6 - Input sheet - Employee data'!CK31","v":"Yes"},{"$f":"'6 - Input sheet - Employee data'!CL31","v":"Yes"},{"$f":"'6 - Input sheet - Employee data'!CM31","v":"Yes"},{"$f":"'6 - Input sheet - Employee data'!CN31","v":"Yes"},{"$f":"'6 - Input sheet - Employee data'!CO31","v":"Yes"},{"$f":"'6 - Input sheet - Employee data'!CP31","v":"Yes"},{"$f":"'6 - Input sheet - Employee data'!CQ31","v":"Yes"},{"$f":"'6 - Input sheet - Employee data'!CR31","v":"Yes"},{"$f":"'6 - Input sheet - Employee data'!CS31","v":"Yes"},{"$f":"'6 - Input sheet - Employee data'!CT31","v":"Yes"},{"$f":"'6 - Input sheet - Employee data'!CU31","v":"Yes"},{"$f":"'6 - Input sheet - Employee data'!CV31","v":"Yes"},{"$f":"'6 - Input sheet - Employee data'!CW31","v":"Yes"},{"$f":"'6 - Input sheet - Employee data'!CX31","v":"Yes"},{"$f":"'6 - Input sheet - Employee data'!CY31","v":"Yes"},{"$f":"'6 - Input sheet - Employee data'!CZ31","v":"Yes"},{"$f":"'6 - Input sheet - Employee data'!DA31","v":"Yes"},{"$f":"'6 - Input sheet - Employee data'!DB31","v":"Yes"},{"$f":"'6 - Input sheet - Employee data'!DC31","v":"Yes"},{"$f":"'6 - Input sheet - Employee data'!DD31","v":"Yes"},{"$f":"'6 - Input sheet - Employee data'!DE31","v":"Yes"},{"$f":"'6 - Input sheet - Employee data'!DF31","v":"Yes"},{"$f":"'6 - Input sheet - Employee data'!DG31","v":"Yes"},{"$f":"'6 - Input sheet - Employee data'!DH31","v":"Yes"},{"$f":"'6 - Input sheet - Employee data'!DI31","v":"Yes"},{"$f":"'6 - Input sheet - Employee data'!DJ31","v":"Yes"},{"$f":"'6 - Input sheet - Employee data'!DK31","v":"Yes"},{"$f":"'6 - Input sheet - Employee data'!DL31","v":"Yes"},{"$f":"'6 - Input sheet - Employee data'!DM31","v":"Yes"},{"$f":"'6 - Input sheet - Employee data'!DN31","v":"Yes"},{"$f":"'6 - Input sheet - Employee data'!DO31","v":"Yes"},{"$f":"'6 - Input sheet - Employee data'!DP31","v":"Yes"},{"$f":"'6 - Input sheet - Employee data'!DQ31","v":"Yes"},{"$f":"'6 - Input sheet - Employee data'!DR31","v":"Yes"},{"$f":"'6 - Input sheet - Employee data'!DS31","v":"Yes"},{"$f":"'6 - Input sheet - Employee data'!DT31","v":"Yes"},{"$f":"'6 - Input sheet - Employee data'!DU31","v":"Yes"},{"$f":"'6 - Input sheet - Employee data'!DV31","v":"Yes"},{"$f":"'6 - Input sheet - Employee data'!DW31","v":"Yes"},{"$f":"'6 - Input sheet - Employee data'!DX31","v":"Yes"},{"$f":"'6 - Input sheet - Employee data'!DY31","v":"Yes"},{"$f":"'6 - Input sheet - Employee data'!DZ31","v":"Yes"},{"$f":"'6 - Input sheet - Employee data'!EA31","v":"Yes"},{"$f":"'6 - Input sheet - Employee data'!EB31","v":"Yes"},{"$f":"'6 - Input sheet - Employee data'!EC31","v":"Yes"},{"$f":"'6 - Input sheet - Employee data'!ED31","v":"Yes"},{"$f":"'6 - Input sheet - Employee data'!EE31","v":"Yes"},{"$f":"'6 - Input sheet - Employee data'!EF31","v":"Yes"},{"$f":"'6 - Input sheet - Employee data'!EG31","v":"Yes"},{"$f":"'6 - Input sheet - Employee data'!EH31","v":"Yes"},{"$f":"'6 - Input sheet - Employee data'!EI31","v":"Yes"},{"$f":"'6 - Input sheet - Employee data'!EJ31","v":"Yes"},{"$f":"'6 - Input sheet - Employee data'!EK31","v":"Yes"},{"$f":"'6 - Input sheet - Employee data'!EL31","v":"Yes"},{"$f":"'6 - Input sheet - Employee data'!EM31","v":"Yes"},{"$f":"'6 - Input sheet - Employee data'!EN31","v":"Yes"},{"$f":"'6 - Input sheet - Employee data'!EO31","v":"Yes"},{"$f":"'6 - Input sheet - Employee data'!EP31","v":"Yes"},{"$f":"'6 - Input sheet - Employee data'!EQ31","v":"Yes"},{"$f":"'6 - Input sheet - Employee data'!ER31","v":"Yes"},{"$f":"'6 - Input sheet - Employee data'!ES31","v":"Yes"},{"$f":"'6 - Input sheet - Employee data'!ET31","v":"Yes"},{"$f":"'6 - Input sheet - Employee data'!EU31","v":"Yes"},{"$f":"'6 - Input sheet - Employee data'!EV31","v":"Yes"},{"$f":"'6 - Input sheet - Employee data'!EW31","v":"Yes"},{"$f":"'6 - Input sheet - Employee data'!EX31","v":"Yes"},{"$f":"'6 - Input sheet - Employee data'!EY31","v":"Yes"},{"$f":"'6 - Input sheet - Employee data'!EZ31","v":"Yes"},{"$f":"'6 - Input sheet - Employee data'!FA31","v":"Yes"},{"$f":"'6 - Input sheet - Employee data'!FB31","v":"Yes"},{"$f":"'6 - Input sheet - Employee data'!FC31","v":"Yes"},{"$f":"'6 - Input sheet - Employee data'!FD31","v":"Yes"},{"$f":"'6 - Input sheet - Employee data'!FE31","v":"Yes"},{"$f":"'6 - Input sheet - Employee data'!FF31","v":"Yes"},{"$f":"'6 - Input sheet - Employee data'!FG31","v":"Yes"},{"$f":"'6 - Input sheet - Employee data'!FH31","v":"Yes"},{"$f":"'6 - Input sheet - Employee data'!FI31","v":"Yes"},{"$f":"'6 - Input sheet - Employee data'!FJ31","v":"Yes"},{"$f":"'6 - Input sheet - Employee data'!FK31","v":"Yes"},{"$f":"'6 - Input sheet - Employee data'!FL31","v":"Yes"},{"$f":"'6 - Input sheet - Employee data'!FM31","v":"Yes"},{"$f":"'6 - Input sheet - Employee data'!FN31","v":"Yes"},{"$f":"'6 - Input sheet - Employee data'!FO31","v":"Yes"},{"$f":"'6 - Input sheet - Employee data'!FP31","v":"Yes"},{"$f":"'6 - Input sheet - Employee data'!FQ31","v":"Yes"},{"$f":"'6 - Input sheet - Employee data'!FR31","v":"Yes"},{"$f":"'6 - Input sheet - Employee data'!FS31","v":"Yes"},{"$f":"'6 - Input sheet - Employee data'!FT31","v":"Yes"},{"$f":"'6 - Input sheet - Employee data'!FU31","v":"Yes"},{"$f":"'6 - Input sheet - Employee data'!FV31","v":"Yes"},{"$f":"'6 - Input sheet - Employee data'!FW31","v":"Yes"},{"$f":"'6 - Input sheet - Employee data'!FX31","v":"Yes"},{"$f":"'6 - Input sheet - Employee data'!FY31","v":"Yes"},{"$f":"'6 - Input sheet - Employee data'!FZ31","v":"Yes"},{"$f":"'6 - Input sheet - Employee data'!GA31","v":"Yes"},{"$f":"'6 - Input sheet - Employee data'!GB31","v":"Yes"},{"$f":"'6 - Input sheet - Employee data'!GC31","v":"Yes"},{"$f":"'6 - Input sheet - Employee data'!GD31","v":"Yes"},{"$f":"'6 - Input sheet - Employee data'!GE31","v":"Yes"},{"$f":"'6 - Input sheet - Employee data'!GF31","v":"Yes"},{"$f":"'6 - Input sheet - Employee data'!GG31","v":"Yes"},{"$f":"'6 - Input sheet - Employee data'!GH31","v":"Yes"},{"$f":"'6 - Input sheet - Employee data'!GI31","v":"Yes"},{"$f":"'6 - Input sheet - Employee data'!GJ31","v":"Yes"},{"$f":"'6 - Input sheet - Employee data'!GK31","v":"Yes"},{"$f":"'6 - Input sheet - Employee data'!GL31","v":"Yes"},{"$f":"'6 - Input sheet - Employee data'!GM31","v":"Yes"},{"$f":"'6 - Input sheet - Employee data'!GN31","v":"Yes"},{"$f":"'6 - Input sheet - Employee data'!GO31","v":"Yes"},{"$f":"'6 - Input sheet - Employee data'!GP31","v":"Yes"},{"$f":"'6 - Input sheet - Employee data'!GQ31","v":"Yes"},{"$f":"'6 - Input sheet - Employee data'!GR31","v":"Yes"},{"$f":"'6 - Input sheet - Employee data'!GS31","v":"Yes"},{"$f":"'6 - Input sheet - Employee data'!GT31","v":"Yes"},{"$f":"'6 - Input sheet - Employee data'!GU31","v":"Yes"},{"$f":"'6 - Input sheet - Employee data'!GV31","v":"Yes"},{"$f":"'6 - Input sheet - Employee data'!GW31","v":"Yes"},{"$f":"'6 - Input sheet - Employee data'!GX31","v":"Yes"},{"$f":"'6 - Input sheet - Employee data'!GY31","v":"Yes"},{"$f":"'6 - Input sheet - Employee data'!GZ31","v":"Yes"},{"$f":"'6 - Input sheet - Employee data'!HA31","v":"Yes"},{"$f":"'6 - Input sheet - Employee data'!HB31","v":"Yes"},{"$f":"'6 - Input sheet - Employee data'!HC31","v":"Yes"},{"$f":"'6 - Input sheet - Employee data'!HD31","v":"Yes"},{"$f":"'6 - Input sheet - Employee data'!HE31","v":"Yes"},{"$f":"'6 - Input sheet - Employee data'!HF31","v":"Yes"},{"$f":"'6 - Input sheet - Employee data'!HG31","v":"Yes"},{"$f":"'6 - Input sheet - Employee data'!HH31","v":"Yes"},{"$f":"'6 - Input sheet - Employee data'!HI31","v":"Yes"},{"$f":"'6 - Input sheet - Employee data'!HJ31","v":"Yes"},{"$f":"'6 - Input sheet - Employee data'!HK31","v":"Yes"},{"$f":"'6 - Input sheet - Employee data'!HL31","v":"Yes"},{"$f":"'6 - Input sheet - Employee data'!HM31","v":"Yes"},{"$f":"'6 - Input sheet - Employee data'!HN31","v":"Yes"},{"$f":"'6 - Input sheet - Employee data'!HO31","v":"Yes"},{"$f":"'6 - Input sheet - Employee data'!HP31","v":"Yes"},{"$f":"'6 - Input sheet - Employee data'!HQ31","v":"Yes"},{"$f":"'6 - Input sheet - Employee data'!HR31","v":"Yes"},{"$f":"'6 - Input sheet - Employee data'!HS31","v":"Yes"},{"$f":"'6 - Input sheet - Employee data'!HT31","v":"Yes"},{"$f":"'6 - Input sheet - Employee data'!HU31","v":"Yes"},{"$f":"'6 - Input sheet - Employee data'!HV31","v":"Yes"},{"$f":"'6 - Input sheet - Employee data'!HW31","v":"Yes"},{"$f":"'6 - Input sheet - Employee data'!HX31","v":"Yes"},{"$f":"'6 - Input sheet - Employee data'!HY31","v":"Yes"},{"$f":"'6 - Input sheet - Employee data'!HZ31","v":"Yes"},{"$f":"'6 - Input sheet - Employee data'!IA31","v":"Yes"},{"$f":"'6 - Input sheet - Employee data'!IB31","v":"Yes"},{"$f":"'6 - Input sheet - Employee data'!IC31","v":"Yes"},{"$f":"'6 - Input sheet - Employee data'!ID31","v":"Yes"},{"$f":"'6 - Input sheet - Employee data'!IE31","v":"Yes"},{"$f":"'6 - Input sheet - Employee data'!IF31","v":"Yes"},{"$f":"'6 - Input sheet - Employee data'!IG31","v":"Yes"},{"$f":"'6 - Input sheet - Employee data'!IH31","v":"Yes"},{"$f":"'6 - Input sheet - Employee data'!II31","v":"Yes"},{"$f":"'6 - Input sheet - Employee data'!IJ31","v":"Yes"},{"$f":"'6 - Input sheet - Employee data'!IK31","v":"Yes"},{"$f":"'6 - Input sheet - Employee data'!IL31","v":"Yes"},{"$f":"'6 - Input sheet - Employee data'!IM31","v":"Yes"},{"$f":"'6 - Input sheet - Employee data'!IN31","v":"Yes"},{"$f":"'6 - Input sheet - Employee data'!IO31","v":"Yes"},{"$f":"'6 - Input sheet - Employee data'!IP31","v":"Yes"},{"$f":"'6 - Input sheet - Employee data'!IQ31","v":"Yes"},{"$f":"'6 - Input sheet - Employee data'!IR31","v":"Yes"},{"$f":"'6 - Input sheet - Employee data'!IS31","v":"Yes"},{"$f":"'6 - Input sheet - Employee data'!IT31","v":"Yes"},{"$f":"'6 - Input sheet - Employee data'!IU31","v":"Yes"},{"$f":"'6 - Input sheet - Employee data'!IV31","v":"Yes"},{"$f":"'6 - Input sheet - Employee data'!IW31","v":"Yes"},{"$f":"'6 - Input sheet - Employee data'!IX31","v":"Yes"},{"$f":"'6 - Input sheet - Employee data'!IY31","v":"Yes"},{"$f":"'6 - Input sheet - Employee data'!IZ31","v":"Yes"},{"$f":"'6 - Input sheet - Employee data'!JA31","v":"Yes"},{"$f":"'6 - Input sheet - Employee data'!JB31","v":"Yes"},{"$f":"'6 - Input sheet - Employee data'!JC31","v":"Yes"},{"$f":"'6 - Input sheet - Employee data'!JD31","v":"Yes"},{"$f":"'6 - Input sheet - Employee data'!JE31","v":"Yes"},{"$f":"'6 - Input sheet - Employee data'!JF31","v":"Yes"},{"$f":"'6 - Input sheet - Employee data'!JG31","v":"Yes"},{"$f":"'6 - Input sheet - Employee data'!JH31","v":"Yes"},{"$f":"'6 - Input sheet - Employee data'!JI31","v":"Yes"},{"$f":"'6 - Input sheet - Employee data'!JJ31","v":"Yes"},{"$f":"'6 - Input sheet - Employee data'!JK31","v":"Yes"},{"$f":"'6 - Input sheet - Employee data'!JL31","v":"Yes"},{"$f":"'6 - Input sheet - Employee data'!JM31","v":"Yes"},{"$f":"'6 - Input sheet - Employee data'!JN31","v":"Yes"},{"$f":"'6 - Input sheet - Employee data'!JO31","v":"Yes"},{"$f":"'6 - Input sheet - Employee data'!JP31","v":"Yes"},{"$f":"'6 - Input sheet - Employee data'!JQ31","v":"Yes"},{"$f":"'6 - Input sheet - Employee data'!JR31","v":"Yes"},{"$f":"'6 - Input sheet - Employee data'!JS31","v":"Yes"},{"$f":"'6 - Input sheet - Employee data'!JT31","v":"Yes"},{"$f":"'6 - Input sheet - Employee data'!JU31","v":"Yes"},{"$f":"'6 - Input sheet - Employee data'!JV31","v":"Yes"},{"$f":"'6 - Input sheet - Employee data'!JW31","v":"Yes"},{"$f":"'6 - Input sheet - Employee data'!JX31","v":"Yes"},{"$f":"'6 - Input sheet - Employee data'!JY31","v":"Yes"},{"$f":"'6 - Input sheet - Employee data'!JZ31","v":"Yes"},{"$f":"'6 - Input sheet - Employee data'!KA31","v":"Yes"},{"$f":"'6 - Input sheet - Employee data'!KB31","v":"Yes"},{"$f":"'6 - Input sheet - Employee data'!KC31","v":"Yes"},{"$f":"'6 - Input sheet - Employee data'!KD31","v":"Yes"},{"$f":"'6 - Input sheet - Employee data'!KE31","v":"Yes"},{"$f":"'6 - Input sheet - Employee data'!KF31","v":"Yes"},{"$f":"'6 - Input sheet - Employee data'!KG31","v":"Yes"},{"$f":"'6 - Input sheet - Employee data'!KH31","v":"Yes"},{"$f":"'6 - Input sheet - Employee data'!KI31","v":"Yes"},{"$f":"'6 - Input sheet - Employee data'!KJ31","v":"Yes"},{"$f":"'6 - Input sheet - Employee data'!KK31","v":"Yes"},{"$f":"'6 - Input sheet - Employee data'!KL31","v":"Yes"},{"$f":"'6 - Input sheet - Employee data'!KM31","v":"Yes"},{"$f":"'6 - Input sheet - Employee data'!KN31","v":"Yes"},{"$f":"'6 - Input sheet - Employee data'!KO31","v":"Yes"},{"$f":"'6 - Input sheet - Employee data'!KP31","v":"Yes"},{"$f":"'6 - Input sheet - Employee data'!KQ31","v":"Yes"},{"$f":"'6 - Input sheet - Employee data'!KR31","v":"Yes"},{"$f":"'6 - Input sheet - Employee data'!KS31","v":"Yes"},{"$f":"'6 - Input sheet - Employee data'!KT31","v":"Yes"},{"$f":"'6 - Input sheet - Employee data'!KU31","v":"Yes"},{"$f":"'6 - Input sheet - Employee data'!KV31","v":"Yes"},{"$f":"'6 - Input sheet - Employee data'!KW31","v":"Yes"},{"$f":"'6 - Input sheet - Employee data'!KX31","v":"Yes"},{"$f":"'6 - Input sheet - Employee data'!KY31","v":"Yes"},{"$f":"'6 - Input sheet - Employee data'!KZ31","v":"Yes"},{"$f":"'6 - Input sheet - Employee data'!LA31","v":"Yes"},{"$f":"'6 - Input sheet - Employee data'!LB31","v":"Yes"},{"$f":"'6 - Input sheet - Employee data'!LC31","v":"Yes"},{"$f":"'6 - Input sheet - Employee data'!LD31","v":"Yes"},{"$f":"'6 - Input sheet - Employee data'!LE31","v":"Yes"},{"$f":"'6 - Input sheet - Employee data'!LF31","v":"Yes"},{"$f":"'6 - Input sheet - Employee data'!LG31","v":"Yes"},{"$f":"'6 - Input sheet - Employee data'!LH31","v":"Yes"},{"$f":"'6 - Input sheet - Employee data'!LI31","v":"Yes"},{"$f":"'6 - Input sheet - Employee data'!LJ31","v":"Yes"},{"$f":"'6 - Input sheet - Employee data'!LK31","v":"Yes"},{"$f":"'6 - Input sheet - Employee data'!LL31","v":"Yes"},{"$f":"'6 - Input sheet - Employee data'!LM31","v":"Yes"},{"$f":"'6 - Input sheet - Employee data'!LN31","v":"Yes"},{"$f":"'6 - Input sheet - Employee data'!LO31","v":"Yes"},{"$f":"'6 - Input sheet - Employee data'!LP31","v":"Yes"},{"$f":"'6 - Input sheet - Employee data'!LQ31","v":"Yes"},{"$f":"'6 - Input sheet - Employee data'!LR31","v":"Yes"},{"$f":"'6 - Input sheet - Employee data'!LS31","v":"Yes"},{"$f":"'6 - Input sheet - Employee data'!LT31","v":"Yes"},{"$f":"'6 - Input sheet - Employee data'!LU31","v":"Yes"},{"$f":"'6 - Input sheet - Employee data'!LV31","v":"Yes"},{"$f":"'6 - Input sheet - Employee data'!LW31","v":"Yes"},{"$f":"'6 - Input sheet - Employee data'!LX31","v":"Yes"},{"$f":"'6 - Input sheet - Employee data'!LY31","v":"Yes"},{"$f":"'6 - Input sheet - Employee data'!LZ31","v":"Yes"},{"$f":"'6 - Input sheet - Employee data'!MA31","v":"Yes"},{"$f":"'6 - Input sheet - Employee data'!MB31","v":"Yes"},{"$f":"'6 - Input sheet - Employee data'!MC31","v":"Yes"},{"$f":"'6 - Input sheet - Employee data'!MD31","v":"Yes"},{"$f":"'6 - Input sheet - Employee data'!ME31","v":"Yes"},{"$f":"'6 - Input sheet - Employee data'!MF31","v":"Yes"},{"$f":"'6 - Input sheet - Employee data'!MG31","v":"Yes"},{"$f":"'6 - Input sheet - Employee data'!MH31","v":"Yes"},{"$f":"'6 - Input sheet - Employee data'!MI31","v":"Yes"},{"$f":"'6 - Input sheet - Employee data'!MJ31","v":"Yes"},{"$f":"'6 - Input sheet - Employee data'!MK31","v":"Yes"},{"$f":"'6 - Input sheet - Employee data'!ML31","v":"Yes"},{"$f":"'6 - Input sheet - Employee data'!MM31","v":"Yes"},{"$f":"'6 - Input sheet - Employee data'!MN31","v":"Yes"},{"$f":"'6 - Input sheet - Employee data'!MO31","v":"Yes"},{"$f":"'6 - Input sheet - Employee data'!MP31","v":"Yes"},{"$f":"'6 - Input sheet - Employee data'!MQ31","v":"Yes"},{"$f":"'6 - Input sheet - Employee data'!MR31","v":"Yes"},{"$f":"'6 - Input sheet - Employee data'!MS31","v":"Yes"},{"$f":"'6 - Input sheet - Employee data'!MT31","v":"Yes"},{"$f":"'6 - Input sheet - Employee data'!MU31","v":"Yes"},{"$f":"'6 - Input sheet - Employee data'!MV31","v":"Yes"},{"$f":"'6 - Input sheet - Employee data'!MW31","v":"Yes"},{"$f":"'6 - Input sheet - Employee data'!MX31","v":"Yes"},{"$f":"'6 - Input sheet - Employee data'!MY31","v":"Yes"},{"$f":"'6 - Input sheet - Employee data'!MZ31","v":"Yes"},{"$f":"'6 - Input sheet - Employee data'!NA31","v":"Yes"},{"$f":"'6 - Input sheet - Employee data'!NB31","v":"Yes"},{"$f":"'6 - Input sheet - Employee data'!NC31","v":"Yes"},{"$f":"'6 - Input sheet - Employee data'!ND31","v":"Yes"},{"$f":"'6 - Input sheet - Employee data'!NE31","v":"Yes"},{"$f":"'6 - Input sheet - Employee data'!NF31","v":"Yes"},{"$f":"'6 - Input sheet - Employee data'!NG31","v":"Yes"},{"$f":"'6 - Input sheet - Employee data'!NH31","v":"Yes"},{"$f":"'6 - Input sheet - Employee data'!NI31","v":"Yes"},{"$f":"'6 - Input sheet - Employee data'!NJ31","v":"Yes"},{"$f":"'6 - Input sheet - Employee data'!NK31","v":"Yes"},{"$f":"'6 - Input sheet - Employee data'!NL31","v":"Yes"},{"$f":"'6 - Input sheet - Employee data'!NM31","v":"Yes"},{"$f":"'6 - Input sheet - Employee data'!NN31","v":"Yes"},{"$f":"'6 - Input sheet - Employee data'!NO31","v":"Yes"},{"$f":"'6 - Input sheet - Employee data'!NP31","v":"Yes"},{"$f":"'6 - Input sheet - Employee data'!NQ31","v":"Yes"},{"$f":"'6 - Input sheet - Employee data'!NR31","v":"Yes"},{"$f":"'6 - Input sheet - Employee data'!NS31","v":"Yes"},{"$f":"'6 - Input sheet - Employee data'!NT31","v":"Yes"},{"$f":"'6 - Input sheet - Employee data'!NU31","v":"Yes"},{"$f":"'6 - Input sheet - Employee data'!NV31","v":"Yes"},{"$f":"'6 - Input sheet - Employee data'!NW31","v":"Yes"},{"$f":"'6 - Input sheet - Employee data'!NX31","v":"Yes"},{"$f":"'6 - Input sheet - Employee data'!NY31","v":"Yes"},{"$f":"'6 - Input sheet - Employee data'!NZ31","v":"Yes"},{"$f":"'6 - Input sheet - Employee data'!OA31","v":"Yes"},{"$f":"'6 - Input sheet - Employee data'!OB31","v":"Yes"},{"$f":"'6 - Input sheet - Employee data'!OC31","v":"Yes"},{"$f":"'6 - Input sheet - Employee data'!OD31","v":"Yes"},{"$f":"'6 - Input sheet - Employee data'!OE31","v":"Yes"},{"$f":"'6 - Input sheet - Employee data'!OF31","v":"Yes"},{"$f":"'6 - Input sheet - Employee data'!OG31","v":"Yes"},{"$f":"'6 - Input sheet - Employee data'!OH31","v":"Yes"},{"$f":"'6 - Input sheet - Employee data'!OI31","v":"Yes"},{"$f":"'6 - Input sheet - Employee data'!OJ31","v":"Yes"},{"$f":"'6 - Input sheet - Employee data'!OK31","v":"Yes"},{"$f":"'6 - Input sheet - Employee data'!OL31","v":"Yes"},{"$f":"'6 - Input sheet - Employee data'!OM31","v":"Yes"},{"$f":"'6 - Input sheet - Employee data'!ON31","v":"Yes"},{"$f":"'6 - Input sheet - Employee data'!OO31","v":"Yes"},{"$f":"'6 - Input sheet - Employee data'!OP31","v":"Yes"},{"$f":"'6 - Input sheet - Employee data'!OQ31","v":"Yes"},{"$f":"'6 - Input sheet - Employee data'!OR31","v":"Yes"},{"$f":"'6 - Input sheet - Employee data'!OS31","v":"Yes"},{"$f":"'6 - Input sheet - Employee data'!OT31","v":"Yes"},{"$f":"'6 - Input sheet - Employee data'!OU31","v":"Yes"},{"$f":"'6 - Input sheet - Employee data'!OV31","v":"Yes"},{"$f":"'6 - Input sheet - Employee data'!OW31","v":"Yes"},{"$f":"'6 - Input sheet - Employee data'!OX31","v":"Yes"},{"$f":"'6 - Input sheet - Employee data'!OY31","v":"Yes"},{"$f":"'6 - Input sheet - Employee data'!OZ31","v":"Yes"},{"$f":"'6 - Input sheet - Employee data'!PA31","v":"Yes"},{"$f":"'6 - Input sheet - Employee data'!PB31","v":"Yes"},{"$f":"'6 - Input sheet - Employee data'!PC31","v":"Yes"},{"$f":"'6 - Input sheet - Employee data'!PD31","v":"Yes"},{"$f":"'6 - Input sheet - Employee data'!PE31","v":"Yes"},{"$f":"'6 - Input sheet - Employee data'!PF31","v":"Yes"},{"$f":"'6 - Input sheet - Employee data'!PG31","v":"Yes"},{"$f":"'6 - Input sheet - Employee data'!PH31","v":"Yes"},{"$f":"'6 - Input sheet - Employee data'!PI31","v":"Yes"},{"$f":"'6 - Input sheet - Employee data'!PJ31","v":"Yes"},{"$f":"'6 - Input sheet - Employee data'!PK31","v":"Yes"},{"$f":"'6 - Input sheet - Employee data'!PL31","v":"Yes"},{"$f":"'6 - Input sheet - Employee data'!PM31","v":"Yes"},{"$f":"'6 - Input sheet - Employee data'!PN31","v":"Yes"},{"$f":"'6 - Input sheet - Employee data'!PO31","v":"Yes"},{"$f":"'6 - Input sheet - Employee data'!PP31","v":"Yes"},{"$f":"'6 - Input sheet - Employee data'!PQ31","v":"Yes"},{"$f":"'6 - Input sheet - Employee data'!PR31","v":"Yes"},{"$f":"'6 - Input sheet - Employee data'!PS31","v":"Yes"},{"$f":"'6 - Input sheet - Employee data'!PT31","v":"Yes"},{"$f":"'6 - Input sheet - Employee data'!PU31","v":"Yes"},{"$f":"'6 - Input sheet - Employee data'!PV31","v":"Yes"},{"$f":"'6 - Input sheet - Employee data'!PW31","v":"Yes"},{"$f":"'6 - Input sheet - Employee data'!PX31","v":"Yes"},{"$f":"'6 - Input sheet - Employee data'!PY31","v":"Yes"},{"$f":"'6 - Input sheet - Employee data'!PZ31","v":"Yes"},{"$f":"'6 - Input sheet - Employee data'!QA31","v":"Yes"},{"$f":"'6 - Input sheet - Employee data'!QB31","v":"Yes"},{"$f":"'6 - Input sheet - Employee data'!QC31","v":"Yes"},{"$f":"'6 - Input sheet - Employee data'!QD31","v":"Yes"},{"$f":"'6 - Input sheet - Employee data'!QE31","v":"Yes"},{"$f":"'6 - Input sheet - Employee data'!QF31","v":"Yes"},{"$f":"'6 - Input sheet - Employee data'!QG31","v":"Yes"},{"$f":"'6 - Input sheet - Employee data'!QH31","v":"Yes"},{"$f":"'6 - Input sheet - Employee data'!QI31","v":"Yes"},{"$f":"'6 - Input sheet - Employee data'!QJ31","v":"Yes"},{"$f":"'6 - Input sheet - Employee data'!QK31","v":"Yes"},{"$f":"'6 - Input sheet - Employee data'!QL31","v":"Yes"},{"$f":"'6 - Input sheet - Employee data'!QM31","v":"Yes"},{"$f":"'6 - Input sheet - Employee data'!QN31","v":"Yes"},{"$f":"'6 - Input sheet - Employee data'!QO31","v":"Yes"},{"$f":"'6 - Input sheet - Employee data'!QP31","v":"Yes"},{"$f":"'6 - Input sheet - Employee data'!QQ31","v":"Yes"},{"$f":"'6 - Input sheet - Employee data'!QR31","v":"Yes"},{"$f":"'6 - Input sheet - Employee data'!QS31","v":"Yes"},{"$f":"'6 - Input sheet - Employee data'!QT31","v":"Yes"},{"$f":"'6 - Input sheet - Employee data'!QU31","v":"Yes"},{"$f":"'6 - Input sheet - Employee data'!QV31","v":"Yes"},{"$f":"'6 - Input sheet - Employee data'!QW31","v":"Yes"},{"$f":"'6 - Input sheet - Employee data'!QX31","v":"Yes"},{"$f":"'6 - Input sheet - Employee data'!QY31","v":"Yes"},{"$f":"'6 - Input sheet - Employee data'!QZ31","v":"Yes"},{"$f":"'6 - Input sheet - Employee data'!RA31","v":"Yes"},{"$f":"'6 - Input sheet - Employee data'!RB31","v":"Yes"},{"$f":"'6 - Input sheet - Employee data'!RC31","v":"Yes"},{"$f":"'6 - Input sheet - Employee data'!RD31","v":"Yes"},{"$f":"'6 - Input sheet - Employee data'!RE31","v":"Yes"},{"$f":"'6 - Input sheet - Employee data'!RF31","v":"Yes"},{"$f":"'6 - Input sheet - Employee data'!RG31","v":"Yes"},{"$f":"'6 - Input sheet - Employee data'!RH31","v":"Yes"},{"$f":"'6 - Input sheet - Employee data'!RI31","v":"Yes"},{"$f":"'6 - Input sheet - Employee data'!RJ31","v":"Yes"},{"$f":"'6 - Input sheet - Employee data'!RK31","v":"Yes"},{"$f":"'6 - Input sheet - Employee data'!RL31","v":"Yes"},{"$f":"'6 - Input sheet - Employee data'!RM31","v":"Yes"},{"$f":"'6 - Input sheet - Employee data'!RN31","v":"Yes"},{"$f":"'6 - Input sheet - Employee data'!RO31","v":"Yes"},{"$f":"'6 - Input sheet - Employee data'!RP31","v":"Yes"},{"$f":"'6 - Input sheet - Employee data'!RQ31","v":"Yes"},{"$f":"'6 - Input sheet - Employee data'!RR31","v":"Yes"},{"$f":"'6 - Input sheet - Employee data'!RS31","v":"Yes"},{"$f":"'6 - Input sheet - Employee data'!RT31","v":"Yes"},{"$f":"'6 - Input sheet - Employee data'!RU31","v":"Yes"},{"$f":"'6 - Input sheet - Employee data'!RV31","v":"Yes"},{"$f":"'6 - Input sheet - Employee data'!RW31","v":"Yes"},{"$f":"'6 - Input sheet - Employee data'!RX31","v":"Yes"},{"$f":"'6 - Input sheet - Employee data'!RY31","v":"Yes"},{"$f":"'6 - Input sheet - Employee data'!RZ31","v":"Yes"},{"$f":"'6 - Input sheet - Employee data'!SA31","v":"Yes"},{"$f":"'6 - Input sheet - Employee data'!SB31","v":"Yes"},{"$f":"'6 - Input sheet - Employee data'!SC31","v":"Yes"},{"$f":"'6 - Input sheet - Employee data'!SD31","v":"Yes"},{"$f":"'6 - Input sheet - Employee data'!SE31","v":"Yes"},{"$f":"'6 - Input sheet - Employee data'!SF31","v":"Yes"},{"$f":"'6 - Input sheet - Employee data'!SG31","v":"Yes"},{"$f":"'6 - Input sheet - Employee data'!SH31","v":"Yes"}]
["   FTE - salaried",null,{"$f":"IF(C18=\"yes\",1,0)","v":1},{"$f":"IF(D18=\"yes\",1,0)","v":1},1,1,1,1,1,1,1,1,1,1,1,1,1,1,1,1,1,1,1,1,1,1,1,1,1,1,1,1,1,1,1,1,1,1,1,1,1,1,1,1,1,1,1,1,1,1,1,1,1,1,1,1,1,1,1,1,1,1,1,1,1,1,1,{"$f":"IF(BP18=\"yes\",1,0)","v":1},1,1,1,1,1,1,1,1,1,1,1,1,1,1,1,1,1,1,1,1,1,1,1,1,1,1,1,1,1,1,1,1,1,1,1,1,1,1,1,1,1,1,1,1,1,1,1,1,1,1,1,1,1,1,1,1,1,1,1,1,1,1,1,{"$f":"IF(EB18=\"yes\",1,0)","v":1},1,1,1,1,1,1,1,1,1,1,1,1,1,1,1,1,1,1,1,1,1,1,1,1,1,1,1,1,1,1,1,1,1,1,1,1,1,1,1,1,1,1,1,1,1,1,1,1,1,1,1,1,1,1,1,1,1,1,1,1,1,1,1,{"$f":"IF(GN18=\"yes\",1,0)","v":1},1,1,1,1,1,1,1,1,1,1,1,1,1,1,1,1,1,1,1,1,1,1,1,1,1,1,1,1,1,1,1,1,1,1,1,1,1,1,1,1,1,1,1,1,1,1,1,1,1,1,1,1,1,1,1,1,1,1,1,1,1,1,1,{"$f":"IF(IZ18=\"yes\",1,0)","v":1},1,1,1,1,1,1,1,1,1,1,1,1,1,1,1,1,1,1,1,1,1,1,1,1,1,1,1,1,1,1,1,1,1,1,1,1,1,1,1,1,1,1,1,1,1,1,1,1,1,1,1,1,1,1,1,1,1,1,1,1,1,1,1,{"$f":"IF(LL18=\"yes\",1,0)","v":1},1,1,1,1,1,1,1,1,1,1,1,1,1,1,1,1,1,1,1,1,1,1,1,1,1,1,1,1,1,1,1,1,1,1,1,1,1,1,1,1,1,1,1,1,1,1,1,1,1,1,1,1,1,1,1,1,1,1,1,1,1,1,1,{"$f":"IF(NX18=\"yes\",1,0)","v":1},1,1,1,1,1,1,1,1,1,1,1,1,1,1,1,1,1,1,1,1,1,1,1,1,1,1,1,1,1,1,1,1,1,1,1,1,1,1,1,1,1,1,1,1,1,1,1,1,1,1,1,1,1,1,1,1,1,1,1,1,1,1,1,{"$f":"IF(QJ18=\"yes\",1,0)","v":1},1,1,1,1,1,1,1,1,1,1,1,1,1,1,1,1,1,1,1,1,1,1,1,1,1,1,1,1,1,1,1,1,1,1,1,1,1,1,1,1,1,1,1,1,1,1,1,1,1,1]
["   FTE - hourly",null,{"$f":"C17/($C$13*$C$14)","v":0},{"$f":"D17/($C$13*$C$14)","v":0},0,0,0,0,0,0,0,0,0,0,0,0,0,0,0,0,0,0,0,0,0,0,0,0,0,0,0,0,0,0,0,0,0,0,0,0,0,0,0,0,0,0,0,0,0,0,0,0,0,0,0,0,0,0,0,0,0,0,0,0,0,0,0,{"$f":"BP17/($C$13*$C$14)","v":0},0,0,0,0,0,0,0,0,0,0,0,0,0,0,0,0,0,0,0,0,0,0,0,0,0,0,0,0,0,0,0,0,0,0,0,0,0,0,0,0,0,0,0,0,0,0,0,0,0,0,0,0,0,0,0,0,0,0,0,0,0,0,0,{"$f":"EB17/($C$13*$C$14)","v":0},0,0,0,0,0,0,0,0,0,0,0,0,0,0,0,0,0,0,0,0,0,0,0,0,0,0,0,0,0,0,0,0,0,0,0,0,0,0,0,0,0,0,0,0,0,0,0,0,0,0,0,0,0,0,0,0,0,0,0,0,0,0,0,{"$f":"GN17/($C$13*$C$14)","v":0},0,0,0,0,0,0,0,0,0,0,0,0,0,0,0,0,0,0,0,0,0,0,0,0,0,0,0,0,0,0,0,0,0,0,0,0,0,0,0,0,0,0,0,0,0,0,0,0,0,0,0,0,0,0,0,0,0,0,0,0,0,0,0,{"$f":"IZ17/($C$13*$C$14)","v":0},0,0,0,0,0,0,0,0,0,0,0,0,0,0,0,0,0,0,0,0,0,0,0,0,0,0,0,0,0,0,0,0,0,0,0,0,0,0,0,0,0,0,0,0,0,0,0,0,0,0,0,0,0,0,0,0,0,0,0,0,0,0,0,{"$f":"LL17/($C$13*$C$14)","v":0},0,0,0,0,0,0,0,0,0,0,0,0,0,0,0,0,0,0,0,0,0,0,0,0,0,0,0,0,0,0,0,0,0,0,0,0,0,0,0,0,0,0,0,0,0,0,0,0,0,0,0,0,0,0,0,0,0,0,0,0,0,0,0,{"$f":"NX17/($C$13*$C$14)","v":0},0,0,0,0,0,0,0,0,0,0,0,0,0,0,0,0,0,0,0,0,0,0,0,0,0,0,0,0,0,0,0,0,0,0,0,0,0,0,0,0,0,0,0,0,0,0,0,0,0,0,0,0,0,0,0,0,0,0,0,0,0,0,0,{"$f":"QJ17/($C$13*$C$14)","v":0},0,0,0,0,0,0,0,0,0,0,0,0,0,0,0,0,0,0,0,0,0,0,0,0,0,0,0,0,0,0,0,0,0,0,0,0,0,0,0,0,0,0,0,0,0,0,0,0,0,0]
["   FTE - hourly max",null,{"$f":"IF(C20>1,1,0)","v":0},{"$f":"IF(D20>1,1,0)","v":0},0,0,0,0,0,0,0,0,0,0,0,0,0,0,0,0,0,0,0,0,0,0,0,0,0,0,0,0,0,0,0,0,0,0,0,0,0,0,0,0,0,0,0,0,0,0,0,0,0,0,0,0,0,0,0,0,0,0,0,0,0,0,0,{"$f":"IF(BP20>1,1,0)","v":0},0,0,0,0,0,0,0,0,0,0,0,0,0,0,0,0,0,0,0,0,0,0,0,0,0,0,0,0,0,0,0,0,0,0,0,0,0,0,0,0,0,0,0,0,0,0,0,0,0,0,0,0,0,0,0,0,0,0,0,0,0,0,0,{"$f":"IF(EB20>1,1,0)","v":0},0,0,0,0,0,0,0,0,0,0,0,0,0,0,0,0,0,0,0,0,0,0,0,0,0,0,0,0,0,0,0,0,0,0,0,0,0,0,0,0,0,0,0,0,0,0,0,0,0,0,0,0,0,0,0,0,0,0,0,0,0,0,0,{"$f":"IF(GN20>1,1,0)","v":0},0,0,0,0,0,0,0,0,0,0,0,0,0,0,0,0,0,0,0,0,0,0,0,0,0,0,0,0,0,0,0,0,0,0,0,0,0,0,0,0,0,0,0,0,0,0,0,0,0,0,0,0,0,0,0,0,0,0,0,0,0,0,0,{"$f":"IF(IZ20>1,1,0)","v":0},0,0,0,0,0,0,0,0,0,0,0,0,0,0,0,0,0,0,0,0,0,0,0,0,0,0,0,0,0,0,0,0,0,0,0,0,0,0,0,0,0,0,0,0,0,0,0,0,0,0,0,0,0,0,0,0,0,0,0,0,0,0,0,{"$f":"IF(LL20>1,1,0)","v":0},0,0,0,0,0,0,0,0,0,0,0,0,0,0,0,0,0,0,0,0,0,0,0,0,0,0,0,0,0,0,0,0,0,0,0,0,0,0,0,0,0,0,0,0,0,0,0,0,0,0,0,0,0,0,0,0,0,0,0,0,0,0,0,{"$f":"IF(NX20>1,1,0)","v":0},0,0,0,0,0,0,0,0,0,0,0,0,0,0,0,0,0,0,0,0,0,0,0,0,0,0,0,0,0,0,0,0,0,0,0,0,0,0,0,0,0,0,0,0,0,0,0,0,0,0,0,0,0,0,0,0,0,0,0,0,0,0,0,{"$f":"IF(QJ20>1,1,0)","v":0},0,0,0,0,0,0,0,0,0,0,0,0,0,0,0,0,0,0,0,0,0,0,0,0,0,0,0,0,0,0,0,0,0,0,0,0,0,0,0,0,0,0,0,0,0,0,0,0,0,0]
["   FTE - hourly less max",null,{"$f":"IF(C17=0,0,ROUND(IF(C20<1,IF($B$12=\"NO\",C20,0.5),0),1))","v":0},{"$f":"IF(D17=0,0,ROUND(IF(D20<1,IF($B$12=\"NO\",D20,0.5),0),1))","v":0},0,0,0,0,0,0,0,0,0,0,0,0,0,0,0,0,0,0,0,0,0,0,0,0,0,0,0,0,0,0,0,0,0,0,0,0,0,0,0,0,0,0,0,0,0,0,0,0,0,0,0,0,0,0,0,0,0,0,0,0,0,0,0,{"$f":"IF(BP17=0,0,ROUND(IF(BP20<1,IF($B$12=\"NO\",BP20,0.5),0),1))","v":0},0,0,0,0,0,0,0,0,0,0,0,0,0,0,0,0,0,0,0,0,0,0,0,0,0,0,0,0,0,0,0,0,0,0,0,0,0,0,0,0,0,0,0,0,0,0,0,0,0,0,0,0,0,0,0,0,0,0,0,0,0,0,0,{"$f":"IF(EB17=0,0,ROUND(IF(EB20<1,IF($B$12=\"NO\",EB20,0.5),0),1))","v":0},0,0,0,0,0,0,0,0,0,0,0,0,0,0,0,0,0,0,0,0,0,0,0,0,0,0,0,0,0,0,0,0,0,0,0,0,0,0,0,0,0,0,0,0,0,0,0,0,0,0,0,0,0,0,0,0,0,0,0,0,0,0,0,{"$f":"IF(GN17=0,0,ROUND(IF(GN20<1,IF($B$12=\"NO\",GN20,0.5),0),1))","v":0},0,0,0,0,0,0,0,0,0,0,0,0,0,0,0,0,0,0,0,0,0,0,0,0,0,0,0,0,0,0,0,0,0,0,0,0,0,0,0,0,0,0,0,0,0,0,0,0,0,0,0,0,0,0,0,0,0,0,0,0,0,0,0,{"$f":"IF(IZ17=0,0,ROUND(IF(IZ20<1,IF($B$12=\"NO\",IZ20,0.5),0),1))","v":0},0,0,0,0,0,0,0,0,0,0,0,0,0,0,0,0,0,0,0,0,0,0,0,0,0,0,0,0,0,0,0,0,0,0,0,0,0,0,0,0,0,0,0,0,0,0,0,0,0,0,0,0,0,0,0,0,0,0,0,0,0,0,0,{"$f":"IF(LL17=0,0,ROUND(IF(LL20<1,IF($B$12=\"NO\",LL20,0.5),0),1))","v":0},0,0,0,0,0,0,0,0,0,0,0,0,0,0,0,0,0,0,0,0,0,0,0,0,0,0,0,0,0,0,0,0,0,0,0,0,0,0,0,0,0,0,0,0,0,0,0,0,0,0,0,0,0,0,0,0,0,0,0,0,0,0,0,{"$f":"IF(NX17=0,0,ROUND(IF(NX20<1,IF($B$12=\"NO\",NX20,0.5),0),1))","v":0},0,0,0,0,0,0,0,0,0,0,0,0,0,0,0,0,0,0,0,0,0,0,0,0,0,0,0,0,0,0,0,0,0,0,0,0,0,0,0,0,0,0,0,0,0,0,0,0,0,0,0,0,0,0,0,0,0,0,0,0,0,0,0,{"$f":"IF(QJ17=0,0,ROUND(IF(QJ20<1,IF($B$12=\"NO\",QJ20,0.5),0),1))","v":0},0,0,0,0,0,0,0,0,0,0,0,0,0,0,0,0,0,0,0,0,0,0,0,0,0,0,0,0,0,0,0,0,0,0,0,0,0,0,0,0,0,0,0,0,0,0,0,0,0,0]
["   FTE Count",{"$f":"SUM(C23:SH23)","v":0},{"$f":"IF(C$8=\"Salaried-Other\",C19,IF(C$8=\"Salaried-No reduction\",C19,SUM(C21:C22)))","v":0},0,0,0,0,0,0,0,0,0,0,0,0,0,0,0,0,0,0,0,0,0,0,0,0,0,0,0,0,0,0,0,0,0,0,0,0,0,0,0,0,0,0,0,0,0,0,0,0,0,0,0,0,0,0,0,0,0,0,0,0,0,0,0,{"$f":"IF(BO$8=\"Salaried-Other\",BO19,IF(BO$8=\"Salaried-No reduction\",BO19,SUM(BO21:BO22)))","v":0},0,0,0,0,0,0,0,0,0,0,0,0,0,0,0,0,0,0,0,0,0,0,0,0,0,0,0,0,0,0,0,0,0,0,0,0,0,0,0,0,0,0,0,0,0,0,0,0,0,0,0,0,0,0,0,0,0,0,0,0,0,0,0,{"$f":"IF(EA$8=\"Salaried-Other\",EA19,IF(EA$8=\"Salaried-No reduction\",EA19,SUM(EA21:EA22)))","v":0},0,0,0,0,0,0,0,0,0,0,0,0,0,0,0,0,0,0,0,0,0,0,0,0,0,0,0,0,0,0,0,0,0,0,0,0,0,0,0,0,0,0,0,0,0,0,0,0,0,0,0,0,0,0,0,0,0,0,0,0,0,0,0,{"$f":"IF(GM$8=\"Salaried-Other\",GM19,IF(GM$8=\"Salaried-No reduction\",GM19,SUM(GM21:GM22)))","v":0},0,0,0,0,0,0,0,0,0,0,0,0,0,0,0,0,0,0,0,0,0,0,0,0,0,0,0,0,0,0,0,0,0,0,0,0,0,0,0,0,0,0,0,0,0,0,0,0,0,0,0,0,0,0,0,0,0,0,0,0,0,0,0,{"$f":"IF(IY$8=\"Salaried-Other\",IY19,IF(IY$8=\"Salaried-No reduction\",IY19,SUM(IY21:IY22)))","v":0},0,0,0,0,0,0,0,0,0,0,0,0,0,0,0,0,0,0,0,0,0,0,0,0,0,0,0,0,0,0,0,0,0,0,0,0,0,0,0,0,0,0,0,0,0,0,0,0,0,0,0,0,0,0,0,0,0,0,0,0,0,0,0,{"$f":"IF(LK$8=\"Salaried-Other\",LK19,IF(LK$8=\"Salaried-No reduction\",LK19,SUM(LK21:LK22)))","v":0},0,0,0,0,0,0,0,0,0,0,0,0,0,0,0,0,0,0,0,0,0,0,0,0,0,0,0,0,0,0,0,0,0,0,0,0,0,0,0,0,0,0,0,0,0,0,0,0,0,0,0,0,0,0,0,0,0,0,0,0,0,0,0,{"$f":"IF(NW$8=\"Salaried-Other\",NW19,IF(NW$8=\"Salaried-No reduction\",NW19,SUM(NW21:NW22)))","v":0},0,0,0,0,0,0,0,0,0,0,0,0,0,0,0,0,0,0,0,0,0,0,0,0,0,0,0,0,0,0,0,0,0,0,0,0,0,0,0,0,0,0,0,0,0,0,0,0,0,0,0,0,0,0,0,0,0,0,0,0,0,0,0,{"$f":"IF(QI$8=\"Salaried-Other\",QI19,IF(QI$8=\"Salaried-No reduction\",QI19,SUM(QI21:QI22)))","v":0},0,0,0,0,0,0,0,0,0,0,0,0,0,0,0,0,0,0,0,0,0,0,0,0,0,0,0,0,0,0,0,0,0,0,0,0,0,0,0,0,0,0,0,0,0,0,0,0,0,0,0]
[]
["   Hours - January 1, 2020 to February 29, 2020",null,{"$f":"'6 - Input sheet - Employee data'!C33","v":0},{"$f":"'6 - Input sheet - Employee data'!D33","v":0},{"$f":"'6 - Input sheet - Employee data'!E33","v":0},{"$f":"'6 - Input sheet - Employee data'!F33","v":0},{"$f":"'6 - Input sheet - Employee data'!G33","v":0},{"$f":"'6 - Input sheet - Employee data'!H33","v":0},{"$f":"'6 - Input sheet - Employee data'!I33","v":0},{"$f":"'6 - Input sheet - Employee data'!J33","v":0},{"$f":"'6 - Input sheet - Employee data'!K33","v":0},{"$f":"'6 - Input sheet - Employee data'!L33","v":0},{"$f":"'6 - Input sheet - Employee data'!M33","v":0},{"$f":"'6 - Input sheet - Employee data'!N33","v":0},{"$f":"'6 - Input sheet - Employee data'!O33","v":0},{"$f":"'6 - Input sheet - Employee data'!P33","v":0},{"$f":"'6 - Input sheet - Employee data'!Q33","v":0},{"$f":"'6 - Input sheet - Employee data'!R33","v":0},{"$f":"'6 - Input sheet - Employee data'!S33","v":0},{"$f":"'6 - Input sheet - Employee data'!T33","v":0},{"$f":"'6 - Input sheet - Employee data'!U33","v":0},{"$f":"'6 - Input sheet - Employee data'!V33","v":0},{"$f":"'6 - Input sheet - Employee data'!W33","v":0},{"$f":"'6 - Input sheet - Employee data'!X33","v":0},{"$f":"'6 - Input sheet - Employee data'!Y33","v":0},{"$f":"'6 - Input sheet - Employee data'!Z33","v":0},{"$f":"'6 - Input sheet - Employee data'!AA33","v":0},{"$f":"'6 - Input sheet - Employee data'!AB33","v":0},{"$f":"'6 - Input sheet - Employee data'!AC33","v":0},{"$f":"'6 - Input sheet - Employee data'!AD33","v":0},{"$f":"'6 - Input sheet - Employee data'!AE33","v":0},{"$f":"'6 - Input sheet - Employee data'!AF33","v":0},{"$f":"'6 - Input sheet - Employee data'!AG33","v":0},{"$f":"'6 - Input sheet - Employee data'!AH33","v":0},{"$f":"'6 - Input sheet - Employee data'!AI33","v":0},{"$f":"'6 - Input sheet - Employee data'!AJ33","v":0},{"$f":"'6 - Input sheet - Employee data'!AK33","v":0},{"$f":"'6 - Input sheet - Employee data'!AL33","v":0},{"$f":"'6 - Input sheet - Employee data'!AM33","v":0},{"$f":"'6 - Input sheet - Employee data'!AN33","v":0},{"$f":"'6 - Input sheet - Employee data'!AO33","v":0},{"$f":"'6 - Input sheet - Employee data'!AP33","v":0},{"$f":"'6 - Input sheet - Employee data'!AQ33","v":0},{"$f":"'6 - Input sheet - Employee data'!AR33","v":0},{"$f":"'6 - Input sheet - Employee data'!AS33","v":0},{"$f":"'6 - Input sheet - Employee data'!AT33","v":0},{"$f":"'6 - Input sheet - Employee data'!AU33","v":0},{"$f":"'6 - Input sheet - Employee data'!AV33","v":0},{"$f":"'6 - Input sheet - Employee data'!AW33","v":0},{"$f":"'6 - Input sheet - Employee data'!AX33","v":0},{"$f":"'6 - Input sheet - Employee data'!AY33","v":0},{"$f":"'6 - Input sheet - Employee data'!AZ33","v":0},{"$f":"'6 - Input sheet - Employee data'!BA33","v":0},{"$f":"'6 - Input sheet - Employee data'!BB33","v":0},{"$f":"'6 - Input sheet - Employee data'!BC33","v":0},{"$f":"'6 - Input sheet - Employee data'!BD33","v":0},{"$f":"'6 - Input sheet - Employee data'!BE33","v":0},{"$f":"'6 - Input sheet - Employee data'!BF33","v":0},{"$f":"'6 - Input sheet - Employee data'!BG33","v":0},{"$f":"'6 - Input sheet - Employee data'!BH33","v":0},{"$f":"'6 - Input sheet - Employee data'!BI33","v":0},{"$f":"'6 - Input sheet - Employee data'!BJ33","v":0},{"$f":"'6 - Input sheet - Employee data'!BK33","v":0},{"$f":"'6 - Input sheet - Employee data'!BL33","v":0},{"$f":"'6 - Input sheet - Employee data'!BM33","v":0},{"$f":"'6 - Input sheet - Employee data'!BN33","v":0},{"$f":"'6 - Input sheet - Employee data'!BO33","v":0},{"$f":"'6 - Input sheet - Employee data'!BP33","v":0},{"$f":"'6 - Input sheet - Employee data'!BQ33","v":0},{"$f":"'6 - Input sheet - Employee data'!BR33","v":0},{"$f":"'6 - Input sheet - Employee data'!BS33","v":0},{"$f":"'6 - Input sheet - Employee data'!BT33","v":0},{"$f":"'6 - Input sheet - Employee data'!BU33","v":0},{"$f":"'6 - Input sheet - Employee data'!BV33","v":0},{"$f":"'6 - Input sheet - Employee data'!BW33","v":0},{"$f":"'6 - Input sheet - Employee data'!BX33","v":0},{"$f":"'6 - Input sheet - Employee data'!BY33","v":0},{"$f":"'6 - Input sheet - Employee data'!BZ33","v":0},{"$f":"'6 - Input sheet - Employee data'!CA33","v":0},{"$f":"'6 - Input sheet - Employee data'!CB33","v":0},{"$f":"'6 - Input sheet - Employee data'!CC33","v":0},{"$f":"'6 - Input sheet - Employee data'!CD33","v":0},{"$f":"'6 - Input sheet - Employee data'!CE33","v":0},{"$f":"'6 - Input sheet - Employee data'!CF33","v":0},{"$f":"'6 - Input sheet - Employee data'!CG33","v":0},{"$f":"'6 - Input sheet - Employee data'!CH33","v":0},{"$f":"'6 - Input sheet - Employee data'!CI33","v":0},{"$f":"'6 - Input sheet - Employee data'!CJ33","v":0},{"$f":"'6 - Input sheet - Employee data'!CK33","v":0},{"$f":"'6 - Input sheet - Employee data'!CL33","v":0},{"$f":"'6 - Input sheet - Employee data'!CM33","v":0},{"$f":"'6 - Input sheet - Employee data'!CN33","v":0},{"$f":"'6 - Input sheet - Employee data'!CO33","v":0},{"$f":"'6 - Input sheet - Employee data'!CP33","v":0},{"$f":"'6 - Input sheet - Employee data'!CQ33","v":0},{"$f":"'6 - Input sheet - Employee data'!CR33","v":0},{"$f":"'6 - Input sheet - Employee data'!CS33","v":0},{"$f":"'6 - Input sheet - Employee data'!CT33","v":0},{"$f":"'6 - Input sheet - Employee data'!CU33","v":0},{"$f":"'6 - Input sheet - Employee data'!CV33","v":0},{"$f":"'6 - Input sheet - Employee data'!CW33","v":0},{"$f":"'6 - Input sheet - Employee data'!CX33","v":0},{"$f":"'6 - Input sheet - Employee data'!CY33","v":0},{"$f":"'6 - Input sheet - Employee data'!CZ33","v":0},{"$f":"'6 - Input sheet - Employee data'!DA33","v":0},{"$f":"'6 - Input sheet - Employee data'!DB33","v":0},{"$f":"'6 - Input sheet - Employee data'!DC33","v":0},{"$f":"'6 - Input sheet - Employee data'!DD33","v":0},{"$f":"'6 - Input sheet - Employee data'!DE33","v":0},{"$f":"'6 - Input sheet - Employee data'!DF33","v":0},{"$f":"'6 - Input sheet - Employee data'!DG33","v":0},{"$f":"'6 - Input sheet - Employee data'!DH33","v":0},{"$f":"'6 - Input sheet - Employee data'!DI33","v":0},{"$f":"'6 - Input sheet - Employee data'!DJ33","v":0},{"$f":"'6 - Input sheet - Employee data'!DK33","v":0},{"$f":"'6 - Input sheet - Employee data'!DL33","v":0},{"$f":"'6 - Input sheet - Employee data'!DM33","v":0},{"$f":"'6 - Input sheet - Employee data'!DN33","v":0},{"$f":"'6 - Input sheet - Employee data'!DO33","v":0},{"$f":"'6 - Input sheet - Employee data'!DP33","v":0},{"$f":"'6 - Input sheet - Employee data'!DQ33","v":0},{"$f":"'6 - Input sheet - Employee data'!DR33","v":0},{"$f":"'6 - Input sheet - Employee data'!DS33","v":0},{"$f":"'6 - Input sheet - Employee data'!DT33","v":0},{"$f":"'6 - Input sheet - Employee data'!DU33","v":0},{"$f":"'6 - Input sheet - Employee data'!DV33","v":0},{"$f":"'6 - Input sheet - Employee data'!DW33","v":0},{"$f":"'6 - Input sheet - Employee data'!DX33","v":0},{"$f":"'6 - Input sheet - Employee data'!DY33","v":0},{"$f":"'6 - Input sheet - Employee data'!DZ33","v":0},{"$f":"'6 - Input sheet - Employee data'!EA33","v":0},{"$f":"'6 - Input sheet - Employee data'!EB33","v":0},{"$f":"'6 - Input sheet - Employee data'!EC33","v":0},{"$f":"'6 - Input sheet - Employee data'!ED33","v":0},{"$f":"'6 - Input sheet - Employee data'!EE33","v":0},{"$f":"'6 - Input sheet - Employee data'!EF33","v":0},{"$f":"'6 - Input sheet - Employee data'!EG33","v":0},{"$f":"'6 - Input sheet - Employee data'!EH33","v":0},{"$f":"'6 - Input sheet - Employee data'!EI33","v":0},{"$f":"'6 - Input sheet - Employee data'!EJ33","v":0},{"$f":"'6 - Input sheet - Employee data'!EK33","v":0},{"$f":"'6 - Input sheet - Employee data'!EL33","v":0},{"$f":"'6 - Input sheet - Employee data'!EM33","v":0},{"$f":"'6 - Input sheet - Employee data'!EN33","v":0},{"$f":"'6 - Input sheet - Employee data'!EO33","v":0},{"$f":"'6 - Input sheet - Employee data'!EP33","v":0},{"$f":"'6 - Input sheet - Employee data'!EQ33","v":0},{"$f":"'6 - Input sheet - Employee data'!ER33","v":0},{"$f":"'6 - Input sheet - Employee data'!ES33","v":0},{"$f":"'6 - Input sheet - Employee data'!ET33","v":0},{"$f":"'6 - Input sheet - Employee data'!EU33","v":0},{"$f":"'6 - Input sheet - Employee data'!EV33","v":0},{"$f":"'6 - Input sheet - Employee data'!EW33","v":0},{"$f":"'6 - Input sheet - Employee data'!EX33","v":0},{"$f":"'6 - Input sheet - Employee data'!EY33","v":0},{"$f":"'6 - Input sheet - Employee data'!EZ33","v":0},{"$f":"'6 - Input sheet - Employee data'!FA33","v":0},{"$f":"'6 - Input sheet - Employee data'!FB33","v":0},{"$f":"'6 - Input sheet - Employee data'!FC33","v":0},{"$f":"'6 - Input sheet - Employee data'!FD33","v":0},{"$f":"'6 - Input sheet - Employee data'!FE33","v":0},{"$f":"'6 - Input sheet - Employee data'!FF33","v":0},{"$f":"'6 - Input sheet - Employee data'!FG33","v":0},{"$f":"'6 - Input sheet - Employee data'!FH33","v":0},{"$f":"'6 - Input sheet - Employee data'!FI33","v":0},{"$f":"'6 - Input sheet - Employee data'!FJ33","v":0},{"$f":"'6 - Input sheet - Employee data'!FK33","v":0},{"$f":"'6 - Input sheet - Employee data'!FL33","v":0},{"$f":"'6 - Input sheet - Employee data'!FM33","v":0},{"$f":"'6 - Input sheet - Employee data'!FN33","v":0},{"$f":"'6 - Input sheet - Employee data'!FO33","v":0},{"$f":"'6 - Input sheet - Employee data'!FP33","v":0},{"$f":"'6 - Input sheet - Employee data'!FQ33","v":0},{"$f":"'6 - Input sheet - Employee data'!FR33","v":0},{"$f":"'6 - Input sheet - Employee data'!FS33","v":0},{"$f":"'6 - Input sheet - Employee data'!FT33","v":0},{"$f":"'6 - Input sheet - Employee data'!FU33","v":0},{"$f":"'6 - Input sheet - Employee data'!FV33","v":0},{"$f":"'6 - Input sheet - Employee data'!FW33","v":0},{"$f":"'6 - Input sheet - Employee data'!FX33","v":0},{"$f":"'6 - Input sheet - Employee data'!FY33","v":0},{"$f":"'6 - Input sheet - Employee data'!FZ33","v":0},{"$f":"'6 - Input sheet - Employee data'!GA33","v":0},{"$f":"'6 - Input sheet - Employee data'!GB33","v":0},{"$f":"'6 - Input sheet - Employee data'!GC33","v":0},{"$f":"'6 - Input sheet - Employee data'!GD33","v":0},{"$f":"'6 - Input sheet - Employee data'!GE33","v":0},{"$f":"'6 - Input sheet - Employee data'!GF33","v":0},{"$f":"'6 - Input sheet - Employee data'!GG33","v":0},{"$f":"'6 - Input sheet - Employee data'!GH33","v":0},{"$f":"'6 - Input sheet - Employee data'!GI33","v":0},{"$f":"'6 - Input sheet - Employee data'!GJ33","v":0},{"$f":"'6 - Input sheet - Employee data'!GK33","v":0},{"$f":"'6 - Input sheet - Employee data'!GL33","v":0},{"$f":"'6 - Input sheet - Employee data'!GM33","v":0},{"$f":"'6 - Input sheet - Employee data'!GN33","v":0},{"$f":"'6 - Input sheet - Employee data'!GO33","v":0},{"$f":"'6 - Input sheet - Employee data'!GP33","v":0},{"$f":"'6 - Input sheet - Employee data'!GQ33","v":0},{"$f":"'6 - Input sheet - Employee data'!GR33","v":0},{"$f":"'6 - Input sheet - Employee data'!GS33","v":0},{"$f":"'6 - Input sheet - Employee data'!GT33","v":0},{"$f":"'6 - Input sheet - Employee data'!GU33","v":0},{"$f":"'6 - Input sheet - Employee data'!GV33","v":0},{"$f":"'6 - Input sheet - Employee data'!GW33","v":0},{"$f":"'6 - Input sheet - Employee data'!GX33","v":0},{"$f":"'6 - Input sheet - Employee data'!GY33","v":0},{"$f":"'6 - Input sheet - Employee data'!GZ33","v":0},{"$f":"'6 - Input sheet - Employee data'!HA33","v":0},{"$f":"'6 - Input sheet - Employee data'!HB33","v":0},{"$f":"'6 - Input sheet - Employee data'!HC33","v":0},{"$f":"'6 - Input sheet - Employee data'!HD33","v":0},{"$f":"'6 - Input sheet - Employee data'!HE33","v":0},{"$f":"'6 - Input sheet - Employee data'!HF33","v":0},{"$f":"'6 - Input sheet - Employee data'!HG33","v":0},{"$f":"'6 - Input sheet - Employee data'!HH33","v":0},{"$f":"'6 - Input sheet - Employee data'!HI33","v":0},{"$f":"'6 - Input sheet - Employee data'!HJ33","v":0},{"$f":"'6 - Input sheet - Employee data'!HK33","v":0},{"$f":"'6 - Input sheet - Employee data'!HL33","v":0},{"$f":"'6 - Input sheet - Employee data'!HM33","v":0},{"$f":"'6 - Input sheet - Employee data'!HN33","v":0},{"$f":"'6 - Input sheet - Employee data'!HO33","v":0},{"$f":"'6 - Input sheet - Employee data'!HP33","v":0},{"$f":"'6 - Input sheet - Employee data'!HQ33","v":0},{"$f":"'6 - Input sheet - Employee data'!HR33","v":0},{"$f":"'6 - Input sheet - Employee data'!HS33","v":0},{"$f":"'6 - Input sheet - Employee data'!HT33","v":0},{"$f":"'6 - Input sheet - Employee data'!HU33","v":0},{"$f":"'6 - Input sheet - Employee data'!HV33","v":0},{"$f":"'6 - Input sheet - Employee data'!HW33","v":0},{"$f":"'6 - Input sheet - Employee data'!HX33","v":0},{"$f":"'6 - Input sheet - Employee data'!HY33","v":0},{"$f":"'6 - Input sheet - Employee data'!HZ33","v":0},{"$f":"'6 - Input sheet - Employee data'!IA33","v":0},{"$f":"'6 - Input sheet - Employee data'!IB33","v":0},{"$f":"'6 - Input sheet - Employee data'!IC33","v":0},{"$f":"'6 - Input sheet - Employee data'!ID33","v":0},{"$f":"'6 - Input sheet - Employee data'!IE33","v":0},{"$f":"'6 - Input sheet - Employee data'!IF33","v":0},{"$f":"'6 - Input sheet - Employee data'!IG33","v":0},{"$f":"'6 - Input sheet - Employee data'!IH33","v":0},{"$f":"'6 - Input sheet - Employee data'!II33","v":0},{"$f":"'6 - Input sheet - Employee data'!IJ33","v":0},{"$f":"'6 - Input sheet - Employee data'!IK33","v":0},{"$f":"'6 - Input sheet - Employee data'!IL33","v":0},{"$f":"'6 - Input sheet - Employee data'!IM33","v":0},{"$f":"'6 - Input sheet - Employee data'!IN33","v":0},{"$f":"'6 - Input sheet - Employee data'!IO33","v":0},{"$f":"'6 - Input sheet - Employee data'!IP33","v":0},{"$f":"'6 - Input sheet - Employee data'!IQ33","v":0},{"$f":"'6 - Input sheet - Employee data'!IR33","v":0},{"$f":"'6 - Input sheet - Employee data'!IS33","v":0},{"$f":"'6 - Input sheet - Employee data'!IT33","v":0},{"$f":"'6 - Input sheet - Employee data'!IU33","v":0},{"$f":"'6 - Input sheet - Employee data'!IV33","v":0},{"$f":"'6 - Input sheet - Employee data'!IW33","v":0},{"$f":"'6 - Input sheet - Employee data'!IX33","v":0},{"$f":"'6 - Input sheet - Employee data'!IY33","v":0},{"$f":"'6 - Input sheet - Employee data'!IZ33","v":0},{"$f":"'6 - Input sheet - Employee data'!JA33","v":0},{"$f":"'6 - Input sheet - Employee data'!JB33","v":0},{"$f":"'6 - Input sheet - Employee data'!JC33","v":0},{"$f":"'6 - Input sheet - Employee data'!JD33","v":0},{"$f":"'6 - Input sheet - Employee data'!JE33","v":0},{"$f":"'6 - Input sheet - Employee data'!JF33","v":0},{"$f":"'6 - Input sheet - Employee data'!JG33","v":0},{"$f":"'6 - Input sheet - Employee data'!JH33","v":0},{"$f":"'6 - Input sheet - Employee data'!JI33","v":0},{"$f":"'6 - Input sheet - Employee data'!JJ33","v":0},{"$f":"'6 - Input sheet - Employee data'!JK33","v":0},{"$f":"'6 - Input sheet - Employee data'!JL33","v":0},{"$f":"'6 - Input sheet - Employee data'!JM33","v":0},{"$f":"'6 - Input sheet - Employee data'!JN33","v":0},{"$f":"'6 - Input sheet - Employee data'!JO33","v":0},{"$f":"'6 - Input sheet - Employee data'!JP33","v":0},{"$f":"'6 - Input sheet - Employee data'!JQ33","v":0},{"$f":"'6 - Input sheet - Employee data'!JR33","v":0},{"$f":"'6 - Input sheet - Employee data'!JS33","v":0},{"$f":"'6 - Input sheet - Employee data'!JT33","v":0},{"$f":"'6 - Input sheet - Employee data'!JU33","v":0},{"$f":"'6 - Input sheet - Employee data'!JV33","v":0},{"$f":"'6 - Input sheet - Employee data'!JW33","v":0},{"$f":"'6 - Input sheet - Employee data'!JX33","v":0},{"$f":"'6 - Input sheet - Employee data'!JY33","v":0},{"$f":"'6 - Input sheet - Employee data'!JZ33","v":0},{"$f":"'6 - Input sheet - Employee data'!KA33","v":0},{"$f":"'6 - Input sheet - Employee data'!KB33","v":0},{"$f":"'6 - Input sheet - Employee data'!KC33","v":0},{"$f":"'6 - Input sheet - Employee data'!KD33","v":0},{"$f":"'6 - Input sheet - Employee data'!KE33","v":0},{"$f":"'6 - Input sheet - Employee data'!KF33","v":0},{"$f":"'6 - Input sheet - Employee data'!KG33","v":0},{"$f":"'6 - Input sheet - Employee data'!KH33","v":0},{"$f":"'6 - Input sheet - Employee data'!KI33","v":0},{"$f":"'6 - Input sheet - Employee data'!KJ33","v":0},{"$f":"'6 - Input sheet - Employee data'!KK33","v":0},{"$f":"'6 - Input sheet - Employee data'!KL33","v":0},{"$f":"'6 - Input sheet - Employee data'!KM33","v":0},{"$f":"'6 - Input sheet - Employee data'!KN33","v":0},{"$f":"'6 - Input sheet - Employee data'!KO33","v":0},{"$f":"'6 - Input sheet - Employee data'!KP33","v":0},{"$f":"'6 - Input sheet - Employee data'!KQ33","v":0},{"$f":"'6 - Input sheet - Employee data'!KR33","v":0},{"$f":"'6 - Input sheet - Employee data'!KS33","v":0},{"$f":"'6 - Input sheet - Employee data'!KT33","v":0},{"$f":"'6 - Input sheet - Employee data'!KU33","v":0},{"$f":"'6 - Input sheet - Employee data'!KV33","v":0},{"$f":"'6 - Input sheet - Employee data'!KW33","v":0},{"$f":"'6 - Input sheet - Employee data'!KX33","v":0},{"$f":"'6 - Input sheet - Employee data'!KY33","v":0},{"$f":"'6 - Input sheet - Employee data'!KZ33","v":0},{"$f":"'6 - Input sheet - Employee data'!LA33","v":0},{"$f":"'6 - Input sheet - Employee data'!LB33","v":0},{"$f":"'6 - Input sheet - Employee data'!LC33","v":0},{"$f":"'6 - Input sheet - Employee data'!LD33","v":0},{"$f":"'6 - Input sheet - Employee data'!LE33","v":0},{"$f":"'6 - Input sheet - Employee data'!LF33","v":0},{"$f":"'6 - Input sheet - Employee data'!LG33","v":0},{"$f":"'6 - Input sheet - Employee data'!LH33","v":0},{"$f":"'6 - Input sheet - Employee data'!LI33","v":0},{"$f":"'6 - Input sheet - Employee data'!LJ33","v":0},{"$f":"'6 - Input sheet - Employee data'!LK33","v":0},{"$f":"'6 - Input sheet - Employee data'!LL33","v":0},{"$f":"'6 - Input sheet - Employee data'!LM33","v":0},{"$f":"'6 - Input sheet - Employee data'!LN33","v":0},{"$f":"'6 - Input sheet - Employee data'!LO33","v":0},{"$f":"'6 - Input sheet - Employee data'!LP33","v":0},{"$f":"'6 - Input sheet - Employee data'!LQ33","v":0},{"$f":"'6 - Input sheet - Employee data'!LR33","v":0},{"$f":"'6 - Input sheet - Employee data'!LS33","v":0},{"$f":"'6 - Input sheet - Employee data'!LT33","v":0},{"$f":"'6 - Input sheet - Employee data'!LU33","v":0},{"$f":"'6 - Input sheet - Employee data'!LV33","v":0},{"$f":"'6 - Input sheet - Employee data'!LW33","v":0},{"$f":"'6 - Input sheet - Employee data'!LX33","v":0},{"$f":"'6 - Input sheet - Employee data'!LY33","v":0},{"$f":"'6 - Input sheet - Employee data'!LZ33","v":0},{"$f":"'6 - Input sheet - Employee data'!MA33","v":0},{"$f":"'6 - Input sheet - Employee data'!MB33","v":0},{"$f":"'6 - Input sheet - Employee data'!MC33","v":0},{"$f":"'6 - Input sheet - Employee data'!MD33","v":0},{"$f":"'6 - Input sheet - Employee data'!ME33","v":0},{"$f":"'6 - Input sheet - Employee data'!MF33","v":0},{"$f":"'6 - Input sheet - Employee data'!MG33","v":0},{"$f":"'6 - Input sheet - Employee data'!MH33","v":0},{"$f":"'6 - Input sheet - Employee data'!MI33","v":0},{"$f":"'6 - Input sheet - Employee data'!MJ33","v":0},{"$f":"'6 - Input sheet - Employee data'!MK33","v":0},{"$f":"'6 - Input sheet - Employee data'!ML33","v":0},{"$f":"'6 - Input sheet - Employee data'!MM33","v":0},{"$f":"'6 - Input sheet - Employee data'!MN33","v":0},{"$f":"'6 - Input sheet - Employee data'!MO33","v":0},{"$f":"'6 - Input sheet - Employee data'!MP33","v":0},{"$f":"'6 - Input sheet - Employee data'!MQ33","v":0},{"$f":"'6 - Input sheet - Employee data'!MR33","v":0},{"$f":"'6 - Input sheet - Employee data'!MS33","v":0},{"$f":"'6 - Input sheet - Employee data'!MT33","v":0},{"$f":"'6 - Input sheet - Employee data'!MU33","v":0},{"$f":"'6 - Input sheet - Employee data'!MV33","v":0},{"$f":"'6 - Input sheet - Employee data'!MW33","v":0},{"$f":"'6 - Input sheet - Employee data'!MX33","v":0},{"$f":"'6 - Input sheet - Employee data'!MY33","v":0},{"$f":"'6 - Input sheet - Employee data'!MZ33","v":0},{"$f":"'6 - Input sheet - Employee data'!NA33","v":0},{"$f":"'6 - Input sheet - Employee data'!NB33","v":0},{"$f":"'6 - Input sheet - Employee data'!NC33","v":0},{"$f":"'6 - Input sheet - Employee data'!ND33","v":0},{"$f":"'6 - Input sheet - Employee data'!NE33","v":0},{"$f":"'6 - Input sheet - Employee data'!NF33","v":0},{"$f":"'6 - Input sheet - Employee data'!NG33","v":0},{"$f":"'6 - Input sheet - Employee data'!NH33","v":0},{"$f":"'6 - Input sheet - Employee data'!NI33","v":0},{"$f":"'6 - Input sheet - Employee data'!NJ33","v":0},{"$f":"'6 - Input sheet - Employee data'!NK33","v":0},{"$f":"'6 - Input sheet - Employee data'!NL33","v":0},{"$f":"'6 - Input sheet - Employee data'!NM33","v":0},{"$f":"'6 - Input sheet - Employee data'!NN33","v":0},{"$f":"'6 - Input sheet - Employee data'!NO33","v":0},{"$f":"'6 - Input sheet - Employee data'!NP33","v":0},{"$f":"'6 - Input sheet - Employee data'!NQ33","v":0},{"$f":"'6 - Input sheet - Employee data'!NR33","v":0},{"$f":"'6 - Input sheet - Employee data'!NS33","v":0},{"$f":"'6 - Input sheet - Employee data'!NT33","v":0},{"$f":"'6 - Input sheet - Employee data'!NU33","v":0},{"$f":"'6 - Input sheet - Employee data'!NV33","v":0},{"$f":"'6 - Input sheet - Employee data'!NW33","v":0},{"$f":"'6 - Input sheet - Employee data'!NX33","v":0},{"$f":"'6 - Input sheet - Employee data'!NY33","v":0},{"$f":"'6 - Input sheet - Employee data'!NZ33","v":0},{"$f":"'6 - Input sheet - Employee data'!OA33","v":0},{"$f":"'6 - Input sheet - Employee data'!OB33","v":0},{"$f":"'6 - Input sheet - Employee data'!OC33","v":0},{"$f":"'6 - Input sheet - Employee data'!OD33","v":0},{"$f":"'6 - Input sheet - Employee data'!OE33","v":0},{"$f":"'6 - Input sheet - Employee data'!OF33","v":0},{"$f":"'6 - Input sheet - Employee data'!OG33","v":0},{"$f":"'6 - Input sheet - Employee data'!OH33","v":0},{"$f":"'6 - Input sheet - Employee data'!OI33","v":0},{"$f":"'6 - Input sheet - Employee data'!OJ33","v":0},{"$f":"'6 - Input sheet - Employee data'!OK33","v":0},{"$f":"'6 - Input sheet - Employee data'!OL33","v":0},{"$f":"'6 - Input sheet - Employee data'!OM33","v":0},{"$f":"'6 - Input sheet - Employee data'!ON33","v":0},{"$f":"'6 - Input sheet - Employee data'!OO33","v":0},{"$f":"'6 - Input sheet - Employee data'!OP33","v":0},{"$f":"'6 - Input sheet - Employee data'!OQ33","v":0},{"$f":"'6 - Input sheet - Employee data'!OR33","v":0},{"$f":"'6 - Input sheet - Employee data'!OS33","v":0},{"$f":"'6 - Input sheet - Employee data'!OT33","v":0},{"$f":"'6 - Input sheet - Employee data'!OU33","v":0},{"$f":"'6 - Input sheet - Employee data'!OV33","v":0},{"$f":"'6 - Input sheet - Employee data'!OW33","v":0},{"$f":"'6 - Input sheet - Employee data'!OX33","v":0},{"$f":"'6 - Input sheet - Employee data'!OY33","v":0},{"$f":"'6 - Input sheet - Employee data'!OZ33","v":0},{"$f":"'6 - Input sheet - Employee data'!PA33","v":0},{"$f":"'6 - Input sheet - Employee data'!PB33","v":0},{"$f":"'6 - Input sheet - Employee data'!PC33","v":0},{"$f":"'6 - Input sheet - Employee data'!PD33","v":0},{"$f":"'6 - Input sheet - Employee data'!PE33","v":0},{"$f":"'6 - Input sheet - Employee data'!PF33","v":0},{"$f":"'6 - Input sheet - Employee data'!PG33","v":0},{"$f":"'6 - Input sheet - Employee data'!PH33","v":0},{"$f":"'6 - Input sheet - Employee data'!PI33","v":0},{"$f":"'6 - Input sheet - Employee data'!PJ33","v":0},{"$f":"'6 - Input sheet - Employee data'!PK33","v":0},{"$f":"'6 - Input sheet - Employee data'!PL33","v":0},{"$f":"'6 - Input sheet - Employee data'!PM33","v":0},{"$f":"'6 - Input sheet - Employee data'!PN33","v":0},{"$f":"'6 - Input sheet - Employee data'!PO33","v":0},{"$f":"'6 - Input sheet - Employee data'!PP33","v":0},{"$f":"'6 - Input sheet - Employee data'!PQ33","v":0},{"$f":"'6 - Input sheet - Employee data'!PR33","v":0},{"$f":"'6 - Input sheet - Employee data'!PS33","v":0},{"$f":"'6 - Input sheet - Employee data'!PT33","v":0},{"$f":"'6 - Input sheet - Employee data'!PU33","v":0},{"$f":"'6 - Input sheet - Employee data'!PV33","v":0},{"$f":"'6 - Input sheet - Employee data'!PW33","v":0},{"$f":"'6 - Input sheet - Employee data'!PX33","v":0},{"$f":"'6 - Input sheet - Employee data'!PY33","v":0},{"$f":"'6 - Input sheet - Employee data'!PZ33","v":0},{"$f":"'6 - Input sheet - Employee data'!QA33","v":0},{"$f":"'6 - Input sheet - Employee data'!QB33","v":0},{"$f":"'6 - Input sheet - Employee data'!QC33","v":0},{"$f":"'6 - Input sheet - Employee data'!QD33","v":0},{"$f":"'6 - Input sheet - Employee data'!QE33","v":0},{"$f":"'6 - Input sheet - Employee data'!QF33","v":0},{"$f":"'6 - Input sheet - Employee data'!QG33","v":0},{"$f":"'6 - Input sheet - Employee data'!QH33","v":0},{"$f":"'6 - Input sheet - Employee data'!QI33","v":0},{"$f":"'6 - Input sheet - Employee data'!QJ33","v":0},{"$f":"'6 - Input sheet - Employee data'!QK33","v":0},{"$f":"'6 - Input sheet - Employee data'!QL33","v":0},{"$f":"'6 - Input sheet - Employee data'!QM33","v":0},{"$f":"'6 - Input sheet - Employee data'!QN33","v":0},{"$f":"'6 - Input sheet - Employee data'!QO33","v":0},{"$f":"'6 - Input sheet - Employee data'!QP33","v":0},{"$f":"'6 - Input sheet - Employee data'!QQ33","v":0},{"$f":"'6 - Input sheet - Employee data'!QR33","v":0},{"$f":"'6 - Input sheet - Employee data'!QS33","v":0},{"$f":"'6 - Input sheet - Employee data'!QT33","v":0},{"$f":"'6 - Input sheet - Employee data'!QU33","v":0},{"$f":"'6 - Input sheet - Employee data'!QV33","v":0},{"$f":"'6 - Input sheet - Employee data'!QW33","v":0},{"$f":"'6 - Input sheet - Employee data'!QX33","v":0},{"$f":"'6 - Input sheet - Employee data'!QY33","v":0},{"$f":"'6 - Input sheet - Employee data'!QZ33","v":0},{"$f":"'6 - Input sheet - Employee data'!RA33","v":0},{"$f":"'6 - Input sheet - Employee data'!RB33","v":0},{"$f":"'6 - Input sheet - Employee data'!RC33","v":0},{"$f":"'6 - Input sheet - Employee data'!RD33","v":0},{"$f":"'6 - Input sheet - Employee data'!RE33","v":0},{"$f":"'6 - Input sheet - Employee data'!RF33","v":0},{"$f":"'6 - Input sheet - Employee data'!RG33","v":0},{"$f":"'6 - Input sheet - Employee data'!RH33","v":0},{"$f":"'6 - Input sheet - Employee data'!RI33","v":0},{"$f":"'6 - Input sheet - Employee data'!RJ33","v":0},{"$f":"'6 - Input sheet - Employee data'!RK33","v":0},{"$f":"'6 - Input sheet - Employee data'!RL33","v":0},{"$f":"'6 - Input sheet - Employee data'!RM33","v":0},{"$f":"'6 - Input sheet - Employee data'!RN33","v":0},{"$f":"'6 - Input sheet - Employee data'!RO33","v":0},{"$f":"'6 - Input sheet - Employee data'!RP33","v":0},{"$f":"'6 - Input sheet - Employee data'!RQ33","v":0},{"$f":"'6 - Input sheet - Employee data'!RR33","v":0},{"$f":"'6 - Input sheet - Employee data'!RS33","v":0},{"$f":"'6 - Input sheet - Employee data'!RT33","v":0},{"$f":"'6 - Input sheet - Employee data'!RU33","v":0},{"$f":"'6 - Input sheet - Employee data'!RV33","v":0},{"$f":"'6 - Input sheet - Employee data'!RW33","v":0},{"$f":"'6 - Input sheet - Employee data'!RX33","v":0},{"$f":"'6 - Input sheet - Employee data'!RY33","v":0},{"$f":"'6 - Input sheet - Employee data'!RZ33","v":0},{"$f":"'6 - Input sheet - Employee data'!SA33","v":0},{"$f":"'6 - Input sheet - Employee data'!SB33","v":0},{"$f":"'6 - Input sheet - Employee data'!SC33","v":0},{"$f":"'6 - Input sheet - Employee data'!SD33","v":0},{"$f":"'6 - Input sheet - Employee data'!SE33","v":0},{"$f":"'6 - Input sheet - Employee data'!SF33","v":0},{"$f":"'6 - Input sheet - Employee data'!SG33","v":0},{"$f":"'6 - Input sheet - Employee data'!SH33","v":0}]
["   Employed - January 1, 2020 to February 29, 2020",null,{"$f":"'6 - Input sheet - Employee data'!C34","v":"Yes"},{"$f":"'6 - Input sheet - Employee data'!D34","v":"Yes"},{"$f":"'6 - Input sheet - Employee data'!E34","v":"Yes"},{"$f":"'6 - Input sheet - Employee data'!F34","v":"Yes"},{"$f":"'6 - Input sheet - Employee data'!G34","v":"Yes"},{"$f":"'6 - Input sheet - Employee data'!H34","v":"Yes"},{"$f":"'6 - Input sheet - Employee data'!I34","v":"Yes"},{"$f":"'6 - Input sheet - Employee data'!J34","v":"Yes"},{"$f":"'6 - Input sheet - Employee data'!K34","v":"Yes"},{"$f":"'6 - Input sheet - Employee data'!L34","v":"Yes"},{"$f":"'6 - Input sheet - Employee data'!M34","v":"Yes"},{"$f":"'6 - Input sheet - Employee data'!N34","v":"Yes"},{"$f":"'6 - Input sheet - Employee data'!O34","v":"Yes"},{"$f":"'6 - Input sheet - Employee data'!P34","v":"Yes"},{"$f":"'6 - Input sheet - Employee data'!Q34","v":"Yes"},{"$f":"'6 - Input sheet - Employee data'!R34","v":"Yes"},{"$f":"'6 - Input sheet - Employee data'!S34","v":"Yes"},{"$f":"'6 - Input sheet - Employee data'!T34","v":"Yes"},{"$f":"'6 - Input sheet - Employee data'!U34","v":"Yes"},{"$f":"'6 - Input sheet - Employee data'!V34","v":"Yes"},{"$f":"'6 - Input sheet - Employee data'!W34","v":"Yes"},{"$f":"'6 - Input sheet - Employee data'!X34","v":"Yes"},{"$f":"'6 - Input sheet - Employee data'!Y34","v":"Yes"},{"$f":"'6 - Input sheet - Employee data'!Z34","v":"Yes"},{"$f":"'6 - Input sheet - Employee data'!AA34","v":"Yes"},{"$f":"'6 - Input sheet - Employee data'!AB34","v":"Yes"},{"$f":"'6 - Input sheet - Employee data'!AC34","v":"Yes"},{"$f":"'6 - Input sheet - Employee data'!AD34","v":"Yes"},{"$f":"'6 - Input sheet - Employee data'!AE34","v":"Yes"},{"$f":"'6 - Input sheet - Employee data'!AF34","v":"Yes"},{"$f":"'6 - Input sheet - Employee data'!AG34","v":"Yes"},{"$f":"'6 - Input sheet - Employee data'!AH34","v":"Yes"},{"$f":"'6 - Input sheet - Employee data'!AI34","v":"Yes"},{"$f":"'6 - Input sheet - Employee data'!AJ34","v":"Yes"},{"$f":"'6 - Input sheet - Employee data'!AK34","v":"Yes"},{"$f":"'6 - Input sheet - Employee data'!AL34","v":"Yes"},{"$f":"'6 - Input sheet - Employee data'!AM34","v":"Yes"},{"$f":"'6 - Input sheet - Employee data'!AN34","v":"Yes"},{"$f":"'6 - Input sheet - Employee data'!AO34","v":"Yes"},{"$f":"'6 - Input sheet - Employee data'!AP34","v":"Yes"},{"$f":"'6 - Input sheet - Employee data'!AQ34","v":"Yes"},{"$f":"'6 - Input sheet - Employee data'!AR34","v":"Yes"},{"$f":"'6 - Input sheet - Employee data'!AS34","v":"Yes"},{"$f":"'6 - Input sheet - Employee data'!AT34","v":"Yes"},{"$f":"'6 - Input sheet - Employee data'!AU34","v":"Yes"},{"$f":"'6 - Input sheet - Employee data'!AV34","v":"Yes"},{"$f":"'6 - Input sheet - Employee data'!AW34","v":"Yes"},{"$f":"'6 - Input sheet - Employee data'!AX34","v":"Yes"},{"$f":"'6 - Input sheet - Employee data'!AY34","v":"Yes"},{"$f":"'6 - Input sheet - Employee data'!AZ34","v":"Yes"},{"$f":"'6 - Input sheet - Employee data'!BA34","v":"Yes"},{"$f":"'6 - Input sheet - Employee data'!BB34","v":"Yes"},{"$f":"'6 - Input sheet - Employee data'!BC34","v":"Yes"},{"$f":"'6 - Input sheet - Employee data'!BD34","v":"Yes"},{"$f":"'6 - Input sheet - Employee data'!BE34","v":"Yes"},{"$f":"'6 - Input sheet - Employee data'!BF34","v":"Yes"},{"$f":"'6 - Input sheet - Employee data'!BG34","v":"Yes"},{"$f":"'6 - Input sheet - Employee data'!BH34","v":"Yes"},{"$f":"'6 - Input sheet - Employee data'!BI34","v":"Yes"},{"$f":"'6 - Input sheet - Employee data'!BJ34","v":"Yes"},{"$f":"'6 - Input sheet - Employee data'!BK34","v":"Yes"},{"$f":"'6 - Input sheet - Employee data'!BL34","v":"Yes"},{"$f":"'6 - Input sheet - Employee data'!BM34","v":"Yes"},{"$f":"'6 - Input sheet - Employee data'!BN34","v":"Yes"},{"$f":"'6 - Input sheet - Employee data'!BO34","v":"Yes"},{"$f":"'6 - Input sheet - Employee data'!BP34","v":"Yes"},{"$f":"'6 - Input sheet - Employee data'!BQ34","v":"Yes"},{"$f":"'6 - Input sheet - Employee data'!BR34","v":"Yes"},{"$f":"'6 - Input sheet - Employee data'!BS34","v":"Yes"},{"$f":"'6 - Input sheet - Employee data'!BT34","v":"Yes"},{"$f":"'6 - Input sheet - Employee data'!BU34","v":"Yes"},{"$f":"'6 - Input sheet - Employee data'!BV34","v":"Yes"},{"$f":"'6 - Input sheet - Employee data'!BW34","v":"Yes"},{"$f":"'6 - Input sheet - Employee data'!BX34","v":"Yes"},{"$f":"'6 - Input sheet - Employee data'!BY34","v":"Yes"},{"$f":"'6 - Input sheet - Employee data'!BZ34","v":"Yes"},{"$f":"'6 - Input sheet - Employee data'!CA34","v":"Yes"},{"$f":"'6 - Input sheet - Employee data'!CB34","v":"Yes"},{"$f":"'6 - Input sheet - Employee data'!CC34","v":"Yes"},{"$f":"'6 - Input sheet - Employee data'!CD34","v":"Yes"},{"$f":"'6 - Input sheet - Employee data'!CE34","v":"Yes"},{"$f":"'6 - Input sheet - Employee data'!CF34","v":"Yes"},{"$f":"'6 - Input sheet - Employee data'!CG34","v":"Yes"},{"$f":"'6 - Input sheet - Employee data'!CH34","v":"Yes"},{"$f":"'6 - Input sheet - Employee data'!CI34","v":"Yes"},{"$f":"'6 - Input sheet - Employee data'!CJ34","v":"Yes"},{"$f":"'6 - Input sheet - Employee data'!CK34","v":"Yes"},{"$f":"'6 - Input sheet - Employee data'!CL34","v":"Yes"},{"$f":"'6 - Input sheet - Employee data'!CM34","v":"Yes"},{"$f":"'6 - Input sheet - Employee data'!CN34","v":"Yes"},{"$f":"'6 - Input sheet - Employee data'!CO34","v":"Yes"},{"$f":"'6 - Input sheet - Employee data'!CP34","v":"Yes"},{"$f":"'6 - Input sheet - Employee data'!CQ34","v":"Yes"},{"$f":"'6 - Input sheet - Employee data'!CR34","v":"Yes"},{"$f":"'6 - Input sheet - Employee data'!CS34","v":"Yes"},{"$f":"'6 - Input sheet - Employee data'!CT34","v":"Yes"},{"$f":"'6 - Input sheet - Employee data'!CU34","v":"Yes"},{"$f":"'6 - Input sheet - Employee data'!CV34","v":"Yes"},{"$f":"'6 - Input sheet - Employee data'!CW34","v":"Yes"},{"$f":"'6 - Input sheet - Employee data'!CX34","v":"Yes"},{"$f":"'6 - Input sheet - Employee data'!CY34","v":"Yes"},{"$f":"'6 - Input sheet - Employee data'!CZ34","v":"Yes"},{"$f":"'6 - Input sheet - Employee data'!DA34","v":"Yes"},{"$f":"'6 - Input sheet - Employee data'!DB34","v":"Yes"},{"$f":"'6 - Input sheet - Employee data'!DC34","v":"Yes"},{"$f":"'6 - Input sheet - Employee data'!DD34","v":"Yes"},{"$f":"'6 - Input sheet - Employee data'!DE34","v":"Yes"},{"$f":"'6 - Input sheet - Employee data'!DF34","v":"Yes"},{"$f":"'6 - Input sheet - Employee data'!DG34","v":"Yes"},{"$f":"'6 - Input sheet - Employee data'!DH34","v":"Yes"},{"$f":"'6 - Input sheet - Employee data'!DI34","v":"Yes"},{"$f":"'6 - Input sheet - Employee data'!DJ34","v":"Yes"},{"$f":"'6 - Input sheet - Employee data'!DK34","v":"Yes"},{"$f":"'6 - Input sheet - Employee data'!DL34","v":"Yes"},{"$f":"'6 - Input sheet - Employee data'!DM34","v":"Yes"},{"$f":"'6 - Input sheet - Employee data'!DN34","v":"Yes"},{"$f":"'6 - Input sheet - Employee data'!DO34","v":"Yes"},{"$f":"'6 - Input sheet - Employee data'!DP34","v":"Yes"},{"$f":"'6 - Input sheet - Employee data'!DQ34","v":"Yes"},{"$f":"'6 - Input sheet - Employee data'!DR34","v":"Yes"},{"$f":"'6 - Input sheet - Employee data'!DS34","v":"Yes"},{"$f":"'6 - Input sheet - Employee data'!DT34","v":"Yes"},{"$f":"'6 - Input sheet - Employee data'!DU34","v":"Yes"},{"$f":"'6 - Input sheet - Employee data'!DV34","v":"Yes"},{"$f":"'6 - Input sheet - Employee data'!DW34","v":"Yes"},{"$f":"'6 - Input sheet - Employee data'!DX34","v":"Yes"},{"$f":"'6 - Input sheet - Employee data'!DY34","v":"Yes"},{"$f":"'6 - Input sheet - Employee data'!DZ34","v":"Yes"},{"$f":"'6 - Input sheet - Employee data'!EA34","v":"Yes"},{"$f":"'6 - Input sheet - Employee data'!EB34","v":"Yes"},{"$f":"'6 - Input sheet - Employee data'!EC34","v":"Yes"},{"$f":"'6 - Input sheet - Employee data'!ED34","v":"Yes"},{"$f":"'6 - Input sheet - Employee data'!EE34","v":"Yes"},{"$f":"'6 - Input sheet - Employee data'!EF34","v":"Yes"},{"$f":"'6 - Input sheet - Employee data'!EG34","v":"Yes"},{"$f":"'6 - Input sheet - Employee data'!EH34","v":"Yes"},{"$f":"'6 - Input sheet - Employee data'!EI34","v":"Yes"},{"$f":"'6 - Input sheet - Employee data'!EJ34","v":"Yes"},{"$f":"'6 - Input sheet - Employee data'!EK34","v":"Yes"},{"$f":"'6 - Input sheet - Employee data'!EL34","v":"Yes"},{"$f":"'6 - Input sheet - Employee data'!EM34","v":"Yes"},{"$f":"'6 - Input sheet - Employee data'!EN34","v":"Yes"},{"$f":"'6 - Input sheet - Employee data'!EO34","v":"Yes"},{"$f":"'6 - Input sheet - Employee data'!EP34","v":"Yes"},{"$f":"'6 - Input sheet - Employee data'!EQ34","v":"Yes"},{"$f":"'6 - Input sheet - Employee data'!ER34","v":"Yes"},{"$f":"'6 - Input sheet - Employee data'!ES34","v":"Yes"},{"$f":"'6 - Input sheet - Employee data'!ET34","v":"Yes"},{"$f":"'6 - Input sheet - Employee data'!EU34","v":"Yes"},{"$f":"'6 - Input sheet - Employee data'!EV34","v":"Yes"},{"$f":"'6 - Input sheet - Employee data'!EW34","v":"Yes"},{"$f":"'6 - Input sheet - Employee data'!EX34","v":"Yes"},{"$f":"'6 - Input sheet - Employee data'!EY34","v":"Yes"},{"$f":"'6 - Input sheet - Employee data'!EZ34","v":"Yes"},{"$f":"'6 - Input sheet - Employee data'!FA34","v":"Yes"},{"$f":"'6 - Input sheet - Employee data'!FB34","v":"Yes"},{"$f":"'6 - Input sheet - Employee data'!FC34","v":"Yes"},{"$f":"'6 - Input sheet - Employee data'!FD34","v":"Yes"},{"$f":"'6 - Input sheet - Employee data'!FE34","v":"Yes"},{"$f":"'6 - Input sheet - Employee data'!FF34","v":"Yes"},{"$f":"'6 - Input sheet - Employee data'!FG34","v":"Yes"},{"$f":"'6 - Input sheet - Employee data'!FH34","v":"Yes"},{"$f":"'6 - Input sheet - Employee data'!FI34","v":"Yes"},{"$f":"'6 - Input sheet - Employee data'!FJ34","v":"Yes"},{"$f":"'6 - Input sheet - Employee data'!FK34","v":"Yes"},{"$f":"'6 - Input sheet - Employee data'!FL34","v":"Yes"},{"$f":"'6 - Input sheet - Employee data'!FM34","v":"Yes"},{"$f":"'6 - Input sheet - Employee data'!FN34","v":"Yes"},{"$f":"'6 - Input sheet - Employee data'!FO34","v":"Yes"},{"$f":"'6 - Input sheet - Employee data'!FP34","v":"Yes"},{"$f":"'6 - Input sheet - Employee data'!FQ34","v":"Yes"},{"$f":"'6 - Input sheet - Employee data'!FR34","v":"Yes"},{"$f":"'6 - Input sheet - Employee data'!FS34","v":"Yes"},{"$f":"'6 - Input sheet - Employee data'!FT34","v":"Yes"},{"$f":"'6 - Input sheet - Employee data'!FU34","v":"Yes"},{"$f":"'6 - Input sheet - Employee data'!FV34","v":"Yes"},{"$f":"'6 - Input sheet - Employee data'!FW34","v":"Yes"},{"$f":"'6 - Input sheet - Employee data'!FX34","v":"Yes"},{"$f":"'6 - Input sheet - Employee data'!FY34","v":"Yes"},{"$f":"'6 - Input sheet - Employee data'!FZ34","v":"Yes"},{"$f":"'6 - Input sheet - Employee data'!GA34","v":"Yes"},{"$f":"'6 - Input sheet - Employee data'!GB34","v":"Yes"},{"$f":"'6 - Input sheet - Employee data'!GC34","v":"Yes"},{"$f":"'6 - Input sheet - Employee data'!GD34","v":"Yes"},{"$f":"'6 - Input sheet - Employee data'!GE34","v":"Yes"},{"$f":"'6 - Input sheet - Employee data'!GF34","v":"Yes"},{"$f":"'6 - Input sheet - Employee data'!GG34","v":"Yes"},{"$f":"'6 - Input sheet - Employee data'!GH34","v":"Yes"},{"$f":"'6 - Input sheet - Employee data'!GI34","v":"Yes"},{"$f":"'6 - Input sheet - Employee data'!GJ34","v":"Yes"},{"$f":"'6 - Input sheet - Employee data'!GK34","v":"Yes"},{"$f":"'6 - Input sheet - Employee data'!GL34","v":"Yes"},{"$f":"'6 - Input sheet - Employee data'!GM34","v":"Yes"},{"$f":"'6 - Input sheet - Employee data'!GN34","v":"Yes"},{"$f":"'6 - Input sheet - Employee data'!GO34","v":"Yes"},{"$f":"'6 - Input sheet - Employee data'!GP34","v":"Yes"},{"$f":"'6 - Input sheet - Employee data'!GQ34","v":"Yes"},{"$f":"'6 - Input sheet - Employee data'!GR34","v":"Yes"},{"$f":"'6 - Input sheet - Employee data'!GS34","v":"Yes"},{"$f":"'6 - Input sheet - Employee data'!GT34","v":"Yes"},{"$f":"'6 - Input sheet - Employee data'!GU34","v":"Yes"},{"$f":"'6 - Input sheet - Employee data'!GV34","v":"Yes"},{"$f":"'6 - Input sheet - Employee data'!GW34","v":"Yes"},{"$f":"'6 - Input sheet - Employee data'!GX34","v":"Yes"},{"$f":"'6 - Input sheet - Employee data'!GY34","v":"Yes"},{"$f":"'6 - Input sheet - Employee data'!GZ34","v":"Yes"},{"$f":"'6 - Input sheet - Employee data'!HA34","v":"Yes"},{"$f":"'6 - Input sheet - Employee data'!HB34","v":"Yes"},{"$f":"'6 - Input sheet - Employee data'!HC34","v":"Yes"},{"$f":"'6 - Input sheet - Employee data'!HD34","v":"Yes"},{"$f":"'6 - Input sheet - Employee data'!HE34","v":"Yes"},{"$f":"'6 - Input sheet - Employee data'!HF34","v":"Yes"},{"$f":"'6 - Input sheet - Employee data'!HG34","v":"Yes"},{"$f":"'6 - Input sheet - Employee data'!HH34","v":"Yes"},{"$f":"'6 - Input sheet - Employee data'!HI34","v":"Yes"},{"$f":"'6 - Input sheet - Employee data'!HJ34","v":"Yes"},{"$f":"'6 - Input sheet - Employee data'!HK34","v":"Yes"},{"$f":"'6 - Input sheet - Employee data'!HL34","v":"Yes"},{"$f":"'6 - Input sheet - Employee data'!HM34","v":"Yes"},{"$f":"'6 - Input sheet - Employee data'!HN34","v":"Yes"},{"$f":"'6 - Input sheet - Employee data'!HO34","v":"Yes"},{"$f":"'6 - Input sheet - Employee data'!HP34","v":"Yes"},{"$f":"'6 - Input sheet - Employee data'!HQ34","v":"Yes"},{"$f":"'6 - Input sheet - Employee data'!HR34","v":"Yes"},{"$f":"'6 - Input sheet - Employee data'!HS34","v":"Yes"},{"$f":"'6 - Input sheet - Employee data'!HT34","v":"Yes"},{"$f":"'6 - Input sheet - Employee data'!HU34","v":"Yes"},{"$f":"'6 - Input sheet - Employee data'!HV34","v":"Yes"},{"$f":"'6 - Input sheet - Employee data'!HW34","v":"Yes"},{"$f":"'6 - Input sheet - Employee data'!HX34","v":"Yes"},{"$f":"'6 - Input sheet - Employee data'!HY34","v":"Yes"},{"$f":"'6 - Input sheet - Employee data'!HZ34","v":"Yes"},{"$f":"'6 - Input sheet - Employee data'!IA34","v":"Yes"},{"$f":"'6 - Input sheet - Employee data'!IB34","v":"Yes"},{"$f":"'6 - Input sheet - Employee data'!IC34","v":"Yes"},{"$f":"'6 - Input sheet - Employee data'!ID34","v":"Yes"},{"$f":"'6 - Input sheet - Employee data'!IE34","v":"Yes"},{"$f":"'6 - Input sheet - Employee data'!IF34","v":"Yes"},{"$f":"'6 - Input sheet - Employee data'!IG34","v":"Yes"},{"$f":"'6 - Input sheet - Employee data'!IH34","v":"Yes"},{"$f":"'6 - Input sheet - Employee data'!II34","v":"Yes"},{"$f":"'6 - Input sheet - Employee data'!IJ34","v":"Yes"},{"$f":"'6 - Input sheet - Employee data'!IK34","v":"Yes"},{"$f":"'6 - Input sheet - Employee data'!IL34","v":"Yes"},{"$f":"'6 - Input sheet - Employee data'!IM34","v":"Yes"},{"$f":"'6 - Input sheet - Employee data'!IN34","v":"Yes"},{"$f":"'6 - Input sheet - Employee data'!IO34","v":"Yes"},{"$f":"'6 - Input sheet - Employee data'!IP34","v":"Yes"},{"$f":"'6 - Input sheet - Employee data'!IQ34","v":"Yes"},{"$f":"'6 - Input sheet - Employee data'!IR34","v":"Yes"},{"$f":"'6 - Input sheet - Employee data'!IS34","v":"Yes"},{"$f":"'6 - Input sheet - Employee data'!IT34","v":"Yes"},{"$f":"'6 - Input sheet - Employee data'!IU34","v":"Yes"},{"$f":"'6 - Input sheet - Employee data'!IV34","v":"Yes"},{"$f":"'6 - Input sheet - Employee data'!IW34","v":"Yes"},{"$f":"'6 - Input sheet - Employee data'!IX34","v":"Yes"},{"$f":"'6 - Input sheet - Employee data'!IY34","v":"Yes"},{"$f":"'6 - Input sheet - Employee data'!IZ34","v":"Yes"},{"$f":"'6 - Input sheet - Employee data'!JA34","v":"Yes"},{"$f":"'6 - Input sheet - Employee data'!JB34","v":"Yes"},{"$f":"'6 - Input sheet - Employee data'!JC34","v":"Yes"},{"$f":"'6 - Input sheet - Employee data'!JD34","v":"Yes"},{"$f":"'6 - Input sheet - Employee data'!JE34","v":"Yes"},{"$f":"'6 - Input sheet - Employee data'!JF34","v":"Yes"},{"$f":"'6 - Input sheet - Employee data'!JG34","v":"Yes"},{"$f":"'6 - Input sheet - Employee data'!JH34","v":"Yes"},{"$f":"'6 - Input sheet - Employee data'!JI34","v":"Yes"},{"$f":"'6 - Input sheet - Employee data'!JJ34","v":"Yes"},{"$f":"'6 - Input sheet - Employee data'!JK34","v":"Yes"},{"$f":"'6 - Input sheet - Employee data'!JL34","v":"Yes"},{"$f":"'6 - Input sheet - Employee data'!JM34","v":"Yes"},{"$f":"'6 - Input sheet - Employee data'!JN34","v":"Yes"},{"$f":"'6 - Input sheet - Employee data'!JO34","v":"Yes"},{"$f":"'6 - Input sheet - Employee data'!JP34","v":"Yes"},{"$f":"'6 - Input sheet - Employee data'!JQ34","v":"Yes"},{"$f":"'6 - Input sheet - Employee data'!JR34","v":"Yes"},{"$f":"'6 - Input sheet - Employee data'!JS34","v":"Yes"},{"$f":"'6 - Input sheet - Employee data'!JT34","v":"Yes"},{"$f":"'6 - Input sheet - Employee data'!JU34","v":"Yes"},{"$f":"'6 - Input sheet - Employee data'!JV34","v":"Yes"},{"$f":"'6 - Input sheet - Employee data'!JW34","v":"Yes"},{"$f":"'6 - Input sheet - Employee data'!JX34","v":"Yes"},{"$f":"'6 - Input sheet - Employee data'!JY34","v":"Yes"},{"$f":"'6 - Input sheet - Employee data'!JZ34","v":"Yes"},{"$f":"'6 - Input sheet - Employee data'!KA34","v":"Yes"},{"$f":"'6 - Input sheet - Employee data'!KB34","v":"Yes"},{"$f":"'6 - Input sheet - Employee data'!KC34","v":"Yes"},{"$f":"'6 - Input sheet - Employee data'!KD34","v":"Yes"},{"$f":"'6 - Input sheet - Employee data'!KE34","v":"Yes"},{"$f":"'6 - Input sheet - Employee data'!KF34","v":"Yes"},{"$f":"'6 - Input sheet - Employee data'!KG34","v":"Yes"},{"$f":"'6 - Input sheet - Employee data'!KH34","v":"Yes"},{"$f":"'6 - Input sheet - Employee data'!KI34","v":"Yes"},{"$f":"'6 - Input sheet - Employee data'!KJ34","v":"Yes"},{"$f":"'6 - Input sheet - Employee data'!KK34","v":"Yes"},{"$f":"'6 - Input sheet - Employee data'!KL34","v":"Yes"},{"$f":"'6 - Input sheet - Employee data'!KM34","v":"Yes"},{"$f":"'6 - Input sheet - Employee data'!KN34","v":"Yes"},{"$f":"'6 - Input sheet - Employee data'!KO34","v":"Yes"},{"$f":"'6 - Input sheet - Employee data'!KP34","v":"Yes"},{"$f":"'6 - Input sheet - Employee data'!KQ34","v":"Yes"},{"$f":"'6 - Input sheet - Employee data'!KR34","v":"Yes"},{"$f":"'6 - Input sheet - Employee data'!KS34","v":"Yes"},{"$f":"'6 - Input sheet - Employee data'!KT34","v":"Yes"},{"$f":"'6 - Input sheet - Employee data'!KU34","v":"Yes"},{"$f":"'6 - Input sheet - Employee data'!KV34","v":"Yes"},{"$f":"'6 - Input sheet - Employee data'!KW34","v":"Yes"},{"$f":"'6 - Input sheet - Employee data'!KX34","v":"Yes"},{"$f":"'6 - Input sheet - Employee data'!KY34","v":"Yes"},{"$f":"'6 - Input sheet - Employee data'!KZ34","v":"Yes"},{"$f":"'6 - Input sheet - Employee data'!LA34","v":"Yes"},{"$f":"'6 - Input sheet - Employee data'!LB34","v":"Yes"},{"$f":"'6 - Input sheet - Employee data'!LC34","v":"Yes"},{"$f":"'6 - Input sheet - Employee data'!LD34","v":"Yes"},{"$f":"'6 - Input sheet - Employee data'!LE34","v":"Yes"},{"$f":"'6 - Input sheet - Employee data'!LF34","v":"Yes"},{"$f":"'6 - Input sheet - Employee data'!LG34","v":"Yes"},{"$f":"'6 - Input sheet - Employee data'!LH34","v":"Yes"},{"$f":"'6 - Input sheet - Employee data'!LI34","v":"Yes"},{"$f":"'6 - Input sheet - Employee data'!LJ34","v":"Yes"},{"$f":"'6 - Input sheet - Employee data'!LK34","v":"Yes"},{"$f":"'6 - Input sheet - Employee data'!LL34","v":"Yes"},{"$f":"'6 - Input sheet - Employee data'!LM34","v":"Yes"},{"$f":"'6 - Input sheet - Employee data'!LN34","v":"Yes"},{"$f":"'6 - Input sheet - Employee data'!LO34","v":"Yes"},{"$f":"'6 - Input sheet - Employee data'!LP34","v":"Yes"},{"$f":"'6 - Input sheet - Employee data'!LQ34","v":"Yes"},{"$f":"'6 - Input sheet - Employee data'!LR34","v":"Yes"},{"$f":"'6 - Input sheet - Employee data'!LS34","v":"Yes"},{"$f":"'6 - Input sheet - Employee data'!LT34","v":"Yes"},{"$f":"'6 - Input sheet - Employee data'!LU34","v":"Yes"},{"$f":"'6 - Input sheet - Employee data'!LV34","v":"Yes"},{"$f":"'6 - Input sheet - Employee data'!LW34","v":"Yes"},{"$f":"'6 - Input sheet - Employee data'!LX34","v":"Yes"},{"$f":"'6 - Input sheet - Employee data'!LY34","v":"Yes"},{"$f":"'6 - Input sheet - Employee data'!LZ34","v":"Yes"},{"$f":"'6 - Input sheet - Employee data'!MA34","v":"Yes"},{"$f":"'6 - Input sheet - Employee data'!MB34","v":"Yes"},{"$f":"'6 - Input sheet - Employee data'!MC34","v":"Yes"},{"$f":"'6 - Input sheet - Employee data'!MD34","v":"Yes"},{"$f":"'6 - Input sheet - Employee data'!ME34","v":"Yes"},{"$f":"'6 - Input sheet - Employee data'!MF34","v":"Yes"},{"$f":"'6 - Input sheet - Employee data'!MG34","v":"Yes"},{"$f":"'6 - Input sheet - Employee data'!MH34","v":"Yes"},{"$f":"'6 - Input sheet - Employee data'!MI34","v":"Yes"},{"$f":"'6 - Input sheet - Employee data'!MJ34","v":"Yes"},{"$f":"'6 - Input sheet - Employee data'!MK34","v":"Yes"},{"$f":"'6 - Input sheet - Employee data'!ML34","v":"Yes"},{"$f":"'6 - Input sheet - Employee data'!MM34","v":"Yes"},{"$f":"'6 - Input sheet - Employee data'!MN34","v":"Yes"},{"$f":"'6 - Input sheet - Employee data'!MO34","v":"Yes"},{"$f":"'6 - Input sheet - Employee data'!MP34","v":"Yes"},{"$f":"'6 - Input sheet - Employee data'!MQ34","v":"Yes"},{"$f":"'6 - Input sheet - Employee data'!MR34","v":"Yes"},{"$f":"'6 - Input sheet - Employee data'!MS34","v":"Yes"},{"$f":"'6 - Input sheet - Employee data'!MT34","v":"Yes"},{"$f":"'6 - Input sheet - Employee data'!MU34","v":"Yes"},{"$f":"'6 - Input sheet - Employee data'!MV34","v":"Yes"},{"$f":"'6 - Input sheet - Employee data'!MW34","v":"Yes"},{"$f":"'6 - Input sheet - Employee data'!MX34","v":"Yes"},{"$f":"'6 - Input sheet - Employee data'!MY34","v":"Yes"},{"$f":"'6 - Input sheet - Employee data'!MZ34","v":"Yes"},{"$f":"'6 - Input sheet - Employee data'!NA34","v":"Yes"},{"$f":"'6 - Input sheet - Employee data'!NB34","v":"Yes"},{"$f":"'6 - Input sheet - Employee data'!NC34","v":"Yes"},{"$f":"'6 - Input sheet - Employee data'!ND34","v":"Yes"},{"$f":"'6 - Input sheet - Employee data'!NE34","v":"Yes"},{"$f":"'6 - Input sheet - Employee data'!NF34","v":"Yes"},{"$f":"'6 - Input sheet - Employee data'!NG34","v":"Yes"},{"$f":"'6 - Input sheet - Employee data'!NH34","v":"Yes"},{"$f":"'6 - Input sheet - Employee data'!NI34","v":"Yes"},{"$f":"'6 - Input sheet - Employee data'!NJ34","v":"Yes"},{"$f":"'6 - Input sheet - Employee data'!NK34","v":"Yes"},{"$f":"'6 - Input sheet - Employee data'!NL34","v":"Yes"},{"$f":"'6 - Input sheet - Employee data'!NM34","v":"Yes"},{"$f":"'6 - Input sheet - Employee data'!NN34","v":"Yes"},{"$f":"'6 - Input sheet - Employee data'!NO34","v":"Yes"},{"$f":"'6 - Input sheet - Employee data'!NP34","v":"Yes"},{"$f":"'6 - Input sheet - Employee data'!NQ34","v":"Yes"},{"$f":"'6 - Input sheet - Employee data'!NR34","v":"Yes"},{"$f":"'6 - Input sheet - Employee data'!NS34","v":"Yes"},{"$f":"'6 - Input sheet - Employee data'!NT34","v":"Yes"},{"$f":"'6 - Input sheet - Employee data'!NU34","v":"Yes"},{"$f":"'6 - Input sheet - Employee data'!NV34","v":"Yes"},{"$f":"'6 - Input sheet - Employee data'!NW34","v":"Yes"},{"$f":"'6 - Input sheet - Employee data'!NX34","v":"Yes"},{"$f":"'6 - Input sheet - Employee data'!NY34","v":"Yes"},{"$f":"'6 - Input sheet - Employee data'!NZ34","v":"Yes"},{"$f":"'6 - Input sheet - Employee data'!OA34","v":"Yes"},{"$f":"'6 - Input sheet - Employee data'!OB34","v":"Yes"},{"$f":"'6 - Input sheet - Employee data'!OC34","v":"Yes"},{"$f":"'6 - Input sheet - Employee data'!OD34","v":"Yes"},{"$f":"'6 - Input sheet - Employee data'!OE34","v":"Yes"},{"$f":"'6 - Input sheet - Employee data'!OF34","v":"Yes"},{"$f":"'6 - Input sheet - Employee data'!OG34","v":"Yes"},{"$f":"'6 - Input sheet - Employee data'!OH34","v":"Yes"},{"$f":"'6 - Input sheet - Employee data'!OI34","v":"Yes"},{"$f":"'6 - Input sheet - Employee data'!OJ34","v":"Yes"},{"$f":"'6 - Input sheet - Employee data'!OK34","v":"Yes"},{"$f":"'6 - Input sheet - Employee data'!OL34","v":"Yes"},{"$f":"'6 - Input sheet - Employee data'!OM34","v":"Yes"},{"$f":"'6 - Input sheet - Employee data'!ON34","v":"Yes"},{"$f":"'6 - Input sheet - Employee data'!OO34","v":"Yes"},{"$f":"'6 - Input sheet - Employee data'!OP34","v":"Yes"},{"$f":"'6 - Input sheet - Employee data'!OQ34","v":"Yes"},{"$f":"'6 - Input sheet - Employee data'!OR34","v":"Yes"},{"$f":"'6 - Input sheet - Employee data'!OS34","v":"Yes"},{"$f":"'6 - Input sheet - Employee data'!OT34","v":"Yes"},{"$f":"'6 - Input sheet - Employee data'!OU34","v":"Yes"},{"$f":"'6 - Input sheet - Employee data'!OV34","v":"Yes"},{"$f":"'6 - Input sheet - Employee data'!OW34","v":"Yes"},{"$f":"'6 - Input sheet - Employee data'!OX34","v":"Yes"},{"$f":"'6 - Input sheet - Employee data'!OY34","v":"Yes"},{"$f":"'6 - Input sheet - Employee data'!OZ34","v":"Yes"},{"$f":"'6 - Input sheet - Employee data'!PA34","v":"Yes"},{"$f":"'6 - Input sheet - Employee data'!PB34","v":"Yes"},{"$f":"'6 - Input sheet - Employee data'!PC34","v":"Yes"},{"$f":"'6 - Input sheet - Employee data'!PD34","v":"Yes"},{"$f":"'6 - Input sheet - Employee data'!PE34","v":"Yes"},{"$f":"'6 - Input sheet - Employee data'!PF34","v":"Yes"},{"$f":"'6 - Input sheet - Employee data'!PG34","v":"Yes"},{"$f":"'6 - Input sheet - Employee data'!PH34","v":"Yes"},{"$f":"'6 - Input sheet - Employee data'!PI34","v":"Yes"},{"$f":"'6 - Input sheet - Employee data'!PJ34","v":"Yes"},{"$f":"'6 - Input sheet - Employee data'!PK34","v":"Yes"},{"$f":"'6 - Input sheet - Employee data'!PL34","v":"Yes"},{"$f":"'6 - Input sheet - Employee data'!PM34","v":"Yes"},{"$f":"'6 - Input sheet - Employee data'!PN34","v":"Yes"},{"$f":"'6 - Input sheet - Employee data'!PO34","v":"Yes"},{"$f":"'6 - Input sheet - Employee data'!PP34","v":"Yes"},{"$f":"'6 - Input sheet - Employee data'!PQ34","v":"Yes"},{"$f":"'6 - Input sheet - Employee data'!PR34","v":"Yes"},{"$f":"'6 - Input sheet - Employee data'!PS34","v":"Yes"},{"$f":"'6 - Input sheet - Employee data'!PT34","v":"Yes"},{"$f":"'6 - Input sheet - Employee data'!PU34","v":"Yes"},{"$f":"'6 - Input sheet - Employee data'!PV34","v":"Yes"},{"$f":"'6 - Input sheet - Employee data'!PW34","v":"Yes"},{"$f":"'6 - Input sheet - Employee data'!PX34","v":"Yes"},{"$f":"'6 - Input sheet - Employee data'!PY34","v":"Yes"},{"$f":"'6 - Input sheet - Employee data'!PZ34","v":"Yes"},{"$f":"'6 - Input sheet - Employee data'!QA34","v":"Yes"},{"$f":"'6 - Input sheet - Employee data'!QB34","v":"Yes"},{"$f":"'6 - Input sheet - Employee data'!QC34","v":"Yes"},{"$f":"'6 - Input sheet - Employee data'!QD34","v":"Yes"},{"$f":"'6 - Input sheet - Employee data'!QE34","v":"Yes"},{"$f":"'6 - Input sheet - Employee data'!QF34","v":"Yes"},{"$f":"'6 - Input sheet - Employee data'!QG34","v":"Yes"},{"$f":"'6 - Input sheet - Employee data'!QH34","v":"Yes"},{"$f":"'6 - Input sheet - Employee data'!QI34","v":"Yes"},{"$f":"'6 - Input sheet - Employee data'!QJ34","v":"Yes"},{"$f":"'6 - Input sheet - Employee data'!QK34","v":"Yes"},{"$f":"'6 - Input sheet - Employee data'!QL34","v":"Yes"},{"$f":"'6 - Input sheet - Employee data'!QM34","v":"Yes"},{"$f":"'6 - Input sheet - Employee data'!QN34","v":"Yes"},{"$f":"'6 - Input sheet - Employee data'!QO34","v":"Yes"},{"$f":"'6 - Input sheet - Employee data'!QP34","v":"Yes"},{"$f":"'6 - Input sheet - Employee data'!QQ34","v":"Yes"},{"$f":"'6 - Input sheet - Employee data'!QR34","v":"Yes"},{"$f":"'6 - Input sheet - Employee data'!QS34","v":"Yes"},{"$f":"'6 - Input sheet - Employee data'!QT34","v":"Yes"},{"$f":"'6 - Input sheet - Employee data'!QU34","v":"Yes"},{"$f":"'6 - Input sheet - Employee data'!QV34","v":"Yes"},{"$f":"'6 - Input sheet - Employee data'!QW34","v":"Yes"},{"$f":"'6 - Input sheet - Employee data'!QX34","v":"Yes"},{"$f":"'6 - Input sheet - Employee data'!QY34","v":"Yes"},{"$f":"'6 - Input sheet - Employee data'!QZ34","v":"Yes"},{"$f":"'6 - Input sheet - Employee data'!RA34","v":"Yes"},{"$f":"'6 - Input sheet - Employee data'!RB34","v":"Yes"},{"$f":"'6 - Input sheet - Employee data'!RC34","v":"Yes"},{"$f":"'6 - Input sheet - Employee data'!RD34","v":"Yes"},{"$f":"'6 - Input sheet - Employee data'!RE34","v":"Yes"},{"$f":"'6 - Input sheet - Employee data'!RF34","v":"Yes"},{"$f":"'6 - Input sheet - Employee data'!RG34","v":"Yes"},{"$f":"'6 - Input sheet - Employee data'!RH34","v":"Yes"},{"$f":"'6 - Input sheet - Employee data'!RI34","v":"Yes"},{"$f":"'6 - Input sheet - Employee data'!RJ34","v":"Yes"},{"$f":"'6 - Input sheet - Employee data'!RK34","v":"Yes"},{"$f":"'6 - Input sheet - Employee data'!RL34","v":"Yes"},{"$f":"'6 - Input sheet - Employee data'!RM34","v":"Yes"},{"$f":"'6 - Input sheet - Employee data'!RN34","v":"Yes"},{"$f":"'6 - Input sheet - Employee data'!RO34","v":"Yes"},{"$f":"'6 - Input sheet - Employee data'!RP34","v":"Yes"},{"$f":"'6 - Input sheet - Employee data'!RQ34","v":"Yes"},{"$f":"'6 - Input sheet - Employee data'!RR34","v":"Yes"},{"$f":"'6 - Input sheet - Employee data'!RS34","v":"Yes"},{"$f":"'6 - Input sheet - Employee data'!RT34","v":"Yes"},{"$f":"'6 - Input sheet - Employee data'!RU34","v":"Yes"},{"$f":"'6 - Input sheet - Employee data'!RV34","v":"Yes"},{"$f":"'6 - Input sheet - Employee data'!RW34","v":"Yes"},{"$f":"'6 - Input sheet - Employee data'!RX34","v":"Yes"},{"$f":"'6 - Input sheet - Employee data'!RY34","v":"Yes"},{"$f":"'6 - Input sheet - Employee data'!RZ34","v":"Yes"},{"$f":"'6 - Input sheet - Employee data'!SA34","v":"Yes"},{"$f":"'6 - Input sheet - Employee data'!SB34","v":"Yes"},{"$f":"'6 - Input sheet - Employee data'!SC34","v":"Yes"},{"$f":"'6 - Input sheet - Employee data'!SD34","v":"Yes"},{"$f":"'6 - Input sheet - Employee data'!SE34","v":"Yes"},{"$f":"'6 - Input sheet - Employee data'!SF34","v":"Yes"},{"$f":"'6 - Input sheet - Employee data'!SG34","v":"Yes"},{"$f":"'6 - Input sheet - Employee data'!SH34","v":"Yes"}]
["   FTE - salaried",null,{"$f":"IF(C26=\"yes\",1,0)","v":1},{"$f":"IF(D26=\"yes\",1,0)","v":1},1,1,1,1,1,1,1,1,1,1,1,1,1,1,1,1,1,1,1,1,1,1,1,1,1,1,1,1,1,1,1,1,1,1,1,1,1,1,1,1,1,1,1,1,1,1,1,1,1,1,1,1,1,1,1,1,1,1,1,1,1,1,1,{"$f":"IF(BP26=\"yes\",1,0)","v":1},1,1,1,1,1,1,1,1,1,1,1,1,1,1,1,1,1,1,1,1,1,1,1,1,1,1,1,1,1,1,1,1,1,1,1,1,1,1,1,1,1,1,1,1,1,1,1,1,1,1,1,1,1,1,1,1,1,1,1,1,1,1,1,{"$f":"IF(EB26=\"yes\",1,0)","v":1},1,1,1,1,1,1,1,1,1,1,1,1,1,1,1,1,1,1,1,1,1,1,1,1,1,1,1,1,1,1,1,1,1,1,1,1,1,1,1,1,1,1,1,1,1,1,1,1,1,1,1,1,1,1,1,1,1,1,1,1,1,1,1,{"$f":"IF(GN26=\"yes\",1,0)","v":1},1,1,1,1,1,1,1,1,1,1,1,1,1,1,1,1,1,1,1,1,1,1,1,1,1,1,1,1,1,1,1,1,1,1,1,1,1,1,1,1,1,1,1,1,1,1,1,1,1,1,1,1,1,1,1,1,1,1,1,1,1,1,1,{"$f":"IF(IZ26=\"yes\",1,0)","v":1},1,1,1,1,1,1,1,1,1,1,1,1,1,1,1,1,1,1,1,1,1,1,1,1,1,1,1,1,1,1,1,1,1,1,1,1,1,1,1,1,1,1,1,1,1,1,1,1,1,1,1,1,1,1,1,1,1,1,1,1,1,1,1,{"$f":"IF(LL26=\"yes\",1,0)","v":1},1,1,1,1,1,1,1,1,1,1,1,1,1,1,1,1,1,1,1,1,1,1,1,1,1,1,1,1,1,1,1,1,1,1,1,1,1,1,1,1,1,1,1,1,1,1,1,1,1,1,1,1,1,1,1,1,1,1,1,1,1,1,1,{"$f":"IF(NX26=\"yes\",1,0)","v":1},1,1,1,1,1,1,1,1,1,1,1,1,1,1,1,1,1,1,1,1,1,1,1,1,1,1,1,1,1,1,1,1,1,1,1,1,1,1,1,1,1,1,1,1,1,1,1,1,1,1,1,1,1,1,1,1,1,1,1,1,1,1,1,{"$f":"IF(QJ26=\"yes\",1,0)","v":1},1,1,1,1,1,1,1,1,1,1,1,1,1,1,1,1,1,1,1,1,1,1,1,1,1,1,1,1,1,1,1,1,1,1,1,1,1,1,1,1,1,1,1,1,1,1,1,1,1,1]
["   FTE - hourly",null,{"$f":"C25/($C$13*$D$14)","v":0},{"$f":"D25/($C$13*$D$14)","v":0},0,0,0,0,0,0,0,0,0,0,0,0,0,0,0,0,0,0,0,0,0,0,0,0,0,0,0,0,0,0,0,0,0,0,0,0,0,0,0,0,0,0,0,0,0,0,0,0,0,0,0,0,0,0,0,0,0,0,0,0,0,0,0,{"$f":"BP25/($C$13*$D$14)","v":0},0,0,0,0,0,0,0,0,0,0,0,0,0,0,0,0,0,0,0,0,0,0,0,0,0,0,0,0,0,0,0,0,0,0,0,0,0,0,0,0,0,0,0,0,0,0,0,0,0,0,0,0,0,0,0,0,0,0,0,0,0,0,0,{"$f":"EB25/($C$13*$D$14)","v":0},0,0,0,0,0,0,0,0,0,0,0,0,0,0,0,0,0,0,0,0,0,0,0,0,0,0,0,0,0,0,0,0,0,0,0,0,0,0,0,0,0,0,0,0,0,0,0,0,0,0,0,0,0,0,0,0,0,0,0,0,0,0,0,{"$f":"GN25/($C$13*$D$14)","v":0},0,0,0,0,0,0,0,0,0,0,0,0,0,0,0,0,0,0,0,0,0,0,0,0,0,0,0,0,0,0,0,0,0,0,0,0,0,0,0,0,0,0,0,0,0,0,0,0,0,0,0,0,0,0,0,0,0,0,0,0,0,0,0,{"$f":"IZ25/($C$13*$D$14)","v":0},0,0,0,0,0,0,0,0,0,0,0,0,0,0,0,0,0,0,0,0,0,0,0,0,0,0,0,0,0,0,0,0,0,0,0,0,0,0,0,0,0,0,0,0,0,0,0,0,0,0,0,0,0,0,0,0,0,0,0,0,0,0,0,{"$f":"LL25/($C$13*$D$14)","v":0},0,0,0,0,0,0,0,0,0,0,0,0,0,0,0,0,0,0,0,0,0,0,0,0,0,0,0,0,0,0,0,0,0,0,0,0,0,0,0,0,0,0,0,0,0,0,0,0,0,0,0,0,0,0,0,0,0,0,0,0,0,0,0,{"$f":"NX25/($C$13*$D$14)","v":0},0,0,0,0,0,0,0,0,0,0,0,0,0,0,0,0,0,0,0,0,0,0,0,0,0,0,0,0,0,0,0,0,0,0,0,0,0,0,0,0,0,0,0,0,0,0,0,0,0,0,0,0,0,0,0,0,0,0,0,0,0,0,0,{"$f":"QJ25/($C$13*$D$14)","v":0},0,0,0,0,0,0,0,0,0,0,0,0,0,0,0,0,0,0,0,0,0,0,0,0,0,0,0,0,0,0,0,0,0,0,0,0,0,0,0,0,0,0,0,0,0,0,0,0,0,0]
["   FTE - hourly max",null,{"$f":"IF(C28>1,1,0)","v":0},{"$f":"IF(D28>1,1,0)","v":0},0,0,0,0,0,0,0,0,0,0,0,0,0,0,0,0,0,0,0,0,0,0,0,0,0,0,0,0,0,0,0,0,0,0,0,0,0,0,0,0,0,0,0,0,0,0,0,0,0,0,0,0,0,0,0,0,0,0,0,0,0,0,0,{"$f":"IF(BP28>1,1,0)","v":0},0,0,0,0,0,0,0,0,0,0,0,0,0,0,0,0,0,0,0,0,0,0,0,0,0,0,0,0,0,0,0,0,0,0,0,0,0,0,0,0,0,0,0,0,0,0,0,0,0,0,0,0,0,0,0,0,0,0,0,0,0,0,0,{"$f":"IF(EB28>1,1,0)","v":0},0,0,0,0,0,0,0,0,0,0,0,0,0,0,0,0,0,0,0,0,0,0,0,0,0,0,0,0,0,0,0,0,0,0,0,0,0,0,0,0,0,0,0,0,0,0,0,0,0,0,0,0,0,0,0,0,0,0,0,0,0,0,0,{"$f":"IF(GN28>1,1,0)","v":0},0,0,0,0,0,0,0,0,0,0,0,0,0,0,0,0,0,0,0,0,0,0,0,0,0,0,0,0,0,0,0,0,0,0,0,0,0,0,0,0,0,0,0,0,0,0,0,0,0,0,0,0,0,0,0,0,0,0,0,0,0,0,0,{"$f":"IF(IZ28>1,1,0)","v":0},0,0,0,0,0,0,0,0,0,0,0,0,0,0,0,0,0,0,0,0,0,0,0,0,0,0,0,0,0,0,0,0,0,0,0,0,0,0,0,0,0,0,0,0,0,0,0,0,0,0,0,0,0,0,0,0,0,0,0,0,0,0,0,{"$f":"IF(LL28>1,1,0)","v":0},0,0,0,0,0,0,0,0,0,0,0,0,0,0,0,0,0,0,0,0,0,0,0,0,0,0,0,0,0,0,0,0,0,0,0,0,0,0,0,0,0,0,0,0,0,0,0,0,0,0,0,0,0,0,0,0,0,0,0,0,0,0,0,{"$f":"IF(NX28>1,1,0)","v":0},0,0,0,0,0,0,0,0,0,0,0,0,0,0,0,0,0,0,0,0,0,0,0,0,0,0,0,0,0,0,0,0,0,0,0,0,0,0,0,0,0,0,0,0,0,0,0,0,0,0,0,0,0,0,0,0,0,0,0,0,0,0,0,{"$f":"IF(QJ28>1,1,0)","v":0},0,0,0,0,0,0,0,0,0,0,0,0,0,0,0,0,0,0,0,0,0,0,0,0,0,0,0,0,0,0,0,0,0,0,0,0,0,0,0,0,0,0,0,0,0,0,0,0,0,0]
["   FTE - hourly less max",null,{"$f":"IF(C25=0,0,ROUND(IF(C28<1,IF($B$12=\"NO\",C28,0.5),0),1))","v":0},{"$f":"IF(D25=0,0,ROUND(IF(D28<1,IF($B$12=\"NO\",D28,0.5),0),1))","v":0},0,0,0,0,0,0,0,0,0,0,0,0,0,0,0,0,0,0,0,0,0,0,0,0,0,0,0,0,0,0,0,0,0,0,0,0,0,0,0,0,0,0,0,0,0,0,0,0,0,0,0,0,0,0,0,0,0,0,0,0,0,0,0,{"$f":"IF(BP25=0,0,ROUND(IF(BP28<1,IF($B$12=\"NO\",BP28,0.5),0),1))","v":0},0,0,0,0,0,0,0,0,0,0,0,0,0,0,0,0,0,0,0,0,0,0,0,0,0,0,0,0,0,0,0,0,0,0,0,0,0,0,0,0,0,0,0,0,0,0,0,0,0,0,0,0,0,0,0,0,0,0,0,0,0,0,0,{"$f":"IF(EB25=0,0,ROUND(IF(EB28<1,IF($B$12=\"NO\",EB28,0.5),0),1))","v":0},0,0,0,0,0,0,0,0,0,0,0,0,0,0,0,0,0,0,0,0,0,0,0,0,0,0,0,0,0,0,0,0,0,0,0,0,0,0,0,0,0,0,0,0,0,0,0,0,0,0,0,0,0,0,0,0,0,0,0,0,0,0,0,{"$f":"IF(GN25=0,0,ROUND(IF(GN28<1,IF($B$12=\"NO\",GN28,0.5),0),1))","v":0},0,0,0,0,0,0,0,0,0,0,0,0,0,0,0,0,0,0,0,0,0,0,0,0,0,0,0,0,0,0,0,0,0,0,0,0,0,0,0,0,0,0,0,0,0,0,0,0,0,0,0,0,0,0,0,0,0,0,0,0,0,0,0,{"$f":"IF(IZ25=0,0,ROUND(IF(IZ28<1,IF($B$12=\"NO\",IZ28,0.5),0),1))","v":0},0,0,0,0,0,0,0,0,0,0,0,0,0,0,0,0,0,0,0,0,0,0,0,0,0,0,0,0,0,0,0,0,0,0,0,0,0,0,0,0,0,0,0,0,0,0,0,0,0,0,0,0,0,0,0,0,0,0,0,0,0,0,0,{"$f":"IF(LL25=0,0,ROUND(IF(LL28<1,IF($B$12=\"NO\",LL28,0.5),0),1))","v":0},0,0,0,0,0,0,0,0,0,0,0,0,0,0,0,0,0,0,0,0,0,0,0,0,0,0,0,0,0,0,0,0,0,0,0,0,0,0,0,0,0,0,0,0,0,0,0,0,0,0,0,0,0,0,0,0,0,0,0,0,0,0,0,{"$f":"IF(NX25=0,0,ROUND(IF(NX28<1,IF($B$12=\"NO\",NX28,0.5),0),1))","v":0},0,0,0,0,0,0,0,0,0,0,0,0,0,0,0,0,0,0,0,0,0,0,0,0,0,0,0,0,0,0,0,0,0,0,0,0,0,0,0,0,0,0,0,0,0,0,0,0,0,0,0,0,0,0,0,0,0,0,0,0,0,0,0,{"$f":"IF(QJ25=0,0,ROUND(IF(QJ28<1,IF($B$12=\"NO\",QJ28,0.5),0),1))","v":0},0,0,0,0,0,0,0,0,0,0,0,0,0,0,0,0,0,0,0,0,0,0,0,0,0,0,0,0,0,0,0,0,0,0,0,0,0,0,0,0,0,0,0,0,0,0,0,0,0,0]
["   FTE Count",{"$f":"SUM(C31:SH31)","v":0},{"$f":"IF(C8=\"Salaried-Other\",C27,IF(C8=\"Salaried-No Reduction\",C27,SUM(C29:C30)))","v":0},0,0,0,0,0,0,0,0,0,0,0,0,0,0,0,0,0,0,0,0,0,0,0,0,0,0,0,0,0,0,0,0,0,0,0,0,0,0,0,0,0,0,0,0,0,0,0,0,0,0,0,0,0,0,0,0,0,0,0,0,0,0,0,{"$f":"IF(BO8=\"Salaried-Other\",BO27,IF(BO8=\"Salaried-No Reduction\",BO27,SUM(BO29:BO30)))","v":0},0,0,0,0,0,0,0,0,0,0,0,0,0,0,0,0,0,0,0,0,0,0,0,0,0,0,0,0,0,0,0,0,0,0,0,0,0,0,0,0,0,0,0,0,0,0,0,0,0,0,0,0,0,0,0,0,0,0,0,0,0,0,0,{"$f":"IF(EA8=\"Salaried-Other\",EA27,IF(EA8=\"Salaried-No Reduction\",EA27,SUM(EA29:EA30)))","v":0},0,0,0,0,0,0,0,0,0,0,0,0,0,0,0,0,0,0,0,0,0,0,0,0,0,0,0,0,0,0,0,0,0,0,0,0,0,0,0,0,0,0,0,0,0,0,0,0,0,0,0,0,0,0,0,0,0,0,0,0,0,0,0,{"$f":"IF(GM8=\"Salaried-Other\",GM27,IF(GM8=\"Salaried-No Reduction\",GM27,SUM(GM29:GM30)))","v":0},0,0,0,0,0,0,0,0,0,0,0,0,0,0,0,0,0,0,0,0,0,0,0,0,0,0,0,0,0,0,0,0,0,0,0,0,0,0,0,0,0,0,0,0,0,0,0,0,0,0,0,0,0,0,0,0,0,0,0,0,0,0,0,{"$f":"IF(IY8=\"Salaried-Other\",IY27,IF(IY8=\"Salaried-No Reduction\",IY27,SUM(IY29:IY30)))","v":0},0,0,0,0,0,0,0,0,0,0,0,0,0,0,0,0,0,0,0,0,0,0,0,0,0,0,0,0,0,0,0,0,0,0,0,0,0,0,0,0,0,0,0,0,0,0,0,0,0,0,0,0,0,0,0,0,0,0,0,0,0,0,0,{"$f":"IF(LK8=\"Salaried-Other\",LK27,IF(LK8=\"Salaried-No Reduction\",LK27,SUM(LK29:LK30)))","v":0},0,0,0,0,0,0,0,0,0,0,0,0,0,0,0,0,0,0,0,0,0,0,0,0,0,0,0,0,0,0,0,0,0,0,0,0,0,0,0,0,0,0,0,0,0,0,0,0,0,0,0,0,0,0,0,0,0,0,0,0,0,0,0,{"$f":"IF(NW8=\"Salaried-Other\",NW27,IF(NW8=\"Salaried-No Reduction\",NW27,SUM(NW29:NW30)))","v":0},0,0,0,0,0,0,0,0,0,0,0,0,0,0,0,0,0,0,0,0,0,0,0,0,0,0,0,0,0,0,0,0,0,0,0,0,0,0,0,0,0,0,0,0,0,0,0,0,0,0,0,0,0,0,0,0,0,0,0,0,0,0,0,{"$f":"IF(QI8=\"Salaried-Other\",QI27,IF(QI8=\"Salaried-No Reduction\",QI27,SUM(QI29:QI30)))","v":0},0,0,0,0,0,0,0,0,0,0,0,0,0,0,0,0,0,0,0,0,0,0,0,0,0,0,0,0,0,0,0,0,0,0,0,0,0,0,0,0,0,0,0,0,0,0,0,0,0,0,0]
[]
["   FTE Count - Base Period",{"$f":"MIN(B23,B31)","v":0}]
[]
["COVERED PERIOD OR ALTERNATIVE PAYROLL COVERED PERIOD",null,1,2,3,4,5,6,7,8,9,10,11,12,13,14,15,16,17,18,19,20,21,22,23,24,25,26,27,28,29,30,31,32,33,34,35,36,37,38,39,40,41,42,43,44,45,46,47,48,49,50,51,52,53,54,55,56,57,58,59,60,61,62,63,64,65,66,67,68,69,70,71,72,73,74,75,76,77,78,79,80,81,82,83,84,85,86,87,88,89,90,91,92,93,94,95,96,97,98,99,100,101,102,103,104,105,106,107,108,109,110,111,112,113,114,115,116,117,118,119,120,121,122,123,124,125,126,127,128,129,130,131,132,133,134,135,136,137,138,139,140,141,142,143,144,145,146,147,148,149,150,151,152,153,154,155,156,157,158,159,160,161,162,163,164,165,166,167,168,169,170,171,172,173,174,175,176,177,178,179,180,181,182,183,184,185,186,187,188,189,190,191,192,193,194,195,196,197,198,199,200,201,202,203,204,205,206,207,208,209,210,211,212,213,214,215,216,217,218,219,220,221,222,223,224,225,226,227,228,229,230,231,232,233,234,235,236,237,238,239,240,241,242,243,244,245,246,247,248,249,250,251,252,253,254,255,256,257,258,259,260,261,262,263,264,265,266,267,268,269,270,271,272,273,274,275,276,277,278,279,280,281,282,283,284,285,286,287,288,289,290,291,292,293,294,295,296,297,298,299,300,301,302,303,304,305,306,307,308,309,310,311,312,313,314,315,316,317,318,319,320,321,322,323,324,325,326,327,328,329,330,331,332,333,334,335,336,337,338,339,340,341,342,343,344,345,346,347,348,349,350,351,352,353,354,355,356,357,358,359,360,361,362,363,364,365,366,367,368,369,370,371,372,373,374,375,376,377,378,379,380,381,382,383,384,385,386,387,388,389,390,391,392,393,394,395,396,397,398,399,400,401,402,403,404,405,406,407,408,409,410,411,412,413,414,415,416,417,418,419,420,421,422,423,424,425,426,427,428,429,430,431,432,433,434,435,436,437,438,439,440,441,442,443,444,445,446,447,448,449,450,451,452,453,454,455,456,457,458,459,460,461,462,463,464,465,466,467,468,469,470,471,472,473,474,475,476,477,478,479,480,481,482,483,484,485,486,487,488,489,490,491,492,493,494,495,496,497,498,499,500]
["   Hours - 8 week PPP loan period",null,{"$f":"'6 - Input sheet - Employee data'!C37","v":0},{"$f":"'6 - Input sheet - Employee data'!D37","v":0},{"$f":"'6 - Input sheet - Employee data'!E37","v":0},{"$f":"'6 - Input sheet - Employee data'!F37","v":0},{"$f":"'6 - Input sheet - Employee data'!G37","v":0},{"$f":"'6 - Input sheet - Employee data'!H37","v":0},{"$f":"'6 - Input sheet - Employee data'!I37","v":0},{"$f":"'6 - Input sheet - Employee data'!J37","v":0},{"$f":"'6 - Input sheet - Employee data'!K37","v":0},{"$f":"'6 - Input sheet - Employee data'!L37","v":0},{"$f":"'6 - Input sheet - Employee data'!M37","v":0},{"$f":"'6 - Input sheet - Employee data'!N37","v":0},{"$f":"'6 - Input sheet - Employee data'!O37","v":0},{"$f":"'6 - Input sheet - Employee data'!P37","v":0},{"$f":"'6 - Input sheet - Employee data'!Q37","v":0},{"$f":"'6 - Input sheet - Employee data'!R37","v":0},{"$f":"'6 - Input sheet - Employee data'!S37","v":0},{"$f":"'6 - Input sheet - Employee data'!T37","v":0},{"$f":"'6 - Input sheet - Employee data'!U37","v":0},{"$f":"'6 - Input sheet - Employee data'!V37","v":0},{"$f":"'6 - Input sheet - Employee data'!W37","v":0},{"$f":"'6 - Input sheet - Employee data'!X37","v":0},{"$f":"'6 - Input sheet - Employee data'!Y37","v":0},{"$f":"'6 - Input sheet - Employee data'!Z37","v":0},{"$f":"'6 - Input sheet - Employee data'!AA37","v":0},{"$f":"'6 - Input sheet - Employee data'!AB37","v":0},{"$f":"'6 - Input sheet - Employee data'!AC37","v":0},{"$f":"'6 - Input sheet - Employee data'!AD37","v":0},{"$f":"'6 - Input sheet - Employee data'!AE37","v":0},{"$f":"'6 - Input sheet - Employee data'!AF37","v":0},{"$f":"'6 - Input sheet - Employee data'!AG37","v":0},{"$f":"'6 - Input sheet - Employee data'!AH37","v":0},{"$f":"'6 - Input sheet - Employee data'!AI37","v":0},{"$f":"'6 - Input sheet - Employee data'!AJ37","v":0},{"$f":"'6 - Input sheet - Employee data'!AK37","v":0},{"$f":"'6 - Input sheet - Employee data'!AL37","v":0},{"$f":"'6 - Input sheet - Employee data'!AM37","v":0},{"$f":"'6 - Input sheet - Employee data'!AN37","v":0},{"$f":"'6 - Input sheet - Employee data'!AO37","v":0},{"$f":"'6 - Input sheet - Employee data'!AP37","v":0},{"$f":"'6 - Input sheet - Employee data'!AQ37","v":0},{"$f":"'6 - Input sheet - Employee data'!AR37","v":0},{"$f":"'6 - Input sheet - Employee data'!AS37","v":0},{"$f":"'6 - Input sheet - Employee data'!AT37","v":0},{"$f":"'6 - Input sheet - Employee data'!AU37","v":0},{"$f":"'6 - Input sheet - Employee data'!AV37","v":0},{"$f":"'6 - Input sheet - Employee data'!AW37","v":0},{"$f":"'6 - Input sheet - Employee data'!AX37","v":0},{"$f":"'6 - Input sheet - Employee data'!AY37","v":0},{"$f":"'6 - Input sheet - Employee data'!AZ37","v":0},{"$f":"'6 - Input sheet - Employee data'!BA37","v":0},{"$f":"'6 - Input sheet - Employee data'!BB37","v":0},{"$f":"'6 - Input sheet - Employee data'!BC37","v":0},{"$f":"'6 - Input sheet - Employee data'!BD37","v":0},{"$f":"'6 - Input sheet - Employee data'!BE37","v":0},{"$f":"'6 - Input sheet - Employee data'!BF37","v":0},{"$f":"'6 - Input sheet - Employee data'!BG37","v":0},{"$f":"'6 - Input sheet - Employee data'!BH37","v":0},{"$f":"'6 - Input sheet - Employee data'!BI37","v":0},{"$f":"'6 - Input sheet - Employee data'!BJ37","v":0},{"$f":"'6 - Input sheet - Employee data'!BK37","v":0},{"$f":"'6 - Input sheet - Employee data'!BL37","v":0},{"$f":"'6 - Input sheet - Employee data'!BM37","v":0},{"$f":"'6 - Input sheet - Employee data'!BN37","v":0},{"$f":"'6 - Input sheet - Employee data'!BO37","v":0},{"$f":"'6 - Input sheet - Employee data'!BP37","v":0},{"$f":"'6 - Input sheet - Employee data'!BQ37","v":0},{"$f":"'6 - Input sheet - Employee data'!BR37","v":0},{"$f":"'6 - Input sheet - Employee data'!BS37","v":0},{"$f":"'6 - Input sheet - Employee data'!BT37","v":0},{"$f":"'6 - Input sheet - Employee data'!BU37","v":0},{"$f":"'6 - Input sheet - Employee data'!BV37","v":0},{"$f":"'6 - Input sheet - Employee data'!BW37","v":0},{"$f":"'6 - Input sheet - Employee data'!BX37","v":0},{"$f":"'6 - Input sheet - Employee data'!BY37","v":0},{"$f":"'6 - Input sheet - Employee data'!BZ37","v":0},{"$f":"'6 - Input sheet - Employee data'!CA37","v":0},{"$f":"'6 - Input sheet - Employee data'!CB37","v":0},{"$f":"'6 - Input sheet - Employee data'!CC37","v":0},{"$f":"'6 - Input sheet - Employee data'!CD37","v":0},{"$f":"'6 - Input sheet - Employee data'!CE37","v":0},{"$f":"'6 - Input sheet - Employee data'!CF37","v":0},{"$f":"'6 - Input sheet - Employee data'!CG37","v":0},{"$f":"'6 - Input sheet - Employee data'!CH37","v":0},{"$f":"'6 - Input sheet - Employee data'!CI37","v":0},{"$f":"'6 - Input sheet - Employee data'!CJ37","v":0},{"$f":"'6 - Input sheet - Employee data'!CK37","v":0},{"$f":"'6 - Input sheet - Employee data'!CL37","v":0},{"$f":"'6 - Input sheet - Employee data'!CM37","v":0},{"$f":"'6 - Input sheet - Employee data'!CN37","v":0},{"$f":"'6 - Input sheet - Employee data'!CO37","v":0},{"$f":"'6 - Input sheet - Employee data'!CP37","v":0},{"$f":"'6 - Input sheet - Employee data'!CQ37","v":0},{"$f":"'6 - Input sheet - Employee data'!CR37","v":0},{"$f":"'6 - Input sheet - Employee data'!CS37","v":0},{"$f":"'6 - Input sheet - Employee data'!CT37","v":0},{"$f":"'6 - Input sheet - Employee data'!CU37","v":0},{"$f":"'6 - Input sheet - Employee data'!CV37","v":0},{"$f":"'6 - Input sheet - Employee data'!CW37","v":0},{"$f":"'6 - Input sheet - Employee data'!CX37","v":0},{"$f":"'6 - Input sheet - Employee data'!CY37","v":0},{"$f":"'6 - Input sheet - Employee data'!CZ37","v":0},{"$f":"'6 - Input sheet - Employee data'!DA37","v":0},{"$f":"'6 - Input sheet - Employee data'!DB37","v":0},{"$f":"'6 - Input sheet - Employee data'!DC37","v":0},{"$f":"'6 - Input sheet - Employee data'!DD37","v":0},{"$f":"'6 - Input sheet - Employee data'!DE37","v":0},{"$f":"'6 - Input sheet - Employee data'!DF37","v":0},{"$f":"'6 - Input sheet - Employee data'!DG37","v":0},{"$f":"'6 - Input sheet - Employee data'!DH37","v":0},{"$f":"'6 - Input sheet - Employee data'!DI37","v":0},{"$f":"'6 - Input sheet - Employee data'!DJ37","v":0},{"$f":"'6 - Input sheet - Employee data'!DK37","v":0},{"$f":"'6 - Input sheet - Employee data'!DL37","v":0},{"$f":"'6 - Input sheet - Employee data'!DM37","v":0},{"$f":"'6 - Input sheet - Employee data'!DN37","v":0},{"$f":"'6 - Input sheet - Employee data'!DO37","v":0},{"$f":"'6 - Input sheet - Employee data'!DP37","v":0},{"$f":"'6 - Input sheet - Employee data'!DQ37","v":0},{"$f":"'6 - Input sheet - Employee data'!DR37","v":0},{"$f":"'6 - Input sheet - Employee data'!DS37","v":0},{"$f":"'6 - Input sheet - Employee data'!DT37","v":0},{"$f":"'6 - Input sheet - Employee data'!DU37","v":0},{"$f":"'6 - Input sheet - Employee data'!DV37","v":0},{"$f":"'6 - Input sheet - Employee data'!DW37","v":0},{"$f":"'6 - Input sheet - Employee data'!DX37","v":0},{"$f":"'6 - Input sheet - Employee data'!DY37","v":0},{"$f":"'6 - Input sheet - Employee data'!DZ37","v":0},{"$f":"'6 - Input sheet - Employee data'!EA37","v":0},{"$f":"'6 - Input sheet - Employee data'!EB37","v":0},{"$f":"'6 - Input sheet - Employee data'!EC37","v":0},{"$f":"'6 - Input sheet - Employee data'!ED37","v":0},{"$f":"'6 - Input sheet - Employee data'!EE37","v":0},{"$f":"'6 - Input sheet - Employee data'!EF37","v":0},{"$f":"'6 - Input sheet - Employee data'!EG37","v":0},{"$f":"'6 - Input sheet - Employee data'!EH37","v":0},{"$f":"'6 - Input sheet - Employee data'!EI37","v":0},{"$f":"'6 - Input sheet - Employee data'!EJ37","v":0},{"$f":"'6 - Input sheet - Employee data'!EK37","v":0},{"$f":"'6 - Input sheet - Employee data'!EL37","v":0},{"$f":"'6 - Input sheet - Employee data'!EM37","v":0},{"$f":"'6 - Input sheet - Employee data'!EN37","v":0},{"$f":"'6 - Input sheet - Employee data'!EO37","v":0},{"$f":"'6 - Input sheet - Employee data'!EP37","v":0},{"$f":"'6 - Input sheet - Employee data'!EQ37","v":0},{"$f":"'6 - Input sheet - Employee data'!ER37","v":0},{"$f":"'6 - Input sheet - Employee data'!ES37","v":0},{"$f":"'6 - Input sheet - Employee data'!ET37","v":0},{"$f":"'6 - Input sheet - Employee data'!EU37","v":0},{"$f":"'6 - Input sheet - Employee data'!EV37","v":0},{"$f":"'6 - Input sheet - Employee data'!EW37","v":0},{"$f":"'6 - Input sheet - Employee data'!EX37","v":0},{"$f":"'6 - Input sheet - Employee data'!EY37","v":0},{"$f":"'6 - Input sheet - Employee data'!EZ37","v":0},{"$f":"'6 - Input sheet - Employee data'!FA37","v":0},{"$f":"'6 - Input sheet - Employee data'!FB37","v":0},{"$f":"'6 - Input sheet - Employee data'!FC37","v":0},{"$f":"'6 - Input sheet - Employee data'!FD37","v":0},{"$f":"'6 - Input sheet - Employee data'!FE37","v":0},{"$f":"'6 - Input sheet - Employee data'!FF37","v":0},{"$f":"'6 - Input sheet - Employee data'!FG37","v":0},{"$f":"'6 - Input sheet - Employee data'!FH37","v":0},{"$f":"'6 - Input sheet - Employee data'!FI37","v":0},{"$f":"'6 - Input sheet - Employee data'!FJ37","v":0},{"$f":"'6 - Input sheet - Employee data'!FK37","v":0},{"$f":"'6 - Input sheet - Employee data'!FL37","v":0},{"$f":"'6 - Input sheet - Employee data'!FM37","v":0},{"$f":"'6 - Input sheet - Employee data'!FN37","v":0},{"$f":"'6 - Input sheet - Employee data'!FO37","v":0},{"$f":"'6 - Input sheet - Employee data'!FP37","v":0},{"$f":"'6 - Input sheet - Employee data'!FQ37","v":0},{"$f":"'6 - Input sheet - Employee data'!FR37","v":0},{"$f":"'6 - Input sheet - Employee data'!FS37","v":0},{"$f":"'6 - Input sheet - Employee data'!FT37","v":0},{"$f":"'6 - Input sheet - Employee data'!FU37","v":0},{"$f":"'6 - Input sheet - Employee data'!FV37","v":0},{"$f":"'6 - Input sheet - Employee data'!FW37","v":0},{"$f":"'6 - Input sheet - Employee data'!FX37","v":0},{"$f":"'6 - Input sheet - Employee data'!FY37","v":0},{"$f":"'6 - Input sheet - Employee data'!FZ37","v":0},{"$f":"'6 - Input sheet - Employee data'!GA37","v":0},{"$f":"'6 - Input sheet - Employee data'!GB37","v":0},{"$f":"'6 - Input sheet - Employee data'!GC37","v":0},{"$f":"'6 - Input sheet - Employee data'!GD37","v":0},{"$f":"'6 - Input sheet - Employee data'!GE37","v":0},{"$f":"'6 - Input sheet - Employee data'!GF37","v":0},{"$f":"'6 - Input sheet - Employee data'!GG37","v":0},{"$f":"'6 - Input sheet - Employee data'!GH37","v":0},{"$f":"'6 - Input sheet - Employee data'!GI37","v":0},{"$f":"'6 - Input sheet - Employee data'!GJ37","v":0},{"$f":"'6 - Input sheet - Employee data'!GK37","v":0},{"$f":"'6 - Input sheet - Employee data'!GL37","v":0},{"$f":"'6 - Input sheet - Employee data'!GM37","v":0},{"$f":"'6 - Input sheet - Employee data'!GN37","v":0},{"$f":"'6 - Input sheet - Employee data'!GO37","v":0},{"$f":"'6 - Input sheet - Employee data'!GP37","v":0},{"$f":"'6 - Input sheet - Employee data'!GQ37","v":0},{"$f":"'6 - Input sheet - Employee data'!GR37","v":0},{"$f":"'6 - Input sheet - Employee data'!GS37","v":0},{"$f":"'6 - Input sheet - Employee data'!GT37","v":0},{"$f":"'6 - Input sheet - Employee data'!GU37","v":0},{"$f":"'6 - Input sheet - Employee data'!GV37","v":0},{"$f":"'6 - Input sheet - Employee data'!GW37","v":0},{"$f":"'6 - Input sheet - Employee data'!GX37","v":0},{"$f":"'6 - Input sheet - Employee data'!GY37","v":0},{"$f":"'6 - Input sheet - Employee data'!GZ37","v":0},{"$f":"'6 - Input sheet - Employee data'!HA37","v":0},{"$f":"'6 - Input sheet - Employee data'!HB37","v":0},{"$f":"'6 - Input sheet - Employee data'!HC37","v":0},{"$f":"'6 - Input sheet - Employee data'!HD37","v":0},{"$f":"'6 - Input sheet - Employee data'!HE37","v":0},{"$f":"'6 - Input sheet - Employee data'!HF37","v":0},{"$f":"'6 - Input sheet - Employee data'!HG37","v":0},{"$f":"'6 - Input sheet - Employee data'!HH37","v":0},{"$f":"'6 - Input sheet - Employee data'!HI37","v":0},{"$f":"'6 - Input sheet - Employee data'!HJ37","v":0},{"$f":"'6 - Input sheet - Employee data'!HK37","v":0},{"$f":"'6 - Input sheet - Employee data'!HL37","v":0},{"$f":"'6 - Input sheet - Employee data'!HM37","v":0},{"$f":"'6 - Input sheet - Employee data'!HN37","v":0},{"$f":"'6 - Input sheet - Employee data'!HO37","v":0},{"$f":"'6 - Input sheet - Employee data'!HP37","v":0},{"$f":"'6 - Input sheet - Employee data'!HQ37","v":0},{"$f":"'6 - Input sheet - Employee data'!HR37","v":0},{"$f":"'6 - Input sheet - Employee data'!HS37","v":0},{"$f":"'6 - Input sheet - Employee data'!HT37","v":0},{"$f":"'6 - Input sheet - Employee data'!HU37","v":0},{"$f":"'6 - Input sheet - Employee data'!HV37","v":0},{"$f":"'6 - Input sheet - Employee data'!HW37","v":0},{"$f":"'6 - Input sheet - Employee data'!HX37","v":0},{"$f":"'6 - Input sheet - Employee data'!HY37","v":0},{"$f":"'6 - Input sheet - Employee data'!HZ37","v":0},{"$f":"'6 - Input sheet - Employee data'!IA37","v":0},{"$f":"'6 - Input sheet - Employee data'!IB37","v":0},{"$f":"'6 - Input sheet - Employee data'!IC37","v":0},{"$f":"'6 - Input sheet - Employee data'!ID37","v":0},{"$f":"'6 - Input sheet - Employee data'!IE37","v":0},{"$f":"'6 - Input sheet - Employee data'!IF37","v":0},{"$f":"'6 - Input sheet - Employee data'!IG37","v":0},{"$f":"'6 - Input sheet - Employee data'!IH37","v":0},{"$f":"'6 - Input sheet - Employee data'!II37","v":0},{"$f":"'6 - Input sheet - Employee data'!IJ37","v":0},{"$f":"'6 - Input sheet - Employee data'!IK37","v":0},{"$f":"'6 - Input sheet - Employee data'!IL37","v":0},{"$f":"'6 - Input sheet - Employee data'!IM37","v":0},{"$f":"'6 - Input sheet - Employee data'!IN37","v":0},{"$f":"'6 - Input sheet - Employee data'!IO37","v":0},{"$f":"'6 - Input sheet - Employee data'!IP37","v":0},{"$f":"'6 - Input sheet - Employee data'!IQ37","v":0},{"$f":"'6 - Input sheet - Employee data'!IR37","v":0},{"$f":"'6 - Input sheet - Employee data'!IS37","v":0},{"$f":"'6 - Input sheet - Employee data'!IT37","v":0},{"$f":"'6 - Input sheet - Employee data'!IU37","v":0},{"$f":"'6 - Input sheet - Employee data'!IV37","v":0},{"$f":"'6 - Input sheet - Employee data'!IW37","v":0},{"$f":"'6 - Input sheet - Employee data'!IX37","v":0},{"$f":"'6 - Input sheet - Employee data'!IY37","v":0},{"$f":"'6 - Input sheet - Employee data'!IZ37","v":0},{"$f":"'6 - Input sheet - Employee data'!JA37","v":0},{"$f":"'6 - Input sheet - Employee data'!JB37","v":0},{"$f":"'6 - Input sheet - Employee data'!JC37","v":0},{"$f":"'6 - Input sheet - Employee data'!JD37","v":0},{"$f":"'6 - Input sheet - Employee data'!JE37","v":0},{"$f":"'6 - Input sheet - Employee data'!JF37","v":0},{"$f":"'6 - Input sheet - Employee data'!JG37","v":0},{"$f":"'6 - Input sheet - Employee data'!JH37","v":0},{"$f":"'6 - Input sheet - Employee data'!JI37","v":0},{"$f":"'6 - Input sheet - Employee data'!JJ37","v":0},{"$f":"'6 - Input sheet - Employee data'!JK37","v":0},{"$f":"'6 - Input sheet - Employee data'!JL37","v":0},{"$f":"'6 - Input sheet - Employee data'!JM37","v":0},{"$f":"'6 - Input sheet - Employee data'!JN37","v":0},{"$f":"'6 - Input sheet - Employee data'!JO37","v":0},{"$f":"'6 - Input sheet - Employee data'!JP37","v":0},{"$f":"'6 - Input sheet - Employee data'!JQ37","v":0},{"$f":"'6 - Input sheet - Employee data'!JR37","v":0},{"$f":"'6 - Input sheet - Employee data'!JS37","v":0},{"$f":"'6 - Input sheet - Employee data'!JT37","v":0},{"$f":"'6 - Input sheet - Employee data'!JU37","v":0},{"$f":"'6 - Input sheet - Employee data'!JV37","v":0},{"$f":"'6 - Input sheet - Employee data'!JW37","v":0},{"$f":"'6 - Input sheet - Employee data'!JX37","v":0},{"$f":"'6 - Input sheet - Employee data'!JY37","v":0},{"$f":"'6 - Input sheet - Employee data'!JZ37","v":0},{"$f":"'6 - Input sheet - Employee data'!KA37","v":0},{"$f":"'6 - Input sheet - Employee data'!KB37","v":0},{"$f":"'6 - Input sheet - Employee data'!KC37","v":0},{"$f":"'6 - Input sheet - Employee data'!KD37","v":0},{"$f":"'6 - Input sheet - Employee data'!KE37","v":0},{"$f":"'6 - Input sheet - Employee data'!KF37","v":0},{"$f":"'6 - Input sheet - Employee data'!KG37","v":0},{"$f":"'6 - Input sheet - Employee data'!KH37","v":0},{"$f":"'6 - Input sheet - Employee data'!KI37","v":0},{"$f":"'6 - Input sheet - Employee data'!KJ37","v":0},{"$f":"'6 - Input sheet - Employee data'!KK37","v":0},{"$f":"'6 - Input sheet - Employee data'!KL37","v":0},{"$f":"'6 - Input sheet - Employee data'!KM37","v":0},{"$f":"'6 - Input sheet - Employee data'!KN37","v":0},{"$f":"'6 - Input sheet - Employee data'!KO37","v":0},{"$f":"'6 - Input sheet - Employee data'!KP37","v":0},{"$f":"'6 - Input sheet - Employee data'!KQ37","v":0},{"$f":"'6 - Input sheet - Employee data'!KR37","v":0},{"$f":"'6 - Input sheet - Employee data'!KS37","v":0},{"$f":"'6 - Input sheet - Employee data'!KT37","v":0},{"$f":"'6 - Input sheet - Employee data'!KU37","v":0},{"$f":"'6 - Input sheet - Employee data'!KV37","v":0},{"$f":"'6 - Input sheet - Employee data'!KW37","v":0},{"$f":"'6 - Input sheet - Employee data'!KX37","v":0},{"$f":"'6 - Input sheet - Employee data'!KY37","v":0},{"$f":"'6 - Input sheet - Employee data'!KZ37","v":0},{"$f":"'6 - Input sheet - Employee data'!LA37","v":0},{"$f":"'6 - Input sheet - Employee data'!LB37","v":0},{"$f":"'6 - Input sheet - Employee data'!LC37","v":0},{"$f":"'6 - Input sheet - Employee data'!LD37","v":0},{"$f":"'6 - Input sheet - Employee data'!LE37","v":0},{"$f":"'6 - Input sheet - Employee data'!LF37","v":0},{"$f":"'6 - Input sheet - Employee data'!LG37","v":0},{"$f":"'6 - Input sheet - Employee data'!LH37","v":0},{"$f":"'6 - Input sheet - Employee data'!LI37","v":0},{"$f":"'6 - Input sheet - Employee data'!LJ37","v":0},{"$f":"'6 - Input sheet - Employee data'!LK37","v":0},{"$f":"'6 - Input sheet - Employee data'!LL37","v":0},{"$f":"'6 - Input sheet - Employee data'!LM37","v":0},{"$f":"'6 - Input sheet - Employee data'!LN37","v":0},{"$f":"'6 - Input sheet - Employee data'!LO37","v":0},{"$f":"'6 - Input sheet - Employee data'!LP37","v":0},{"$f":"'6 - Input sheet - Employee data'!LQ37","v":0},{"$f":"'6 - Input sheet - Employee data'!LR37","v":0},{"$f":"'6 - Input sheet - Employee data'!LS37","v":0},{"$f":"'6 - Input sheet - Employee data'!LT37","v":0},{"$f":"'6 - Input sheet - Employee data'!LU37","v":0},{"$f":"'6 - Input sheet - Employee data'!LV37","v":0},{"$f":"'6 - Input sheet - Employee data'!LW37","v":0},{"$f":"'6 - Input sheet - Employee data'!LX37","v":0},{"$f":"'6 - Input sheet - Employee data'!LY37","v":0},{"$f":"'6 - Input sheet - Employee data'!LZ37","v":0},{"$f":"'6 - Input sheet - Employee data'!MA37","v":0},{"$f":"'6 - Input sheet - Employee data'!MB37","v":0},{"$f":"'6 - Input sheet - Employee data'!MC37","v":0},{"$f":"'6 - Input sheet - Employee data'!MD37","v":0},{"$f":"'6 - Input sheet - Employee data'!ME37","v":0},{"$f":"'6 - Input sheet - Employee data'!MF37","v":0},{"$f":"'6 - Input sheet - Employee data'!MG37","v":0},{"$f":"'6 - Input sheet - Employee data'!MH37","v":0},{"$f":"'6 - Input sheet - Employee data'!MI37","v":0},{"$f":"'6 - Input sheet - Employee data'!MJ37","v":0},{"$f":"'6 - Input sheet - Employee data'!MK37","v":0},{"$f":"'6 - Input sheet - Employee data'!ML37","v":0},{"$f":"'6 - Input sheet - Employee data'!MM37","v":0},{"$f":"'6 - Input sheet - Employee data'!MN37","v":0},{"$f":"'6 - Input sheet - Employee data'!MO37","v":0},{"$f":"'6 - Input sheet - Employee data'!MP37","v":0},{"$f":"'6 - Input sheet - Employee data'!MQ37","v":0},{"$f":"'6 - Input sheet - Employee data'!MR37","v":0},{"$f":"'6 - Input sheet - Employee data'!MS37","v":0},{"$f":"'6 - Input sheet - Employee data'!MT37","v":0},{"$f":"'6 - Input sheet - Employee data'!MU37","v":0},{"$f":"'6 - Input sheet - Employee data'!MV37","v":0},{"$f":"'6 - Input sheet - Employee data'!MW37","v":0},{"$f":"'6 - Input sheet - Employee data'!MX37","v":0},{"$f":"'6 - Input sheet - Employee data'!MY37","v":0},{"$f":"'6 - Input sheet - Employee data'!MZ37","v":0},{"$f":"'6 - Input sheet - Employee data'!NA37","v":0},{"$f":"'6 - Input sheet - Employee data'!NB37","v":0},{"$f":"'6 - Input sheet - Employee data'!NC37","v":0},{"$f":"'6 - Input sheet - Employee data'!ND37","v":0},{"$f":"'6 - Input sheet - Employee data'!NE37","v":0},{"$f":"'6 - Input sheet - Employee data'!NF37","v":0},{"$f":"'6 - Input sheet - Employee data'!NG37","v":0},{"$f":"'6 - Input sheet - Employee data'!NH37","v":0},{"$f":"'6 - Input sheet - Employee data'!NI37","v":0},{"$f":"'6 - Input sheet - Employee data'!NJ37","v":0},{"$f":"'6 - Input sheet - Employee data'!NK37","v":0},{"$f":"'6 - Input sheet - Employee data'!NL37","v":0},{"$f":"'6 - Input sheet - Employee data'!NM37","v":0},{"$f":"'6 - Input sheet - Employee data'!NN37","v":0},{"$f":"'6 - Input sheet - Employee data'!NO37","v":0},{"$f":"'6 - Input sheet - Employee data'!NP37","v":0},{"$f":"'6 - Input sheet - Employee data'!NQ37","v":0},{"$f":"'6 - Input sheet - Employee data'!NR37","v":0},{"$f":"'6 - Input sheet - Employee data'!NS37","v":0},{"$f":"'6 - Input sheet - Employee data'!NT37","v":0},{"$f":"'6 - Input sheet - Employee data'!NU37","v":0},{"$f":"'6 - Input sheet - Employee data'!NV37","v":0},{"$f":"'6 - Input sheet - Employee data'!NW37","v":0},{"$f":"'6 - Input sheet - Employee data'!NX37","v":0},{"$f":"'6 - Input sheet - Employee data'!NY37","v":0},{"$f":"'6 - Input sheet - Employee data'!NZ37","v":0},{"$f":"'6 - Input sheet - Employee data'!OA37","v":0},{"$f":"'6 - Input sheet - Employee data'!OB37","v":0},{"$f":"'6 - Input sheet - Employee data'!OC37","v":0},{"$f":"'6 - Input sheet - Employee data'!OD37","v":0},{"$f":"'6 - Input sheet - Employee data'!OE37","v":0},{"$f":"'6 - Input sheet - Employee data'!OF37","v":0},{"$f":"'6 - Input sheet - Employee data'!OG37","v":0},{"$f":"'6 - Input sheet - Employee data'!OH37","v":0},{"$f":"'6 - Input sheet - Employee data'!OI37","v":0},{"$f":"'6 - Input sheet - Employee data'!OJ37","v":0},{"$f":"'6 - Input sheet - Employee data'!OK37","v":0},{"$f":"'6 - Input sheet - Employee data'!OL37","v":0},{"$f":"'6 - Input sheet - Employee data'!OM37","v":0},{"$f":"'6 - Input sheet - Employee data'!ON37","v":0},{"$f":"'6 - Input sheet - Employee data'!OO37","v":0},{"$f":"'6 - Input sheet - Employee data'!OP37","v":0},{"$f":"'6 - Input sheet - Employee data'!OQ37","v":0},{"$f":"'6 - Input sheet - Employee data'!OR37","v":0},{"$f":"'6 - Input sheet - Employee data'!OS37","v":0},{"$f":"'6 - Input sheet - Employee data'!OT37","v":0},{"$f":"'6 - Input sheet - Employee data'!OU37","v":0},{"$f":"'6 - Input sheet - Employee data'!OV37","v":0},{"$f":"'6 - Input sheet - Employee data'!OW37","v":0},{"$f":"'6 - Input sheet - Employee data'!OX37","v":0},{"$f":"'6 - Input sheet - Employee data'!OY37","v":0},{"$f":"'6 - Input sheet - Employee data'!OZ37","v":0},{"$f":"'6 - Input sheet - Employee data'!PA37","v":0},{"$f":"'6 - Input sheet - Employee data'!PB37","v":0},{"$f":"'6 - Input sheet - Employee data'!PC37","v":0},{"$f":"'6 - Input sheet - Employee data'!PD37","v":0},{"$f":"'6 - Input sheet - Employee data'!PE37","v":0},{"$f":"'6 - Input sheet - Employee data'!PF37","v":0},{"$f":"'6 - Input sheet - Employee data'!PG37","v":0},{"$f":"'6 - Input sheet - Employee data'!PH37","v":0},{"$f":"'6 - Input sheet - Employee data'!PI37","v":0},{"$f":"'6 - Input sheet - Employee data'!PJ37","v":0},{"$f":"'6 - Input sheet - Employee data'!PK37","v":0},{"$f":"'6 - Input sheet - Employee data'!PL37","v":0},{"$f":"'6 - Input sheet - Employee data'!PM37","v":0},{"$f":"'6 - Input sheet - Employee data'!PN37","v":0},{"$f":"'6 - Input sheet - Employee data'!PO37","v":0},{"$f":"'6 - Input sheet - Employee data'!PP37","v":0},{"$f":"'6 - Input sheet - Employee data'!PQ37","v":0},{"$f":"'6 - Input sheet - Employee data'!PR37","v":0},{"$f":"'6 - Input sheet - Employee data'!PS37","v":0},{"$f":"'6 - Input sheet - Employee data'!PT37","v":0},{"$f":"'6 - Input sheet - Employee data'!PU37","v":0},{"$f":"'6 - Input sheet - Employee data'!PV37","v":0},{"$f":"'6 - Input sheet - Employee data'!PW37","v":0},{"$f":"'6 - Input sheet - Employee data'!PX37","v":0},{"$f":"'6 - Input sheet - Employee data'!PY37","v":0},{"$f":"'6 - Input sheet - Employee data'!PZ37","v":0},{"$f":"'6 - Input sheet - Employee data'!QA37","v":0},{"$f":"'6 - Input sheet - Employee data'!QB37","v":0},{"$f":"'6 - Input sheet - Employee data'!QC37","v":0},{"$f":"'6 - Input sheet - Employee data'!QD37","v":0},{"$f":"'6 - Input sheet - Employee data'!QE37","v":0},{"$f":"'6 - Input sheet - Employee data'!QF37","v":0},{"$f":"'6 - Input sheet - Employee data'!QG37","v":0},{"$f":"'6 - Input sheet - Employee data'!QH37","v":0},{"$f":"'6 - Input sheet - Employee data'!QI37","v":0},{"$f":"'6 - Input sheet - Employee data'!QJ37","v":0},{"$f":"'6 - Input sheet - Employee data'!QK37","v":0},{"$f":"'6 - Input sheet - Employee data'!QL37","v":0},{"$f":"'6 - Input sheet - Employee data'!QM37","v":0},{"$f":"'6 - Input sheet - Employee data'!QN37","v":0},{"$f":"'6 - Input sheet - Employee data'!QO37","v":0},{"$f":"'6 - Input sheet - Employee data'!QP37","v":0},{"$f":"'6 - Input sheet - Employee data'!QQ37","v":0},{"$f":"'6 - Input sheet - Employee data'!QR37","v":0},{"$f":"'6 - Input sheet - Employee data'!QS37","v":0},{"$f":"'6 - Input sheet - Employee data'!QT37","v":0},{"$f":"'6 - Input sheet - Employee data'!QU37","v":0},{"$f":"'6 - Input sheet - Employee data'!QV37","v":0},{"$f":"'6 - Input sheet - Employee data'!QW37","v":0},{"$f":"'6 - Input sheet - Employee data'!QX37","v":0},{"$f":"'6 - Input sheet - Employee data'!QY37","v":0},{"$f":"'6 - Input sheet - Employee data'!QZ37","v":0},{"$f":"'6 - Input sheet - Employee data'!RA37","v":0},{"$f":"'6 - Input sheet - Employee data'!RB37","v":0},{"$f":"'6 - Input sheet - Employee data'!RC37","v":0},{"$f":"'6 - Input sheet - Employee data'!RD37","v":0},{"$f":"'6 - Input sheet - Employee data'!RE37","v":0},{"$f":"'6 - Input sheet - Employee data'!RF37","v":0},{"$f":"'6 - Input sheet - Employee data'!RG37","v":0},{"$f":"'6 - Input sheet - Employee data'!RH37","v":0},{"$f":"'6 - Input sheet - Employee data'!RI37","v":0},{"$f":"'6 - Input sheet - Employee data'!RJ37","v":0},{"$f":"'6 - Input sheet - Employee data'!RK37","v":0},{"$f":"'6 - Input sheet - Employee data'!RL37","v":0},{"$f":"'6 - Input sheet - Employee data'!RM37","v":0},{"$f":"'6 - Input sheet - Employee data'!RN37","v":0},{"$f":"'6 - Input sheet - Employee data'!RO37","v":0},{"$f":"'6 - Input sheet - Employee data'!RP37","v":0},{"$f":"'6 - Input sheet - Employee data'!RQ37","v":0},{"$f":"'6 - Input sheet - Employee data'!RR37","v":0},{"$f":"'6 - Input sheet - Employee data'!RS37","v":0},{"$f":"'6 - Input sheet - Employee data'!RT37","v":0},{"$f":"'6 - Input sheet - Employee data'!RU37","v":0},{"$f":"'6 - Input sheet - Employee data'!RV37","v":0},{"$f":"'6 - Input sheet - Employee data'!RW37","v":0},{"$f":"'6 - Input sheet - Employee data'!RX37","v":0},{"$f":"'6 - Input sheet - Employee data'!RY37","v":0},{"$f":"'6 - Input sheet - Employee data'!RZ37","v":0},{"$f":"'6 - Input sheet - Employee data'!SA37","v":0},{"$f":"'6 - Input sheet - Employee data'!SB37","v":0},{"$f":"'6 - Input sheet - Employee data'!SC37","v":0},{"$f":"'6 - Input sheet - Employee data'!SD37","v":0},{"$f":"'6 - Input sheet - Employee data'!SE37","v":0},{"$f":"'6 - Input sheet - Employee data'!SF37","v":0},{"$f":"'6 - Input sheet - Employee data'!SG37","v":0},{"$f":"'6 - Input sheet - Employee data'!SH37","v":0}]
["   Employed - 8 week PPP loan period",null,{"$f":"'6 - Input sheet - Employee data'!C38","v":"Yes"},{"$f":"'6 - Input sheet - Employee data'!D38","v":"Yes"},{"$f":"'6 - Input sheet - Employee data'!E38","v":"Yes"},{"$f":"'6 - Input sheet - Employee data'!F38","v":"Yes"},{"$f":"'6 - Input sheet - Employee data'!G38","v":"Yes"},{"$f":"'6 - Input sheet - Employee data'!H38","v":"Yes"},{"$f":"'6 - Input sheet - Employee data'!I38","v":"Yes"},{"$f":"'6 - Input sheet - Employee data'!J38","v":"Yes"},{"$f":"'6 - Input sheet - Employee data'!K38","v":"Yes"},{"$f":"'6 - Input sheet - Employee data'!L38","v":"Yes"},{"$f":"'6 - Input sheet - Employee data'!M38","v":"Yes"},{"$f":"'6 - Input sheet - Employee data'!N38","v":"Yes"},{"$f":"'6 - Input sheet - Employee data'!O38","v":"Yes"},{"$f":"'6 - Input sheet - Employee data'!P38","v":"Yes"},{"$f":"'6 - Input sheet - Employee data'!Q38","v":"Yes"},{"$f":"'6 - Input sheet - Employee data'!R38","v":"Yes"},{"$f":"'6 - Input sheet - Employee data'!S38","v":"Yes"},{"$f":"'6 - Input sheet - Employee data'!T38","v":"Yes"},{"$f":"'6 - Input sheet - Employee data'!U38","v":"Yes"},{"$f":"'6 - Input sheet - Employee data'!V38","v":"Yes"},{"$f":"'6 - Input sheet - Employee data'!W38","v":"Yes"},{"$f":"'6 - Input sheet - Employee data'!X38","v":"Yes"},{"$f":"'6 - Input sheet - Employee data'!Y38","v":"Yes"},{"$f":"'6 - Input sheet - Employee data'!Z38","v":"Yes"},{"$f":"'6 - Input sheet - Employee data'!AA38","v":"Yes"},{"$f":"'6 - Input sheet - Employee data'!AB38","v":"Yes"},{"$f":"'6 - Input sheet - Employee data'!AC38","v":"Yes"},{"$f":"'6 - Input sheet - Employee data'!AD38","v":"Yes"},{"$f":"'6 - Input sheet - Employee data'!AE38","v":"Yes"},{"$f":"'6 - Input sheet - Employee data'!AF38","v":"Yes"},{"$f":"'6 - Input sheet - Employee data'!AG38","v":"Yes"},{"$f":"'6 - Input sheet - Employee data'!AH38","v":"Yes"},{"$f":"'6 - Input sheet - Employee data'!AI38","v":"Yes"},{"$f":"'6 - Input sheet - Employee data'!AJ38","v":"Yes"},{"$f":"'6 - Input sheet - Employee data'!AK38","v":"Yes"},{"$f":"'6 - Input sheet - Employee data'!AL38","v":"Yes"},{"$f":"'6 - Input sheet - Employee data'!AM38","v":"Yes"},{"$f":"'6 - Input sheet - Employee data'!AN38","v":"Yes"},{"$f":"'6 - Input sheet - Employee data'!AO38","v":"Yes"},{"$f":"'6 - Input sheet - Employee data'!AP38","v":"Yes"},{"$f":"'6 - Input sheet - Employee data'!AQ38","v":"Yes"},{"$f":"'6 - Input sheet - Employee data'!AR38","v":"Yes"},{"$f":"'6 - Input sheet - Employee data'!AS38","v":"Yes"},{"$f":"'6 - Input sheet - Employee data'!AT38","v":"Yes"},{"$f":"'6 - Input sheet - Employee data'!AU38","v":"Yes"},{"$f":"'6 - Input sheet - Employee data'!AV38","v":"Yes"},{"$f":"'6 - Input sheet - Employee data'!AW38","v":"Yes"},{"$f":"'6 - Input sheet - Employee data'!AX38","v":"Yes"},{"$f":"'6 - Input sheet - Employee data'!AY38","v":"Yes"},{"$f":"'6 - Input sheet - Employee data'!AZ38","v":"Yes"},{"$f":"'6 - Input sheet - Employee data'!BA38","v":"Yes"},{"$f":"'6 - Input sheet - Employee data'!BB38","v":"Yes"},{"$f":"'6 - Input sheet - Employee data'!BC38","v":"Yes"},{"$f":"'6 - Input sheet - Employee data'!BD38","v":"Yes"},{"$f":"'6 - Input sheet - Employee data'!BE38","v":"Yes"},{"$f":"'6 - Input sheet - Employee data'!BF38","v":"Yes"},{"$f":"'6 - Input sheet - Employee data'!BG38","v":"Yes"},{"$f":"'6 - Input sheet - Employee data'!BH38","v":"Yes"},{"$f":"'6 - Input sheet - Employee data'!BI38","v":"Yes"},{"$f":"'6 - Input sheet - Employee data'!BJ38","v":"Yes"},{"$f":"'6 - Input sheet - Employee data'!BK38","v":"Yes"},{"$f":"'6 - Input sheet - Employee data'!BL38","v":"Yes"},{"$f":"'6 - Input sheet - Employee data'!BM38","v":"Yes"},{"$f":"'6 - Input sheet - Employee data'!BN38","v":"Yes"},{"$f":"'6 - Input sheet - Employee data'!BO38","v":"Yes"},{"$f":"'6 - Input sheet - Employee data'!BP38","v":"Yes"},{"$f":"'6 - Input sheet - Employee data'!BQ38","v":"Yes"},{"$f":"'6 - Input sheet - Employee data'!BR38","v":"Yes"},{"$f":"'6 - Input sheet - Employee data'!BS38","v":"Yes"},{"$f":"'6 - Input sheet - Employee data'!BT38","v":"Yes"},{"$f":"'6 - Input sheet - Employee data'!BU38","v":"Yes"},{"$f":"'6 - Input sheet - Employee data'!BV38","v":"Yes"},{"$f":"'6 - Input sheet - Employee data'!BW38","v":"Yes"},{"$f":"'6 - Input sheet - Employee data'!BX38","v":"Yes"},{"$f":"'6 - Input sheet - Employee data'!BY38","v":"Yes"},{"$f":"'6 - Input sheet - Employee data'!BZ38","v":"Yes"},{"$f":"'6 - Input sheet - Employee data'!CA38","v":"Yes"},{"$f":"'6 - Input sheet - Employee data'!CB38","v":"Yes"},{"$f":"'6 - Input sheet - Employee data'!CC38","v":"Yes"},{"$f":"'6 - Input sheet - Employee data'!CD38","v":"Yes"},{"$f":"'6 - Input sheet - Employee data'!CE38","v":"Yes"},{"$f":"'6 - Input sheet - Employee data'!CF38","v":"Yes"},{"$f":"'6 - Input sheet - Employee data'!CG38","v":"Yes"},{"$f":"'6 - Input sheet - Employee data'!CH38","v":"Yes"},{"$f":"'6 - Input sheet - Employee data'!CI38","v":"Yes"},{"$f":"'6 - Input sheet - Employee data'!CJ38","v":"Yes"},{"$f":"'6 - Input sheet - Employee data'!CK38","v":"Yes"},{"$f":"'6 - Input sheet - Employee data'!CL38","v":"Yes"},{"$f":"'6 - Input sheet - Employee data'!CM38","v":"Yes"},{"$f":"'6 - Input sheet - Employee data'!CN38","v":"Yes"},{"$f":"'6 - Input sheet - Employee data'!CO38","v":"Yes"},{"$f":"'6 - Input sheet - Employee data'!CP38","v":"Yes"},{"$f":"'6 - Input sheet - Employee data'!CQ38","v":"Yes"},{"$f":"'6 - Input sheet - Employee data'!CR38","v":"Yes"},{"$f":"'6 - Input sheet - Employee data'!CS38","v":"Yes"},{"$f":"'6 - Input sheet - Employee data'!CT38","v":"Yes"},{"$f":"'6 - Input sheet - Employee data'!CU38","v":"Yes"},{"$f":"'6 - Input sheet - Employee data'!CV38","v":"Yes"},{"$f":"'6 - Input sheet - Employee data'!CW38","v":"Yes"},{"$f":"'6 - Input sheet - Employee data'!CX38","v":"Yes"},{"$f":"'6 - Input sheet - Employee data'!CY38","v":"Yes"},{"$f":"'6 - Input sheet - Employee data'!CZ38","v":"Yes"},{"$f":"'6 - Input sheet - Employee data'!DA38","v":"Yes"},{"$f":"'6 - Input sheet - Employee data'!DB38","v":"Yes"},{"$f":"'6 - Input sheet - Employee data'!DC38","v":"Yes"},{"$f":"'6 - Input sheet - Employee data'!DD38","v":"Yes"},{"$f":"'6 - Input sheet - Employee data'!DE38","v":"Yes"},{"$f":"'6 - Input sheet - Employee data'!DF38","v":"Yes"},{"$f":"'6 - Input sheet - Employee data'!DG38","v":"Yes"},{"$f":"'6 - Input sheet - Employee data'!DH38","v":"Yes"},{"$f":"'6 - Input sheet - Employee data'!DI38","v":"Yes"},{"$f":"'6 - Input sheet - Employee data'!DJ38","v":"Yes"},{"$f":"'6 - Input sheet - Employee data'!DK38","v":"Yes"},{"$f":"'6 - Input sheet - Employee data'!DL38","v":"Yes"},{"$f":"'6 - Input sheet - Employee data'!DM38","v":"Yes"},{"$f":"'6 - Input sheet - Employee data'!DN38","v":"Yes"},{"$f":"'6 - Input sheet - Employee data'!DO38","v":"Yes"},{"$f":"'6 - Input sheet - Employee data'!DP38","v":"Yes"},{"$f":"'6 - Input sheet - Employee data'!DQ38","v":"Yes"},{"$f":"'6 - Input sheet - Employee data'!DR38","v":"Yes"},{"$f":"'6 - Input sheet - Employee data'!DS38","v":"Yes"},{"$f":"'6 - Input sheet - Employee data'!DT38","v":"Yes"},{"$f":"'6 - Input sheet - Employee data'!DU38","v":"Yes"},{"$f":"'6 - Input sheet - Employee data'!DV38","v":"Yes"},{"$f":"'6 - Input sheet - Employee data'!DW38","v":"Yes"},{"$f":"'6 - Input sheet - Employee data'!DX38","v":"Yes"},{"$f":"'6 - Input sheet - Employee data'!DY38","v":"Yes"},{"$f":"'6 - Input sheet - Employee data'!DZ38","v":"Yes"},{"$f":"'6 - Input sheet - Employee data'!EA38","v":"Yes"},{"$f":"'6 - Input sheet - Employee data'!EB38","v":"Yes"},{"$f":"'6 - Input sheet - Employee data'!EC38","v":"Yes"},{"$f":"'6 - Input sheet - Employee data'!ED38","v":"Yes"},{"$f":"'6 - Input sheet - Employee data'!EE38","v":"Yes"},{"$f":"'6 - Input sheet - Employee data'!EF38","v":"Yes"},{"$f":"'6 - Input sheet - Employee data'!EG38","v":"Yes"},{"$f":"'6 - Input sheet - Employee data'!EH38","v":"Yes"},{"$f":"'6 - Input sheet - Employee data'!EI38","v":"Yes"},{"$f":"'6 - Input sheet - Employee data'!EJ38","v":"Yes"},{"$f":"'6 - Input sheet - Employee data'!EK38","v":"Yes"},{"$f":"'6 - Input sheet - Employee data'!EL38","v":"Yes"},{"$f":"'6 - Input sheet - Employee data'!EM38","v":"Yes"},{"$f":"'6 - Input sheet - Employee data'!EN38","v":"Yes"},{"$f":"'6 - Input sheet - Employee data'!EO38","v":"Yes"},{"$f":"'6 - Input sheet - Employee data'!EP38","v":"Yes"},{"$f":"'6 - Input sheet - Employee data'!EQ38","v":"Yes"},{"$f":"'6 - Input sheet - Employee data'!ER38","v":"Yes"},{"$f":"'6 - Input sheet - Employee data'!ES38","v":"Yes"},{"$f":"'6 - Input sheet - Employee data'!ET38","v":"Yes"},{"$f":"'6 - Input sheet - Employee data'!EU38","v":"Yes"},{"$f":"'6 - Input sheet - Employee data'!EV38","v":"Yes"},{"$f":"'6 - Input sheet - Employee data'!EW38","v":"Yes"},{"$f":"'6 - Input sheet - Employee data'!EX38","v":"Yes"},{"$f":"'6 - Input sheet - Employee data'!EY38","v":"Yes"},{"$f":"'6 - Input sheet - Employee data'!EZ38","v":"Yes"},{"$f":"'6 - Input sheet - Employee data'!FA38","v":"Yes"},{"$f":"'6 - Input sheet - Employee data'!FB38","v":"Yes"},{"$f":"'6 - Input sheet - Employee data'!FC38","v":"Yes"},{"$f":"'6 - Input sheet - Employee data'!FD38","v":"Yes"},{"$f":"'6 - Input sheet - Employee data'!FE38","v":"Yes"},{"$f":"'6 - Input sheet - Employee data'!FF38","v":"Yes"},{"$f":"'6 - Input sheet - Employee data'!FG38","v":"Yes"},{"$f":"'6 - Input sheet - Employee data'!FH38","v":"Yes"},{"$f":"'6 - Input sheet - Employee data'!FI38","v":"Yes"},{"$f":"'6 - Input sheet - Employee data'!FJ38","v":"Yes"},{"$f":"'6 - Input sheet - Employee data'!FK38","v":"Yes"},{"$f":"'6 - Input sheet - Employee data'!FL38","v":"Yes"},{"$f":"'6 - Input sheet - Employee data'!FM38","v":"Yes"},{"$f":"'6 - Input sheet - Employee data'!FN38","v":"Yes"},{"$f":"'6 - Input sheet - Employee data'!FO38","v":"Yes"},{"$f":"'6 - Input sheet - Employee data'!FP38","v":"Yes"},{"$f":"'6 - Input sheet - Employee data'!FQ38","v":"Yes"},{"$f":"'6 - Input sheet - Employee data'!FR38","v":"Yes"},{"$f":"'6 - Input sheet - Employee data'!FS38","v":"Yes"},{"$f":"'6 - Input sheet - Employee data'!FT38","v":"Yes"},{"$f":"'6 - Input sheet - Employee data'!FU38","v":"Yes"},{"$f":"'6 - Input sheet - Employee data'!FV38","v":"Yes"},{"$f":"'6 - Input sheet - Employee data'!FW38","v":"Yes"},{"$f":"'6 - Input sheet - Employee data'!FX38","v":"Yes"},{"$f":"'6 - Input sheet - Employee data'!FY38","v":"Yes"},{"$f":"'6 - Input sheet - Employee data'!FZ38","v":"Yes"},{"$f":"'6 - Input sheet - Employee data'!GA38","v":"Yes"},{"$f":"'6 - Input sheet - Employee data'!GB38","v":"Yes"},{"$f":"'6 - Input sheet - Employee data'!GC38","v":"Yes"},{"$f":"'6 - Input sheet - Employee data'!GD38","v":"Yes"},{"$f":"'6 - Input sheet - Employee data'!GE38","v":"Yes"},{"$f":"'6 - Input sheet - Employee data'!GF38","v":"Yes"},{"$f":"'6 - Input sheet - Employee data'!GG38","v":"Yes"},{"$f":"'6 - Input sheet - Employee data'!GH38","v":"Yes"},{"$f":"'6 - Input sheet - Employee data'!GI38","v":"Yes"},{"$f":"'6 - Input sheet - Employee data'!GJ38","v":"Yes"},{"$f":"'6 - Input sheet - Employee data'!GK38","v":"Yes"},{"$f":"'6 - Input sheet - Employee data'!GL38","v":"Yes"},{"$f":"'6 - Input sheet - Employee data'!GM38","v":"Yes"},{"$f":"'6 - Input sheet - Employee data'!GN38","v":"Yes"},{"$f":"'6 - Input sheet - Employee data'!GO38","v":"Yes"},{"$f":"'6 - Input sheet - Employee data'!GP38","v":"Yes"},{"$f":"'6 - Input sheet - Employee data'!GQ38","v":"Yes"},{"$f":"'6 - Input sheet - Employee data'!GR38","v":"Yes"},{"$f":"'6 - Input sheet - Employee data'!GS38","v":"Yes"},{"$f":"'6 - Input sheet - Employee data'!GT38","v":"Yes"},{"$f":"'6 - Input sheet - Employee data'!GU38","v":"Yes"},{"$f":"'6 - Input sheet - Employee data'!GV38","v":"Yes"},{"$f":"'6 - Input sheet - Employee data'!GW38","v":"Yes"},{"$f":"'6 - Input sheet - Employee data'!GX38","v":"Yes"},{"$f":"'6 - Input sheet - Employee data'!GY38","v":"Yes"},{"$f":"'6 - Input sheet - Employee data'!GZ38","v":"Yes"},{"$f":"'6 - Input sheet - Employee data'!HA38","v":"Yes"},{"$f":"'6 - Input sheet - Employee data'!HB38","v":"Yes"},{"$f":"'6 - Input sheet - Employee data'!HC38","v":"Yes"},{"$f":"'6 - Input sheet - Employee data'!HD38","v":"Yes"},{"$f":"'6 - Input sheet - Employee data'!HE38","v":"Yes"},{"$f":"'6 - Input sheet - Employee data'!HF38","v":"Yes"},{"$f":"'6 - Input sheet - Employee data'!HG38","v":"Yes"},{"$f":"'6 - Input sheet - Employee data'!HH38","v":"Yes"},{"$f":"'6 - Input sheet - Employee data'!HI38","v":"Yes"},{"$f":"'6 - Input sheet - Employee data'!HJ38","v":"Yes"},{"$f":"'6 - Input sheet - Employee data'!HK38","v":"Yes"},{"$f":"'6 - Input sheet - Employee data'!HL38","v":"Yes"},{"$f":"'6 - Input sheet - Employee data'!HM38","v":"Yes"},{"$f":"'6 - Input sheet - Employee data'!HN38","v":"Yes"},{"$f":"'6 - Input sheet - Employee data'!HO38","v":"Yes"},{"$f":"'6 - Input sheet - Employee data'!HP38","v":"Yes"},{"$f":"'6 - Input sheet - Employee data'!HQ38","v":"Yes"},{"$f":"'6 - Input sheet - Employee data'!HR38","v":"Yes"},{"$f":"'6 - Input sheet - Employee data'!HS38","v":"Yes"},{"$f":"'6 - Input sheet - Employee data'!HT38","v":"Yes"},{"$f":"'6 - Input sheet - Employee data'!HU38","v":"Yes"},{"$f":"'6 - Input sheet - Employee data'!HV38","v":"Yes"},{"$f":"'6 - Input sheet - Employee data'!HW38","v":"Yes"},{"$f":"'6 - Input sheet - Employee data'!HX38","v":"Yes"},{"$f":"'6 - Input sheet - Employee data'!HY38","v":"Yes"},{"$f":"'6 - Input sheet - Employee data'!HZ38","v":"Yes"},{"$f":"'6 - Input sheet - Employee data'!IA38","v":"Yes"},{"$f":"'6 - Input sheet - Employee data'!IB38","v":"Yes"},{"$f":"'6 - Input sheet - Employee data'!IC38","v":"Yes"},{"$f":"'6 - Input sheet - Employee data'!ID38","v":"Yes"},{"$f":"'6 - Input sheet - Employee data'!IE38","v":"Yes"},{"$f":"'6 - Input sheet - Employee data'!IF38","v":"Yes"},{"$f":"'6 - Input sheet - Employee data'!IG38","v":"Yes"},{"$f":"'6 - Input sheet - Employee data'!IH38","v":"Yes"},{"$f":"'6 - Input sheet - Employee data'!II38","v":"Yes"},{"$f":"'6 - Input sheet - Employee data'!IJ38","v":"Yes"},{"$f":"'6 - Input sheet - Employee data'!IK38","v":"Yes"},{"$f":"'6 - Input sheet - Employee data'!IL38","v":"Yes"},{"$f":"'6 - Input sheet - Employee data'!IM38","v":"Yes"},{"$f":"'6 - Input sheet - Employee data'!IN38","v":"Yes"},{"$f":"'6 - Input sheet - Employee data'!IO38","v":"Yes"},{"$f":"'6 - Input sheet - Employee data'!IP38","v":"Yes"},{"$f":"'6 - Input sheet - Employee data'!IQ38","v":"Yes"},{"$f":"'6 - Input sheet - Employee data'!IR38","v":"Yes"},{"$f":"'6 - Input sheet - Employee data'!IS38","v":"Yes"},{"$f":"'6 - Input sheet - Employee data'!IT38","v":"Yes"},{"$f":"'6 - Input sheet - Employee data'!IU38","v":"Yes"},{"$f":"'6 - Input sheet - Employee data'!IV38","v":"Yes"},{"$f":"'6 - Input sheet - Employee data'!IW38","v":"Yes"},{"$f":"'6 - Input sheet - Employee data'!IX38","v":"Yes"},{"$f":"'6 - Input sheet - Employee data'!IY38","v":"Yes"},{"$f":"'6 - Input sheet - Employee data'!IZ38","v":"Yes"},{"$f":"'6 - Input sheet - Employee data'!JA38","v":"Yes"},{"$f":"'6 - Input sheet - Employee data'!JB38","v":"Yes"},{"$f":"'6 - Input sheet - Employee data'!JC38","v":"Yes"},{"$f":"'6 - Input sheet - Employee data'!JD38","v":"Yes"},{"$f":"'6 - Input sheet - Employee data'!JE38","v":"Yes"},{"$f":"'6 - Input sheet - Employee data'!JF38","v":"Yes"},{"$f":"'6 - Input sheet - Employee data'!JG38","v":"Yes"},{"$f":"'6 - Input sheet - Employee data'!JH38","v":"Yes"},{"$f":"'6 - Input sheet - Employee data'!JI38","v":"Yes"},{"$f":"'6 - Input sheet - Employee data'!JJ38","v":"Yes"},{"$f":"'6 - Input sheet - Employee data'!JK38","v":"Yes"},{"$f":"'6 - Input sheet - Employee data'!JL38","v":"Yes"},{"$f":"'6 - Input sheet - Employee data'!JM38","v":"Yes"},{"$f":"'6 - Input sheet - Employee data'!JN38","v":"Yes"},{"$f":"'6 - Input sheet - Employee data'!JO38","v":"Yes"},{"$f":"'6 - Input sheet - Employee data'!JP38","v":"Yes"},{"$f":"'6 - Input sheet - Employee data'!JQ38","v":"Yes"},{"$f":"'6 - Input sheet - Employee data'!JR38","v":"Yes"},{"$f":"'6 - Input sheet - Employee data'!JS38","v":"Yes"},{"$f":"'6 - Input sheet - Employee data'!JT38","v":"Yes"},{"$f":"'6 - Input sheet - Employee data'!JU38","v":"Yes"},{"$f":"'6 - Input sheet - Employee data'!JV38","v":"Yes"},{"$f":"'6 - Input sheet - Employee data'!JW38","v":"Yes"},{"$f":"'6 - Input sheet - Employee data'!JX38","v":"Yes"},{"$f":"'6 - Input sheet - Employee data'!JY38","v":"Yes"},{"$f":"'6 - Input sheet - Employee data'!JZ38","v":"Yes"},{"$f":"'6 - Input sheet - Employee data'!KA38","v":"Yes"},{"$f":"'6 - Input sheet - Employee data'!KB38","v":"Yes"},{"$f":"'6 - Input sheet - Employee data'!KC38","v":"Yes"},{"$f":"'6 - Input sheet - Employee data'!KD38","v":"Yes"},{"$f":"'6 - Input sheet - Employee data'!KE38","v":"Yes"},{"$f":"'6 - Input sheet - Employee data'!KF38","v":"Yes"},{"$f":"'6 - Input sheet - Employee data'!KG38","v":"Yes"},{"$f":"'6 - Input sheet - Employee data'!KH38","v":"Yes"},{"$f":"'6 - Input sheet - Employee data'!KI38","v":"Yes"},{"$f":"'6 - Input sheet - Employee data'!KJ38","v":"Yes"},{"$f":"'6 - Input sheet - Employee data'!KK38","v":"Yes"},{"$f":"'6 - Input sheet - Employee data'!KL38","v":"Yes"},{"$f":"'6 - Input sheet - Employee data'!KM38","v":"Yes"},{"$f":"'6 - Input sheet - Employee data'!KN38","v":"Yes"},{"$f":"'6 - Input sheet - Employee data'!KO38","v":"Yes"},{"$f":"'6 - Input sheet - Employee data'!KP38","v":"Yes"},{"$f":"'6 - Input sheet - Employee data'!KQ38","v":"Yes"},{"$f":"'6 - Input sheet - Employee data'!KR38","v":"Yes"},{"$f":"'6 - Input sheet - Employee data'!KS38","v":"Yes"},{"$f":"'6 - Input sheet - Employee data'!KT38","v":"Yes"},{"$f":"'6 - Input sheet - Employee data'!KU38","v":"Yes"},{"$f":"'6 - Input sheet - Employee data'!KV38","v":"Yes"},{"$f":"'6 - Input sheet - Employee data'!KW38","v":"Yes"},{"$f":"'6 - Input sheet - Employee data'!KX38","v":"Yes"},{"$f":"'6 - Input sheet - Employee data'!KY38","v":"Yes"},{"$f":"'6 - Input sheet - Employee data'!KZ38","v":"Yes"},{"$f":"'6 - Input sheet - Employee data'!LA38","v":"Yes"},{"$f":"'6 - Input sheet - Employee data'!LB38","v":"Yes"},{"$f":"'6 - Input sheet - Employee data'!LC38","v":"Yes"},{"$f":"'6 - Input sheet - Employee data'!LD38","v":"Yes"},{"$f":"'6 - Input sheet - Employee data'!LE38","v":"Yes"},{"$f":"'6 - Input sheet - Employee data'!LF38","v":"Yes"},{"$f":"'6 - Input sheet - Employee data'!LG38","v":"Yes"},{"$f":"'6 - Input sheet - Employee data'!LH38","v":"Yes"},{"$f":"'6 - Input sheet - Employee data'!LI38","v":"Yes"},{"$f":"'6 - Input sheet - Employee data'!LJ38","v":"Yes"},{"$f":"'6 - Input sheet - Employee data'!LK38","v":"Yes"},{"$f":"'6 - Input sheet - Employee data'!LL38","v":"Yes"},{"$f":"'6 - Input sheet - Employee data'!LM38","v":"Yes"},{"$f":"'6 - Input sheet - Employee data'!LN38","v":"Yes"},{"$f":"'6 - Input sheet - Employee data'!LO38","v":"Yes"},{"$f":"'6 - Input sheet - Employee data'!LP38","v":"Yes"},{"$f":"'6 - Input sheet - Employee data'!LQ38","v":"Yes"},{"$f":"'6 - Input sheet - Employee data'!LR38","v":"Yes"},{"$f":"'6 - Input sheet - Employee data'!LS38","v":"Yes"},{"$f":"'6 - Input sheet - Employee data'!LT38","v":"Yes"},{"$f":"'6 - Input sheet - Employee data'!LU38","v":"Yes"},{"$f":"'6 - Input sheet - Employee data'!LV38","v":"Yes"},{"$f":"'6 - Input sheet - Employee data'!LW38","v":"Yes"},{"$f":"'6 - Input sheet - Employee data'!LX38","v":"Yes"},{"$f":"'6 - Input sheet - Employee data'!LY38","v":"Yes"},{"$f":"'6 - Input sheet - Employee data'!LZ38","v":"Yes"},{"$f":"'6 - Input sheet - Employee data'!MA38","v":"Yes"},{"$f":"'6 - Input sheet - Employee data'!MB38","v":"Yes"},{"$f":"'6 - Input sheet - Employee data'!MC38","v":"Yes"},{"$f":"'6 - Input sheet - Employee data'!MD38","v":"Yes"},{"$f":"'6 - Input sheet - Employee data'!ME38","v":"Yes"},{"$f":"'6 - Input sheet - Employee data'!MF38","v":"Yes"},{"$f":"'6 - Input sheet - Employee data'!MG38","v":"Yes"},{"$f":"'6 - Input sheet - Employee data'!MH38","v":"Yes"},{"$f":"'6 - Input sheet - Employee data'!MI38","v":"Yes"},{"$f":"'6 - Input sheet - Employee data'!MJ38","v":"Yes"},{"$f":"'6 - Input sheet - Employee data'!MK38","v":"Yes"},{"$f":"'6 - Input sheet - Employee data'!ML38","v":"Yes"},{"$f":"'6 - Input sheet - Employee data'!MM38","v":"Yes"},{"$f":"'6 - Input sheet - Employee data'!MN38","v":"Yes"},{"$f":"'6 - Input sheet - Employee data'!MO38","v":"Yes"},{"$f":"'6 - Input sheet - Employee data'!MP38","v":"Yes"},{"$f":"'6 - Input sheet - Employee data'!MQ38","v":"Yes"},{"$f":"'6 - Input sheet - Employee data'!MR38","v":"Yes"},{"$f":"'6 - Input sheet - Employee data'!MS38","v":"Yes"},{"$f":"'6 - Input sheet - Employee data'!MT38","v":"Yes"},{"$f":"'6 - Input sheet - Employee data'!MU38","v":"Yes"},{"$f":"'6 - Input sheet - Employee data'!MV38","v":"Yes"},{"$f":"'6 - Input sheet - Employee data'!MW38","v":"Yes"},{"$f":"'6 - Input sheet - Employee data'!MX38","v":"Yes"},{"$f":"'6 - Input sheet - Employee data'!MY38","v":"Yes"},{"$f":"'6 - Input sheet - Employee data'!MZ38","v":"Yes"},{"$f":"'6 - Input sheet - Employee data'!NA38","v":"Yes"},{"$f":"'6 - Input sheet - Employee data'!NB38","v":"Yes"},{"$f":"'6 - Input sheet - Employee data'!NC38","v":"Yes"},{"$f":"'6 - Input sheet - Employee data'!ND38","v":"Yes"},{"$f":"'6 - Input sheet - Employee data'!NE38","v":"Yes"},{"$f":"'6 - Input sheet - Employee data'!NF38","v":"Yes"},{"$f":"'6 - Input sheet - Employee data'!NG38","v":"Yes"},{"$f":"'6 - Input sheet - Employee data'!NH38","v":"Yes"},{"$f":"'6 - Input sheet - Employee data'!NI38","v":"Yes"},{"$f":"'6 - Input sheet - Employee data'!NJ38","v":"Yes"},{"$f":"'6 - Input sheet - Employee data'!NK38","v":"Yes"},{"$f":"'6 - Input sheet - Employee data'!NL38","v":"Yes"},{"$f":"'6 - Input sheet - Employee data'!NM38","v":"Yes"},{"$f":"'6 - Input sheet - Employee data'!NN38","v":"Yes"},{"$f":"'6 - Input sheet - Employee data'!NO38","v":"Yes"},{"$f":"'6 - Input sheet - Employee data'!NP38","v":"Yes"},{"$f":"'6 - Input sheet - Employee data'!NQ38","v":"Yes"},{"$f":"'6 - Input sheet - Employee data'!NR38","v":"Yes"},{"$f":"'6 - Input sheet - Employee data'!NS38","v":"Yes"},{"$f":"'6 - Input sheet - Employee data'!NT38","v":"Yes"},{"$f":"'6 - Input sheet - Employee data'!NU38","v":"Yes"},{"$f":"'6 - Input sheet - Employee data'!NV38","v":"Yes"},{"$f":"'6 - Input sheet - Employee data'!NW38","v":"Yes"},{"$f":"'6 - Input sheet - Employee data'!NX38","v":"Yes"},{"$f":"'6 - Input sheet - Employee data'!NY38","v":"Yes"},{"$f":"'6 - Input sheet - Employee data'!NZ38","v":"Yes"},{"$f":"'6 - Input sheet - Employee data'!OA38","v":"Yes"},{"$f":"'6 - Input sheet - Employee data'!OB38","v":"Yes"},{"$f":"'6 - Input sheet - Employee data'!OC38","v":"Yes"},{"$f":"'6 - Input sheet - Employee data'!OD38","v":"Yes"},{"$f":"'6 - Input sheet - Employee data'!OE38","v":"Yes"},{"$f":"'6 - Input sheet - Employee data'!OF38","v":"Yes"},{"$f":"'6 - Input sheet - Employee data'!OG38","v":"Yes"},{"$f":"'6 - Input sheet - Employee data'!OH38","v":"Yes"},{"$f":"'6 - Input sheet - Employee data'!OI38","v":"Yes"},{"$f":"'6 - Input sheet - Employee data'!OJ38","v":"Yes"},{"$f":"'6 - Input sheet - Employee data'!OK38","v":"Yes"},{"$f":"'6 - Input sheet - Employee data'!OL38","v":"Yes"},{"$f":"'6 - Input sheet - Employee data'!OM38","v":"Yes"},{"$f":"'6 - Input sheet - Employee data'!ON38","v":"Yes"},{"$f":"'6 - Input sheet - Employee data'!OO38","v":"Yes"},{"$f":"'6 - Input sheet - Employee data'!OP38","v":"Yes"},{"$f":"'6 - Input sheet - Employee data'!OQ38","v":"Yes"},{"$f":"'6 - Input sheet - Employee data'!OR38","v":"Yes"},{"$f":"'6 - Input sheet - Employee data'!OS38","v":"Yes"},{"$f":"'6 - Input sheet - Employee data'!OT38","v":"Yes"},{"$f":"'6 - Input sheet - Employee data'!OU38","v":"Yes"},{"$f":"'6 - Input sheet - Employee data'!OV38","v":"Yes"},{"$f":"'6 - Input sheet - Employee data'!OW38","v":"Yes"},{"$f":"'6 - Input sheet - Employee data'!OX38","v":"Yes"},{"$f":"'6 - Input sheet - Employee data'!OY38","v":"Yes"},{"$f":"'6 - Input sheet - Employee data'!OZ38","v":"Yes"},{"$f":"'6 - Input sheet - Employee data'!PA38","v":"Yes"},{"$f":"'6 - Input sheet - Employee data'!PB38","v":"Yes"},{"$f":"'6 - Input sheet - Employee data'!PC38","v":"Yes"},{"$f":"'6 - Input sheet - Employee data'!PD38","v":"Yes"},{"$f":"'6 - Input sheet - Employee data'!PE38","v":"Yes"},{"$f":"'6 - Input sheet - Employee data'!PF38","v":"Yes"},{"$f":"'6 - Input sheet - Employee data'!PG38","v":"Yes"},{"$f":"'6 - Input sheet - Employee data'!PH38","v":"Yes"},{"$f":"'6 - Input sheet - Employee data'!PI38","v":"Yes"},{"$f":"'6 - Input sheet - Employee data'!PJ38","v":"Yes"},{"$f":"'6 - Input sheet - Employee data'!PK38","v":"Yes"},{"$f":"'6 - Input sheet - Employee data'!PL38","v":"Yes"},{"$f":"'6 - Input sheet - Employee data'!PM38","v":"Yes"},{"$f":"'6 - Input sheet - Employee data'!PN38","v":"Yes"},{"$f":"'6 - Input sheet - Employee data'!PO38","v":"Yes"},{"$f":"'6 - Input sheet - Employee data'!PP38","v":"Yes"},{"$f":"'6 - Input sheet - Employee data'!PQ38","v":"Yes"},{"$f":"'6 - Input sheet - Employee data'!PR38","v":"Yes"},{"$f":"'6 - Input sheet - Employee data'!PS38","v":"Yes"},{"$f":"'6 - Input sheet - Employee data'!PT38","v":"Yes"},{"$f":"'6 - Input sheet - Employee data'!PU38","v":"Yes"},{"$f":"'6 - Input sheet - Employee data'!PV38","v":"Yes"},{"$f":"'6 - Input sheet - Employee data'!PW38","v":"Yes"},{"$f":"'6 - Input sheet - Employee data'!PX38","v":"Yes"},{"$f":"'6 - Input sheet - Employee data'!PY38","v":"Yes"},{"$f":"'6 - Input sheet - Employee data'!PZ38","v":"Yes"},{"$f":"'6 - Input sheet - Employee data'!QA38","v":"Yes"},{"$f":"'6 - Input sheet - Employee data'!QB38","v":"Yes"},{"$f":"'6 - Input sheet - Employee data'!QC38","v":"Yes"},{"$f":"'6 - Input sheet - Employee data'!QD38","v":"Yes"},{"$f":"'6 - Input sheet - Employee data'!QE38","v":"Yes"},{"$f":"'6 - Input sheet - Employee data'!QF38","v":"Yes"},{"$f":"'6 - Input sheet - Employee data'!QG38","v":"Yes"},{"$f":"'6 - Input sheet - Employee data'!QH38","v":"Yes"},{"$f":"'6 - Input sheet - Employee data'!QI38","v":"Yes"},{"$f":"'6 - Input sheet - Employee data'!QJ38","v":"Yes"},{"$f":"'6 - Input sheet - Employee data'!QK38","v":"Yes"},{"$f":"'6 - Input sheet - Employee data'!QL38","v":"Yes"},{"$f":"'6 - Input sheet - Employee data'!QM38","v":"Yes"},{"$f":"'6 - Input sheet - Employee data'!QN38","v":"Yes"},{"$f":"'6 - Input sheet - Employee data'!QO38","v":"Yes"},{"$f":"'6 - Input sheet - Employee data'!QP38","v":"Yes"},{"$f":"'6 - Input sheet - Employee data'!QQ38","v":"Yes"},{"$f":"'6 - Input sheet - Employee data'!QR38","v":"Yes"},{"$f":"'6 - Input sheet - Employee data'!QS38","v":"Yes"},{"$f":"'6 - Input sheet - Employee data'!QT38","v":"Yes"},{"$f":"'6 - Input sheet - Employee data'!QU38","v":"Yes"},{"$f":"'6 - Input sheet - Employee data'!QV38","v":"Yes"},{"$f":"'6 - Input sheet - Employee data'!QW38","v":"Yes"},{"$f":"'6 - Input sheet - Employee data'!QX38","v":"Yes"},{"$f":"'6 - Input sheet - Employee data'!QY38","v":"Yes"},{"$f":"'6 - Input sheet - Employee data'!QZ38","v":"Yes"},{"$f":"'6 - Input sheet - Employee data'!RA38","v":"Yes"},{"$f":"'6 - Input sheet - Employee data'!RB38","v":"Yes"},{"$f":"'6 - Input sheet - Employee data'!RC38","v":"Yes"},{"$f":"'6 - Input sheet - Employee data'!RD38","v":"Yes"},{"$f":"'6 - Input sheet - Employee data'!RE38","v":"Yes"},{"$f":"'6 - Input sheet - Employee data'!RF38","v":"Yes"},{"$f":"'6 - Input sheet - Employee data'!RG38","v":"Yes"},{"$f":"'6 - Input sheet - Employee data'!RH38","v":"Yes"},{"$f":"'6 - Input sheet - Employee data'!RI38","v":"Yes"},{"$f":"'6 - Input sheet - Employee data'!RJ38","v":"Yes"},{"$f":"'6 - Input sheet - Employee data'!RK38","v":"Yes"},{"$f":"'6 - Input sheet - Employee data'!RL38","v":"Yes"},{"$f":"'6 - Input sheet - Employee data'!RM38","v":"Yes"},{"$f":"'6 - Input sheet - Employee data'!RN38","v":"Yes"},{"$f":"'6 - Input sheet - Employee data'!RO38","v":"Yes"},{"$f":"'6 - Input sheet - Employee data'!RP38","v":"Yes"},{"$f":"'6 - Input sheet - Employee data'!RQ38","v":"Yes"},{"$f":"'6 - Input sheet - Employee data'!RR38","v":"Yes"},{"$f":"'6 - Input sheet - Employee data'!RS38","v":"Yes"},{"$f":"'6 - Input sheet - Employee data'!RT38","v":"Yes"},{"$f":"'6 - Input sheet - Employee data'!RU38","v":"Yes"},{"$f":"'6 - Input sheet - Employee data'!RV38","v":"Yes"},{"$f":"'6 - Input sheet - Employee data'!RW38","v":"Yes"},{"$f":"'6 - Input sheet - Employee data'!RX38","v":"Yes"},{"$f":"'6 - Input sheet - Employee data'!RY38","v":"Yes"},{"$f":"'6 - Input sheet - Employee data'!RZ38","v":"Yes"},{"$f":"'6 - Input sheet - Employee data'!SA38","v":"Yes"},{"$f":"'6 - Input sheet - Employee data'!SB38","v":"Yes"},{"$f":"'6 - Input sheet - Employee data'!SC38","v":"Yes"},{"$f":"'6 - Input sheet - Employee data'!SD38","v":"Yes"},{"$f":"'6 - Input sheet - Employee data'!SE38","v":"Yes"},{"$f":"'6 - Input sheet - Employee data'!SF38","v":"Yes"},{"$f":"'6 - Input sheet - Employee data'!SG38","v":"Yes"},{"$f":"'6 - Input sheet - Employee data'!SH38","v":"Yes"}]
["   FTE - salaried",null,{"$f":"IF(C37=\"yes\",1,IF(C82=\"Yes\",1,0))","v":1},{"$f":"IF(D37=\"yes\",1,IF(D82=\"Yes\",1,0))","v":1},1,1,1,1,1,1,1,1,1,1,1,1,1,1,1,1,1,1,1,1,1,1,1,1,1,1,1,1,1,1,1,1,1,1,1,1,1,1,1,1,1,1,1,1,1,1,1,1,1,1,1,1,1,1,1,1,1,1,1,1,1,1,1,{"$f":"IF(BP37=\"yes\",1,IF(BP82=\"Yes\",1,0))","v":1},1,1,1,1,1,1,1,1,1,1,1,1,1,1,1,1,1,1,1,1,1,1,1,1,1,1,1,1,1,1,1,1,1,1,1,1,1,1,1,1,1,1,1,1,1,1,1,1,1,1,1,1,1,1,1,1,1,1,1,1,1,1,1,{"$f":"IF(EB37=\"yes\",1,IF(EB82=\"Yes\",1,0))","v":1},1,1,1,1,1,1,1,1,1,1,1,1,1,1,1,1,1,1,1,1,1,1,1,1,1,1,1,1,1,1,1,1,1,1,1,1,1,1,1,1,1,1,1,1,1,1,1,1,1,1,1,1,1,1,1,1,1,1,1,1,1,1,1,{"$f":"IF(GN37=\"yes\",1,IF(GN82=\"Yes\",1,0))","v":1},1,1,1,1,1,1,1,1,1,1,1,1,1,1,1,1,1,1,1,1,1,1,1,1,1,1,1,1,1,1,1,1,1,1,1,1,1,1,1,1,1,1,1,1,1,1,1,1,1,1,1,1,1,1,1,1,1,1,1,1,1,1,1,{"$f":"IF(IZ37=\"yes\",1,IF(IZ82=\"Yes\",1,0))","v":1},1,1,1,1,1,1,1,1,1,1,1,1,1,1,1,1,1,1,1,1,1,1,1,1,1,1,1,1,1,1,1,1,1,1,1,1,1,1,1,1,1,1,1,1,1,1,1,1,1,1,1,1,1,1,1,1,1,1,1,1,1,1,1,{"$f":"IF(LL37=\"yes\",1,IF(LL82=\"Yes\",1,0))","v":1},1,1,1,1,1,1,1,1,1,1,1,1,1,1,1,1,1,1,1,1,1,1,1,1,1,1,1,1,1,1,1,1,1,1,1,1,1,1,1,1,1,1,1,1,1,1,1,1,1,1,1,1,1,1,1,1,1,1,1,1,1,1,1,{"$f":"IF(NX37=\"yes\",1,IF(NX82=\"Yes\",1,0))","v":1},1,1,1,1,1,1,1,1,1,1,1,1,1,1,1,1,1,1,1,1,1,1,1,1,1,1,1,1,1,1,1,1,1,1,1,1,1,1,1,1,1,1,1,1,1,1,1,1,1,1,1,1,1,1,1,1,1,1,1,1,1,1,1,{"$f":"IF(QJ37=\"yes\",1,IF(QJ82=\"Yes\",1,0))","v":1},1,1,1,1,1,1,1,1,1,1,1,1,1,1,1,1,1,1,1,1,1,1,1,1,1,1,1,1,1,1,1,1,1,1,1,1,1,1,1,1,1,1,1,1,1,1,1,1,1,1]
["   FTE - hourly",null,{"$f":"C36/($C$13*$E$14)","v":0},{"$f":"D36/($C$13*$E$14)","v":0},0,0,0,0,0,0,0,0,0,0,0,0,0,0,0,0,0,0,0,0,0,0,0,0,0,0,0,0,0,0,0,0,0,0,0,0,0,0,0,0,0,0,0,0,0,0,0,0,0,0,0,0,0,0,0,0,0,0,0,0,0,0,0,{"$f":"BP36/($C$13*$E$14)","v":0},0,0,0,0,0,0,0,0,0,0,0,0,0,0,0,0,0,0,0,0,0,0,0,0,0,0,0,0,0,0,0,0,0,0,0,0,0,0,0,0,0,0,0,0,0,0,0,0,0,0,0,0,0,0,0,0,0,0,0,0,0,0,0,{"$f":"EB36/($C$13*$E$14)","v":0},0,0,0,0,0,0,0,0,0,0,0,0,0,0,0,0,0,0,0,0,0,0,0,0,0,0,0,0,0,0,0,0,0,0,0,0,0,0,0,0,0,0,0,0,0,0,0,0,0,0,0,0,0,0,0,0,0,0,0,0,0,0,0,{"$f":"GN36/($C$13*$E$14)","v":0},0,0,0,0,0,0,0,0,0,0,0,0,0,0,0,0,0,0,0,0,0,0,0,0,0,0,0,0,0,0,0,0,0,0,0,0,0,0,0,0,0,0,0,0,0,0,0,0,0,0,0,0,0,0,0,0,0,0,0,0,0,0,0,{"$f":"IZ36/($C$13*$E$14)","v":0},0,0,0,0,0,0,0,0,0,0,0,0,0,0,0,0,0,0,0,0,0,0,0,0,0,0,0,0,0,0,0,0,0,0,0,0,0,0,0,0,0,0,0,0,0,0,0,0,0,0,0,0,0,0,0,0,0,0,0,0,0,0,0,{"$f":"LL36/($C$13*$E$14)","v":0},0,0,0,0,0,0,0,0,0,0,0,0,0,0,0,0,0,0,0,0,0,0,0,0,0,0,0,0,0,0,0,0,0,0,0,0,0,0,0,0,0,0,0,0,0,0,0,0,0,0,0,0,0,0,0,0,0,0,0,0,0,0,0,{"$f":"NX36/($C$13*$E$14)","v":0},0,0,0,0,0,0,0,0,0,0,0,0,0,0,0,0,0,0,0,0,0,0,0,0,0,0,0,0,0,0,0,0,0,0,0,0,0,0,0,0,0,0,0,0,0,0,0,0,0,0,0,0,0,0,0,0,0,0,0,0,0,0,0,{"$f":"QJ36/($C$13*$E$14)","v":0},0,0,0,0,0,0,0,0,0,0,0,0,0,0,0,0,0,0,0,0,0,0,0,0,0,0,0,0,0,0,0,0,0,0,0,0,0,0,0,0,0,0,0,0,0,0,0,0,0,0]
["   FTE - hourly max",null,{"$f":"IF(C39>1,1,0)","v":0},{"$f":"IF(D39>1,1,0)","v":0},0,0,0,0,0,0,0,0,0,0,0,0,0,0,0,0,0,0,0,0,0,0,0,0,0,0,0,0,0,0,0,0,0,0,0,0,0,0,0,0,0,0,0,0,0,0,0,0,0,0,0,0,0,0,0,0,0,0,0,0,0,0,0,{"$f":"IF(BP39>1,1,0)","v":0},0,0,0,0,0,0,0,0,0,0,0,0,0,0,0,0,0,0,0,0,0,0,0,0,0,0,0,0,0,0,0,0,0,0,0,0,0,0,0,0,0,0,0,0,0,0,0,0,0,0,0,0,0,0,0,0,0,0,0,0,0,0,0,{"$f":"IF(EB39>1,1,0)","v":0},0,0,0,0,0,0,0,0,0,0,0,0,0,0,0,0,0,0,0,0,0,0,0,0,0,0,0,0,0,0,0,0,0,0,0,0,0,0,0,0,0,0,0,0,0,0,0,0,0,0,0,0,0,0,0,0,0,0,0,0,0,0,0,{"$f":"IF(GN39>1,1,0)","v":0},0,0,0,0,0,0,0,0,0,0,0,0,0,0,0,0,0,0,0,0,0,0,0,0,0,0,0,0,0,0,0,0,0,0,0,0,0,0,0,0,0,0,0,0,0,0,0,0,0,0,0,0,0,0,0,0,0,0,0,0,0,0,0,{"$f":"IF(IZ39>1,1,0)","v":0},0,0,0,0,0,0,0,0,0,0,0,0,0,0,0,0,0,0,0,0,0,0,0,0,0,0,0,0,0,0,0,0,0,0,0,0,0,0,0,0,0,0,0,0,0,0,0,0,0,0,0,0,0,0,0,0,0,0,0,0,0,0,0,{"$f":"IF(LL39>1,1,0)","v":0},0,0,0,0,0,0,0,0,0,0,0,0,0,0,0,0,0,0,0,0,0,0,0,0,0,0,0,0,0,0,0,0,0,0,0,0,0,0,0,0,0,0,0,0,0,0,0,0,0,0,0,0,0,0,0,0,0,0,0,0,0,0,0,{"$f":"IF(NX39>1,1,0)","v":0},0,0,0,0,0,0,0,0,0,0,0,0,0,0,0,0,0,0,0,0,0,0,0,0,0,0,0,0,0,0,0,0,0,0,0,0,0,0,0,0,0,0,0,0,0,0,0,0,0,0,0,0,0,0,0,0,0,0,0,0,0,0,0,{"$f":"IF(QJ39>1,1,0)","v":0},0,0,0,0,0,0,0,0,0,0,0,0,0,0,0,0,0,0,0,0,0,0,0,0,0,0,0,0,0,0,0,0,0,0,0,0,0,0,0,0,0,0,0,0,0,0,0,0,0,0]
["   FTE - hourly less max",null,{"$f":"IF(C36=0,0,ROUND(IF(C39<1,IF($B$12=\"NO\",C39,0.5),0),1))","v":0},{"$f":"IF(D36=0,0,ROUND(IF(D39<1,IF($B$12=\"NO\",D39,0.5),0),1))","v":0},0,0,0,0,0,0,0,0,0,0,0,0,0,0,0,0,0,0,0,0,0,0,0,0,0,0,0,0,0,0,0,0,0,0,0,0,0,0,0,0,0,0,0,0,0,0,0,0,0,0,0,0,0,0,0,0,0,0,0,0,0,0,0,{"$f":"IF(BP36=0,0,ROUND(IF(BP39<1,IF($B$12=\"NO\",BP39,0.5),0),1))","v":0},0,0,0,0,0,0,0,0,0,0,0,0,0,0,0,0,0,0,0,0,0,0,0,0,0,0,0,0,0,0,0,0,0,0,0,0,0,0,0,0,0,0,0,0,0,0,0,0,0,0,0,0,0,0,0,0,0,0,0,0,0,0,0,{"$f":"IF(EB36=0,0,ROUND(IF(EB39<1,IF($B$12=\"NO\",EB39,0.5),0),1))","v":0},0,0,0,0,0,0,0,0,0,0,0,0,0,0,0,0,0,0,0,0,0,0,0,0,0,0,0,0,0,0,0,0,0,0,0,0,0,0,0,0,0,0,0,0,0,0,0,0,0,0,0,0,0,0,0,0,0,0,0,0,0,0,0,{"$f":"IF(GN36=0,0,ROUND(IF(GN39<1,IF($B$12=\"NO\",GN39,0.5),0),1))","v":0},0,0,0,0,0,0,0,0,0,0,0,0,0,0,0,0,0,0,0,0,0,0,0,0,0,0,0,0,0,0,0,0,0,0,0,0,0,0,0,0,0,0,0,0,0,0,0,0,0,0,0,0,0,0,0,0,0,0,0,0,0,0,0,{"$f":"IF(IZ36=0,0,ROUND(IF(IZ39<1,IF($B$12=\"NO\",IZ39,0.5),0),1))","v":0},0,0,0,0,0,0,0,0,0,0,0,0,0,0,0,0,0,0,0,0,0,0,0,0,0,0,0,0,0,0,0,0,0,0,0,0,0,0,0,0,0,0,0,0,0,0,0,0,0,0,0,0,0,0,0,0,0,0,0,0,0,0,0,{"$f":"IF(LL36=0,0,ROUND(IF(LL39<1,IF($B$12=\"NO\",LL39,0.5),0),1))","v":0},0,0,0,0,0,0,0,0,0,0,0,0,0,0,0,0,0,0,0,0,0,0,0,0,0,0,0,0,0,0,0,0,0,0,0,0,0,0,0,0,0,0,0,0,0,0,0,0,0,0,0,0,0,0,0,0,0,0,0,0,0,0,0,{"$f":"IF(NX36=0,0,ROUND(IF(NX39<1,IF($B$12=\"NO\",NX39,0.5),0),1))","v":0},0,0,0,0,0,0,0,0,0,0,0,0,0,0,0,0,0,0,0,0,0,0,0,0,0,0,0,0,0,0,0,0,0,0,0,0,0,0,0,0,0,0,0,0,0,0,0,0,0,0,0,0,0,0,0,0,0,0,0,0,0,0,0,{"$f":"IF(QJ36=0,0,ROUND(IF(QJ39<1,IF($B$12=\"NO\",QJ39,0.5),0),1))","v":0},0,0,0,0,0,0,0,0,0,0,0,0,0,0,0,0,0,0,0,0,0,0,0,0,0,0,0,0,0,0,0,0,0,0,0,0,0,0,0,0,0,0,0,0,0,0,0,0,0,0]
["   FTE Count",{"$f":"SUM(C42:SH42)","v":0},{"$f":"IF(C8=\"Salaried-Other\",C38,IF(C8=\"Salaried-No Reduction\",1,IF(C82=\"YES\",IF($B$31<$B$23,C31,C23),C40+C41)))","v":0},{"$f":"IF(D8=\"Salaried-Other\",D38,IF(D8=\"Salaried-No Reduction\",D38,IF(D82=\"YES\",IF($B$31<$B$23,D31,D23),D40+D41)))","v":0},0,0,0,0,0,0,0,0,0,0,0,0,0,0,0,0,0,0,0,0,0,0,0,0,0,0,0,0,0,0,0,0,0,0,0,0,0,0,0,0,0,0,0,0,0,0,0,0,0,0,0,0,0,0,0,0,0,0,0,0,0,0,0,{"$f":"IF(BP8=\"Salaried-Other\",BP38,IF(BP8=\"Salaried-No Reduction\",BP38,IF(BP82=\"YES\",IF($B$31<$B$23,BP31,BP23),BP40+BP41)))","v":0},0,0,0,0,0,0,0,0,0,0,0,0,0,0,0,0,0,0,0,0,0,0,0,0,0,0,0,0,0,0,0,0,0,0,0,0,0,0,0,0,0,0,0,0,0,0,0,0,0,0,0,0,0,0,0,0,0,0,0,0,0,0,0,{"$f":"IF(EB8=\"Salaried-Other\",EB38,IF(EB8=\"Salaried-No Reduction\",EB38,IF(EB82=\"YES\",IF($B$31<$B$23,EB31,EB23),EB40+EB41)))","v":0},0,0,0,0,0,0,0,0,0,0,0,0,0,0,0,0,0,0,0,0,0,0,0,0,0,0,0,0,0,0,0,0,0,0,0,0,0,0,0,0,0,0,0,0,0,0,0,0,0,0,0,0,0,0,0,0,0,0,0,0,0,0,0,{"$f":"IF(GN8=\"Salaried-Other\",GN38,IF(GN8=\"Salaried-No Reduction\",GN38,IF(GN82=\"YES\",IF($B$31<$B$23,GN31,GN23),GN40+GN41)))","v":0},0,0,0,0,0,0,0,0,0,0,0,0,0,0,0,0,0,0,0,0,0,0,0,0,0,0,0,0,0,0,0,0,0,0,0,0,0,0,0,0,0,0,0,0,0,0,0,0,0,0,0,0,0,0,0,0,0,0,0,0,0,0,0,{"$f":"IF(IZ8=\"Salaried-Other\",IZ38,IF(IZ8=\"Salaried-No Reduction\",IZ38,IF(IZ82=\"YES\",IF($B$31<$B$23,IZ31,IZ23),IZ40+IZ41)))","v":0},0,0,0,0,0,0,0,0,0,0,0,0,0,0,0,0,0,0,0,0,0,0,0,0,0,0,0,0,0,0,0,0,0,0,0,0,0,0,0,0,0,0,0,0,0,0,0,0,0,0,0,0,0,0,0,0,0,0,0,0,0,0,0,{"$f":"IF(LL8=\"Salaried-Other\",LL38,IF(LL8=\"Salaried-No Reduction\",LL38,IF(LL82=\"YES\",IF($B$31<$B$23,LL31,LL23),LL40+LL41)))","v":0},0,0,0,0,0,0,0,0,0,0,0,0,0,0,0,0,0,0,0,0,0,0,0,0,0,0,0,0,0,0,0,0,0,0,0,0,0,0,0,0,0,0,0,0,0,0,0,0,0,0,0,0,0,0,0,0,0,0,0,0,0,0,0,{"$f":"IF(NX8=\"Salaried-Other\",NX38,IF(NX8=\"Salaried-No Reduction\",NX38,IF(NX82=\"YES\",IF($B$31<$B$23,NX31,NX23),NX40+NX41)))","v":0},0,0,0,0,0,0,0,0,0,0,0,0,0,0,0,0,0,0,0,0,0,0,0,0,0,0,0,0,0,0,0,0,0,0,0,0,0,0,0,0,0,0,0,0,0,0,0,0,0,0,0,0,0,0,0,0,0,0,0,0,0,0,0,{"$f":"IF(QJ8=\"Salaried-Other\",QJ38,IF(QJ8=\"Salaried-No Reduction\",QJ38,IF(QJ82=\"YES\",IF($B$31<$B$23,QJ31,QJ23),QJ40+QJ41)))","v":0},0,0,0,0,0,0,0,0,0,0,0,0,0,0,0,0,0,0,0,0,0,0,0,0,0,0,0,0,0,0,0,0,0,0,0,0,0,0,0,0,0,0,0,0,0,0,0,0,0,0]
[]
[null,null,{"$f":"IF($B$23<$B$31,C23,C31)","v":0},{"$f":"IF($B$23<$B$31,D23,D31)","v":0},0,0,0,0,0,0,0,0,0,0,0,0,0,0,0,0,0,0,0,0,0,0,0,0,0,0,0,0,0,0,0,0,0,0,0,0,0,0,0,0,0,0,0,0,0,0,0,0,0,0,0,0,0,0,0,0,0,0,0,0,0,0,0,{"$f":"IF($B$23<$B$31,BP23,BP31)","v":0},0,0,0,0,0,0,0,0,0,0,0,0,0,0,0,0,0,0,0,0,0,0,0,0,0,0,0,0,0,0,0,0,0,0,0,0,0,0,0,0,0,0,0,0,0,0,0,0,0,0,0,0,0,0,0,0,0,0,0,0,0,0,0,{"$f":"IF($B$23<$B$31,EB23,EB31)","v":0},0,0,0,0,0,0,0,0,0,0,0,0,0,0,0,0,0,0,0,0,0,0,0,0,0,0,0,0,0,0,0,0,0,0,0,0,0,0,0,0,0,0,0,0,0,0,0,0,0,0,0,0,0,0,0,0,0,0,0,0,0,0,0,{"$f":"IF($B$23<$B$31,GN23,GN31)","v":0},0,0,0,0,0,0,0,0,0,0,0,0,0,0,0,0,0,0,0,0,0,0,0,0,0,0,0,0,0,0,0,0,0,0,0,0,0,0,0,0,0,0,0,0,0,0,0,0,0,0,0,0,0,0,0,0,0,0,0,0,0,0,0,{"$f":"IF($B$23<$B$31,IZ23,IZ31)","v":0},0,0,0,0,0,0,0,0,0,0,0,0,0,0,0,0,0,0,0,0,0,0,0,0,0,0,0,0,0,0,0,0,0,0,0,0,0,0,0,0,0,0,0,0,0,0,0,0,0,0,0,0,0,0,0,0,0,0,0,0,0,0,0,{"$f":"IF($B$23<$B$31,LL23,LL31)","v":0},0,0,0,0,0,0,0,0,0,0,0,0,0,0,0,0,0,0,0,0,0,0,0,0,0,0,0,0,0,0,0,0,0,0,0,0,0,0,0,0,0,0,0,0,0,0,0,0,0,0,0,0,0,0,0,0,0,0,0,0,0,0,0,{"$f":"IF($B$23<$B$31,NX23,NX31)","v":0},0,0,0,0,0,0,0,0,0,0,0,0,0,0,0,0,0,0,0,0,0,0,0,0,0,0,0,0,0,0,0,0,0,0,0,0,0,0,0,0,0,0,0,0,0,0,0,0,0,0,0,0,0,0,0,0,0,0,0,0,0,0,0,{"$f":"IF($B$23<$B$31,QJ23,QJ31)","v":0},0,0,0,0,0,0,0,0,0,0,0,0,0,0,0,0,0,0,0,0,0,0,0,0,0,0,0,0,0,0,0,0,0,0,0,0,0,0,0,0,0,0,0,0,0,0,0,0,0,0]
[null,null,{"$f":"C42-C44","v":0},{"$f":"D42-D44","v":0},0,0,0,0,0,0,0,0,0,0,0,0,0,0,0,0,0,0,0,0,0,0,0,0,0,0,0,0,0,0,0,0,0,0,0,0,0,0,0,0,0,0,0,0,0,0,0,0,0,0,0,0,0,0,0,0,0,0,0,0,0,0,0,{"$f":"BP42-BP44","v":0},0,0,0,0,0,0,0,0,0,0,0,0,0,0,0,0,0,0,0,0,0,0,0,0,0,0,0,0,0,0,0,0,0,0,0,0,0,0,0,0,0,0,0,0,0,0,0,0,0,0,0,0,0,0,0,0,0,0,0,0,0,0,0,{"$f":"EB42-EB44","v":0},0,0,0,0,0,0,0,0,0,0,0,0,0,0,0,0,0,0,0,0,0,0,0,0,0,0,0,0,0,0,0,0,0,0,0,0,0,0,0,0,0,0,0,0,0,0,0,0,0,0,0,0,0,0,0,0,0,0,0,0,0,0,0,{"$f":"GN42-GN44","v":0},0,0,0,0,0,0,0,0,0,0,0,0,0,0,0,0,0,0,0,0,0,0,0,0,0,0,0,0,0,0,0,0,0,0,0,0,0,0,0,0,0,0,0,0,0,0,0,0,0,0,0,0,0,0,0,0,0,0,0,0,0,0,0,{"$f":"IZ42-IZ44","v":0},0,0,0,0,0,0,0,0,0,0,0,0,0,0,0,0,0,0,0,0,0,0,0,0,0,0,0,0,0,0,0,0,0,0,0,0,0,0,0,0,0,0,0,0,0,0,0,0,0,0,0,0,0,0,0,0,0,0,0,0,0,0,0,{"$f":"LL42-LL44","v":0},0,0,0,0,0,0,0,0,0,0,0,0,0,0,0,0,0,0,0,0,0,0,0,0,0,0,0,0,0,0,0,0,0,0,0,0,0,0,0,0,0,0,0,0,0,0,0,0,0,0,0,0,0,0,0,0,0,0,0,0,0,0,0,{"$f":"NX42-NX44","v":0},0,0,0,0,0,0,0,0,0,0,0,0,0,0,0,0,0,0,0,0,0,0,0,0,0,0,0,0,0,0,0,0,0,0,0,0,0,0,0,0,0,0,0,0,0,0,0,0,0,0,0,0,0,0,0,0,0,0,0,0,0,0,0,{"$f":"QJ42-QJ44","v":0},0,0,0,0,0,0,0,0,0,0,0,0,0,0,0,0,0,0,0,0,0,0,0,0,0,0,0,0,0,0,0,0,0,0,0,0,0,0,0,0,0,0,0,0,0,0,0,0,0,0]
[null,null,{"$f":"IF(C45<0,\"FTER\",\"\")","v":""},{"$f":"IF(D45<0,\"FTER\",\"\")","v":""},"","","","","","","","","","","","","","","","","","","","","","","","","","","","","","","","","","","","","","","","","","","","","","","","","","","","","","","","","","","","","","","",{"$f":"IF(BP45<0,\"FTER\",\"\")","v":""},"","","","","","","","","","","","","","","","","","","","","","","","","","","","","","","","","","","","","","","","","","","","","","","","","","","","","","","","","","","","","","","",{"$f":"IF(EB45<0,\"FTER\",\"\")","v":""},"","","","","","","","","","","","","","","","","","","","","","","","","","","","","","","","","","","","","","","","","","","","","","","","","","","","","","","","","","","","","","","",{"$f":"IF(GN45<0,\"FTER\",\"\")","v":""},"","","","","","","","","","","","","","","","","","","","","","","","","","","","","","","","","","","","","","","","","","","","","","","","","","","","","","","","","","","","","","","",{"$f":"IF(IZ45<0,\"FTER\",\"\")","v":""},"","","","","","","","","","","","","","","","","","","","","","","","","","","","","","","","","","","","","","","","","","","","","","","","","","","","","","","","","","","","","","","",{"$f":"IF(LL45<0,\"FTER\",\"\")","v":""},"","","","","","","","","","","","","","","","","","","","","","","","","","","","","","","","","","","","","","","","","","","","","","","","","","","","","","","","","","","","","","","",{"$f":"IF(NX45<0,\"FTER\",\"\")","v":""},"","","","","","","","","","","","","","","","","","","","","","","","","","","","","","","","","","","","","","","","","","","","","","","","","","","","","","","","","","","","","","","",{"$f":"IF(QJ45<0,\"FTER\",\"\")","v":""},"","","","","","","","","","","","","","","","","","","","","","","","","","","","","","","","","","","","","","","","","","","","","","","","","",""]
["FTE REDUCTION CALCULATION - SUBTOTAL",{"$f":"IF(B33-B42>0,B33-B42,0)","v":0}]
[]
["SAFE HARBOR CALCULATION"]
["   Hours - February 15, 2020 to April 26, 2020",null,{"$f":"'6 - Input sheet - Employee data'!C41","v":0},{"$f":"'6 - Input sheet - Employee data'!D41","v":0},{"$f":"'6 - Input sheet - Employee data'!E41","v":0},{"$f":"'6 - Input sheet - Employee data'!F41","v":0},{"$f":"'6 - Input sheet - Employee data'!G41","v":0},{"$f":"'6 - Input sheet - Employee data'!H41","v":0},{"$f":"'6 - Input sheet - Employee data'!I41","v":0},{"$f":"'6 - Input sheet - Employee data'!J41","v":0},{"$f":"'6 - Input sheet - Employee data'!K41","v":0},{"$f":"'6 - Input sheet - Employee data'!L41","v":0},{"$f":"'6 - Input sheet - Employee data'!M41","v":0},{"$f":"'6 - Input sheet - Employee data'!N41","v":0},{"$f":"'6 - Input sheet - Employee data'!O41","v":0},{"$f":"'6 - Input sheet - Employee data'!P41","v":0},{"$f":"'6 - Input sheet - Employee data'!Q41","v":0},{"$f":"'6 - Input sheet - Employee data'!R41","v":0},{"$f":"'6 - Input sheet - Employee data'!S41","v":0},{"$f":"'6 - Input sheet - Employee data'!T41","v":0},{"$f":"'6 - Input sheet - Employee data'!U41","v":0},{"$f":"'6 - Input sheet - Employee data'!V41","v":0},{"$f":"'6 - Input sheet - Employee data'!W41","v":0},{"$f":"'6 - Input sheet - Employee data'!X41","v":0},{"$f":"'6 - Input sheet - Employee data'!Y41","v":0},{"$f":"'6 - Input sheet - Employee data'!Z41","v":0},{"$f":"'6 - Input sheet - Employee data'!AA41","v":0},{"$f":"'6 - Input sheet - Employee data'!AB41","v":0},{"$f":"'6 - Input sheet - Employee data'!AC41","v":0},{"$f":"'6 - Input sheet - Employee data'!AD41","v":0},{"$f":"'6 - Input sheet - Employee data'!AE41","v":0},{"$f":"'6 - Input sheet - Employee data'!AF41","v":0},{"$f":"'6 - Input sheet - Employee data'!AG41","v":0},{"$f":"'6 - Input sheet - Employee data'!AH41","v":0},{"$f":"'6 - Input sheet - Employee data'!AI41","v":0},{"$f":"'6 - Input sheet - Employee data'!AJ41","v":0},{"$f":"'6 - Input sheet - Employee data'!AK41","v":0},{"$f":"'6 - Input sheet - Employee data'!AL41","v":0},{"$f":"'6 - Input sheet - Employee data'!AM41","v":0},{"$f":"'6 - Input sheet - Employee data'!AN41","v":0},{"$f":"'6 - Input sheet - Employee data'!AO41","v":0},{"$f":"'6 - Input sheet - Employee data'!AP41","v":0},{"$f":"'6 - Input sheet - Employee data'!AQ41","v":0},{"$f":"'6 - Input sheet - Employee data'!AR41","v":0},{"$f":"'6 - Input sheet - Employee data'!AS41","v":0},{"$f":"'6 - Input sheet - Employee data'!AT41","v":0},{"$f":"'6 - Input sheet - Employee data'!AU41","v":0},{"$f":"'6 - Input sheet - Employee data'!AV41","v":0},{"$f":"'6 - Input sheet - Employee data'!AW41","v":0},{"$f":"'6 - Input sheet - Employee data'!AX41","v":0},{"$f":"'6 - Input sheet - Employee data'!AY41","v":0},{"$f":"'6 - Input sheet - Employee data'!AZ41","v":0},{"$f":"'6 - Input sheet - Employee data'!BA41","v":0},{"$f":"'6 - Input sheet - Employee data'!BB41","v":0},{"$f":"'6 - Input sheet - Employee data'!BC41","v":0},{"$f":"'6 - Input sheet - Employee data'!BD41","v":0},{"$f":"'6 - Input sheet - Employee data'!BE41","v":0},{"$f":"'6 - Input sheet - Employee data'!BF41","v":0},{"$f":"'6 - Input sheet - Employee data'!BG41","v":0},{"$f":"'6 - Input sheet - Employee data'!BH41","v":0},{"$f":"'6 - Input sheet - Employee data'!BI41","v":0},{"$f":"'6 - Input sheet - Employee data'!BJ41","v":0},{"$f":"'6 - Input sheet - Employee data'!BK41","v":0},{"$f":"'6 - Input sheet - Employee data'!BL41","v":0},{"$f":"'6 - Input sheet - Employee data'!BM41","v":0},{"$f":"'6 - Input sheet - Employee data'!BN41","v":0},{"$f":"'6 - Input sheet - Employee data'!BO41","v":0},{"$f":"'6 - Input sheet - Employee data'!BP41","v":0},{"$f":"'6 - Input sheet - Employee data'!BQ41","v":0},{"$f":"'6 - Input sheet - Employee data'!BR41","v":0},{"$f":"'6 - Input sheet - Employee data'!BS41","v":0},{"$f":"'6 - Input sheet - Employee data'!BT41","v":0},{"$f":"'6 - Input sheet - Employee data'!BU41","v":0},{"$f":"'6 - Input sheet - Employee data'!BV41","v":0},{"$f":"'6 - Input sheet - Employee data'!BW41","v":0},{"$f":"'6 - Input sheet - Employee data'!BX41","v":0},{"$f":"'6 - Input sheet - Employee data'!BY41","v":0},{"$f":"'6 - Input sheet - Employee data'!BZ41","v":0},{"$f":"'6 - Input sheet - Employee data'!CA41","v":0},{"$f":"'6 - Input sheet - Employee data'!CB41","v":0},{"$f":"'6 - Input sheet - Employee data'!CC41","v":0},{"$f":"'6 - Input sheet - Employee data'!CD41","v":0},{"$f":"'6 - Input sheet - Employee data'!CE41","v":0},{"$f":"'6 - Input sheet - Employee data'!CF41","v":0},{"$f":"'6 - Input sheet - Employee data'!CG41","v":0},{"$f":"'6 - Input sheet - Employee data'!CH41","v":0},{"$f":"'6 - Input sheet - Employee data'!CI41","v":0},{"$f":"'6 - Input sheet - Employee data'!CJ41","v":0},{"$f":"'6 - Input sheet - Employee data'!CK41","v":0},{"$f":"'6 - Input sheet - Employee data'!CL41","v":0},{"$f":"'6 - Input sheet - Employee data'!CM41","v":0},{"$f":"'6 - Input sheet - Employee data'!CN41","v":0},{"$f":"'6 - Input sheet - Employee data'!CO41","v":0},{"$f":"'6 - Input sheet - Employee data'!CP41","v":0},{"$f":"'6 - Input sheet - Employee data'!CQ41","v":0},{"$f":"'6 - Input sheet - Employee data'!CR41","v":0},{"$f":"'6 - Input sheet - Employee data'!CS41","v":0},{"$f":"'6 - Input sheet - Employee data'!CT41","v":0},{"$f":"'6 - Input sheet - Employee data'!CU41","v":0},{"$f":"'6 - Input sheet - Employee data'!CV41","v":0},{"$f":"'6 - Input sheet - Employee data'!CW41","v":0},{"$f":"'6 - Input sheet - Employee data'!CX41","v":0},{"$f":"'6 - Input sheet - Employee data'!CY41","v":0},{"$f":"'6 - Input sheet - Employee data'!CZ41","v":0},{"$f":"'6 - Input sheet - Employee data'!DA41","v":0},{"$f":"'6 - Input sheet - Employee data'!DB41","v":0},{"$f":"'6 - Input sheet - Employee data'!DC41","v":0},{"$f":"'6 - Input sheet - Employee data'!DD41","v":0},{"$f":"'6 - Input sheet - Employee data'!DE41","v":0},{"$f":"'6 - Input sheet - Employee data'!DF41","v":0},{"$f":"'6 - Input sheet - Employee data'!DG41","v":0},{"$f":"'6 - Input sheet - Employee data'!DH41","v":0},{"$f":"'6 - Input sheet - Employee data'!DI41","v":0},{"$f":"'6 - Input sheet - Employee data'!DJ41","v":0},{"$f":"'6 - Input sheet - Employee data'!DK41","v":0},{"$f":"'6 - Input sheet - Employee data'!DL41","v":0},{"$f":"'6 - Input sheet - Employee data'!DM41","v":0},{"$f":"'6 - Input sheet - Employee data'!DN41","v":0},{"$f":"'6 - Input sheet - Employee data'!DO41","v":0},{"$f":"'6 - Input sheet - Employee data'!DP41","v":0},{"$f":"'6 - Input sheet - Employee data'!DQ41","v":0},{"$f":"'6 - Input sheet - Employee data'!DR41","v":0},{"$f":"'6 - Input sheet - Employee data'!DS41","v":0},{"$f":"'6 - Input sheet - Employee data'!DT41","v":0},{"$f":"'6 - Input sheet - Employee data'!DU41","v":0},{"$f":"'6 - Input sheet - Employee data'!DV41","v":0},{"$f":"'6 - Input sheet - Employee data'!DW41","v":0},{"$f":"'6 - Input sheet - Employee data'!DX41","v":0},{"$f":"'6 - Input sheet - Employee data'!DY41","v":0},{"$f":"'6 - Input sheet - Employee data'!DZ41","v":0},{"$f":"'6 - Input sheet - Employee data'!EA41","v":0},{"$f":"'6 - Input sheet - Employee data'!EB41","v":0},{"$f":"'6 - Input sheet - Employee data'!EC41","v":0},{"$f":"'6 - Input sheet - Employee data'!ED41","v":0},{"$f":"'6 - Input sheet - Employee data'!EE41","v":0},{"$f":"'6 - Input sheet - Employee data'!EF41","v":0},{"$f":"'6 - Input sheet - Employee data'!EG41","v":0},{"$f":"'6 - Input sheet - Employee data'!EH41","v":0},{"$f":"'6 - Input sheet - Employee data'!EI41","v":0},{"$f":"'6 - Input sheet - Employee data'!EJ41","v":0},{"$f":"'6 - Input sheet - Employee data'!EK41","v":0},{"$f":"'6 - Input sheet - Employee data'!EL41","v":0},{"$f":"'6 - Input sheet - Employee data'!EM41","v":0},{"$f":"'6 - Input sheet - Employee data'!EN41","v":0},{"$f":"'6 - Input sheet - Employee data'!EO41","v":0},{"$f":"'6 - Input sheet - Employee data'!EP41","v":0},{"$f":"'6 - Input sheet - Employee data'!EQ41","v":0},{"$f":"'6 - Input sheet - Employee data'!ER41","v":0},{"$f":"'6 - Input sheet - Employee data'!ES41","v":0},{"$f":"'6 - Input sheet - Employee data'!ET41","v":0},{"$f":"'6 - Input sheet - Employee data'!EU41","v":0},{"$f":"'6 - Input sheet - Employee data'!EV41","v":0},{"$f":"'6 - Input sheet - Employee data'!EW41","v":0},{"$f":"'6 - Input sheet - Employee data'!EX41","v":0},{"$f":"'6 - Input sheet - Employee data'!EY41","v":0},{"$f":"'6 - Input sheet - Employee data'!EZ41","v":0},{"$f":"'6 - Input sheet - Employee data'!FA41","v":0},{"$f":"'6 - Input sheet - Employee data'!FB41","v":0},{"$f":"'6 - Input sheet - Employee data'!FC41","v":0},{"$f":"'6 - Input sheet - Employee data'!FD41","v":0},{"$f":"'6 - Input sheet - Employee data'!FE41","v":0},{"$f":"'6 - Input sheet - Employee data'!FF41","v":0},{"$f":"'6 - Input sheet - Employee data'!FG41","v":0},{"$f":"'6 - Input sheet - Employee data'!FH41","v":0},{"$f":"'6 - Input sheet - Employee data'!FI41","v":0},{"$f":"'6 - Input sheet - Employee data'!FJ41","v":0},{"$f":"'6 - Input sheet - Employee data'!FK41","v":0},{"$f":"'6 - Input sheet - Employee data'!FL41","v":0},{"$f":"'6 - Input sheet - Employee data'!FM41","v":0},{"$f":"'6 - Input sheet - Employee data'!FN41","v":0},{"$f":"'6 - Input sheet - Employee data'!FO41","v":0},{"$f":"'6 - Input sheet - Employee data'!FP41","v":0},{"$f":"'6 - Input sheet - Employee data'!FQ41","v":0},{"$f":"'6 - Input sheet - Employee data'!FR41","v":0},{"$f":"'6 - Input sheet - Employee data'!FS41","v":0},{"$f":"'6 - Input sheet - Employee data'!FT41","v":0},{"$f":"'6 - Input sheet - Employee data'!FU41","v":0},{"$f":"'6 - Input sheet - Employee data'!FV41","v":0},{"$f":"'6 - Input sheet - Employee data'!FW41","v":0},{"$f":"'6 - Input sheet - Employee data'!FX41","v":0},{"$f":"'6 - Input sheet - Employee data'!FY41","v":0},{"$f":"'6 - Input sheet - Employee data'!FZ41","v":0},{"$f":"'6 - Input sheet - Employee data'!GA41","v":0},{"$f":"'6 - Input sheet - Employee data'!GB41","v":0},{"$f":"'6 - Input sheet - Employee data'!GC41","v":0},{"$f":"'6 - Input sheet - Employee data'!GD41","v":0},{"$f":"'6 - Input sheet - Employee data'!GE41","v":0},{"$f":"'6 - Input sheet - Employee data'!GF41","v":0},{"$f":"'6 - Input sheet - Employee data'!GG41","v":0},{"$f":"'6 - Input sheet - Employee data'!GH41","v":0},{"$f":"'6 - Input sheet - Employee data'!GI41","v":0},{"$f":"'6 - Input sheet - Employee data'!GJ41","v":0},{"$f":"'6 - Input sheet - Employee data'!GK41","v":0},{"$f":"'6 - Input sheet - Employee data'!GL41","v":0},{"$f":"'6 - Input sheet - Employee data'!GM41","v":0},{"$f":"'6 - Input sheet - Employee data'!GN41","v":0},{"$f":"'6 - Input sheet - Employee data'!GO41","v":0},{"$f":"'6 - Input sheet - Employee data'!GP41","v":0},{"$f":"'6 - Input sheet - Employee data'!GQ41","v":0},{"$f":"'6 - Input sheet - Employee data'!GR41","v":0},{"$f":"'6 - Input sheet - Employee data'!GS41","v":0},{"$f":"'6 - Input sheet - Employee data'!GT41","v":0},{"$f":"'6 - Input sheet - Employee data'!GU41","v":0},{"$f":"'6 - Input sheet - Employee data'!GV41","v":0},{"$f":"'6 - Input sheet - Employee data'!GW41","v":0},{"$f":"'6 - Input sheet - Employee data'!GX41","v":0},{"$f":"'6 - Input sheet - Employee data'!GY41","v":0},{"$f":"'6 - Input sheet - Employee data'!GZ41","v":0},{"$f":"'6 - Input sheet - Employee data'!HA41","v":0},{"$f":"'6 - Input sheet - Employee data'!HB41","v":0},{"$f":"'6 - Input sheet - Employee data'!HC41","v":0},{"$f":"'6 - Input sheet - Employee data'!HD41","v":0},{"$f":"'6 - Input sheet - Employee data'!HE41","v":0},{"$f":"'6 - Input sheet - Employee data'!HF41","v":0},{"$f":"'6 - Input sheet - Employee data'!HG41","v":0},{"$f":"'6 - Input sheet - Employee data'!HH41","v":0},{"$f":"'6 - Input sheet - Employee data'!HI41","v":0},{"$f":"'6 - Input sheet - Employee data'!HJ41","v":0},{"$f":"'6 - Input sheet - Employee data'!HK41","v":0},{"$f":"'6 - Input sheet - Employee data'!HL41","v":0},{"$f":"'6 - Input sheet - Employee data'!HM41","v":0},{"$f":"'6 - Input sheet - Employee data'!HN41","v":0},{"$f":"'6 - Input sheet - Employee data'!HO41","v":0},{"$f":"'6 - Input sheet - Employee data'!HP41","v":0},{"$f":"'6 - Input sheet - Employee data'!HQ41","v":0},{"$f":"'6 - Input sheet - Employee data'!HR41","v":0},{"$f":"'6 - Input sheet - Employee data'!HS41","v":0},{"$f":"'6 - Input sheet - Employee data'!HT41","v":0},{"$f":"'6 - Input sheet - Employee data'!HU41","v":0},{"$f":"'6 - Input sheet - Employee data'!HV41","v":0},{"$f":"'6 - Input sheet - Employee data'!HW41","v":0},{"$f":"'6 - Input sheet - Employee data'!HX41","v":0},{"$f":"'6 - Input sheet - Employee data'!HY41","v":0},{"$f":"'6 - Input sheet - Employee data'!HZ41","v":0},{"$f":"'6 - Input sheet - Employee data'!IA41","v":0},{"$f":"'6 - Input sheet - Employee data'!IB41","v":0},{"$f":"'6 - Input sheet - Employee data'!IC41","v":0},{"$f":"'6 - Input sheet - Employee data'!ID41","v":0},{"$f":"'6 - Input sheet - Employee data'!IE41","v":0},{"$f":"'6 - Input sheet - Employee data'!IF41","v":0},{"$f":"'6 - Input sheet - Employee data'!IG41","v":0},{"$f":"'6 - Input sheet - Employee data'!IH41","v":0},{"$f":"'6 - Input sheet - Employee data'!II41","v":0},{"$f":"'6 - Input sheet - Employee data'!IJ41","v":0},{"$f":"'6 - Input sheet - Employee data'!IK41","v":0},{"$f":"'6 - Input sheet - Employee data'!IL41","v":0},{"$f":"'6 - Input sheet - Employee data'!IM41","v":0},{"$f":"'6 - Input sheet - Employee data'!IN41","v":0},{"$f":"'6 - Input sheet - Employee data'!IO41","v":0},{"$f":"'6 - Input sheet - Employee data'!IP41","v":0},{"$f":"'6 - Input sheet - Employee data'!IQ41","v":0},{"$f":"'6 - Input sheet - Employee data'!IR41","v":0},{"$f":"'6 - Input sheet - Employee data'!IS41","v":0},{"$f":"'6 - Input sheet - Employee data'!IT41","v":0},{"$f":"'6 - Input sheet - Employee data'!IU41","v":0},{"$f":"'6 - Input sheet - Employee data'!IV41","v":0},{"$f":"'6 - Input sheet - Employee data'!IW41","v":0},{"$f":"'6 - Input sheet - Employee data'!IX41","v":0},{"$f":"'6 - Input sheet - Employee data'!IY41","v":0},{"$f":"'6 - Input sheet - Employee data'!IZ41","v":0},{"$f":"'6 - Input sheet - Employee data'!JA41","v":0},{"$f":"'6 - Input sheet - Employee data'!JB41","v":0},{"$f":"'6 - Input sheet - Employee data'!JC41","v":0},{"$f":"'6 - Input sheet - Employee data'!JD41","v":0},{"$f":"'6 - Input sheet - Employee data'!JE41","v":0},{"$f":"'6 - Input sheet - Employee data'!JF41","v":0},{"$f":"'6 - Input sheet - Employee data'!JG41","v":0},{"$f":"'6 - Input sheet - Employee data'!JH41","v":0},{"$f":"'6 - Input sheet - Employee data'!JI41","v":0},{"$f":"'6 - Input sheet - Employee data'!JJ41","v":0},{"$f":"'6 - Input sheet - Employee data'!JK41","v":0},{"$f":"'6 - Input sheet - Employee data'!JL41","v":0},{"$f":"'6 - Input sheet - Employee data'!JM41","v":0},{"$f":"'6 - Input sheet - Employee data'!JN41","v":0},{"$f":"'6 - Input sheet - Employee data'!JO41","v":0},{"$f":"'6 - Input sheet - Employee data'!JP41","v":0},{"$f":"'6 - Input sheet - Employee data'!JQ41","v":0},{"$f":"'6 - Input sheet - Employee data'!JR41","v":0},{"$f":"'6 - Input sheet - Employee data'!JS41","v":0},{"$f":"'6 - Input sheet - Employee data'!JT41","v":0},{"$f":"'6 - Input sheet - Employee data'!JU41","v":0},{"$f":"'6 - Input sheet - Employee data'!JV41","v":0},{"$f":"'6 - Input sheet - Employee data'!JW41","v":0},{"$f":"'6 - Input sheet - Employee data'!JX41","v":0},{"$f":"'6 - Input sheet - Employee data'!JY41","v":0},{"$f":"'6 - Input sheet - Employee data'!JZ41","v":0},{"$f":"'6 - Input sheet - Employee data'!KA41","v":0},{"$f":"'6 - Input sheet - Employee data'!KB41","v":0},{"$f":"'6 - Input sheet - Employee data'!KC41","v":0},{"$f":"'6 - Input sheet - Employee data'!KD41","v":0},{"$f":"'6 - Input sheet - Employee data'!KE41","v":0},{"$f":"'6 - Input sheet - Employee data'!KF41","v":0},{"$f":"'6 - Input sheet - Employee data'!KG41","v":0},{"$f":"'6 - Input sheet - Employee data'!KH41","v":0},{"$f":"'6 - Input sheet - Employee data'!KI41","v":0},{"$f":"'6 - Input sheet - Employee data'!KJ41","v":0},{"$f":"'6 - Input sheet - Employee data'!KK41","v":0},{"$f":"'6 - Input sheet - Employee data'!KL41","v":0},{"$f":"'6 - Input sheet - Employee data'!KM41","v":0},{"$f":"'6 - Input sheet - Employee data'!KN41","v":0},{"$f":"'6 - Input sheet - Employee data'!KO41","v":0},{"$f":"'6 - Input sheet - Employee data'!KP41","v":0},{"$f":"'6 - Input sheet - Employee data'!KQ41","v":0},{"$f":"'6 - Input sheet - Employee data'!KR41","v":0},{"$f":"'6 - Input sheet - Employee data'!KS41","v":0},{"$f":"'6 - Input sheet - Employee data'!KT41","v":0},{"$f":"'6 - Input sheet - Employee data'!KU41","v":0},{"$f":"'6 - Input sheet - Employee data'!KV41","v":0},{"$f":"'6 - Input sheet - Employee data'!KW41","v":0},{"$f":"'6 - Input sheet - Employee data'!KX41","v":0},{"$f":"'6 - Input sheet - Employee data'!KY41","v":0},{"$f":"'6 - Input sheet - Employee data'!KZ41","v":0},{"$f":"'6 - Input sheet - Employee data'!LA41","v":0},{"$f":"'6 - Input sheet - Employee data'!LB41","v":0},{"$f":"'6 - Input sheet - Employee data'!LC41","v":0},{"$f":"'6 - Input sheet - Employee data'!LD41","v":0},{"$f":"'6 - Input sheet - Employee data'!LE41","v":0},{"$f":"'6 - Input sheet - Employee data'!LF41","v":0},{"$f":"'6 - Input sheet - Employee data'!LG41","v":0},{"$f":"'6 - Input sheet - Employee data'!LH41","v":0},{"$f":"'6 - Input sheet - Employee data'!LI41","v":0},{"$f":"'6 - Input sheet - Employee data'!LJ41","v":0},{"$f":"'6 - Input sheet - Employee data'!LK41","v":0},{"$f":"'6 - Input sheet - Employee data'!LL41","v":0},{"$f":"'6 - Input sheet - Employee data'!LM41","v":0},{"$f":"'6 - Input sheet - Employee data'!LN41","v":0},{"$f":"'6 - Input sheet - Employee data'!LO41","v":0},{"$f":"'6 - Input sheet - Employee data'!LP41","v":0},{"$f":"'6 - Input sheet - Employee data'!LQ41","v":0},{"$f":"'6 - Input sheet - Employee data'!LR41","v":0},{"$f":"'6 - Input sheet - Employee data'!LS41","v":0},{"$f":"'6 - Input sheet - Employee data'!LT41","v":0},{"$f":"'6 - Input sheet - Employee data'!LU41","v":0},{"$f":"'6 - Input sheet - Employee data'!LV41","v":0},{"$f":"'6 - Input sheet - Employee data'!LW41","v":0},{"$f":"'6 - Input sheet - Employee data'!LX41","v":0},{"$f":"'6 - Input sheet - Employee data'!LY41","v":0},{"$f":"'6 - Input sheet - Employee data'!LZ41","v":0},{"$f":"'6 - Input sheet - Employee data'!MA41","v":0},{"$f":"'6 - Input sheet - Employee data'!MB41","v":0},{"$f":"'6 - Input sheet - Employee data'!MC41","v":0},{"$f":"'6 - Input sheet - Employee data'!MD41","v":0},{"$f":"'6 - Input sheet - Employee data'!ME41","v":0},{"$f":"'6 - Input sheet - Employee data'!MF41","v":0},{"$f":"'6 - Input sheet - Employee data'!MG41","v":0},{"$f":"'6 - Input sheet - Employee data'!MH41","v":0},{"$f":"'6 - Input sheet - Employee data'!MI41","v":0},{"$f":"'6 - Input sheet - Employee data'!MJ41","v":0},{"$f":"'6 - Input sheet - Employee data'!MK41","v":0},{"$f":"'6 - Input sheet - Employee data'!ML41","v":0},{"$f":"'6 - Input sheet - Employee data'!MM41","v":0},{"$f":"'6 - Input sheet - Employee data'!MN41","v":0},{"$f":"'6 - Input sheet - Employee data'!MO41","v":0},{"$f":"'6 - Input sheet - Employee data'!MP41","v":0},{"$f":"'6 - Input sheet - Employee data'!MQ41","v":0},{"$f":"'6 - Input sheet - Employee data'!MR41","v":0},{"$f":"'6 - Input sheet - Employee data'!MS41","v":0},{"$f":"'6 - Input sheet - Employee data'!MT41","v":0},{"$f":"'6 - Input sheet - Employee data'!MU41","v":0},{"$f":"'6 - Input sheet - Employee data'!MV41","v":0},{"$f":"'6 - Input sheet - Employee data'!MW41","v":0},{"$f":"'6 - Input sheet - Employee data'!MX41","v":0},{"$f":"'6 - Input sheet - Employee data'!MY41","v":0},{"$f":"'6 - Input sheet - Employee data'!MZ41","v":0},{"$f":"'6 - Input sheet - Employee data'!NA41","v":0},{"$f":"'6 - Input sheet - Employee data'!NB41","v":0},{"$f":"'6 - Input sheet - Employee data'!NC41","v":0},{"$f":"'6 - Input sheet - Employee data'!ND41","v":0},{"$f":"'6 - Input sheet - Employee data'!NE41","v":0},{"$f":"'6 - Input sheet - Employee data'!NF41","v":0},{"$f":"'6 - Input sheet - Employee data'!NG41","v":0},{"$f":"'6 - Input sheet - Employee data'!NH41","v":0},{"$f":"'6 - Input sheet - Employee data'!NI41","v":0},{"$f":"'6 - Input sheet - Employee data'!NJ41","v":0},{"$f":"'6 - Input sheet - Employee data'!NK41","v":0},{"$f":"'6 - Input sheet - Employee data'!NL41","v":0},{"$f":"'6 - Input sheet - Employee data'!NM41","v":0},{"$f":"'6 - Input sheet - Employee data'!NN41","v":0},{"$f":"'6 - Input sheet - Employee data'!NO41","v":0},{"$f":"'6 - Input sheet - Employee data'!NP41","v":0},{"$f":"'6 - Input sheet - Employee data'!NQ41","v":0},{"$f":"'6 - Input sheet - Employee data'!NR41","v":0},{"$f":"'6 - Input sheet - Employee data'!NS41","v":0},{"$f":"'6 - Input sheet - Employee data'!NT41","v":0},{"$f":"'6 - Input sheet - Employee data'!NU41","v":0},{"$f":"'6 - Input sheet - Employee data'!NV41","v":0},{"$f":"'6 - Input sheet - Employee data'!NW41","v":0},{"$f":"'6 - Input sheet - Employee data'!NX41","v":0},{"$f":"'6 - Input sheet - Employee data'!NY41","v":0},{"$f":"'6 - Input sheet - Employee data'!NZ41","v":0},{"$f":"'6 - Input sheet - Employee data'!OA41","v":0},{"$f":"'6 - Input sheet - Employee data'!OB41","v":0},{"$f":"'6 - Input sheet - Employee data'!OC41","v":0},{"$f":"'6 - Input sheet - Employee data'!OD41","v":0},{"$f":"'6 - Input sheet - Employee data'!OE41","v":0},{"$f":"'6 - Input sheet - Employee data'!OF41","v":0},{"$f":"'6 - Input sheet - Employee data'!OG41","v":0},{"$f":"'6 - Input sheet - Employee data'!OH41","v":0},{"$f":"'6 - Input sheet - Employee data'!OI41","v":0},{"$f":"'6 - Input sheet - Employee data'!OJ41","v":0},{"$f":"'6 - Input sheet - Employee data'!OK41","v":0},{"$f":"'6 - Input sheet - Employee data'!OL41","v":0},{"$f":"'6 - Input sheet - Employee data'!OM41","v":0},{"$f":"'6 - Input sheet - Employee data'!ON41","v":0},{"$f":"'6 - Input sheet - Employee data'!OO41","v":0},{"$f":"'6 - Input sheet - Employee data'!OP41","v":0},{"$f":"'6 - Input sheet - Employee data'!OQ41","v":0},{"$f":"'6 - Input sheet - Employee data'!OR41","v":0},{"$f":"'6 - Input sheet - Employee data'!OS41","v":0},{"$f":"'6 - Input sheet - Employee data'!OT41","v":0},{"$f":"'6 - Input sheet - Employee data'!OU41","v":0},{"$f":"'6 - Input sheet - Employee data'!OV41","v":0},{"$f":"'6 - Input sheet - Employee data'!OW41","v":0},{"$f":"'6 - Input sheet - Employee data'!OX41","v":0},{"$f":"'6 - Input sheet - Employee data'!OY41","v":0},{"$f":"'6 - Input sheet - Employee data'!OZ41","v":0},{"$f":"'6 - Input sheet - Employee data'!PA41","v":0},{"$f":"'6 - Input sheet - Employee data'!PB41","v":0},{"$f":"'6 - Input sheet - Employee data'!PC41","v":0},{"$f":"'6 - Input sheet - Employee data'!PD41","v":0},{"$f":"'6 - Input sheet - Employee data'!PE41","v":0},{"$f":"'6 - Input sheet - Employee data'!PF41","v":0},{"$f":"'6 - Input sheet - Employee data'!PG41","v":0},{"$f":"'6 - Input sheet - Employee data'!PH41","v":0},{"$f":"'6 - Input sheet - Employee data'!PI41","v":0},{"$f":"'6 - Input sheet - Employee data'!PJ41","v":0},{"$f":"'6 - Input sheet - Employee data'!PK41","v":0},{"$f":"'6 - Input sheet - Employee data'!PL41","v":0},{"$f":"'6 - Input sheet - Employee data'!PM41","v":0},{"$f":"'6 - Input sheet - Employee data'!PN41","v":0},{"$f":"'6 - Input sheet - Employee data'!PO41","v":0},{"$f":"'6 - Input sheet - Employee data'!PP41","v":0},{"$f":"'6 - Input sheet - Employee data'!PQ41","v":0},{"$f":"'6 - Input sheet - Employee data'!PR41","v":0},{"$f":"'6 - Input sheet - Employee data'!PS41","v":0},{"$f":"'6 - Input sheet - Employee data'!PT41","v":0},{"$f":"'6 - Input sheet - Employee data'!PU41","v":0},{"$f":"'6 - Input sheet - Employee data'!PV41","v":0},{"$f":"'6 - Input sheet - Employee data'!PW41","v":0},{"$f":"'6 - Input sheet - Employee data'!PX41","v":0},{"$f":"'6 - Input sheet - Employee data'!PY41","v":0},{"$f":"'6 - Input sheet - Employee data'!PZ41","v":0},{"$f":"'6 - Input sheet - Employee data'!QA41","v":0},{"$f":"'6 - Input sheet - Employee data'!QB41","v":0},{"$f":"'6 - Input sheet - Employee data'!QC41","v":0},{"$f":"'6 - Input sheet - Employee data'!QD41","v":0},{"$f":"'6 - Input sheet - Employee data'!QE41","v":0},{"$f":"'6 - Input sheet - Employee data'!QF41","v":0},{"$f":"'6 - Input sheet - Employee data'!QG41","v":0},{"$f":"'6 - Input sheet - Employee data'!QH41","v":0},{"$f":"'6 - Input sheet - Employee data'!QI41","v":0},{"$f":"'6 - Input sheet - Employee data'!QJ41","v":0},{"$f":"'6 - Input sheet - Employee data'!QK41","v":0},{"$f":"'6 - Input sheet - Employee data'!QL41","v":0},{"$f":"'6 - Input sheet - Employee data'!QM41","v":0},{"$f":"'6 - Input sheet - Employee data'!QN41","v":0},{"$f":"'6 - Input sheet - Employee data'!QO41","v":0},{"$f":"'6 - Input sheet - Employee data'!QP41","v":0},{"$f":"'6 - Input sheet - Employee data'!QQ41","v":0},{"$f":"'6 - Input sheet - Employee data'!QR41","v":0},{"$f":"'6 - Input sheet - Employee data'!QS41","v":0},{"$f":"'6 - Input sheet - Employee data'!QT41","v":0},{"$f":"'6 - Input sheet - Employee data'!QU41","v":0},{"$f":"'6 - Input sheet - Employee data'!QV41","v":0},{"$f":"'6 - Input sheet - Employee data'!QW41","v":0},{"$f":"'6 - Input sheet - Employee data'!QX41","v":0},{"$f":"'6 - Input sheet - Employee data'!QY41","v":0},{"$f":"'6 - Input sheet - Employee data'!QZ41","v":0},{"$f":"'6 - Input sheet - Employee data'!RA41","v":0},{"$f":"'6 - Input sheet - Employee data'!RB41","v":0},{"$f":"'6 - Input sheet - Employee data'!RC41","v":0},{"$f":"'6 - Input sheet - Employee data'!RD41","v":0},{"$f":"'6 - Input sheet - Employee data'!RE41","v":0},{"$f":"'6 - Input sheet - Employee data'!RF41","v":0},{"$f":"'6 - Input sheet - Employee data'!RG41","v":0},{"$f":"'6 - Input sheet - Employee data'!RH41","v":0},{"$f":"'6 - Input sheet - Employee data'!RI41","v":0},{"$f":"'6 - Input sheet - Employee data'!RJ41","v":0},{"$f":"'6 - Input sheet - Employee data'!RK41","v":0},{"$f":"'6 - Input sheet - Employee data'!RL41","v":0},{"$f":"'6 - Input sheet - Employee data'!RM41","v":0},{"$f":"'6 - Input sheet - Employee data'!RN41","v":0},{"$f":"'6 - Input sheet - Employee data'!RO41","v":0},{"$f":"'6 - Input sheet - Employee data'!RP41","v":0},{"$f":"'6 - Input sheet - Employee data'!RQ41","v":0},{"$f":"'6 - Input sheet - Employee data'!RR41","v":0},{"$f":"'6 - Input sheet - Employee data'!RS41","v":0},{"$f":"'6 - Input sheet - Employee data'!RT41","v":0},{"$f":"'6 - Input sheet - Employee data'!RU41","v":0},{"$f":"'6 - Input sheet - Employee data'!RV41","v":0},{"$f":"'6 - Input sheet - Employee data'!RW41","v":0},{"$f":"'6 - Input sheet - Employee data'!RX41","v":0},{"$f":"'6 - Input sheet - Employee data'!RY41","v":0},{"$f":"'6 - Input sheet - Employee data'!RZ41","v":0},{"$f":"'6 - Input sheet - Employee data'!SA41","v":0},{"$f":"'6 - Input sheet - Employee data'!SB41","v":0},{"$f":"'6 - Input sheet - Employee data'!SC41","v":0},{"$f":"'6 - Input sheet - Employee data'!SD41","v":0},{"$f":"'6 - Input sheet - Employee data'!SE41","v":0},{"$f":"'6 - Input sheet - Employee data'!SF41","v":0},{"$f":"'6 - Input sheet - Employee data'!SG41","v":0},{"$f":"'6 - Input sheet - Employee data'!SH41","v":0}]
["   Employed - February 15, 2020 to April 26, 2020",null,{"$f":"'6 - Input sheet - Employee data'!C42","v":"Yes"},{"$f":"'6 - Input sheet - Employee data'!D42","v":"Yes"},{"$f":"'6 - Input sheet - Employee data'!E42","v":"Yes"},{"$f":"'6 - Input sheet - Employee data'!F42","v":"Yes"},{"$f":"'6 - Input sheet - Employee data'!G42","v":"Yes"},{"$f":"'6 - Input sheet - Employee data'!H42","v":"Yes"},{"$f":"'6 - Input sheet - Employee data'!I42","v":"Yes"},{"$f":"'6 - Input sheet - Employee data'!J42","v":"Yes"},{"$f":"'6 - Input sheet - Employee data'!K42","v":"Yes"},{"$f":"'6 - Input sheet - Employee data'!L42","v":"Yes"},{"$f":"'6 - Input sheet - Employee data'!M42","v":"Yes"},{"$f":"'6 - Input sheet - Employee data'!N42","v":"Yes"},{"$f":"'6 - Input sheet - Employee data'!O42","v":"Yes"},{"$f":"'6 - Input sheet - Employee data'!P42","v":"Yes"},{"$f":"'6 - Input sheet - Employee data'!Q42","v":"Yes"},{"$f":"'6 - Input sheet - Employee data'!R42","v":"Yes"},{"$f":"'6 - Input sheet - Employee data'!S42","v":"Yes"},{"$f":"'6 - Input sheet - Employee data'!T42","v":"Yes"},{"$f":"'6 - Input sheet - Employee data'!U42","v":"Yes"},{"$f":"'6 - Input sheet - Employee data'!V42","v":"Yes"},{"$f":"'6 - Input sheet - Employee data'!W42","v":"Yes"},{"$f":"'6 - Input sheet - Employee data'!X42","v":"Yes"},{"$f":"'6 - Input sheet - Employee data'!Y42","v":"Yes"},{"$f":"'6 - Input sheet - Employee data'!Z42","v":"Yes"},{"$f":"'6 - Input sheet - Employee data'!AA42","v":"Yes"},{"$f":"'6 - Input sheet - Employee data'!AB42","v":"Yes"},{"$f":"'6 - Input sheet - Employee data'!AC42","v":"Yes"},{"$f":"'6 - Input sheet - Employee data'!AD42","v":"Yes"},{"$f":"'6 - Input sheet - Employee data'!AE42","v":"Yes"},{"$f":"'6 - Input sheet - Employee data'!AF42","v":"Yes"},{"$f":"'6 - Input sheet - Employee data'!AG42","v":"Yes"},{"$f":"'6 - Input sheet - Employee data'!AH42","v":"Yes"},{"$f":"'6 - Input sheet - Employee data'!AI42","v":"Yes"},{"$f":"'6 - Input sheet - Employee data'!AJ42","v":"Yes"},{"$f":"'6 - Input sheet - Employee data'!AK42","v":"Yes"},{"$f":"'6 - Input sheet - Employee data'!AL42","v":"Yes"},{"$f":"'6 - Input sheet - Employee data'!AM42","v":"Yes"},{"$f":"'6 - Input sheet - Employee data'!AN42","v":"Yes"},{"$f":"'6 - Input sheet - Employee data'!AO42","v":"Yes"},{"$f":"'6 - Input sheet - Employee data'!AP42","v":"Yes"},{"$f":"'6 - Input sheet - Employee data'!AQ42","v":"Yes"},{"$f":"'6 - Input sheet - Employee data'!AR42","v":"Yes"},{"$f":"'6 - Input sheet - Employee data'!AS42","v":"Yes"},{"$f":"'6 - Input sheet - Employee data'!AT42","v":"Yes"},{"$f":"'6 - Input sheet - Employee data'!AU42","v":"Yes"},{"$f":"'6 - Input sheet - Employee data'!AV42","v":"Yes"},{"$f":"'6 - Input sheet - Employee data'!AW42","v":"Yes"},{"$f":"'6 - Input sheet - Employee data'!AX42","v":"Yes"},{"$f":"'6 - Input sheet - Employee data'!AY42","v":"Yes"},{"$f":"'6 - Input sheet - Employee data'!AZ42","v":"Yes"},{"$f":"'6 - Input sheet - Employee data'!BA42","v":"Yes"},{"$f":"'6 - Input sheet - Employee data'!BB42","v":"Yes"},{"$f":"'6 - Input sheet - Employee data'!BC42","v":"Yes"},{"$f":"'6 - Input sheet - Employee data'!BD42","v":"Yes"},{"$f":"'6 - Input sheet - Employee data'!BE42","v":"Yes"},{"$f":"'6 - Input sheet - Employee data'!BF42","v":"Yes"},{"$f":"'6 - Input sheet - Employee data'!BG42","v":"Yes"},{"$f":"'6 - Input sheet - Employee data'!BH42","v":"Yes"},{"$f":"'6 - Input sheet - Employee data'!BI42","v":"Yes"},{"$f":"'6 - Input sheet - Employee data'!BJ42","v":"Yes"},{"$f":"'6 - Input sheet - Employee data'!BK42","v":"Yes"},{"$f":"'6 - Input sheet - Employee data'!BL42","v":"Yes"},{"$f":"'6 - Input sheet - Employee data'!BM42","v":"Yes"},{"$f":"'6 - Input sheet - Employee data'!BN42","v":"Yes"},{"$f":"'6 - Input sheet - Employee data'!BO42","v":"Yes"},{"$f":"'6 - Input sheet - Employee data'!BP42","v":"Yes"},{"$f":"'6 - Input sheet - Employee data'!BQ42","v":"Yes"},{"$f":"'6 - Input sheet - Employee data'!BR42","v":"Yes"},{"$f":"'6 - Input sheet - Employee data'!BS42","v":"Yes"},{"$f":"'6 - Input sheet - Employee data'!BT42","v":"Yes"},{"$f":"'6 - Input sheet - Employee data'!BU42","v":"Yes"},{"$f":"'6 - Input sheet - Employee data'!BV42","v":"Yes"},{"$f":"'6 - Input sheet - Employee data'!BW42","v":"Yes"},{"$f":"'6 - Input sheet - Employee data'!BX42","v":"Yes"},{"$f":"'6 - Input sheet - Employee data'!BY42","v":"Yes"},{"$f":"'6 - Input sheet - Employee data'!BZ42","v":"Yes"},{"$f":"'6 - Input sheet - Employee data'!CA42","v":"Yes"},{"$f":"'6 - Input sheet - Employee data'!CB42","v":"Yes"},{"$f":"'6 - Input sheet - Employee data'!CC42","v":"Yes"},{"$f":"'6 - Input sheet - Employee data'!CD42","v":"Yes"},{"$f":"'6 - Input sheet - Employee data'!CE42","v":"Yes"},{"$f":"'6 - Input sheet - Employee data'!CF42","v":"Yes"},{"$f":"'6 - Input sheet - Employee data'!CG42","v":"Yes"},{"$f":"'6 - Input sheet - Employee data'!CH42","v":"Yes"},{"$f":"'6 - Input sheet - Employee data'!CI42","v":"Yes"},{"$f":"'6 - Input sheet - Employee data'!CJ42","v":"Yes"},{"$f":"'6 - Input sheet - Employee data'!CK42","v":"Yes"},{"$f":"'6 - Input sheet - Employee data'!CL42","v":"Yes"},{"$f":"'6 - Input sheet - Employee data'!CM42","v":"Yes"},{"$f":"'6 - Input sheet - Employee data'!CN42","v":"Yes"},{"$f":"'6 - Input sheet - Employee data'!CO42","v":"Yes"},{"$f":"'6 - Input sheet - Employee data'!CP42","v":"Yes"},{"$f":"'6 - Input sheet - Employee data'!CQ42","v":"Yes"},{"$f":"'6 - Input sheet - Employee data'!CR42","v":"Yes"},{"$f":"'6 - Input sheet - Employee data'!CS42","v":"Yes"},{"$f":"'6 - Input sheet - Employee data'!CT42","v":"Yes"},{"$f":"'6 - Input sheet - Employee data'!CU42","v":"Yes"},{"$f":"'6 - Input sheet - Employee data'!CV42","v":"Yes"},{"$f":"'6 - Input sheet - Employee data'!CW42","v":"Yes"},{"$f":"'6 - Input sheet - Employee data'!CX42","v":"Yes"},{"$f":"'6 - Input sheet - Employee data'!CY42","v":"Yes"},{"$f":"'6 - Input sheet - Employee data'!CZ42","v":"Yes"},{"$f":"'6 - Input sheet - Employee data'!DA42","v":"Yes"},{"$f":"'6 - Input sheet - Employee data'!DB42","v":"Yes"},{"$f":"'6 - Input sheet - Employee data'!DC42","v":"Yes"},{"$f":"'6 - Input sheet - Employee data'!DD42","v":"Yes"},{"$f":"'6 - Input sheet - Employee data'!DE42","v":"Yes"},{"$f":"'6 - Input sheet - Employee data'!DF42","v":"Yes"},{"$f":"'6 - Input sheet - Employee data'!DG42","v":"Yes"},{"$f":"'6 - Input sheet - Employee data'!DH42","v":"Yes"},{"$f":"'6 - Input sheet - Employee data'!DI42","v":"Yes"},{"$f":"'6 - Input sheet - Employee data'!DJ42","v":"Yes"},{"$f":"'6 - Input sheet - Employee data'!DK42","v":"Yes"},{"$f":"'6 - Input sheet - Employee data'!DL42","v":"Yes"},{"$f":"'6 - Input sheet - Employee data'!DM42","v":"Yes"},{"$f":"'6 - Input sheet - Employee data'!DN42","v":"Yes"},{"$f":"'6 - Input sheet - Employee data'!DO42","v":"Yes"},{"$f":"'6 - Input sheet - Employee data'!DP42","v":"Yes"},{"$f":"'6 - Input sheet - Employee data'!DQ42","v":"Yes"},{"$f":"'6 - Input sheet - Employee data'!DR42","v":"Yes"},{"$f":"'6 - Input sheet - Employee data'!DS42","v":"Yes"},{"$f":"'6 - Input sheet - Employee data'!DT42","v":"Yes"},{"$f":"'6 - Input sheet - Employee data'!DU42","v":"Yes"},{"$f":"'6 - Input sheet - Employee data'!DV42","v":"Yes"},{"$f":"'6 - Input sheet - Employee data'!DW42","v":"Yes"},{"$f":"'6 - Input sheet - Employee data'!DX42","v":"Yes"},{"$f":"'6 - Input sheet - Employee data'!DY42","v":"Yes"},{"$f":"'6 - Input sheet - Employee data'!DZ42","v":"Yes"},{"$f":"'6 - Input sheet - Employee data'!EA42","v":"Yes"},{"$f":"'6 - Input sheet - Employee data'!EB42","v":"Yes"},{"$f":"'6 - Input sheet - Employee data'!EC42","v":"Yes"},{"$f":"'6 - Input sheet - Employee data'!ED42","v":"Yes"},{"$f":"'6 - Input sheet - Employee data'!EE42","v":"Yes"},{"$f":"'6 - Input sheet - Employee data'!EF42","v":"Yes"},{"$f":"'6 - Input sheet - Employee data'!EG42","v":"Yes"},{"$f":"'6 - Input sheet - Employee data'!EH42","v":"Yes"},{"$f":"'6 - Input sheet - Employee data'!EI42","v":"Yes"},{"$f":"'6 - Input sheet - Employee data'!EJ42","v":"Yes"},{"$f":"'6 - Input sheet - Employee data'!EK42","v":"Yes"},{"$f":"'6 - Input sheet - Employee data'!EL42","v":"Yes"},{"$f":"'6 - Input sheet - Employee data'!EM42","v":"Yes"},{"$f":"'6 - Input sheet - Employee data'!EN42","v":"Yes"},{"$f":"'6 - Input sheet - Employee data'!EO42","v":"Yes"},{"$f":"'6 - Input sheet - Employee data'!EP42","v":"Yes"},{"$f":"'6 - Input sheet - Employee data'!EQ42","v":"Yes"},{"$f":"'6 - Input sheet - Employee data'!ER42","v":"Yes"},{"$f":"'6 - Input sheet - Employee data'!ES42","v":"Yes"},{"$f":"'6 - Input sheet - Employee data'!ET42","v":"Yes"},{"$f":"'6 - Input sheet - Employee data'!EU42","v":"Yes"},{"$f":"'6 - Input sheet - Employee data'!EV42","v":"Yes"},{"$f":"'6 - Input sheet - Employee data'!EW42","v":"Yes"},{"$f":"'6 - Input sheet - Employee data'!EX42","v":"Yes"},{"$f":"'6 - Input sheet - Employee data'!EY42","v":"Yes"},{"$f":"'6 - Input sheet - Employee data'!EZ42","v":"Yes"},{"$f":"'6 - Input sheet - Employee data'!FA42","v":"Yes"},{"$f":"'6 - Input sheet - Employee data'!FB42","v":"Yes"},{"$f":"'6 - Input sheet - Employee data'!FC42","v":"Yes"},{"$f":"'6 - Input sheet - Employee data'!FD42","v":"Yes"},{"$f":"'6 - Input sheet - Employee data'!FE42","v":"Yes"},{"$f":"'6 - Input sheet - Employee data'!FF42","v":"Yes"},{"$f":"'6 - Input sheet - Employee data'!FG42","v":"Yes"},{"$f":"'6 - Input sheet - Employee data'!FH42","v":"Yes"},{"$f":"'6 - Input sheet - Employee data'!FI42","v":"Yes"},{"$f":"'6 - Input sheet - Employee data'!FJ42","v":"Yes"},{"$f":"'6 - Input sheet - Employee data'!FK42","v":"Yes"},{"$f":"'6 - Input sheet - Employee data'!FL42","v":"Yes"},{"$f":"'6 - Input sheet - Employee data'!FM42","v":"Yes"},{"$f":"'6 - Input sheet - Employee data'!FN42","v":"Yes"},{"$f":"'6 - Input sheet - Employee data'!FO42","v":"Yes"},{"$f":"'6 - Input sheet - Employee data'!FP42","v":"Yes"},{"$f":"'6 - Input sheet - Employee data'!FQ42","v":"Yes"},{"$f":"'6 - Input sheet - Employee data'!FR42","v":"Yes"},{"$f":"'6 - Input sheet - Employee data'!FS42","v":"Yes"},{"$f":"'6 - Input sheet - Employee data'!FT42","v":"Yes"},{"$f":"'6 - Input sheet - Employee data'!FU42","v":"Yes"},{"$f":"'6 - Input sheet - Employee data'!FV42","v":"Yes"},{"$f":"'6 - Input sheet - Employee data'!FW42","v":"Yes"},{"$f":"'6 - Input sheet - Employee data'!FX42","v":"Yes"},{"$f":"'6 - Input sheet - Employee data'!FY42","v":"Yes"},{"$f":"'6 - Input sheet - Employee data'!FZ42","v":"Yes"},{"$f":"'6 - Input sheet - Employee data'!GA42","v":"Yes"},{"$f":"'6 - Input sheet - Employee data'!GB42","v":"Yes"},{"$f":"'6 - Input sheet - Employee data'!GC42","v":"Yes"},{"$f":"'6 - Input sheet - Employee data'!GD42","v":"Yes"},{"$f":"'6 - Input sheet - Employee data'!GE42","v":"Yes"},{"$f":"'6 - Input sheet - Employee data'!GF42","v":"Yes"},{"$f":"'6 - Input sheet - Employee data'!GG42","v":"Yes"},{"$f":"'6 - Input sheet - Employee data'!GH42","v":"Yes"},{"$f":"'6 - Input sheet - Employee data'!GI42","v":"Yes"},{"$f":"'6 - Input sheet - Employee data'!GJ42","v":"Yes"},{"$f":"'6 - Input sheet - Employee data'!GK42","v":"Yes"},{"$f":"'6 - Input sheet - Employee data'!GL42","v":"Yes"},{"$f":"'6 - Input sheet - Employee data'!GM42","v":"Yes"},{"$f":"'6 - Input sheet - Employee data'!GN42","v":"Yes"},{"$f":"'6 - Input sheet - Employee data'!GO42","v":"Yes"},{"$f":"'6 - Input sheet - Employee data'!GP42","v":"Yes"},{"$f":"'6 - Input sheet - Employee data'!GQ42","v":"Yes"},{"$f":"'6 - Input sheet - Employee data'!GR42","v":"Yes"},{"$f":"'6 - Input sheet - Employee data'!GS42","v":"Yes"},{"$f":"'6 - Input sheet - Employee data'!GT42","v":"Yes"},{"$f":"'6 - Input sheet - Employee data'!GU42","v":"Yes"},{"$f":"'6 - Input sheet - Employee data'!GV42","v":"Yes"},{"$f":"'6 - Input sheet - Employee data'!GW42","v":"Yes"},{"$f":"'6 - Input sheet - Employee data'!GX42","v":"Yes"},{"$f":"'6 - Input sheet - Employee data'!GY42","v":"Yes"},{"$f":"'6 - Input sheet - Employee data'!GZ42","v":"Yes"},{"$f":"'6 - Input sheet - Employee data'!HA42","v":"Yes"},{"$f":"'6 - Input sheet - Employee data'!HB42","v":"Yes"},{"$f":"'6 - Input sheet - Employee data'!HC42","v":"Yes"},{"$f":"'6 - Input sheet - Employee data'!HD42","v":"Yes"},{"$f":"'6 - Input sheet - Employee data'!HE42","v":"Yes"},{"$f":"'6 - Input sheet - Employee data'!HF42","v":"Yes"},{"$f":"'6 - Input sheet - Employee data'!HG42","v":"Yes"},{"$f":"'6 - Input sheet - Employee data'!HH42","v":"Yes"},{"$f":"'6 - Input sheet - Employee data'!HI42","v":"Yes"},{"$f":"'6 - Input sheet - Employee data'!HJ42","v":"Yes"},{"$f":"'6 - Input sheet - Employee data'!HK42","v":"Yes"},{"$f":"'6 - Input sheet - Employee data'!HL42","v":"Yes"},{"$f":"'6 - Input sheet - Employee data'!HM42","v":"Yes"},{"$f":"'6 - Input sheet - Employee data'!HN42","v":"Yes"},{"$f":"'6 - Input sheet - Employee data'!HO42","v":"Yes"},{"$f":"'6 - Input sheet - Employee data'!HP42","v":"Yes"},{"$f":"'6 - Input sheet - Employee data'!HQ42","v":"Yes"},{"$f":"'6 - Input sheet - Employee data'!HR42","v":"Yes"},{"$f":"'6 - Input sheet - Employee data'!HS42","v":"Yes"},{"$f":"'6 - Input sheet - Employee data'!HT42","v":"Yes"},{"$f":"'6 - Input sheet - Employee data'!HU42","v":"Yes"},{"$f":"'6 - Input sheet - Employee data'!HV42","v":"Yes"},{"$f":"'6 - Input sheet - Employee data'!HW42","v":"Yes"},{"$f":"'6 - Input sheet - Employee data'!HX42","v":"Yes"},{"$f":"'6 - Input sheet - Employee data'!HY42","v":"Yes"},{"$f":"'6 - Input sheet - Employee data'!HZ42","v":"Yes"},{"$f":"'6 - Input sheet - Employee data'!IA42","v":"Yes"},{"$f":"'6 - Input sheet - Employee data'!IB42","v":"Yes"},{"$f":"'6 - Input sheet - Employee data'!IC42","v":"Yes"},{"$f":"'6 - Input sheet - Employee data'!ID42","v":"Yes"},{"$f":"'6 - Input sheet - Employee data'!IE42","v":"Yes"},{"$f":"'6 - Input sheet - Employee data'!IF42","v":"Yes"},{"$f":"'6 - Input sheet - Employee data'!IG42","v":"Yes"},{"$f":"'6 - Input sheet - Employee data'!IH42","v":"Yes"},{"$f":"'6 - Input sheet - Employee data'!II42","v":"Yes"},{"$f":"'6 - Input sheet - Employee data'!IJ42","v":"Yes"},{"$f":"'6 - Input sheet - Employee data'!IK42","v":"Yes"},{"$f":"'6 - Input sheet - Employee data'!IL42","v":"Yes"},{"$f":"'6 - Input sheet - Employee data'!IM42","v":"Yes"},{"$f":"'6 - Input sheet - Employee data'!IN42","v":"Yes"},{"$f":"'6 - Input sheet - Employee data'!IO42","v":"Yes"},{"$f":"'6 - Input sheet - Employee data'!IP42","v":"Yes"},{"$f":"'6 - Input sheet - Employee data'!IQ42","v":"Yes"},{"$f":"'6 - Input sheet - Employee data'!IR42","v":"Yes"},{"$f":"'6 - Input sheet - Employee data'!IS42","v":"Yes"},{"$f":"'6 - Input sheet - Employee data'!IT42","v":"Yes"},{"$f":"'6 - Input sheet - Employee data'!IU42","v":"Yes"},{"$f":"'6 - Input sheet - Employee data'!IV42","v":"Yes"},{"$f":"'6 - Input sheet - Employee data'!IW42","v":"Yes"},{"$f":"'6 - Input sheet - Employee data'!IX42","v":"Yes"},{"$f":"'6 - Input sheet - Employee data'!IY42","v":"Yes"},{"$f":"'6 - Input sheet - Employee data'!IZ42","v":"Yes"},{"$f":"'6 - Input sheet - Employee data'!JA42","v":"Yes"},{"$f":"'6 - Input sheet - Employee data'!JB42","v":"Yes"},{"$f":"'6 - Input sheet - Employee data'!JC42","v":"Yes"},{"$f":"'6 - Input sheet - Employee data'!JD42","v":"Yes"},{"$f":"'6 - Input sheet - Employee data'!JE42","v":"Yes"},{"$f":"'6 - Input sheet - Employee data'!JF42","v":"Yes"},{"$f":"'6 - Input sheet - Employee data'!JG42","v":"Yes"},{"$f":"'6 - Input sheet - Employee data'!JH42","v":"Yes"},{"$f":"'6 - Input sheet - Employee data'!JI42","v":"Yes"},{"$f":"'6 - Input sheet - Employee data'!JJ42","v":"Yes"},{"$f":"'6 - Input sheet - Employee data'!JK42","v":"Yes"},{"$f":"'6 - Input sheet - Employee data'!JL42","v":"Yes"},{"$f":"'6 - Input sheet - Employee data'!JM42","v":"Yes"},{"$f":"'6 - Input sheet - Employee data'!JN42","v":"Yes"},{"$f":"'6 - Input sheet - Employee data'!JO42","v":"Yes"},{"$f":"'6 - Input sheet - Employee data'!JP42","v":"Yes"},{"$f":"'6 - Input sheet - Employee data'!JQ42","v":"Yes"},{"$f":"'6 - Input sheet - Employee data'!JR42","v":"Yes"},{"$f":"'6 - Input sheet - Employee data'!JS42","v":"Yes"},{"$f":"'6 - Input sheet - Employee data'!JT42","v":"Yes"},{"$f":"'6 - Input sheet - Employee data'!JU42","v":"Yes"},{"$f":"'6 - Input sheet - Employee data'!JV42","v":"Yes"},{"$f":"'6 - Input sheet - Employee data'!JW42","v":"Yes"},{"$f":"'6 - Input sheet - Employee data'!JX42","v":"Yes"},{"$f":"'6 - Input sheet - Employee data'!JY42","v":"Yes"},{"$f":"'6 - Input sheet - Employee data'!JZ42","v":"Yes"},{"$f":"'6 - Input sheet - Employee data'!KA42","v":"Yes"},{"$f":"'6 - Input sheet - Employee data'!KB42","v":"Yes"},{"$f":"'6 - Input sheet - Employee data'!KC42","v":"Yes"},{"$f":"'6 - Input sheet - Employee data'!KD42","v":"Yes"},{"$f":"'6 - Input sheet - Employee data'!KE42","v":"Yes"},{"$f":"'6 - Input sheet - Employee data'!KF42","v":"Yes"},{"$f":"'6 - Input sheet - Employee data'!KG42","v":"Yes"},{"$f":"'6 - Input sheet - Employee data'!KH42","v":"Yes"},{"$f":"'6 - Input sheet - Employee data'!KI42","v":"Yes"},{"$f":"'6 - Input sheet - Employee data'!KJ42","v":"Yes"},{"$f":"'6 - Input sheet - Employee data'!KK42","v":"Yes"},{"$f":"'6 - Input sheet - Employee data'!KL42","v":"Yes"},{"$f":"'6 - Input sheet - Employee data'!KM42","v":"Yes"},{"$f":"'6 - Input sheet - Employee data'!KN42","v":"Yes"},{"$f":"'6 - Input sheet - Employee data'!KO42","v":"Yes"},{"$f":"'6 - Input sheet - Employee data'!KP42","v":"Yes"},{"$f":"'6 - Input sheet - Employee data'!KQ42","v":"Yes"},{"$f":"'6 - Input sheet - Employee data'!KR42","v":"Yes"},{"$f":"'6 - Input sheet - Employee data'!KS42","v":"Yes"},{"$f":"'6 - Input sheet - Employee data'!KT42","v":"Yes"},{"$f":"'6 - Input sheet - Employee data'!KU42","v":"Yes"},{"$f":"'6 - Input sheet - Employee data'!KV42","v":"Yes"},{"$f":"'6 - Input sheet - Employee data'!KW42","v":"Yes"},{"$f":"'6 - Input sheet - Employee data'!KX42","v":"Yes"},{"$f":"'6 - Input sheet - Employee data'!KY42","v":"Yes"},{"$f":"'6 - Input sheet - Employee data'!KZ42","v":"Yes"},{"$f":"'6 - Input sheet - Employee data'!LA42","v":"Yes"},{"$f":"'6 - Input sheet - Employee data'!LB42","v":"Yes"},{"$f":"'6 - Input sheet - Employee data'!LC42","v":"Yes"},{"$f":"'6 - Input sheet - Employee data'!LD42","v":"Yes"},{"$f":"'6 - Input sheet - Employee data'!LE42","v":"Yes"},{"$f":"'6 - Input sheet - Employee data'!LF42","v":"Yes"},{"$f":"'6 - Input sheet - Employee data'!LG42","v":"Yes"},{"$f":"'6 - Input sheet - Employee data'!LH42","v":"Yes"},{"$f":"'6 - Input sheet - Employee data'!LI42","v":"Yes"},{"$f":"'6 - Input sheet - Employee data'!LJ42","v":"Yes"},{"$f":"'6 - Input sheet - Employee data'!LK42","v":"Yes"},{"$f":"'6 - Input sheet - Employee data'!LL42","v":"Yes"},{"$f":"'6 - Input sheet - Employee data'!LM42","v":"Yes"},{"$f":"'6 - Input sheet - Employee data'!LN42","v":"Yes"},{"$f":"'6 - Input sheet - Employee data'!LO42","v":"Yes"},{"$f":"'6 - Input sheet - Employee data'!LP42","v":"Yes"},{"$f":"'6 - Input sheet - Employee data'!LQ42","v":"Yes"},{"$f":"'6 - Input sheet - Employee data'!LR42","v":"Yes"},{"$f":"'6 - Input sheet - Employee data'!LS42","v":"Yes"},{"$f":"'6 - Input sheet - Employee data'!LT42","v":"Yes"},{"$f":"'6 - Input sheet - Employee data'!LU42","v":"Yes"},{"$f":"'6 - Input sheet - Employee data'!LV42","v":"Yes"},{"$f":"'6 - Input sheet - Employee data'!LW42","v":"Yes"},{"$f":"'6 - Input sheet - Employee data'!LX42","v":"Yes"},{"$f":"'6 - Input sheet - Employee data'!LY42","v":"Yes"},{"$f":"'6 - Input sheet - Employee data'!LZ42","v":"Yes"},{"$f":"'6 - Input sheet - Employee data'!MA42","v":"Yes"},{"$f":"'6 - Input sheet - Employee data'!MB42","v":"Yes"},{"$f":"'6 - Input sheet - Employee data'!MC42","v":"Yes"},{"$f":"'6 - Input sheet - Employee data'!MD42","v":"Yes"},{"$f":"'6 - Input sheet - Employee data'!ME42","v":"Yes"},{"$f":"'6 - Input sheet - Employee data'!MF42","v":"Yes"},{"$f":"'6 - Input sheet - Employee data'!MG42","v":"Yes"},{"$f":"'6 - Input sheet - Employee data'!MH42","v":"Yes"},{"$f":"'6 - Input sheet - Employee data'!MI42","v":"Yes"},{"$f":"'6 - Input sheet - Employee data'!MJ42","v":"Yes"},{"$f":"'6 - Input sheet - Employee data'!MK42","v":"Yes"},{"$f":"'6 - Input sheet - Employee data'!ML42","v":"Yes"},{"$f":"'6 - Input sheet - Employee data'!MM42","v":"Yes"},{"$f":"'6 - Input sheet - Employee data'!MN42","v":"Yes"},{"$f":"'6 - Input sheet - Employee data'!MO42","v":"Yes"},{"$f":"'6 - Input sheet - Employee data'!MP42","v":"Yes"},{"$f":"'6 - Input sheet - Employee data'!MQ42","v":"Yes"},{"$f":"'6 - Input sheet - Employee data'!MR42","v":"Yes"},{"$f":"'6 - Input sheet - Employee data'!MS42","v":"Yes"},{"$f":"'6 - Input sheet - Employee data'!MT42","v":"Yes"},{"$f":"'6 - Input sheet - Employee data'!MU42","v":"Yes"},{"$f":"'6 - Input sheet - Employee data'!MV42","v":"Yes"},{"$f":"'6 - Input sheet - Employee data'!MW42","v":"Yes"},{"$f":"'6 - Input sheet - Employee data'!MX42","v":"Yes"},{"$f":"'6 - Input sheet - Employee data'!MY42","v":"Yes"},{"$f":"'6 - Input sheet - Employee data'!MZ42","v":"Yes"},{"$f":"'6 - Input sheet - Employee data'!NA42","v":"Yes"},{"$f":"'6 - Input sheet - Employee data'!NB42","v":"Yes"},{"$f":"'6 - Input sheet - Employee data'!NC42","v":"Yes"},{"$f":"'6 - Input sheet - Employee data'!ND42","v":"Yes"},{"$f":"'6 - Input sheet - Employee data'!NE42","v":"Yes"},{"$f":"'6 - Input sheet - Employee data'!NF42","v":"Yes"},{"$f":"'6 - Input sheet - Employee data'!NG42","v":"Yes"},{"$f":"'6 - Input sheet - Employee data'!NH42","v":"Yes"},{"$f":"'6 - Input sheet - Employee data'!NI42","v":"Yes"},{"$f":"'6 - Input sheet - Employee data'!NJ42","v":"Yes"},{"$f":"'6 - Input sheet - Employee data'!NK42","v":"Yes"},{"$f":"'6 - Input sheet - Employee data'!NL42","v":"Yes"},{"$f":"'6 - Input sheet - Employee data'!NM42","v":"Yes"},{"$f":"'6 - Input sheet - Employee data'!NN42","v":"Yes"},{"$f":"'6 - Input sheet - Employee data'!NO42","v":"Yes"},{"$f":"'6 - Input sheet - Employee data'!NP42","v":"Yes"},{"$f":"'6 - Input sheet - Employee data'!NQ42","v":"Yes"},{"$f":"'6 - Input sheet - Employee data'!NR42","v":"Yes"},{"$f":"'6 - Input sheet - Employee data'!NS42","v":"Yes"},{"$f":"'6 - Input sheet - Employee data'!NT42","v":"Yes"},{"$f":"'6 - Input sheet - Employee data'!NU42","v":"Yes"},{"$f":"'6 - Input sheet - Employee data'!NV42","v":"Yes"},{"$f":"'6 - Input sheet - Employee data'!NW42","v":"Yes"},{"$f":"'6 - Input sheet - Employee data'!NX42","v":"Yes"},{"$f":"'6 - Input sheet - Employee data'!NY42","v":"Yes"},{"$f":"'6 - Input sheet - Employee data'!NZ42","v":"Yes"},{"$f":"'6 - Input sheet - Employee data'!OA42","v":"Yes"},{"$f":"'6 - Input sheet - Employee data'!OB42","v":"Yes"},{"$f":"'6 - Input sheet - Employee data'!OC42","v":"Yes"},{"$f":"'6 - Input sheet - Employee data'!OD42","v":"Yes"},{"$f":"'6 - Input sheet - Employee data'!OE42","v":"Yes"},{"$f":"'6 - Input sheet - Employee data'!OF42","v":"Yes"},{"$f":"'6 - Input sheet - Employee data'!OG42","v":"Yes"},{"$f":"'6 - Input sheet - Employee data'!OH42","v":"Yes"},{"$f":"'6 - Input sheet - Employee data'!OI42","v":"Yes"},{"$f":"'6 - Input sheet - Employee data'!OJ42","v":"Yes"},{"$f":"'6 - Input sheet - Employee data'!OK42","v":"Yes"},{"$f":"'6 - Input sheet - Employee data'!OL42","v":"Yes"},{"$f":"'6 - Input sheet - Employee data'!OM42","v":"Yes"},{"$f":"'6 - Input sheet - Employee data'!ON42","v":"Yes"},{"$f":"'6 - Input sheet - Employee data'!OO42","v":"Yes"},{"$f":"'6 - Input sheet - Employee data'!OP42","v":"Yes"},{"$f":"'6 - Input sheet - Employee data'!OQ42","v":"Yes"},{"$f":"'6 - Input sheet - Employee data'!OR42","v":"Yes"},{"$f":"'6 - Input sheet - Employee data'!OS42","v":"Yes"},{"$f":"'6 - Input sheet - Employee data'!OT42","v":"Yes"},{"$f":"'6 - Input sheet - Employee data'!OU42","v":"Yes"},{"$f":"'6 - Input sheet - Employee data'!OV42","v":"Yes"},{"$f":"'6 - Input sheet - Employee data'!OW42","v":"Yes"},{"$f":"'6 - Input sheet - Employee data'!OX42","v":"Yes"},{"$f":"'6 - Input sheet - Employee data'!OY42","v":"Yes"},{"$f":"'6 - Input sheet - Employee data'!OZ42","v":"Yes"},{"$f":"'6 - Input sheet - Employee data'!PA42","v":"Yes"},{"$f":"'6 - Input sheet - Employee data'!PB42","v":"Yes"},{"$f":"'6 - Input sheet - Employee data'!PC42","v":"Yes"},{"$f":"'6 - Input sheet - Employee data'!PD42","v":"Yes"},{"$f":"'6 - Input sheet - Employee data'!PE42","v":"Yes"},{"$f":"'6 - Input sheet - Employee data'!PF42","v":"Yes"},{"$f":"'6 - Input sheet - Employee data'!PG42","v":"Yes"},{"$f":"'6 - Input sheet - Employee data'!PH42","v":"Yes"},{"$f":"'6 - Input sheet - Employee data'!PI42","v":"Yes"},{"$f":"'6 - Input sheet - Employee data'!PJ42","v":"Yes"},{"$f":"'6 - Input sheet - Employee data'!PK42","v":"Yes"},{"$f":"'6 - Input sheet - Employee data'!PL42","v":"Yes"},{"$f":"'6 - Input sheet - Employee data'!PM42","v":"Yes"},{"$f":"'6 - Input sheet - Employee data'!PN42","v":"Yes"},{"$f":"'6 - Input sheet - Employee data'!PO42","v":"Yes"},{"$f":"'6 - Input sheet - Employee data'!PP42","v":"Yes"},{"$f":"'6 - Input sheet - Employee data'!PQ42","v":"Yes"},{"$f":"'6 - Input sheet - Employee data'!PR42","v":"Yes"},{"$f":"'6 - Input sheet - Employee data'!PS42","v":"Yes"},{"$f":"'6 - Input sheet - Employee data'!PT42","v":"Yes"},{"$f":"'6 - Input sheet - Employee data'!PU42","v":"Yes"},{"$f":"'6 - Input sheet - Employee data'!PV42","v":"Yes"},{"$f":"'6 - Input sheet - Employee data'!PW42","v":"Yes"},{"$f":"'6 - Input sheet - Employee data'!PX42","v":"Yes"},{"$f":"'6 - Input sheet - Employee data'!PY42","v":"Yes"},{"$f":"'6 - Input sheet - Employee data'!PZ42","v":"Yes"},{"$f":"'6 - Input sheet - Employee data'!QA42","v":"Yes"},{"$f":"'6 - Input sheet - Employee data'!QB42","v":"Yes"},{"$f":"'6 - Input sheet - Employee data'!QC42","v":"Yes"},{"$f":"'6 - Input sheet - Employee data'!QD42","v":"Yes"},{"$f":"'6 - Input sheet - Employee data'!QE42","v":"Yes"},{"$f":"'6 - Input sheet - Employee data'!QF42","v":"Yes"},{"$f":"'6 - Input sheet - Employee data'!QG42","v":"Yes"},{"$f":"'6 - Input sheet - Employee data'!QH42","v":"Yes"},{"$f":"'6 - Input sheet - Employee data'!QI42","v":"Yes"},{"$f":"'6 - Input sheet - Employee data'!QJ42","v":"Yes"},{"$f":"'6 - Input sheet - Employee data'!QK42","v":"Yes"},{"$f":"'6 - Input sheet - Employee data'!QL42","v":"Yes"},{"$f":"'6 - Input sheet - Employee data'!QM42","v":"Yes"},{"$f":"'6 - Input sheet - Employee data'!QN42","v":"Yes"},{"$f":"'6 - Input sheet - Employee data'!QO42","v":"Yes"},{"$f":"'6 - Input sheet - Employee data'!QP42","v":"Yes"},{"$f":"'6 - Input sheet - Employee data'!QQ42","v":"Yes"},{"$f":"'6 - Input sheet - Employee data'!QR42","v":"Yes"},{"$f":"'6 - Input sheet - Employee data'!QS42","v":"Yes"},{"$f":"'6 - Input sheet - Employee data'!QT42","v":"Yes"},{"$f":"'6 - Input sheet - Employee data'!QU42","v":"Yes"},{"$f":"'6 - Input sheet - Employee data'!QV42","v":"Yes"},{"$f":"'6 - Input sheet - Employee data'!QW42","v":"Yes"},{"$f":"'6 - Input sheet - Employee data'!QX42","v":"Yes"},{"$f":"'6 - Input sheet - Employee data'!QY42","v":"Yes"},{"$f":"'6 - Input sheet - Employee data'!QZ42","v":"Yes"},{"$f":"'6 - Input sheet - Employee data'!RA42","v":"Yes"},{"$f":"'6 - Input sheet - Employee data'!RB42","v":"Yes"},{"$f":"'6 - Input sheet - Employee data'!RC42","v":"Yes"},{"$f":"'6 - Input sheet - Employee data'!RD42","v":"Yes"},{"$f":"'6 - Input sheet - Employee data'!RE42","v":"Yes"},{"$f":"'6 - Input sheet - Employee data'!RF42","v":"Yes"},{"$f":"'6 - Input sheet - Employee data'!RG42","v":"Yes"},{"$f":"'6 - Input sheet - Employee data'!RH42","v":"Yes"},{"$f":"'6 - Input sheet - Employee data'!RI42","v":"Yes"},{"$f":"'6 - Input sheet - Employee data'!RJ42","v":"Yes"},{"$f":"'6 - Input sheet - Employee data'!RK42","v":"Yes"},{"$f":"'6 - Input sheet - Employee data'!RL42","v":"Yes"},{"$f":"'6 - Input sheet - Employee data'!RM42","v":"Yes"},{"$f":"'6 - Input sheet - Employee data'!RN42","v":"Yes"},{"$f":"'6 - Input sheet - Employee data'!RO42","v":"Yes"},{"$f":"'6 - Input sheet - Employee data'!RP42","v":"Yes"},{"$f":"'6 - Input sheet - Employee data'!RQ42","v":"Yes"},{"$f":"'6 - Input sheet - Employee data'!RR42","v":"Yes"},{"$f":"'6 - Input sheet - Employee data'!RS42","v":"Yes"},{"$f":"'6 - Input sheet - Employee data'!RT42","v":"Yes"},{"$f":"'6 - Input sheet - Employee data'!RU42","v":"Yes"},{"$f":"'6 - Input sheet - Employee data'!RV42","v":"Yes"},{"$f":"'6 - Input sheet - Employee data'!RW42","v":"Yes"},{"$f":"'6 - Input sheet - Employee data'!RX42","v":"Yes"},{"$f":"'6 - Input sheet - Employee data'!RY42","v":"Yes"},{"$f":"'6 - Input sheet - Employee data'!RZ42","v":"Yes"},{"$f":"'6 - Input sheet - Employee data'!SA42","v":"Yes"},{"$f":"'6 - Input sheet - Employee data'!SB42","v":"Yes"},{"$f":"'6 - Input sheet - Employee data'!SC42","v":"Yes"},{"$f":"'6 - Input sheet - Employee data'!SD42","v":"Yes"},{"$f":"'6 - Input sheet - Employee data'!SE42","v":"Yes"},{"$f":"'6 - Input sheet - Employee data'!SF42","v":"Yes"},{"$f":"'6 - Input sheet - Employee data'!SG42","v":"Yes"},{"$f":"'6 - Input sheet - Employee data'!SH42","v":"Yes"}]
["   FTE - salaried",null,{"$f":"IF(C51=\"yes\",1,0)","v":1},{"$f":"IF(D51=\"yes\",1,0)","v":1},1,1,1,1,1,1,1,1,1,1,1,1,1,1,1,1,1,1,1,1,1,1,1,1,1,1,1,1,1,1,1,1,1,1,1,1,1,1,1,1,1,1,1,1,1,1,1,1,1,1,1,1,1,1,1,1,1,1,1,1,1,1,1,{"$f":"IF(BP51=\"yes\",1,0)","v":1},1,1,1,1,1,1,1,1,1,1,1,1,1,1,1,1,1,1,1,1,1,1,1,1,1,1,1,1,1,1,1,1,1,1,1,1,1,1,1,1,1,1,1,1,1,1,1,1,1,1,1,1,1,1,1,1,1,1,1,1,1,1,1,{"$f":"IF(EB51=\"yes\",1,0)","v":1},1,1,1,1,1,1,1,1,1,1,1,1,1,1,1,1,1,1,1,1,1,1,1,1,1,1,1,1,1,1,1,1,1,1,1,1,1,1,1,1,1,1,1,1,1,1,1,1,1,1,1,1,1,1,1,1,1,1,1,1,1,1,1,{"$f":"IF(GN51=\"yes\",1,0)","v":1},1,1,1,1,1,1,1,1,1,1,1,1,1,1,1,1,1,1,1,1,1,1,1,1,1,1,1,1,1,1,1,1,1,1,1,1,1,1,1,1,1,1,1,1,1,1,1,1,1,1,1,1,1,1,1,1,1,1,1,1,1,1,1,{"$f":"IF(IZ51=\"yes\",1,0)","v":1},1,1,1,1,1,1,1,1,1,1,1,1,1,1,1,1,1,1,1,1,1,1,1,1,1,1,1,1,1,1,1,1,1,1,1,1,1,1,1,1,1,1,1,1,1,1,1,1,1,1,1,1,1,1,1,1,1,1,1,1,1,1,1,{"$f":"IF(LL51=\"yes\",1,0)","v":1},1,1,1,1,1,1,1,1,1,1,1,1,1,1,1,1,1,1,1,1,1,1,1,1,1,1,1,1,1,1,1,1,1,1,1,1,1,1,1,1,1,1,1,1,1,1,1,1,1,1,1,1,1,1,1,1,1,1,1,1,1,1,1,{"$f":"IF(NX51=\"yes\",1,0)","v":1},1,1,1,1,1,1,1,1,1,1,1,1,1,1,1,1,1,1,1,1,1,1,1,1,1,1,1,1,1,1,1,1,1,1,1,1,1,1,1,1,1,1,1,1,1,1,1,1,1,1,1,1,1,1,1,1,1,1,1,1,1,1,1,{"$f":"IF(QJ51=\"yes\",1,0)","v":1},1,1,1,1,1,1,1,1,1,1,1,1,1,1,1,1,1,1,1,1,1,1,1,1,1,1,1,1,1,1,1,1,1,1,1,1,1,1,1,1,1,1,1,1,1,1,1,1,1,1]
["   FTE - hourly",null,{"$f":"C50/($C$13*$F$14)","v":0},{"$f":"D50/($C$13*$F$14)","v":0},0,0,0,0,0,0,0,0,0,0,0,0,0,0,0,0,0,0,0,0,0,0,0,0,0,0,0,0,0,0,0,0,0,0,0,0,0,0,0,0,0,0,0,0,0,0,0,0,0,0,0,0,0,0,0,0,0,0,0,0,0,0,0,{"$f":"BP50/($C$13*$F$14)","v":0},0,0,0,0,0,0,0,0,0,0,0,0,0,0,0,0,0,0,0,0,0,0,0,0,0,0,0,0,0,0,0,0,0,0,0,0,0,0,0,0,0,0,0,0,0,0,0,0,0,0,0,0,0,0,0,0,0,0,0,0,0,0,0,{"$f":"EB50/($C$13*$F$14)","v":0},0,0,0,0,0,0,0,0,0,0,0,0,0,0,0,0,0,0,0,0,0,0,0,0,0,0,0,0,0,0,0,0,0,0,0,0,0,0,0,0,0,0,0,0,0,0,0,0,0,0,0,0,0,0,0,0,0,0,0,0,0,0,0,{"$f":"GN50/($C$13*$F$14)","v":0},0,0,0,0,0,0,0,0,0,0,0,0,0,0,0,0,0,0,0,0,0,0,0,0,0,0,0,0,0,0,0,0,0,0,0,0,0,0,0,0,0,0,0,0,0,0,0,0,0,0,0,0,0,0,0,0,0,0,0,0,0,0,0,{"$f":"IZ50/($C$13*$F$14)","v":0},0,0,0,0,0,0,0,0,0,0,0,0,0,0,0,0,0,0,0,0,0,0,0,0,0,0,0,0,0,0,0,0,0,0,0,0,0,0,0,0,0,0,0,0,0,0,0,0,0,0,0,0,0,0,0,0,0,0,0,0,0,0,0,{"$f":"LL50/($C$13*$F$14)","v":0},0,0,0,0,0,0,0,0,0,0,0,0,0,0,0,0,0,0,0,0,0,0,0,0,0,0,0,0,0,0,0,0,0,0,0,0,0,0,0,0,0,0,0,0,0,0,0,0,0,0,0,0,0,0,0,0,0,0,0,0,0,0,0,{"$f":"NX50/($C$13*$F$14)","v":0},0,0,0,0,0,0,0,0,0,0,0,0,0,0,0,0,0,0,0,0,0,0,0,0,0,0,0,0,0,0,0,0,0,0,0,0,0,0,0,0,0,0,0,0,0,0,0,0,0,0,0,0,0,0,0,0,0,0,0,0,0,0,0,{"$f":"QJ50/($C$13*$F$14)","v":0},0,0,0,0,0,0,0,0,0,0,0,0,0,0,0,0,0,0,0,0,0,0,0,0,0,0,0,0,0,0,0,0,0,0,0,0,0,0,0,0,0,0,0,0,0,0,0,0,0,0]
["   FTE - hourly max",null,{"$f":"IF(C53>1,1,0)","v":0},{"$f":"IF(D53>1,1,0)","v":0},0,0,0,0,0,0,0,0,0,0,0,0,0,0,0,0,0,0,0,0,0,0,0,0,0,0,0,0,0,0,0,0,0,0,0,0,0,0,0,0,0,0,0,0,0,0,0,0,0,0,0,0,0,0,0,0,0,0,0,0,0,0,0,{"$f":"IF(BP53>1,1,0)","v":0},0,0,0,0,0,0,0,0,0,0,0,0,0,0,0,0,0,0,0,0,0,0,0,0,0,0,0,0,0,0,0,0,0,0,0,0,0,0,0,0,0,0,0,0,0,0,0,0,0,0,0,0,0,0,0,0,0,0,0,0,0,0,0,{"$f":"IF(EB53>1,1,0)","v":0},0,0,0,0,0,0,0,0,0,0,0,0,0,0,0,0,0,0,0,0,0,0,0,0,0,0,0,0,0,0,0,0,0,0,0,0,0,0,0,0,0,0,0,0,0,0,0,0,0,0,0,0,0,0,0,0,0,0,0,0,0,0,0,{"$f":"IF(GN53>1,1,0)","v":0},0,0,0,0,0,0,0,0,0,0,0,0,0,0,0,0,0,0,0,0,0,0,0,0,0,0,0,0,0,0,0,0,0,0,0,0,0,0,0,0,0,0,0,0,0,0,0,0,0,0,0,0,0,0,0,0,0,0,0,0,0,0,0,{"$f":"IF(IZ53>1,1,0)","v":0},0,0,0,0,0,0,0,0,0,0,0,0,0,0,0,0,0,0,0,0,0,0,0,0,0,0,0,0,0,0,0,0,0,0,0,0,0,0,0,0,0,0,0,0,0,0,0,0,0,0,0,0,0,0,0,0,0,0,0,0,0,0,0,{"$f":"IF(LL53>1,1,0)","v":0},0,0,0,0,0,0,0,0,0,0,0,0,0,0,0,0,0,0,0,0,0,0,0,0,0,0,0,0,0,0,0,0,0,0,0,0,0,0,0,0,0,0,0,0,0,0,0,0,0,0,0,0,0,0,0,0,0,0,0,0,0,0,0,{"$f":"IF(NX53>1,1,0)","v":0},0,0,0,0,0,0,0,0,0,0,0,0,0,0,0,0,0,0,0,0,0,0,0,0,0,0,0,0,0,0,0,0,0,0,0,0,0,0,0,0,0,0,0,0,0,0,0,0,0,0,0,0,0,0,0,0,0,0,0,0,0,0,0,{"$f":"IF(QJ53>1,1,0)","v":0},0,0,0,0,0,0,0,0,0,0,0,0,0,0,0,0,0,0,0,0,0,0,0,0,0,0,0,0,0,0,0,0,0,0,0,0,0,0,0,0,0,0,0,0,0,0,0,0,0,0]
["   FTE - hourly less max",null,{"$f":"IF(C50=0,0,ROUND(IF(C53<1,IF($B$12=\"NO\",C53,0.5),0),1))","v":0},{"$f":"IF(D50=0,0,ROUND(IF(D53<1,IF($B$12=\"NO\",D53,0.5),0),1))","v":0},0,0,0,0,0,0,0,0,0,0,0,0,0,0,0,0,0,0,0,0,0,0,0,0,0,0,0,0,0,0,0,0,0,0,0,0,0,0,0,0,0,0,0,0,0,0,0,0,0,0,0,0,0,0,0,0,0,0,0,0,0,0,0,{"$f":"IF(BP50=0,0,ROUND(IF(BP53<1,IF($B$12=\"NO\",BP53,0.5),0),1))","v":0},0,0,0,0,0,0,0,0,0,0,0,0,0,0,0,0,0,0,0,0,0,0,0,0,0,0,0,0,0,0,0,0,0,0,0,0,0,0,0,0,0,0,0,0,0,0,0,0,0,0,0,0,0,0,0,0,0,0,0,0,0,0,0,{"$f":"IF(EB50=0,0,ROUND(IF(EB53<1,IF($B$12=\"NO\",EB53,0.5),0),1))","v":0},0,0,0,0,0,0,0,0,0,0,0,0,0,0,0,0,0,0,0,0,0,0,0,0,0,0,0,0,0,0,0,0,0,0,0,0,0,0,0,0,0,0,0,0,0,0,0,0,0,0,0,0,0,0,0,0,0,0,0,0,0,0,0,{"$f":"IF(GN50=0,0,ROUND(IF(GN53<1,IF($B$12=\"NO\",GN53,0.5),0),1))","v":0},0,0,0,0,0,0,0,0,0,0,0,0,0,0,0,0,0,0,0,0,0,0,0,0,0,0,0,0,0,0,0,0,0,0,0,0,0,0,0,0,0,0,0,0,0,0,0,0,0,0,0,0,0,0,0,0,0,0,0,0,0,0,0,{"$f":"IF(IZ50=0,0,ROUND(IF(IZ53<1,IF($B$12=\"NO\",IZ53,0.5),0),1))","v":0},0,0,0,0,0,0,0,0,0,0,0,0,0,0,0,0,0,0,0,0,0,0,0,0,0,0,0,0,0,0,0,0,0,0,0,0,0,0,0,0,0,0,0,0,0,0,0,0,0,0,0,0,0,0,0,0,0,0,0,0,0,0,0,{"$f":"IF(LL50=0,0,ROUND(IF(LL53<1,IF($B$12=\"NO\",LL53,0.5),0),1))","v":0},0,0,0,0,0,0,0,0,0,0,0,0,0,0,0,0,0,0,0,0,0,0,0,0,0,0,0,0,0,0,0,0,0,0,0,0,0,0,0,0,0,0,0,0,0,0,0,0,0,0,0,0,0,0,0,0,0,0,0,0,0,0,0,{"$f":"IF(NX50=0,0,ROUND(IF(NX53<1,IF($B$12=\"NO\",NX53,0.5),0),1))","v":0},0,0,0,0,0,0,0,0,0,0,0,0,0,0,0,0,0,0,0,0,0,0,0,0,0,0,0,0,0,0,0,0,0,0,0,0,0,0,0,0,0,0,0,0,0,0,0,0,0,0,0,0,0,0,0,0,0,0,0,0,0,0,0,{"$f":"IF(QJ50=0,0,ROUND(IF(QJ53<1,IF($B$12=\"NO\",QJ53,0.5),0),1))","v":0},0,0,0,0,0,0,0,0,0,0,0,0,0,0,0,0,0,0,0,0,0,0,0,0,0,0,0,0,0,0,0,0,0,0,0,0,0,0,0,0,0,0,0,0,0,0,0,0,0,0]
["   FTE Count",{"$f":"SUM(C56:SH56)","v":0},{"$f":"IF(C8=\"Salaried-Other\",C52,IF(C8=\"Salaried-No Reduction\",1,SUM(C54:C55)))","v":0},{"$f":"IF(D8=\"Salaried-Other\",D52,IF(D8=\"Salaried-No Reduction\",D52,SUM(D54:D55)))","v":0},0,0,0,0,0,0,0,0,0,0,0,0,0,0,0,0,0,0,0,0,0,0,0,0,0,0,0,0,0,0,0,0,0,0,0,0,0,0,0,0,0,0,0,0,0,0,0,0,0,0,0,0,0,0,0,0,0,0,0,0,0,0,0,{"$f":"IF(BP8=\"Salaried-Other\",BP52,IF(BP8=\"Salaried-No Reduction\",BP52,SUM(BP54:BP55)))","v":0},0,0,0,0,0,0,0,0,0,0,0,0,0,0,0,0,0,0,0,0,0,0,0,0,0,0,0,0,0,0,0,0,0,0,0,0,0,0,0,0,0,0,0,0,0,0,0,0,0,0,0,0,0,0,0,0,0,0,0,0,0,0,0,{"$f":"IF(EB8=\"Salaried-Other\",EB52,IF(EB8=\"Salaried-No Reduction\",EB52,SUM(EB54:EB55)))","v":0},0,0,0,0,0,0,0,0,0,0,0,0,0,0,0,0,0,0,0,0,0,0,0,0,0,0,0,0,0,0,0,0,0,0,0,0,0,0,0,0,0,0,0,0,0,0,0,0,0,0,0,0,0,0,0,0,0,0,0,0,0,0,0,{"$f":"IF(GN8=\"Salaried-Other\",GN52,IF(GN8=\"Salaried-No Reduction\",GN52,SUM(GN54:GN55)))","v":0},0,0,0,0,0,0,0,0,0,0,0,0,0,0,0,0,0,0,0,0,0,0,0,0,0,0,0,0,0,0,0,0,0,0,0,0,0,0,0,0,0,0,0,0,0,0,0,0,0,0,0,0,0,0,0,0,0,0,0,0,0,0,0,{"$f":"IF(IZ8=\"Salaried-Other\",IZ52,IF(IZ8=\"Salaried-No Reduction\",IZ52,SUM(IZ54:IZ55)))","v":0},0,0,0,0,0,0,0,0,0,0,0,0,0,0,0,0,0,0,0,0,0,0,0,0,0,0,0,0,0,0,0,0,0,0,0,0,0,0,0,0,0,0,0,0,0,0,0,0,0,0,0,0,0,0,0,0,0,0,0,0,0,0,0,{"$f":"IF(LL8=\"Salaried-Other\",LL52,IF(LL8=\"Salaried-No Reduction\",LL52,SUM(LL54:LL55)))","v":0},0,0,0,0,0,0,0,0,0,0,0,0,0,0,0,0,0,0,0,0,0,0,0,0,0,0,0,0,0,0,0,0,0,0,0,0,0,0,0,0,0,0,0,0,0,0,0,0,0,0,0,0,0,0,0,0,0,0,0,0,0,0,0,{"$f":"IF(NX8=\"Salaried-Other\",NX52,IF(NX8=\"Salaried-No Reduction\",NX52,SUM(NX54:NX55)))","v":0},0,0,0,0,0,0,0,0,0,0,0,0,0,0,0,0,0,0,0,0,0,0,0,0,0,0,0,0,0,0,0,0,0,0,0,0,0,0,0,0,0,0,0,0,0,0,0,0,0,0,0,0,0,0,0,0,0,0,0,0,0,0,0,{"$f":"IF(QJ8=\"Salaried-Other\",QJ52,IF(QJ8=\"Salaried-No Reduction\",QJ52,SUM(QJ54:QJ55)))","v":0},0,0,0,0,0,0,0,0,0,0,0,0,0,0,0,0,0,0,0,0,0,0,0,0,0,0,0,0,0,0,0,0,0,0,0,0,0,0,0,0,0,0,0,0,0,0,0,0,0,0]
[]
["   Hours - Payroll period inclusive of February 15, 2020",null,{"$f":"'6 - Input sheet - Employee data'!C44","v":0},{"$f":"'6 - Input sheet - Employee data'!D44","v":0},{"$f":"'6 - Input sheet - Employee data'!E44","v":0},{"$f":"'6 - Input sheet - Employee data'!F44","v":0},{"$f":"'6 - Input sheet - Employee data'!G44","v":0},{"$f":"'6 - Input sheet - Employee data'!H44","v":0},{"$f":"'6 - Input sheet - Employee data'!I44","v":0},{"$f":"'6 - Input sheet - Employee data'!J44","v":0},{"$f":"'6 - Input sheet - Employee data'!K44","v":0},{"$f":"'6 - Input sheet - Employee data'!L44","v":0},{"$f":"'6 - Input sheet - Employee data'!M44","v":0},{"$f":"'6 - Input sheet - Employee data'!N44","v":0},{"$f":"'6 - Input sheet - Employee data'!O44","v":0},{"$f":"'6 - Input sheet - Employee data'!P44","v":0},{"$f":"'6 - Input sheet - Employee data'!Q44","v":0},{"$f":"'6 - Input sheet - Employee data'!R44","v":0},{"$f":"'6 - Input sheet - Employee data'!S44","v":0},{"$f":"'6 - Input sheet - Employee data'!T44","v":0},{"$f":"'6 - Input sheet - Employee data'!U44","v":0},{"$f":"'6 - Input sheet - Employee data'!V44","v":0},{"$f":"'6 - Input sheet - Employee data'!W44","v":0},{"$f":"'6 - Input sheet - Employee data'!X44","v":0},{"$f":"'6 - Input sheet - Employee data'!Y44","v":0},{"$f":"'6 - Input sheet - Employee data'!Z44","v":0},{"$f":"'6 - Input sheet - Employee data'!AA44","v":0},{"$f":"'6 - Input sheet - Employee data'!AB44","v":0},{"$f":"'6 - Input sheet - Employee data'!AC44","v":0},{"$f":"'6 - Input sheet - Employee data'!AD44","v":0},{"$f":"'6 - Input sheet - Employee data'!AE44","v":0},{"$f":"'6 - Input sheet - Employee data'!AF44","v":0},{"$f":"'6 - Input sheet - Employee data'!AG44","v":0},{"$f":"'6 - Input sheet - Employee data'!AH44","v":0},{"$f":"'6 - Input sheet - Employee data'!AI44","v":0},{"$f":"'6 - Input sheet - Employee data'!AJ44","v":0},{"$f":"'6 - Input sheet - Employee data'!AK44","v":0},{"$f":"'6 - Input sheet - Employee data'!AL44","v":0},{"$f":"'6 - Input sheet - Employee data'!AM44","v":0},{"$f":"'6 - Input sheet - Employee data'!AN44","v":0},{"$f":"'6 - Input sheet - Employee data'!AO44","v":0},{"$f":"'6 - Input sheet - Employee data'!AP44","v":0},{"$f":"'6 - Input sheet - Employee data'!AQ44","v":0},{"$f":"'6 - Input sheet - Employee data'!AR44","v":0},{"$f":"'6 - Input sheet - Employee data'!AS44","v":0},{"$f":"'6 - Input sheet - Employee data'!AT44","v":0},{"$f":"'6 - Input sheet - Employee data'!AU44","v":0},{"$f":"'6 - Input sheet - Employee data'!AV44","v":0},{"$f":"'6 - Input sheet - Employee data'!AW44","v":0},{"$f":"'6 - Input sheet - Employee data'!AX44","v":0},{"$f":"'6 - Input sheet - Employee data'!AY44","v":0},{"$f":"'6 - Input sheet - Employee data'!AZ44","v":0},{"$f":"'6 - Input sheet - Employee data'!BA44","v":0},{"$f":"'6 - Input sheet - Employee data'!BB44","v":0},{"$f":"'6 - Input sheet - Employee data'!BC44","v":0},{"$f":"'6 - Input sheet - Employee data'!BD44","v":0},{"$f":"'6 - Input sheet - Employee data'!BE44","v":0},{"$f":"'6 - Input sheet - Employee data'!BF44","v":0},{"$f":"'6 - Input sheet - Employee data'!BG44","v":0},{"$f":"'6 - Input sheet - Employee data'!BH44","v":0},{"$f":"'6 - Input sheet - Employee data'!BI44","v":0},{"$f":"'6 - Input sheet - Employee data'!BJ44","v":0},{"$f":"'6 - Input sheet - Employee data'!BK44","v":0},{"$f":"'6 - Input sheet - Employee data'!BL44","v":0},{"$f":"'6 - Input sheet - Employee data'!BM44","v":0},{"$f":"'6 - Input sheet - Employee data'!BN44","v":0},{"$f":"'6 - Input sheet - Employee data'!BO44","v":0},{"$f":"'6 - Input sheet - Employee data'!BP44","v":0},{"$f":"'6 - Input sheet - Employee data'!BQ44","v":0},{"$f":"'6 - Input sheet - Employee data'!BR44","v":0},{"$f":"'6 - Input sheet - Employee data'!BS44","v":0},{"$f":"'6 - Input sheet - Employee data'!BT44","v":0},{"$f":"'6 - Input sheet - Employee data'!BU44","v":0},{"$f":"'6 - Input sheet - Employee data'!BV44","v":0},{"$f":"'6 - Input sheet - Employee data'!BW44","v":0},{"$f":"'6 - Input sheet - Employee data'!BX44","v":0},{"$f":"'6 - Input sheet - Employee data'!BY44","v":0},{"$f":"'6 - Input sheet - Employee data'!BZ44","v":0},{"$f":"'6 - Input sheet - Employee data'!CA44","v":0},{"$f":"'6 - Input sheet - Employee data'!CB44","v":0},{"$f":"'6 - Input sheet - Employee data'!CC44","v":0},{"$f":"'6 - Input sheet - Employee data'!CD44","v":0},{"$f":"'6 - Input sheet - Employee data'!CE44","v":0},{"$f":"'6 - Input sheet - Employee data'!CF44","v":0},{"$f":"'6 - Input sheet - Employee data'!CG44","v":0},{"$f":"'6 - Input sheet - Employee data'!CH44","v":0},{"$f":"'6 - Input sheet - Employee data'!CI44","v":0},{"$f":"'6 - Input sheet - Employee data'!CJ44","v":0},{"$f":"'6 - Input sheet - Employee data'!CK44","v":0},{"$f":"'6 - Input sheet - Employee data'!CL44","v":0},{"$f":"'6 - Input sheet - Employee data'!CM44","v":0},{"$f":"'6 - Input sheet - Employee data'!CN44","v":0},{"$f":"'6 - Input sheet - Employee data'!CO44","v":0},{"$f":"'6 - Input sheet - Employee data'!CP44","v":0},{"$f":"'6 - Input sheet - Employee data'!CQ44","v":0},{"$f":"'6 - Input sheet - Employee data'!CR44","v":0},{"$f":"'6 - Input sheet - Employee data'!CS44","v":0},{"$f":"'6 - Input sheet - Employee data'!CT44","v":0},{"$f":"'6 - Input sheet - Employee data'!CU44","v":0},{"$f":"'6 - Input sheet - Employee data'!CV44","v":0},{"$f":"'6 - Input sheet - Employee data'!CW44","v":0},{"$f":"'6 - Input sheet - Employee data'!CX44","v":0},{"$f":"'6 - Input sheet - Employee data'!CY44","v":0},{"$f":"'6 - Input sheet - Employee data'!CZ44","v":0},{"$f":"'6 - Input sheet - Employee data'!DA44","v":0},{"$f":"'6 - Input sheet - Employee data'!DB44","v":0},{"$f":"'6 - Input sheet - Employee data'!DC44","v":0},{"$f":"'6 - Input sheet - Employee data'!DD44","v":0},{"$f":"'6 - Input sheet - Employee data'!DE44","v":0},{"$f":"'6 - Input sheet - Employee data'!DF44","v":0},{"$f":"'6 - Input sheet - Employee data'!DG44","v":0},{"$f":"'6 - Input sheet - Employee data'!DH44","v":0},{"$f":"'6 - Input sheet - Employee data'!DI44","v":0},{"$f":"'6 - Input sheet - Employee data'!DJ44","v":0},{"$f":"'6 - Input sheet - Employee data'!DK44","v":0},{"$f":"'6 - Input sheet - Employee data'!DL44","v":0},{"$f":"'6 - Input sheet - Employee data'!DM44","v":0},{"$f":"'6 - Input sheet - Employee data'!DN44","v":0},{"$f":"'6 - Input sheet - Employee data'!DO44","v":0},{"$f":"'6 - Input sheet - Employee data'!DP44","v":0},{"$f":"'6 - Input sheet - Employee data'!DQ44","v":0},{"$f":"'6 - Input sheet - Employee data'!DR44","v":0},{"$f":"'6 - Input sheet - Employee data'!DS44","v":0},{"$f":"'6 - Input sheet - Employee data'!DT44","v":0},{"$f":"'6 - Input sheet - Employee data'!DU44","v":0},{"$f":"'6 - Input sheet - Employee data'!DV44","v":0},{"$f":"'6 - Input sheet - Employee data'!DW44","v":0},{"$f":"'6 - Input sheet - Employee data'!DX44","v":0},{"$f":"'6 - Input sheet - Employee data'!DY44","v":0},{"$f":"'6 - Input sheet - Employee data'!DZ44","v":0},{"$f":"'6 - Input sheet - Employee data'!EA44","v":0},{"$f":"'6 - Input sheet - Employee data'!EB44","v":0},{"$f":"'6 - Input sheet - Employee data'!EC44","v":0},{"$f":"'6 - Input sheet - Employee data'!ED44","v":0},{"$f":"'6 - Input sheet - Employee data'!EE44","v":0},{"$f":"'6 - Input sheet - Employee data'!EF44","v":0},{"$f":"'6 - Input sheet - Employee data'!EG44","v":0},{"$f":"'6 - Input sheet - Employee data'!EH44","v":0},{"$f":"'6 - Input sheet - Employee data'!EI44","v":0},{"$f":"'6 - Input sheet - Employee data'!EJ44","v":0},{"$f":"'6 - Input sheet - Employee data'!EK44","v":0},{"$f":"'6 - Input sheet - Employee data'!EL44","v":0},{"$f":"'6 - Input sheet - Employee data'!EM44","v":0},{"$f":"'6 - Input sheet - Employee data'!EN44","v":0},{"$f":"'6 - Input sheet - Employee data'!EO44","v":0},{"$f":"'6 - Input sheet - Employee data'!EP44","v":0},{"$f":"'6 - Input sheet - Employee data'!EQ44","v":0},{"$f":"'6 - Input sheet - Employee data'!ER44","v":0},{"$f":"'6 - Input sheet - Employee data'!ES44","v":0},{"$f":"'6 - Input sheet - Employee data'!ET44","v":0},{"$f":"'6 - Input sheet - Employee data'!EU44","v":0},{"$f":"'6 - Input sheet - Employee data'!EV44","v":0},{"$f":"'6 - Input sheet - Employee data'!EW44","v":0},{"$f":"'6 - Input sheet - Employee data'!EX44","v":0},{"$f":"'6 - Input sheet - Employee data'!EY44","v":0},{"$f":"'6 - Input sheet - Employee data'!EZ44","v":0},{"$f":"'6 - Input sheet - Employee data'!FA44","v":0},{"$f":"'6 - Input sheet - Employee data'!FB44","v":0},{"$f":"'6 - Input sheet - Employee data'!FC44","v":0},{"$f":"'6 - Input sheet - Employee data'!FD44","v":0},{"$f":"'6 - Input sheet - Employee data'!FE44","v":0},{"$f":"'6 - Input sheet - Employee data'!FF44","v":0},{"$f":"'6 - Input sheet - Employee data'!FG44","v":0},{"$f":"'6 - Input sheet - Employee data'!FH44","v":0},{"$f":"'6 - Input sheet - Employee data'!FI44","v":0},{"$f":"'6 - Input sheet - Employee data'!FJ44","v":0},{"$f":"'6 - Input sheet - Employee data'!FK44","v":0},{"$f":"'6 - Input sheet - Employee data'!FL44","v":0},{"$f":"'6 - Input sheet - Employee data'!FM44","v":0},{"$f":"'6 - Input sheet - Employee data'!FN44","v":0},{"$f":"'6 - Input sheet - Employee data'!FO44","v":0},{"$f":"'6 - Input sheet - Employee data'!FP44","v":0},{"$f":"'6 - Input sheet - Employee data'!FQ44","v":0},{"$f":"'6 - Input sheet - Employee data'!FR44","v":0},{"$f":"'6 - Input sheet - Employee data'!FS44","v":0},{"$f":"'6 - Input sheet - Employee data'!FT44","v":0},{"$f":"'6 - Input sheet - Employee data'!FU44","v":0},{"$f":"'6 - Input sheet - Employee data'!FV44","v":0},{"$f":"'6 - Input sheet - Employee data'!FW44","v":0},{"$f":"'6 - Input sheet - Employee data'!FX44","v":0},{"$f":"'6 - Input sheet - Employee data'!FY44","v":0},{"$f":"'6 - Input sheet - Employee data'!FZ44","v":0},{"$f":"'6 - Input sheet - Employee data'!GA44","v":0},{"$f":"'6 - Input sheet - Employee data'!GB44","v":0},{"$f":"'6 - Input sheet - Employee data'!GC44","v":0},{"$f":"'6 - Input sheet - Employee data'!GD44","v":0},{"$f":"'6 - Input sheet - Employee data'!GE44","v":0},{"$f":"'6 - Input sheet - Employee data'!GF44","v":0},{"$f":"'6 - Input sheet - Employee data'!GG44","v":0},{"$f":"'6 - Input sheet - Employee data'!GH44","v":0},{"$f":"'6 - Input sheet - Employee data'!GI44","v":0},{"$f":"'6 - Input sheet - Employee data'!GJ44","v":0},{"$f":"'6 - Input sheet - Employee data'!GK44","v":0},{"$f":"'6 - Input sheet - Employee data'!GL44","v":0},{"$f":"'6 - Input sheet - Employee data'!GM44","v":0},{"$f":"'6 - Input sheet - Employee data'!GN44","v":0},{"$f":"'6 - Input sheet - Employee data'!GO44","v":0},{"$f":"'6 - Input sheet - Employee data'!GP44","v":0},{"$f":"'6 - Input sheet - Employee data'!GQ44","v":0},{"$f":"'6 - Input sheet - Employee data'!GR44","v":0},{"$f":"'6 - Input sheet - Employee data'!GS44","v":0},{"$f":"'6 - Input sheet - Employee data'!GT44","v":0},{"$f":"'6 - Input sheet - Employee data'!GU44","v":0},{"$f":"'6 - Input sheet - Employee data'!GV44","v":0},{"$f":"'6 - Input sheet - Employee data'!GW44","v":0},{"$f":"'6 - Input sheet - Employee data'!GX44","v":0},{"$f":"'6 - Input sheet - Employee data'!GY44","v":0},{"$f":"'6 - Input sheet - Employee data'!GZ44","v":0},{"$f":"'6 - Input sheet - Employee data'!HA44","v":0},{"$f":"'6 - Input sheet - Employee data'!HB44","v":0},{"$f":"'6 - Input sheet - Employee data'!HC44","v":0},{"$f":"'6 - Input sheet - Employee data'!HD44","v":0},{"$f":"'6 - Input sheet - Employee data'!HE44","v":0},{"$f":"'6 - Input sheet - Employee data'!HF44","v":0},{"$f":"'6 - Input sheet - Employee data'!HG44","v":0},{"$f":"'6 - Input sheet - Employee data'!HH44","v":0},{"$f":"'6 - Input sheet - Employee data'!HI44","v":0},{"$f":"'6 - Input sheet - Employee data'!HJ44","v":0},{"$f":"'6 - Input sheet - Employee data'!HK44","v":0},{"$f":"'6 - Input sheet - Employee data'!HL44","v":0},{"$f":"'6 - Input sheet - Employee data'!HM44","v":0},{"$f":"'6 - Input sheet - Employee data'!HN44","v":0},{"$f":"'6 - Input sheet - Employee data'!HO44","v":0},{"$f":"'6 - Input sheet - Employee data'!HP44","v":0},{"$f":"'6 - Input sheet - Employee data'!HQ44","v":0},{"$f":"'6 - Input sheet - Employee data'!HR44","v":0},{"$f":"'6 - Input sheet - Employee data'!HS44","v":0},{"$f":"'6 - Input sheet - Employee data'!HT44","v":0},{"$f":"'6 - Input sheet - Employee data'!HU44","v":0},{"$f":"'6 - Input sheet - Employee data'!HV44","v":0},{"$f":"'6 - Input sheet - Employee data'!HW44","v":0},{"$f":"'6 - Input sheet - Employee data'!HX44","v":0},{"$f":"'6 - Input sheet - Employee data'!HY44","v":0},{"$f":"'6 - Input sheet - Employee data'!HZ44","v":0},{"$f":"'6 - Input sheet - Employee data'!IA44","v":0},{"$f":"'6 - Input sheet - Employee data'!IB44","v":0},{"$f":"'6 - Input sheet - Employee data'!IC44","v":0},{"$f":"'6 - Input sheet - Employee data'!ID44","v":0},{"$f":"'6 - Input sheet - Employee data'!IE44","v":0},{"$f":"'6 - Input sheet - Employee data'!IF44","v":0},{"$f":"'6 - Input sheet - Employee data'!IG44","v":0},{"$f":"'6 - Input sheet - Employee data'!IH44","v":0},{"$f":"'6 - Input sheet - Employee data'!II44","v":0},{"$f":"'6 - Input sheet - Employee data'!IJ44","v":0},{"$f":"'6 - Input sheet - Employee data'!IK44","v":0},{"$f":"'6 - Input sheet - Employee data'!IL44","v":0},{"$f":"'6 - Input sheet - Employee data'!IM44","v":0},{"$f":"'6 - Input sheet - Employee data'!IN44","v":0},{"$f":"'6 - Input sheet - Employee data'!IO44","v":0},{"$f":"'6 - Input sheet - Employee data'!IP44","v":0},{"$f":"'6 - Input sheet - Employee data'!IQ44","v":0},{"$f":"'6 - Input sheet - Employee data'!IR44","v":0},{"$f":"'6 - Input sheet - Employee data'!IS44","v":0},{"$f":"'6 - Input sheet - Employee data'!IT44","v":0},{"$f":"'6 - Input sheet - Employee data'!IU44","v":0},{"$f":"'6 - Input sheet - Employee data'!IV44","v":0},{"$f":"'6 - Input sheet - Employee data'!IW44","v":0},{"$f":"'6 - Input sheet - Employee data'!IX44","v":0},{"$f":"'6 - Input sheet - Employee data'!IY44","v":0},{"$f":"'6 - Input sheet - Employee data'!IZ44","v":0},{"$f":"'6 - Input sheet - Employee data'!JA44","v":0},{"$f":"'6 - Input sheet - Employee data'!JB44","v":0},{"$f":"'6 - Input sheet - Employee data'!JC44","v":0},{"$f":"'6 - Input sheet - Employee data'!JD44","v":0},{"$f":"'6 - Input sheet - Employee data'!JE44","v":0},{"$f":"'6 - Input sheet - Employee data'!JF44","v":0},{"$f":"'6 - Input sheet - Employee data'!JG44","v":0},{"$f":"'6 - Input sheet - Employee data'!JH44","v":0},{"$f":"'6 - Input sheet - Employee data'!JI44","v":0},{"$f":"'6 - Input sheet - Employee data'!JJ44","v":0},{"$f":"'6 - Input sheet - Employee data'!JK44","v":0},{"$f":"'6 - Input sheet - Employee data'!JL44","v":0},{"$f":"'6 - Input sheet - Employee data'!JM44","v":0},{"$f":"'6 - Input sheet - Employee data'!JN44","v":0},{"$f":"'6 - Input sheet - Employee data'!JO44","v":0},{"$f":"'6 - Input sheet - Employee data'!JP44","v":0},{"$f":"'6 - Input sheet - Employee data'!JQ44","v":0},{"$f":"'6 - Input sheet - Employee data'!JR44","v":0},{"$f":"'6 - Input sheet - Employee data'!JS44","v":0},{"$f":"'6 - Input sheet - Employee data'!JT44","v":0},{"$f":"'6 - Input sheet - Employee data'!JU44","v":0},{"$f":"'6 - Input sheet - Employee data'!JV44","v":0},{"$f":"'6 - Input sheet - Employee data'!JW44","v":0},{"$f":"'6 - Input sheet - Employee data'!JX44","v":0},{"$f":"'6 - Input sheet - Employee data'!JY44","v":0},{"$f":"'6 - Input sheet - Employee data'!JZ44","v":0},{"$f":"'6 - Input sheet - Employee data'!KA44","v":0},{"$f":"'6 - Input sheet - Employee data'!KB44","v":0},{"$f":"'6 - Input sheet - Employee data'!KC44","v":0},{"$f":"'6 - Input sheet - Employee data'!KD44","v":0},{"$f":"'6 - Input sheet - Employee data'!KE44","v":0},{"$f":"'6 - Input sheet - Employee data'!KF44","v":0},{"$f":"'6 - Input sheet - Employee data'!KG44","v":0},{"$f":"'6 - Input sheet - Employee data'!KH44","v":0},{"$f":"'6 - Input sheet - Employee data'!KI44","v":0},{"$f":"'6 - Input sheet - Employee data'!KJ44","v":0},{"$f":"'6 - Input sheet - Employee data'!KK44","v":0},{"$f":"'6 - Input sheet - Employee data'!KL44","v":0},{"$f":"'6 - Input sheet - Employee data'!KM44","v":0},{"$f":"'6 - Input sheet - Employee data'!KN44","v":0},{"$f":"'6 - Input sheet - Employee data'!KO44","v":0},{"$f":"'6 - Input sheet - Employee data'!KP44","v":0},{"$f":"'6 - Input sheet - Employee data'!KQ44","v":0},{"$f":"'6 - Input sheet - Employee data'!KR44","v":0},{"$f":"'6 - Input sheet - Employee data'!KS44","v":0},{"$f":"'6 - Input sheet - Employee data'!KT44","v":0},{"$f":"'6 - Input sheet - Employee data'!KU44","v":0},{"$f":"'6 - Input sheet - Employee data'!KV44","v":0},{"$f":"'6 - Input sheet - Employee data'!KW44","v":0},{"$f":"'6 - Input sheet - Employee data'!KX44","v":0},{"$f":"'6 - Input sheet - Employee data'!KY44","v":0},{"$f":"'6 - Input sheet - Employee data'!KZ44","v":0},{"$f":"'6 - Input sheet - Employee data'!LA44","v":0},{"$f":"'6 - Input sheet - Employee data'!LB44","v":0},{"$f":"'6 - Input sheet - Employee data'!LC44","v":0},{"$f":"'6 - Input sheet - Employee data'!LD44","v":0},{"$f":"'6 - Input sheet - Employee data'!LE44","v":0},{"$f":"'6 - Input sheet - Employee data'!LF44","v":0},{"$f":"'6 - Input sheet - Employee data'!LG44","v":0},{"$f":"'6 - Input sheet - Employee data'!LH44","v":0},{"$f":"'6 - Input sheet - Employee data'!LI44","v":0},{"$f":"'6 - Input sheet - Employee data'!LJ44","v":0},{"$f":"'6 - Input sheet - Employee data'!LK44","v":0},{"$f":"'6 - Input sheet - Employee data'!LL44","v":0},{"$f":"'6 - Input sheet - Employee data'!LM44","v":0},{"$f":"'6 - Input sheet - Employee data'!LN44","v":0},{"$f":"'6 - Input sheet - Employee data'!LO44","v":0},{"$f":"'6 - Input sheet - Employee data'!LP44","v":0},{"$f":"'6 - Input sheet - Employee data'!LQ44","v":0},{"$f":"'6 - Input sheet - Employee data'!LR44","v":0},{"$f":"'6 - Input sheet - Employee data'!LS44","v":0},{"$f":"'6 - Input sheet - Employee data'!LT44","v":0},{"$f":"'6 - Input sheet - Employee data'!LU44","v":0},{"$f":"'6 - Input sheet - Employee data'!LV44","v":0},{"$f":"'6 - Input sheet - Employee data'!LW44","v":0},{"$f":"'6 - Input sheet - Employee data'!LX44","v":0},{"$f":"'6 - Input sheet - Employee data'!LY44","v":0},{"$f":"'6 - Input sheet - Employee data'!LZ44","v":0},{"$f":"'6 - Input sheet - Employee data'!MA44","v":0},{"$f":"'6 - Input sheet - Employee data'!MB44","v":0},{"$f":"'6 - Input sheet - Employee data'!MC44","v":0},{"$f":"'6 - Input sheet - Employee data'!MD44","v":0},{"$f":"'6 - Input sheet - Employee data'!ME44","v":0},{"$f":"'6 - Input sheet - Employee data'!MF44","v":0},{"$f":"'6 - Input sheet - Employee data'!MG44","v":0},{"$f":"'6 - Input sheet - Employee data'!MH44","v":0},{"$f":"'6 - Input sheet - Employee data'!MI44","v":0},{"$f":"'6 - Input sheet - Employee data'!MJ44","v":0},{"$f":"'6 - Input sheet - Employee data'!MK44","v":0},{"$f":"'6 - Input sheet - Employee data'!ML44","v":0},{"$f":"'6 - Input sheet - Employee data'!MM44","v":0},{"$f":"'6 - Input sheet - Employee data'!MN44","v":0},{"$f":"'6 - Input sheet - Employee data'!MO44","v":0},{"$f":"'6 - Input sheet - Employee data'!MP44","v":0},{"$f":"'6 - Input sheet - Employee data'!MQ44","v":0},{"$f":"'6 - Input sheet - Employee data'!MR44","v":0},{"$f":"'6 - Input sheet - Employee data'!MS44","v":0},{"$f":"'6 - Input sheet - Employee data'!MT44","v":0},{"$f":"'6 - Input sheet - Employee data'!MU44","v":0},{"$f":"'6 - Input sheet - Employee data'!MV44","v":0},{"$f":"'6 - Input sheet - Employee data'!MW44","v":0},{"$f":"'6 - Input sheet - Employee data'!MX44","v":0},{"$f":"'6 - Input sheet - Employee data'!MY44","v":0},{"$f":"'6 - Input sheet - Employee data'!MZ44","v":0},{"$f":"'6 - Input sheet - Employee data'!NA44","v":0},{"$f":"'6 - Input sheet - Employee data'!NB44","v":0},{"$f":"'6 - Input sheet - Employee data'!NC44","v":0},{"$f":"'6 - Input sheet - Employee data'!ND44","v":0},{"$f":"'6 - Input sheet - Employee data'!NE44","v":0},{"$f":"'6 - Input sheet - Employee data'!NF44","v":0},{"$f":"'6 - Input sheet - Employee data'!NG44","v":0},{"$f":"'6 - Input sheet - Employee data'!NH44","v":0},{"$f":"'6 - Input sheet - Employee data'!NI44","v":0},{"$f":"'6 - Input sheet - Employee data'!NJ44","v":0},{"$f":"'6 - Input sheet - Employee data'!NK44","v":0},{"$f":"'6 - Input sheet - Employee data'!NL44","v":0},{"$f":"'6 - Input sheet - Employee data'!NM44","v":0},{"$f":"'6 - Input sheet - Employee data'!NN44","v":0},{"$f":"'6 - Input sheet - Employee data'!NO44","v":0},{"$f":"'6 - Input sheet - Employee data'!NP44","v":0},{"$f":"'6 - Input sheet - Employee data'!NQ44","v":0},{"$f":"'6 - Input sheet - Employee data'!NR44","v":0},{"$f":"'6 - Input sheet - Employee data'!NS44","v":0},{"$f":"'6 - Input sheet - Employee data'!NT44","v":0},{"$f":"'6 - Input sheet - Employee data'!NU44","v":0},{"$f":"'6 - Input sheet - Employee data'!NV44","v":0},{"$f":"'6 - Input sheet - Employee data'!NW44","v":0},{"$f":"'6 - Input sheet - Employee data'!NX44","v":0},{"$f":"'6 - Input sheet - Employee data'!NY44","v":0},{"$f":"'6 - Input sheet - Employee data'!NZ44","v":0},{"$f":"'6 - Input sheet - Employee data'!OA44","v":0},{"$f":"'6 - Input sheet - Employee data'!OB44","v":0},{"$f":"'6 - Input sheet - Employee data'!OC44","v":0},{"$f":"'6 - Input sheet - Employee data'!OD44","v":0},{"$f":"'6 - Input sheet - Employee data'!OE44","v":0},{"$f":"'6 - Input sheet - Employee data'!OF44","v":0},{"$f":"'6 - Input sheet - Employee data'!OG44","v":0},{"$f":"'6 - Input sheet - Employee data'!OH44","v":0},{"$f":"'6 - Input sheet - Employee data'!OI44","v":0},{"$f":"'6 - Input sheet - Employee data'!OJ44","v":0},{"$f":"'6 - Input sheet - Employee data'!OK44","v":0},{"$f":"'6 - Input sheet - Employee data'!OL44","v":0},{"$f":"'6 - Input sheet - Employee data'!OM44","v":0},{"$f":"'6 - Input sheet - Employee data'!ON44","v":0},{"$f":"'6 - Input sheet - Employee data'!OO44","v":0},{"$f":"'6 - Input sheet - Employee data'!OP44","v":0},{"$f":"'6 - Input sheet - Employee data'!OQ44","v":0},{"$f":"'6 - Input sheet - Employee data'!OR44","v":0},{"$f":"'6 - Input sheet - Employee data'!OS44","v":0},{"$f":"'6 - Input sheet - Employee data'!OT44","v":0},{"$f":"'6 - Input sheet - Employee data'!OU44","v":0},{"$f":"'6 - Input sheet - Employee data'!OV44","v":0},{"$f":"'6 - Input sheet - Employee data'!OW44","v":0},{"$f":"'6 - Input sheet - Employee data'!OX44","v":0},{"$f":"'6 - Input sheet - Employee data'!OY44","v":0},{"$f":"'6 - Input sheet - Employee data'!OZ44","v":0},{"$f":"'6 - Input sheet - Employee data'!PA44","v":0},{"$f":"'6 - Input sheet - Employee data'!PB44","v":0},{"$f":"'6 - Input sheet - Employee data'!PC44","v":0},{"$f":"'6 - Input sheet - Employee data'!PD44","v":0},{"$f":"'6 - Input sheet - Employee data'!PE44","v":0},{"$f":"'6 - Input sheet - Employee data'!PF44","v":0},{"$f":"'6 - Input sheet - Employee data'!PG44","v":0},{"$f":"'6 - Input sheet - Employee data'!PH44","v":0},{"$f":"'6 - Input sheet - Employee data'!PI44","v":0},{"$f":"'6 - Input sheet - Employee data'!PJ44","v":0},{"$f":"'6 - Input sheet - Employee data'!PK44","v":0},{"$f":"'6 - Input sheet - Employee data'!PL44","v":0},{"$f":"'6 - Input sheet - Employee data'!PM44","v":0},{"$f":"'6 - Input sheet - Employee data'!PN44","v":0},{"$f":"'6 - Input sheet - Employee data'!PO44","v":0},{"$f":"'6 - Input sheet - Employee data'!PP44","v":0},{"$f":"'6 - Input sheet - Employee data'!PQ44","v":0},{"$f":"'6 - Input sheet - Employee data'!PR44","v":0},{"$f":"'6 - Input sheet - Employee data'!PS44","v":0},{"$f":"'6 - Input sheet - Employee data'!PT44","v":0},{"$f":"'6 - Input sheet - Employee data'!PU44","v":0},{"$f":"'6 - Input sheet - Employee data'!PV44","v":0},{"$f":"'6 - Input sheet - Employee data'!PW44","v":0},{"$f":"'6 - Input sheet - Employee data'!PX44","v":0},{"$f":"'6 - Input sheet - Employee data'!PY44","v":0},{"$f":"'6 - Input sheet - Employee data'!PZ44","v":0},{"$f":"'6 - Input sheet - Employee data'!QA44","v":0},{"$f":"'6 - Input sheet - Employee data'!QB44","v":0},{"$f":"'6 - Input sheet - Employee data'!QC44","v":0},{"$f":"'6 - Input sheet - Employee data'!QD44","v":0},{"$f":"'6 - Input sheet - Employee data'!QE44","v":0},{"$f":"'6 - Input sheet - Employee data'!QF44","v":0},{"$f":"'6 - Input sheet - Employee data'!QG44","v":0},{"$f":"'6 - Input sheet - Employee data'!QH44","v":0},{"$f":"'6 - Input sheet - Employee data'!QI44","v":0},{"$f":"'6 - Input sheet - Employee data'!QJ44","v":0},{"$f":"'6 - Input sheet - Employee data'!QK44","v":0},{"$f":"'6 - Input sheet - Employee data'!QL44","v":0},{"$f":"'6 - Input sheet - Employee data'!QM44","v":0},{"$f":"'6 - Input sheet - Employee data'!QN44","v":0},{"$f":"'6 - Input sheet - Employee data'!QO44","v":0},{"$f":"'6 - Input sheet - Employee data'!QP44","v":0},{"$f":"'6 - Input sheet - Employee data'!QQ44","v":0},{"$f":"'6 - Input sheet - Employee data'!QR44","v":0},{"$f":"'6 - Input sheet - Employee data'!QS44","v":0},{"$f":"'6 - Input sheet - Employee data'!QT44","v":0},{"$f":"'6 - Input sheet - Employee data'!QU44","v":0},{"$f":"'6 - Input sheet - Employee data'!QV44","v":0},{"$f":"'6 - Input sheet - Employee data'!QW44","v":0},{"$f":"'6 - Input sheet - Employee data'!QX44","v":0},{"$f":"'6 - Input sheet - Employee data'!QY44","v":0},{"$f":"'6 - Input sheet - Employee data'!QZ44","v":0},{"$f":"'6 - Input sheet - Employee data'!RA44","v":0},{"$f":"'6 - Input sheet - Employee data'!RB44","v":0},{"$f":"'6 - Input sheet - Employee data'!RC44","v":0},{"$f":"'6 - Input sheet - Employee data'!RD44","v":0},{"$f":"'6 - Input sheet - Employee data'!RE44","v":0},{"$f":"'6 - Input sheet - Employee data'!RF44","v":0},{"$f":"'6 - Input sheet - Employee data'!RG44","v":0},{"$f":"'6 - Input sheet - Employee data'!RH44","v":0},{"$f":"'6 - Input sheet - Employee data'!RI44","v":0},{"$f":"'6 - Input sheet - Employee data'!RJ44","v":0},{"$f":"'6 - Input sheet - Employee data'!RK44","v":0},{"$f":"'6 - Input sheet - Employee data'!RL44","v":0},{"$f":"'6 - Input sheet - Employee data'!RM44","v":0},{"$f":"'6 - Input sheet - Employee data'!RN44","v":0},{"$f":"'6 - Input sheet - Employee data'!RO44","v":0},{"$f":"'6 - Input sheet - Employee data'!RP44","v":0},{"$f":"'6 - Input sheet - Employee data'!RQ44","v":0},{"$f":"'6 - Input sheet - Employee data'!RR44","v":0},{"$f":"'6 - Input sheet - Employee data'!RS44","v":0},{"$f":"'6 - Input sheet - Employee data'!RT44","v":0},{"$f":"'6 - Input sheet - Employee data'!RU44","v":0},{"$f":"'6 - Input sheet - Employee data'!RV44","v":0},{"$f":"'6 - Input sheet - Employee data'!RW44","v":0},{"$f":"'6 - Input sheet - Employee data'!RX44","v":0},{"$f":"'6 - Input sheet - Employee data'!RY44","v":0},{"$f":"'6 - Input sheet - Employee data'!RZ44","v":0},{"$f":"'6 - Input sheet - Employee data'!SA44","v":0},{"$f":"'6 - Input sheet - Employee data'!SB44","v":0},{"$f":"'6 - Input sheet - Employee data'!SC44","v":0},{"$f":"'6 - Input sheet - Employee data'!SD44","v":0},{"$f":"'6 - Input sheet - Employee data'!SE44","v":0},{"$f":"'6 - Input sheet - Employee data'!SF44","v":0},{"$f":"'6 - Input sheet - Employee data'!SG44","v":0},{"$f":"'6 - Input sheet - Employee data'!SH44","v":0}]
["   Employed - Payroll period inclusive of February 15, 2020",null,{"$f":"'6 - Input sheet - Employee data'!C45","v":"Yes"},{"$f":"'6 - Input sheet - Employee data'!D45","v":"Yes"},{"$f":"'6 - Input sheet - Employee data'!E45","v":"Yes"},{"$f":"'6 - Input sheet - Employee data'!F45","v":"Yes"},{"$f":"'6 - Input sheet - Employee data'!G45","v":"Yes"},{"$f":"'6 - Input sheet - Employee data'!H45","v":"Yes"},{"$f":"'6 - Input sheet - Employee data'!I45","v":"Yes"},{"$f":"'6 - Input sheet - Employee data'!J45","v":"Yes"},{"$f":"'6 - Input sheet - Employee data'!K45","v":"Yes"},{"$f":"'6 - Input sheet - Employee data'!L45","v":"Yes"},{"$f":"'6 - Input sheet - Employee data'!M45","v":"Yes"},{"$f":"'6 - Input sheet - Employee data'!N45","v":"Yes"},{"$f":"'6 - Input sheet - Employee data'!O45","v":"Yes"},{"$f":"'6 - Input sheet - Employee data'!P45","v":"Yes"},{"$f":"'6 - Input sheet - Employee data'!Q45","v":"Yes"},{"$f":"'6 - Input sheet - Employee data'!R45","v":"Yes"},{"$f":"'6 - Input sheet - Employee data'!S45","v":"Yes"},{"$f":"'6 - Input sheet - Employee data'!T45","v":"Yes"},{"$f":"'6 - Input sheet - Employee data'!U45","v":"Yes"},{"$f":"'6 - Input sheet - Employee data'!V45","v":"Yes"},{"$f":"'6 - Input sheet - Employee data'!W45","v":"Yes"},{"$f":"'6 - Input sheet - Employee data'!X45","v":"Yes"},{"$f":"'6 - Input sheet - Employee data'!Y45","v":"Yes"},{"$f":"'6 - Input sheet - Employee data'!Z45","v":"Yes"},{"$f":"'6 - Input sheet - Employee data'!AA45","v":"Yes"},{"$f":"'6 - Input sheet - Employee data'!AB45","v":"Yes"},{"$f":"'6 - Input sheet - Employee data'!AC45","v":"Yes"},{"$f":"'6 - Input sheet - Employee data'!AD45","v":"Yes"},{"$f":"'6 - Input sheet - Employee data'!AE45","v":"Yes"},{"$f":"'6 - Input sheet - Employee data'!AF45","v":"Yes"},{"$f":"'6 - Input sheet - Employee data'!AG45","v":"Yes"},{"$f":"'6 - Input sheet - Employee data'!AH45","v":"Yes"},{"$f":"'6 - Input sheet - Employee data'!AI45","v":"Yes"},{"$f":"'6 - Input sheet - Employee data'!AJ45","v":"Yes"},{"$f":"'6 - Input sheet - Employee data'!AK45","v":"Yes"},{"$f":"'6 - Input sheet - Employee data'!AL45","v":"Yes"},{"$f":"'6 - Input sheet - Employee data'!AM45","v":"Yes"},{"$f":"'6 - Input sheet - Employee data'!AN45","v":"Yes"},{"$f":"'6 - Input sheet - Employee data'!AO45","v":"Yes"},{"$f":"'6 - Input sheet - Employee data'!AP45","v":"Yes"},{"$f":"'6 - Input sheet - Employee data'!AQ45","v":"Yes"},{"$f":"'6 - Input sheet - Employee data'!AR45","v":"Yes"},{"$f":"'6 - Input sheet - Employee data'!AS45","v":"Yes"},{"$f":"'6 - Input sheet - Employee data'!AT45","v":"Yes"},{"$f":"'6 - Input sheet - Employee data'!AU45","v":"Yes"},{"$f":"'6 - Input sheet - Employee data'!AV45","v":"Yes"},{"$f":"'6 - Input sheet - Employee data'!AW45","v":"Yes"},{"$f":"'6 - Input sheet - Employee data'!AX45","v":"Yes"},{"$f":"'6 - Input sheet - Employee data'!AY45","v":"Yes"},{"$f":"'6 - Input sheet - Employee data'!AZ45","v":"Yes"},{"$f":"'6 - Input sheet - Employee data'!BA45","v":"Yes"},{"$f":"'6 - Input sheet - Employee data'!BB45","v":"Yes"},{"$f":"'6 - Input sheet - Employee data'!BC45","v":"Yes"},{"$f":"'6 - Input sheet - Employee data'!BD45","v":"Yes"},{"$f":"'6 - Input sheet - Employee data'!BE45","v":"Yes"},{"$f":"'6 - Input sheet - Employee data'!BF45","v":"Yes"},{"$f":"'6 - Input sheet - Employee data'!BG45","v":"Yes"},{"$f":"'6 - Input sheet - Employee data'!BH45","v":"Yes"},{"$f":"'6 - Input sheet - Employee data'!BI45","v":"Yes"},{"$f":"'6 - Input sheet - Employee data'!BJ45","v":"Yes"},{"$f":"'6 - Input sheet - Employee data'!BK45","v":"Yes"},{"$f":"'6 - Input sheet - Employee data'!BL45","v":"Yes"},{"$f":"'6 - Input sheet - Employee data'!BM45","v":"Yes"},{"$f":"'6 - Input sheet - Employee data'!BN45","v":"Yes"},{"$f":"'6 - Input sheet - Employee data'!BO45","v":"Yes"},{"$f":"'6 - Input sheet - Employee data'!BP45","v":"Yes"},{"$f":"'6 - Input sheet - Employee data'!BQ45","v":"Yes"},{"$f":"'6 - Input sheet - Employee data'!BR45","v":"Yes"},{"$f":"'6 - Input sheet - Employee data'!BS45","v":"Yes"},{"$f":"'6 - Input sheet - Employee data'!BT45","v":"Yes"},{"$f":"'6 - Input sheet - Employee data'!BU45","v":"Yes"},{"$f":"'6 - Input sheet - Employee data'!BV45","v":"Yes"},{"$f":"'6 - Input sheet - Employee data'!BW45","v":"Yes"},{"$f":"'6 - Input sheet - Employee data'!BX45","v":"Yes"},{"$f":"'6 - Input sheet - Employee data'!BY45","v":"Yes"},{"$f":"'6 - Input sheet - Employee data'!BZ45","v":"Yes"},{"$f":"'6 - Input sheet - Employee data'!CA45","v":"Yes"},{"$f":"'6 - Input sheet - Employee data'!CB45","v":"Yes"},{"$f":"'6 - Input sheet - Employee data'!CC45","v":"Yes"},{"$f":"'6 - Input sheet - Employee data'!CD45","v":"Yes"},{"$f":"'6 - Input sheet - Employee data'!CE45","v":"Yes"},{"$f":"'6 - Input sheet - Employee data'!CF45","v":"Yes"},{"$f":"'6 - Input sheet - Employee data'!CG45","v":"Yes"},{"$f":"'6 - Input sheet - Employee data'!CH45","v":"Yes"},{"$f":"'6 - Input sheet - Employee data'!CI45","v":"Yes"},{"$f":"'6 - Input sheet - Employee data'!CJ45","v":"Yes"},{"$f":"'6 - Input sheet - Employee data'!CK45","v":"Yes"},{"$f":"'6 - Input sheet - Employee data'!CL45","v":"Yes"},{"$f":"'6 - Input sheet - Employee data'!CM45","v":"Yes"},{"$f":"'6 - Input sheet - Employee data'!CN45","v":"Yes"},{"$f":"'6 - Input sheet - Employee data'!CO45","v":"Yes"},{"$f":"'6 - Input sheet - Employee data'!CP45","v":"Yes"},{"$f":"'6 - Input sheet - Employee data'!CQ45","v":"Yes"},{"$f":"'6 - Input sheet - Employee data'!CR45","v":"Yes"},{"$f":"'6 - Input sheet - Employee data'!CS45","v":"Yes"},{"$f":"'6 - Input sheet - Employee data'!CT45","v":"Yes"},{"$f":"'6 - Input sheet - Employee data'!CU45","v":"Yes"},{"$f":"'6 - Input sheet - Employee data'!CV45","v":"Yes"},{"$f":"'6 - Input sheet - Employee data'!CW45","v":"Yes"},{"$f":"'6 - Input sheet - Employee data'!CX45","v":"Yes"},{"$f":"'6 - Input sheet - Employee data'!CY45","v":"Yes"},{"$f":"'6 - Input sheet - Employee data'!CZ45","v":"Yes"},{"$f":"'6 - Input sheet - Employee data'!DA45","v":"Yes"},{"$f":"'6 - Input sheet - Employee data'!DB45","v":"Yes"},{"$f":"'6 - Input sheet - Employee data'!DC45","v":"Yes"},{"$f":"'6 - Input sheet - Employee data'!DD45","v":"Yes"},{"$f":"'6 - Input sheet - Employee data'!DE45","v":"Yes"},{"$f":"'6 - Input sheet - Employee data'!DF45","v":"Yes"},{"$f":"'6 - Input sheet - Employee data'!DG45","v":"Yes"},{"$f":"'6 - Input sheet - Employee data'!DH45","v":"Yes"},{"$f":"'6 - Input sheet - Employee data'!DI45","v":"Yes"},{"$f":"'6 - Input sheet - Employee data'!DJ45","v":"Yes"},{"$f":"'6 - Input sheet - Employee data'!DK45","v":"Yes"},{"$f":"'6 - Input sheet - Employee data'!DL45","v":"Yes"},{"$f":"'6 - Input sheet - Employee data'!DM45","v":"Yes"},{"$f":"'6 - Input sheet - Employee data'!DN45","v":"Yes"},{"$f":"'6 - Input sheet - Employee data'!DO45","v":"Yes"},{"$f":"'6 - Input sheet - Employee data'!DP45","v":"Yes"},{"$f":"'6 - Input sheet - Employee data'!DQ45","v":"Yes"},{"$f":"'6 - Input sheet - Employee data'!DR45","v":"Yes"},{"$f":"'6 - Input sheet - Employee data'!DS45","v":"Yes"},{"$f":"'6 - Input sheet - Employee data'!DT45","v":"Yes"},{"$f":"'6 - Input sheet - Employee data'!DU45","v":"Yes"},{"$f":"'6 - Input sheet - Employee data'!DV45","v":"Yes"},{"$f":"'6 - Input sheet - Employee data'!DW45","v":"Yes"},{"$f":"'6 - Input sheet - Employee data'!DX45","v":"Yes"},{"$f":"'6 - Input sheet - Employee data'!DY45","v":"Yes"},{"$f":"'6 - Input sheet - Employee data'!DZ45","v":"Yes"},{"$f":"'6 - Input sheet - Employee data'!EA45","v":"Yes"},{"$f":"'6 - Input sheet - Employee data'!EB45","v":"Yes"},{"$f":"'6 - Input sheet - Employee data'!EC45","v":"Yes"},{"$f":"'6 - Input sheet - Employee data'!ED45","v":"Yes"},{"$f":"'6 - Input sheet - Employee data'!EE45","v":"Yes"},{"$f":"'6 - Input sheet - Employee data'!EF45","v":"Yes"},{"$f":"'6 - Input sheet - Employee data'!EG45","v":"Yes"},{"$f":"'6 - Input sheet - Employee data'!EH45","v":"Yes"},{"$f":"'6 - Input sheet - Employee data'!EI45","v":"Yes"},{"$f":"'6 - Input sheet - Employee data'!EJ45","v":"Yes"},{"$f":"'6 - Input sheet - Employee data'!EK45","v":"Yes"},{"$f":"'6 - Input sheet - Employee data'!EL45","v":"Yes"},{"$f":"'6 - Input sheet - Employee data'!EM45","v":"Yes"},{"$f":"'6 - Input sheet - Employee data'!EN45","v":"Yes"},{"$f":"'6 - Input sheet - Employee data'!EO45","v":"Yes"},{"$f":"'6 - Input sheet - Employee data'!EP45","v":"Yes"},{"$f":"'6 - Input sheet - Employee data'!EQ45","v":"Yes"},{"$f":"'6 - Input sheet - Employee data'!ER45","v":"Yes"},{"$f":"'6 - Input sheet - Employee data'!ES45","v":"Yes"},{"$f":"'6 - Input sheet - Employee data'!ET45","v":"Yes"},{"$f":"'6 - Input sheet - Employee data'!EU45","v":"Yes"},{"$f":"'6 - Input sheet - Employee data'!EV45","v":"Yes"},{"$f":"'6 - Input sheet - Employee data'!EW45","v":"Yes"},{"$f":"'6 - Input sheet - Employee data'!EX45","v":"Yes"},{"$f":"'6 - Input sheet - Employee data'!EY45","v":"Yes"},{"$f":"'6 - Input sheet - Employee data'!EZ45","v":"Yes"},{"$f":"'6 - Input sheet - Employee data'!FA45","v":"Yes"},{"$f":"'6 - Input sheet - Employee data'!FB45","v":"Yes"},{"$f":"'6 - Input sheet - Employee data'!FC45","v":"Yes"},{"$f":"'6 - Input sheet - Employee data'!FD45","v":"Yes"},{"$f":"'6 - Input sheet - Employee data'!FE45","v":"Yes"},{"$f":"'6 - Input sheet - Employee data'!FF45","v":"Yes"},{"$f":"'6 - Input sheet - Employee data'!FG45","v":"Yes"},{"$f":"'6 - Input sheet - Employee data'!FH45","v":"Yes"},{"$f":"'6 - Input sheet - Employee data'!FI45","v":"Yes"},{"$f":"'6 - Input sheet - Employee data'!FJ45","v":"Yes"},{"$f":"'6 - Input sheet - Employee data'!FK45","v":"Yes"},{"$f":"'6 - Input sheet - Employee data'!FL45","v":"Yes"},{"$f":"'6 - Input sheet - Employee data'!FM45","v":"Yes"},{"$f":"'6 - Input sheet - Employee data'!FN45","v":"Yes"},{"$f":"'6 - Input sheet - Employee data'!FO45","v":"Yes"},{"$f":"'6 - Input sheet - Employee data'!FP45","v":"Yes"},{"$f":"'6 - Input sheet - Employee data'!FQ45","v":"Yes"},{"$f":"'6 - Input sheet - Employee data'!FR45","v":"Yes"},{"$f":"'6 - Input sheet - Employee data'!FS45","v":"Yes"},{"$f":"'6 - Input sheet - Employee data'!FT45","v":"Yes"},{"$f":"'6 - Input sheet - Employee data'!FU45","v":"Yes"},{"$f":"'6 - Input sheet - Employee data'!FV45","v":"Yes"},{"$f":"'6 - Input sheet - Employee data'!FW45","v":"Yes"},{"$f":"'6 - Input sheet - Employee data'!FX45","v":"Yes"},{"$f":"'6 - Input sheet - Employee data'!FY45","v":"Yes"},{"$f":"'6 - Input sheet - Employee data'!FZ45","v":"Yes"},{"$f":"'6 - Input sheet - Employee data'!GA45","v":"Yes"},{"$f":"'6 - Input sheet - Employee data'!GB45","v":"Yes"},{"$f":"'6 - Input sheet - Employee data'!GC45","v":"Yes"},{"$f":"'6 - Input sheet - Employee data'!GD45","v":"Yes"},{"$f":"'6 - Input sheet - Employee data'!GE45","v":"Yes"},{"$f":"'6 - Input sheet - Employee data'!GF45","v":"Yes"},{"$f":"'6 - Input sheet - Employee data'!GG45","v":"Yes"},{"$f":"'6 - Input sheet - Employee data'!GH45","v":"Yes"},{"$f":"'6 - Input sheet - Employee data'!GI45","v":"Yes"},{"$f":"'6 - Input sheet - Employee data'!GJ45","v":"Yes"},{"$f":"'6 - Input sheet - Employee data'!GK45","v":"Yes"},{"$f":"'6 - Input sheet - Employee data'!GL45","v":"Yes"},{"$f":"'6 - Input sheet - Employee data'!GM45","v":"Yes"},{"$f":"'6 - Input sheet - Employee data'!GN45","v":"Yes"},{"$f":"'6 - Input sheet - Employee data'!GO45","v":"Yes"},{"$f":"'6 - Input sheet - Employee data'!GP45","v":"Yes"},{"$f":"'6 - Input sheet - Employee data'!GQ45","v":"Yes"},{"$f":"'6 - Input sheet - Employee data'!GR45","v":"Yes"},{"$f":"'6 - Input sheet - Employee data'!GS45","v":"Yes"},{"$f":"'6 - Input sheet - Employee data'!GT45","v":"Yes"},{"$f":"'6 - Input sheet - Employee data'!GU45","v":"Yes"},{"$f":"'6 - Input sheet - Employee data'!GV45","v":"Yes"},{"$f":"'6 - Input sheet - Employee data'!GW45","v":"Yes"},{"$f":"'6 - Input sheet - Employee data'!GX45","v":"Yes"},{"$f":"'6 - Input sheet - Employee data'!GY45","v":"Yes"},{"$f":"'6 - Input sheet - Employee data'!GZ45","v":"Yes"},{"$f":"'6 - Input sheet - Employee data'!HA45","v":"Yes"},{"$f":"'6 - Input sheet - Employee data'!HB45","v":"Yes"},{"$f":"'6 - Input sheet - Employee data'!HC45","v":"Yes"},{"$f":"'6 - Input sheet - Employee data'!HD45","v":"Yes"},{"$f":"'6 - Input sheet - Employee data'!HE45","v":"Yes"},{"$f":"'6 - Input sheet - Employee data'!HF45","v":"Yes"},{"$f":"'6 - Input sheet - Employee data'!HG45","v":"Yes"},{"$f":"'6 - Input sheet - Employee data'!HH45","v":"Yes"},{"$f":"'6 - Input sheet - Employee data'!HI45","v":"Yes"},{"$f":"'6 - Input sheet - Employee data'!HJ45","v":"Yes"},{"$f":"'6 - Input sheet - Employee data'!HK45","v":"Yes"},{"$f":"'6 - Input sheet - Employee data'!HL45","v":"Yes"},{"$f":"'6 - Input sheet - Employee data'!HM45","v":"Yes"},{"$f":"'6 - Input sheet - Employee data'!HN45","v":"Yes"},{"$f":"'6 - Input sheet - Employee data'!HO45","v":"Yes"},{"$f":"'6 - Input sheet - Employee data'!HP45","v":"Yes"},{"$f":"'6 - Input sheet - Employee data'!HQ45","v":"Yes"},{"$f":"'6 - Input sheet - Employee data'!HR45","v":"Yes"},{"$f":"'6 - Input sheet - Employee data'!HS45","v":"Yes"},{"$f":"'6 - Input sheet - Employee data'!HT45","v":"Yes"},{"$f":"'6 - Input sheet - Employee data'!HU45","v":"Yes"},{"$f":"'6 - Input sheet - Employee data'!HV45","v":"Yes"},{"$f":"'6 - Input sheet - Employee data'!HW45","v":"Yes"},{"$f":"'6 - Input sheet - Employee data'!HX45","v":"Yes"},{"$f":"'6 - Input sheet - Employee data'!HY45","v":"Yes"},{"$f":"'6 - Input sheet - Employee data'!HZ45","v":"Yes"},{"$f":"'6 - Input sheet - Employee data'!IA45","v":"Yes"},{"$f":"'6 - Input sheet - Employee data'!IB45","v":"Yes"},{"$f":"'6 - Input sheet - Employee data'!IC45","v":"Yes"},{"$f":"'6 - Input sheet - Employee data'!ID45","v":"Yes"},{"$f":"'6 - Input sheet - Employee data'!IE45","v":"Yes"},{"$f":"'6 - Input sheet - Employee data'!IF45","v":"Yes"},{"$f":"'6 - Input sheet - Employee data'!IG45","v":"Yes"},{"$f":"'6 - Input sheet - Employee data'!IH45","v":"Yes"},{"$f":"'6 - Input sheet - Employee data'!II45","v":"Yes"},{"$f":"'6 - Input sheet - Employee data'!IJ45","v":"Yes"},{"$f":"'6 - Input sheet - Employee data'!IK45","v":"Yes"},{"$f":"'6 - Input sheet - Employee data'!IL45","v":"Yes"},{"$f":"'6 - Input sheet - Employee data'!IM45","v":"Yes"},{"$f":"'6 - Input sheet - Employee data'!IN45","v":"Yes"},{"$f":"'6 - Input sheet - Employee data'!IO45","v":"Yes"},{"$f":"'6 - Input sheet - Employee data'!IP45","v":"Yes"},{"$f":"'6 - Input sheet - Employee data'!IQ45","v":"Yes"},{"$f":"'6 - Input sheet - Employee data'!IR45","v":"Yes"},{"$f":"'6 - Input sheet - Employee data'!IS45","v":"Yes"},{"$f":"'6 - Input sheet - Employee data'!IT45","v":"Yes"},{"$f":"'6 - Input sheet - Employee data'!IU45","v":"Yes"},{"$f":"'6 - Input sheet - Employee data'!IV45","v":"Yes"},{"$f":"'6 - Input sheet - Employee data'!IW45","v":"Yes"},{"$f":"'6 - Input sheet - Employee data'!IX45","v":"Yes"},{"$f":"'6 - Input sheet - Employee data'!IY45","v":"Yes"},{"$f":"'6 - Input sheet - Employee data'!IZ45","v":"Yes"},{"$f":"'6 - Input sheet - Employee data'!JA45","v":"Yes"},{"$f":"'6 - Input sheet - Employee data'!JB45","v":"Yes"},{"$f":"'6 - Input sheet - Employee data'!JC45","v":"Yes"},{"$f":"'6 - Input sheet - Employee data'!JD45","v":"Yes"},{"$f":"'6 - Input sheet - Employee data'!JE45","v":"Yes"},{"$f":"'6 - Input sheet - Employee data'!JF45","v":"Yes"},{"$f":"'6 - Input sheet - Employee data'!JG45","v":"Yes"},{"$f":"'6 - Input sheet - Employee data'!JH45","v":"Yes"},{"$f":"'6 - Input sheet - Employee data'!JI45","v":"Yes"},{"$f":"'6 - Input sheet - Employee data'!JJ45","v":"Yes"},{"$f":"'6 - Input sheet - Employee data'!JK45","v":"Yes"},{"$f":"'6 - Input sheet - Employee data'!JL45","v":"Yes"},{"$f":"'6 - Input sheet - Employee data'!JM45","v":"Yes"},{"$f":"'6 - Input sheet - Employee data'!JN45","v":"Yes"},{"$f":"'6 - Input sheet - Employee data'!JO45","v":"Yes"},{"$f":"'6 - Input sheet - Employee data'!JP45","v":"Yes"},{"$f":"'6 - Input sheet - Employee data'!JQ45","v":"Yes"},{"$f":"'6 - Input sheet - Employee data'!JR45","v":"Yes"},{"$f":"'6 - Input sheet - Employee data'!JS45","v":"Yes"},{"$f":"'6 - Input sheet - Employee data'!JT45","v":"Yes"},{"$f":"'6 - Input sheet - Employee data'!JU45","v":"Yes"},{"$f":"'6 - Input sheet - Employee data'!JV45","v":"Yes"},{"$f":"'6 - Input sheet - Employee data'!JW45","v":"Yes"},{"$f":"'6 - Input sheet - Employee data'!JX45","v":"Yes"},{"$f":"'6 - Input sheet - Employee data'!JY45","v":"Yes"},{"$f":"'6 - Input sheet - Employee data'!JZ45","v":"Yes"},{"$f":"'6 - Input sheet - Employee data'!KA45","v":"Yes"},{"$f":"'6 - Input sheet - Employee data'!KB45","v":"Yes"},{"$f":"'6 - Input sheet - Employee data'!KC45","v":"Yes"},{"$f":"'6 - Input sheet - Employee data'!KD45","v":"Yes"},{"$f":"'6 - Input sheet - Employee data'!KE45","v":"Yes"},{"$f":"'6 - Input sheet - Employee data'!KF45","v":"Yes"},{"$f":"'6 - Input sheet - Employee data'!KG45","v":"Yes"},{"$f":"'6 - Input sheet - Employee data'!KH45","v":"Yes"},{"$f":"'6 - Input sheet - Employee data'!KI45","v":"Yes"},{"$f":"'6 - Input sheet - Employee data'!KJ45","v":"Yes"},{"$f":"'6 - Input sheet - Employee data'!KK45","v":"Yes"},{"$f":"'6 - Input sheet - Employee data'!KL45","v":"Yes"},{"$f":"'6 - Input sheet - Employee data'!KM45","v":"Yes"},{"$f":"'6 - Input sheet - Employee data'!KN45","v":"Yes"},{"$f":"'6 - Input sheet - Employee data'!KO45","v":"Yes"},{"$f":"'6 - Input sheet - Employee data'!KP45","v":"Yes"},{"$f":"'6 - Input sheet - Employee data'!KQ45","v":"Yes"},{"$f":"'6 - Input sheet - Employee data'!KR45","v":"Yes"},{"$f":"'6 - Input sheet - Employee data'!KS45","v":"Yes"},{"$f":"'6 - Input sheet - Employee data'!KT45","v":"Yes"},{"$f":"'6 - Input sheet - Employee data'!KU45","v":"Yes"},{"$f":"'6 - Input sheet - Employee data'!KV45","v":"Yes"},{"$f":"'6 - Input sheet - Employee data'!KW45","v":"Yes"},{"$f":"'6 - Input sheet - Employee data'!KX45","v":"Yes"},{"$f":"'6 - Input sheet - Employee data'!KY45","v":"Yes"},{"$f":"'6 - Input sheet - Employee data'!KZ45","v":"Yes"},{"$f":"'6 - Input sheet - Employee data'!LA45","v":"Yes"},{"$f":"'6 - Input sheet - Employee data'!LB45","v":"Yes"},{"$f":"'6 - Input sheet - Employee data'!LC45","v":"Yes"},{"$f":"'6 - Input sheet - Employee data'!LD45","v":"Yes"},{"$f":"'6 - Input sheet - Employee data'!LE45","v":"Yes"},{"$f":"'6 - Input sheet - Employee data'!LF45","v":"Yes"},{"$f":"'6 - Input sheet - Employee data'!LG45","v":"Yes"},{"$f":"'6 - Input sheet - Employee data'!LH45","v":"Yes"},{"$f":"'6 - Input sheet - Employee data'!LI45","v":"Yes"},{"$f":"'6 - Input sheet - Employee data'!LJ45","v":"Yes"},{"$f":"'6 - Input sheet - Employee data'!LK45","v":"Yes"},{"$f":"'6 - Input sheet - Employee data'!LL45","v":"Yes"},{"$f":"'6 - Input sheet - Employee data'!LM45","v":"Yes"},{"$f":"'6 - Input sheet - Employee data'!LN45","v":"Yes"},{"$f":"'6 - Input sheet - Employee data'!LO45","v":"Yes"},{"$f":"'6 - Input sheet - Employee data'!LP45","v":"Yes"},{"$f":"'6 - Input sheet - Employee data'!LQ45","v":"Yes"},{"$f":"'6 - Input sheet - Employee data'!LR45","v":"Yes"},{"$f":"'6 - Input sheet - Employee data'!LS45","v":"Yes"},{"$f":"'6 - Input sheet - Employee data'!LT45","v":"Yes"},{"$f":"'6 - Input sheet - Employee data'!LU45","v":"Yes"},{"$f":"'6 - Input sheet - Employee data'!LV45","v":"Yes"},{"$f":"'6 - Input sheet - Employee data'!LW45","v":"Yes"},{"$f":"'6 - Input sheet - Employee data'!LX45","v":"Yes"},{"$f":"'6 - Input sheet - Employee data'!LY45","v":"Yes"},{"$f":"'6 - Input sheet - Employee data'!LZ45","v":"Yes"},{"$f":"'6 - Input sheet - Employee data'!MA45","v":"Yes"},{"$f":"'6 - Input sheet - Employee data'!MB45","v":"Yes"},{"$f":"'6 - Input sheet - Employee data'!MC45","v":"Yes"},{"$f":"'6 - Input sheet - Employee data'!MD45","v":"Yes"},{"$f":"'6 - Input sheet - Employee data'!ME45","v":"Yes"},{"$f":"'6 - Input sheet - Employee data'!MF45","v":"Yes"},{"$f":"'6 - Input sheet - Employee data'!MG45","v":"Yes"},{"$f":"'6 - Input sheet - Employee data'!MH45","v":"Yes"},{"$f":"'6 - Input sheet - Employee data'!MI45","v":"Yes"},{"$f":"'6 - Input sheet - Employee data'!MJ45","v":"Yes"},{"$f":"'6 - Input sheet - Employee data'!MK45","v":"Yes"},{"$f":"'6 - Input sheet - Employee data'!ML45","v":"Yes"},{"$f":"'6 - Input sheet - Employee data'!MM45","v":"Yes"},{"$f":"'6 - Input sheet - Employee data'!MN45","v":"Yes"},{"$f":"'6 - Input sheet - Employee data'!MO45","v":"Yes"},{"$f":"'6 - Input sheet - Employee data'!MP45","v":"Yes"},{"$f":"'6 - Input sheet - Employee data'!MQ45","v":"Yes"},{"$f":"'6 - Input sheet - Employee data'!MR45","v":"Yes"},{"$f":"'6 - Input sheet - Employee data'!MS45","v":"Yes"},{"$f":"'6 - Input sheet - Employee data'!MT45","v":"Yes"},{"$f":"'6 - Input sheet - Employee data'!MU45","v":"Yes"},{"$f":"'6 - Input sheet - Employee data'!MV45","v":"Yes"},{"$f":"'6 - Input sheet - Employee data'!MW45","v":"Yes"},{"$f":"'6 - Input sheet - Employee data'!MX45","v":"Yes"},{"$f":"'6 - Input sheet - Employee data'!MY45","v":"Yes"},{"$f":"'6 - Input sheet - Employee data'!MZ45","v":"Yes"},{"$f":"'6 - Input sheet - Employee data'!NA45","v":"Yes"},{"$f":"'6 - Input sheet - Employee data'!NB45","v":"Yes"},{"$f":"'6 - Input sheet - Employee data'!NC45","v":"Yes"},{"$f":"'6 - Input sheet - Employee data'!ND45","v":"Yes"},{"$f":"'6 - Input sheet - Employee data'!NE45","v":"Yes"},{"$f":"'6 - Input sheet - Employee data'!NF45","v":"Yes"},{"$f":"'6 - Input sheet - Employee data'!NG45","v":"Yes"},{"$f":"'6 - Input sheet - Employee data'!NH45","v":"Yes"},{"$f":"'6 - Input sheet - Employee data'!NI45","v":"Yes"},{"$f":"'6 - Input sheet - Employee data'!NJ45","v":"Yes"},{"$f":"'6 - Input sheet - Employee data'!NK45","v":"Yes"},{"$f":"'6 - Input sheet - Employee data'!NL45","v":"Yes"},{"$f":"'6 - Input sheet - Employee data'!NM45","v":"Yes"},{"$f":"'6 - Input sheet - Employee data'!NN45","v":"Yes"},{"$f":"'6 - Input sheet - Employee data'!NO45","v":"Yes"},{"$f":"'6 - Input sheet - Employee data'!NP45","v":"Yes"},{"$f":"'6 - Input sheet - Employee data'!NQ45","v":"Yes"},{"$f":"'6 - Input sheet - Employee data'!NR45","v":"Yes"},{"$f":"'6 - Input sheet - Employee data'!NS45","v":"Yes"},{"$f":"'6 - Input sheet - Employee data'!NT45","v":"Yes"},{"$f":"'6 - Input sheet - Employee data'!NU45","v":"Yes"},{"$f":"'6 - Input sheet - Employee data'!NV45","v":"Yes"},{"$f":"'6 - Input sheet - Employee data'!NW45","v":"Yes"},{"$f":"'6 - Input sheet - Employee data'!NX45","v":"Yes"},{"$f":"'6 - Input sheet - Employee data'!NY45","v":"Yes"},{"$f":"'6 - Input sheet - Employee data'!NZ45","v":"Yes"},{"$f":"'6 - Input sheet - Employee data'!OA45","v":"Yes"},{"$f":"'6 - Input sheet - Employee data'!OB45","v":"Yes"},{"$f":"'6 - Input sheet - Employee data'!OC45","v":"Yes"},{"$f":"'6 - Input sheet - Employee data'!OD45","v":"Yes"},{"$f":"'6 - Input sheet - Employee data'!OE45","v":"Yes"},{"$f":"'6 - Input sheet - Employee data'!OF45","v":"Yes"},{"$f":"'6 - Input sheet - Employee data'!OG45","v":"Yes"},{"$f":"'6 - Input sheet - Employee data'!OH45","v":"Yes"},{"$f":"'6 - Input sheet - Employee data'!OI45","v":"Yes"},{"$f":"'6 - Input sheet - Employee data'!OJ45","v":"Yes"},{"$f":"'6 - Input sheet - Employee data'!OK45","v":"Yes"},{"$f":"'6 - Input sheet - Employee data'!OL45","v":"Yes"},{"$f":"'6 - Input sheet - Employee data'!OM45","v":"Yes"},{"$f":"'6 - Input sheet - Employee data'!ON45","v":"Yes"},{"$f":"'6 - Input sheet - Employee data'!OO45","v":"Yes"},{"$f":"'6 - Input sheet - Employee data'!OP45","v":"Yes"},{"$f":"'6 - Input sheet - Employee data'!OQ45","v":"Yes"},{"$f":"'6 - Input sheet - Employee data'!OR45","v":"Yes"},{"$f":"'6 - Input sheet - Employee data'!OS45","v":"Yes"},{"$f":"'6 - Input sheet - Employee data'!OT45","v":"Yes"},{"$f":"'6 - Input sheet - Employee data'!OU45","v":"Yes"},{"$f":"'6 - Input sheet - Employee data'!OV45","v":"Yes"},{"$f":"'6 - Input sheet - Employee data'!OW45","v":"Yes"},{"$f":"'6 - Input sheet - Employee data'!OX45","v":"Yes"},{"$f":"'6 - Input sheet - Employee data'!OY45","v":"Yes"},{"$f":"'6 - Input sheet - Employee data'!OZ45","v":"Yes"},{"$f":"'6 - Input sheet - Employee data'!PA45","v":"Yes"},{"$f":"'6 - Input sheet - Employee data'!PB45","v":"Yes"},{"$f":"'6 - Input sheet - Employee data'!PC45","v":"Yes"},{"$f":"'6 - Input sheet - Employee data'!PD45","v":"Yes"},{"$f":"'6 - Input sheet - Employee data'!PE45","v":"Yes"},{"$f":"'6 - Input sheet - Employee data'!PF45","v":"Yes"},{"$f":"'6 - Input sheet - Employee data'!PG45","v":"Yes"},{"$f":"'6 - Input sheet - Employee data'!PH45","v":"Yes"},{"$f":"'6 - Input sheet - Employee data'!PI45","v":"Yes"},{"$f":"'6 - Input sheet - Employee data'!PJ45","v":"Yes"},{"$f":"'6 - Input sheet - Employee data'!PK45","v":"Yes"},{"$f":"'6 - Input sheet - Employee data'!PL45","v":"Yes"},{"$f":"'6 - Input sheet - Employee data'!PM45","v":"Yes"},{"$f":"'6 - Input sheet - Employee data'!PN45","v":"Yes"},{"$f":"'6 - Input sheet - Employee data'!PO45","v":"Yes"},{"$f":"'6 - Input sheet - Employee data'!PP45","v":"Yes"},{"$f":"'6 - Input sheet - Employee data'!PQ45","v":"Yes"},{"$f":"'6 - Input sheet - Employee data'!PR45","v":"Yes"},{"$f":"'6 - Input sheet - Employee data'!PS45","v":"Yes"},{"$f":"'6 - Input sheet - Employee data'!PT45","v":"Yes"},{"$f":"'6 - Input sheet - Employee data'!PU45","v":"Yes"},{"$f":"'6 - Input sheet - Employee data'!PV45","v":"Yes"},{"$f":"'6 - Input sheet - Employee data'!PW45","v":"Yes"},{"$f":"'6 - Input sheet - Employee data'!PX45","v":"Yes"},{"$f":"'6 - Input sheet - Employee data'!PY45","v":"Yes"},{"$f":"'6 - Input sheet - Employee data'!PZ45","v":"Yes"},{"$f":"'6 - Input sheet - Employee data'!QA45","v":"Yes"},{"$f":"'6 - Input sheet - Employee data'!QB45","v":"Yes"},{"$f":"'6 - Input sheet - Employee data'!QC45","v":"Yes"},{"$f":"'6 - Input sheet - Employee data'!QD45","v":"Yes"},{"$f":"'6 - Input sheet - Employee data'!QE45","v":"Yes"},{"$f":"'6 - Input sheet - Employee data'!QF45","v":"Yes"},{"$f":"'6 - Input sheet - Employee data'!QG45","v":"Yes"},{"$f":"'6 - Input sheet - Employee data'!QH45","v":"Yes"},{"$f":"'6 - Input sheet - Employee data'!QI45","v":"Yes"},{"$f":"'6 - Input sheet - Employee data'!QJ45","v":"Yes"},{"$f":"'6 - Input sheet - Employee data'!QK45","v":"Yes"},{"$f":"'6 - Input sheet - Employee data'!QL45","v":"Yes"},{"$f":"'6 - Input sheet - Employee data'!QM45","v":"Yes"},{"$f":"'6 - Input sheet - Employee data'!QN45","v":"Yes"},{"$f":"'6 - Input sheet - Employee data'!QO45","v":"Yes"},{"$f":"'6 - Input sheet - Employee data'!QP45","v":"Yes"},{"$f":"'6 - Input sheet - Employee data'!QQ45","v":"Yes"},{"$f":"'6 - Input sheet - Employee data'!QR45","v":"Yes"},{"$f":"'6 - Input sheet - Employee data'!QS45","v":"Yes"},{"$f":"'6 - Input sheet - Employee data'!QT45","v":"Yes"},{"$f":"'6 - Input sheet - Employee data'!QU45","v":"Yes"},{"$f":"'6 - Input sheet - Employee data'!QV45","v":"Yes"},{"$f":"'6 - Input sheet - Employee data'!QW45","v":"Yes"},{"$f":"'6 - Input sheet - Employee data'!QX45","v":"Yes"},{"$f":"'6 - Input sheet - Employee data'!QY45","v":"Yes"},{"$f":"'6 - Input sheet - Employee data'!QZ45","v":"Yes"},{"$f":"'6 - Input sheet - Employee data'!RA45","v":"Yes"},{"$f":"'6 - Input sheet - Employee data'!RB45","v":"Yes"},{"$f":"'6 - Input sheet - Employee data'!RC45","v":"Yes"},{"$f":"'6 - Input sheet - Employee data'!RD45","v":"Yes"},{"$f":"'6 - Input sheet - Employee data'!RE45","v":"Yes"},{"$f":"'6 - Input sheet - Employee data'!RF45","v":"Yes"},{"$f":"'6 - Input sheet - Employee data'!RG45","v":"Yes"},{"$f":"'6 - Input sheet - Employee data'!RH45","v":"Yes"},{"$f":"'6 - Input sheet - Employee data'!RI45","v":"Yes"},{"$f":"'6 - Input sheet - Employee data'!RJ45","v":"Yes"},{"$f":"'6 - Input sheet - Employee data'!RK45","v":"Yes"},{"$f":"'6 - Input sheet - Employee data'!RL45","v":"Yes"},{"$f":"'6 - Input sheet - Employee data'!RM45","v":"Yes"},{"$f":"'6 - Input sheet - Employee data'!RN45","v":"Yes"},{"$f":"'6 - Input sheet - Employee data'!RO45","v":"Yes"},{"$f":"'6 - Input sheet - Employee data'!RP45","v":"Yes"},{"$f":"'6 - Input sheet - Employee data'!RQ45","v":"Yes"},{"$f":"'6 - Input sheet - Employee data'!RR45","v":"Yes"},{"$f":"'6 - Input sheet - Employee data'!RS45","v":"Yes"},{"$f":"'6 - Input sheet - Employee data'!RT45","v":"Yes"},{"$f":"'6 - Input sheet - Employee data'!RU45","v":"Yes"},{"$f":"'6 - Input sheet - Employee data'!RV45","v":"Yes"},{"$f":"'6 - Input sheet - Employee data'!RW45","v":"Yes"},{"$f":"'6 - Input sheet - Employee data'!RX45","v":"Yes"},{"$f":"'6 - Input sheet - Employee data'!RY45","v":"Yes"},{"$f":"'6 - Input sheet - Employee data'!RZ45","v":"Yes"},{"$f":"'6 - Input sheet - Employee data'!SA45","v":"Yes"},{"$f":"'6 - Input sheet - Employee data'!SB45","v":"Yes"},{"$f":"'6 - Input sheet - Employee data'!SC45","v":"Yes"},{"$f":"'6 - Input sheet - Employee data'!SD45","v":"Yes"},{"$f":"'6 - Input sheet - Employee data'!SE45","v":"Yes"},{"$f":"'6 - Input sheet - Employee data'!SF45","v":"Yes"},{"$f":"'6 - Input sheet - Employee data'!SG45","v":"Yes"},{"$f":"'6 - Input sheet - Employee data'!SH45","v":"Yes"}]
["   FTE - salaried",null,{"$f":"IF(C59=\"yes\",1,0)","v":1},{"$f":"IF(D59=\"yes\",1,0)","v":1},1,1,1,1,1,1,1,1,1,1,1,1,1,1,1,1,1,1,1,1,1,1,1,1,1,1,1,1,1,1,1,1,1,1,1,1,1,1,1,1,1,1,1,1,1,1,1,1,1,1,1,1,1,1,1,1,1,1,1,1,1,1,1,{"$f":"IF(BP59=\"yes\",1,0)","v":1},1,1,1,1,1,1,1,1,1,1,1,1,1,1,1,1,1,1,1,1,1,1,1,1,1,1,1,1,1,1,1,1,1,1,1,1,1,1,1,1,1,1,1,1,1,1,1,1,1,1,1,1,1,1,1,1,1,1,1,1,1,1,1,{"$f":"IF(EB59=\"yes\",1,0)","v":1},1,1,1,1,1,1,1,1,1,1,1,1,1,1,1,1,1,1,1,1,1,1,1,1,1,1,1,1,1,1,1,1,1,1,1,1,1,1,1,1,1,1,1,1,1,1,1,1,1,1,1,1,1,1,1,1,1,1,1,1,1,1,1,{"$f":"IF(GN59=\"yes\",1,0)","v":1},1,1,1,1,1,1,1,1,1,1,1,1,1,1,1,1,1,1,1,1,1,1,1,1,1,1,1,1,1,1,1,1,1,1,1,1,1,1,1,1,1,1,1,1,1,1,1,1,1,1,1,1,1,1,1,1,1,1,1,1,1,1,1,{"$f":"IF(IZ59=\"yes\",1,0)","v":1},1,1,1,1,1,1,1,1,1,1,1,1,1,1,1,1,1,1,1,1,1,1,1,1,1,1,1,1,1,1,1,1,1,1,1,1,1,1,1,1,1,1,1,1,1,1,1,1,1,1,1,1,1,1,1,1,1,1,1,1,1,1,1,{"$f":"IF(LL59=\"yes\",1,0)","v":1},1,1,1,1,1,1,1,1,1,1,1,1,1,1,1,1,1,1,1,1,1,1,1,1,1,1,1,1,1,1,1,1,1,1,1,1,1,1,1,1,1,1,1,1,1,1,1,1,1,1,1,1,1,1,1,1,1,1,1,1,1,1,1,{"$f":"IF(NX59=\"yes\",1,0)","v":1},1,1,1,1,1,1,1,1,1,1,1,1,1,1,1,1,1,1,1,1,1,1,1,1,1,1,1,1,1,1,1,1,1,1,1,1,1,1,1,1,1,1,1,1,1,1,1,1,1,1,1,1,1,1,1,1,1,1,1,1,1,1,1,{"$f":"IF(QJ59=\"yes\",1,0)","v":1},1,1,1,1,1,1,1,1,1,1,1,1,1,1,1,1,1,1,1,1,1,1,1,1,1,1,1,1,1,1,1,1,1,1,1,1,1,1,1,1,1,1,1,1,1,1,1,1,1,1]
["   FTE - hourly",null,{"$f":"C58/$C$13","v":0},{"$f":"D58/$C$13","v":0},0,0,0,0,0,0,0,0,0,0,0,0,0,0,0,0,0,0,0,0,0,0,0,0,0,0,0,0,0,0,0,0,0,0,0,0,0,0,0,0,0,0,0,0,0,0,0,0,0,0,0,0,0,0,0,0,0,0,0,0,0,0,0,{"$f":"BP58/$C$13","v":0},0,0,0,0,0,0,0,0,0,0,0,0,0,0,0,0,0,0,0,0,0,0,0,0,0,0,0,0,0,0,0,0,0,0,0,0,0,0,0,0,0,0,0,0,0,0,0,0,0,0,0,0,0,0,0,0,0,0,0,0,0,0,0,{"$f":"EB58/$C$13","v":0},0,0,0,0,0,0,0,0,0,0,0,0,0,0,0,0,0,0,0,0,0,0,0,0,0,0,0,0,0,0,0,0,0,0,0,0,0,0,0,0,0,0,0,0,0,0,0,0,0,0,0,0,0,0,0,0,0,0,0,0,0,0,0,{"$f":"GN58/$C$13","v":0},0,0,0,0,0,0,0,0,0,0,0,0,0,0,0,0,0,0,0,0,0,0,0,0,0,0,0,0,0,0,0,0,0,0,0,0,0,0,0,0,0,0,0,0,0,0,0,0,0,0,0,0,0,0,0,0,0,0,0,0,0,0,0,{"$f":"IZ58/$C$13","v":0},0,0,0,0,0,0,0,0,0,0,0,0,0,0,0,0,0,0,0,0,0,0,0,0,0,0,0,0,0,0,0,0,0,0,0,0,0,0,0,0,0,0,0,0,0,0,0,0,0,0,0,0,0,0,0,0,0,0,0,0,0,0,0,{"$f":"LL58/$C$13","v":0},0,0,0,0,0,0,0,0,0,0,0,0,0,0,0,0,0,0,0,0,0,0,0,0,0,0,0,0,0,0,0,0,0,0,0,0,0,0,0,0,0,0,0,0,0,0,0,0,0,0,0,0,0,0,0,0,0,0,0,0,0,0,0,{"$f":"NX58/$C$13","v":0},0,0,0,0,0,0,0,0,0,0,0,0,0,0,0,0,0,0,0,0,0,0,0,0,0,0,0,0,0,0,0,0,0,0,0,0,0,0,0,0,0,0,0,0,0,0,0,0,0,0,0,0,0,0,0,0,0,0,0,0,0,0,0,{"$f":"QJ58/$C$13","v":0},0,0,0,0,0,0,0,0,0,0,0,0,0,0,0,0,0,0,0,0,0,0,0,0,0,0,0,0,0,0,0,0,0,0,0,0,0,0,0,0,0,0,0,0,0,0,0,0,0,0]
["   FTE - hourly max",null,{"$f":"IF(C61<1,0,1)","v":0},{"$f":"IF(D61<1,0,1)","v":0},0,0,0,0,0,0,0,0,0,0,0,0,0,0,0,0,0,0,0,0,0,0,0,0,0,0,0,0,0,0,0,0,0,0,0,0,0,0,0,0,0,0,0,0,0,0,0,0,0,0,0,0,0,0,0,0,0,0,0,0,0,0,0,{"$f":"IF(BP61<1,0,1)","v":0},0,0,0,0,0,0,0,0,0,0,0,0,0,0,0,0,0,0,0,0,0,0,0,0,0,0,0,0,0,0,0,0,0,0,0,0,0,0,0,0,0,0,0,0,0,0,0,0,0,0,0,0,0,0,0,0,0,0,0,0,0,0,0,{"$f":"IF(EB61<1,0,1)","v":0},0,0,0,0,0,0,0,0,0,0,0,0,0,0,0,0,0,0,0,0,0,0,0,0,0,0,0,0,0,0,0,0,0,0,0,0,0,0,0,0,0,0,0,0,0,0,0,0,0,0,0,0,0,0,0,0,0,0,0,0,0,0,0,{"$f":"IF(GN61<1,0,1)","v":0},0,0,0,0,0,0,0,0,0,0,0,0,0,0,0,0,0,0,0,0,0,0,0,0,0,0,0,0,0,0,0,0,0,0,0,0,0,0,0,0,0,0,0,0,0,0,0,0,0,0,0,0,0,0,0,0,0,0,0,0,0,0,0,{"$f":"IF(IZ61<1,0,1)","v":0},0,0,0,0,0,0,0,0,0,0,0,0,0,0,0,0,0,0,0,0,0,0,0,0,0,0,0,0,0,0,0,0,0,0,0,0,0,0,0,0,0,0,0,0,0,0,0,0,0,0,0,0,0,0,0,0,0,0,0,0,0,0,0,{"$f":"IF(LL61<1,0,1)","v":0},0,0,0,0,0,0,0,0,0,0,0,0,0,0,0,0,0,0,0,0,0,0,0,0,0,0,0,0,0,0,0,0,0,0,0,0,0,0,0,0,0,0,0,0,0,0,0,0,0,0,0,0,0,0,0,0,0,0,0,0,0,0,0,{"$f":"IF(NX61<1,0,1)","v":0},0,0,0,0,0,0,0,0,0,0,0,0,0,0,0,0,0,0,0,0,0,0,0,0,0,0,0,0,0,0,0,0,0,0,0,0,0,0,0,0,0,0,0,0,0,0,0,0,0,0,0,0,0,0,0,0,0,0,0,0,0,0,0,{"$f":"IF(QJ61<1,0,1)","v":0},0,0,0,0,0,0,0,0,0,0,0,0,0,0,0,0,0,0,0,0,0,0,0,0,0,0,0,0,0,0,0,0,0,0,0,0,0,0,0,0,0,0,0,0,0,0,0,0,0,0]
["   FTE - hourly less max",null,{"$f":"IF(C58=0,0,ROUND(IF(C61<1,IF($B$12=\"NO\",C61,0.5),0),1))","v":0},{"$f":"IF(D58=0,0,ROUND(IF(D61<1,IF($B$12=\"NO\",D61,0.5),0),1))","v":0},0,0,0,0,0,0,0,0,0,0,0,0,0,0,0,0,0,0,0,0,0,0,0,0,0,0,0,0,0,0,0,0,0,0,0,0,0,0,0,0,0,0,0,0,0,0,0,0,0,0,0,0,0,0,0,0,0,0,0,0,0,0,0,{"$f":"IF(BP58=0,0,ROUND(IF(BP61<1,IF($B$12=\"NO\",BP61,0.5),0),1))","v":0},0,0,0,0,0,0,0,0,0,0,0,0,0,0,0,0,0,0,0,0,0,0,0,0,0,0,0,0,0,0,0,0,0,0,0,0,0,0,0,0,0,0,0,0,0,0,0,0,0,0,0,0,0,0,0,0,0,0,0,0,0,0,0,{"$f":"IF(EB58=0,0,ROUND(IF(EB61<1,IF($B$12=\"NO\",EB61,0.5),0),1))","v":0},0,0,0,0,0,0,0,0,0,0,0,0,0,0,0,0,0,0,0,0,0,0,0,0,0,0,0,0,0,0,0,0,0,0,0,0,0,0,0,0,0,0,0,0,0,0,0,0,0,0,0,0,0,0,0,0,0,0,0,0,0,0,0,{"$f":"IF(GN58=0,0,ROUND(IF(GN61<1,IF($B$12=\"NO\",GN61,0.5),0),1))","v":0},0,0,0,0,0,0,0,0,0,0,0,0,0,0,0,0,0,0,0,0,0,0,0,0,0,0,0,0,0,0,0,0,0,0,0,0,0,0,0,0,0,0,0,0,0,0,0,0,0,0,0,0,0,0,0,0,0,0,0,0,0,0,0,{"$f":"IF(IZ58=0,0,ROUND(IF(IZ61<1,IF($B$12=\"NO\",IZ61,0.5),0),1))","v":0},0,0,0,0,0,0,0,0,0,0,0,0,0,0,0,0,0,0,0,0,0,0,0,0,0,0,0,0,0,0,0,0,0,0,0,0,0,0,0,0,0,0,0,0,0,0,0,0,0,0,0,0,0,0,0,0,0,0,0,0,0,0,0,{"$f":"IF(LL58=0,0,ROUND(IF(LL61<1,IF($B$12=\"NO\",LL61,0.5),0),1))","v":0},0,0,0,0,0,0,0,0,0,0,0,0,0,0,0,0,0,0,0,0,0,0,0,0,0,0,0,0,0,0,0,0,0,0,0,0,0,0,0,0,0,0,0,0,0,0,0,0,0,0,0,0,0,0,0,0,0,0,0,0,0,0,0,{"$f":"IF(NX58=0,0,ROUND(IF(NX61<1,IF($B$12=\"NO\",NX61,0.5),0),1))","v":0},0,0,0,0,0,0,0,0,0,0,0,0,0,0,0,0,0,0,0,0,0,0,0,0,0,0,0,0,0,0,0,0,0,0,0,0,0,0,0,0,0,0,0,0,0,0,0,0,0,0,0,0,0,0,0,0,0,0,0,0,0,0,0,{"$f":"IF(QJ58=0,0,ROUND(IF(QJ61<1,IF($B$12=\"NO\",QJ61,0.5),0),1))","v":0},0,0,0,0,0,0,0,0,0,0,0,0,0,0,0,0,0,0,0,0,0,0,0,0,0,0,0,0,0,0,0,0,0,0,0,0,0,0,0,0,0,0,0,0,0,0,0,0,0,0]
["   FTE Count",{"$f":"SUM(C64:SH64)","v":0},{"$f":"IF(C8=\"Salaried-Other\",C60,IF(C8=\"Salaried-No Reduction\",1,IF(C58=0,0,SUM(C62:C63))))","v":0},{"$f":"IF(D8=\"Salaried-Other\",D60,IF(D8=\"Salaried-No Reduction\",D60,IF(D58=0,0,SUM(D62:D63))))","v":0},0,0,0,0,0,0,0,0,0,0,0,0,0,0,0,0,0,0,0,0,0,0,0,0,0,0,0,0,0,0,0,0,0,0,0,0,0,0,0,0,0,0,0,0,0,0,0,0,0,0,0,0,0,0,0,0,0,0,0,0,0,0,0,{"$f":"IF(BP8=\"Salaried-Other\",BP60,IF(BP8=\"Salaried-No Reduction\",BP60,IF(BP58=0,0,SUM(BP62:BP63))))","v":0},0,0,0,0,0,0,0,0,0,0,0,0,0,0,0,0,0,0,0,0,0,0,0,0,0,0,0,0,0,0,0,0,0,0,0,0,0,0,0,0,0,0,0,0,0,0,0,0,0,0,0,0,0,0,0,0,0,0,0,0,0,0,0,{"$f":"IF(EB8=\"Salaried-Other\",EB60,IF(EB8=\"Salaried-No Reduction\",EB60,IF(EB58=0,0,SUM(EB62:EB63))))","v":0},0,0,0,0,0,0,0,0,0,0,0,0,0,0,0,0,0,0,0,0,0,0,0,0,0,0,0,0,0,0,0,0,0,0,0,0,0,0,0,0,0,0,0,0,0,0,0,0,0,0,0,0,0,0,0,0,0,0,0,0,0,0,0,{"$f":"IF(GN8=\"Salaried-Other\",GN60,IF(GN8=\"Salaried-No Reduction\",GN60,IF(GN58=0,0,SUM(GN62:GN63))))","v":0},0,0,0,0,0,0,0,0,0,0,0,0,0,0,0,0,0,0,0,0,0,0,0,0,0,0,0,0,0,0,0,0,0,0,0,0,0,0,0,0,0,0,0,0,0,0,0,0,0,0,0,0,0,0,0,0,0,0,0,0,0,0,0,{"$f":"IF(IZ8=\"Salaried-Other\",IZ60,IF(IZ8=\"Salaried-No Reduction\",IZ60,IF(IZ58=0,0,SUM(IZ62:IZ63))))","v":0},0,0,0,0,0,0,0,0,0,0,0,0,0,0,0,0,0,0,0,0,0,0,0,0,0,0,0,0,0,0,0,0,0,0,0,0,0,0,0,0,0,0,0,0,0,0,0,0,0,0,0,0,0,0,0,0,0,0,0,0,0,0,0,{"$f":"IF(LL8=\"Salaried-Other\",LL60,IF(LL8=\"Salaried-No Reduction\",LL60,IF(LL58=0,0,SUM(LL62:LL63))))","v":0},0,0,0,0,0,0,0,0,0,0,0,0,0,0,0,0,0,0,0,0,0,0,0,0,0,0,0,0,0,0,0,0,0,0,0,0,0,0,0,0,0,0,0,0,0,0,0,0,0,0,0,0,0,0,0,0,0,0,0,0,0,0,0,{"$f":"IF(NX8=\"Salaried-Other\",NX60,IF(NX8=\"Salaried-No Reduction\",NX60,IF(NX58=0,0,SUM(NX62:NX63))))","v":0},0,0,0,0,0,0,0,0,0,0,0,0,0,0,0,0,0,0,0,0,0,0,0,0,0,0,0,0,0,0,0,0,0,0,0,0,0,0,0,0,0,0,0,0,0,0,0,0,0,0,0,0,0,0,0,0,0,0,0,0,0,0,0,{"$f":"IF(QJ8=\"Salaried-Other\",QJ60,IF(QJ8=\"Salaried-No Reduction\",QJ60,IF(QJ58=0,0,SUM(QJ62:QJ63))))","v":0},0,0,0,0,0,0,0,0,0,0,0,0,0,0,0,0,0,0,0,0,0,0,0,0,0,0,0,0,0,0,0,0,0,0,0,0,0,0,0,0,0,0,0,0,0,0,0,0,0,0]
[]
["   Hours - Payroll period inclusive of June 30, 2020",null,{"$f":"'6 - Input sheet - Employee data'!C47","v":0},{"$f":"'6 - Input sheet - Employee data'!D47","v":0},{"$f":"'6 - Input sheet - Employee data'!E47","v":0},{"$f":"'6 - Input sheet - Employee data'!F47","v":0},{"$f":"'6 - Input sheet - Employee data'!G47","v":0},{"$f":"'6 - Input sheet - Employee data'!H47","v":0},{"$f":"'6 - Input sheet - Employee data'!I47","v":0},{"$f":"'6 - Input sheet - Employee data'!J47","v":0},{"$f":"'6 - Input sheet - Employee data'!K47","v":0},{"$f":"'6 - Input sheet - Employee data'!L47","v":0},{"$f":"'6 - Input sheet - Employee data'!M47","v":0},{"$f":"'6 - Input sheet - Employee data'!N47","v":0},{"$f":"'6 - Input sheet - Employee data'!O47","v":0},{"$f":"'6 - Input sheet - Employee data'!P47","v":0},{"$f":"'6 - Input sheet - Employee data'!Q47","v":0},{"$f":"'6 - Input sheet - Employee data'!R47","v":0},{"$f":"'6 - Input sheet - Employee data'!S47","v":0},{"$f":"'6 - Input sheet - Employee data'!T47","v":0},{"$f":"'6 - Input sheet - Employee data'!U47","v":0},{"$f":"'6 - Input sheet - Employee data'!V47","v":0},{"$f":"'6 - Input sheet - Employee data'!W47","v":0},{"$f":"'6 - Input sheet - Employee data'!X47","v":0},{"$f":"'6 - Input sheet - Employee data'!Y47","v":0},{"$f":"'6 - Input sheet - Employee data'!Z47","v":0},{"$f":"'6 - Input sheet - Employee data'!AA47","v":0},{"$f":"'6 - Input sheet - Employee data'!AB47","v":0},{"$f":"'6 - Input sheet - Employee data'!AC47","v":0},{"$f":"'6 - Input sheet - Employee data'!AD47","v":0},{"$f":"'6 - Input sheet - Employee data'!AE47","v":0},{"$f":"'6 - Input sheet - Employee data'!AF47","v":0},{"$f":"'6 - Input sheet - Employee data'!AG47","v":0},{"$f":"'6 - Input sheet - Employee data'!AH47","v":0},{"$f":"'6 - Input sheet - Employee data'!AI47","v":0},{"$f":"'6 - Input sheet - Employee data'!AJ47","v":0},{"$f":"'6 - Input sheet - Employee data'!AK47","v":0},{"$f":"'6 - Input sheet - Employee data'!AL47","v":0},{"$f":"'6 - Input sheet - Employee data'!AM47","v":0},{"$f":"'6 - Input sheet - Employee data'!AN47","v":0},{"$f":"'6 - Input sheet - Employee data'!AO47","v":0},{"$f":"'6 - Input sheet - Employee data'!AP47","v":0},{"$f":"'6 - Input sheet - Employee data'!AQ47","v":0},{"$f":"'6 - Input sheet - Employee data'!AR47","v":0},{"$f":"'6 - Input sheet - Employee data'!AS47","v":0},{"$f":"'6 - Input sheet - Employee data'!AT47","v":0},{"$f":"'6 - Input sheet - Employee data'!AU47","v":0},{"$f":"'6 - Input sheet - Employee data'!AV47","v":0},{"$f":"'6 - Input sheet - Employee data'!AW47","v":0},{"$f":"'6 - Input sheet - Employee data'!AX47","v":0},{"$f":"'6 - Input sheet - Employee data'!AY47","v":0},{"$f":"'6 - Input sheet - Employee data'!AZ47","v":0},{"$f":"'6 - Input sheet - Employee data'!BA47","v":0},{"$f":"'6 - Input sheet - Employee data'!BB47","v":0},{"$f":"'6 - Input sheet - Employee data'!BC47","v":0},{"$f":"'6 - Input sheet - Employee data'!BD47","v":0},{"$f":"'6 - Input sheet - Employee data'!BE47","v":0},{"$f":"'6 - Input sheet - Employee data'!BF47","v":0},{"$f":"'6 - Input sheet - Employee data'!BG47","v":0},{"$f":"'6 - Input sheet - Employee data'!BH47","v":0},{"$f":"'6 - Input sheet - Employee data'!BI47","v":0},{"$f":"'6 - Input sheet - Employee data'!BJ47","v":0},{"$f":"'6 - Input sheet - Employee data'!BK47","v":0},{"$f":"'6 - Input sheet - Employee data'!BL47","v":0},{"$f":"'6 - Input sheet - Employee data'!BM47","v":0},{"$f":"'6 - Input sheet - Employee data'!BN47","v":0},{"$f":"'6 - Input sheet - Employee data'!BO47","v":0},{"$f":"'6 - Input sheet - Employee data'!BP47","v":0},{"$f":"'6 - Input sheet - Employee data'!BQ47","v":0},{"$f":"'6 - Input sheet - Employee data'!BR47","v":0},{"$f":"'6 - Input sheet - Employee data'!BS47","v":0},{"$f":"'6 - Input sheet - Employee data'!BT47","v":0},{"$f":"'6 - Input sheet - Employee data'!BU47","v":0},{"$f":"'6 - Input sheet - Employee data'!BV47","v":0},{"$f":"'6 - Input sheet - Employee data'!BW47","v":0},{"$f":"'6 - Input sheet - Employee data'!BX47","v":0},{"$f":"'6 - Input sheet - Employee data'!BY47","v":0},{"$f":"'6 - Input sheet - Employee data'!BZ47","v":0},{"$f":"'6 - Input sheet - Employee data'!CA47","v":0},{"$f":"'6 - Input sheet - Employee data'!CB47","v":0},{"$f":"'6 - Input sheet - Employee data'!CC47","v":0},{"$f":"'6 - Input sheet - Employee data'!CD47","v":0},{"$f":"'6 - Input sheet - Employee data'!CE47","v":0},{"$f":"'6 - Input sheet - Employee data'!CF47","v":0},{"$f":"'6 - Input sheet - Employee data'!CG47","v":0},{"$f":"'6 - Input sheet - Employee data'!CH47","v":0},{"$f":"'6 - Input sheet - Employee data'!CI47","v":0},{"$f":"'6 - Input sheet - Employee data'!CJ47","v":0},{"$f":"'6 - Input sheet - Employee data'!CK47","v":0},{"$f":"'6 - Input sheet - Employee data'!CL47","v":0},{"$f":"'6 - Input sheet - Employee data'!CM47","v":0},{"$f":"'6 - Input sheet - Employee data'!CN47","v":0},{"$f":"'6 - Input sheet - Employee data'!CO47","v":0},{"$f":"'6 - Input sheet - Employee data'!CP47","v":0},{"$f":"'6 - Input sheet - Employee data'!CQ47","v":0},{"$f":"'6 - Input sheet - Employee data'!CR47","v":0},{"$f":"'6 - Input sheet - Employee data'!CS47","v":0},{"$f":"'6 - Input sheet - Employee data'!CT47","v":0},{"$f":"'6 - Input sheet - Employee data'!CU47","v":0},{"$f":"'6 - Input sheet - Employee data'!CV47","v":0},{"$f":"'6 - Input sheet - Employee data'!CW47","v":0},{"$f":"'6 - Input sheet - Employee data'!CX47","v":0},{"$f":"'6 - Input sheet - Employee data'!CY47","v":0},{"$f":"'6 - Input sheet - Employee data'!CZ47","v":0},{"$f":"'6 - Input sheet - Employee data'!DA47","v":0},{"$f":"'6 - Input sheet - Employee data'!DB47","v":0},{"$f":"'6 - Input sheet - Employee data'!DC47","v":0},{"$f":"'6 - Input sheet - Employee data'!DD47","v":0},{"$f":"'6 - Input sheet - Employee data'!DE47","v":0},{"$f":"'6 - Input sheet - Employee data'!DF47","v":0},{"$f":"'6 - Input sheet - Employee data'!DG47","v":0},{"$f":"'6 - Input sheet - Employee data'!DH47","v":0},{"$f":"'6 - Input sheet - Employee data'!DI47","v":0},{"$f":"'6 - Input sheet - Employee data'!DJ47","v":0},{"$f":"'6 - Input sheet - Employee data'!DK47","v":0},{"$f":"'6 - Input sheet - Employee data'!DL47","v":0},{"$f":"'6 - Input sheet - Employee data'!DM47","v":0},{"$f":"'6 - Input sheet - Employee data'!DN47","v":0},{"$f":"'6 - Input sheet - Employee data'!DO47","v":0},{"$f":"'6 - Input sheet - Employee data'!DP47","v":0},{"$f":"'6 - Input sheet - Employee data'!DQ47","v":0},{"$f":"'6 - Input sheet - Employee data'!DR47","v":0},{"$f":"'6 - Input sheet - Employee data'!DS47","v":0},{"$f":"'6 - Input sheet - Employee data'!DT47","v":0},{"$f":"'6 - Input sheet - Employee data'!DU47","v":0},{"$f":"'6 - Input sheet - Employee data'!DV47","v":0},{"$f":"'6 - Input sheet - Employee data'!DW47","v":0},{"$f":"'6 - Input sheet - Employee data'!DX47","v":0},{"$f":"'6 - Input sheet - Employee data'!DY47","v":0},{"$f":"'6 - Input sheet - Employee data'!DZ47","v":0},{"$f":"'6 - Input sheet - Employee data'!EA47","v":0},{"$f":"'6 - Input sheet - Employee data'!EB47","v":0},{"$f":"'6 - Input sheet - Employee data'!EC47","v":0},{"$f":"'6 - Input sheet - Employee data'!ED47","v":0},{"$f":"'6 - Input sheet - Employee data'!EE47","v":0},{"$f":"'6 - Input sheet - Employee data'!EF47","v":0},{"$f":"'6 - Input sheet - Employee data'!EG47","v":0},{"$f":"'6 - Input sheet - Employee data'!EH47","v":0},{"$f":"'6 - Input sheet - Employee data'!EI47","v":0},{"$f":"'6 - Input sheet - Employee data'!EJ47","v":0},{"$f":"'6 - Input sheet - Employee data'!EK47","v":0},{"$f":"'6 - Input sheet - Employee data'!EL47","v":0},{"$f":"'6 - Input sheet - Employee data'!EM47","v":0},{"$f":"'6 - Input sheet - Employee data'!EN47","v":0},{"$f":"'6 - Input sheet - Employee data'!EO47","v":0},{"$f":"'6 - Input sheet - Employee data'!EP47","v":0},{"$f":"'6 - Input sheet - Employee data'!EQ47","v":0},{"$f":"'6 - Input sheet - Employee data'!ER47","v":0},{"$f":"'6 - Input sheet - Employee data'!ES47","v":0},{"$f":"'6 - Input sheet - Employee data'!ET47","v":0},{"$f":"'6 - Input sheet - Employee data'!EU47","v":0},{"$f":"'6 - Input sheet - Employee data'!EV47","v":0},{"$f":"'6 - Input sheet - Employee data'!EW47","v":0},{"$f":"'6 - Input sheet - Employee data'!EX47","v":0},{"$f":"'6 - Input sheet - Employee data'!EY47","v":0},{"$f":"'6 - Input sheet - Employee data'!EZ47","v":0},{"$f":"'6 - Input sheet - Employee data'!FA47","v":0},{"$f":"'6 - Input sheet - Employee data'!FB47","v":0},{"$f":"'6 - Input sheet - Employee data'!FC47","v":0},{"$f":"'6 - Input sheet - Employee data'!FD47","v":0},{"$f":"'6 - Input sheet - Employee data'!FE47","v":0},{"$f":"'6 - Input sheet - Employee data'!FF47","v":0},{"$f":"'6 - Input sheet - Employee data'!FG47","v":0},{"$f":"'6 - Input sheet - Employee data'!FH47","v":0},{"$f":"'6 - Input sheet - Employee data'!FI47","v":0},{"$f":"'6 - Input sheet - Employee data'!FJ47","v":0},{"$f":"'6 - Input sheet - Employee data'!FK47","v":0},{"$f":"'6 - Input sheet - Employee data'!FL47","v":0},{"$f":"'6 - Input sheet - Employee data'!FM47","v":0},{"$f":"'6 - Input sheet - Employee data'!FN47","v":0},{"$f":"'6 - Input sheet - Employee data'!FO47","v":0},{"$f":"'6 - Input sheet - Employee data'!FP47","v":0},{"$f":"'6 - Input sheet - Employee data'!FQ47","v":0},{"$f":"'6 - Input sheet - Employee data'!FR47","v":0},{"$f":"'6 - Input sheet - Employee data'!FS47","v":0},{"$f":"'6 - Input sheet - Employee data'!FT47","v":0},{"$f":"'6 - Input sheet - Employee data'!FU47","v":0},{"$f":"'6 - Input sheet - Employee data'!FV47","v":0},{"$f":"'6 - Input sheet - Employee data'!FW47","v":0},{"$f":"'6 - Input sheet - Employee data'!FX47","v":0},{"$f":"'6 - Input sheet - Employee data'!FY47","v":0},{"$f":"'6 - Input sheet - Employee data'!FZ47","v":0},{"$f":"'6 - Input sheet - Employee data'!GA47","v":0},{"$f":"'6 - Input sheet - Employee data'!GB47","v":0},{"$f":"'6 - Input sheet - Employee data'!GC47","v":0},{"$f":"'6 - Input sheet - Employee data'!GD47","v":0},{"$f":"'6 - Input sheet - Employee data'!GE47","v":0},{"$f":"'6 - Input sheet - Employee data'!GF47","v":0},{"$f":"'6 - Input sheet - Employee data'!GG47","v":0},{"$f":"'6 - Input sheet - Employee data'!GH47","v":0},{"$f":"'6 - Input sheet - Employee data'!GI47","v":0},{"$f":"'6 - Input sheet - Employee data'!GJ47","v":0},{"$f":"'6 - Input sheet - Employee data'!GK47","v":0},{"$f":"'6 - Input sheet - Employee data'!GL47","v":0},{"$f":"'6 - Input sheet - Employee data'!GM47","v":0},{"$f":"'6 - Input sheet - Employee data'!GN47","v":0},{"$f":"'6 - Input sheet - Employee data'!GO47","v":0},{"$f":"'6 - Input sheet - Employee data'!GP47","v":0},{"$f":"'6 - Input sheet - Employee data'!GQ47","v":0},{"$f":"'6 - Input sheet - Employee data'!GR47","v":0},{"$f":"'6 - Input sheet - Employee data'!GS47","v":0},{"$f":"'6 - Input sheet - Employee data'!GT47","v":0},{"$f":"'6 - Input sheet - Employee data'!GU47","v":0},{"$f":"'6 - Input sheet - Employee data'!GV47","v":0},{"$f":"'6 - Input sheet - Employee data'!GW47","v":0},{"$f":"'6 - Input sheet - Employee data'!GX47","v":0},{"$f":"'6 - Input sheet - Employee data'!GY47","v":0},{"$f":"'6 - Input sheet - Employee data'!GZ47","v":0},{"$f":"'6 - Input sheet - Employee data'!HA47","v":0},{"$f":"'6 - Input sheet - Employee data'!HB47","v":0},{"$f":"'6 - Input sheet - Employee data'!HC47","v":0},{"$f":"'6 - Input sheet - Employee data'!HD47","v":0},{"$f":"'6 - Input sheet - Employee data'!HE47","v":0},{"$f":"'6 - Input sheet - Employee data'!HF47","v":0},{"$f":"'6 - Input sheet - Employee data'!HG47","v":0},{"$f":"'6 - Input sheet - Employee data'!HH47","v":0},{"$f":"'6 - Input sheet - Employee data'!HI47","v":0},{"$f":"'6 - Input sheet - Employee data'!HJ47","v":0},{"$f":"'6 - Input sheet - Employee data'!HK47","v":0},{"$f":"'6 - Input sheet - Employee data'!HL47","v":0},{"$f":"'6 - Input sheet - Employee data'!HM47","v":0},{"$f":"'6 - Input sheet - Employee data'!HN47","v":0},{"$f":"'6 - Input sheet - Employee data'!HO47","v":0},{"$f":"'6 - Input sheet - Employee data'!HP47","v":0},{"$f":"'6 - Input sheet - Employee data'!HQ47","v":0},{"$f":"'6 - Input sheet - Employee data'!HR47","v":0},{"$f":"'6 - Input sheet - Employee data'!HS47","v":0},{"$f":"'6 - Input sheet - Employee data'!HT47","v":0},{"$f":"'6 - Input sheet - Employee data'!HU47","v":0},{"$f":"'6 - Input sheet - Employee data'!HV47","v":0},{"$f":"'6 - Input sheet - Employee data'!HW47","v":0},{"$f":"'6 - Input sheet - Employee data'!HX47","v":0},{"$f":"'6 - Input sheet - Employee data'!HY47","v":0},{"$f":"'6 - Input sheet - Employee data'!HZ47","v":0},{"$f":"'6 - Input sheet - Employee data'!IA47","v":0},{"$f":"'6 - Input sheet - Employee data'!IB47","v":0},{"$f":"'6 - Input sheet - Employee data'!IC47","v":0},{"$f":"'6 - Input sheet - Employee data'!ID47","v":0},{"$f":"'6 - Input sheet - Employee data'!IE47","v":0},{"$f":"'6 - Input sheet - Employee data'!IF47","v":0},{"$f":"'6 - Input sheet - Employee data'!IG47","v":0},{"$f":"'6 - Input sheet - Employee data'!IH47","v":0},{"$f":"'6 - Input sheet - Employee data'!II47","v":0},{"$f":"'6 - Input sheet - Employee data'!IJ47","v":0},{"$f":"'6 - Input sheet - Employee data'!IK47","v":0},{"$f":"'6 - Input sheet - Employee data'!IL47","v":0},{"$f":"'6 - Input sheet - Employee data'!IM47","v":0},{"$f":"'6 - Input sheet - Employee data'!IN47","v":0},{"$f":"'6 - Input sheet - Employee data'!IO47","v":0},{"$f":"'6 - Input sheet - Employee data'!IP47","v":0},{"$f":"'6 - Input sheet - Employee data'!IQ47","v":0},{"$f":"'6 - Input sheet - Employee data'!IR47","v":0},{"$f":"'6 - Input sheet - Employee data'!IS47","v":0},{"$f":"'6 - Input sheet - Employee data'!IT47","v":0},{"$f":"'6 - Input sheet - Employee data'!IU47","v":0},{"$f":"'6 - Input sheet - Employee data'!IV47","v":0},{"$f":"'6 - Input sheet - Employee data'!IW47","v":0},{"$f":"'6 - Input sheet - Employee data'!IX47","v":0},{"$f":"'6 - Input sheet - Employee data'!IY47","v":0},{"$f":"'6 - Input sheet - Employee data'!IZ47","v":0},{"$f":"'6 - Input sheet - Employee data'!JA47","v":0},{"$f":"'6 - Input sheet - Employee data'!JB47","v":0},{"$f":"'6 - Input sheet - Employee data'!JC47","v":0},{"$f":"'6 - Input sheet - Employee data'!JD47","v":0},{"$f":"'6 - Input sheet - Employee data'!JE47","v":0},{"$f":"'6 - Input sheet - Employee data'!JF47","v":0},{"$f":"'6 - Input sheet - Employee data'!JG47","v":0},{"$f":"'6 - Input sheet - Employee data'!JH47","v":0},{"$f":"'6 - Input sheet - Employee data'!JI47","v":0},{"$f":"'6 - Input sheet - Employee data'!JJ47","v":0},{"$f":"'6 - Input sheet - Employee data'!JK47","v":0},{"$f":"'6 - Input sheet - Employee data'!JL47","v":0},{"$f":"'6 - Input sheet - Employee data'!JM47","v":0},{"$f":"'6 - Input sheet - Employee data'!JN47","v":0},{"$f":"'6 - Input sheet - Employee data'!JO47","v":0},{"$f":"'6 - Input sheet - Employee data'!JP47","v":0},{"$f":"'6 - Input sheet - Employee data'!JQ47","v":0},{"$f":"'6 - Input sheet - Employee data'!JR47","v":0},{"$f":"'6 - Input sheet - Employee data'!JS47","v":0},{"$f":"'6 - Input sheet - Employee data'!JT47","v":0},{"$f":"'6 - Input sheet - Employee data'!JU47","v":0},{"$f":"'6 - Input sheet - Employee data'!JV47","v":0},{"$f":"'6 - Input sheet - Employee data'!JW47","v":0},{"$f":"'6 - Input sheet - Employee data'!JX47","v":0},{"$f":"'6 - Input sheet - Employee data'!JY47","v":0},{"$f":"'6 - Input sheet - Employee data'!JZ47","v":0},{"$f":"'6 - Input sheet - Employee data'!KA47","v":0},{"$f":"'6 - Input sheet - Employee data'!KB47","v":0},{"$f":"'6 - Input sheet - Employee data'!KC47","v":0},{"$f":"'6 - Input sheet - Employee data'!KD47","v":0},{"$f":"'6 - Input sheet - Employee data'!KE47","v":0},{"$f":"'6 - Input sheet - Employee data'!KF47","v":0},{"$f":"'6 - Input sheet - Employee data'!KG47","v":0},{"$f":"'6 - Input sheet - Employee data'!KH47","v":0},{"$f":"'6 - Input sheet - Employee data'!KI47","v":0},{"$f":"'6 - Input sheet - Employee data'!KJ47","v":0},{"$f":"'6 - Input sheet - Employee data'!KK47","v":0},{"$f":"'6 - Input sheet - Employee data'!KL47","v":0},{"$f":"'6 - Input sheet - Employee data'!KM47","v":0},{"$f":"'6 - Input sheet - Employee data'!KN47","v":0},{"$f":"'6 - Input sheet - Employee data'!KO47","v":0},{"$f":"'6 - Input sheet - Employee data'!KP47","v":0},{"$f":"'6 - Input sheet - Employee data'!KQ47","v":0},{"$f":"'6 - Input sheet - Employee data'!KR47","v":0},{"$f":"'6 - Input sheet - Employee data'!KS47","v":0},{"$f":"'6 - Input sheet - Employee data'!KT47","v":0},{"$f":"'6 - Input sheet - Employee data'!KU47","v":0},{"$f":"'6 - Input sheet - Employee data'!KV47","v":0},{"$f":"'6 - Input sheet - Employee data'!KW47","v":0},{"$f":"'6 - Input sheet - Employee data'!KX47","v":0},{"$f":"'6 - Input sheet - Employee data'!KY47","v":0},{"$f":"'6 - Input sheet - Employee data'!KZ47","v":0},{"$f":"'6 - Input sheet - Employee data'!LA47","v":0},{"$f":"'6 - Input sheet - Employee data'!LB47","v":0},{"$f":"'6 - Input sheet - Employee data'!LC47","v":0},{"$f":"'6 - Input sheet - Employee data'!LD47","v":0},{"$f":"'6 - Input sheet - Employee data'!LE47","v":0},{"$f":"'6 - Input sheet - Employee data'!LF47","v":0},{"$f":"'6 - Input sheet - Employee data'!LG47","v":0},{"$f":"'6 - Input sheet - Employee data'!LH47","v":0},{"$f":"'6 - Input sheet - Employee data'!LI47","v":0},{"$f":"'6 - Input sheet - Employee data'!LJ47","v":0},{"$f":"'6 - Input sheet - Employee data'!LK47","v":0},{"$f":"'6 - Input sheet - Employee data'!LL47","v":0},{"$f":"'6 - Input sheet - Employee data'!LM47","v":0},{"$f":"'6 - Input sheet - Employee data'!LN47","v":0},{"$f":"'6 - Input sheet - Employee data'!LO47","v":0},{"$f":"'6 - Input sheet - Employee data'!LP47","v":0},{"$f":"'6 - Input sheet - Employee data'!LQ47","v":0},{"$f":"'6 - Input sheet - Employee data'!LR47","v":0},{"$f":"'6 - Input sheet - Employee data'!LS47","v":0},{"$f":"'6 - Input sheet - Employee data'!LT47","v":0},{"$f":"'6 - Input sheet - Employee data'!LU47","v":0},{"$f":"'6 - Input sheet - Employee data'!LV47","v":0},{"$f":"'6 - Input sheet - Employee data'!LW47","v":0},{"$f":"'6 - Input sheet - Employee data'!LX47","v":0},{"$f":"'6 - Input sheet - Employee data'!LY47","v":0},{"$f":"'6 - Input sheet - Employee data'!LZ47","v":0},{"$f":"'6 - Input sheet - Employee data'!MA47","v":0},{"$f":"'6 - Input sheet - Employee data'!MB47","v":0},{"$f":"'6 - Input sheet - Employee data'!MC47","v":0},{"$f":"'6 - Input sheet - Employee data'!MD47","v":0},{"$f":"'6 - Input sheet - Employee data'!ME47","v":0},{"$f":"'6 - Input sheet - Employee data'!MF47","v":0},{"$f":"'6 - Input sheet - Employee data'!MG47","v":0},{"$f":"'6 - Input sheet - Employee data'!MH47","v":0},{"$f":"'6 - Input sheet - Employee data'!MI47","v":0},{"$f":"'6 - Input sheet - Employee data'!MJ47","v":0},{"$f":"'6 - Input sheet - Employee data'!MK47","v":0},{"$f":"'6 - Input sheet - Employee data'!ML47","v":0},{"$f":"'6 - Input sheet - Employee data'!MM47","v":0},{"$f":"'6 - Input sheet - Employee data'!MN47","v":0},{"$f":"'6 - Input sheet - Employee data'!MO47","v":0},{"$f":"'6 - Input sheet - Employee data'!MP47","v":0},{"$f":"'6 - Input sheet - Employee data'!MQ47","v":0},{"$f":"'6 - Input sheet - Employee data'!MR47","v":0},{"$f":"'6 - Input sheet - Employee data'!MS47","v":0},{"$f":"'6 - Input sheet - Employee data'!MT47","v":0},{"$f":"'6 - Input sheet - Employee data'!MU47","v":0},{"$f":"'6 - Input sheet - Employee data'!MV47","v":0},{"$f":"'6 - Input sheet - Employee data'!MW47","v":0},{"$f":"'6 - Input sheet - Employee data'!MX47","v":0},{"$f":"'6 - Input sheet - Employee data'!MY47","v":0},{"$f":"'6 - Input sheet - Employee data'!MZ47","v":0},{"$f":"'6 - Input sheet - Employee data'!NA47","v":0},{"$f":"'6 - Input sheet - Employee data'!NB47","v":0},{"$f":"'6 - Input sheet - Employee data'!NC47","v":0},{"$f":"'6 - Input sheet - Employee data'!ND47","v":0},{"$f":"'6 - Input sheet - Employee data'!NE47","v":0},{"$f":"'6 - Input sheet - Employee data'!NF47","v":0},{"$f":"'6 - Input sheet - Employee data'!NG47","v":0},{"$f":"'6 - Input sheet - Employee data'!NH47","v":0},{"$f":"'6 - Input sheet - Employee data'!NI47","v":0},{"$f":"'6 - Input sheet - Employee data'!NJ47","v":0},{"$f":"'6 - Input sheet - Employee data'!NK47","v":0},{"$f":"'6 - Input sheet - Employee data'!NL47","v":0},{"$f":"'6 - Input sheet - Employee data'!NM47","v":0},{"$f":"'6 - Input sheet - Employee data'!NN47","v":0},{"$f":"'6 - Input sheet - Employee data'!NO47","v":0},{"$f":"'6 - Input sheet - Employee data'!NP47","v":0},{"$f":"'6 - Input sheet - Employee data'!NQ47","v":0},{"$f":"'6 - Input sheet - Employee data'!NR47","v":0},{"$f":"'6 - Input sheet - Employee data'!NS47","v":0},{"$f":"'6 - Input sheet - Employee data'!NT47","v":0},{"$f":"'6 - Input sheet - Employee data'!NU47","v":0},{"$f":"'6 - Input sheet - Employee data'!NV47","v":0},{"$f":"'6 - Input sheet - Employee data'!NW47","v":0},{"$f":"'6 - Input sheet - Employee data'!NX47","v":0},{"$f":"'6 - Input sheet - Employee data'!NY47","v":0},{"$f":"'6 - Input sheet - Employee data'!NZ47","v":0},{"$f":"'6 - Input sheet - Employee data'!OA47","v":0},{"$f":"'6 - Input sheet - Employee data'!OB47","v":0},{"$f":"'6 - Input sheet - Employee data'!OC47","v":0},{"$f":"'6 - Input sheet - Employee data'!OD47","v":0},{"$f":"'6 - Input sheet - Employee data'!OE47","v":0},{"$f":"'6 - Input sheet - Employee data'!OF47","v":0},{"$f":"'6 - Input sheet - Employee data'!OG47","v":0},{"$f":"'6 - Input sheet - Employee data'!OH47","v":0},{"$f":"'6 - Input sheet - Employee data'!OI47","v":0},{"$f":"'6 - Input sheet - Employee data'!OJ47","v":0},{"$f":"'6 - Input sheet - Employee data'!OK47","v":0},{"$f":"'6 - Input sheet - Employee data'!OL47","v":0},{"$f":"'6 - Input sheet - Employee data'!OM47","v":0},{"$f":"'6 - Input sheet - Employee data'!ON47","v":0},{"$f":"'6 - Input sheet - Employee data'!OO47","v":0},{"$f":"'6 - Input sheet - Employee data'!OP47","v":0},{"$f":"'6 - Input sheet - Employee data'!OQ47","v":0},{"$f":"'6 - Input sheet - Employee data'!OR47","v":0},{"$f":"'6 - Input sheet - Employee data'!OS47","v":0},{"$f":"'6 - Input sheet - Employee data'!OT47","v":0},{"$f":"'6 - Input sheet - Employee data'!OU47","v":0},{"$f":"'6 - Input sheet - Employee data'!OV47","v":0},{"$f":"'6 - Input sheet - Employee data'!OW47","v":0},{"$f":"'6 - Input sheet - Employee data'!OX47","v":0},{"$f":"'6 - Input sheet - Employee data'!OY47","v":0},{"$f":"'6 - Input sheet - Employee data'!OZ47","v":0},{"$f":"'6 - Input sheet - Employee data'!PA47","v":0},{"$f":"'6 - Input sheet - Employee data'!PB47","v":0},{"$f":"'6 - Input sheet - Employee data'!PC47","v":0},{"$f":"'6 - Input sheet - Employee data'!PD47","v":0},{"$f":"'6 - Input sheet - Employee data'!PE47","v":0},{"$f":"'6 - Input sheet - Employee data'!PF47","v":0},{"$f":"'6 - Input sheet - Employee data'!PG47","v":0},{"$f":"'6 - Input sheet - Employee data'!PH47","v":0},{"$f":"'6 - Input sheet - Employee data'!PI47","v":0},{"$f":"'6 - Input sheet - Employee data'!PJ47","v":0},{"$f":"'6 - Input sheet - Employee data'!PK47","v":0},{"$f":"'6 - Input sheet - Employee data'!PL47","v":0},{"$f":"'6 - Input sheet - Employee data'!PM47","v":0},{"$f":"'6 - Input sheet - Employee data'!PN47","v":0},{"$f":"'6 - Input sheet - Employee data'!PO47","v":0},{"$f":"'6 - Input sheet - Employee data'!PP47","v":0},{"$f":"'6 - Input sheet - Employee data'!PQ47","v":0},{"$f":"'6 - Input sheet - Employee data'!PR47","v":0},{"$f":"'6 - Input sheet - Employee data'!PS47","v":0},{"$f":"'6 - Input sheet - Employee data'!PT47","v":0},{"$f":"'6 - Input sheet - Employee data'!PU47","v":0},{"$f":"'6 - Input sheet - Employee data'!PV47","v":0},{"$f":"'6 - Input sheet - Employee data'!PW47","v":0},{"$f":"'6 - Input sheet - Employee data'!PX47","v":0},{"$f":"'6 - Input sheet - Employee data'!PY47","v":0},{"$f":"'6 - Input sheet - Employee data'!PZ47","v":0},{"$f":"'6 - Input sheet - Employee data'!QA47","v":0},{"$f":"'6 - Input sheet - Employee data'!QB47","v":0},{"$f":"'6 - Input sheet - Employee data'!QC47","v":0},{"$f":"'6 - Input sheet - Employee data'!QD47","v":0},{"$f":"'6 - Input sheet - Employee data'!QE47","v":0},{"$f":"'6 - Input sheet - Employee data'!QF47","v":0},{"$f":"'6 - Input sheet - Employee data'!QG47","v":0},{"$f":"'6 - Input sheet - Employee data'!QH47","v":0},{"$f":"'6 - Input sheet - Employee data'!QI47","v":0},{"$f":"'6 - Input sheet - Employee data'!QJ47","v":0},{"$f":"'6 - Input sheet - Employee data'!QK47","v":0},{"$f":"'6 - Input sheet - Employee data'!QL47","v":0},{"$f":"'6 - Input sheet - Employee data'!QM47","v":0},{"$f":"'6 - Input sheet - Employee data'!QN47","v":0},{"$f":"'6 - Input sheet - Employee data'!QO47","v":0},{"$f":"'6 - Input sheet - Employee data'!QP47","v":0},{"$f":"'6 - Input sheet - Employee data'!QQ47","v":0},{"$f":"'6 - Input sheet - Employee data'!QR47","v":0},{"$f":"'6 - Input sheet - Employee data'!QS47","v":0},{"$f":"'6 - Input sheet - Employee data'!QT47","v":0},{"$f":"'6 - Input sheet - Employee data'!QU47","v":0},{"$f":"'6 - Input sheet - Employee data'!QV47","v":0},{"$f":"'6 - Input sheet - Employee data'!QW47","v":0},{"$f":"'6 - Input sheet - Employee data'!QX47","v":0},{"$f":"'6 - Input sheet - Employee data'!QY47","v":0},{"$f":"'6 - Input sheet - Employee data'!QZ47","v":0},{"$f":"'6 - Input sheet - Employee data'!RA47","v":0},{"$f":"'6 - Input sheet - Employee data'!RB47","v":0},{"$f":"'6 - Input sheet - Employee data'!RC47","v":0},{"$f":"'6 - Input sheet - Employee data'!RD47","v":0},{"$f":"'6 - Input sheet - Employee data'!RE47","v":0},{"$f":"'6 - Input sheet - Employee data'!RF47","v":0},{"$f":"'6 - Input sheet - Employee data'!RG47","v":0},{"$f":"'6 - Input sheet - Employee data'!RH47","v":0},{"$f":"'6 - Input sheet - Employee data'!RI47","v":0},{"$f":"'6 - Input sheet - Employee data'!RJ47","v":0},{"$f":"'6 - Input sheet - Employee data'!RK47","v":0},{"$f":"'6 - Input sheet - Employee data'!RL47","v":0},{"$f":"'6 - Input sheet - Employee data'!RM47","v":0},{"$f":"'6 - Input sheet - Employee data'!RN47","v":0},{"$f":"'6 - Input sheet - Employee data'!RO47","v":0},{"$f":"'6 - Input sheet - Employee data'!RP47","v":0},{"$f":"'6 - Input sheet - Employee data'!RQ47","v":0},{"$f":"'6 - Input sheet - Employee data'!RR47","v":0},{"$f":"'6 - Input sheet - Employee data'!RS47","v":0},{"$f":"'6 - Input sheet - Employee data'!RT47","v":0},{"$f":"'6 - Input sheet - Employee data'!RU47","v":0},{"$f":"'6 - Input sheet - Employee data'!RV47","v":0},{"$f":"'6 - Input sheet - Employee data'!RW47","v":0},{"$f":"'6 - Input sheet - Employee data'!RX47","v":0},{"$f":"'6 - Input sheet - Employee data'!RY47","v":0},{"$f":"'6 - Input sheet - Employee data'!RZ47","v":0},{"$f":"'6 - Input sheet - Employee data'!SA47","v":0},{"$f":"'6 - Input sheet - Employee data'!SB47","v":0},{"$f":"'6 - Input sheet - Employee data'!SC47","v":0},{"$f":"'6 - Input sheet - Employee data'!SD47","v":0},{"$f":"'6 - Input sheet - Employee data'!SE47","v":0},{"$f":"'6 - Input sheet - Employee data'!SF47","v":0},{"$f":"'6 - Input sheet - Employee data'!SG47","v":0},{"$f":"'6 - Input sheet - Employee data'!SH47","v":0}]
["   Employed - Payroll period inclusive of June 30, 2020",null,{"$f":"'6 - Input sheet - Employee data'!C48","v":"Yes"},{"$f":"'6 - Input sheet - Employee data'!D48","v":"Yes"},{"$f":"'6 - Input sheet - Employee data'!E48","v":"Yes"},{"$f":"'6 - Input sheet - Employee data'!F48","v":"Yes"},{"$f":"'6 - Input sheet - Employee data'!G48","v":"Yes"},{"$f":"'6 - Input sheet - Employee data'!H48","v":"Yes"},{"$f":"'6 - Input sheet - Employee data'!I48","v":"Yes"},{"$f":"'6 - Input sheet - Employee data'!J48","v":"Yes"},{"$f":"'6 - Input sheet - Employee data'!K48","v":"Yes"},{"$f":"'6 - Input sheet - Employee data'!L48","v":"Yes"},{"$f":"'6 - Input sheet - Employee data'!M48","v":"Yes"},{"$f":"'6 - Input sheet - Employee data'!N48","v":"Yes"},{"$f":"'6 - Input sheet - Employee data'!O48","v":"Yes"},{"$f":"'6 - Input sheet - Employee data'!P48","v":"Yes"},{"$f":"'6 - Input sheet - Employee data'!Q48","v":"Yes"},{"$f":"'6 - Input sheet - Employee data'!R48","v":"Yes"},{"$f":"'6 - Input sheet - Employee data'!S48","v":"Yes"},{"$f":"'6 - Input sheet - Employee data'!T48","v":"Yes"},{"$f":"'6 - Input sheet - Employee data'!U48","v":"Yes"},{"$f":"'6 - Input sheet - Employee data'!V48","v":"Yes"},{"$f":"'6 - Input sheet - Employee data'!W48","v":"Yes"},{"$f":"'6 - Input sheet - Employee data'!X48","v":"Yes"},{"$f":"'6 - Input sheet - Employee data'!Y48","v":"Yes"},{"$f":"'6 - Input sheet - Employee data'!Z48","v":"Yes"},{"$f":"'6 - Input sheet - Employee data'!AA48","v":"Yes"},{"$f":"'6 - Input sheet - Employee data'!AB48","v":"Yes"},{"$f":"'6 - Input sheet - Employee data'!AC48","v":"Yes"},{"$f":"'6 - Input sheet - Employee data'!AD48","v":"Yes"},{"$f":"'6 - Input sheet - Employee data'!AE48","v":"Yes"},{"$f":"'6 - Input sheet - Employee data'!AF48","v":"Yes"},{"$f":"'6 - Input sheet - Employee data'!AG48","v":"Yes"},{"$f":"'6 - Input sheet - Employee data'!AH48","v":"Yes"},{"$f":"'6 - Input sheet - Employee data'!AI48","v":"Yes"},{"$f":"'6 - Input sheet - Employee data'!AJ48","v":"Yes"},{"$f":"'6 - Input sheet - Employee data'!AK48","v":"Yes"},{"$f":"'6 - Input sheet - Employee data'!AL48","v":"Yes"},{"$f":"'6 - Input sheet - Employee data'!AM48","v":"Yes"},{"$f":"'6 - Input sheet - Employee data'!AN48","v":"Yes"},{"$f":"'6 - Input sheet - Employee data'!AO48","v":"Yes"},{"$f":"'6 - Input sheet - Employee data'!AP48","v":"Yes"},{"$f":"'6 - Input sheet - Employee data'!AQ48","v":"Yes"},{"$f":"'6 - Input sheet - Employee data'!AR48","v":"Yes"},{"$f":"'6 - Input sheet - Employee data'!AS48","v":"Yes"},{"$f":"'6 - Input sheet - Employee data'!AT48","v":"Yes"},{"$f":"'6 - Input sheet - Employee data'!AU48","v":"Yes"},{"$f":"'6 - Input sheet - Employee data'!AV48","v":"Yes"},{"$f":"'6 - Input sheet - Employee data'!AW48","v":"Yes"},{"$f":"'6 - Input sheet - Employee data'!AX48","v":"Yes"},{"$f":"'6 - Input sheet - Employee data'!AY48","v":"Yes"},{"$f":"'6 - Input sheet - Employee data'!AZ48","v":"Yes"},{"$f":"'6 - Input sheet - Employee data'!BA48","v":"Yes"},{"$f":"'6 - Input sheet - Employee data'!BB48","v":"Yes"},{"$f":"'6 - Input sheet - Employee data'!BC48","v":"Yes"},{"$f":"'6 - Input sheet - Employee data'!BD48","v":"Yes"},{"$f":"'6 - Input sheet - Employee data'!BE48","v":"Yes"},{"$f":"'6 - Input sheet - Employee data'!BF48","v":"Yes"},{"$f":"'6 - Input sheet - Employee data'!BG48","v":"Yes"},{"$f":"'6 - Input sheet - Employee data'!BH48","v":"Yes"},{"$f":"'6 - Input sheet - Employee data'!BI48","v":"Yes"},{"$f":"'6 - Input sheet - Employee data'!BJ48","v":"Yes"},{"$f":"'6 - Input sheet - Employee data'!BK48","v":"Yes"},{"$f":"'6 - Input sheet - Employee data'!BL48","v":"Yes"},{"$f":"'6 - Input sheet - Employee data'!BM48","v":"Yes"},{"$f":"'6 - Input sheet - Employee data'!BN48","v":"Yes"},{"$f":"'6 - Input sheet - Employee data'!BO48","v":"Yes"},{"$f":"'6 - Input sheet - Employee data'!BP48","v":"Yes"},{"$f":"'6 - Input sheet - Employee data'!BQ48","v":"Yes"},{"$f":"'6 - Input sheet - Employee data'!BR48","v":"Yes"},{"$f":"'6 - Input sheet - Employee data'!BS48","v":"Yes"},{"$f":"'6 - Input sheet - Employee data'!BT48","v":"Yes"},{"$f":"'6 - Input sheet - Employee data'!BU48","v":"Yes"},{"$f":"'6 - Input sheet - Employee data'!BV48","v":"Yes"},{"$f":"'6 - Input sheet - Employee data'!BW48","v":"Yes"},{"$f":"'6 - Input sheet - Employee data'!BX48","v":"Yes"},{"$f":"'6 - Input sheet - Employee data'!BY48","v":"Yes"},{"$f":"'6 - Input sheet - Employee data'!BZ48","v":"Yes"},{"$f":"'6 - Input sheet - Employee data'!CA48","v":"Yes"},{"$f":"'6 - Input sheet - Employee data'!CB48","v":"Yes"},{"$f":"'6 - Input sheet - Employee data'!CC48","v":"Yes"},{"$f":"'6 - Input sheet - Employee data'!CD48","v":"Yes"},{"$f":"'6 - Input sheet - Employee data'!CE48","v":"Yes"},{"$f":"'6 - Input sheet - Employee data'!CF48","v":"Yes"},{"$f":"'6 - Input sheet - Employee data'!CG48","v":"Yes"},{"$f":"'6 - Input sheet - Employee data'!CH48","v":"Yes"},{"$f":"'6 - Input sheet - Employee data'!CI48","v":"Yes"},{"$f":"'6 - Input sheet - Employee data'!CJ48","v":"Yes"},{"$f":"'6 - Input sheet - Employee data'!CK48","v":"Yes"},{"$f":"'6 - Input sheet - Employee data'!CL48","v":"Yes"},{"$f":"'6 - Input sheet - Employee data'!CM48","v":"Yes"},{"$f":"'6 - Input sheet - Employee data'!CN48","v":"Yes"},{"$f":"'6 - Input sheet - Employee data'!CO48","v":"Yes"},{"$f":"'6 - Input sheet - Employee data'!CP48","v":"Yes"},{"$f":"'6 - Input sheet - Employee data'!CQ48","v":"Yes"},{"$f":"'6 - Input sheet - Employee data'!CR48","v":"Yes"},{"$f":"'6 - Input sheet - Employee data'!CS48","v":"Yes"},{"$f":"'6 - Input sheet - Employee data'!CT48","v":"Yes"},{"$f":"'6 - Input sheet - Employee data'!CU48","v":"Yes"},{"$f":"'6 - Input sheet - Employee data'!CV48","v":"Yes"},{"$f":"'6 - Input sheet - Employee data'!CW48","v":"Yes"},{"$f":"'6 - Input sheet - Employee data'!CX48","v":"Yes"},{"$f":"'6 - Input sheet - Employee data'!CY48","v":"Yes"},{"$f":"'6 - Input sheet - Employee data'!CZ48","v":"Yes"},{"$f":"'6 - Input sheet - Employee data'!DA48","v":"Yes"},{"$f":"'6 - Input sheet - Employee data'!DB48","v":"Yes"},{"$f":"'6 - Input sheet - Employee data'!DC48","v":"Yes"},{"$f":"'6 - Input sheet - Employee data'!DD48","v":"Yes"},{"$f":"'6 - Input sheet - Employee data'!DE48","v":"Yes"},{"$f":"'6 - Input sheet - Employee data'!DF48","v":"Yes"},{"$f":"'6 - Input sheet - Employee data'!DG48","v":"Yes"},{"$f":"'6 - Input sheet - Employee data'!DH48","v":"Yes"},{"$f":"'6 - Input sheet - Employee data'!DI48","v":"Yes"},{"$f":"'6 - Input sheet - Employee data'!DJ48","v":"Yes"},{"$f":"'6 - Input sheet - Employee data'!DK48","v":"Yes"},{"$f":"'6 - Input sheet - Employee data'!DL48","v":"Yes"},{"$f":"'6 - Input sheet - Employee data'!DM48","v":"Yes"},{"$f":"'6 - Input sheet - Employee data'!DN48","v":"Yes"},{"$f":"'6 - Input sheet - Employee data'!DO48","v":"Yes"},{"$f":"'6 - Input sheet - Employee data'!DP48","v":"Yes"},{"$f":"'6 - Input sheet - Employee data'!DQ48","v":"Yes"},{"$f":"'6 - Input sheet - Employee data'!DR48","v":"Yes"},{"$f":"'6 - Input sheet - Employee data'!DS48","v":"Yes"},{"$f":"'6 - Input sheet - Employee data'!DT48","v":"Yes"},{"$f":"'6 - Input sheet - Employee data'!DU48","v":"Yes"},{"$f":"'6 - Input sheet - Employee data'!DV48","v":"Yes"},{"$f":"'6 - Input sheet - Employee data'!DW48","v":"Yes"},{"$f":"'6 - Input sheet - Employee data'!DX48","v":"Yes"},{"$f":"'6 - Input sheet - Employee data'!DY48","v":"Yes"},{"$f":"'6 - Input sheet - Employee data'!DZ48","v":"Yes"},{"$f":"'6 - Input sheet - Employee data'!EA48","v":"Yes"},{"$f":"'6 - Input sheet - Employee data'!EB48","v":"Yes"},{"$f":"'6 - Input sheet - Employee data'!EC48","v":"Yes"},{"$f":"'6 - Input sheet - Employee data'!ED48","v":"Yes"},{"$f":"'6 - Input sheet - Employee data'!EE48","v":"Yes"},{"$f":"'6 - Input sheet - Employee data'!EF48","v":"Yes"},{"$f":"'6 - Input sheet - Employee data'!EG48","v":"Yes"},{"$f":"'6 - Input sheet - Employee data'!EH48","v":"Yes"},{"$f":"'6 - Input sheet - Employee data'!EI48","v":"Yes"},{"$f":"'6 - Input sheet - Employee data'!EJ48","v":"Yes"},{"$f":"'6 - Input sheet - Employee data'!EK48","v":"Yes"},{"$f":"'6 - Input sheet - Employee data'!EL48","v":"Yes"},{"$f":"'6 - Input sheet - Employee data'!EM48","v":"Yes"},{"$f":"'6 - Input sheet - Employee data'!EN48","v":"Yes"},{"$f":"'6 - Input sheet - Employee data'!EO48","v":"Yes"},{"$f":"'6 - Input sheet - Employee data'!EP48","v":"Yes"},{"$f":"'6 - Input sheet - Employee data'!EQ48","v":"Yes"},{"$f":"'6 - Input sheet - Employee data'!ER48","v":"Yes"},{"$f":"'6 - Input sheet - Employee data'!ES48","v":"Yes"},{"$f":"'6 - Input sheet - Employee data'!ET48","v":"Yes"},{"$f":"'6 - Input sheet - Employee data'!EU48","v":"Yes"},{"$f":"'6 - Input sheet - Employee data'!EV48","v":"Yes"},{"$f":"'6 - Input sheet - Employee data'!EW48","v":"Yes"},{"$f":"'6 - Input sheet - Employee data'!EX48","v":"Yes"},{"$f":"'6 - Input sheet - Employee data'!EY48","v":"Yes"},{"$f":"'6 - Input sheet - Employee data'!EZ48","v":"Yes"},{"$f":"'6 - Input sheet - Employee data'!FA48","v":"Yes"},{"$f":"'6 - Input sheet - Employee data'!FB48","v":"Yes"},{"$f":"'6 - Input sheet - Employee data'!FC48","v":"Yes"},{"$f":"'6 - Input sheet - Employee data'!FD48","v":"Yes"},{"$f":"'6 - Input sheet - Employee data'!FE48","v":"Yes"},{"$f":"'6 - Input sheet - Employee data'!FF48","v":"Yes"},{"$f":"'6 - Input sheet - Employee data'!FG48","v":"Yes"},{"$f":"'6 - Input sheet - Employee data'!FH48","v":"Yes"},{"$f":"'6 - Input sheet - Employee data'!FI48","v":"Yes"},{"$f":"'6 - Input sheet - Employee data'!FJ48","v":"Yes"},{"$f":"'6 - Input sheet - Employee data'!FK48","v":"Yes"},{"$f":"'6 - Input sheet - Employee data'!FL48","v":"Yes"},{"$f":"'6 - Input sheet - Employee data'!FM48","v":"Yes"},{"$f":"'6 - Input sheet - Employee data'!FN48","v":"Yes"},{"$f":"'6 - Input sheet - Employee data'!FO48","v":"Yes"},{"$f":"'6 - Input sheet - Employee data'!FP48","v":"Yes"},{"$f":"'6 - Input sheet - Employee data'!FQ48","v":"Yes"},{"$f":"'6 - Input sheet - Employee data'!FR48","v":"Yes"},{"$f":"'6 - Input sheet - Employee data'!FS48","v":"Yes"},{"$f":"'6 - Input sheet - Employee data'!FT48","v":"Yes"},{"$f":"'6 - Input sheet - Employee data'!FU48","v":"Yes"},{"$f":"'6 - Input sheet - Employee data'!FV48","v":"Yes"},{"$f":"'6 - Input sheet - Employee data'!FW48","v":"Yes"},{"$f":"'6 - Input sheet - Employee data'!FX48","v":"Yes"},{"$f":"'6 - Input sheet - Employee data'!FY48","v":"Yes"},{"$f":"'6 - Input sheet - Employee data'!FZ48","v":"Yes"},{"$f":"'6 - Input sheet - Employee data'!GA48","v":"Yes"},{"$f":"'6 - Input sheet - Employee data'!GB48","v":"Yes"},{"$f":"'6 - Input sheet - Employee data'!GC48","v":"Yes"},{"$f":"'6 - Input sheet - Employee data'!GD48","v":"Yes"},{"$f":"'6 - Input sheet - Employee data'!GE48","v":"Yes"},{"$f":"'6 - Input sheet - Employee data'!GF48","v":"Yes"},{"$f":"'6 - Input sheet - Employee data'!GG48","v":"Yes"},{"$f":"'6 - Input sheet - Employee data'!GH48","v":"Yes"},{"$f":"'6 - Input sheet - Employee data'!GI48","v":"Yes"},{"$f":"'6 - Input sheet - Employee data'!GJ48","v":"Yes"},{"$f":"'6 - Input sheet - Employee data'!GK48","v":"Yes"},{"$f":"'6 - Input sheet - Employee data'!GL48","v":"Yes"},{"$f":"'6 - Input sheet - Employee data'!GM48","v":"Yes"},{"$f":"'6 - Input sheet - Employee data'!GN48","v":"Yes"},{"$f":"'6 - Input sheet - Employee data'!GO48","v":"Yes"},{"$f":"'6 - Input sheet - Employee data'!GP48","v":"Yes"},{"$f":"'6 - Input sheet - Employee data'!GQ48","v":"Yes"},{"$f":"'6 - Input sheet - Employee data'!GR48","v":"Yes"},{"$f":"'6 - Input sheet - Employee data'!GS48","v":"Yes"},{"$f":"'6 - Input sheet - Employee data'!GT48","v":"Yes"},{"$f":"'6 - Input sheet - Employee data'!GU48","v":"Yes"},{"$f":"'6 - Input sheet - Employee data'!GV48","v":"Yes"},{"$f":"'6 - Input sheet - Employee data'!GW48","v":"Yes"},{"$f":"'6 - Input sheet - Employee data'!GX48","v":"Yes"},{"$f":"'6 - Input sheet - Employee data'!GY48","v":"Yes"},{"$f":"'6 - Input sheet - Employee data'!GZ48","v":"Yes"},{"$f":"'6 - Input sheet - Employee data'!HA48","v":"Yes"},{"$f":"'6 - Input sheet - Employee data'!HB48","v":"Yes"},{"$f":"'6 - Input sheet - Employee data'!HC48","v":"Yes"},{"$f":"'6 - Input sheet - Employee data'!HD48","v":"Yes"},{"$f":"'6 - Input sheet - Employee data'!HE48","v":"Yes"},{"$f":"'6 - Input sheet - Employee data'!HF48","v":"Yes"},{"$f":"'6 - Input sheet - Employee data'!HG48","v":"Yes"},{"$f":"'6 - Input sheet - Employee data'!HH48","v":"Yes"},{"$f":"'6 - Input sheet - Employee data'!HI48","v":"Yes"},{"$f":"'6 - Input sheet - Employee data'!HJ48","v":"Yes"},{"$f":"'6 - Input sheet - Employee data'!HK48","v":"Yes"},{"$f":"'6 - Input sheet - Employee data'!HL48","v":"Yes"},{"$f":"'6 - Input sheet - Employee data'!HM48","v":"Yes"},{"$f":"'6 - Input sheet - Employee data'!HN48","v":"Yes"},{"$f":"'6 - Input sheet - Employee data'!HO48","v":"Yes"},{"$f":"'6 - Input sheet - Employee data'!HP48","v":"Yes"},{"$f":"'6 - Input sheet - Employee data'!HQ48","v":"Yes"},{"$f":"'6 - Input sheet - Employee data'!HR48","v":"Yes"},{"$f":"'6 - Input sheet - Employee data'!HS48","v":"Yes"},{"$f":"'6 - Input sheet - Employee data'!HT48","v":"Yes"},{"$f":"'6 - Input sheet - Employee data'!HU48","v":"Yes"},{"$f":"'6 - Input sheet - Employee data'!HV48","v":"Yes"},{"$f":"'6 - Input sheet - Employee data'!HW48","v":"Yes"},{"$f":"'6 - Input sheet - Employee data'!HX48","v":"Yes"},{"$f":"'6 - Input sheet - Employee data'!HY48","v":"Yes"},{"$f":"'6 - Input sheet - Employee data'!HZ48","v":"Yes"},{"$f":"'6 - Input sheet - Employee data'!IA48","v":"Yes"},{"$f":"'6 - Input sheet - Employee data'!IB48","v":"Yes"},{"$f":"'6 - Input sheet - Employee data'!IC48","v":"Yes"},{"$f":"'6 - Input sheet - Employee data'!ID48","v":"Yes"},{"$f":"'6 - Input sheet - Employee data'!IE48","v":"Yes"},{"$f":"'6 - Input sheet - Employee data'!IF48","v":"Yes"},{"$f":"'6 - Input sheet - Employee data'!IG48","v":"Yes"},{"$f":"'6 - Input sheet - Employee data'!IH48","v":"Yes"},{"$f":"'6 - Input sheet - Employee data'!II48","v":"Yes"},{"$f":"'6 - Input sheet - Employee data'!IJ48","v":"Yes"},{"$f":"'6 - Input sheet - Employee data'!IK48","v":"Yes"},{"$f":"'6 - Input sheet - Employee data'!IL48","v":"Yes"},{"$f":"'6 - Input sheet - Employee data'!IM48","v":"Yes"},{"$f":"'6 - Input sheet - Employee data'!IN48","v":"Yes"},{"$f":"'6 - Input sheet - Employee data'!IO48","v":"Yes"},{"$f":"'6 - Input sheet - Employee data'!IP48","v":"Yes"},{"$f":"'6 - Input sheet - Employee data'!IQ48","v":"Yes"},{"$f":"'6 - Input sheet - Employee data'!IR48","v":"Yes"},{"$f":"'6 - Input sheet - Employee data'!IS48","v":"Yes"},{"$f":"'6 - Input sheet - Employee data'!IT48","v":"Yes"},{"$f":"'6 - Input sheet - Employee data'!IU48","v":"Yes"},{"$f":"'6 - Input sheet - Employee data'!IV48","v":"Yes"},{"$f":"'6 - Input sheet - Employee data'!IW48","v":"Yes"},{"$f":"'6 - Input sheet - Employee data'!IX48","v":"Yes"},{"$f":"'6 - Input sheet - Employee data'!IY48","v":"Yes"},{"$f":"'6 - Input sheet - Employee data'!IZ48","v":"Yes"},{"$f":"'6 - Input sheet - Employee data'!JA48","v":"Yes"},{"$f":"'6 - Input sheet - Employee data'!JB48","v":"Yes"},{"$f":"'6 - Input sheet - Employee data'!JC48","v":"Yes"},{"$f":"'6 - Input sheet - Employee data'!JD48","v":"Yes"},{"$f":"'6 - Input sheet - Employee data'!JE48","v":"Yes"},{"$f":"'6 - Input sheet - Employee data'!JF48","v":"Yes"},{"$f":"'6 - Input sheet - Employee data'!JG48","v":"Yes"},{"$f":"'6 - Input sheet - Employee data'!JH48","v":"Yes"},{"$f":"'6 - Input sheet - Employee data'!JI48","v":"Yes"},{"$f":"'6 - Input sheet - Employee data'!JJ48","v":"Yes"},{"$f":"'6 - Input sheet - Employee data'!JK48","v":"Yes"},{"$f":"'6 - Input sheet - Employee data'!JL48","v":"Yes"},{"$f":"'6 - Input sheet - Employee data'!JM48","v":"Yes"},{"$f":"'6 - Input sheet - Employee data'!JN48","v":"Yes"},{"$f":"'6 - Input sheet - Employee data'!JO48","v":"Yes"},{"$f":"'6 - Input sheet - Employee data'!JP48","v":"Yes"},{"$f":"'6 - Input sheet - Employee data'!JQ48","v":"Yes"},{"$f":"'6 - Input sheet - Employee data'!JR48","v":"Yes"},{"$f":"'6 - Input sheet - Employee data'!JS48","v":"Yes"},{"$f":"'6 - Input sheet - Employee data'!JT48","v":"Yes"},{"$f":"'6 - Input sheet - Employee data'!JU48","v":"Yes"},{"$f":"'6 - Input sheet - Employee data'!JV48","v":"Yes"},{"$f":"'6 - Input sheet - Employee data'!JW48","v":"Yes"},{"$f":"'6 - Input sheet - Employee data'!JX48","v":"Yes"},{"$f":"'6 - Input sheet - Employee data'!JY48","v":"Yes"},{"$f":"'6 - Input sheet - Employee data'!JZ48","v":"Yes"},{"$f":"'6 - Input sheet - Employee data'!KA48","v":"Yes"},{"$f":"'6 - Input sheet - Employee data'!KB48","v":"Yes"},{"$f":"'6 - Input sheet - Employee data'!KC48","v":"Yes"},{"$f":"'6 - Input sheet - Employee data'!KD48","v":"Yes"},{"$f":"'6 - Input sheet - Employee data'!KE48","v":"Yes"},{"$f":"'6 - Input sheet - Employee data'!KF48","v":"Yes"},{"$f":"'6 - Input sheet - Employee data'!KG48","v":"Yes"},{"$f":"'6 - Input sheet - Employee data'!KH48","v":"Yes"},{"$f":"'6 - Input sheet - Employee data'!KI48","v":"Yes"},{"$f":"'6 - Input sheet - Employee data'!KJ48","v":"Yes"},{"$f":"'6 - Input sheet - Employee data'!KK48","v":"Yes"},{"$f":"'6 - Input sheet - Employee data'!KL48","v":"Yes"},{"$f":"'6 - Input sheet - Employee data'!KM48","v":"Yes"},{"$f":"'6 - Input sheet - Employee data'!KN48","v":"Yes"},{"$f":"'6 - Input sheet - Employee data'!KO48","v":"Yes"},{"$f":"'6 - Input sheet - Employee data'!KP48","v":"Yes"},{"$f":"'6 - Input sheet - Employee data'!KQ48","v":"Yes"},{"$f":"'6 - Input sheet - Employee data'!KR48","v":"Yes"},{"$f":"'6 - Input sheet - Employee data'!KS48","v":"Yes"},{"$f":"'6 - Input sheet - Employee data'!KT48","v":"Yes"},{"$f":"'6 - Input sheet - Employee data'!KU48","v":"Yes"},{"$f":"'6 - Input sheet - Employee data'!KV48","v":"Yes"},{"$f":"'6 - Input sheet - Employee data'!KW48","v":"Yes"},{"$f":"'6 - Input sheet - Employee data'!KX48","v":"Yes"},{"$f":"'6 - Input sheet - Employee data'!KY48","v":"Yes"},{"$f":"'6 - Input sheet - Employee data'!KZ48","v":"Yes"},{"$f":"'6 - Input sheet - Employee data'!LA48","v":"Yes"},{"$f":"'6 - Input sheet - Employee data'!LB48","v":"Yes"},{"$f":"'6 - Input sheet - Employee data'!LC48","v":"Yes"},{"$f":"'6 - Input sheet - Employee data'!LD48","v":"Yes"},{"$f":"'6 - Input sheet - Employee data'!LE48","v":"Yes"},{"$f":"'6 - Input sheet - Employee data'!LF48","v":"Yes"},{"$f":"'6 - Input sheet - Employee data'!LG48","v":"Yes"},{"$f":"'6 - Input sheet - Employee data'!LH48","v":"Yes"},{"$f":"'6 - Input sheet - Employee data'!LI48","v":"Yes"},{"$f":"'6 - Input sheet - Employee data'!LJ48","v":"Yes"},{"$f":"'6 - Input sheet - Employee data'!LK48","v":"Yes"},{"$f":"'6 - Input sheet - Employee data'!LL48","v":"Yes"},{"$f":"'6 - Input sheet - Employee data'!LM48","v":"Yes"},{"$f":"'6 - Input sheet - Employee data'!LN48","v":"Yes"},{"$f":"'6 - Input sheet - Employee data'!LO48","v":"Yes"},{"$f":"'6 - Input sheet - Employee data'!LP48","v":"Yes"},{"$f":"'6 - Input sheet - Employee data'!LQ48","v":"Yes"},{"$f":"'6 - Input sheet - Employee data'!LR48","v":"Yes"},{"$f":"'6 - Input sheet - Employee data'!LS48","v":"Yes"},{"$f":"'6 - Input sheet - Employee data'!LT48","v":"Yes"},{"$f":"'6 - Input sheet - Employee data'!LU48","v":"Yes"},{"$f":"'6 - Input sheet - Employee data'!LV48","v":"Yes"},{"$f":"'6 - Input sheet - Employee data'!LW48","v":"Yes"},{"$f":"'6 - Input sheet - Employee data'!LX48","v":"Yes"},{"$f":"'6 - Input sheet - Employee data'!LY48","v":"Yes"},{"$f":"'6 - Input sheet - Employee data'!LZ48","v":"Yes"},{"$f":"'6 - Input sheet - Employee data'!MA48","v":"Yes"},{"$f":"'6 - Input sheet - Employee data'!MB48","v":"Yes"},{"$f":"'6 - Input sheet - Employee data'!MC48","v":"Yes"},{"$f":"'6 - Input sheet - Employee data'!MD48","v":"Yes"},{"$f":"'6 - Input sheet - Employee data'!ME48","v":"Yes"},{"$f":"'6 - Input sheet - Employee data'!MF48","v":"Yes"},{"$f":"'6 - Input sheet - Employee data'!MG48","v":"Yes"},{"$f":"'6 - Input sheet - Employee data'!MH48","v":"Yes"},{"$f":"'6 - Input sheet - Employee data'!MI48","v":"Yes"},{"$f":"'6 - Input sheet - Employee data'!MJ48","v":"Yes"},{"$f":"'6 - Input sheet - Employee data'!MK48","v":"Yes"},{"$f":"'6 - Input sheet - Employee data'!ML48","v":"Yes"},{"$f":"'6 - Input sheet - Employee data'!MM48","v":"Yes"},{"$f":"'6 - Input sheet - Employee data'!MN48","v":"Yes"},{"$f":"'6 - Input sheet - Employee data'!MO48","v":"Yes"},{"$f":"'6 - Input sheet - Employee data'!MP48","v":"Yes"},{"$f":"'6 - Input sheet - Employee data'!MQ48","v":"Yes"},{"$f":"'6 - Input sheet - Employee data'!MR48","v":"Yes"},{"$f":"'6 - Input sheet - Employee data'!MS48","v":"Yes"},{"$f":"'6 - Input sheet - Employee data'!MT48","v":"Yes"},{"$f":"'6 - Input sheet - Employee data'!MU48","v":"Yes"},{"$f":"'6 - Input sheet - Employee data'!MV48","v":"Yes"},{"$f":"'6 - Input sheet - Employee data'!MW48","v":"Yes"},{"$f":"'6 - Input sheet - Employee data'!MX48","v":"Yes"},{"$f":"'6 - Input sheet - Employee data'!MY48","v":"Yes"},{"$f":"'6 - Input sheet - Employee data'!MZ48","v":"Yes"},{"$f":"'6 - Input sheet - Employee data'!NA48","v":"Yes"},{"$f":"'6 - Input sheet - Employee data'!NB48","v":"Yes"},{"$f":"'6 - Input sheet - Employee data'!NC48","v":"Yes"},{"$f":"'6 - Input sheet - Employee data'!ND48","v":"Yes"},{"$f":"'6 - Input sheet - Employee data'!NE48","v":"Yes"},{"$f":"'6 - Input sheet - Employee data'!NF48","v":"Yes"},{"$f":"'6 - Input sheet - Employee data'!NG48","v":"Yes"},{"$f":"'6 - Input sheet - Employee data'!NH48","v":"Yes"},{"$f":"'6 - Input sheet - Employee data'!NI48","v":"Yes"},{"$f":"'6 - Input sheet - Employee data'!NJ48","v":"Yes"},{"$f":"'6 - Input sheet - Employee data'!NK48","v":"Yes"},{"$f":"'6 - Input sheet - Employee data'!NL48","v":"Yes"},{"$f":"'6 - Input sheet - Employee data'!NM48","v":"Yes"},{"$f":"'6 - Input sheet - Employee data'!NN48","v":"Yes"},{"$f":"'6 - Input sheet - Employee data'!NO48","v":"Yes"},{"$f":"'6 - Input sheet - Employee data'!NP48","v":"Yes"},{"$f":"'6 - Input sheet - Employee data'!NQ48","v":"Yes"},{"$f":"'6 - Input sheet - Employee data'!NR48","v":"Yes"},{"$f":"'6 - Input sheet - Employee data'!NS48","v":"Yes"},{"$f":"'6 - Input sheet - Employee data'!NT48","v":"Yes"},{"$f":"'6 - Input sheet - Employee data'!NU48","v":"Yes"},{"$f":"'6 - Input sheet - Employee data'!NV48","v":"Yes"},{"$f":"'6 - Input sheet - Employee data'!NW48","v":"Yes"},{"$f":"'6 - Input sheet - Employee data'!NX48","v":"Yes"},{"$f":"'6 - Input sheet - Employee data'!NY48","v":"Yes"},{"$f":"'6 - Input sheet - Employee data'!NZ48","v":"Yes"},{"$f":"'6 - Input sheet - Employee data'!OA48","v":"Yes"},{"$f":"'6 - Input sheet - Employee data'!OB48","v":"Yes"},{"$f":"'6 - Input sheet - Employee data'!OC48","v":"Yes"},{"$f":"'6 - Input sheet - Employee data'!OD48","v":"Yes"},{"$f":"'6 - Input sheet - Employee data'!OE48","v":"Yes"},{"$f":"'6 - Input sheet - Employee data'!OF48","v":"Yes"},{"$f":"'6 - Input sheet - Employee data'!OG48","v":"Yes"},{"$f":"'6 - Input sheet - Employee data'!OH48","v":"Yes"},{"$f":"'6 - Input sheet - Employee data'!OI48","v":"Yes"},{"$f":"'6 - Input sheet - Employee data'!OJ48","v":"Yes"},{"$f":"'6 - Input sheet - Employee data'!OK48","v":"Yes"},{"$f":"'6 - Input sheet - Employee data'!OL48","v":"Yes"},{"$f":"'6 - Input sheet - Employee data'!OM48","v":"Yes"},{"$f":"'6 - Input sheet - Employee data'!ON48","v":"Yes"},{"$f":"'6 - Input sheet - Employee data'!OO48","v":"Yes"},{"$f":"'6 - Input sheet - Employee data'!OP48","v":"Yes"},{"$f":"'6 - Input sheet - Employee data'!OQ48","v":"Yes"},{"$f":"'6 - Input sheet - Employee data'!OR48","v":"Yes"},{"$f":"'6 - Input sheet - Employee data'!OS48","v":"Yes"},{"$f":"'6 - Input sheet - Employee data'!OT48","v":"Yes"},{"$f":"'6 - Input sheet - Employee data'!OU48","v":"Yes"},{"$f":"'6 - Input sheet - Employee data'!OV48","v":"Yes"},{"$f":"'6 - Input sheet - Employee data'!OW48","v":"Yes"},{"$f":"'6 - Input sheet - Employee data'!OX48","v":"Yes"},{"$f":"'6 - Input sheet - Employee data'!OY48","v":"Yes"},{"$f":"'6 - Input sheet - Employee data'!OZ48","v":"Yes"},{"$f":"'6 - Input sheet - Employee data'!PA48","v":"Yes"},{"$f":"'6 - Input sheet - Employee data'!PB48","v":"Yes"},{"$f":"'6 - Input sheet - Employee data'!PC48","v":"Yes"},{"$f":"'6 - Input sheet - Employee data'!PD48","v":"Yes"},{"$f":"'6 - Input sheet - Employee data'!PE48","v":"Yes"},{"$f":"'6 - Input sheet - Employee data'!PF48","v":"Yes"},{"$f":"'6 - Input sheet - Employee data'!PG48","v":"Yes"},{"$f":"'6 - Input sheet - Employee data'!PH48","v":"Yes"},{"$f":"'6 - Input sheet - Employee data'!PI48","v":"Yes"},{"$f":"'6 - Input sheet - Employee data'!PJ48","v":"Yes"},{"$f":"'6 - Input sheet - Employee data'!PK48","v":"Yes"},{"$f":"'6 - Input sheet - Employee data'!PL48","v":"Yes"},{"$f":"'6 - Input sheet - Employee data'!PM48","v":"Yes"},{"$f":"'6 - Input sheet - Employee data'!PN48","v":"Yes"},{"$f":"'6 - Input sheet - Employee data'!PO48","v":"Yes"},{"$f":"'6 - Input sheet - Employee data'!PP48","v":"Yes"},{"$f":"'6 - Input sheet - Employee data'!PQ48","v":"Yes"},{"$f":"'6 - Input sheet - Employee data'!PR48","v":"Yes"},{"$f":"'6 - Input sheet - Employee data'!PS48","v":"Yes"},{"$f":"'6 - Input sheet - Employee data'!PT48","v":"Yes"},{"$f":"'6 - Input sheet - Employee data'!PU48","v":"Yes"},{"$f":"'6 - Input sheet - Employee data'!PV48","v":"Yes"},{"$f":"'6 - Input sheet - Employee data'!PW48","v":"Yes"},{"$f":"'6 - Input sheet - Employee data'!PX48","v":"Yes"},{"$f":"'6 - Input sheet - Employee data'!PY48","v":"Yes"},{"$f":"'6 - Input sheet - Employee data'!PZ48","v":"Yes"},{"$f":"'6 - Input sheet - Employee data'!QA48","v":"Yes"},{"$f":"'6 - Input sheet - Employee data'!QB48","v":"Yes"},{"$f":"'6 - Input sheet - Employee data'!QC48","v":"Yes"},{"$f":"'6 - Input sheet - Employee data'!QD48","v":"Yes"},{"$f":"'6 - Input sheet - Employee data'!QE48","v":"Yes"},{"$f":"'6 - Input sheet - Employee data'!QF48","v":"Yes"},{"$f":"'6 - Input sheet - Employee data'!QG48","v":"Yes"},{"$f":"'6 - Input sheet - Employee data'!QH48","v":"Yes"},{"$f":"'6 - Input sheet - Employee data'!QI48","v":"Yes"},{"$f":"'6 - Input sheet - Employee data'!QJ48","v":"Yes"},{"$f":"'6 - Input sheet - Employee data'!QK48","v":"Yes"},{"$f":"'6 - Input sheet - Employee data'!QL48","v":"Yes"},{"$f":"'6 - Input sheet - Employee data'!QM48","v":"Yes"},{"$f":"'6 - Input sheet - Employee data'!QN48","v":"Yes"},{"$f":"'6 - Input sheet - Employee data'!QO48","v":"Yes"},{"$f":"'6 - Input sheet - Employee data'!QP48","v":"Yes"},{"$f":"'6 - Input sheet - Employee data'!QQ48","v":"Yes"},{"$f":"'6 - Input sheet - Employee data'!QR48","v":"Yes"},{"$f":"'6 - Input sheet - Employee data'!QS48","v":"Yes"},{"$f":"'6 - Input sheet - Employee data'!QT48","v":"Yes"},{"$f":"'6 - Input sheet - Employee data'!QU48","v":"Yes"},{"$f":"'6 - Input sheet - Employee data'!QV48","v":"Yes"},{"$f":"'6 - Input sheet - Employee data'!QW48","v":"Yes"},{"$f":"'6 - Input sheet - Employee data'!QX48","v":"Yes"},{"$f":"'6 - Input sheet - Employee data'!QY48","v":"Yes"},{"$f":"'6 - Input sheet - Employee data'!QZ48","v":"Yes"},{"$f":"'6 - Input sheet - Employee data'!RA48","v":"Yes"},{"$f":"'6 - Input sheet - Employee data'!RB48","v":"Yes"},{"$f":"'6 - Input sheet - Employee data'!RC48","v":"Yes"},{"$f":"'6 - Input sheet - Employee data'!RD48","v":"Yes"},{"$f":"'6 - Input sheet - Employee data'!RE48","v":"Yes"},{"$f":"'6 - Input sheet - Employee data'!RF48","v":"Yes"},{"$f":"'6 - Input sheet - Employee data'!RG48","v":"Yes"},{"$f":"'6 - Input sheet - Employee data'!RH48","v":"Yes"},{"$f":"'6 - Input sheet - Employee data'!RI48","v":"Yes"},{"$f":"'6 - Input sheet - Employee data'!RJ48","v":"Yes"},{"$f":"'6 - Input sheet - Employee data'!RK48","v":"Yes"},{"$f":"'6 - Input sheet - Employee data'!RL48","v":"Yes"},{"$f":"'6 - Input sheet - Employee data'!RM48","v":"Yes"},{"$f":"'6 - Input sheet - Employee data'!RN48","v":"Yes"},{"$f":"'6 - Input sheet - Employee data'!RO48","v":"Yes"},{"$f":"'6 - Input sheet - Employee data'!RP48","v":"Yes"},{"$f":"'6 - Input sheet - Employee data'!RQ48","v":"Yes"},{"$f":"'6 - Input sheet - Employee data'!RR48","v":"Yes"},{"$f":"'6 - Input sheet - Employee data'!RS48","v":"Yes"},{"$f":"'6 - Input sheet - Employee data'!RT48","v":"Yes"},{"$f":"'6 - Input sheet - Employee data'!RU48","v":"Yes"},{"$f":"'6 - Input sheet - Employee data'!RV48","v":"Yes"},{"$f":"'6 - Input sheet - Employee data'!RW48","v":"Yes"},{"$f":"'6 - Input sheet - Employee data'!RX48","v":"Yes"},{"$f":"'6 - Input sheet - Employee data'!RY48","v":"Yes"},{"$f":"'6 - Input sheet - Employee data'!RZ48","v":"Yes"},{"$f":"'6 - Input sheet - Employee data'!SA48","v":"Yes"},{"$f":"'6 - Input sheet - Employee data'!SB48","v":"Yes"},{"$f":"'6 - Input sheet - Employee data'!SC48","v":"Yes"},{"$f":"'6 - Input sheet - Employee data'!SD48","v":"Yes"},{"$f":"'6 - Input sheet - Employee data'!SE48","v":"Yes"},{"$f":"'6 - Input sheet - Employee data'!SF48","v":"Yes"},{"$f":"'6 - Input sheet - Employee data'!SG48","v":"Yes"},{"$f":"'6 - Input sheet - Employee data'!SH48","v":"Yes"}]
["   FTE - salaried",null,{"$f":"IF(C67=\"yes\",1,0)","v":1},{"$f":"IF(D67=\"yes\",1,0)","v":1},1,1,1,1,1,1,1,1,1,1,1,1,1,1,1,1,1,1,1,1,1,1,1,1,1,1,1,1,1,1,1,1,1,1,1,1,1,1,1,1,1,1,1,1,1,1,1,1,1,1,1,1,1,1,1,1,1,1,1,1,1,1,1,{"$f":"IF(BP67=\"yes\",1,0)","v":1},1,1,1,1,1,1,1,1,1,1,1,1,1,1,1,1,1,1,1,1,1,1,1,1,1,1,1,1,1,1,1,1,1,1,1,1,1,1,1,1,1,1,1,1,1,1,1,1,1,1,1,1,1,1,1,1,1,1,1,1,1,1,1,{"$f":"IF(EB67=\"yes\",1,0)","v":1},1,1,1,1,1,1,1,1,1,1,1,1,1,1,1,1,1,1,1,1,1,1,1,1,1,1,1,1,1,1,1,1,1,1,1,1,1,1,1,1,1,1,1,1,1,1,1,1,1,1,1,1,1,1,1,1,1,1,1,1,1,1,1,{"$f":"IF(GN67=\"yes\",1,0)","v":1},1,1,1,1,1,1,1,1,1,1,1,1,1,1,1,1,1,1,1,1,1,1,1,1,1,1,1,1,1,1,1,1,1,1,1,1,1,1,1,1,1,1,1,1,1,1,1,1,1,1,1,1,1,1,1,1,1,1,1,1,1,1,1,{"$f":"IF(IZ67=\"yes\",1,0)","v":1},1,1,1,1,1,1,1,1,1,1,1,1,1,1,1,1,1,1,1,1,1,1,1,1,1,1,1,1,1,1,1,1,1,1,1,1,1,1,1,1,1,1,1,1,1,1,1,1,1,1,1,1,1,1,1,1,1,1,1,1,1,1,1,{"$f":"IF(LL67=\"yes\",1,0)","v":1},1,1,1,1,1,1,1,1,1,1,1,1,1,1,1,1,1,1,1,1,1,1,1,1,1,1,1,1,1,1,1,1,1,1,1,1,1,1,1,1,1,1,1,1,1,1,1,1,1,1,1,1,1,1,1,1,1,1,1,1,1,1,1,{"$f":"IF(NX67=\"yes\",1,0)","v":1},1,1,1,1,1,1,1,1,1,1,1,1,1,1,1,1,1,1,1,1,1,1,1,1,1,1,1,1,1,1,1,1,1,1,1,1,1,1,1,1,1,1,1,1,1,1,1,1,1,1,1,1,1,1,1,1,1,1,1,1,1,1,1,{"$f":"IF(QJ67=\"yes\",1,0)","v":1},1,1,1,1,1,1,1,1,1,1,1,1,1,1,1,1,1,1,1,1,1,1,1,1,1,1,1,1,1,1,1,1,1,1,1,1,1,1,1,1,1,1,1,1,1,1,1,1,1,1]
["   FTE - hourly",null,{"$f":"C66/$C$13","v":0},{"$f":"D66/$C$13","v":0},0,0,0,0,0,0,0,0,0,0,0,0,0,0,0,0,0,0,0,0,0,0,0,0,0,0,0,0,0,0,0,0,0,0,0,0,0,0,0,0,0,0,0,0,0,0,0,0,0,0,0,0,0,0,0,0,0,0,0,0,0,0,0,{"$f":"BP66/$C$13","v":0},0,0,0,0,0,0,0,0,0,0,0,0,0,0,0,0,0,0,0,0,0,0,0,0,0,0,0,0,0,0,0,0,0,0,0,0,0,0,0,0,0,0,0,0,0,0,0,0,0,0,0,0,0,0,0,0,0,0,0,0,0,0,0,{"$f":"EB66/$C$13","v":0},0,0,0,0,0,0,0,0,0,0,0,0,0,0,0,0,0,0,0,0,0,0,0,0,0,0,0,0,0,0,0,0,0,0,0,0,0,0,0,0,0,0,0,0,0,0,0,0,0,0,0,0,0,0,0,0,0,0,0,0,0,0,0,{"$f":"GN66/$C$13","v":0},0,0,0,0,0,0,0,0,0,0,0,0,0,0,0,0,0,0,0,0,0,0,0,0,0,0,0,0,0,0,0,0,0,0,0,0,0,0,0,0,0,0,0,0,0,0,0,0,0,0,0,0,0,0,0,0,0,0,0,0,0,0,0,{"$f":"IZ66/$C$13","v":0},0,0,0,0,0,0,0,0,0,0,0,0,0,0,0,0,0,0,0,0,0,0,0,0,0,0,0,0,0,0,0,0,0,0,0,0,0,0,0,0,0,0,0,0,0,0,0,0,0,0,0,0,0,0,0,0,0,0,0,0,0,0,0,{"$f":"LL66/$C$13","v":0},0,0,0,0,0,0,0,0,0,0,0,0,0,0,0,0,0,0,0,0,0,0,0,0,0,0,0,0,0,0,0,0,0,0,0,0,0,0,0,0,0,0,0,0,0,0,0,0,0,0,0,0,0,0,0,0,0,0,0,0,0,0,0,{"$f":"NX66/$C$13","v":0},0,0,0,0,0,0,0,0,0,0,0,0,0,0,0,0,0,0,0,0,0,0,0,0,0,0,0,0,0,0,0,0,0,0,0,0,0,0,0,0,0,0,0,0,0,0,0,0,0,0,0,0,0,0,0,0,0,0,0,0,0,0,0,{"$f":"QJ66/$C$13","v":0},0,0,0,0,0,0,0,0,0,0,0,0,0,0,0,0,0,0,0,0,0,0,0,0,0,0,0,0,0,0,0,0,0,0,0,0,0,0,0,0,0,0,0,0,0,0,0,0,0,0]
["   FTE - hourly max",null,{"$f":"IF(C69<1,0,1)","v":0},{"$f":"IF(D69<1,0,1)","v":0},0,0,0,0,0,0,0,0,0,0,0,0,0,0,0,0,0,0,0,0,0,0,0,0,0,0,0,0,0,0,0,0,0,0,0,0,0,0,0,0,0,0,0,0,0,0,0,0,0,0,0,0,0,0,0,0,0,0,0,0,0,0,0,{"$f":"IF(BP69<1,0,1)","v":0},0,0,0,0,0,0,0,0,0,0,0,0,0,0,0,0,0,0,0,0,0,0,0,0,0,0,0,0,0,0,0,0,0,0,0,0,0,0,0,0,0,0,0,0,0,0,0,0,0,0,0,0,0,0,0,0,0,0,0,0,0,0,0,{"$f":"IF(EB69<1,0,1)","v":0},0,0,0,0,0,0,0,0,0,0,0,0,0,0,0,0,0,0,0,0,0,0,0,0,0,0,0,0,0,0,0,0,0,0,0,0,0,0,0,0,0,0,0,0,0,0,0,0,0,0,0,0,0,0,0,0,0,0,0,0,0,0,0,{"$f":"IF(GN69<1,0,1)","v":0},0,0,0,0,0,0,0,0,0,0,0,0,0,0,0,0,0,0,0,0,0,0,0,0,0,0,0,0,0,0,0,0,0,0,0,0,0,0,0,0,0,0,0,0,0,0,0,0,0,0,0,0,0,0,0,0,0,0,0,0,0,0,0,{"$f":"IF(IZ69<1,0,1)","v":0},0,0,0,0,0,0,0,0,0,0,0,0,0,0,0,0,0,0,0,0,0,0,0,0,0,0,0,0,0,0,0,0,0,0,0,0,0,0,0,0,0,0,0,0,0,0,0,0,0,0,0,0,0,0,0,0,0,0,0,0,0,0,0,{"$f":"IF(LL69<1,0,1)","v":0},0,0,0,0,0,0,0,0,0,0,0,0,0,0,0,0,0,0,0,0,0,0,0,0,0,0,0,0,0,0,0,0,0,0,0,0,0,0,0,0,0,0,0,0,0,0,0,0,0,0,0,0,0,0,0,0,0,0,0,0,0,0,0,{"$f":"IF(NX69<1,0,1)","v":0},0,0,0,0,0,0,0,0,0,0,0,0,0,0,0,0,0,0,0,0,0,0,0,0,0,0,0,0,0,0,0,0,0,0,0,0,0,0,0,0,0,0,0,0,0,0,0,0,0,0,0,0,0,0,0,0,0,0,0,0,0,0,0,{"$f":"IF(QJ69<1,0,1)","v":0},0,0,0,0,0,0,0,0,0,0,0,0,0,0,0,0,0,0,0,0,0,0,0,0,0,0,0,0,0,0,0,0,0,0,0,0,0,0,0,0,0,0,0,0,0,0,0,0,0,0]
["   FTE - hourly less max",null,{"$f":"IF(C66=0,0,ROUND(IF(C69<1,IF($B$12=\"NO\",C69,0.5),0),1))","v":0},{"$f":"IF(D66=0,0,ROUND(IF(D69<1,IF($B$12=\"NO\",D69,0.5),0),1))","v":0},0,0,0,0,0,0,0,0,0,0,0,0,0,0,0,0,0,0,0,0,0,0,0,0,0,0,0,0,0,0,0,0,0,0,0,0,0,0,0,0,0,0,0,0,0,0,0,0,0,0,0,0,0,0,0,0,0,0,0,0,0,0,0,{"$f":"IF(BP66=0,0,ROUND(IF(BP69<1,IF($B$12=\"NO\",BP69,0.5),0),1))","v":0},0,0,0,0,0,0,0,0,0,0,0,0,0,0,0,0,0,0,0,0,0,0,0,0,0,0,0,0,0,0,0,0,0,0,0,0,0,0,0,0,0,0,0,0,0,0,0,0,0,0,0,0,0,0,0,0,0,0,0,0,0,0,0,{"$f":"IF(EB66=0,0,ROUND(IF(EB69<1,IF($B$12=\"NO\",EB69,0.5),0),1))","v":0},0,0,0,0,0,0,0,0,0,0,0,0,0,0,0,0,0,0,0,0,0,0,0,0,0,0,0,0,0,0,0,0,0,0,0,0,0,0,0,0,0,0,0,0,0,0,0,0,0,0,0,0,0,0,0,0,0,0,0,0,0,0,0,{"$f":"IF(GN66=0,0,ROUND(IF(GN69<1,IF($B$12=\"NO\",GN69,0.5),0),1))","v":0},0,0,0,0,0,0,0,0,0,0,0,0,0,0,0,0,0,0,0,0,0,0,0,0,0,0,0,0,0,0,0,0,0,0,0,0,0,0,0,0,0,0,0,0,0,0,0,0,0,0,0,0,0,0,0,0,0,0,0,0,0,0,0,{"$f":"IF(IZ66=0,0,ROUND(IF(IZ69<1,IF($B$12=\"NO\",IZ69,0.5),0),1))","v":0},0,0,0,0,0,0,0,0,0,0,0,0,0,0,0,0,0,0,0,0,0,0,0,0,0,0,0,0,0,0,0,0,0,0,0,0,0,0,0,0,0,0,0,0,0,0,0,0,0,0,0,0,0,0,0,0,0,0,0,0,0,0,0,{"$f":"IF(LL66=0,0,ROUND(IF(LL69<1,IF($B$12=\"NO\",LL69,0.5),0),1))","v":0},0,0,0,0,0,0,0,0,0,0,0,0,0,0,0,0,0,0,0,0,0,0,0,0,0,0,0,0,0,0,0,0,0,0,0,0,0,0,0,0,0,0,0,0,0,0,0,0,0,0,0,0,0,0,0,0,0,0,0,0,0,0,0,{"$f":"IF(NX66=0,0,ROUND(IF(NX69<1,IF($B$12=\"NO\",NX69,0.5),0),1))","v":0},0,0,0,0,0,0,0,0,0,0,0,0,0,0,0,0,0,0,0,0,0,0,0,0,0,0,0,0,0,0,0,0,0,0,0,0,0,0,0,0,0,0,0,0,0,0,0,0,0,0,0,0,0,0,0,0,0,0,0,0,0,0,0,{"$f":"IF(QJ66=0,0,ROUND(IF(QJ69<1,IF($B$12=\"NO\",QJ69,0.5),0),1))","v":0},0,0,0,0,0,0,0,0,0,0,0,0,0,0,0,0,0,0,0,0,0,0,0,0,0,0,0,0,0,0,0,0,0,0,0,0,0,0,0,0,0,0,0,0,0,0,0,0,0,0]
["   FTE Count",{"$f":"SUM(C72:SH72)","v":0},{"$f":"IF(C82=\"YES\",C56,IF(C8=\"Salaried-Other\",C68,IF(C8=\"Salaried-No reduction\",1,IF(C66=0,0,SUM(C70:C71)))))","v":0},{"$f":"IF(D82=\"YES\",D56,IF(D8=\"Salaried-Other\",D68,IF(D8=\"Salaried-No reduction\",D68,IF(D66=0,0,SUM(D70:D71)))))","v":0},0,0,0,0,0,0,0,0,0,0,0,0,0,0,0,0,0,0,0,0,0,0,0,0,0,0,0,0,0,0,0,0,0,0,0,0,0,0,0,0,0,0,0,0,0,0,0,0,0,0,0,0,0,0,0,0,0,0,0,0,0,0,0,{"$f":"IF(BP82=\"YES\",BP56,IF(BP8=\"Salaried-Other\",BP68,IF(BP8=\"Salaried-No reduction\",BP68,IF(BP66=0,0,SUM(BP70:BP71)))))","v":0},0,0,0,0,0,0,0,0,0,0,0,0,0,0,0,0,0,0,0,0,0,0,0,0,0,0,0,0,0,0,0,0,0,0,0,0,0,0,0,0,0,0,0,0,0,0,0,0,0,0,0,0,0,0,0,0,0,0,0,0,0,0,0,{"$f":"IF(EB82=\"YES\",EB56,IF(EB8=\"Salaried-Other\",EB68,IF(EB8=\"Salaried-No reduction\",EB68,IF(EB66=0,0,SUM(EB70:EB71)))))","v":0},0,0,0,0,0,0,0,0,0,0,0,0,0,0,0,0,0,0,0,0,0,0,0,0,0,0,0,0,0,0,0,0,0,0,0,0,0,0,0,0,0,0,0,0,0,0,0,0,0,0,0,0,0,0,0,0,0,0,0,0,0,0,0,{"$f":"IF(GN82=\"YES\",GN56,IF(GN8=\"Salaried-Other\",GN68,IF(GN8=\"Salaried-No reduction\",GN68,IF(GN66=0,0,SUM(GN70:GN71)))))","v":0},0,0,0,0,0,0,0,0,0,0,0,0,0,0,0,0,0,0,0,0,0,0,0,0,0,0,0,0,0,0,0,0,0,0,0,0,0,0,0,0,0,0,0,0,0,0,0,0,0,0,0,0,0,0,0,0,0,0,0,0,0,0,0,{"$f":"IF(IZ82=\"YES\",IZ56,IF(IZ8=\"Salaried-Other\",IZ68,IF(IZ8=\"Salaried-No reduction\",IZ68,IF(IZ66=0,0,SUM(IZ70:IZ71)))))","v":0},0,0,0,0,0,0,0,0,0,0,0,0,0,0,0,0,0,0,0,0,0,0,0,0,0,0,0,0,0,0,0,0,0,0,0,0,0,0,0,0,0,0,0,0,0,0,0,0,0,0,0,0,0,0,0,0,0,0,0,0,0,0,0,{"$f":"IF(LL82=\"YES\",LL56,IF(LL8=\"Salaried-Other\",LL68,IF(LL8=\"Salaried-No reduction\",LL68,IF(LL66=0,0,SUM(LL70:LL71)))))","v":0},0,0,0,0,0,0,0,0,0,0,0,0,0,0,0,0,0,0,0,0,0,0,0,0,0,0,0,0,0,0,0,0,0,0,0,0,0,0,0,0,0,0,0,0,0,0,0,0,0,0,0,0,0,0,0,0,0,0,0,0,0,0,0,{"$f":"IF(NX82=\"YES\",NX56,IF(NX8=\"Salaried-Other\",NX68,IF(NX8=\"Salaried-No reduction\",NX68,IF(NX66=0,0,SUM(NX70:NX71)))))","v":0},0,0,0,0,0,0,0,0,0,0,0,0,0,0,0,0,0,0,0,0,0,0,0,0,0,0,0,0,0,0,0,0,0,0,0,0,0,0,0,0,0,0,0,0,0,0,0,0,0,0,0,0,0,0,0,0,0,0,0,0,0,0,0,{"$f":"IF(QJ82=\"YES\",QJ56,IF(QJ8=\"Salaried-Other\",QJ68,IF(QJ8=\"Salaried-No reduction\",QJ68,IF(QJ66=0,0,SUM(QJ70:QJ71)))))","v":0},0,0,0,0,0,0,0,0,0,0,0,0,0,0,0,0,0,0,0,0,0,0,0,0,0,0,0,0,0,0,0,0,0,0,0,0,0,0,0,0,0,0,0,0,0,0,0,0,0,0]
[]
["Zero indicator",{"$f":"B72+B64+B56","v":0}]
[]
["Feb 15",{"$f":"IF(B56<B64,0,1)","v":1}]
["June 30",{"$f":"IF(B64>B72,0,1)","v":1}]
["Select \"yes\" if any of the following is true, and if the employee was not replaced…..."]
["1) Payroll reduction eliminated or job offered prior to/by 6/30/20"]
["2) Employee was fired for cause"]
["3) Employee voluntarily resigned"]
["4) Employee voluntarily requested a reduction in hours",null,{"$f":"'6 - Input sheet - Employee data'!C20","v":"No"},{"$f":"'6 - Input sheet - Employee data'!D20","v":"No"},{"$f":"'6 - Input sheet - Employee data'!E20","v":"No"},{"$f":"'6 - Input sheet - Employee data'!F20","v":"No"},{"$f":"'6 - Input sheet - Employee data'!G20","v":"No"},{"$f":"'6 - Input sheet - Employee data'!H20","v":"No"},{"$f":"'6 - Input sheet - Employee data'!I20","v":"No"},{"$f":"'6 - Input sheet - Employee data'!J20","v":"No"},{"$f":"'6 - Input sheet - Employee data'!K20","v":"No"},{"$f":"'6 - Input sheet - Employee data'!L20","v":"No"},{"$f":"'6 - Input sheet - Employee data'!M20","v":"No"},{"$f":"'6 - Input sheet - Employee data'!N20","v":"No"},{"$f":"'6 - Input sheet - Employee data'!O20","v":"No"},{"$f":"'6 - Input sheet - Employee data'!P20","v":"No"},{"$f":"'6 - Input sheet - Employee data'!Q20","v":"No"},{"$f":"'6 - Input sheet - Employee data'!R20","v":"No"},{"$f":"'6 - Input sheet - Employee data'!S20","v":"No"},{"$f":"'6 - Input sheet - Employee data'!T20","v":"No"},{"$f":"'6 - Input sheet - Employee data'!U20","v":"No"},{"$f":"'6 - Input sheet - Employee data'!V20","v":"No"},{"$f":"'6 - Input sheet - Employee data'!W20","v":"No"},{"$f":"'6 - Input sheet - Employee data'!X20","v":"No"},{"$f":"'6 - Input sheet - Employee data'!Y20","v":"No"},{"$f":"'6 - Input sheet - Employee data'!Z20","v":"No"},{"$f":"'6 - Input sheet - Employee data'!AA20","v":"No"},{"$f":"'6 - Input sheet - Employee data'!AB20","v":"No"},{"$f":"'6 - Input sheet - Employee data'!AC20","v":"No"},{"$f":"'6 - Input sheet - Employee data'!AD20","v":"No"},{"$f":"'6 - Input sheet - Employee data'!AE20","v":"No"},{"$f":"'6 - Input sheet - Employee data'!AF20","v":"No"},{"$f":"'6 - Input sheet - Employee data'!AG20","v":"No"},{"$f":"'6 - Input sheet - Employee data'!AH20","v":"No"},{"$f":"'6 - Input sheet - Employee data'!AI20","v":"No"},{"$f":"'6 - Input sheet - Employee data'!AJ20","v":"No"},{"$f":"'6 - Input sheet - Employee data'!AK20","v":"No"},{"$f":"'6 - Input sheet - Employee data'!AL20","v":"No"},{"$f":"'6 - Input sheet - Employee data'!AM20","v":"No"},{"$f":"'6 - Input sheet - Employee data'!AN20","v":"No"},{"$f":"'6 - Input sheet - Employee data'!AO20","v":"No"},{"$f":"'6 - Input sheet - Employee data'!AP20","v":"No"},{"$f":"'6 - Input sheet - Employee data'!AQ20","v":"No"},{"$f":"'6 - Input sheet - Employee data'!AR20","v":"No"},{"$f":"'6 - Input sheet - Employee data'!AS20","v":"No"},{"$f":"'6 - Input sheet - Employee data'!AT20","v":"No"},{"$f":"'6 - Input sheet - Employee data'!AU20","v":"No"},{"$f":"'6 - Input sheet - Employee data'!AV20","v":"No"},{"$f":"'6 - Input sheet - Employee data'!AW20","v":"No"},{"$f":"'6 - Input sheet - Employee data'!AX20","v":"No"},{"$f":"'6 - Input sheet - Employee data'!AY20","v":"No"},{"$f":"'6 - Input sheet - Employee data'!AZ20","v":"No"},{"$f":"'6 - Input sheet - Employee data'!BA20","v":"No"},{"$f":"'6 - Input sheet - Employee data'!BB20","v":"No"},{"$f":"'6 - Input sheet - Employee data'!BC20","v":"No"},{"$f":"'6 - Input sheet - Employee data'!BD20","v":"No"},{"$f":"'6 - Input sheet - Employee data'!BE20","v":"No"},{"$f":"'6 - Input sheet - Employee data'!BF20","v":"No"},{"$f":"'6 - Input sheet - Employee data'!BG20","v":"No"},{"$f":"'6 - Input sheet - Employee data'!BH20","v":"No"},{"$f":"'6 - Input sheet - Employee data'!BI20","v":"No"},{"$f":"'6 - Input sheet - Employee data'!BJ20","v":"No"},{"$f":"'6 - Input sheet - Employee data'!BK20","v":"No"},{"$f":"'6 - Input sheet - Employee data'!BL20","v":"No"},{"$f":"'6 - Input sheet - Employee data'!BM20","v":"No"},{"$f":"'6 - Input sheet - Employee data'!BN20","v":"No"},{"$f":"'6 - Input sheet - Employee data'!BO20","v":"No"},{"$f":"'6 - Input sheet - Employee data'!BP20","v":"No"},{"$f":"'6 - Input sheet - Employee data'!BQ20","v":"No"},{"$f":"'6 - Input sheet - Employee data'!BR20","v":"No"},{"$f":"'6 - Input sheet - Employee data'!BS20","v":"No"},{"$f":"'6 - Input sheet - Employee data'!BT20","v":"No"},{"$f":"'6 - Input sheet - Employee data'!BU20","v":"No"},{"$f":"'6 - Input sheet - Employee data'!BV20","v":"No"},{"$f":"'6 - Input sheet - Employee data'!BW20","v":"No"},{"$f":"'6 - Input sheet - Employee data'!BX20","v":"No"},{"$f":"'6 - Input sheet - Employee data'!BY20","v":"No"},{"$f":"'6 - Input sheet - Employee data'!BZ20","v":"No"},{"$f":"'6 - Input sheet - Employee data'!CA20","v":"No"},{"$f":"'6 - Input sheet - Employee data'!CB20","v":"No"},{"$f":"'6 - Input sheet - Employee data'!CC20","v":"No"},{"$f":"'6 - Input sheet - Employee data'!CD20","v":"No"},{"$f":"'6 - Input sheet - Employee data'!CE20","v":"No"},{"$f":"'6 - Input sheet - Employee data'!CF20","v":"No"},{"$f":"'6 - Input sheet - Employee data'!CG20","v":"No"},{"$f":"'6 - Input sheet - Employee data'!CH20","v":"No"},{"$f":"'6 - Input sheet - Employee data'!CI20","v":"No"},{"$f":"'6 - Input sheet - Employee data'!CJ20","v":"No"},{"$f":"'6 - Input sheet - Employee data'!CK20","v":"No"},{"$f":"'6 - Input sheet - Employee data'!CL20","v":"No"},{"$f":"'6 - Input sheet - Employee data'!CM20","v":"No"},{"$f":"'6 - Input sheet - Employee data'!CN20","v":"No"},{"$f":"'6 - Input sheet - Employee data'!CO20","v":"No"},{"$f":"'6 - Input sheet - Employee data'!CP20","v":"No"},{"$f":"'6 - Input sheet - Employee data'!CQ20","v":"No"},{"$f":"'6 - Input sheet - Employee data'!CR20","v":"No"},{"$f":"'6 - Input sheet - Employee data'!CS20","v":"No"},{"$f":"'6 - Input sheet - Employee data'!CT20","v":"No"},{"$f":"'6 - Input sheet - Employee data'!CU20","v":"No"},{"$f":"'6 - Input sheet - Employee data'!CV20","v":"No"},{"$f":"'6 - Input sheet - Employee data'!CW20","v":"No"},{"$f":"'6 - Input sheet - Employee data'!CX20","v":"No"},{"$f":"'6 - Input sheet - Employee data'!CY20","v":"No"},{"$f":"'6 - Input sheet - Employee data'!CZ20","v":"No"},{"$f":"'6 - Input sheet - Employee data'!DA20","v":"No"},{"$f":"'6 - Input sheet - Employee data'!DB20","v":"No"},{"$f":"'6 - Input sheet - Employee data'!DC20","v":"No"},{"$f":"'6 - Input sheet - Employee data'!DD20","v":"No"},{"$f":"'6 - Input sheet - Employee data'!DE20","v":"No"},{"$f":"'6 - Input sheet - Employee data'!DF20","v":"No"},{"$f":"'6 - Input sheet - Employee data'!DG20","v":"No"},{"$f":"'6 - Input sheet - Employee data'!DH20","v":"No"},{"$f":"'6 - Input sheet - Employee data'!DI20","v":"No"},{"$f":"'6 - Input sheet - Employee data'!DJ20","v":"No"},{"$f":"'6 - Input sheet - Employee data'!DK20","v":"No"},{"$f":"'6 - Input sheet - Employee data'!DL20","v":"No"},{"$f":"'6 - Input sheet - Employee data'!DM20","v":"No"},{"$f":"'6 - Input sheet - Employee data'!DN20","v":"No"},{"$f":"'6 - Input sheet - Employee data'!DO20","v":"No"},{"$f":"'6 - Input sheet - Employee data'!DP20","v":"No"},{"$f":"'6 - Input sheet - Employee data'!DQ20","v":"No"},{"$f":"'6 - Input sheet - Employee data'!DR20","v":"No"},{"$f":"'6 - Input sheet - Employee data'!DS20","v":"No"},{"$f":"'6 - Input sheet - Employee data'!DT20","v":"No"},{"$f":"'6 - Input sheet - Employee data'!DU20","v":"No"},{"$f":"'6 - Input sheet - Employee data'!DV20","v":"No"},{"$f":"'6 - Input sheet - Employee data'!DW20","v":"No"},{"$f":"'6 - Input sheet - Employee data'!DX20","v":"No"},{"$f":"'6 - Input sheet - Employee data'!DY20","v":"No"},{"$f":"'6 - Input sheet - Employee data'!DZ20","v":"No"},{"$f":"'6 - Input sheet - Employee data'!EA20","v":"No"},{"$f":"'6 - Input sheet - Employee data'!EB20","v":"No"},{"$f":"'6 - Input sheet - Employee data'!EC20","v":"No"},{"$f":"'6 - Input sheet - Employee data'!ED20","v":"No"},{"$f":"'6 - Input sheet - Employee data'!EE20","v":"No"},{"$f":"'6 - Input sheet - Employee data'!EF20","v":"No"},{"$f":"'6 - Input sheet - Employee data'!EG20","v":"No"},{"$f":"'6 - Input sheet - Employee data'!EH20","v":"No"},{"$f":"'6 - Input sheet - Employee data'!EI20","v":"No"},{"$f":"'6 - Input sheet - Employee data'!EJ20","v":"No"},{"$f":"'6 - Input sheet - Employee data'!EK20","v":"No"},{"$f":"'6 - Input sheet - Employee data'!EL20","v":"No"},{"$f":"'6 - Input sheet - Employee data'!EM20","v":"No"},{"$f":"'6 - Input sheet - Employee data'!EN20","v":"No"},{"$f":"'6 - Input sheet - Employee data'!EO20","v":"No"},{"$f":"'6 - Input sheet - Employee data'!EP20","v":"No"},{"$f":"'6 - Input sheet - Employee data'!EQ20","v":"No"},{"$f":"'6 - Input sheet - Employee data'!ER20","v":"No"},{"$f":"'6 - Input sheet - Employee data'!ES20","v":"No"},{"$f":"'6 - Input sheet - Employee data'!ET20","v":"No"},{"$f":"'6 - Input sheet - Employee data'!EU20","v":"No"},{"$f":"'6 - Input sheet - Employee data'!EV20","v":"No"},{"$f":"'6 - Input sheet - Employee data'!EW20","v":"No"},{"$f":"'6 - Input sheet - Employee data'!EX20","v":"No"},{"$f":"'6 - Input sheet - Employee data'!EY20","v":"No"},{"$f":"'6 - Input sheet - Employee data'!EZ20","v":"No"},{"$f":"'6 - Input sheet - Employee data'!FA20","v":"No"},{"$f":"'6 - Input sheet - Employee data'!FB20","v":"No"},{"$f":"'6 - Input sheet - Employee data'!FC20","v":"No"},{"$f":"'6 - Input sheet - Employee data'!FD20","v":"No"},{"$f":"'6 - Input sheet - Employee data'!FE20","v":"No"},{"$f":"'6 - Input sheet - Employee data'!FF20","v":"No"},{"$f":"'6 - Input sheet - Employee data'!FG20","v":"No"},{"$f":"'6 - Input sheet - Employee data'!FH20","v":"No"},{"$f":"'6 - Input sheet - Employee data'!FI20","v":"No"},{"$f":"'6 - Input sheet - Employee data'!FJ20","v":"No"},{"$f":"'6 - Input sheet - Employee data'!FK20","v":"No"},{"$f":"'6 - Input sheet - Employee data'!FL20","v":"No"},{"$f":"'6 - Input sheet - Employee data'!FM20","v":"No"},{"$f":"'6 - Input sheet - Employee data'!FN20","v":"No"},{"$f":"'6 - Input sheet - Employee data'!FO20","v":"No"},{"$f":"'6 - Input sheet - Employee data'!FP20","v":"No"},{"$f":"'6 - Input sheet - Employee data'!FQ20","v":"No"},{"$f":"'6 - Input sheet - Employee data'!FR20","v":"No"},{"$f":"'6 - Input sheet - Employee data'!FS20","v":"No"},{"$f":"'6 - Input sheet - Employee data'!FT20","v":"No"},{"$f":"'6 - Input sheet - Employee data'!FU20","v":"No"},{"$f":"'6 - Input sheet - Employee data'!FV20","v":"No"},{"$f":"'6 - Input sheet - Employee data'!FW20","v":"No"},{"$f":"'6 - Input sheet - Employee data'!FX20","v":"No"},{"$f":"'6 - Input sheet - Employee data'!FY20","v":"No"},{"$f":"'6 - Input sheet - Employee data'!FZ20","v":"No"},{"$f":"'6 - Input sheet - Employee data'!GA20","v":"No"},{"$f":"'6 - Input sheet - Employee data'!GB20","v":"No"},{"$f":"'6 - Input sheet - Employee data'!GC20","v":"No"},{"$f":"'6 - Input sheet - Employee data'!GD20","v":"No"},{"$f":"'6 - Input sheet - Employee data'!GE20","v":"No"},{"$f":"'6 - Input sheet - Employee data'!GF20","v":"No"},{"$f":"'6 - Input sheet - Employee data'!GG20","v":"No"},{"$f":"'6 - Input sheet - Employee data'!GH20","v":"No"},{"$f":"'6 - Input sheet - Employee data'!GI20","v":"No"},{"$f":"'6 - Input sheet - Employee data'!GJ20","v":"No"},{"$f":"'6 - Input sheet - Employee data'!GK20","v":"No"},{"$f":"'6 - Input sheet - Employee data'!GL20","v":"No"},{"$f":"'6 - Input sheet - Employee data'!GM20","v":"No"},{"$f":"'6 - Input sheet - Employee data'!GN20","v":"No"},{"$f":"'6 - Input sheet - Employee data'!GO20","v":"No"},{"$f":"'6 - Input sheet - Employee data'!GP20","v":"No"},{"$f":"'6 - Input sheet - Employee data'!GQ20","v":"No"},{"$f":"'6 - Input sheet - Employee data'!GR20","v":"No"},{"$f":"'6 - Input sheet - Employee data'!GS20","v":"No"},{"$f":"'6 - Input sheet - Employee data'!GT20","v":"No"},{"$f":"'6 - Input sheet - Employee data'!GU20","v":"No"},{"$f":"'6 - Input sheet - Employee data'!GV20","v":"No"},{"$f":"'6 - Input sheet - Employee data'!GW20","v":"No"},{"$f":"'6 - Input sheet - Employee data'!GX20","v":"No"},{"$f":"'6 - Input sheet - Employee data'!GY20","v":"No"},{"$f":"'6 - Input sheet - Employee data'!GZ20","v":"No"},{"$f":"'6 - Input sheet - Employee data'!HA20","v":"No"},{"$f":"'6 - Input sheet - Employee data'!HB20","v":"No"},{"$f":"'6 - Input sheet - Employee data'!HC20","v":"No"},{"$f":"'6 - Input sheet - Employee data'!HD20","v":"No"},{"$f":"'6 - Input sheet - Employee data'!HE20","v":"No"},{"$f":"'6 - Input sheet - Employee data'!HF20","v":"No"},{"$f":"'6 - Input sheet - Employee data'!HG20","v":"No"},{"$f":"'6 - Input sheet - Employee data'!HH20","v":"No"},{"$f":"'6 - Input sheet - Employee data'!HI20","v":"No"},{"$f":"'6 - Input sheet - Employee data'!HJ20","v":"No"},{"$f":"'6 - Input sheet - Employee data'!HK20","v":"No"},{"$f":"'6 - Input sheet - Employee data'!HL20","v":"No"},{"$f":"'6 - Input sheet - Employee data'!HM20","v":"No"},{"$f":"'6 - Input sheet - Employee data'!HN20","v":"No"},{"$f":"'6 - Input sheet - Employee data'!HO20","v":"No"},{"$f":"'6 - Input sheet - Employee data'!HP20","v":"No"},{"$f":"'6 - Input sheet - Employee data'!HQ20","v":"No"},{"$f":"'6 - Input sheet - Employee data'!HR20","v":"No"},{"$f":"'6 - Input sheet - Employee data'!HS20","v":"No"},{"$f":"'6 - Input sheet - Employee data'!HT20","v":"No"},{"$f":"'6 - Input sheet - Employee data'!HU20","v":"No"},{"$f":"'6 - Input sheet - Employee data'!HV20","v":"No"},{"$f":"'6 - Input sheet - Employee data'!HW20","v":"No"},{"$f":"'6 - Input sheet - Employee data'!HX20","v":"No"},{"$f":"'6 - Input sheet - Employee data'!HY20","v":"No"},{"$f":"'6 - Input sheet - Employee data'!HZ20","v":"No"},{"$f":"'6 - Input sheet - Employee data'!IA20","v":"No"},{"$f":"'6 - Input sheet - Employee data'!IB20","v":"No"},{"$f":"'6 - Input sheet - Employee data'!IC20","v":"No"},{"$f":"'6 - Input sheet - Employee data'!ID20","v":"No"},{"$f":"'6 - Input sheet - Employee data'!IE20","v":"No"},{"$f":"'6 - Input sheet - Employee data'!IF20","v":"No"},{"$f":"'6 - Input sheet - Employee data'!IG20","v":"No"},{"$f":"'6 - Input sheet - Employee data'!IH20","v":"No"},{"$f":"'6 - Input sheet - Employee data'!II20","v":"No"},{"$f":"'6 - Input sheet - Employee data'!IJ20","v":"No"},{"$f":"'6 - Input sheet - Employee data'!IK20","v":"No"},{"$f":"'6 - Input sheet - Employee data'!IL20","v":"No"},{"$f":"'6 - Input sheet - Employee data'!IM20","v":"No"},{"$f":"'6 - Input sheet - Employee data'!IN20","v":"No"},{"$f":"'6 - Input sheet - Employee data'!IO20","v":"No"},{"$f":"'6 - Input sheet - Employee data'!IP20","v":"No"},{"$f":"'6 - Input sheet - Employee data'!IQ20","v":"No"},{"$f":"'6 - Input sheet - Employee data'!IR20","v":"No"},{"$f":"'6 - Input sheet - Employee data'!IS20","v":"No"},{"$f":"'6 - Input sheet - Employee data'!IT20","v":"No"},{"$f":"'6 - Input sheet - Employee data'!IU20","v":"No"},{"$f":"'6 - Input sheet - Employee data'!IV20","v":"No"},{"$f":"'6 - Input sheet - Employee data'!IW20","v":"No"},{"$f":"'6 - Input sheet - Employee data'!IX20","v":"No"},{"$f":"'6 - Input sheet - Employee data'!IY20","v":"No"},{"$f":"'6 - Input sheet - Employee data'!IZ20","v":"No"},{"$f":"'6 - Input sheet - Employee data'!JA20","v":"No"},{"$f":"'6 - Input sheet - Employee data'!JB20","v":"No"},{"$f":"'6 - Input sheet - Employee data'!JC20","v":"No"},{"$f":"'6 - Input sheet - Employee data'!JD20","v":"No"},{"$f":"'6 - Input sheet - Employee data'!JE20","v":"No"},{"$f":"'6 - Input sheet - Employee data'!JF20","v":"No"},{"$f":"'6 - Input sheet - Employee data'!JG20","v":"No"},{"$f":"'6 - Input sheet - Employee data'!JH20","v":"No"},{"$f":"'6 - Input sheet - Employee data'!JI20","v":"No"},{"$f":"'6 - Input sheet - Employee data'!JJ20","v":"No"},{"$f":"'6 - Input sheet - Employee data'!JK20","v":"No"},{"$f":"'6 - Input sheet - Employee data'!JL20","v":"No"},{"$f":"'6 - Input sheet - Employee data'!JM20","v":"No"},{"$f":"'6 - Input sheet - Employee data'!JN20","v":"No"},{"$f":"'6 - Input sheet - Employee data'!JO20","v":"No"},{"$f":"'6 - Input sheet - Employee data'!JP20","v":"No"},{"$f":"'6 - Input sheet - Employee data'!JQ20","v":"No"},{"$f":"'6 - Input sheet - Employee data'!JR20","v":"No"},{"$f":"'6 - Input sheet - Employee data'!JS20","v":"No"},{"$f":"'6 - Input sheet - Employee data'!JT20","v":"No"},{"$f":"'6 - Input sheet - Employee data'!JU20","v":"No"},{"$f":"'6 - Input sheet - Employee data'!JV20","v":"No"},{"$f":"'6 - Input sheet - Employee data'!JW20","v":"No"},{"$f":"'6 - Input sheet - Employee data'!JX20","v":"No"},{"$f":"'6 - Input sheet - Employee data'!JY20","v":"No"},{"$f":"'6 - Input sheet - Employee data'!JZ20","v":"No"},{"$f":"'6 - Input sheet - Employee data'!KA20","v":"No"},{"$f":"'6 - Input sheet - Employee data'!KB20","v":"No"},{"$f":"'6 - Input sheet - Employee data'!KC20","v":"No"},{"$f":"'6 - Input sheet - Employee data'!KD20","v":"No"},{"$f":"'6 - Input sheet - Employee data'!KE20","v":"No"},{"$f":"'6 - Input sheet - Employee data'!KF20","v":"No"},{"$f":"'6 - Input sheet - Employee data'!KG20","v":"No"},{"$f":"'6 - Input sheet - Employee data'!KH20","v":"No"},{"$f":"'6 - Input sheet - Employee data'!KI20","v":"No"},{"$f":"'6 - Input sheet - Employee data'!KJ20","v":"No"},{"$f":"'6 - Input sheet - Employee data'!KK20","v":"No"},{"$f":"'6 - Input sheet - Employee data'!KL20","v":"No"},{"$f":"'6 - Input sheet - Employee data'!KM20","v":"No"},{"$f":"'6 - Input sheet - Employee data'!KN20","v":"No"},{"$f":"'6 - Input sheet - Employee data'!KO20","v":"No"},{"$f":"'6 - Input sheet - Employee data'!KP20","v":"No"},{"$f":"'6 - Input sheet - Employee data'!KQ20","v":"No"},{"$f":"'6 - Input sheet - Employee data'!KR20","v":"No"},{"$f":"'6 - Input sheet - Employee data'!KS20","v":"No"},{"$f":"'6 - Input sheet - Employee data'!KT20","v":"No"},{"$f":"'6 - Input sheet - Employee data'!KU20","v":"No"},{"$f":"'6 - Input sheet - Employee data'!KV20","v":"No"},{"$f":"'6 - Input sheet - Employee data'!KW20","v":"No"},{"$f":"'6 - Input sheet - Employee data'!KX20","v":"No"},{"$f":"'6 - Input sheet - Employee data'!KY20","v":"No"},{"$f":"'6 - Input sheet - Employee data'!KZ20","v":"No"},{"$f":"'6 - Input sheet - Employee data'!LA20","v":"No"},{"$f":"'6 - Input sheet - Employee data'!LB20","v":"No"},{"$f":"'6 - Input sheet - Employee data'!LC20","v":"No"},{"$f":"'6 - Input sheet - Employee data'!LD20","v":"No"},{"$f":"'6 - Input sheet - Employee data'!LE20","v":"No"},{"$f":"'6 - Input sheet - Employee data'!LF20","v":"No"},{"$f":"'6 - Input sheet - Employee data'!LG20","v":"No"},{"$f":"'6 - Input sheet - Employee data'!LH20","v":"No"},{"$f":"'6 - Input sheet - Employee data'!LI20","v":"No"},{"$f":"'6 - Input sheet - Employee data'!LJ20","v":"No"},{"$f":"'6 - Input sheet - Employee data'!LK20","v":"No"},{"$f":"'6 - Input sheet - Employee data'!LL20","v":"No"},{"$f":"'6 - Input sheet - Employee data'!LM20","v":"No"},{"$f":"'6 - Input sheet - Employee data'!LN20","v":"No"},{"$f":"'6 - Input sheet - Employee data'!LO20","v":"No"},{"$f":"'6 - Input sheet - Employee data'!LP20","v":"No"},{"$f":"'6 - Input sheet - Employee data'!LQ20","v":"No"},{"$f":"'6 - Input sheet - Employee data'!LR20","v":"No"},{"$f":"'6 - Input sheet - Employee data'!LS20","v":"No"},{"$f":"'6 - Input sheet - Employee data'!LT20","v":"No"},{"$f":"'6 - Input sheet - Employee data'!LU20","v":"No"},{"$f":"'6 - Input sheet - Employee data'!LV20","v":"No"},{"$f":"'6 - Input sheet - Employee data'!LW20","v":"No"},{"$f":"'6 - Input sheet - Employee data'!LX20","v":"No"},{"$f":"'6 - Input sheet - Employee data'!LY20","v":"No"},{"$f":"'6 - Input sheet - Employee data'!LZ20","v":"No"},{"$f":"'6 - Input sheet - Employee data'!MA20","v":"No"},{"$f":"'6 - Input sheet - Employee data'!MB20","v":"No"},{"$f":"'6 - Input sheet - Employee data'!MC20","v":"No"},{"$f":"'6 - Input sheet - Employee data'!MD20","v":"No"},{"$f":"'6 - Input sheet - Employee data'!ME20","v":"No"},{"$f":"'6 - Input sheet - Employee data'!MF20","v":"No"},{"$f":"'6 - Input sheet - Employee data'!MG20","v":"No"},{"$f":"'6 - Input sheet - Employee data'!MH20","v":"No"},{"$f":"'6 - Input sheet - Employee data'!MI20","v":"No"},{"$f":"'6 - Input sheet - Employee data'!MJ20","v":"No"},{"$f":"'6 - Input sheet - Employee data'!MK20","v":"No"},{"$f":"'6 - Input sheet - Employee data'!ML20","v":"No"},{"$f":"'6 - Input sheet - Employee data'!MM20","v":"No"},{"$f":"'6 - Input sheet - Employee data'!MN20","v":"No"},{"$f":"'6 - Input sheet - Employee data'!MO20","v":"No"},{"$f":"'6 - Input sheet - Employee data'!MP20","v":"No"},{"$f":"'6 - Input sheet - Employee data'!MQ20","v":"No"},{"$f":"'6 - Input sheet - Employee data'!MR20","v":"No"},{"$f":"'6 - Input sheet - Employee data'!MS20","v":"No"},{"$f":"'6 - Input sheet - Employee data'!MT20","v":"No"},{"$f":"'6 - Input sheet - Employee data'!MU20","v":"No"},{"$f":"'6 - Input sheet - Employee data'!MV20","v":"No"},{"$f":"'6 - Input sheet - Employee data'!MW20","v":"No"},{"$f":"'6 - Input sheet - Employee data'!MX20","v":"No"},{"$f":"'6 - Input sheet - Employee data'!MY20","v":"No"},{"$f":"'6 - Input sheet - Employee data'!MZ20","v":"No"},{"$f":"'6 - Input sheet - Employee data'!NA20","v":"No"},{"$f":"'6 - Input sheet - Employee data'!NB20","v":"No"},{"$f":"'6 - Input sheet - Employee data'!NC20","v":"No"},{"$f":"'6 - Input sheet - Employee data'!ND20","v":"No"},{"$f":"'6 - Input sheet - Employee data'!NE20","v":"No"},{"$f":"'6 - Input sheet - Employee data'!NF20","v":"No"},{"$f":"'6 - Input sheet - Employee data'!NG20","v":"No"},{"$f":"'6 - Input sheet - Employee data'!NH20","v":"No"},{"$f":"'6 - Input sheet - Employee data'!NI20","v":"No"},{"$f":"'6 - Input sheet - Employee data'!NJ20","v":"No"},{"$f":"'6 - Input sheet - Employee data'!NK20","v":"No"},{"$f":"'6 - Input sheet - Employee data'!NL20","v":"No"},{"$f":"'6 - Input sheet - Employee data'!NM20","v":"No"},{"$f":"'6 - Input sheet - Employee data'!NN20","v":"No"},{"$f":"'6 - Input sheet - Employee data'!NO20","v":"No"},{"$f":"'6 - Input sheet - Employee data'!NP20","v":"No"},{"$f":"'6 - Input sheet - Employee data'!NQ20","v":"No"},{"$f":"'6 - Input sheet - Employee data'!NR20","v":"No"},{"$f":"'6 - Input sheet - Employee data'!NS20","v":"No"},{"$f":"'6 - Input sheet - Employee data'!NT20","v":"No"},{"$f":"'6 - Input sheet - Employee data'!NU20","v":"No"},{"$f":"'6 - Input sheet - Employee data'!NV20","v":"No"},{"$f":"'6 - Input sheet - Employee data'!NW20","v":"No"},{"$f":"'6 - Input sheet - Employee data'!NX20","v":"No"},{"$f":"'6 - Input sheet - Employee data'!NY20","v":"No"},{"$f":"'6 - Input sheet - Employee data'!NZ20","v":"No"},{"$f":"'6 - Input sheet - Employee data'!OA20","v":"No"},{"$f":"'6 - Input sheet - Employee data'!OB20","v":"No"},{"$f":"'6 - Input sheet - Employee data'!OC20","v":"No"},{"$f":"'6 - Input sheet - Employee data'!OD20","v":"No"},{"$f":"'6 - Input sheet - Employee data'!OE20","v":"No"},{"$f":"'6 - Input sheet - Employee data'!OF20","v":"No"},{"$f":"'6 - Input sheet - Employee data'!OG20","v":"No"},{"$f":"'6 - Input sheet - Employee data'!OH20","v":"No"},{"$f":"'6 - Input sheet - Employee data'!OI20","v":"No"},{"$f":"'6 - Input sheet - Employee data'!OJ20","v":"No"},{"$f":"'6 - Input sheet - Employee data'!OK20","v":"No"},{"$f":"'6 - Input sheet - Employee data'!OL20","v":"No"},{"$f":"'6 - Input sheet - Employee data'!OM20","v":"No"},{"$f":"'6 - Input sheet - Employee data'!ON20","v":"No"},{"$f":"'6 - Input sheet - Employee data'!OO20","v":"No"},{"$f":"'6 - Input sheet - Employee data'!OP20","v":"No"},{"$f":"'6 - Input sheet - Employee data'!OQ20","v":"No"},{"$f":"'6 - Input sheet - Employee data'!OR20","v":"No"},{"$f":"'6 - Input sheet - Employee data'!OS20","v":"No"},{"$f":"'6 - Input sheet - Employee data'!OT20","v":"No"},{"$f":"'6 - Input sheet - Employee data'!OU20","v":"No"},{"$f":"'6 - Input sheet - Employee data'!OV20","v":"No"},{"$f":"'6 - Input sheet - Employee data'!OW20","v":"No"},{"$f":"'6 - Input sheet - Employee data'!OX20","v":"No"},{"$f":"'6 - Input sheet - Employee data'!OY20","v":"No"},{"$f":"'6 - Input sheet - Employee data'!OZ20","v":"No"},{"$f":"'6 - Input sheet - Employee data'!PA20","v":"No"},{"$f":"'6 - Input sheet - Employee data'!PB20","v":"No"},{"$f":"'6 - Input sheet - Employee data'!PC20","v":"No"},{"$f":"'6 - Input sheet - Employee data'!PD20","v":"No"},{"$f":"'6 - Input sheet - Employee data'!PE20","v":"No"},{"$f":"'6 - Input sheet - Employee data'!PF20","v":"No"},{"$f":"'6 - Input sheet - Employee data'!PG20","v":"No"},{"$f":"'6 - Input sheet - Employee data'!PH20","v":"No"},{"$f":"'6 - Input sheet - Employee data'!PI20","v":"No"},{"$f":"'6 - Input sheet - Employee data'!PJ20","v":"No"},{"$f":"'6 - Input sheet - Employee data'!PK20","v":"No"},{"$f":"'6 - Input sheet - Employee data'!PL20","v":"No"},{"$f":"'6 - Input sheet - Employee data'!PM20","v":"No"},{"$f":"'6 - Input sheet - Employee data'!PN20","v":"No"},{"$f":"'6 - Input sheet - Employee data'!PO20","v":"No"},{"$f":"'6 - Input sheet - Employee data'!PP20","v":"No"},{"$f":"'6 - Input sheet - Employee data'!PQ20","v":"No"},{"$f":"'6 - Input sheet - Employee data'!PR20","v":"No"},{"$f":"'6 - Input sheet - Employee data'!PS20","v":"No"},{"$f":"'6 - Input sheet - Employee data'!PT20","v":"No"},{"$f":"'6 - Input sheet - Employee data'!PU20","v":"No"},{"$f":"'6 - Input sheet - Employee data'!PV20","v":"No"},{"$f":"'6 - Input sheet - Employee data'!PW20","v":"No"},{"$f":"'6 - Input sheet - Employee data'!PX20","v":"No"},{"$f":"'6 - Input sheet - Employee data'!PY20","v":"No"},{"$f":"'6 - Input sheet - Employee data'!PZ20","v":"No"},{"$f":"'6 - Input sheet - Employee data'!QA20","v":"No"},{"$f":"'6 - Input sheet - Employee data'!QB20","v":"No"},{"$f":"'6 - Input sheet - Employee data'!QC20","v":"No"},{"$f":"'6 - Input sheet - Employee data'!QD20","v":"No"},{"$f":"'6 - Input sheet - Employee data'!QE20","v":"No"},{"$f":"'6 - Input sheet - Employee data'!QF20","v":"No"},{"$f":"'6 - Input sheet - Employee data'!QG20","v":"No"},{"$f":"'6 - Input sheet - Employee data'!QH20","v":"No"},{"$f":"'6 - Input sheet - Employee data'!QI20","v":"No"},{"$f":"'6 - Input sheet - Employee data'!QJ20","v":"No"},{"$f":"'6 - Input sheet - Employee data'!QK20","v":"No"},{"$f":"'6 - Input sheet - Employee data'!QL20","v":"No"},{"$f":"'6 - Input sheet - Employee data'!QM20","v":"No"},{"$f":"'6 - Input sheet - Employee data'!QN20","v":"No"},{"$f":"'6 - Input sheet - Employee data'!QO20","v":"No"},{"$f":"'6 - Input sheet - Employee data'!QP20","v":"No"},{"$f":"'6 - Input sheet - Employee data'!QQ20","v":"No"},{"$f":"'6 - Input sheet - Employee data'!QR20","v":"No"},{"$f":"'6 - Input sheet - Employee data'!QS20","v":"No"},{"$f":"'6 - Input sheet - Employee data'!QT20","v":"No"},{"$f":"'6 - Input sheet - Employee data'!QU20","v":"No"},{"$f":"'6 - Input sheet - Employee data'!QV20","v":"No"},{"$f":"'6 - Input sheet - Employee data'!QW20","v":"No"},{"$f":"'6 - Input sheet - Employee data'!QX20","v":"No"},{"$f":"'6 - Input sheet - Employee data'!QY20","v":"No"},{"$f":"'6 - Input sheet - Employee data'!QZ20","v":"No"},{"$f":"'6 - Input sheet - Employee data'!RA20","v":"No"},{"$f":"'6 - Input sheet - Employee data'!RB20","v":"No"},{"$f":"'6 - Input sheet - Employee data'!RC20","v":"No"},{"$f":"'6 - Input sheet - Employee data'!RD20","v":"No"},{"$f":"'6 - Input sheet - Employee data'!RE20","v":"No"},{"$f":"'6 - Input sheet - Employee data'!RF20","v":"No"},{"$f":"'6 - Input sheet - Employee data'!RG20","v":"No"},{"$f":"'6 - Input sheet - Employee data'!RH20","v":"No"},{"$f":"'6 - Input sheet - Employee data'!RI20","v":"No"},{"$f":"'6 - Input sheet - Employee data'!RJ20","v":"No"},{"$f":"'6 - Input sheet - Employee data'!RK20","v":"No"},{"$f":"'6 - Input sheet - Employee data'!RL20","v":"No"},{"$f":"'6 - Input sheet - Employee data'!RM20","v":"No"},{"$f":"'6 - Input sheet - Employee data'!RN20","v":"No"},{"$f":"'6 - Input sheet - Employee data'!RO20","v":"No"},{"$f":"'6 - Input sheet - Employee data'!RP20","v":"No"},{"$f":"'6 - Input sheet - Employee data'!RQ20","v":"No"},{"$f":"'6 - Input sheet - Employee data'!RR20","v":"No"},{"$f":"'6 - Input sheet - Employee data'!RS20","v":"No"},{"$f":"'6 - Input sheet - Employee data'!RT20","v":"No"},{"$f":"'6 - Input sheet - Employee data'!RU20","v":"No"},{"$f":"'6 - Input sheet - Employee data'!RV20","v":"No"},{"$f":"'6 - Input sheet - Employee data'!RW20","v":"No"},{"$f":"'6 - Input sheet - Employee data'!RX20","v":"No"},{"$f":"'6 - Input sheet - Employee data'!RY20","v":"No"},{"$f":"'6 - Input sheet - Employee data'!RZ20","v":"No"},{"$f":"'6 - Input sheet - Employee data'!SA20","v":"No"},{"$f":"'6 - Input sheet - Employee data'!SB20","v":"No"},{"$f":"'6 - Input sheet - Employee data'!SC20","v":"No"},{"$f":"'6 - Input sheet - Employee data'!SD20","v":"No"},{"$f":"'6 - Input sheet - Employee data'!SE20","v":"No"},{"$f":"'6 - Input sheet - Employee data'!SF20","v":"No"},{"$f":"'6 - Input sheet - Employee data'!SG20","v":"No"},{"$f":"'6 - Input sheet - Employee data'!SH20","v":"No"}]
[]
["Safe harbor met",{"$f":"IF(B74=0,0,IF(SUM(B76:B77)=0,\"NO\",\"YES\"))","v":0}]
[]
["FTE REDUCTION CALCULATION - FINAL"]
["Reduction of FTE from above",{"$f":"B47","v":0}]
["Exception adjustment",null,{"$f":"IF(C84=\"YES\",-C87,0)","v":0},{"$f":"IF(D84=\"YES\",-D87,0)","v":0},0,0,0,0,0,0,0,0,0,0,0,0,0,0,0,0,0,0,0,0,0,0,0,0,0,0,0,0,0,0,0,0,0,0,0,0,0,0,0,0,0,0,0,0,0,0,0,0,0,0,0,0,0,0,0,0,0,0,0,0,0,0,0,{"$f":"IF(BP84=\"YES\",-BP87,0)","v":0},0,0,0,0,0,0,0,0,0,0,0,0,0,0,0,0,0,0,0,0,0,0,0,0,0,0,0,0,0,0,0,0,0,0,0,0,0,0,0,0,0,0,0,0,0,0,0,0,0,0,0,0,0,0,0,0,0,0,0,0,0,0,0,{"$f":"IF(EB84=\"YES\",-EB87,0)","v":0},0,0,0,0,0,0,0,0,0,0,0,0,0,0,0,0,0,0,0,0,0,0,0,0,0,0,0,0,0,0,0,0,0,0,0,0,0,0,0,0,0,0,0,0,0,0,0,0,0,0,0,0,0,0,0,0,0,0,0,0,0,0,0,{"$f":"IF(GN84=\"YES\",-GN87,0)","v":0},0,0,0,0,0,0,0,0,0,0,0,0,0,0,0,0,0,0,0,0,0,0,0,0,0,0,0,0,0,0,0,0,0,0,0,0,0,0,0,0,0,0,0,0,0,0,0,0,0,0,0,0,0,0,0,0,0,0,0,0,0,0,0,{"$f":"IF(IZ84=\"YES\",-IZ87,0)","v":0},0,0,0,0,0,0,0,0,0,0,0,0,0,0,0,0,0,0,0,0,0,0,0,0,0,0,0,0,0,0,0,0,0,0,0,0,0,0,0,0,0,0,0,0,0,0,0,0,0,0,0,0,0,0,0,0,0,0,0,0,0,0,0,{"$f":"IF(LL84=\"YES\",-LL87,0)","v":0},0,0,0,0,0,0,0,0,0,0,0,0,0,0,0,0,0,0,0,0,0,0,0,0,0,0,0,0,0,0,0,0,0,0,0,0,0,0,0,0,0,0,0,0,0,0,0,0,0,0,0,0,0,0,0,0,0,0,0,0,0,0,0,{"$f":"IF(NX84=\"YES\",-NX87,0)","v":0},0,0,0,0,0,0,0,0,0,0,0,0,0,0,0,0,0,0,0,0,0,0,0,0,0,0,0,0,0,0,0,0,0,0,0,0,0,0,0,0,0,0,0,0,0,0,0,0,0,0,0,0,0,0,0,0,0,0,0,0,0,0,0,{"$f":"IF(QJ84=\"YES\",-QJ87,0)","v":0},0,0,0,0,0,0,0,0,0,0,0,0,0,0,0,0,0,0,0,0,0,0,0,0,0,0,0,0,0,0,0,0,0,0,0,0,0,0,0,0,0,0,0,0,0,0,0,0,0,0]
["FINAL FTE REDUCTION CALCULATION",null,{"$f":"SUM(C87:C88)","v":0},{"$f":"SUM(D87:D88)","v":0},0,0,0,0,0,0,0,0,0,0,0,0,0,0,0,0,0,0,0,0,0,0,0,0,0,0,0,0,0,0,0,0,0,0,0,0,0,0,0,0,0,0,0,0,0,0,0,0,0,0,0,0,0,0,0,0,0,0,0,0,0,0,0,{"$f":"SUM(BP87:BP88)","v":0},0,0,0,0,0,0,0,0,0,0,0,0,0,0,0,0,0,0,0,0,0,0,0,0,0,0,0,0,0,0,0,0,0,0,0,0,0,0,0,0,0,0,0,0,0,0,0,0,0,0,0,0,0,0,0,0,0,0,0,0,0,0,0,{"$f":"SUM(EB87:EB88)","v":0},0,0,0,0,0,0,0,0,0,0,0,0,0,0,0,0,0,0,0,0,0,0,0,0,0,0,0,0,0,0,0,0,0,0,0,0,0,0,0,0,0,0,0,0,0,0,0,0,0,0,0,0,0,0,0,0,0,0,0,0,0,0,0,{"$f":"SUM(GN87:GN88)","v":0},0,0,0,0,0,0,0,0,0,0,0,0,0,0,0,0,0,0,0,0,0,0,0,0,0,0,0,0,0,0,0,0,0,0,0,0,0,0,0,0,0,0,0,0,0,0,0,0,0,0,0,0,0,0,0,0,0,0,0,0,0,0,0,{"$f":"SUM(IZ87:IZ88)","v":0},0,0,0,0,0,0,0,0,0,0,0,0,0,0,0,0,0,0,0,0,0,0,0,0,0,0,0,0,0,0,0,0,0,0,0,0,0,0,0,0,0,0,0,0,0,0,0,0,0,0,0,0,0,0,0,0,0,0,0,0,0,0,0,{"$f":"SUM(LL87:LL88)","v":0},0,0,0,0,0,0,0,0,0,0,0,0,0,0,0,0,0,0,0,0,0,0,0,0,0,0,0,0,0,0,0,0,0,0,0,0,0,0,0,0,0,0,0,0,0,0,0,0,0,0,0,0,0,0,0,0,0,0,0,0,0,0,0,{"$f":"SUM(NX87:NX88)","v":0},0,0,0,0,0,0,0,0,0,0,0,0,0,0,0,0,0,0,0,0,0,0,0,0,0,0,0,0,0,0,0,0,0,0,0,0,0,0,0,0,0,0,0,0,0,0,0,0,0,0,0,0,0,0,0,0,0,0,0,0,0,0,0,{"$f":"SUM(QJ87:QJ88)","v":0},0,0,0,0,0,0,0,0,0,0,0,0,0,0,0,0,0,0,0,0,0,0,0,0,0,0,0,0,0,0,0,0,0,0,0,0,0,0,0,0,0,0,0,0,0,0,0,0,0,0]
[]
[]
["ADJUSTMENT TO FORGIVENESS BASE"]
["Reduction factor",{"$f":"IF(B84=\"NO\",IF(B42>B33,1,B42/B33),1)","v":1}]
[]
[]
["ASSUMPTIONS"]
["1) Employee can be excluded from this schedule if an employee received during any pay period in 2019, an annualized payroll or wage of more than $100,000."]
["2) Covered FTE - Include employee FTE if the payroll reduction was eliminated or job offered prior to/by 6/30/20, employee was fired for cause, employee voluntarily resigned, or employee voluntarily requested a reduction in hours."]
[]
[]
["This workbook is provided by Sasserath & Zoraian, LLP and is intended solely for general informational and educational purposes. It is not intended in any way as financial, securities, insurance, tax or legal advice or services, or as a solicitation for any financial, securities, insurance, tax or legal product or service. Please consult with your financial, securities, insurance, tax and/or legal advisors for advice regarding your specific circumstances. The calculations herein are estimates based on our interpretation of the bill signed into law on March 27, 2020 under the CARES Act."]

{"sheet":"6 - Input sheet - Employee data","index":8,"n_rows":83,"n_cols":502,"rows_kept":83,"cut":false,"hidden":false,"merged":[]}
["Paycheck Protection Program",null,"Employee","Sasserath & Zoraian, LLP "]
["Input data sheet - Employee data",null,"Other","(631) 368-3110",null,null,null,"No"]
[null,null,null,"www.sz-cpas.com",null,null,null,"Yes"]
[]
[null,null,1,2,3,4,5,6,7,8,9,10,11,12,13,14,15,16,17,18,19,20,21,22,23,24,25,26,27,28,29,30,31,32,33,34,35,36,37,38,39,40,41,42,43,44,45,46,47,48,49,50,51,52,53,54,55,56,57,58,59,60,61,62,63,64,65,66,67,68,69,70,71,72,73,74,75,76,77,78,79,80,81,82,83,84,85,86,87,88,89,90,91,92,93,94,95,96,97,98,99,100,101,102,103,104,105,106,107,108,109,110,111,112,113,114,115,116,117,118,119,120,121,122,123,124,125,126,127,128,129,130,131,132,133,134,135,136,137,138,139,140,141,142,143,144,145,146,147,148,149,150,151,152,153,154,155,156,157,158,159,160,161,162,163,164,165,166,167,168,169,170,171,172,173,174,175,176,177,178,179,180,181,182,183,184,185,186,187,188,189,190,191,192,193,194,195,196,197,198,199,200,201,202,203,204,205,206,207,208,209,210,211,212,213,214,215,216,217,218,219,220,221,222,223,224,225,226,227,228,229,230,231,232,233,234,235,236,237,238,239,240,241,242,243,244,245,246,247,248,249,250,251,252,253,254,255,256,257,258,259,260,261,262,263,264,265,266,267,268,269,270,271,272,273,274,275,276,277,278,279,280,281,282,283,284,285,286,287,288,289,290,291,292,293,294,295,296,297,298,299,300,301,302,303,304,305,306,307,308,309,310,311,312,313,314,315,316,317,318,319,320,321,322,323,324,325,326,327,328,329,330,331,332,333,334,335,336,337,338,339,340,341,342,343,344,345,346,347,348,349,350,351,352,353,354,355,356,357,358,359,360,361,362,363,364,365,366,367,368,369,370,371,372,373,374,375,376,377,378,379,380,381,382,383,384,385,386,387,388,389,390,391,392,393,394,395,396,397,398,399,400,401,402,403,404,405,406,407,408,409,410,411,412,413,414,415,416,417,418,419,420,421,422,423,424,425,426,427,428,429,430,431,432,433,434,435,436,437,438,439,440,441,442,443,444,445,446,447,448,449,450,451,452,453,454,455,456,457,458,459,460,461,462,463,464,465,466,467,468,469,470,471,472,473,474,475,476,477,478,479,480,481,482,483,484,485,486,487,488,489,490,491,492,493,494,495,496,497,498,499,500]
[]
[null,null,{"$f":"1","v":1},{"$f":"C7+1","v":2},{"$f":"D7+1","v":3},4,5,6,7,8,9,10,11,12,13,14,15,16,17,18,19,20,21,22,23,24,25,26,27,28,29,30,31,32,33,34,35,36,37,38,39,40,41,42,43,44,45,46,47,48,49,50,51,52,53,54,55,56,57,58,59,60,61,62,63,64,65,66,{"$f":"BP7+1","v":67},68,69,70,71,72,73,74,75,76,77,78,79,80,81,82,83,84,85,86,87,88,89,90,91,92,93,94,95,96,97,98,99,100,101,102,103,104,105,106,107,108,109,110,111,112,113,114,115,116,117,118,119,120,121,122,123,124,125,126,127,128,129,130,{"$f":"EB7+1","v":131},132,133,134,135,136,137,138,139,140,141,142,143,144,145,146,147,148,149,150,151,152,153,154,155,156,157,158,159,160,161,162,163,164,165,166,167,168,169,170,171,172,173,174,175,176,177,178,179,180,181,182,183,184,185,186,187,188,189,190,191,192,193,194,{"$f":"GN7+1","v":195},196,197,198,199,200,201,202,203,204,205,206,207,208,209,210,211,212,213,214,215,216,217,218,219,220,221,222,223,224,225,226,227,228,229,230,231,232,233,234,235,236,237,238,239,240,241,242,243,244,245,246,247,248,249,250,251,252,253,254,255,256,257,258,{"$f":"IZ7+1","v":259},260,261,262,263,264,265,266,267,268,269,270,271,272,273,274,275,276,277,278,279,280,281,282,283,284,285,286,287,288,289,290,291,292,293,294,295,296,297,298,299,300,301,302,303,304,305,306,307,308,309,310,311,312,313,314,315,316,317,318,319,320,321,322,{"$f":"LL7+1","v":323},324,325,326,327,328,329,330,331,332,333,334,335,336,337,338,339,340,341,342,343,344,345,346,347,348,349,350,351,352,353,354,355,356,357,358,359,360,361,362,363,364,365,366,367,368,369,370,371,372,373,374,375,376,377,378,379,380,381,382,383,384,385,386,{"$f":"NX7+1","v":387},388,389,390,391,392,393,394,395,396,397,398,399,400,401,402,403,404,405,406,407,408,409,410,411,412,413,414,415,416,417,418,419,420,421,422,423,424,425,426,427,428,429,430,431,432,433,434,435,436,437,438,439,440,441,442,443,444,445,446,447,448,449,450,{"$f":"QJ7+1","v":451},452,453,454,455,456,457,458,459,460,461,462,463,464,465,466,467,468,469,470,471,472,473,474,475,476,477,478,479,480,481,482,483,484,485,486,487,488,489,490,491,492,493,494,495,496,497,498,499,500]
[]
[]
["GENERAL DATA"]
[]
["Employee or Other Qualified Payee Name",null,"Name","Name","Name","Name","Name","Name","Name","Name","Name","Name","Name","Name","Name","Name","Name","Name","Name","Name","Name","Name","Name","Name","Name","Name","Name","Name","Name","Name","Name","Name","Name","Name","Name","Name","Name","Name","Name","Name","Name","Name","Name","Name","Name","Name","Name","Name","Name","Name","Name","Name","Name","Name","Name","Name","Name","Name","Name","Name","Name","Name","Name","Name","Name","Name","Name","Name","Name","Name","Name","Name","Name","Name","Name","Name","Name","Name","Name","Name","Name","Name","Name","Name","Name","Name","Name","Name","Name","Name","Name","Name","Name","Name","Name","Name","Name","Name","Name","Name","Name","Name","Name","Name","Name","Name","Name","Name","Name","Name","Name","Name","Name","Name","Name","Name","Name","Name","Name","Name","Name","Name","Name","Name","Name","Name","Name","Name","Name","Name","Name","Name","Name","Name","Name","Name","Name","Name","Name","Name","Name","Name","Name","Name","Name","Name","Name","Name","Name","Name","Name","Name","Name","Name","Name","Name","Name","Name","Name","Name","Name","Name","Name","Name","Name","Name","Name","Name","Name","Name","Name","Name","Name","Name","Name","Name","Name","Name","Name","Name","Name","Name","Name","Name","Name","Name","Name","Name","Name","Name","Name","Name","Name","Name","Name","Name","Name","Name","Name","Name","Name","Name","Name","Name","Name","Name","Name","Name","Name","Name","Name","Name","Name","Name","Name","Name","Name","Name","Name","Name","Name","Name","Name","Name","Name","Name","Name","Name","Name","Name","Name","Name","Name","Name","Name","Name","Name","Name","Name","Name","Name","Name","Name","Name","Name","Name","Name","Name","Name","Name","Name","Name","Name","Name","Name","Name","Name","Name","Name","Name","Name","Name","Name","Name","Name","Name","Name","Name","Name","Name","Name","Name","Name","Name","Name","Name","Name","Name","Name","Name","Name","Name","Name","Name","Name","Name","Name","Name","Name","Name","Name","Name","Name","Name","Name","Name","Name","Name","Name","Name","Name","Name","Name","Name","Name","Name","Name","Name","Name","Name","Name","Name","Name","Name","Name","Name","Name","Name","Name","Name","Name","Name","Name","Name","Name","Name","Name","Name","Name","Name","Name","Name","Name","Name","Name","Name","Name","Name","Name","Name","Name","Name","Name","Name","Name","Name","Name","Name","Name","Name","Name","Name","Name","Name","Name","Name","Name","Name","Name","Name","Name","Name","Name","Name","Name","Name","Name","Name","Name","Name","Name","Name","Name","Name","Name","Name","Name","Name","Name","Name","Name","Name","Name","Name","Name","Name","Name","Name","Name","Name","Name","Name","Name","Name","Name","Name","Name","Name","Name","Name","Name","Name","Name","Name","Name","Name","Name","Name","Name","Name","Name","Name","Name","Name","Name","Name","Name","Name","Name","Name","Name","Name","Name","Name","Name","Name","Name","Name","Name","Name","Name","Name","Name","Name","Name","Name","Name","Name","Name","Name","Name","Name","Name","Name","Name","Name","Name","Name","Name","Name","Name","Name","Name","Name","Name","Name","Name","Name","Name","Name","Name","Name","Name","Name","Name","Name","Name","Name","Name","Name","Name","Name","Name","Name","Name","Name","Name","Name","Name","Name","Name","Name","Name","Name","Name","Name","Name","Name","Name","Name","Name","Name","Name","Name","Name","Name","Name","Name","Name","Name","Name","Name"]
["Employee or Other Qualified Payee Identifier",null,"Identifier","Identifier","Identifier","Identifier","Identifier","Identifier","Identifier","Identifier","Identifier","Identifier","Identifier","Identifier","Identifier","Identifier","Identifier","Identifier","Identifier","Identifier","Identifier","Identifier","Identifier","Identifier","Identifier","Identifier","Identifier","Identifier","Identifier","Identifier","Identifier","Identifier","Identifier","Identifier","Identifier","Identifier","Identifier","Identifier","Identifier","Identifier","Identifier","Identifier","Identifier","Identifier","Identifier","Identifier","Identifier","Identifier","Identifier","Identifier","Identifier","Identifier","Identifier","Identifier","Identifier","Identifier","Identifier","Identifier","Identifier","Identifier","Identifier","Identifier","Identifier","Identifier","Identifier","Identifier","Identifier","Identifier","Identifier","Identifier","Identifier","Identifier","Identifier","Identifier","Identifier","Identifier","Identifier","Identifier","Identifier","Identifier","Identifier","Identifier","Identifier","Identifier","Identifier","Identifier","Identifier","Identifier","Identifier","Identifier","Identifier","Identifier","Identifier","Identifier","Identifier","Identifier","Identifier","Identifier","Identifier","Identifier","Identifier","Identifier","Identifier","Identifier","Identifier","Identifier","Identifier","Identifier","Identifier","Identifier","Identifier","Identifier","Identifier","Identifier","Identifier","Identifier","Identifier","Identifier","Identifier","Identifier","Identifier","Identifier","Identifier","Identifier","Identifier","Identifier","Identifier","Identifier","Identifier","Identifier","Identifier","Identifier","Identifier","Identifier","Identifier","Identifier","Identifier","Identifier","Identifier","Identifier","Identifier","Identifier","Identifier","Identifier","Identifier","Identifier","Identifier","Identifier","Identifier","Identifier","Identifier","Identifier","Identifier","Identifier","Identifier","Identifier","Identifier","Identifier","Identifier","Identifier","Identifier","Identifier","Identifier","Identifier","Identifier","Identifier","Identifier","Identifier","Identifier","Identifier","Identifier","Identifier","Identifier","Identifier","Identifier","Identifier","Identifier","Identifier","Identifier","Identifier","Identifier","Identifier","Identifier","Identifier","Identifier","Identifier","Identifier","Identifier","Identifier","Identifier","Identifier","Identifier","Identifier","Identifier","Identifier","Identifier","Identifier","Identifier","Identifier","Identifier","Identifier","Identifier","Identifier","Identifier","Identifier","Identifier","Identifier","Identifier","Identifier","Identifier","Identifier","Identifier","Identifier","Identifier","Identifier","Identifier","Identifier","Identifier","Identifier","Identifier","Identifier","Identifier","Identifier","Identifier","Identifier","Identifier","Identifier","Identifier","Identifier","Identifier","Identifier","Identifier","Identifier","Identifier","Identifier","Identifier","Identifier","Identifier","Identifier","Identifier","Identifier","Identifier","Identifier","Identifier","Identifier","Identifier","Identifier","Identifier","Identifier","Identifier","Identifier","Identifier","Identifier","Identifier","Identifier","Identifier","Identifier","Identifier","Identifier","Identifier","Identifier","Identifier","Identifier","Identifier","Identifier","Identifier","Identifier","Identifier","Identifier","Identifier","Identifier","Identifier","Identifier","Identifier","Identifier","Identifier","Identifier","Identifier","Identifier","Identifier","Identifier","Identifier","Identifier","Identifier","Identifier","Identifier","Identifier","Identifier","Identifier","Identifier","Identifier","Identifier","Identifier","Identifier","Identifier","Identifier","Identifier","Identifier","Identifier","Identifier","Identifier","Identifier","Identifier","Identifier","Identifier","Identifier","Identifier","Identifier","Identifier","Identifier","Identifier","Identifier","Identifier","Identifier","Identifier","Identifier","Identifier","Identifier","Identifier","Identifier","Identifier","Identifier","Identifier","Identifier","Identifier","Identifier","Identifier","Identifier","Identifier","Identifier","Identifier","Identifier","Identifier","Identifier","Identifier","Identifier","Identifier","Identifier","Identifier","Identifier","Identifier","Identifier","Identifier","Identifier","Identifier","Identifier","Identifier","Identifier","Identifier","Identifier","Identifier","Identifier","Identifier","Identifier","Identifier","Identifier","Identifier","Identifier","Identifier","Identifier","Identifier","Identifier","Identifier","Identifier","Identifier","Identifier","Identifier","Identifier","Identifier","Identifier","Identifier","Identifier","Identifier","Identifier","Identifier","Identifier","Identifier","Identifier","Identifier","Identifier","Identifier","Identifier","Identifier","Identifier","Identifier","Identifier","Identifier","Identifier","Identifier","Identifier","Identifier","Identifier","Identifier","Identifier","Identifier","Identifier","Identifier","Identifier","Identifier","Identifier","Identifier","Identifier","Identifier","Identifier","Identifier","Identifier","Identifier","Identifier","Identifier","Identifier","Identifier","Identifier","Identifier","Identifier","Identifier","Identifier","Identifier","Identifier","Identifier","Identifier","Identifier","Identifier","Identifier","Identifier","Identifier","Identifier","Identifier","Identifier","Identifier","Identifier","Identifier","Identifier","Identifier","Identifier","Identifier","Identifier","Identifier","Identifier","Identifier","Identifier","Identifier","Identifier","Identifier","Identifier","Identifier","Identifier","Identifier","Identifier","Identifier","Identifier","Identifier","Identifier","Identifier","Identifier","Identifier","Identifier","Identifier","Identifier","Identifier","Identifier","Identifier","Identifier","Identifier","Identifier","Identifier","Identifier","Identifier","Identifier","Identifier","Identifier","Identifier","Identifier","Identifier","Identifier","Identifier","Identifier","Identifier","Identifier","Identifier","Identifier","Identifier","Identifier","Identifier","Identifier","Identifier","Identifier","Identifier","Identifier","Identifier","Identifier","Identifier","Identifier","Identifier","Identifier","Identifier","Identifier","Identifier","Identifier","Identifier","Identifier","Identifier","Identifier"]
["Over $100K in 2019?",null,"No","No","No","No","No","No","No","No","No","No","No","No","No","No","No","No","No","No","No","No","No","No","No","No","No","No","No","No","No","No","No","No","No","No","No","No","No","No","No","No","No","No","No","No","No","No","No","No","No","No","No","No","No","No","No","No","No","No","No","No","No","No","No","No","No","No","No","No","No","No","No","No","No","No","No","No","No","No","No","No","No","No","No","No","No","No","No","No","No","No","No","No","No","No","No","No","No","No","No","No","No","No","No","No","No","No","No","No","No","No","No","No","No","No","No","No","No","No","No","No","No","No","No","No","No","No","No","No","No","No","No","No","No","No","No","No","No","No","No","No","No","No","No","No","No","No","No","No","No","No","No","No","No","No","No","No","No","No","No","No","No","No","No","No","No","No","No","No","No","No","No","No","No","No","No","No","No","No","No","No","No","No","No","No","No","No","No","No","No","No","No","No","No","No","No","No","No","No","No","No","No","No","No","No","No","No","No","No","No","No","No","No","No","No","No","No","No","No","No","No","No","No","No","No","No","No","No","No","No","No","No","No","No","No","No","No","No","No","No","No","No","No","No","No","No","No","No","No","No","No","No","No","No","No","No","No","No","No","No","No","No","No","No","No","No","No","No","No","No","No","No","No","No","No","No","No","No","No","No","No","No","No","No","No","No","No","No","No","No","No","No","No","No","No","No","No","No","No","No","No","No","No","No","No","No","No","No","No","No","No","No","No","No","No","No","No","No","No","No","No","No","No","No","No","No","No","No","No","No","No","No","No","No","No","No","No","No","No","No","No","No","No","No","No","No","No","No","No","No","No","No","No","No","No","No","No","No","No","No","No","No","No","No","No","No","No","No","No","No","No","No","No","No","No","No","No","No","No","No","No","No","No","No","No","No","No","No","No","No","No","No","No","No","No","No","No","No","No","No","No","No","No","No","No","No","No","No","No","No","No","No","No","No","No","No","No","No","No","No","No","No","No","No","No","No","No","No","No","No","No","No","No","No","No","No","No","No","No","No","No","No","No","No","No","No","No","No","No","No","No","No","No","No","No","No","No","No","No","No","No","No","No","No","No","No","No","No","No","No","No","No","No","No","No","No","No","No","No","No","No","No","No","No","No","No","No","No","No","No","No","No","No","No","No","No","No","No","No","No","No"]
["Type of Employee"]
["Employed in 2020",null,"Yes","Yes","Yes","Yes","Yes","Yes","Yes","Yes","Yes","Yes","Yes","Yes","Yes","Yes","Yes","Yes","Yes","Yes","Yes","Yes","Yes","Yes","Yes","Yes","Yes","Yes","Yes","Yes","Yes","Yes","Yes","Yes","Yes","Yes","Yes","Yes","Yes","Yes","Yes","Yes","Yes","Yes","Yes","Yes","Yes","Yes","Yes","Yes","Yes","Yes","Yes","Yes","Yes","Yes","Yes","Yes","Yes","Yes","Yes","Yes","Yes","Yes","Yes","Yes","Yes","Yes","Yes","Yes","Yes","Yes","Yes","Yes","Yes","Yes","Yes","Yes","Yes","Yes","Yes","Yes","Yes","Yes","Yes","Yes","Yes","Yes","Yes","Yes","Yes","Yes","Yes","Yes","Yes","Yes","Yes","Yes","Yes","Yes","Yes","Yes","Yes","Yes","Yes","Yes","Yes","Yes","Yes","Yes","Yes","Yes","Yes","Yes","Yes","Yes","Yes","Yes","Yes","Yes","Yes","Yes","Yes","Yes","Yes","Yes","Yes","Yes","Yes","Yes","Yes","Yes","Yes","Yes","Yes","Yes","Yes","Yes","Yes","Yes","Yes","Yes","Yes","Yes","Yes","Yes","Yes","Yes","Yes","Yes","Yes","Yes","Yes","Yes","Yes","Yes","Yes","Yes","Yes","Yes","Yes","Yes","Yes","Yes","Yes","Yes","Yes","Yes","Yes","Yes","Yes","Yes","Yes","Yes","Yes","Yes","Yes","Yes","Yes","Yes","Yes","Yes","Yes","Yes","Yes","Yes","Yes","Yes","Yes","Yes","Yes","Yes","Yes","Yes","Yes","Yes","Yes","Yes","Yes","Yes","Yes","Yes","Yes","Yes","Yes","Yes","Yes","Yes","Yes","Yes","Yes","Yes","Yes","Yes","Yes","Yes","Yes","Yes","Yes","Yes","Yes","Yes","Yes","Yes","Yes","Yes","Yes","Yes","Yes","Yes","Yes","Yes","Yes","Yes","Yes","Yes","Yes","Yes","Yes","Yes","Yes","Yes","Yes","Yes","Yes","Yes","Yes","Yes","Yes","Yes","Yes","Yes","Yes","Yes","Yes","Yes","Yes","Yes","Yes","Yes","Yes","Yes","Yes","Yes","Yes","Yes","Yes","Yes","Yes","Yes","Yes","Yes","Yes","Yes","Yes","Yes","Yes","Yes","Yes","Yes","Yes","Yes","Yes","Yes","Yes","Yes","Yes","Yes","Yes","Yes","Yes","Yes","Yes","Yes","Yes","Yes","Yes","Yes","Yes","Yes","Yes","Yes","Yes","Yes","Yes","Yes","Yes","Yes","Yes","Yes","Yes","Yes","Yes","Yes","Yes","Yes","Yes","Yes","Yes","Yes","Yes","Yes","Yes","Yes","Yes","Yes","Yes","Yes","Yes","Yes","Yes","Yes","Yes","Yes","Yes","Yes","Yes","Yes","Yes","Yes","Yes","Yes","Yes","Yes","Yes","Yes","Yes","Yes","Yes","Yes","Yes","Yes","Yes","Yes","Yes","Yes","Yes","Yes","Yes","Yes","Yes","Yes","Yes","Yes","Yes","Yes","Yes","Yes","Yes","Yes","Yes","Yes","Yes","Yes","Yes","Yes","Yes","Yes","Yes","Yes","Yes","Yes","Yes","Yes","Yes","Yes","Yes","Yes","Yes","Yes","Yes","Yes","Yes","Yes","Yes","Yes","Yes","Yes","Yes","Yes","Yes","Yes","Yes","Yes","Yes","Yes","Yes","Yes","Yes","Yes","Yes","Yes","Yes","Yes","Yes","Yes","Yes","Yes","Yes","Yes","Yes","Yes","Yes","Yes","Yes","Yes","Yes","Yes","Yes","Yes","Yes","Yes","Yes","Yes","Yes","Yes","Yes","Yes","Yes","Yes","Yes","Yes","Yes","Yes","Yes","Yes","Yes","Yes","Yes","Yes","Yes","Yes","Yes","Yes","Yes","Yes","Yes","Yes","Yes","Yes","Yes","Yes","Yes","Yes","Yes","Yes","Yes","Yes","Yes","Yes","Yes","Yes","Yes","Yes","Yes","Yes","Yes","Yes","Yes","Yes","Yes","Yes","Yes","Yes","Yes","Yes","Yes","Yes","Yes","Yes","Yes","Yes","Yes","Yes","Yes","Yes","Yes","Yes","Yes","Yes","Yes","Yes"]
["Period type","Weekly"]
["FTE Simplified Calculation Method","No"]
[]
["Select \"yes\" if any of the following is true, and if the employee was not replaced…...",null,"No","No","No","No","No","No","No","No","No","No","No","No","No","No","No","No","No","No","No","No","No","No","No","No","No","No","No","No","No","No","No","No","No","No","No","No","No","No","No","No","No","No","No","No","No","No","No","No","No","No","No","No","No","No","No","No","No","No","No","No","No","No","No","No","No","No","No","No","No","No","No","No","No","No","No","No","No","No","No","No","No","No","No","No","No","No","No","No","No","No","No","No","No","No","No","No","No","No","No","No","No","No","No","No","No","No","No","No","No","No","No","No","No","No","No","No","No","No","No","No","No","No","No","No","No","No","No","No","No","No","No","No","No","No","No","No","No","No","No","No","No","No","No","No","No","No","No","No","No","No","No","No","No","No","No","No","No","No","No","No","No","No","No","No","No","No","No","No","No","No","No","No","No","No","No","No","No","No","No","No","No","No","No","No","No","No","No","No","No","No","No","No","No","No","No","No","No","No","No","No","No","No","No","No","No","No","No","No","No","No","No","No","No","No","No","No","No","No","No","No","No","No","No","No","No","No","No","No","No","No","No","No","No","No","No","No","No","No","No","No","No","No","No","No","No","No","No","No","No","No","No","No","No","No","No","No","No","No","No","No","No","No","No","No","No","No","No","No","No","No","No","No","No","No","No","No","No","No","No","No","No","No","No","No","No","No","No","No","No","No","No","No","No","No","No","No","No","No","No","No","No","No","No","No","No","No","No","No","No","No","No","No","No","No","No","No","No","No","No","No","No","No","No","No","No","No","No","No","No","No","No","No","No","No","No","No","No","No","No","No","No","No","No","No","No","No","No","No","No","No","No","No","No","No","No","No","No","No","No","No","No","No","No","No","No","No","No","No","No","No","No","No","No","No","No","No","No","No","No","No","No","No","No","No","No","No","No","No","No","No","No","No","No","No","No","No","No","No","No","No","No","No","No","No","No","No","No","No","No","No","No","No","No","No","No","No","No","No","No","No","No","No","No","No","No","No","No","No","No","No","No","No","No","No","No","No","No","No","No","No","No","No","No","No","No","No","No","No","No","No","No","No","No","No","No","No","No","No","No","No","No","No","No","No","No","No","No","No","No","No","No","No","No","No","No","No","No","No","No","No","No","No","No","No","No","No","No","No","No","No","No","No","No","No","No","No","No","No","No","No"]
["1) Payroll and FTE reduction eliminated or job offered prior to/by 6/30/20"]
["2) Employee was fired for cause"]
["3) Employee voluntarily resigned"]
["4) Employee voluntarily requested a reduction in hours"]
[]
[]
["FTE DATA"]
[]
["Base Period"]
["   Hours - February 15, 2019 to June 30, 2019"]
["   Employed - February 15, 2019 to June 30, 2019",null,"Yes","Yes","Yes","Yes","Yes","Yes","Yes","Yes","Yes","Yes","Yes","Yes","Yes","Yes","Yes","Yes","Yes","Yes","Yes","Yes","Yes","Yes","Yes","Yes","Yes","Yes","Yes","Yes","Yes","Yes","Yes","Yes","Yes","Yes","Yes","Yes","Yes","Yes","Yes","Yes","Yes","Yes","Yes","Yes","Yes","Yes","Yes","Yes","Yes","Yes","Yes","Yes","Yes","Yes","Yes","Yes","Yes","Yes","Yes","Yes","Yes","Yes","Yes","Yes","Yes","Yes","Yes","Yes","Yes","Yes","Yes","Yes","Yes","Yes","Yes","Yes","Yes","Yes","Yes","Yes","Yes","Yes","Yes","Yes","Yes","Yes","Yes","Yes","Yes","Yes","Yes","Yes","Yes","Yes","Yes","Yes","Yes","Yes","Yes","Yes","Yes","Yes","Yes","Yes","Yes","Yes","Yes","Yes","Yes","Yes","Yes","Yes","Yes","Yes","Yes","Yes","Yes","Yes","Yes","Yes","Yes","Yes","Yes","Yes","Yes","Yes","Yes","Yes","Yes","Yes","Yes","Yes","Yes","Yes","Yes","Yes","Yes","Yes","Yes","Yes","Yes","Yes","Yes","Yes","Yes","Yes","Yes","Yes","Yes","Yes","Yes","Yes","Yes","Yes","Yes","Yes","Yes","Yes","Yes","Yes","Yes","Yes","Yes","Yes","Yes","Yes","Yes","Yes","Yes","Yes","Yes","Yes","Yes","Yes","Yes","Yes","Yes","Yes","Yes","Yes","Yes","Yes","Yes","Yes","Yes","Yes","Yes","Yes","Yes","Yes","Yes","Yes","Yes","Yes","Yes","Yes","Yes","Yes","Yes","Yes","Yes","Yes","Yes","Yes","Yes","Yes","Yes","Yes","Yes","Yes","Yes","Yes","Yes","Yes","Yes","Yes","Yes","Yes","Yes","Yes","Yes","Yes","Yes","Yes","Yes","Yes","Yes","Yes","Yes","Yes","Yes","Yes","Yes","Yes","Yes","Yes","Yes","Yes","Yes","Yes","Yes","Yes","Yes","Yes","Yes","Yes","Yes","Yes","Yes","Yes","Yes","Yes","Yes","Yes","Yes","Yes","Yes","Yes","Yes","Yes","Yes","Yes","Yes","Yes","Yes","Yes","Yes","Yes","Yes","Yes","Yes","Yes","Yes","Yes","Yes","Yes","Yes","Yes","Yes","Yes","Yes","Yes","Yes","Yes","Yes","Yes","Yes","Yes","Yes","Yes","Yes","Yes","Yes","Yes","Yes","Yes","Yes","Yes","Yes","Yes","Yes","Yes","Yes","Yes","Yes","Yes","Yes","Yes","Yes","Yes","Yes","Yes","Yes","Yes","Yes","Yes","Yes","Yes","Yes","Yes","Yes","Yes","Yes","Yes","Yes","Yes","Yes","Yes","Yes","Yes","Yes","Yes","Yes","Yes","Yes","Yes","Yes","Yes","Yes","Yes","Yes","Yes","Yes","Yes","Yes","Yes","Yes","Yes","Yes","Yes","Yes","Yes","Yes","Yes","Yes","Yes","Yes","Yes","Yes","Yes","Yes","Yes","Yes","Yes","Yes","Yes","Yes","Yes","Yes","Yes","Yes","Yes","Yes","Yes","Yes","Yes","Yes","Yes","Yes","Yes","Yes","Yes","Yes","Yes","Yes","Yes","Yes","Yes","Yes","Yes","Yes","Yes","Yes","Yes","Yes","Yes","Yes","Yes","Yes","Yes","Yes","Yes","Yes","Yes","Yes","Yes","Yes","Yes","Yes","Yes","Yes","Yes","Yes","Yes","Yes","Yes","Yes","Yes","Yes","Yes","Yes","Yes","Yes","Yes","Yes","Yes","Yes","Yes","Yes","Yes","Yes","Yes","Yes","Yes","Yes","Yes","Yes","Yes","Yes","Yes","Yes","Yes","Yes","Yes","Yes","Yes","Yes","Yes","Yes","Yes","Yes","Yes","Yes","Yes","Yes","Yes","Yes","Yes","Yes","Yes","Yes","Yes","Yes","Yes","Yes","Yes","Yes","Yes","Yes","Yes","Yes","Yes","Yes","Yes","Yes","Yes","Yes","Yes","Yes","Yes","Yes","Yes","Yes","Yes","Yes","Yes","Yes","Yes","Yes","Yes","Yes","Yes","Yes","Yes","Yes","Yes","Yes","Yes","Yes","Yes"]
[]
["   Hours - January 1, 2020 to February 29, 2020"]
["   Employed - January 1, 2020 to February 29, 2020",null,"Yes","Yes","Yes","Yes","Yes","Yes","Yes","Yes","Yes","Yes","Yes","Yes","Yes","Yes","Yes","Yes","Yes","Yes","Yes","Yes","Yes","Yes","Yes","Yes","Yes","Yes","Yes","Yes","Yes","Yes","Yes","Yes","Yes","Yes","Yes","Yes","Yes","Yes","Yes","Yes","Yes","Yes","Yes","Yes","Yes","Yes","Yes","Yes","Yes","Yes","Yes","Yes","Yes","Yes","Yes","Yes","Yes","Yes","Yes","Yes","Yes","Yes","Yes","Yes","Yes","Yes","Yes","Yes","Yes","Yes","Yes","Yes","Yes","Yes","Yes","Yes","Yes","Yes","Yes","Yes","Yes","Yes","Yes","Yes","Yes","Yes","Yes","Yes","Yes","Yes","Yes","Yes","Yes","Yes","Yes","Yes","Yes","Yes","Yes","Yes","Yes","Yes","Yes","Yes","Yes","Yes","Yes","Yes","Yes","Yes","Yes","Yes","Yes","Yes","Yes","Yes","Yes","Yes","Yes","Yes","Yes","Yes","Yes","Yes","Yes","Yes","Yes","Yes","Yes","Yes","Yes","Yes","Yes","Yes","Yes","Yes","Yes","Yes","Yes","Yes","Yes","Yes","Yes","Yes","Yes","Yes","Yes","Yes","Yes","Yes","Yes","Yes","Yes","Yes","Yes","Yes","Yes","Yes","Yes","Yes","Yes","Yes","Yes","Yes","Yes","Yes","Yes","Yes","Yes","Yes","Yes","Yes","Yes","Yes","Yes","Yes","Yes","Yes","Yes","Yes","Yes","Yes","Yes","Yes","Yes","Yes","Yes","Yes","Yes","Yes","Yes","Yes","Yes","Yes","Yes","Yes","Yes","Yes","Yes","Yes","Yes","Yes","Yes","Yes","Yes","Yes","Yes","Yes","Yes","Yes","Yes","Yes","Yes","Yes","Yes","Yes","Yes","Yes","Yes","Yes","Yes","Yes","Yes","Yes","Yes","Yes","Yes","Yes","Yes","Yes","Yes","Yes","Yes","Yes","Yes","Yes","Yes","Yes","Yes","Yes","Yes","Yes","Yes","Yes","Yes","Yes","Yes","Yes","Yes","Yes","Yes","Yes","Yes","Yes","Yes","Yes","Yes","Yes","Yes","Yes","Yes","Yes","Yes","Yes","Yes","Yes","Yes","Yes","Yes","Yes","Yes","Yes","Yes","Yes","Yes","Yes","Yes","Yes","Yes","Yes","Yes","Yes","Yes","Yes","Yes","Yes","Yes","Yes","Yes","Yes","Yes","Yes","Yes","Yes","Yes","Yes","Yes","Yes","Yes","Yes","Yes","Yes","Yes","Yes","Yes","Yes","Yes","Yes","Yes","Yes","Yes","Yes","Yes","Yes","Yes","Yes","Yes","Yes","Yes","Yes","Yes","Yes","Yes","Yes","Yes","Yes","Yes","Yes","Yes","Yes","Yes","Yes","Yes","Yes","Yes","Yes","Yes","Yes","Yes","Yes","Yes","Yes","Yes","Yes","Yes","Yes","Yes","Yes","Yes","Yes","Yes","Yes","Yes","Yes","Yes","Yes","Yes","Yes","Yes","Yes","Yes","Yes","Yes","Yes","Yes","Yes","Yes","Yes","Yes","Yes","Yes","Yes","Yes","Yes","Yes","Yes","Yes","Yes","Yes","Yes","Yes","Yes","Yes","Yes","Yes","Yes","Yes","Yes","Yes","Yes","Yes","Yes","Yes","Yes","Yes","Yes","Yes","Yes","Yes","Yes","Yes","Yes","Yes","Yes","Yes","Yes","Yes","Yes","Yes","Yes","Yes","Yes","Yes","Yes","Yes","Yes","Yes","Yes","Yes","Yes","Yes","Yes","Yes","Yes","Yes","Yes","Yes","Yes","Yes","Yes","Yes","Yes","Yes","Yes","Yes","Yes","Yes","Yes","Yes","Yes","Yes","Yes","Yes","Yes","Yes","Yes","Yes","Yes","Yes","Yes","Yes","Yes","Yes","Yes","Yes","Yes","Yes","Yes","Yes","Yes","Yes","Yes","Yes","Yes","Yes","Yes","Yes","Yes","Yes","Yes","Yes","Yes","Yes","Yes","Yes","Yes","Yes","Yes","Yes","Yes","Yes","Yes","Yes","Yes","Yes","Yes","Yes","Yes","Yes","Yes","Yes","Yes","Yes","Yes","Yes","Yes","Yes","Yes","Yes","Yes"]
[]
["Covered Period or Alternative Payroll Covered Period"]
["   Hours - 8 week PPP loan period"]
["   Employed - 8 week PPP loan period",null,"Yes","Yes","Yes","Yes","Yes","Yes","Yes","Yes","Yes","Yes","Yes","Yes","Yes","Yes","Yes","Yes","Yes","Yes","Yes","Yes","Yes","Yes","Yes","Yes","Yes","Yes","Yes","Yes","Yes","Yes","Yes","Yes","Yes","Yes","Yes","Yes","Yes","Yes","Yes","Yes","Yes","Yes","Yes","Yes","Yes","Yes","Yes","Yes","Yes","Yes","Yes","Yes","Yes","Yes","Yes","Yes","Yes","Yes","Yes","Yes","Yes","Yes","Yes","Yes","Yes","Yes","Yes","Yes","Yes","Yes","Yes","Yes","Yes","Yes","Yes","Yes","Yes","Yes","Yes","Yes","Yes","Yes","Yes","Yes","Yes","Yes","Yes","Yes","Yes","Yes","Yes","Yes","Yes","Yes","Yes","Yes","Yes","Yes","Yes","Yes","Yes","Yes","Yes","Yes","Yes","Yes","Yes","Yes","Yes","Yes","Yes","Yes","Yes","Yes","Yes","Yes","Yes","Yes","Yes","Yes","Yes","Yes","Yes","Yes","Yes","Yes","Yes","Yes","Yes","Yes","Yes","Yes","Yes","Yes","Yes","Yes","Yes","Yes","Yes","Yes","Yes","Yes","Yes","Yes","Yes","Yes","Yes","Yes","Yes","Yes","Yes","Yes","Yes","Yes","Yes","Yes","Yes","Yes","Yes","Yes","Yes","Yes","Yes","Yes","Yes","Yes","Yes","Yes","Yes","Yes","Yes","Yes","Yes","Yes","Yes","Yes","Yes","Yes","Yes","Yes","Yes","Yes","Yes","Yes","Yes","Yes","Yes","Yes","Yes","Yes","Yes","Yes","Yes","Yes","Yes","Yes","Yes","Yes","Yes","Yes","Yes","Yes","Yes","Yes","Yes","Yes","Yes","Yes","Yes","Yes","Yes","Yes","Yes","Yes","Yes","Yes","Yes","Yes","Yes","Yes","Yes","Yes","Yes","Yes","Yes","Yes","Yes","Yes","Yes","Yes","Yes","Yes","Yes","Yes","Yes","Yes","Yes","Yes","Yes","Yes","Yes","Yes","Yes","Yes","Yes","Yes","Yes","Yes","Yes","Yes","Yes","Yes","Yes","Yes","Yes","Yes","Yes","Yes","Yes","Yes","Yes","Yes","Yes","Yes","Yes","Yes","Yes","Yes","Yes","Yes","Yes","Yes","Yes","Yes","Yes","Yes","Yes","Yes","Yes","Yes","Yes","Yes","Yes","Yes","Yes","Yes","Yes","Yes","Yes","Yes","Yes","Yes","Yes","Yes","Yes","Yes","Yes","Yes","Yes","Yes","Yes","Yes","Yes","Yes","Yes","Yes","Yes","Yes","Yes","Yes","Yes","Yes","Yes","Yes","Yes","Yes","Yes","Yes","Yes","Yes","Yes","Yes","Yes","Yes","Yes","Yes","Yes","Yes","Yes","Yes","Yes","Yes","Yes","Yes","Yes","Yes","Yes","Yes","Yes","Yes","Yes","Yes","Yes","Yes","Yes","Yes","Yes","Yes","Yes","Yes","Yes","Yes","Yes","Yes","Yes","Yes","Yes","Yes","Yes","Yes","Yes","Yes","Yes","Yes","Yes","Yes","Yes","Yes","Yes","Yes","Yes","Yes","Yes","Yes","Yes","Yes","Yes","Yes","Yes","Yes","Yes","Yes","Yes","Yes","Yes","Yes","Yes","Yes","Yes","Yes","Yes","Yes","Yes","Yes","Yes","Yes","Yes","Yes","Yes","Yes","Yes","Yes","Yes","Yes","Yes","Yes","Yes","Yes","Yes","Yes","Yes","Yes","Yes","Yes","Yes","Yes","Yes","Yes","Yes","Yes","Yes","Yes","Yes","Yes","Yes","Yes","Yes","Yes","Yes","Yes","Yes","Yes","Yes","Yes","Yes","Yes","Yes","Yes","Yes","Yes","Yes","Yes","Yes","Yes","Yes","Yes","Yes","Yes","Yes","Yes","Yes","Yes","Yes","Yes","Yes","Yes","Yes","Yes","Yes","Yes","Yes","Yes","Yes","Yes","Yes","Yes","Yes","Yes","Yes","Yes","Yes","Yes","Yes","Yes","Yes","Yes","Yes","Yes","Yes","Yes","Yes","Yes","Yes","Yes","Yes","Yes","Yes","Yes","Yes","Yes","Yes","Yes","Yes","Yes","Yes","Yes","Yes","Yes","Yes","Yes"]
[]
["Safe Harbor Calculation"]
["   Hours - February 15, 2020 to April 26, 2020"]
["   Employed - February 15, 2020 to April 26, 2020",null,"Yes","Yes","Yes","Yes","Yes","Yes","Yes","Yes","Yes","Yes","Yes","Yes","Yes","Yes","Yes","Yes","Yes","Yes","Yes","Yes","Yes","Yes","Yes","Yes","Yes","Yes","Yes","Yes","Yes","Yes","Yes","Yes","Yes","Yes","Yes","Yes","Yes","Yes","Yes","Yes","Yes","Yes","Yes","Yes","Yes","Yes","Yes","Yes","Yes","Yes","Yes","Yes","Yes","Yes","Yes","Yes","Yes","Yes","Yes","Yes","Yes","Yes","Yes","Yes","Yes","Yes","Yes","Yes","Yes","Yes","Yes","Yes","Yes","Yes","Yes","Yes","Yes","Yes","Yes","Yes","Yes","Yes","Yes","Yes","Yes","Yes","Yes","Yes","Yes","Yes","Yes","Yes","Yes","Yes","Yes","Yes","Yes","Yes","Yes","Yes","Yes","Yes","Yes","Yes","Yes","Yes","Yes","Yes","Yes","Yes","Yes","Yes","Yes","Yes","Yes","Yes","Yes","Yes","Yes","Yes","Yes","Yes","Yes","Yes","Yes","Yes","Yes","Yes","Yes","Yes","Yes","Yes","Yes","Yes","Yes","Yes","Yes","Yes","Yes","Yes","Yes","Yes","Yes","Yes","Yes","Yes","Yes","Yes","Yes","Yes","Yes","Yes","Yes","Yes","Yes","Yes","Yes","Yes","Yes","Yes","Yes","Yes","Yes","Yes","Yes","Yes","Yes","Yes","Yes","Yes","Yes","Yes","Yes","Yes","Yes","Yes","Yes","Yes","Yes","Yes","Yes","Yes","Yes","Yes","Yes","Yes","Yes","Yes","Yes","Yes","Yes","Yes","Yes","Yes","Yes","Yes","Yes","Yes","Yes","Yes","Yes","Yes","Yes","Yes","Yes","Yes","Yes","Yes","Yes","Yes","Yes","Yes","Yes","Yes","Yes","Yes","Yes","Yes","Yes","Yes","Yes","Yes","Yes","Yes","Yes","Yes","Yes","Yes","Yes","Yes","Yes","Yes","Yes","Yes","Yes","Yes","Yes","Yes","Yes","Yes","Yes","Yes","Yes","Yes","Yes","Yes","Yes","Yes","Yes","Yes","Yes","Yes","Yes","Yes","Yes","Yes","Yes","Yes","Yes","Yes","Yes","Yes","Yes","Yes","Yes","Yes","Yes","Yes","Yes","Yes","Yes","Yes","Yes","Yes","Yes","Yes","Yes","Yes","Yes","Yes","Yes","Yes","Yes","Yes","Yes","Yes","Yes","Yes","Yes","Yes","Yes","Yes","Yes","Yes","Yes","Yes","Yes","Yes","Yes","Yes","Yes","Yes","Yes","Yes","Yes","Yes","Yes","Yes","Yes","Yes","Yes","Yes","Yes","Yes","Yes","Yes","Yes","Yes","Yes","Yes","Yes","Yes","Yes","Yes","Yes","Yes","Yes","Yes","Yes","Yes","Yes","Yes","Yes","Yes","Yes","Yes","Yes","Yes","Yes","Yes","Yes","Yes","Yes","Yes","Yes","Yes","Yes","Yes","Yes","Yes","Yes","Yes","Yes","Yes","Yes","Yes","Yes","Yes","Yes","Yes","Yes","Yes","Yes","Yes","Yes","Yes","Yes","Yes","Yes","Yes","Yes","Yes","Yes","Yes","Yes","Yes","Yes","Yes","Yes","Yes","Yes","Yes","Yes","Yes","Yes","Yes","Yes","Yes","Yes","Yes","Yes","Yes","Yes","Yes","Yes","Yes","Yes","Yes","Yes","Yes","Yes","Yes","Yes","Yes","Yes","Yes","Yes","Yes","Yes","Yes","Yes","Yes","Yes","Yes","Yes","Yes","Yes","Yes","Yes","Yes","Yes","Yes","Yes","Yes","Yes","Yes","Yes","Yes","Yes","Yes","Yes","Yes","Yes","Yes","Yes","Yes","Yes","Yes","Yes","Yes","Yes","Yes","Yes","Yes","Yes","Yes","Yes","Yes","Yes","Yes","Yes","Yes","Yes","Yes","Yes","Yes","Yes","Yes","Yes","Yes","Yes","Yes","Yes","Yes","Yes","Yes","Yes","Yes","Yes","Yes","Yes","Yes","Yes","Yes","Yes","Yes","Yes","Yes","Yes","Yes","Yes","Yes","Yes","Yes","Yes","Yes","Yes","Yes","Yes","Yes","Yes","Yes","Yes","Yes","Yes","Yes","Yes","Yes","Yes","Yes"]
[]
["   Hours - Payroll period inclusive of February 15, 2020"]
["   Employed - Payroll period inclusive of February 15, 2020",null,"Yes","Yes","Yes","Yes","Yes","Yes","Yes","Yes","Yes","Yes","Yes","Yes","Yes","Yes","Yes","Yes","Yes","Yes","Yes","Yes","Yes","Yes","Yes","Yes","Yes","Yes","Yes","Yes","Yes","Yes","Yes","Yes","Yes","Yes","Yes","Yes","Yes","Yes","Yes","Yes","Yes","Yes","Yes","Yes","Yes","Yes","Yes","Yes","Yes","Yes","Yes","Yes","Yes","Yes","Yes","Yes","Yes","Yes","Yes","Yes","Yes","Yes","Yes","Yes","Yes","Yes","Yes","Yes","Yes","Yes","Yes","Yes","Yes","Yes","Yes","Yes","Yes","Yes","Yes","Yes","Yes","Yes","Yes","Yes","Yes","Yes","Yes","Yes","Yes","Yes","Yes","Yes","Yes","Yes","Yes","Yes","Yes","Yes","Yes","Yes","Yes","Yes","Yes","Yes","Yes","Yes","Yes","Yes","Yes","Yes","Yes","Yes","Yes","Yes","Yes","Yes","Yes","Yes","Yes","Yes","Yes","Yes","Yes","Yes","Yes","Yes","Yes","Yes","Yes","Yes","Yes","Yes","Yes","Yes","Yes","Yes","Yes","Yes","Yes","Yes","Yes","Yes","Yes","Yes","Yes","Yes","Yes","Yes","Yes","Yes","Yes","Yes","Yes","Yes","Yes","Yes","Yes","Yes","Yes","Yes","Yes","Yes","Yes","Yes","Yes","Yes","Yes","Yes","Yes","Yes","Yes","Yes","Yes","Yes","Yes","Yes","Yes","Yes","Yes","Yes","Yes","Yes","Yes","Yes","Yes","Yes","Yes","Yes","Yes","Yes","Yes","Yes","Yes","Yes","Yes","Yes","Yes","Yes","Yes","Yes","Yes","Yes","Yes","Yes","Yes","Yes","Yes","Yes","Yes","Yes","Yes","Yes","Yes","Yes","Yes","Yes","Yes","Yes","Yes","Yes","Yes","Yes","Yes","Yes","Yes","Yes","Yes","Yes","Yes","Yes","Yes","Yes","Yes","Yes","Yes","Yes","Yes","Yes","Yes","Yes","Yes","Yes","Yes","Yes","Yes","Yes","Yes","Yes","Yes","Yes","Yes","Yes","Yes","Yes","Yes","Yes","Yes","Yes","Yes","Yes","Yes","Yes","Yes","Yes","Yes","Yes","Yes","Yes","Yes","Yes","Yes","Yes","Yes","Yes","Yes","Yes","Yes","Yes","Yes","Yes","Yes","Yes","Yes","Yes","Yes","Yes","Yes","Yes","Yes","Yes","Yes","Yes","Yes","Yes","Yes","Yes","Yes","Yes","Yes","Yes","Yes","Yes","Yes","Yes","Yes","Yes","Yes","Yes","Yes","Yes","Yes","Yes","Yes","Yes","Yes","Yes","Yes","Yes","Yes","Yes","Yes","Yes","Yes","Yes","Yes","Yes","Yes","Yes","Yes","Yes","Yes","Yes","Yes","Yes","Yes","Yes","Yes","Yes","Yes","Yes","Yes","Yes","Yes","Yes","Yes","Yes","Yes","Yes","Yes","Yes","Yes","Yes","Yes","Yes","Yes","Yes","Yes","Yes","Yes","Yes","Yes","Yes","Yes","Yes","Yes","Yes","Yes","Yes","Yes","Yes","Yes","Yes","Yes","Yes","Yes","Yes","Yes","Yes","Yes","Yes","Yes","Yes","Yes","Yes","Yes","Yes","Yes","Yes","Yes","Yes","Yes","Yes","Yes","Yes","Yes","Yes","Yes","Yes","Yes","Yes","Yes","Yes","Yes","Yes","Yes","Yes","Yes","Yes","Yes","Yes","Yes","Yes","Yes","Yes","Yes","Yes","Yes","Yes","Yes","Yes","Yes","Yes","Yes","Yes","Yes","Yes","Yes","Yes","Yes","Yes","Yes","Yes","Yes","Yes","Yes","Yes","Yes","Yes","Yes","Yes","Yes","Yes","Yes","Yes","Yes","Yes","Yes","Yes","Yes","Yes","Yes","Yes","Yes","Yes","Yes","Yes","Yes","Yes","Yes","Yes","Yes","Yes","Yes","Yes","Yes","Yes","Yes","Yes","Yes","Yes","Yes","Yes","Yes","Yes","Yes","Yes","Yes","Yes","Yes","Yes","Yes","Yes","Yes","Yes","Yes","Yes","Yes","Yes","Yes","Yes","Yes","Yes","Yes","Yes","Yes","Yes","Yes","Yes","Yes","Yes"]
[]
["   Hours - Payroll period inclusive of June 30, 2020"]
["   Employed - Payroll period inclusive of June 30, 2020",null,"Yes","Yes","Yes","Yes","Yes","Yes","Yes","Yes","Yes","Yes","Yes","Yes","Yes","Yes","Yes","Yes","Yes","Yes","Yes","Yes","Yes","Yes","Yes","Yes","Yes","Yes","Yes","Yes","Yes","Yes","Yes","Yes","Yes","Yes","Yes","Yes","Yes","Yes","Yes","Yes","Yes","Yes","Yes","Yes","Yes","Yes","Yes","Yes","Yes","Yes","Yes","Yes","Yes","Yes","Yes","Yes","Yes","Yes","Yes","Yes","Yes","Yes","Yes","Yes","Yes","Yes","Yes","Yes","Yes","Yes","Yes","Yes","Yes","Yes","Yes","Yes","Yes","Yes","Yes","Yes","Yes","Yes","Yes","Yes","Yes","Yes","Yes","Yes","Yes","Yes","Yes","Yes","Yes","Yes","Yes","Yes","Yes","Yes","Yes","Yes","Yes","Yes","Yes","Yes","Yes","Yes","Yes","Yes","Yes","Yes","Yes","Yes","Yes","Yes","Yes","Yes","Yes","Yes","Yes","Yes","Yes","Yes","Yes","Yes","Yes","Yes","Yes","Yes","Yes","Yes","Yes","Yes","Yes","Yes","Yes","Yes","Yes","Yes","Yes","Yes","Yes","Yes","Yes","Yes","Yes","Yes","Yes","Yes","Yes","Yes","Yes","Yes","Yes","Yes","Yes","Yes","Yes","Yes","Yes","Yes","Yes","Yes","Yes","Yes","Yes","Yes","Yes","Yes","Yes","Yes","Yes","Yes","Yes","Yes","Yes","Yes","Yes","Yes","Yes","Yes","Yes","Yes","Yes","Yes","Yes","Yes","Yes","Yes","Yes","Yes","Yes","Yes","Yes","Yes","Yes","Yes","Yes","Yes","Yes","Yes","Yes","Yes","Yes","Yes","Yes","Yes","Yes","Yes","Yes","Yes","Yes","Yes","Yes","Yes","Yes","Yes","Yes","Yes","Yes","Yes","Yes","Yes","Yes","Yes","Yes","Yes","Yes","Yes","Yes","Yes","Yes","Yes","Yes","Yes","Yes","Yes","Yes","Yes","Yes","Yes","Yes","Yes","Yes","Yes","Yes","Yes","Yes","Yes","Yes","Yes","Yes","Yes","Yes","Yes","Yes","Yes","Yes","Yes","Yes","Yes","Yes","Yes","Yes","Yes","Yes","Yes","Yes","Yes","Yes","Yes","Yes","Yes","Yes","Yes","Yes","Yes","Yes","Yes","Yes","Yes","Yes","Yes","Yes","Yes","Yes","Yes","Yes","Yes","Yes","Yes","Yes","Yes","Yes","Yes","Yes","Yes","Yes","Yes","Yes","Yes","Yes","Yes","Yes","Yes","Yes","Yes","Yes","Yes","Yes","Yes","Yes","Yes","Yes","Yes","Yes","Yes","Yes","Yes","Yes","Yes","Yes","Yes","Yes","Yes","Yes","Yes","Yes","Yes","Yes","Yes","Yes","Yes","Yes","Yes","Yes","Yes","Yes","Yes","Yes","Yes","Yes","Yes","Yes","Yes","Yes","Yes","Yes","Yes","Yes","Yes","Yes","Yes","Yes","Yes","Yes","Yes","Yes","Yes","Yes","Yes","Yes","Yes","Yes","Yes","Yes","Yes","Yes","Yes","Yes","Yes","Yes","Yes","Yes","Yes","Yes","Yes","Yes","Yes","Yes","Yes","Yes","Yes","Yes","Yes","Yes","Yes","Yes","Yes","Yes","Yes","Yes","Yes","Yes","Yes","Yes","Yes","Yes","Yes","Yes","Yes","Yes","Yes","Yes","Yes","Yes","Yes","Yes","Yes","Yes","Yes","Yes","Yes","Yes","Yes","Yes","Yes","Yes","Yes","Yes","Yes","Yes","Yes","Yes","Yes","Yes","Yes","Yes","Yes","Yes","Yes","Yes","Yes","Yes","Yes","Yes","Yes","Yes","Yes","Yes","Yes","Yes","Yes","Yes","Yes","Yes","Yes","Yes","Yes","Yes","Yes","Yes","Yes","Yes","Yes","Yes","Yes","Yes","Yes","Yes","Yes","Yes","Yes","Yes","Yes","Yes","Yes","Yes","Yes","Yes","Yes","Yes","Yes","Yes","Yes","Yes","Yes","Yes","Yes","Yes","Yes","Yes","Yes","Yes","Yes","Yes","Yes","Yes","Yes","Yes","Yes","Yes","Yes","Yes","Yes","Yes","Yes","Yes","Yes","Yes","Yes"]
[]
[]
["COMPENSATION DATA"]
[]
["Compensation during 8 week PPP loan period"]
["  Period 1 (enter date)"]
["  Period 2 (enter date)"]
["  Period 3 (enter date)"]
["  Period 4 (enter date)"]
["  Period 5 (enter date)"]
["  Period 6 (enter date)"]
["  Period 7 (enter date)"]
["  Period 8 (enter date)"]
["  Additional period if necessary"]
["  Additional period if necessary"]
[]
[]
["Maximum Compensation for the 8 Week Covered Period",null,{"$f":"100000/52*8","v":15384.615384615385},{"$f":"100000/52*8","v":15384.615384615385},15384.615384615385,15384.615384615385,15384.615384615385,15384.615384615385,15384.615384615385,15384.615384615385,15384.615384615385,15384.615384615385,15384.615384615385,15384.615384615385,15384.615384615385,15384.615384615385,15384.615384615385,15384.615384615385,15384.615384615385,15384.615384615385,15384.615384615385,15384.615384615385,15384.615384615385,15384.615384615385,15384.615384615385,15384.615384615385,15384.615384615385,15384.615384615385,15384.615384615385,15384.615384615385,15384.615384615385,15384.615384615385,15384.615384615385,15384.615384615385,15384.615384615385,15384.615384615385,15384.615384615385,15384.615384615385,15384.615384615385,15384.615384615385,15384.615384615385,15384.615384615385,15384.615384615385,15384.615384615385,15384.615384615385,15384.615384615385,15384.615384615385,15384.615384615385,15384.615384615385,15384.615384615385,15384.615384615385,15384.615384615385,15384.615384615385,15384.615384615385,15384.615384615385,15384.615384615385,15384.615384615385,15384.615384615385,15384.615384615385,15384.615384615385,15384.615384615385,15384.615384615385,15384.615384615385,15384.615384615385,15384.615384615385,15384.615384615385,15384.615384615385,{"$f":"100000/52*8","v":15384.615384615385},15384.615384615385,15384.615384615385,15384.615384615385,15384.615384615385,15384.615384615385,15384.615384615385,15384.615384615385,15384.615384615385,15384.615384615385,15384.615384615385,15384.615384615385,15384.615384615385,15384.615384615385,15384.615384615385,15384.615384615385,15384.615384615385,15384.615384615385,15384.615384615385,15384.615384615385,15384.615384615385,15384.615384615385,15384.615384615385,15384.615384615385,15384.615384615385,15384.615384615385,15384.615384615385,15384.615384615385,15384.615384615385,15384.615384615385,15384.615384615385,15384.615384615385,15384.615384615385,15384.615384615385,15384.615384615385,15384.615384615385,15384.615384615385,15384.615384615385,15384.615384615385,15384.615384615385,15384.615384615385,15384.615384615385,15384.615384615385,15384.615384615385,15384.615384615385,15384.615384615385,15384.615384615385,15384.615384615385,15384.615384615385,15384.615384615385,15384.615384615385,15384.615384615385,15384.615384615385,15384.615384615385,15384.615384615385,15384.615384615385,15384.615384615385,15384.615384615385,15384.615384615385,15384.615384615385,15384.615384615385,15384.615384615385,15384.615384615385,15384.615384615385,{"$f":"100000/52*8","v":15384.615384615385},15384.615384615385,15384.615384615385,15384.615384615385,15384.615384615385,15384.615384615385,15384.615384615385,15384.615384615385,15384.615384615385,15384.615384615385,15384.615384615385,15384.615384615385,15384.615384615385,15384.615384615385,15384.615384615385,15384.615384615385,15384.615384615385,15384.615384615385,15384.615384615385,15384.615384615385,15384.615384615385,15384.615384615385,15384.615384615385,15384.615384615385,15384.615384615385,15384.615384615385,15384.615384615385,15384.615384615385,15384.615384615385,15384.615384615385,15384.615384615385,15384.615384615385,15384.615384615385,15384.615384615385,15384.615384615385,15384.615384615385,15384.615384615385,15384.615384615385,15384.615384615385,15384.615384615385,15384.615384615385,15384.615384615385,15384.615384615385,15384.615384615385,15384.615384615385,15384.615384615385,15384.615384615385,15384.615384615385,15384.615384615385,15384.615384615385,15384.615384615385,15384.615384615385,15384.615384615385,15384.615384615385,15384.615384615385,15384.615384615385,15384.615384615385,15384.615384615385,15384.615384615385,15384.615384615385,15384.615384615385,15384.615384615385,15384.615384615385,15384.615384615385,{"$f":"100000/52*8","v":15384.615384615385},15384.615384615385,15384.615384615385,15384.615384615385,15384.615384615385,15384.615384615385,15384.615384615385,15384.615384615385,15384.615384615385,15384.615384615385,15384.615384615385,15384.615384615385,15384.615384615385,15384.615384615385,15384.615384615385,15384.615384615385,15384.615384615385,15384.615384615385,15384.615384615385,15384.615384615385,15384.615384615385,15384.615384615385,15384.615384615385,15384.615384615385,15384.615384615385,15384.615384615385,15384.615384615385,15384.615384615385,15384.615384615385,15384.615384615385,15384.615384615385,15384.615384615385,15384.615384615385,15384.615384615385,15384.615384615385,15384.615384615385,15384.615384615385,15384.615384615385,15384.615384615385,15384.615384615385,15384.615384615385,15384.615384615385,15384.615384615385,15384.615384615385,15384.615384615385,15384.615384615385,15384.615384615385,15384.615384615385,15384.615384615385,15384.615384615385,15384.615384615385,15384.615384615385,15384.615384615385,15384.615384615385,15384.615384615385,15384.615384615385,15384.615384615385,15384.615384615385,15384.615384615385,15384.615384615385,15384.615384615385,15384.615384615385,15384.615384615385,15384.615384615385,{"$f":"100000/52*8","v":15384.615384615385},15384.615384615385,15384.615384615385,15384.615384615385,15384.615384615385,15384.615384615385,15384.615384615385,15384.615384615385,15384.615384615385,15384.615384615385,15384.615384615385,15384.615384615385,15384.615384615385,15384.615384615385,15384.615384615385,15384.615384615385,15384.615384615385,15384.615384615385,15384.615384615385,15384.615384615385,15384.615384615385,15384.615384615385,15384.615384615385,15384.615384615385,15384.615384615385,15384.615384615385,15384.615384615385,15384.615384615385,15384.615384615385,15384.615384615385,15384.615384615385,15384.615384615385,15384.615384615385,15384.615384615385,15384.615384615385,15384.615384615385,15384.615384615385,15384.615384615385,15384.615384615385,15384.615384615385,15384.615384615385,15384.615384615385,15384.615384615385,15384.615384615385,15384.615384615385,15384.615384615385,15384.615384615385,15384.615384615385,15384.615384615385,15384.615384615385,15384.615384615385,15384.615384615385,15384.615384615385,15384.615384615385,15384.615384615385,15384.615384615385,15384.615384615385,15384.615384615385,15384.615384615385,15384.615384615385,15384.615384615385,15384.615384615385,15384.615384615385,15384.615384615385,{"$f":"100000/52*8","v":15384.615384615385},15384.615384615385,15384.615384615385,15384.615384615385,15384.615384615385,15384.615384615385,15384.615384615385,15384.615384615385,15384.615384615385,15384.615384615385,15384.615384615385,15384.615384615385,15384.615384615385,15384.615384615385,15384.615384615385,15384.615384615385,15384.615384615385,15384.615384615385,15384.615384615385,15384.615384615385,15384.615384615385,15384.615384615385,15384.615384615385,15384.615384615385,15384.615384615385,15384.615384615385,15384.615384615385,15384.615384615385,15384.615384615385,15384.615384615385,15384.615384615385,15384.615384615385,15384.615384615385,15384.615384615385,15384.615384615385,15384.615384615385,15384.615384615385,15384.615384615385,15384.615384615385,15384.615384615385,15384.615384615385,15384.615384615385,15384.615384615385,15384.615384615385,15384.615384615385,15384.615384615385,15384.615384615385,15384.615384615385,15384.615384615385,15384.615384615385,15384.615384615385,15384.615384615385,15384.615384615385,15384.615384615385,15384.615384615385,15384.615384615385,15384.615384615385,15384.615384615385,15384.615384615385,15384.615384615385,15384.615384615385,15384.615384615385,15384.615384615385,15384.615384615385,{"$f":"100000/52*8","v":15384.615384615385},15384.615384615385,15384.615384615385,15384.615384615385,15384.615384615385,15384.615384615385,15384.615384615385,15384.615384615385,15384.615384615385,15384.615384615385,15384.615384615385,15384.615384615385,15384.615384615385,15384.615384615385,15384.615384615385,15384.615384615385,15384.615384615385,15384.615384615385,15384.615384615385,15384.615384615385,15384.615384615385,15384.615384615385,15384.615384615385,15384.615384615385,15384.615384615385,15384.615384615385,15384.615384615385,15384.615384615385,15384.615384615385,15384.615384615385,15384.615384615385,15384.615384615385,15384.615384615385,15384.615384615385,15384.615384615385,15384.615384615385,15384.615384615385,15384.615384615385,15384.615384615385,15384.615384615385,15384.615384615385,15384.615384615385,15384.615384615385,15384.615384615385,15384.615384615385,15384.615384615385,15384.615384615385,15384.615384615385,15384.615384615385,15384.615384615385,15384.615384615385,15384.615384615385,15384.615384615385,15384.615384615385,15384.615384615385,15384.615384615385,15384.615384615385,15384.615384615385,15384.615384615385,15384.615384615385,15384.615384615385,15384.615384615385,15384.615384615385,15384.615384615385,{"$f":"100000/52*8","v":15384.615384615385},15384.615384615385,15384.615384615385,15384.615384615385,15384.615384615385,15384.615384615385,15384.615384615385,15384.615384615385,15384.615384615385,15384.615384615385,15384.615384615385,15384.615384615385,15384.615384615385,15384.615384615385,15384.615384615385,15384.615384615385,15384.615384615385,15384.615384615385,15384.615384615385,15384.615384615385,15384.615384615385,15384.615384615385,15384.615384615385,15384.615384615385,15384.615384615385,15384.615384615385,15384.615384615385,15384.615384615385,15384.615384615385,15384.615384615385,15384.615384615385,15384.615384615385,15384.615384615385,15384.615384615385,15384.615384615385,15384.615384615385,15384.615384615385,15384.615384615385,15384.615384615385,15384.615384615385,15384.615384615385,15384.615384615385,15384.615384615385,15384.615384615385,15384.615384615385,15384.615384615385,15384.615384615385,15384.615384615385,15384.615384615385,15384.615384615385,15384.615384615385]
[]
["Entered compensation or $100K equivalent, whichever is less",null,{"$f":"MIN(#REF!,C66)","v":{"$error":"#REF!"}},{"$f":"MIN(#REF!,D66)","v":{"$error":"#REF!"}},{"$f":"MIN(#REF!,E66)","v":{"$error":"#REF!"}},{"$f":"MIN(#REF!,F66)","v":{"$error":"#REF!"}},{"$f":"MIN(#REF!,G66)","v":{"$error":"#REF!"}},{"$f":"MIN(#REF!,H66)","v":{"$error":"#REF!"}},{"$f":"MIN(#REF!,I66)","v":{"$error":"#REF!"}},{"$f":"MIN(#REF!,J66)","v":{"$error":"#REF!"}},{"$f":"MIN(#REF!,K66)","v":{"$error":"#REF!"}},{"$f":"MIN(#REF!,L66)","v":{"$error":"#REF!"}},{"$f":"MIN(#REF!,M66)","v":{"$error":"#REF!"}},{"$f":"MIN(#REF!,N66)","v":{"$error":"#REF!"}},{"$f":"MIN(#REF!,O66)","v":{"$error":"#REF!"}},{"$f":"MIN(#REF!,P66)","v":{"$error":"#REF!"}},{"$f":"MIN(#REF!,Q66)","v":{"$error":"#REF!"}},{"$f":"MIN(#REF!,R66)","v":{"$error":"#REF!"}},{"$f":"MIN(#REF!,S66)","v":{"$error":"#REF!"}},{"$f":"MIN(#REF!,T66)","v":{"$error":"#REF!"}},{"$f":"MIN(#REF!,U66)","v":{"$error":"#REF!"}},{"$f":"MIN(#REF!,V66)","v":{"$error":"#REF!"}},{"$f":"MIN(#REF!,W66)","v":{"$error":"#REF!"}},{"$f":"MIN(#REF!,X66)","v":{"$error":"#REF!"}},{"$f":"MIN(#REF!,Y66)","v":{"$error":"#REF!"}},{"$f":"MIN(#REF!,Z66)","v":{"$error":"#REF!"}},{"$f":"MIN(#REF!,AA66)","v":{"$error":"#REF!"}},{"$f":"MIN(#REF!,AB66)","v":{"$error":"#REF!"}},{"$f":"MIN(#REF!,AC66)","v":{"$error":"#REF!"}},{"$f":"MIN(#REF!,AD66)","v":{"$error":"#REF!"}},{"$f":"MIN(#REF!,AE66)","v":{"$error":"#REF!"}},{"$f":"MIN(#REF!,AF66)","v":{"$error":"#REF!"}},{"$f":"MIN(#REF!,AG66)","v":{"$error":"#REF!"}},{"$f":"MIN(#REF!,AH66)","v":{"$error":"#REF!"}},{"$f":"MIN(#REF!,AI66)","v":{"$error":"#REF!"}},{"$f":"MIN(#REF!,AJ66)","v":{"$error":"#REF!"}},{"$f":"MIN(#REF!,AK66)","v":{"$error":"#REF!"}},{"$f":"MIN(#REF!,AL66)","v":{"$error":"#REF!"}},{"$f":"MIN(#REF!,AM66)","v":{"$error":"#REF!"}},{"$f":"MIN(#REF!,AN66)","v":{"$error":"#REF!"}},{"$f":"MIN(#REF!,AO66)","v":{"$error":"#REF!"}},{"$f":"MIN(#REF!,AP66)","v":{"$error":"#REF!"}},{"$f":"MIN(#REF!,AQ66)","v":{"$error":"#REF!"}},{"$f":"MIN(#REF!,AR66)","v":{"$error":"#REF!"}},{"$f":"MIN(#REF!,AS66)","v":{"$error":"#REF!"}},{"$f":"MIN(#REF!,AT66)","v":{"$error":"#REF!"}},{"$f":"MIN(#REF!,AU66)","v":{"$error":"#REF!"}},{"$f":"MIN(#REF!,AV66)","v":{"$error":"#REF!"}},{"$f":"MIN(#REF!,AW66)","v":{"$error":"#REF!"}},{"$f":"MIN(#REF!,AX66)","v":{"$error":"#REF!"}},{"$f":"MIN(#REF!,AY66)","v":{"$error":"#REF!"}},{"$f":"MIN(#REF!,AZ66)","v":{"$error":"#REF!"}},{"$f":"MIN(#REF!,BA66)","v":{"$error":"#REF!"}},{"$f":"MIN(#REF!,BB66)","v":{"$error":"#REF!"}},{"$f":"MIN(#REF!,BC66)","v":{"$error":"#REF!"}},{"$f":"MIN(#REF!,BD66)","v":{"$error":"#REF!"}},{"$f":"MIN(#REF!,BE66)","v":{"$error":"#REF!"}},{"$f":"MIN(#REF!,BF66)","v":{"$error":"#REF!"}},{"$f":"MIN(#REF!,BG66)","v":{"$error":"#REF!"}},{"$f":"MIN(#REF!,BH66)","v":{"$error":"#REF!"}},{"$f":"MIN(#REF!,BI66)","v":{"$error":"#REF!"}},{"$f":"MIN(#REF!,BJ66)","v":{"$error":"#REF!"}},{"$f":"MIN(#REF!,BK66)","v":{"$error":"#REF!"}},{"$f":"MIN(#REF!,BL66)","v":{"$error":"#REF!"}},{"$f":"MIN(#REF!,BM66)","v":{"$error":"#REF!"}},{"$f":"MIN(#REF!,BN66)","v":{"$error":"#REF!"}},{"$f":"MIN(#REF!,BO66)","v":{"$error":"#REF!"}},{"$f":"MIN(#REF!,BP66)","v":{"$error":"#REF!"}},{"$f":"MIN(#REF!,BQ66)","v":{"$error":"#REF!"}},{"$f":"MIN(#REF!,BR66)","v":{"$error":"#REF!"}},{"$f":"MIN(#REF!,BS66)","v":{"$error":"#REF!"}},{"$f":"MIN(#REF!,BT66)","v":{"$error":"#REF!"}},{"$f":"MIN(#REF!,BU66)","v":{"$error":"#REF!"}},{"$f":"MIN(#REF!,BV66)","v":{"$error":"#REF!"}},{"$f":"MIN(#REF!,BW66)","v":{"$error":"#REF!"}},{"$f":"MIN(#REF!,BX66)","v":{"$error":"#REF!"}},{"$f":"MIN(#REF!,BY66)","v":{"$error":"#REF!"}},{"$f":"MIN(#REF!,BZ66)","v":{"$error":"#REF!"}},{"$f":"MIN(#REF!,CA66)","v":{"$error":"#REF!"}},{"$f":"MIN(#REF!,CB66)","v":{"$error":"#REF!"}},{"$f":"MIN(#REF!,CC66)","v":{"$error":"#REF!"}},{"$f":"MIN(#REF!,CD66)","v":{"$error":"#REF!"}},{"$f":"MIN(#REF!,CE66)","v":{"$error":"#REF!"}},{"$f":"MIN(#REF!,CF66)","v":{"$error":"#REF!"}},{"$f":"MIN(#REF!,CG66)","v":{"$error":"#REF!"}},{"$f":"MIN(#REF!,CH66)","v":{"$error":"#REF!"}},{"$f":"MIN(#REF!,CI66)","v":{"$error":"#REF!"}},{"$f":"MIN(#REF!,CJ66)","v":{"$error":"#REF!"}},{"$f":"MIN(#REF!,CK66)","v":{"$error":"#REF!"}},{"$f":"MIN(#REF!,CL66)","v":{"$error":"#REF!"}},{"$f":"MIN(#REF!,CM66)","v":{"$error":"#REF!"}},{"$f":"MIN(#REF!,CN66)","v":{"$error":"#REF!"}},{"$f":"MIN(#REF!,CO66)","v":{"$error":"#REF!"}},{"$f":"MIN(#REF!,CP66)","v":{"$error":"#REF!"}},{"$f":"MIN(#REF!,CQ66)","v":{"$error":"#REF!"}},{"$f":"MIN(#REF!,CR66)","v":{"$error":"#REF!"}},{"$f":"MIN(#REF!,CS66)","v":{"$error":"#REF!"}},{"$f":"MIN(#REF!,CT66)","v":{"$error":"#REF!"}},{"$f":"MIN(#REF!,CU66)","v":{"$error":"#REF!"}},{"$f":"MIN(#REF!,CV66)","v":{"$error":"#REF!"}},{"$f":"MIN(#REF!,CW66)","v":{"$error":"#REF!"}},{"$f":"MIN(#REF!,CX66)","v":{"$error":"#REF!"}},{"$f":"MIN(#REF!,CY66)","v":{"$error":"#REF!"}},{"$f":"MIN(#REF!,CZ66)","v":{"$error":"#REF!"}},{"$f":"MIN(#REF!,DA66)","v":{"$error":"#REF!"}},{"$f":"MIN(#REF!,DB66)","v":{"$error":"#REF!"}},{"$f":"MIN(#REF!,DC66)","v":{"$error":"#REF!"}},{"$f":"MIN(#REF!,DD66)","v":{"$error":"#REF!"}},{"$f":"MIN(#REF!,DE66)","v":{"$error":"#REF!"}},{"$f":"MIN(#REF!,DF66)","v":{"$error":"#REF!"}},{"$f":"MIN(#REF!,DG66)","v":{"$error":"#REF!"}},{"$f":"MIN(#REF!,DH66)","v":{"$error":"#REF!"}},{"$f":"MIN(#REF!,DI66)","v":{"$error":"#REF!"}},{"$f":"MIN(#REF!,DJ66)","v":{"$error":"#REF!"}},{"$f":"MIN(#REF!,DK66)","v":{"$error":"#REF!"}},{"$f":"MIN(#REF!,DL66)","v":{"$error":"#REF!"}},{"$f":"MIN(#REF!,DM66)","v":{"$error":"#REF!"}},{"$f":"MIN(#REF!,DN66)","v":{"$error":"#REF!"}},{"$f":"MIN(#REF!,DO66)","v":{"$error":"#REF!"}},{"$f":"MIN(#REF!,DP66)","v":{"$error":"#REF!"}},{"$f":"MIN(#REF!,DQ66)","v":{"$error":"#REF!"}},{"$f":"MIN(#REF!,DR66)","v":{"$error":"#REF!"}},{"$f":"MIN(#REF!,DS66)","v":{"$error":"#REF!"}},{"$f":"MIN(#REF!,DT66)","v":{"$error":"#REF!"}},{"$f":"MIN(#REF!,DU66)","v":{"$error":"#REF!"}},{"$f":"MIN(#REF!,DV66)","v":{"$error":"#REF!"}},{"$f":"MIN(#REF!,DW66)","v":{"$error":"#REF!"}},{"$f":"MIN(#REF!,DX66)","v":{"$error":"#REF!"}},{"$f":"MIN(#REF!,DY66)","v":{"$error":"#REF!"}},{"$f":"MIN(#REF!,DZ66)","v":{"$error":"#REF!"}},{"$f":"MIN(#REF!,EA66)","v":{"$error":"#REF!"}},{"$f":"MIN(#REF!,EB66)","v":{"$error":"#REF!"}},{"$f":"MIN(#REF!,EC66)","v":{"$error":"#REF!"}},{"$f":"MIN(#REF!,ED66)","v":{"$error":"#REF!"}},{"$f":"MIN(#REF!,EE66)","v":{"$error":"#REF!"}},{"$f":"MIN(#REF!,EF66)","v":{"$error":"#REF!"}},{"$f":"MIN(#REF!,EG66)","v":{"$error":"#REF!"}},{"$f":"MIN(#REF!,EH66)","v":{"$error":"#REF!"}},{"$f":"MIN(#REF!,EI66)","v":{"$error":"#REF!"}},{"$f":"MIN(#REF!,EJ66)","v":{"$error":"#REF!"}},{"$f":"MIN(#REF!,EK66)","v":{"$error":"#REF!"}},{"$f":"MIN(#REF!,EL66)","v":{"$error":"#REF!"}},{"$f":"MIN(#REF!,EM66)","v":{"$error":"#REF!"}},{"$f":"MIN(#REF!,EN66)","v":{"$error":"#REF!"}},{"$f":"MIN(#REF!,EO66)","v":{"$error":"#REF!"}},{"$f":"MIN(#REF!,EP66)","v":{"$error":"#REF!"}},{"$f":"MIN(#REF!,EQ66)","v":{"$error":"#REF!"}},{"$f":"MIN(#REF!,ER66)","v":{"$error":"#REF!"}},{"$f":"MIN(#REF!,ES66)","v":{"$error":"#REF!"}},{"$f":"MIN(#REF!,ET66)","v":{"$error":"#REF!"}},{"$f":"MIN(#REF!,EU66)","v":{"$error":"#REF!"}},{"$f":"MIN(#REF!,EV66)","v":{"$error":"#REF!"}},{"$f":"MIN(#REF!,EW66)","v":{"$error":"#REF!"}},{"$f":"MIN(#REF!,EX66)","v":{"$error":"#REF!"}},{"$f":"MIN(#REF!,EY66)","v":{"$error":"#REF!"}},{"$f":"MIN(#REF!,EZ66)","v":{"$error":"#REF!"}},{"$f":"MIN(#REF!,FA66)","v":{"$error":"#REF!"}},{"$f":"MIN(#REF!,FB66)","v":{"$error":"#REF!"}},{"$f":"MIN(#REF!,FC66)","v":{"$error":"#REF!"}},{"$f":"MIN(#REF!,FD66)","v":{"$error":"#REF!"}},{"$f":"MIN(#REF!,FE66)","v":{"$error":"#REF!"}},{"$f":"MIN(#REF!,FF66)","v":{"$error":"#REF!"}},{"$f":"MIN(#REF!,FG66)","v":{"$error":"#REF!"}},{"$f":"MIN(#REF!,FH66)","v":{"$error":"#REF!"}},{"$f":"MIN(#REF!,FI66)","v":{"$error":"#REF!"}},{"$f":"MIN(#REF!,FJ66)","v":{"$error":"#REF!"}},{"$f":"MIN(#REF!,FK66)","v":{"$error":"#REF!"}},{"$f":"MIN(#REF!,FL66)","v":{"$error":"#REF!"}},{"$f":"MIN(#REF!,FM66)","v":{"$error":"#REF!"}},{"$f":"MIN(#REF!,FN66)","v":{"$error":"#REF!"}},{"$f":"MIN(#REF!,FO66)","v":{"$error":"#REF!"}},{"$f":"MIN(#REF!,FP66)","v":{"$error":"#REF!"}},{"$f":"MIN(#REF!,FQ66)","v":{"$error":"#REF!"}},{"$f":"MIN(#REF!,FR66)","v":{"$error":"#REF!"}},{"$f":"MIN(#REF!,FS66)","v":{"$error":"#REF!"}},{"$f":"MIN(#REF!,FT66)","v":{"$error":"#REF!"}},{"$f":"MIN(#REF!,FU66)","v":{"$error":"#REF!"}},{"$f":"MIN(#REF!,FV66)","v":{"$error":"#REF!"}},{"$f":"MIN(#REF!,FW66)","v":{"$error":"#REF!"}},{"$f":"MIN(#REF!,FX66)","v":{"$error":"#REF!"}},{"$f":"MIN(#REF!,FY66)","v":{"$error":"#REF!"}},{"$f":"MIN(#REF!,FZ66)","v":{"$error":"#REF!"}},{"$f":"MIN(#REF!,GA66)","v":{"$error":"#REF!"}},{"$f":"MIN(#REF!,GB66)","v":{"$error":"#REF!"}},{"$f":"MIN(#REF!,GC66)","v":{"$error":"#REF!"}},{"$f":"MIN(#REF!,GD66)","v":{"$error":"#REF!"}},{"$f":"MIN(#REF!,GE66)","v":{"$error":"#REF!"}},{"$f":"MIN(#REF!,GF66)","v":{"$error":"#REF!"}},{"$f":"MIN(#REF!,GG66)","v":{"$error":"#REF!"}},{"$f":"MIN(#REF!,GH66)","v":{"$error":"#REF!"}},{"$f":"MIN(#REF!,GI66)","v":{"$error":"#REF!"}},{"$f":"MIN(#REF!,GJ66)","v":{"$error":"#REF!"}},{"$f":"MIN(#REF!,GK66)","v":{"$error":"#REF!"}},{"$f":"MIN(#REF!,GL66)","v":{"$error":"#REF!"}},{"$f":"MIN(#REF!,GM66)","v":{"$error":"#REF!"}},{"$f":"MIN(#REF!,GN66)","v":{"$error":"#REF!"}},{"$f":"MIN(#REF!,GO66)","v":{"$error":"#REF!"}},{"$f":"MIN(#REF!,GP66)","v":{"$error":"#REF!"}},{"$f":"MIN(#REF!,GQ66)","v":{"$error":"#REF!"}},{"$f":"MIN(#REF!,GR66)","v":{"$error":"#REF!"}},{"$f":"MIN(#REF!,GS66)","v":{"$error":"#REF!"}},{"$f":"MIN(#REF!,GT66)","v":{"$error":"#REF!"}},{"$f":"MIN(#REF!,GU66)","v":{"$error":"#REF!"}},{"$f":"MIN(#REF!,GV66)","v":{"$error":"#REF!"}},{"$f":"MIN(#REF!,GW66)","v":{"$error":"#REF!"}},{"$f":"MIN(#REF!,GX66)","v":{"$error":"#REF!"}},{"$f":"MIN(#REF!,GY66)","v":{"$error":"#REF!"}},{"$f":"MIN(#REF!,GZ66)","v":{"$error":"#REF!"}},{"$f":"MIN(#REF!,HA66)","v":{"$error":"#REF!"}},{"$f":"MIN(#REF!,HB66)","v":{"$error":"#REF!"}},{"$f":"MIN(#REF!,HC66)","v":{"$error":"#REF!"}},{"$f":"MIN(#REF!,HD66)","v":{"$error":"#REF!"}},{"$f":"MIN(#REF!,HE66)","v":{"$error":"#REF!"}},{"$f":"MIN(#REF!,HF66)","v":{"$error":"#REF!"}},{"$f":"MIN(#REF!,HG66)","v":{"$error":"#REF!"}},{"$f":"MIN(#REF!,HH66)","v":{"$error":"#REF!"}},{"$f":"MIN(#REF!,HI66)","v":{"$error":"#REF!"}},{"$f":"MIN(#REF!,HJ66)","v":{"$error":"#REF!"}},{"$f":"MIN(#REF!,HK66)","v":{"$error":"#REF!"}},{"$f":"MIN(#REF!,HL66)","v":{"$error":"#REF!"}},{"$f":"MIN(#REF!,HM66)","v":{"$error":"#REF!"}},{"$f":"MIN(#REF!,HN66)","v":{"$error":"#REF!"}},{"$f":"MIN(#REF!,HO66)","v":{"$error":"#REF!"}},{"$f":"MIN(#REF!,HP66)","v":{"$error":"#REF!"}},{"$f":"MIN(#REF!,HQ66)","v":{"$error":"#REF!"}},{"$f":"MIN(#REF!,HR66)","v":{"$error":"#REF!"}},{"$f":"MIN(#REF!,HS66)","v":{"$error":"#REF!"}},{"$f":"MIN(#REF!,HT66)","v":{"$error":"#REF!"}},{"$f":"MIN(#REF!,HU66)","v":{"$error":"#REF!"}},{"$f":"MIN(#REF!,HV66)","v":{"$error":"#REF!"}},{"$f":"MIN(#REF!,HW66)","v":{"$error":"#REF!"}},{"$f":"MIN(#REF!,HX66)","v":{"$error":"#REF!"}},{"$f":"MIN(#REF!,HY66)","v":{"$error":"#REF!"}},{"$f":"MIN(#REF!,HZ66)","v":{"$error":"#REF!"}},{"$f":"MIN(#REF!,IA66)","v":{"$error":"#REF!"}},{"$f":"MIN(#REF!,IB66)","v":{"$error":"#REF!"}},{"$f":"MIN(#REF!,IC66)","v":{"$error":"#REF!"}},{"$f":"MIN(#REF!,ID66)","v":{"$error":"#REF!"}},{"$f":"MIN(#REF!,IE66)","v":{"$error":"#REF!"}},{"$f":"MIN(#REF!,IF66)","v":{"$error":"#REF!"}},{"$f":"MIN(#REF!,IG66)","v":{"$error":"#REF!"}},{"$f":"MIN(#REF!,IH66)","v":{"$error":"#REF!"}},{"$f":"MIN(#REF!,II66)","v":{"$error":"#REF!"}},{"$f":"MIN(#REF!,IJ66)","v":{"$error":"#REF!"}},{"$f":"MIN(#REF!,IK66)","v":{"$error":"#REF!"}},{"$f":"MIN(#REF!,IL66)","v":{"$error":"#REF!"}},{"$f":"MIN(#REF!,IM66)","v":{"$error":"#REF!"}},{"$f":"MIN(#REF!,IN66)","v":{"$error":"#REF!"}},{"$f":"MIN(#REF!,IO66)","v":{"$error":"#REF!"}},{"$f":"MIN(#REF!,IP66)","v":{"$error":"#REF!"}},{"$f":"MIN(#REF!,IQ66)","v":{"$error":"#REF!"}},{"$f":"MIN(#REF!,IR66)","v":{"$error":"#REF!"}},{"$f":"MIN(#REF!,IS66)","v":{"$error":"#REF!"}},{"$f":"MIN(#REF!,IT66)","v":{"$error":"#REF!"}},{"$f":"MIN(#REF!,IU66)","v":{"$error":"#REF!"}},{"$f":"MIN(#REF!,IV66)","v":{"$error":"#REF!"}},{"$f":"MIN(#REF!,IW66)","v":{"$error":"#REF!"}},{"$f":"MIN(#REF!,IX66)","v":{"$error":"#REF!"}},{"$f":"MIN(#REF!,IY66)","v":{"$error":"#REF!"}},{"$f":"MIN(#REF!,IZ66)","v":{"$error":"#REF!"}},{"$f":"MIN(#REF!,JA66)","v":{"$error":"#REF!"}},{"$f":"MIN(#REF!,JB66)","v":{"$error":"#REF!"}},{"$f":"MIN(#REF!,JC66)","v":{"$error":"#REF!"}},{"$f":"MIN(#REF!,JD66)","v":{"$error":"#REF!"}},{"$f":"MIN(#REF!,JE66)","v":{"$error":"#REF!"}},{"$f":"MIN(#REF!,JF66)","v":{"$error":"#REF!"}},{"$f":"MIN(#REF!,JG66)","v":{"$error":"#REF!"}},{"$f":"MIN(#REF!,JH66)","v":{"$error":"#REF!"}},{"$f":"MIN(#REF!,JI66)","v":{"$error":"#REF!"}},{"$f":"MIN(#REF!,JJ66)","v":{"$error":"#REF!"}},{"$f":"MIN(#REF!,JK66)","v":{"$error":"#REF!"}},{"$f":"MIN(#REF!,JL66)","v":{"$error":"#REF!"}},{"$f":"MIN(#REF!,JM66)","v":{"$error":"#REF!"}},{"$f":"MIN(#REF!,JN66)","v":{"$error":"#REF!"}},{"$f":"MIN(#REF!,JO66)","v":{"$error":"#REF!"}},{"$f":"MIN(#REF!,JP66)","v":{"$error":"#REF!"}},{"$f":"MIN(#REF!,JQ66)","v":{"$error":"#REF!"}},{"$f":"MIN(#REF!,JR66)","v":{"$error":"#REF!"}},{"$f":"MIN(#REF!,JS66)","v":{"$error":"#REF!"}},{"$f":"MIN(#REF!,JT66)","v":{"$error":"#REF!"}},{"$f":"MIN(#REF!,JU66)","v":{"$error":"#REF!"}},{"$f":"MIN(#REF!,JV66)","v":{"$error":"#REF!"}},{"$f":"MIN(#REF!,JW66)","v":{"$error":"#REF!"}},{"$f":"MIN(#REF!,JX66)","v":{"$error":"#REF!"}},{"$f":"MIN(#REF!,JY66)","v":{"$error":"#REF!"}},{"$f":"MIN(#REF!,JZ66)","v":{"$error":"#REF!"}},{"$f":"MIN(#REF!,KA66)","v":{"$error":"#REF!"}},{"$f":"MIN(#REF!,KB66)","v":{"$error":"#REF!"}},{"$f":"MIN(#REF!,KC66)","v":{"$error":"#REF!"}},{"$f":"MIN(#REF!,KD66)","v":{"$error":"#REF!"}},{"$f":"MIN(#REF!,KE66)","v":{"$error":"#REF!"}},{"$f":"MIN(#REF!,KF66)","v":{"$error":"#REF!"}},{"$f":"MIN(#REF!,KG66)","v":{"$error":"#REF!"}},{"$f":"MIN(#REF!,KH66)","v":{"$error":"#REF!"}},{"$f":"MIN(#REF!,KI66)","v":{"$error":"#REF!"}},{"$f":"MIN(#REF!,KJ66)","v":{"$error":"#REF!"}},{"$f":"MIN(#REF!,KK66)","v":{"$error":"#REF!"}},{"$f":"MIN(#REF!,KL66)","v":{"$error":"#REF!"}},{"$f":"MIN(#REF!,KM66)","v":{"$error":"#REF!"}},{"$f":"MIN(#REF!,KN66)","v":{"$error":"#REF!"}},{"$f":"MIN(#REF!,KO66)","v":{"$error":"#REF!"}},{"$f":"MIN(#REF!,KP66)","v":{"$error":"#REF!"}},{"$f":"MIN(#REF!,KQ66)","v":{"$error":"#REF!"}},{"$f":"MIN(#REF!,KR66)","v":{"$error":"#REF!"}},{"$f":"MIN(#REF!,KS66)","v":{"$error":"#REF!"}},{"$f":"MIN(#REF!,KT66)","v":{"$error":"#REF!"}},{"$f":"MIN(#REF!,KU66)","v":{"$error":"#REF!"}},{"$f":"MIN(#REF!,KV66)","v":{"$error":"#REF!"}},{"$f":"MIN(#REF!,KW66)","v":{"$error":"#REF!"}},{"$f":"MIN(#REF!,KX66)","v":{"$error":"#REF!"}},{"$f":"MIN(#REF!,KY66)","v":{"$error":"#REF!"}},{"$f":"MIN(#REF!,KZ66)","v":{"$error":"#REF!"}},{"$f":"MIN(#REF!,LA66)","v":{"$error":"#REF!"}},{"$f":"MIN(#REF!,LB66)","v":{"$error":"#REF!"}},{"$f":"MIN(#REF!,LC66)","v":{"$error":"#REF!"}},{"$f":"MIN(#REF!,LD66)","v":{"$error":"#REF!"}},{"$f":"MIN(#REF!,LE66)","v":{"$error":"#REF!"}},{"$f":"MIN(#REF!,LF66)","v":{"$error":"#REF!"}},{"$f":"MIN(#REF!,LG66)","v":{"$error":"#REF!"}},{"$f":"MIN(#REF!,LH66)","v":{"$error":"#REF!"}},{"$f":"MIN(#REF!,LI66)","v":{"$error":"#REF!"}},{"$f":"MIN(#REF!,LJ66)","v":{"$error":"#REF!"}},{"$f":"MIN(#REF!,LK66)","v":{"$error":"#REF!"}},{"$f":"MIN(#REF!,LL66)","v":{"$error":"#REF!"}},{"$f":"MIN(#REF!,LM66)","v":{"$error":"#REF!"}},{"$f":"MIN(#REF!,LN66)","v":{"$error":"#REF!"}},{"$f":"MIN(#REF!,LO66)","v":{"$error":"#REF!"}},{"$f":"MIN(#REF!,LP66)","v":{"$error":"#REF!"}},{"$f":"MIN(#REF!,LQ66)","v":{"$error":"#REF!"}},{"$f":"MIN(#REF!,LR66)","v":{"$error":"#REF!"}},{"$f":"MIN(#REF!,LS66)","v":{"$error":"#REF!"}},{"$f":"MIN(#REF!,LT66)","v":{"$error":"#REF!"}},{"$f":"MIN(#REF!,LU66)","v":{"$error":"#REF!"}},{"$f":"MIN(#REF!,LV66)","v":{"$error":"#REF!"}},{"$f":"MIN(#REF!,LW66)","v":{"$error":"#REF!"}},{"$f":"MIN(#REF!,LX66)","v":{"$error":"#REF!"}},{"$f":"MIN(#REF!,LY66)","v":{"$error":"#REF!"}},{"$f":"MIN(#REF!,LZ66)","v":{"$error":"#REF!"}},{"$f":"MIN(#REF!,MA66)","v":{"$error":"#REF!"}},{"$f":"MIN(#REF!,MB66)","v":{"$error":"#REF!"}},{"$f":"MIN(#REF!,MC66)","v":{"$error":"#REF!"}},{"$f":"MIN(#REF!,MD66)","v":{"$error":"#REF!"}},{"$f":"MIN(#REF!,ME66)","v":{"$error":"#REF!"}},{"$f":"MIN(#REF!,MF66)","v":{"$error":"#REF!"}},{"$f":"MIN(#REF!,MG66)","v":{"$error":"#REF!"}},{"$f":"MIN(#REF!,MH66)","v":{"$error":"#REF!"}},{"$f":"MIN(#REF!,MI66)","v":{"$error":"#REF!"}},{"$f":"MIN(#REF!,MJ66)","v":{"$error":"#REF!"}},{"$f":"MIN(#REF!,MK66)","v":{"$error":"#REF!"}},{"$f":"MIN(#REF!,ML66)","v":{"$error":"#REF!"}},{"$f":"MIN(#REF!,MM66)","v":{"$error":"#REF!"}},{"$f":"MIN(#REF!,MN66)","v":{"$error":"#REF!"}},{"$f":"MIN(#REF!,MO66)","v":{"$error":"#REF!"}},{"$f":"MIN(#REF!,MP66)","v":{"$error":"#REF!"}},{"$f":"MIN(#REF!,MQ66)","v":{"$error":"#REF!"}},{"$f":"MIN(#REF!,MR66)","v":{"$error":"#REF!"}},{"$f":"MIN(#REF!,MS66)","v":{"$error":"#REF!"}},{"$f":"MIN(#REF!,MT66)","v":{"$error":"#REF!"}},{"$f":"MIN(#REF!,MU66)","v":{"$error":"#REF!"}},{"$f":"MIN(#REF!,MV66)","v":{"$error":"#REF!"}},{"$f":"MIN(#REF!,MW66)","v":{"$error":"#REF!"}},{"$f":"MIN(#REF!,MX66)","v":{"$error":"#REF!"}},{"$f":"MIN(#REF!,MY66)","v":{"$error":"#REF!"}},{"$f":"MIN(#REF!,MZ66)","v":{"$error":"#REF!"}},{"$f":"MIN(#REF!,NA66)","v":{"$error":"#REF!"}},{"$f":"MIN(#REF!,NB66)","v":{"$error":"#REF!"}},{"$f":"MIN(#REF!,NC66)","v":{"$error":"#REF!"}},{"$f":"MIN(#REF!,ND66)","v":{"$error":"#REF!"}},{"$f":"MIN(#REF!,NE66)","v":{"$error":"#REF!"}},{"$f":"MIN(#REF!,NF66)","v":{"$error":"#REF!"}},{"$f":"MIN(#REF!,NG66)","v":{"$error":"#REF!"}},{"$f":"MIN(#REF!,NH66)","v":{"$error":"#REF!"}},{"$f":"MIN(#REF!,NI66)","v":{"$error":"#REF!"}},{"$f":"MIN(#REF!,NJ66)","v":{"$error":"#REF!"}},{"$f":"MIN(#REF!,NK66)","v":{"$error":"#REF!"}},{"$f":"MIN(#REF!,NL66)","v":{"$error":"#REF!"}},{"$f":"MIN(#REF!,NM66)","v":{"$error":"#REF!"}},{"$f":"MIN(#REF!,NN66)","v":{"$error":"#REF!"}},{"$f":"MIN(#REF!,NO66)","v":{"$error":"#REF!"}},{"$f":"MIN(#REF!,NP66)","v":{"$error":"#REF!"}},{"$f":"MIN(#REF!,NQ66)","v":{"$error":"#REF!"}},{"$f":"MIN(#REF!,NR66)","v":{"$error":"#REF!"}},{"$f":"MIN(#REF!,NS66)","v":{"$error":"#REF!"}},{"$f":"MIN(#REF!,NT66)","v":{"$error":"#REF!"}},{"$f":"MIN(#REF!,NU66)","v":{"$error":"#REF!"}},{"$f":"MIN(#REF!,NV66)","v":{"$error":"#REF!"}},{"$f":"MIN(#REF!,NW66)","v":{"$error":"#REF!"}},{"$f":"MIN(#REF!,NX66)","v":{"$error":"#REF!"}},{"$f":"MIN(#REF!,NY66)","v":{"$error":"#REF!"}},{"$f":"MIN(#REF!,NZ66)","v":{"$error":"#REF!"}},{"$f":"MIN(#REF!,OA66)","v":{"$error":"#REF!"}},{"$f":"MIN(#REF!,OB66)","v":{"$error":"#REF!"}},{"$f":"MIN(#REF!,OC66)","v":{"$error":"#REF!"}},{"$f":"MIN(#REF!,OD66)","v":{"$error":"#REF!"}},{"$f":"MIN(#REF!,OE66)","v":{"$error":"#REF!"}},{"$f":"MIN(#REF!,OF66)","v":{"$error":"#REF!"}},{"$f":"MIN(#REF!,OG66)","v":{"$error":"#REF!"}},{"$f":"MIN(#REF!,OH66)","v":{"$error":"#REF!"}},{"$f":"MIN(#REF!,OI66)","v":{"$error":"#REF!"}},{"$f":"MIN(#REF!,OJ66)","v":{"$error":"#REF!"}},{"$f":"MIN(#REF!,OK66)","v":{"$error":"#REF!"}},{"$f":"MIN(#REF!,OL66)","v":{"$error":"#REF!"}},{"$f":"MIN(#REF!,OM66)","v":{"$error":"#REF!"}},{"$f":"MIN(#REF!,ON66)","v":{"$error":"#REF!"}},{"$f":"MIN(#REF!,OO66)","v":{"$error":"#REF!"}},{"$f":"MIN(#REF!,OP66)","v":{"$error":"#REF!"}},{"$f":"MIN(#REF!,OQ66)","v":{"$error":"#REF!"}},{"$f":"MIN(#REF!,OR66)","v":{"$error":"#REF!"}},{"$f":"MIN(#REF!,OS66)","v":{"$error":"#REF!"}},{"$f":"MIN(#REF!,OT66)","v":{"$error":"#REF!"}},{"$f":"MIN(#REF!,OU66)","v":{"$error":"#REF!"}},{"$f":"MIN(#REF!,OV66)","v":{"$error":"#REF!"}},{"$f":"MIN(#REF!,OW66)","v":{"$error":"#REF!"}},{"$f":"MIN(#REF!,OX66)","v":{"$error":"#REF!"}},{"$f":"MIN(#REF!,OY66)","v":{"$error":"#REF!"}},{"$f":"MIN(#REF!,OZ66)","v":{"$error":"#REF!"}},{"$f":"MIN(#REF!,PA66)","v":{"$error":"#REF!"}},{"$f":"MIN(#REF!,PB66)","v":{"$error":"#REF!"}},{"$f":"MIN(#REF!,PC66)","v":{"$error":"#REF!"}},{"$f":"MIN(#REF!,PD66)","v":{"$error":"#REF!"}},{"$f":"MIN(#REF!,PE66)","v":{"$error":"#REF!"}},{"$f":"MIN(#REF!,PF66)","v":{"$error":"#REF!"}},{"$f":"MIN(#REF!,PG66)","v":{"$error":"#REF!"}},{"$f":"MIN(#REF!,PH66)","v":{"$error":"#REF!"}},{"$f":"MIN(#REF!,PI66)","v":{"$error":"#REF!"}},{"$f":"MIN(#REF!,PJ66)","v":{"$error":"#REF!"}},{"$f":"MIN(#REF!,PK66)","v":{"$error":"#REF!"}},{"$f":"MIN(#REF!,PL66)","v":{"$error":"#REF!"}},{"$f":"MIN(#REF!,PM66)","v":{"$error":"#REF!"}},{"$f":"MIN(#REF!,PN66)","v":{"$error":"#REF!"}},{"$f":"MIN(#REF!,PO66)","v":{"$error":"#REF!"}},{"$f":"MIN(#REF!,PP66)","v":{"$error":"#REF!"}},{"$f":"MIN(#REF!,PQ66)","v":{"$error":"#REF!"}},{"$f":"MIN(#REF!,PR66)","v":{"$error":"#REF!"}},{"$f":"MIN(#REF!,PS66)","v":{"$error":"#REF!"}},{"$f":"MIN(#REF!,PT66)","v":{"$error":"#REF!"}},{"$f":"MIN(#REF!,PU66)","v":{"$error":"#REF!"}},{"$f":"MIN(#REF!,PV66)","v":{"$error":"#REF!"}},{"$f":"MIN(#REF!,PW66)","v":{"$error":"#REF!"}},{"$f":"MIN(#REF!,PX66)","v":{"$error":"#REF!"}},{"$f":"MIN(#REF!,PY66)","v":{"$error":"#REF!"}},{"$f":"MIN(#REF!,PZ66)","v":{"$error":"#REF!"}},{"$f":"MIN(#REF!,QA66)","v":{"$error":"#REF!"}},{"$f":"MIN(#REF!,QB66)","v":{"$error":"#REF!"}},{"$f":"MIN(#REF!,QC66)","v":{"$error":"#REF!"}},{"$f":"MIN(#REF!,QD66)","v":{"$error":"#REF!"}},{"$f":"MIN(#REF!,QE66)","v":{"$error":"#REF!"}},{"$f":"MIN(#REF!,QF66)","v":{"$error":"#REF!"}},{"$f":"MIN(#REF!,QG66)","v":{"$error":"#REF!"}},{"$f":"MIN(#REF!,QH66)","v":{"$error":"#REF!"}},{"$f":"MIN(#REF!,QI66)","v":{"$error":"#REF!"}},{"$f":"MIN(#REF!,QJ66)","v":{"$error":"#REF!"}},{"$f":"MIN(#REF!,QK66)","v":{"$error":"#REF!"}},{"$f":"MIN(#REF!,QL66)","v":{"$error":"#REF!"}},{"$f":"MIN(#REF!,QM66)","v":{"$error":"#REF!"}},{"$f":"MIN(#REF!,QN66)","v":{"$error":"#REF!"}},{"$f":"MIN(#REF!,QO66)","v":{"$error":"#REF!"}},{"$f":"MIN(#REF!,QP66)","v":{"$error":"#REF!"}},{"$f":"MIN(#REF!,QQ66)","v":{"$error":"#REF!"}},{"$f":"MIN(#REF!,QR66)","v":{"$error":"#REF!"}},{"$f":"MIN(#REF!,QS66)","v":{"$error":"#REF!"}},{"$f":"MIN(#REF!,QT66)","v":{"$error":"#REF!"}},{"$f":"MIN(#REF!,QU66)","v":{"$error":"#REF!"}},{"$f":"MIN(#REF!,QV66)","v":{"$error":"#REF!"}},{"$f":"MIN(#REF!,QW66)","v":{"$error":"#REF!"}},{"$f":"MIN(#REF!,QX66)","v":{"$error":"#REF!"}},{"$f":"MIN(#REF!,QY66)","v":{"$error":"#REF!"}},{"$f":"MIN(#REF!,QZ66)","v":{"$error":"#REF!"}},{"$f":"MIN(#REF!,RA66)","v":{"$error":"#REF!"}},{"$f":"MIN(#REF!,RB66)","v":{"$error":"#REF!"}},{"$f":"MIN(#REF!,RC66)","v":{"$error":"#REF!"}},{"$f":"MIN(#REF!,RD66)","v":{"$error":"#REF!"}},{"$f":"MIN(#REF!,RE66)","v":{"$error":"#REF!"}},{"$f":"MIN(#REF!,RF66)","v":{"$error":"#REF!"}},{"$f":"MIN(#REF!,RG66)","v":{"$error":"#REF!"}},{"$f":"MIN(#REF!,RH66)","v":{"$error":"#REF!"}},{"$f":"MIN(#REF!,RI66)","v":{"$error":"#REF!"}},{"$f":"MIN(#REF!,RJ66)","v":{"$error":"#REF!"}},{"$f":"MIN(#REF!,RK66)","v":{"$error":"#REF!"}},{"$f":"MIN(#REF!,RL66)","v":{"$error":"#REF!"}},{"$f":"MIN(#REF!,RM66)","v":{"$error":"#REF!"}},{"$f":"MIN(#REF!,RN66)","v":{"$error":"#REF!"}},{"$f":"MIN(#REF!,RO66)","v":{"$error":"#REF!"}},{"$f":"MIN(#REF!,RP66)","v":{"$error":"#REF!"}},{"$f":"MIN(#REF!,RQ66)","v":{"$error":"#REF!"}},{"$f":"MIN(#REF!,RR66)","v":{"$error":"#REF!"}},{"$f":"MIN(#REF!,RS66)","v":{"$error":"#REF!"}},{"$f":"MIN(#REF!,RT66)","v":{"$error":"#REF!"}},{"$f":"MIN(#REF!,RU66)","v":{"$error":"#REF!"}},{"$f":"MIN(#REF!,RV66)","v":{"$error":"#REF!"}},{"$f":"MIN(#REF!,RW66)","v":{"$error":"#REF!"}},{"$f":"MIN(#REF!,RX66)","v":{"$error":"#REF!"}},{"$f":"MIN(#REF!,RY66)","v":{"$error":"#REF!"}},{"$f":"MIN(#REF!,RZ66)","v":{"$error":"#REF!"}},{"$f":"MIN(#REF!,SA66)","v":{"$error":"#REF!"}},{"$f":"MIN(#REF!,SB66)","v":{"$error":"#REF!"}},{"$f":"MIN(#REF!,SC66)","v":{"$error":"#REF!"}},{"$f":"MIN(#REF!,SD66)","v":{"$error":"#REF!"}},{"$f":"MIN(#REF!,SE66)","v":{"$error":"#REF!"}},{"$f":"MIN(#REF!,SF66)","v":{"$error":"#REF!"}},{"$f":"MIN(#REF!,SG66)","v":{"$error":"#REF!"}},{"$f":"MIN(#REF!,SH66)","v":{"$error":"#REF!"}}]
[]
["Compensation of Full Quarter Prior To The Loan (ex - 1Q 2020)"]
["Total hours worked in 1Q 2020 (if hourly)"]
[]
[]
["Wages between 2/15/2020 - 4/26/2020"]
[]
["Annual salary/hourly wage as of February 15, 2020"]
["Annual salary/hourly wage between 2/15/2020 - 4/26/2020",null,{"$f":"IF(C41=\"\",0,IF(C15=\"Hourly\",C74/C41,C74))","v":0},0,0,0,0,0,0,0,0,0,0,0,0,0,0,0,0,0,0,0,0,0,0,0,0,0,0,0,0,0,0,0,0,0,0,0,0,0,0,0,0,0,0,0,0,0,0,0,0,0,0,0,0,0,0,0,0,0,0,0,0,0,0,0,{"$f":"IF(BO41=\"\",0,IF(BO15=\"Hourly\",BO74/BO41,BO74))","v":0},0,0,0,0,0,0,0,0,0,0,0,0,0,0,0,0,0,0,0,0,0,0,0,0,0,0,0,0,0,0,0,0,0,0,0,0,0,0,0,0,0,0,0,0,0,0,0,0,0,0,0,0,0,0,0,0,0,0,0,0,0,0,0,{"$f":"IF(EA41=\"\",0,IF(EA15=\"Hourly\",EA74/EA41,EA74))","v":0},0,0,0,0,0,0,0,0,0,0,0,0,0,0,0,0,0,0,0,0,0,0,0,0,0,0,0,0,0,0,0,0,0,0,0,0,0,0,0,0,0,0,0,0,0,0,0,0,0,0,0,0,0,0,0,0,0,0,0,0,0,0,0,{"$f":"IF(GM41=\"\",0,IF(GM15=\"Hourly\",GM74/GM41,GM74))","v":0},0,0,0,0,0,0,0,0,0,0,0,0,0,0,0,0,0,0,0,0,0,0,0,0,0,0,0,0,0,0,0,0,0,0,0,0,0,0,0,0,0,0,0,0,0,0,0,0,0,0,0,0,0,0,0,0,0,0,0,0,0,0,0,{"$f":"IF(IY41=\"\",0,IF(IY15=\"Hourly\",IY74/IY41,IY74))","v":0},0,0,0,0,0,0,0,0,0,0,0,0,0,0,0,0,0,0,0,0,0,0,0,0,0,0,0,0,0,0,0,0,0,0,0,0,0,0,0,0,0,0,0,0,0,0,0,0,0,0,0,0,0,0,0,0,0,0,0,0,0,0,0,{"$f":"IF(LK41=\"\",0,IF(LK15=\"Hourly\",LK74/LK41,LK74))","v":0},0,0,0,0,0,0,0,0,0,0,0,0,0,0,0,0,0,0,0,0,0,0,0,0,0,0,0,0,0,0,0,0,0,0,0,0,0,0,0,0,0,0,0,0,0,0,0,0,0,0,0,0,0,0,0,0,0,0,0,0,0,0,0,{"$f":"IF(NW41=\"\",0,IF(NW15=\"Hourly\",NW74/NW41,NW74))","v":0},0,0,0,0,0,0,0,0,0,0,0,0,0,0,0,0,0,0,0,0,0,0,0,0,0,0,0,0,0,0,0,0,0,0,0,0,0,0,0,0,0,0,0,0,0,0,0,0,0,0,0,0,0,0,0,0,0,0,0,0,0,0,0,{"$f":"IF(QI41=\"\",0,IF(QI15=\"Hourly\",QI74/QI41,QI74))","v":0},0,0,0,0,0,0,0,0,0,0,0,0,0,0,0,0,0,0,0,0,0,0,0,0,0,0,0,0,0,0,0,0,0,0,0,0,0,0,0,0,0,0,0,0,0,0,0,0,0,0,0]
[]
["Annual salary/hourly wage as of June 30, 2020"]
[]
[]
[]
["This workbook is provided by Sasserath & Zoraian, LLP and is intended solely for general informational and educational purposes. It is not intended in any way as financial, securities, insurance, tax or legal advice or services, or as a solicitation for any financial, securities, insurance, tax or legal product or service. Please consult with your financial, securities, insurance, tax and/or legal advisors for advice regarding your specific circumstances. The calculations herein are estimates based on our interpretation of the bill signed into law on March 27, 2020 under the CARES Act."]

{"sheet":"7 - Input sheet - Other Forgiva","index":9,"n_rows":34,"n_cols":11,"rows_kept":34,"cut":false,"hidden":false,"merged":[[7,3,7,10],[17,1,17,2]]}
["Paycheck Protection Program                                      Sasserath & Zoraian LLP"]
["Input sheet - Other Forgivable and Owner's Comp (631) 368-3110"]
["                                                                                              www.sz-cpas.com"]
[]
[]
[null,"PPP Loan Amount"]
[]
[null,null,null,"Period"]
[null,"Allowed expenses incurred and paid during the 8 week loan period:","Total",1,2,3,4,5,6,7,8]
[null,"   Total payroll per covered period",{"$f":"'4 - Payroll reduction'!E591","v":0}]
[null,"Paid to owner-employees/self-employed individual/general partners (limited to the lesser of 2019 or 2020 compensation not to exceed $15,385 per owner)",{"$f":"SUM(D11:K11)","v":0}]
[null,"   Health Insurance - Employer",0]
[null,"   State & Local Payroll tax - Employer",0]
[null,"   401(K) Match - Employer",0]
[null,"   Pension Plan - Employer",0]
[]
[null,"   Total Payroll Costs During the 8 Week Loan Period",{"$f":"SUM(C10:C15)","v":0},0,0,0,0,0,0,0,0]
[]
[null,"   Non-payroll related costs during the 8 week loan period"]
[null,"      Utilities"]
[null,"         Electricity",{"$f":"SUM(D21:K21)","v":0}]
[null,"         Gas",{"$f":"SUM(D22:K22)","v":0}]
[null,"         Water",{"$f":"SUM(D23:K23)","v":0}]
[null,"         Transportation",0]
[null,"         Telephone",0]
[null,"         Internet Access",0]
[null,"         Other Utilities",0]
[null,"      Rent",0]
[null,"      Interest on Debt Obligations",0]
[]
[null,"   Total Non-Payroll Costs During the 8 Week Loan Period",{"$f":"SUM(C21:C30)","v":0},{"$f":"SUM(D21:D30)","v":0},0,0,0,0,0,0,0]
[]
[]
[null,"This workbook is provided by Sasserath & Zoraian, LLP and is intended solely for general informational and educational purposes. It is not intended in any way as financial, securities, insurance, tax or legal advice or services, or as a solicitation for any financial, securities, insurance, tax or legal product or service. Please consult with your financial, securities, insurance, tax and/or legal advisors for advice regarding your specific circumstances. The calculations herein are estimates based on our interpretation of the bill signed into law on March 27, 2020 under the CARES Act."]

{"sheet":"7 - Forgiveness estimate-check","index":10,"n_rows":59,"n_cols":4,"rows_kept":59,"cut":false,"hidden":true,"merged":[[58,1,58,2]]}
["Paycheck Protection Program                                      Sasserath & Zoraian LLP"]
["Forgiveness Computation - Estimate                          (631) 368-3110"]
["                                                                                              www.sz-cpas.com"]
[]
[null,"FORGIVABLE BASE (maximum amount to be forgiven)"]
[null,"Amount of loan",50000]
[]
[null,"Allowed expenses incurred and paid during the 8 week loan period:"]
[null,"   Total payroll per covered period",{"$f":"'7 - Input sheet - Other Forgiva'!C10","v":0}]
[null,"   Health Insurance - Employer",{"$f":"'7 - Input sheet - Other Forgiva'!C12","v":0}]
[null,"   State & Local Payroll tax - Employer",{"$f":"'7 - Input sheet - Other Forgiva'!C13","v":0}]
[null,"   401(K) Match - Employer",{"$f":"'7 - Input sheet - Other Forgiva'!C14","v":0}]
[null,"   Pension Plan - Employer",{"$f":"'7 - Input sheet - Other Forgiva'!C15","v":0}]
[]
[null,"   Total Payroll Costs During the 8 Week Loan Period",{"$f":"SUM(C9:C13)","v":0}]
[]
[null,"   Non-payroll related costs during the 8 week loan period"]
[null,"      Utilities"]
[null,"         Electricity",{"$f":"'7 - Input sheet - Other Forgiva'!C21","v":0}]
[null,"         Gas",{"$f":"'7 - Input sheet - Other Forgiva'!C22","v":0}]
[null,"         Water",{"$f":"'7 - Input sheet - Other Forgiva'!C23","v":0}]
[null,"         Transportation",{"$f":"'7 - Input sheet - Other Forgiva'!C24","v":0}]
[null,"         Telephone",{"$f":"'7 - Input sheet - Other Forgiva'!C25","v":0}]
[null,"         Internet Access",{"$f":"'7 - Input sheet - Other Forgiva'!C26","v":0}]
[null,"         Other Utilities",{"$f":"'7 - Input sheet - Other Forgiva'!C27","v":0}]
[null,"      Rent",{"$f":"'7 - Input sheet - Other Forgiva'!C28","v":0}]
[null,"      Interest on mortgage obligations",{"$f":"'7 - Input sheet - Other Forgiva'!C29","v":0}]
[]
[null,"   Total Non-Payroll Costs During the 8 Week Loan Period",{"$f":"SUM(C19:C28)","v":0}]
[]
[null,"Total allowed expenses - tentative",{"$f":"MIN(C29+C15,C6)","v":0}]
[]
[null,"Non payroll costs - total by $ and % of allowed expenses (cannot exceed 25%)",{"$f":"C29","v":0},{"$f":"C29/C31","v":{"$error":"#DIV/0!"}}]
[]
[null,"Non payroll costs - actual or 25% of total, whichever is less",{"$f":"IF(D33<0.25,C33,C15/3)","v":{"$error":"#DIV/0!"}}]
[]
[null,"Total allowed expenses - subtotal (based on 75% of payroll)",{"$f":"C15+C35","v":{"$error":"#DIV/0!"}}]
[]
[null,"Total expenses during the PPP loan period",{"$f":"C29+C15","v":0}]
[]
[null,"Payroll reduction (from tab 2)",{"$f":"'4 - Payroll reduction'!B78","v":0}]
[]
[null,"FTE adjustment (from tab 1)",{"$f":"(C39+C41)*-D43","v":0},{"$f":"'5 - FTE reduction'!B93","v":1}]
[]
[null,"EIDL grant received (enter a negative amount)",0]
[]
[]
[null,"Modified base",{"$f":"SUM(C39:C47)","v":0}]
[]
[null,"Forgivable base (lower of red lines)",{"$f":"MIN(C37,C6,C48)","v":{"$error":"#DIV/0!"}}]
[]
[null,"ESTIMATED NET AMOUNT FORGIVEN",{"$f":"IF(SUM(C50:C51)<0,0,SUM(C50:C51))","v":{"$error":"#DIV/0!"}}]
[]
["If you have any questions on this spreadsheet tool, please feel free to contact us:"]
[null,"Alan Sasserath (alan@sz-cpas.com)"]
[null,"George Batas (georgeb@sz-cpas.com)"]
[null,"Fred Rook (fredr@sz-cpas.com)"]
[]
[null,"This workbook is provided by Sasserath & Zoraian, LLP and is intended solely for general informational and educational purposes. It is not intended in any way as financial, securities, insurance, tax or legal advice or services, or as a solicitation for any financial, securities, insurance, tax or legal product or service. Please consult with your financial, securities, insurance, tax and/or legal advisors for advice regarding your specific circumstances. The calculations herein are estimates based on our interpretation of the bill signed into law on March 27, 2020 under the CARES Act."]

{"sheet":"3 - FTE Analysis","index":11,"n_rows":81,"n_cols":22,"rows_kept":81,"cut":false,"hidden":true,"merged":[[6,3,6,4],[58,0,58,21],[10,0,10,21],[26,0,26,21],[40,0,40,21]]}
["Paycheck Protection Program",null,"Weekly",null,"Sasserath & Zoraian, LLP "]
["FTE Analysis",null,"Bi-weekly",null,"(631) 368-3110"]
[null,null,"Bi-monthly",null,"www.sz-cpas.com"]
[null,null,"Monthly"]
[]
[]
[null,"Pay period used",null,"Weekly"]
[]
["Payroll Period","Total",{"$f":"1","v":1},{"$f":"C9+1","v":2},{"$f":"D9+1","v":3},4,5,6,7,8,9,10,11,12,13,14,15,16,17,18,19,20]
[]
["FEBRUARY 15, 2019 THROUGH JUNE 30, 2019"]
[]
["Pay periods during covered period",{"$f":"IF($D$7=\"weekly\",20,IF($D$7=\"bi-weekly\",10,IF($D$7=\"bi-monthly\",10,5)))","v":20}]
[]
["Non-salaried hours "]
["Note - max hours per pay period per person",{"$f":"IF($D$7=\"weekly\",30,IF($D$7=\"bi-weekly\",60,IF($D$7=\"bi-monthly\",65,130)))","v":30}]
[]
["Tips"]
[]
["FTE equivalent per period",{"$f":"SUM(C20:V20)/B13","v":0},{"$f":"IF($B$13=20,C15/$B$16,IF($B$13=10,C15/$B$16,IF($B$13=10,C15/$B$16,IF($B$13=5,C15/$B$16,0))))","v":0},{"$f":"IF($B$13=20,D15/$B$16,IF($B$13=10,D15/$B$16,IF($B$13=10,D15/$B$16,IF($B$13=5,D15/$B$16,0))))","v":0},0,0,0,{"$f":"IF($B$13=20,H15/$B$16,IF($B$13=10,H15/$B$16,IF($B$13=10,H15/$B$16,0)))","v":0},{"$f":"IF($B$13=20,I15/$B$16,IF($B$13=10,I15/$B$16,IF($B$13=10,I15/$B$16,0)))","v":0},0,0,0,{"$f":"IF($B$13=20,M15/$B$16,0)","v":0},{"$f":"IF($B$13=20,N15/$B$16,0)","v":0},0,0,0,0,0,0,0,0]
[]
["Salaried employees",{"$f":"IF(B13=20,SUM(C22:V22)/$B$13,IF(B13=10,SUM(C22:L22)/B13,IF(B13=10,SUM(C22:L22)/B13,IF(B13=5,SUM(C22:G22)/B13,0))))","v":0}]
[]
["Monthly average FTE's per period",{"$f":"B20+B22","v":0}]
[]
[]
["JANUARY 1, 2020 THROUGH FEBRUARY 29, 2020"]
[]
["Pay periods during covered period",{"$f":"IF($D$7=\"weekly\",9,IF($D$7=\"bi-weekly\",4,IF($D$7=\"bi-monthly\",4,2)))","v":9}]
[]
["Non-salaried hours"]
["Note - max hours per pay period per person",{"$f":"IF($D$7=\"weekly\",30,IF($D$7=\"bi-weekly\",60,IF($D$7=\"bi-monthly\",65,130)))","v":30}]
[]
["FTE equivalent per period",{"$f":"SUM(C34:K34)/B29","v":0},{"$f":"IF($B$29=9,C31/$B$32,IF($B$29=4,C31/$B$32,IF($B$29=2,C31/$B$32,0)))","v":0},{"$f":"IF($B$29=9,D31/$B$32,IF($B$29=4,D31/$B$32,IF($B$29=2,D31/$B$32,0)))","v":0},{"$f":"IF($B$29=9,E31/$B$32,IF($B$29=4,E31/$B$32,0))","v":0},{"$f":"IF($B$29=9,F31/$B$32,IF($B$29=4,F31/$B$32,0))","v":0},{"$f":"IF($B$29=9,G31/$B$32,0)","v":0},{"$f":"IF($B$29=9,H31/$B$32,0)","v":0},0,0,0]
[]
["Salaried employees",{"$f":"IF(B29=9,SUM(C36:K36)/$B$29,IF(B29=4,SUM(C36:F36)/B29,IF(B29=2,SUM(C36:D36)/B29,0)))","v":0}]
[]
["Monthly average FTE's per period",{"$f":"B34+B36","v":0}]
[]
[]
["PPP LOAN PERIOD (EIGHT WEEK PERIOD FROM DATE OF LOAN)"]
[]
["Pay periods during loan period",{"$f":"IF($D$7=\"weekly\",8,IF($D$7=\"bi-weekly\",4,IF($D$7=\"bi-monthly\",4,2)))","v":8}]
[]
["Non-salaried hours"]
["Note - max hours per pay period per person",{"$f":"IF($D$7=\"weekly\",30,IF($D$7=\"bi-weekly\",60,IF($D$7=\"bi-monthly\",65,130)))","v":30}]
[]
["FTE equivalent per period",{"$f":"SUM(C48:J48)/B43","v":0},{"$f":"IF($B$43=8,C45/$B$46,IF($B$43=4,C45/$B$46,IF($B$43=2,C45/$B$46,0)))","v":0},{"$f":"IF($B$43=8,D45/$B$46,IF($B$43=4,D45/$B$46,IF($B$43=2,D45/$B$46,0)))","v":0},{"$f":"IF($B$43=8,E45/$B$46,IF($B$43=4,E45/$B$46,0))","v":0},{"$f":"IF($B$43=8,F45/$B$46,IF($B$43=4,F45/$B$46,0))","v":0},{"$f":"IF($B$43=8,G45/$B$46,0)","v":0},{"$f":"IF($B$43=8,H45/$B$46,0)","v":0},{"$f":"IF($B$43=8,I45/$B$46,0)","v":0},{"$f":"IF($B$43=8,J45/$B$46,0)","v":0}]
[]
["Salaried employees",{"$f":"IF(B43=8,SUM(C50:J50)/$B$43,IF(B43=4,SUM(C50:F50)/B43,IF(B43=2,SUM(C50:D50)/B43,0)))","v":0}]
[]
["Monthly average FTE's per period",{"$f":"B48+B50","v":0}]
[]
["Reduction of FTE's eliminated or job offered by 6/30/20",0]
[]
["Total monthly average FTE's",{"$f":"B52+B54","v":0}]
[]
[]
["FORGIVENESS REDUCTION CALCULATION"]
[]
["Average # of FTE's per month from 2/15/19 - 6/30/19",{"$f":"B24","v":0}]
[]
["Average # of FTE's per month from 1/1/20 - 2/29/20",{"$f":"B38","v":0}]
[]
["Min of comparison periods",{"$f":"MIN(B61,B63)","v":0}]
[]
["Average # of FTE's per month during PPP Loan period",{"$f":"B56","v":0}]
[]
["% OF FORGIVENESS BASE AVAILABLE",{"$f":"IF((B67/B65)>1,1,B67/B65)","v":{"$error":"#DIV/0!"}}]
[]
[]
[]
["ASSUMPTIONS:"]
["1) FTE's are based on a 30 hour work week (as defined by the SBA in the Affordable Care Act), which is subject to change pending future regulations."]
["2) A 5 day workweek is assumed"]
["3) Each salaried employee equals 1 FTE regardless of hours worked."]
["4) Hourly employees are based on the actual number of hours worked, not to exceed 30 hours per week per employee."]
[]
[]
[]
["This workbook is provided by Sasserath & Zoraian, LLP and is intended solely for general informational and educational purposes. It is not intended in any way as financial, securities, insurance, tax or legal advice or services, or as a solicitation for any financial, securities, insurance, tax or legal product or service. Please consult with your financial, securities, insurance, tax and/or legal advisors for advice regarding your specific circumstances. The calculations herein are estimates based on our interpretation of the bill signed into law on March 27, 2020 under the CARES Act."]